{"text_format":"1","workbook":"xlsx","n_sheets":5,"sheets":["Instructions","Scenario Data","RCS and Scaling Factors","Curves without VA","Curves with VA"],"not_rendered":{"charts":2,"images":0,"macros":1,"external_links":0,"defined_names":33,"comments":0,"pivot_tables":0},"unopened":[],"bounds":{"document_bytes":16777216,"sheet_cells":100000,"rows_first":2000,"rows_last":500,"rows_between":2000,"halvings":0,"cell_chars":16384,"cell_head_chars":4096},"cells_cut":0,"cells_raw":0,"read":"whole","date_system":"1900"}

{"sheet":"Instructions","index":0,"n_rows":18,"n_cols":2,"rows_kept":18,"cut":false,"hidden":false,"merged":[[9,1,10,18]]}
[]
[]
[]
[]
[]
[]
[null,"This workbook sets out amended risk-free interest rate term structures:"]
[]
[null,"Worksheet \"Scenario Data\""]
[null,"Risk-free interest rate term structures based on the new alternative extrapolation method both with and without volatility adjustment, including shocked interest rate curves for the new interest rate risk submodule. "]
[]
[]
[null,"Worksheet \"RCS and Scaling Factors\""]
[null,"Risk-corrected currency spreads and scaling factors for the calculation of the volatility adjustment."]
[]
[null,"Inputs are provided for integer term maturities."]
[]
[null,"Undertakings shall apply appropriate interpolation techniques for discounting inter-annual cash flows."]

{"sheet":"Scenario Data","index":1,"n_rows":162,"n_cols":22,"rows_kept":162,"cut":false,"hidden":false,"merged":[[2,9,2,10],[6,9,6,10],[5,9,5,10],[4,9,4,10],[3,9,3,10]]}
[]
[]
[null,null,null,null,null,null,null,null,null,"EUR"]
[null,null,null,null,null,null,null,null,null,{"$f":"VLOOKUP($J$3,'RCS and Scaling Factors'!$B$2:$D$8,2,FALSE)*10000","v":35.47}]
[null,null,null,null,null,null,null,null,null,{"$f":"VLOOKUP($J$3,'RCS and Scaling Factors'!$B$2:$D$8,3,FALSE)*10000","v":30.149499999999996}]
[null,null,null,null,null,null,null,null,null,1]
[null,null,null,null,null,null,null,null,null,{"$f":"$J$5*$J$6","v":30.149499999999996}]
[]
[]
["Curve","without VA","without VA","without VA",null,"with VA","with VA","with VA"]
["Scenario","Baseline","Up","Down",null,"Baseline","Up","Down"]
["Methodology","Alternative Extrapolation Method RFR","New Regime - Shock","New Regime - Shock",null,"Alternative Extrapolation Method RFR","New Regime - Shock","New Regime - Shock"]
[1,{"$f":"_xlfn.XLOOKUP($A13,INDIRECT(\"'Curves \"&B$10&\"'!$A$14:$A$163\"),_xlfn.XLOOKUP(B$11&$J$3,INDIRECT(\"'Curves \"&B$10&\"'!$11:$11\")&INDIRECT(\"'Curves \"&B$10&\"'!$12:$12\"),INDIRECT(\"'Curves \"&B$10&\"'!$14:$163\"),,0,1),,0,1)","v":2.0760000000000112E-2},{"$f":"_xlfn.XLOOKUP($A13,INDIRECT(\"'Curves \"&C$10&\"'!$A$14:$A$163\"),_xlfn.XLOOKUP(C$11&$J$3,INDIRECT(\"'Curves \"&C$10&\"'!$11:$11\")&INDIRECT(\"'Curves \"&C$10&\"'!$12:$12\"),INDIRECT(\"'Curves \"&C$10&\"'!$14:$163\"),,0,1),,0,1)","v":5.4823600000000194E-2},{"$f":"_xlfn.XLOOKUP($A13,INDIRECT(\"'Curves \"&D$10&\"'!$A$14:$A$163\"),_xlfn.XLOOKUP(D$11&$J$3,INDIRECT(\"'Curves \"&D$10&\"'!$11:$11\")&INDIRECT(\"'Curves \"&D$10&\"'!$12:$12\"),INDIRECT(\"'Curves \"&D$10&\"'!$14:$163\"),,0,1),,0,1)","v":-2.8807999999999057E-3},null,{"$f":"_xlfn.XLOOKUP($A13,INDIRECT(\"'Curves \"&F$10&\"'!$A$14:$A$163\"),_xlfn.XLOOKUP(F$11&$J$3,INDIRECT(\"'Curves \"&F$10&\"'!$11:$11\")&INDIRECT(\"'Curves \"&F$10&\"'!$12:$12\"),INDIRECT(\"'Curves \"&F$10&\"'!$14:$163\"),,0,1),,0,1)","v":2.3837540362000142E-2},{"$f":"_xlfn.XLOOKUP($A13,INDIRECT(\"'Curves \"&G$10&\"'!$A$14:$A$163\"),_xlfn.XLOOKUP(G$11&$J$3,INDIRECT(\"'Curves \"&G$10&\"'!$11:$11\")&INDIRECT(\"'Curves \"&G$10&\"'!$12:$12\"),INDIRECT(\"'Curves \"&G$10&\"'!$14:$163\"),,0,1),,0,1)","v":5.8003840412820251E-2},{"$f":"_xlfn.XLOOKUP($A13,INDIRECT(\"'Curves \"&H$10&\"'!$A$14:$A$163\"),_xlfn.XLOOKUP(H$11&$J$3,INDIRECT(\"'Curves \"&H$10&\"'!$11:$11\")&INDIRECT(\"'Curves \"&H$10&\"'!$12:$12\"),INDIRECT(\"'Curves \"&H$10&\"'!$14:$163\"),,0,1),,0,1)","v":1.2546453204009822E-4},null,null,null,null,null,null,null,null,null,null,null,null,"Czech Republic",1]
[2,{"$f":"_xlfn.XLOOKUP($A14,INDIRECT(\"'Curves \"&B$10&\"'!$A$14:$A$163\"),_xlfn.XLOOKUP(B$11&$J$3,INDIRECT(\"'Curves \"&B$10&\"'!$11:$11\")&INDIRECT(\"'Curves \"&B$10&\"'!$12:$12\"),INDIRECT(\"'Curves \"&B$10&\"'!$14:$163\"),,0,1),,0,1)","v":2.1629304559586338E-2},{"$f":"_xlfn.XLOOKUP($A14,INDIRECT(\"'Curves \"&C$10&\"'!$A$14:$A$163\"),_xlfn.XLOOKUP(C$11&$J$3,INDIRECT(\"'Curves \"&C$10&\"'!$11:$11\")&INDIRECT(\"'Curves \"&C$10&\"'!$12:$12\"),INDIRECT(\"'Curves \"&C$10&\"'!$14:$163\"),,0,1),,0,1)","v":5.1692835976167029E-2},{"$f":"_xlfn.XLOOKUP($A14,INDIRECT(\"'Curves \"&D$10&\"'!$A$14:$A$163\"),_xlfn.XLOOKUP(D$11&$J$3,INDIRECT(\"'Curves \"&D$10&\"'!$11:$11\")&INDIRECT(\"'Curves \"&D$10&\"'!$12:$12\"),INDIRECT(\"'Curves \"&D$10&\"'!$14:$163\"),,0,1),,0,1)","v":6.9835923419736545E-4},null,{"$f":"_xlfn.XLOOKUP($A14,INDIRECT(\"'Curves \"&F$10&\"'!$A$14:$A$163\"),_xlfn.XLOOKUP(F$11&$J$3,INDIRECT(\"'Curves \"&F$10&\"'!$11:$11\")&INDIRECT(\"'Curves \"&F$10&\"'!$12:$12\"),INDIRECT(\"'Curves \"&F$10&\"'!$14:$163\"),,0,1),,0,1)","v":2.4709465831368238E-2},{"$f":"_xlfn.XLOOKUP($A14,INDIRECT(\"'Curves \"&G$10&\"'!$A$14:$A$163\"),_xlfn.XLOOKUP(G$11&$J$3,INDIRECT(\"'Curves \"&G$10&\"'!$11:$11\")&INDIRECT(\"'Curves \"&G$10&\"'!$12:$12\"),INDIRECT(\"'Curves \"&G$10&\"'!$14:$163\"),,0,1),,0,1)","v":5.4863637291993284E-2},{"$f":"_xlfn.XLOOKUP($A14,INDIRECT(\"'Curves \"&H$10&\"'!$A$14:$A$163\"),_xlfn.XLOOKUP(H$11&$J$3,INDIRECT(\"'Curves \"&H$10&\"'!$11:$11\")&INDIRECT(\"'Curves \"&H$10&\"'!$12:$12\"),INDIRECT(\"'Curves \"&H$10&\"'!$14:$163\"),,0,1),,0,1)","v":3.7154147523703607E-3},null,null,null,null,null,null,null,null,null,null,null,null,"Hungary",2]
[3,{"$f":"_xlfn.XLOOKUP($A15,INDIRECT(\"'Curves \"&B$10&\"'!$A$14:$A$163\"),_xlfn.XLOOKUP(B$11&$J$3,INDIRECT(\"'Curves \"&B$10&\"'!$11:$11\")&INDIRECT(\"'Curves \"&B$10&\"'!$12:$12\"),INDIRECT(\"'Curves \"&B$10&\"'!$14:$163\"),,0,1),,0,1)","v":2.2828593829980814E-2},{"$f":"_xlfn.XLOOKUP($A15,INDIRECT(\"'Curves \"&C$10&\"'!$A$14:$A$163\"),_xlfn.XLOOKUP(C$11&$J$3,INDIRECT(\"'Curves \"&C$10&\"'!$11:$11\")&INDIRECT(\"'Curves \"&C$10&\"'!$12:$12\"),INDIRECT(\"'Curves \"&C$10&\"'!$14:$163\"),,0,1),,0,1)","v":5.1214604806671504E-2},{"$f":"_xlfn.XLOOKUP($A15,INDIRECT(\"'Curves \"&D$10&\"'!$A$14:$A$163\"),_xlfn.XLOOKUP(D$11&$J$3,INDIRECT(\"'Curves \"&D$10&\"'!$11:$11\")&INDIRECT(\"'Curves \"&D$10&\"'!$12:$12\"),INDIRECT(\"'Curves \"&D$10&\"'!$14:$163\"),,0,1),,0,1)","v":4.484012544789362E-3},null,{"$f":"_xlfn.XLOOKUP($A15,INDIRECT(\"'Curves \"&F$10&\"'!$A$14:$A$163\"),_xlfn.XLOOKUP(F$11&$J$3,INDIRECT(\"'Curves \"&F$10&\"'!$11:$11\")&INDIRECT(\"'Curves \"&F$10&\"'!$12:$12\"),INDIRECT(\"'Curves \"&F$10&\"'!$14:$163\"),,0,1),,0,1)","v":2.59123708989486E-2},{"$f":"_xlfn.XLOOKUP($A15,INDIRECT(\"'Curves \"&G$10&\"'!$A$14:$A$163\"),_xlfn.XLOOKUP(G$11&$J$3,INDIRECT(\"'Curves \"&G$10&\"'!$11:$11\")&INDIRECT(\"'Curves \"&G$10&\"'!$12:$12\"),INDIRECT(\"'Curves \"&G$10&\"'!$14:$163\"),,0,1),,0,1)","v":5.4383964279433483E-2},{"$f":"_xlfn.XLOOKUP($A15,INDIRECT(\"'Curves \"&H$10&\"'!$A$14:$A$163\"),_xlfn.XLOOKUP(H$11&$J$3,INDIRECT(\"'Curves \"&H$10&\"'!$11:$11\")&INDIRECT(\"'Curves \"&H$10&\"'!$12:$12\"),INDIRECT(\"'Curves \"&H$10&\"'!$14:$163\"),,0,1),,0,1)","v":7.5124816184113374E-3},null,null,null,null,null,null,null,null,null,null,null,null,"Poland",3]
[4,{"$f":"_xlfn.XLOOKUP($A16,INDIRECT(\"'Curves \"&B$10&\"'!$A$14:$A$163\"),_xlfn.XLOOKUP(B$11&$J$3,INDIRECT(\"'Curves \"&B$10&\"'!$11:$11\")&INDIRECT(\"'Curves \"&B$10&\"'!$12:$12\"),INDIRECT(\"'Curves \"&B$10&\"'!$14:$163\"),,0,1),,0,1)","v":2.3862928330017574E-2},{"$f":"_xlfn.XLOOKUP($A16,INDIRECT(\"'Curves \"&C$10&\"'!$A$14:$A$163\"),_xlfn.XLOOKUP(C$11&$J$3,INDIRECT(\"'Curves \"&C$10&\"'!$11:$11\")&INDIRECT(\"'Curves \"&C$10&\"'!$12:$12\"),INDIRECT(\"'Curves \"&C$10&\"'!$14:$163\"),,0,1),,0,1)","v":5.0939875361825759E-2},{"$f":"_xlfn.XLOOKUP($A16,INDIRECT(\"'Curves \"&D$10&\"'!$A$14:$A$163\"),_xlfn.XLOOKUP(D$11&$J$3,INDIRECT(\"'Curves \"&D$10&\"'!$11:$11\")&INDIRECT(\"'Curves \"&D$10&\"'!$12:$12\"),INDIRECT(\"'Curves \"&D$10&\"'!$14:$163\"),,0,1),,0,1)","v":6.9177569980105602E-3},null,{"$f":"_xlfn.XLOOKUP($A16,INDIRECT(\"'Curves \"&F$10&\"'!$A$14:$A$163\"),_xlfn.XLOOKUP(F$11&$J$3,INDIRECT(\"'Curves \"&F$10&\"'!$11:$11\")&INDIRECT(\"'Curves \"&F$10&\"'!$12:$12\"),INDIRECT(\"'Curves \"&F$10&\"'!$14:$163\"),,0,1),,0,1)","v":2.6949823865786149E-2},{"$f":"_xlfn.XLOOKUP($A16,INDIRECT(\"'Curves \"&G$10&\"'!$A$14:$A$163\"),_xlfn.XLOOKUP(G$11&$J$3,INDIRECT(\"'Curves \"&G$10&\"'!$11:$11\")&INDIRECT(\"'Curves \"&G$10&\"'!$12:$12\"),INDIRECT(\"'Curves \"&G$10&\"'!$14:$163\"),,0,1),,0,1)","v":5.4108406539047804E-2},{"$f":"_xlfn.XLOOKUP($A16,INDIRECT(\"'Curves \"&H$10&\"'!$A$14:$A$163\"),_xlfn.XLOOKUP(H$11&$J$3,INDIRECT(\"'Curves \"&H$10&\"'!$11:$11\")&INDIRECT(\"'Curves \"&H$10&\"'!$12:$12\"),INDIRECT(\"'Curves \"&H$10&\"'!$14:$163\"),,0,1),,0,1)","v":9.953563689471645E-3},null,null,null,null,null,null,null,null,null,null,null,null,"Romania",4]
[5,{"$f":"_xlfn.XLOOKUP($A17,INDIRECT(\"'Curves \"&B$10&\"'!$A$14:$A$163\"),_xlfn.XLOOKUP(B$11&$J$3,INDIRECT(\"'Curves \"&B$10&\"'!$11:$11\")&INDIRECT(\"'Curves \"&B$10&\"'!$12:$12\"),INDIRECT(\"'Curves \"&B$10&\"'!$14:$163\"),,0,1),,0,1)","v":2.478759707331557E-2},{"$f":"_xlfn.XLOOKUP($A17,INDIRECT(\"'Curves \"&C$10&\"'!$A$14:$A$163\"),_xlfn.XLOOKUP(C$11&$J$3,INDIRECT(\"'Curves \"&C$10&\"'!$11:$11\")&INDIRECT(\"'Curves \"&C$10&\"'!$12:$12\"),INDIRECT(\"'Curves \"&C$10&\"'!$14:$163\"),,0,1),,0,1)","v":5.1742015756307547E-2},{"$f":"_xlfn.XLOOKUP($A17,INDIRECT(\"'Curves \"&D$10&\"'!$A$14:$A$163\"),_xlfn.XLOOKUP(D$11&$J$3,INDIRECT(\"'Curves \"&D$10&\"'!$11:$11\")&INDIRECT(\"'Curves \"&D$10&\"'!$12:$12\"),INDIRECT(\"'Curves \"&D$10&\"'!$14:$163\"),,0,1),,0,1)","v":7.7725582439893692E-3},null,{"$f":"_xlfn.XLOOKUP($A17,INDIRECT(\"'Curves \"&F$10&\"'!$A$14:$A$163\"),_xlfn.XLOOKUP(F$11&$J$3,INDIRECT(\"'Curves \"&F$10&\"'!$11:$11\")&INDIRECT(\"'Curves \"&F$10&\"'!$12:$12\"),INDIRECT(\"'Curves \"&F$10&\"'!$14:$163\"),,0,1),,0,1)","v":2.7877280439111862E-2},{"$f":"_xlfn.XLOOKUP($A17,INDIRECT(\"'Curves \"&G$10&\"'!$A$14:$A$163\"),_xlfn.XLOOKUP(G$11&$J$3,INDIRECT(\"'Curves \"&G$10&\"'!$11:$11\")&INDIRECT(\"'Curves \"&G$10&\"'!$12:$12\"),INDIRECT(\"'Curves \"&G$10&\"'!$14:$163\"),,0,1),,0,1)","v":5.4912965346712195E-2},{"$f":"_xlfn.XLOOKUP($A17,INDIRECT(\"'Curves \"&H$10&\"'!$A$14:$A$163\"),_xlfn.XLOOKUP(H$11&$J$3,INDIRECT(\"'Curves \"&H$10&\"'!$11:$11\")&INDIRECT(\"'Curves \"&H$10&\"'!$12:$12\"),INDIRECT(\"'Curves \"&H$10&\"'!$14:$163\"),,0,1),,0,1)","v":1.0810942118467226E-2},null,null,null,null,null,null,null,null,null,null,null,null,"Switzerland",5]
[6,{"$f":"_xlfn.XLOOKUP($A18,INDIRECT(\"'Curves \"&B$10&\"'!$A$14:$A$163\"),_xlfn.XLOOKUP(B$11&$J$3,INDIRECT(\"'Curves \"&B$10&\"'!$11:$11\")&INDIRECT(\"'Curves \"&B$10&\"'!$12:$12\"),INDIRECT(\"'Curves \"&B$10&\"'!$14:$163\"),,0,1),,0,1)","v":2.5648686706935209E-2},{"$f":"_xlfn.XLOOKUP($A18,INDIRECT(\"'Curves \"&C$10&\"'!$A$14:$A$163\"),_xlfn.XLOOKUP(C$11&$J$3,INDIRECT(\"'Curves \"&C$10&\"'!$11:$11\")&INDIRECT(\"'Curves \"&C$10&\"'!$12:$12\"),INDIRECT(\"'Curves \"&C$10&\"'!$14:$163\"),,0,1),,0,1)","v":5.0564648256778533E-2},{"$f":"_xlfn.XLOOKUP($A18,INDIRECT(\"'Curves \"&D$10&\"'!$A$14:$A$163\"),_xlfn.XLOOKUP(D$11&$J$3,INDIRECT(\"'Curves \"&D$10&\"'!$11:$11\")&INDIRECT(\"'Curves \"&D$10&\"'!$12:$12\"),INDIRECT(\"'Curves \"&D$10&\"'!$14:$163\"),,0,1),,0,1)","v":9.2021857582997857E-3},null,{"$f":"_xlfn.XLOOKUP($A18,INDIRECT(\"'Curves \"&F$10&\"'!$A$14:$A$163\"),_xlfn.XLOOKUP(F$11&$J$3,INDIRECT(\"'Curves \"&F$10&\"'!$11:$11\")&INDIRECT(\"'Curves \"&F$10&\"'!$12:$12\"),INDIRECT(\"'Curves \"&F$10&\"'!$14:$163\"),,0,1),,0,1)","v":2.8740966214922281E-2},{"$f":"_xlfn.XLOOKUP($A18,INDIRECT(\"'Curves \"&G$10&\"'!$A$14:$A$163\"),_xlfn.XLOOKUP(G$11&$J$3,INDIRECT(\"'Curves \"&G$10&\"'!$11:$11\")&INDIRECT(\"'Curves \"&G$10&\"'!$12:$12\"),INDIRECT(\"'Curves \"&G$10&\"'!$14:$163\"),,0,1),,0,1)","v":5.3732048143040334E-2},{"$f":"_xlfn.XLOOKUP($A18,INDIRECT(\"'Curves \"&H$10&\"'!$A$14:$A$163\"),_xlfn.XLOOKUP(H$11&$J$3,INDIRECT(\"'Curves \"&H$10&\"'!$11:$11\")&INDIRECT(\"'Curves \"&H$10&\"'!$12:$12\"),INDIRECT(\"'Curves \"&H$10&\"'!$14:$163\"),,0,1),,0,1)","v":1.2244879888251736E-2},null,null,null,null,null,null,null,null,null,null,null,null,"United States",6]
[7,{"$f":"_xlfn.XLOOKUP($A19,INDIRECT(\"'Curves \"&B$10&\"'!$A$14:$A$163\"),_xlfn.XLOOKUP(B$11&$J$3,INDIRECT(\"'Curves \"&B$10&\"'!$11:$11\")&INDIRECT(\"'Curves \"&B$10&\"'!$12:$12\"),INDIRECT(\"'Curves \"&B$10&\"'!$14:$163\"),,0,1),,0,1)","v":2.6510389019120062E-2},{"$f":"_xlfn.XLOOKUP($A19,INDIRECT(\"'Curves \"&C$10&\"'!$A$14:$A$163\"),_xlfn.XLOOKUP(C$11&$J$3,INDIRECT(\"'Curves \"&C$10&\"'!$11:$11\")&INDIRECT(\"'Curves \"&C$10&\"'!$12:$12\"),INDIRECT(\"'Curves \"&C$10&\"'!$14:$163\"),,0,1),,0,1)","v":4.9319232956194448E-2},{"$f":"_xlfn.XLOOKUP($A19,INDIRECT(\"'Curves \"&D$10&\"'!$A$14:$A$163\"),_xlfn.XLOOKUP(D$11&$J$3,INDIRECT(\"'Curves \"&D$10&\"'!$11:$11\")&INDIRECT(\"'Curves \"&D$10&\"'!$12:$12\"),INDIRECT(\"'Curves \"&D$10&\"'!$14:$163\"),,0,1),,0,1)","v":1.0401545082045605E-2},null,{"$f":"_xlfn.XLOOKUP($A19,INDIRECT(\"'Curves \"&F$10&\"'!$A$14:$A$163\"),_xlfn.XLOOKUP(F$11&$J$3,INDIRECT(\"'Curves \"&F$10&\"'!$11:$11\")&INDIRECT(\"'Curves \"&F$10&\"'!$12:$12\"),INDIRECT(\"'Curves \"&F$10&\"'!$14:$163\"),,0,1),,0,1)","v":2.9605266516493423E-2},{"$f":"_xlfn.XLOOKUP($A19,INDIRECT(\"'Curves \"&G$10&\"'!$A$14:$A$163\"),_xlfn.XLOOKUP(G$11&$J$3,INDIRECT(\"'Curves \"&G$10&\"'!$11:$11\")&INDIRECT(\"'Curves \"&G$10&\"'!$12:$12\"),INDIRECT(\"'Curves \"&G$10&\"'!$14:$163\"),,0,1),,0,1)","v":5.2482877977595876E-2},{"$f":"_xlfn.XLOOKUP($A19,INDIRECT(\"'Curves \"&H$10&\"'!$A$14:$A$163\"),_xlfn.XLOOKUP(H$11&$J$3,INDIRECT(\"'Curves \"&H$10&\"'!$11:$11\")&INDIRECT(\"'Curves \"&H$10&\"'!$12:$12\"),INDIRECT(\"'Curves \"&H$10&\"'!$14:$163\"),,0,1),,0,1)","v":1.3447855220390936E-2}]
[8,{"$f":"_xlfn.XLOOKUP($A20,INDIRECT(\"'Curves \"&B$10&\"'!$A$14:$A$163\"),_xlfn.XLOOKUP(B$11&$J$3,INDIRECT(\"'Curves \"&B$10&\"'!$11:$11\")&INDIRECT(\"'Curves \"&B$10&\"'!$12:$12\"),INDIRECT(\"'Curves \"&B$10&\"'!$14:$163\"),,0,1),,0,1)","v":2.7239909807460716E-2},{"$f":"_xlfn.XLOOKUP($A20,INDIRECT(\"'Curves \"&C$10&\"'!$A$14:$A$163\"),_xlfn.XLOOKUP(C$11&$J$3,INDIRECT(\"'Curves \"&C$10&\"'!$11:$11\")&INDIRECT(\"'Curves \"&C$10&\"'!$12:$12\"),INDIRECT(\"'Curves \"&C$10&\"'!$14:$163\"),,0,1),,0,1)","v":4.8401479141997328E-2},{"$f":"_xlfn.XLOOKUP($A20,INDIRECT(\"'Curves \"&D$10&\"'!$A$14:$A$163\"),_xlfn.XLOOKUP(D$11&$J$3,INDIRECT(\"'Curves \"&D$10&\"'!$11:$11\")&INDIRECT(\"'Curves \"&D$10&\"'!$12:$12\"),INDIRECT(\"'Curves \"&D$10&\"'!$14:$163\"),,0,1),,0,1)","v":1.068874408062559E-2},null,{"$f":"_xlfn.XLOOKUP($A20,INDIRECT(\"'Curves \"&F$10&\"'!$A$14:$A$163\"),_xlfn.XLOOKUP(F$11&$J$3,INDIRECT(\"'Curves \"&F$10&\"'!$11:$11\")&INDIRECT(\"'Curves \"&F$10&\"'!$12:$12\"),INDIRECT(\"'Curves \"&F$10&\"'!$14:$163\"),,0,1),,0,1)","v":3.0336986773534802E-2},{"$f":"_xlfn.XLOOKUP($A20,INDIRECT(\"'Curves \"&G$10&\"'!$A$14:$A$163\"),_xlfn.XLOOKUP(G$11&$J$3,INDIRECT(\"'Curves \"&G$10&\"'!$11:$11\")&INDIRECT(\"'Curves \"&G$10&\"'!$12:$12\"),INDIRECT(\"'Curves \"&G$10&\"'!$14:$163\"),,0,1),,0,1)","v":5.1562357181536456E-2},{"$f":"_xlfn.XLOOKUP($A20,INDIRECT(\"'Curves \"&H$10&\"'!$A$14:$A$163\"),_xlfn.XLOOKUP(H$11&$J$3,INDIRECT(\"'Curves \"&H$10&\"'!$11:$11\")&INDIRECT(\"'Curves \"&H$10&\"'!$12:$12\"),INDIRECT(\"'Curves \"&H$10&\"'!$14:$163\"),,0,1),,0,1)","v":1.373592010959146E-2}]
[9,{"$f":"_xlfn.XLOOKUP($A21,INDIRECT(\"'Curves \"&B$10&\"'!$A$14:$A$163\"),_xlfn.XLOOKUP(B$11&$J$3,INDIRECT(\"'Curves \"&B$10&\"'!$11:$11\")&INDIRECT(\"'Curves \"&B$10&\"'!$12:$12\"),INDIRECT(\"'Curves \"&B$10&\"'!$14:$163\"),,0,1),,0,1)","v":2.7925215671903869E-2},{"$f":"_xlfn.XLOOKUP($A21,INDIRECT(\"'Curves \"&C$10&\"'!$A$14:$A$163\"),_xlfn.XLOOKUP(C$11&$J$3,INDIRECT(\"'Curves \"&C$10&\"'!$11:$11\")&INDIRECT(\"'Curves \"&C$10&\"'!$12:$12\"),INDIRECT(\"'Curves \"&C$10&\"'!$14:$163\"),,0,1),,0,1)","v":4.8061284686913286E-2},{"$f":"_xlfn.XLOOKUP($A21,INDIRECT(\"'Curves \"&D$10&\"'!$A$14:$A$163\"),_xlfn.XLOOKUP(D$11&$J$3,INDIRECT(\"'Curves \"&D$10&\"'!$11:$11\")&INDIRECT(\"'Curves \"&D$10&\"'!$12:$12\"),INDIRECT(\"'Curves \"&D$10&\"'!$14:$163\"),,0,1),,0,1)","v":1.0934381559861261E-2},null,{"$f":"_xlfn.XLOOKUP($A21,INDIRECT(\"'Curves \"&F$10&\"'!$A$14:$A$163\"),_xlfn.XLOOKUP(F$11&$J$3,INDIRECT(\"'Curves \"&F$10&\"'!$11:$11\")&INDIRECT(\"'Curves \"&F$10&\"'!$12:$12\"),INDIRECT(\"'Curves \"&F$10&\"'!$14:$163\"),,0,1),,0,1)","v":3.1024358800894047E-2},{"$f":"_xlfn.XLOOKUP($A21,INDIRECT(\"'Curves \"&G$10&\"'!$A$14:$A$163\"),_xlfn.XLOOKUP(G$11&$J$3,INDIRECT(\"'Curves \"&G$10&\"'!$11:$11\")&INDIRECT(\"'Curves \"&G$10&\"'!$12:$12\"),INDIRECT(\"'Curves \"&G$10&\"'!$14:$163\"),,0,1),,0,1)","v":5.1221137057180233E-2},{"$f":"_xlfn.XLOOKUP($A21,INDIRECT(\"'Curves \"&H$10&\"'!$A$14:$A$163\"),_xlfn.XLOOKUP(H$11&$J$3,INDIRECT(\"'Curves \"&H$10&\"'!$11:$11\")&INDIRECT(\"'Curves \"&H$10&\"'!$12:$12\"),INDIRECT(\"'Curves \"&H$10&\"'!$14:$163\"),,0,1),,0,1)","v":1.3982298173545349E-2}]
[10,{"$f":"_xlfn.XLOOKUP($A22,INDIRECT(\"'Curves \"&B$10&\"'!$A$14:$A$163\"),_xlfn.XLOOKUP(B$11&$J$3,INDIRECT(\"'Curves \"&B$10&\"'!$11:$11\")&INDIRECT(\"'Curves \"&B$10&\"'!$12:$12\"),INDIRECT(\"'Curves \"&B$10&\"'!$14:$163\"),,0,1),,0,1)","v":2.8630841555192132E-2},{"$f":"_xlfn.XLOOKUP($A22,INDIRECT(\"'Curves \"&C$10&\"'!$A$14:$A$163\"),_xlfn.XLOOKUP(C$11&$J$3,INDIRECT(\"'Curves \"&C$10&\"'!$11:$11\")&INDIRECT(\"'Curves \"&C$10&\"'!$12:$12\"),INDIRECT(\"'Curves \"&C$10&\"'!$14:$163\"),,0,1),,0,1)","v":4.7720094021749704E-2},{"$f":"_xlfn.XLOOKUP($A22,INDIRECT(\"'Curves \"&D$10&\"'!$A$14:$A$163\"),_xlfn.XLOOKUP(D$11&$J$3,INDIRECT(\"'Curves \"&D$10&\"'!$11:$11\")&INDIRECT(\"'Curves \"&D$10&\"'!$12:$12\"),INDIRECT(\"'Curves \"&D$10&\"'!$14:$163\"),,0,1),,0,1)","v":1.1078504933115241E-2},null,{"$f":"_xlfn.XLOOKUP($A22,INDIRECT(\"'Curves \"&F$10&\"'!$A$14:$A$163\"),_xlfn.XLOOKUP(F$11&$J$3,INDIRECT(\"'Curves \"&F$10&\"'!$11:$11\")&INDIRECT(\"'Curves \"&F$10&\"'!$12:$12\"),INDIRECT(\"'Curves \"&F$10&\"'!$14:$163\"),,0,1),,0,1)","v":3.173211211093907E-2},{"$f":"_xlfn.XLOOKUP($A22,INDIRECT(\"'Curves \"&G$10&\"'!$A$14:$A$163\"),_xlfn.XLOOKUP(G$11&$J$3,INDIRECT(\"'Curves \"&G$10&\"'!$11:$11\")&INDIRECT(\"'Curves \"&G$10&\"'!$12:$12\"),INDIRECT(\"'Curves \"&G$10&\"'!$14:$163\"),,0,1),,0,1)","v":5.0878917719220818E-2},{"$f":"_xlfn.XLOOKUP($A22,INDIRECT(\"'Curves \"&H$10&\"'!$A$14:$A$163\"),_xlfn.XLOOKUP(H$11&$J$3,INDIRECT(\"'Curves \"&H$10&\"'!$11:$11\")&INDIRECT(\"'Curves \"&H$10&\"'!$12:$12\"),INDIRECT(\"'Curves \"&H$10&\"'!$14:$163\"),,0,1),,0,1)","v":1.4126856071563498E-2}]
[11,{"$f":"_xlfn.XLOOKUP($A23,INDIRECT(\"'Curves \"&B$10&\"'!$A$14:$A$163\"),_xlfn.XLOOKUP(B$11&$J$3,INDIRECT(\"'Curves \"&B$10&\"'!$11:$11\")&INDIRECT(\"'Curves \"&B$10&\"'!$12:$12\"),INDIRECT(\"'Curves \"&B$10&\"'!$14:$163\"),,0,1),,0,1)","v":2.9208174098932504E-2},{"$f":"_xlfn.XLOOKUP($A23,INDIRECT(\"'Curves \"&C$10&\"'!$A$14:$A$163\"),_xlfn.XLOOKUP(C$11&$J$3,INDIRECT(\"'Curves \"&C$10&\"'!$11:$11\")&INDIRECT(\"'Curves \"&C$10&\"'!$12:$12\"),INDIRECT(\"'Curves \"&C$10&\"'!$14:$163\"),,0,1),,0,1)","v":4.8470626328612099E-2},{"$f":"_xlfn.XLOOKUP($A23,INDIRECT(\"'Curves \"&D$10&\"'!$A$14:$A$163\"),_xlfn.XLOOKUP(D$11&$J$3,INDIRECT(\"'Curves \"&D$10&\"'!$11:$11\")&INDIRECT(\"'Curves \"&D$10&\"'!$12:$12\"),INDIRECT(\"'Curves \"&D$10&\"'!$14:$163\"),,0,1),,0,1)","v":1.1232822718370228E-2},null,{"$f":"_xlfn.XLOOKUP($A23,INDIRECT(\"'Curves \"&F$10&\"'!$A$14:$A$163\"),_xlfn.XLOOKUP(F$11&$J$3,INDIRECT(\"'Curves \"&F$10&\"'!$11:$11\")&INDIRECT(\"'Curves \"&F$10&\"'!$12:$12\"),INDIRECT(\"'Curves \"&F$10&\"'!$14:$163\"),,0,1),,0,1)","v":3.2311185283432131E-2},{"$f":"_xlfn.XLOOKUP($A23,INDIRECT(\"'Curves \"&G$10&\"'!$A$14:$A$163\"),_xlfn.XLOOKUP(G$11&$J$3,INDIRECT(\"'Curves \"&G$10&\"'!$11:$11\")&INDIRECT(\"'Curves \"&G$10&\"'!$12:$12\"),INDIRECT(\"'Curves \"&G$10&\"'!$14:$163\"),,0,1),,0,1)","v":5.1631712843461575E-2},{"$f":"_xlfn.XLOOKUP($A23,INDIRECT(\"'Curves \"&H$10&\"'!$A$14:$A$163\"),_xlfn.XLOOKUP(H$11&$J$3,INDIRECT(\"'Curves \"&H$10&\"'!$11:$11\")&INDIRECT(\"'Curves \"&H$10&\"'!$12:$12\"),INDIRECT(\"'Curves \"&H$10&\"'!$14:$163\"),,0,1),,0,1)","v":1.4281639117224909E-2}]
[12,{"$f":"_xlfn.XLOOKUP($A24,INDIRECT(\"'Curves \"&B$10&\"'!$A$14:$A$163\"),_xlfn.XLOOKUP(B$11&$J$3,INDIRECT(\"'Curves \"&B$10&\"'!$11:$11\")&INDIRECT(\"'Curves \"&B$10&\"'!$12:$12\"),INDIRECT(\"'Curves \"&B$10&\"'!$14:$163\"),,0,1),,0,1)","v":2.9747890947353195E-2},{"$f":"_xlfn.XLOOKUP($A24,INDIRECT(\"'Curves \"&C$10&\"'!$A$14:$A$163\"),_xlfn.XLOOKUP(C$11&$J$3,INDIRECT(\"'Curves \"&C$10&\"'!$11:$11\")&INDIRECT(\"'Curves \"&C$10&\"'!$12:$12\"),INDIRECT(\"'Curves \"&C$10&\"'!$14:$163\"),,0,1),,0,1)","v":4.9172258231559018E-2},{"$f":"_xlfn.XLOOKUP($A24,INDIRECT(\"'Curves \"&D$10&\"'!$A$14:$A$163\"),_xlfn.XLOOKUP(D$11&$J$3,INDIRECT(\"'Curves \"&D$10&\"'!$11:$11\")&INDIRECT(\"'Curves \"&D$10&\"'!$12:$12\"),INDIRECT(\"'Curves \"&D$10&\"'!$14:$163\"),,0,1),,0,1)","v":1.1253776749464928E-2},null,{"$f":"_xlfn.XLOOKUP($A24,INDIRECT(\"'Curves \"&F$10&\"'!$A$14:$A$163\"),_xlfn.XLOOKUP(F$11&$J$3,INDIRECT(\"'Curves \"&F$10&\"'!$11:$11\")&INDIRECT(\"'Curves \"&F$10&\"'!$12:$12\"),INDIRECT(\"'Curves \"&F$10&\"'!$14:$163\"),,0,1),,0,1)","v":3.2852529351165005E-2},{"$f":"_xlfn.XLOOKUP($A24,INDIRECT(\"'Curves \"&G$10&\"'!$A$14:$A$163\"),_xlfn.XLOOKUP(G$11&$J$3,INDIRECT(\"'Curves \"&G$10&\"'!$11:$11\")&INDIRECT(\"'Curves \"&G$10&\"'!$12:$12\"),INDIRECT(\"'Curves \"&G$10&\"'!$14:$163\"),,0,1),,0,1)","v":5.2335460131514466E-2},{"$f":"_xlfn.XLOOKUP($A24,INDIRECT(\"'Curves \"&H$10&\"'!$A$14:$A$163\"),_xlfn.XLOOKUP(H$11&$J$3,INDIRECT(\"'Curves \"&H$10&\"'!$11:$11\")&INDIRECT(\"'Curves \"&H$10&\"'!$12:$12\"),INDIRECT(\"'Curves \"&H$10&\"'!$14:$163\"),,0,1),,0,1)","v":1.4302656323675667E-2}]
[13,{"$f":"_xlfn.XLOOKUP($A25,INDIRECT(\"'Curves \"&B$10&\"'!$A$14:$A$163\"),_xlfn.XLOOKUP(B$11&$J$3,INDIRECT(\"'Curves \"&B$10&\"'!$11:$11\")&INDIRECT(\"'Curves \"&B$10&\"'!$12:$12\"),INDIRECT(\"'Curves \"&B$10&\"'!$14:$163\"),,0,1),,0,1)","v":3.0333302128107809E-2},{"$f":"_xlfn.XLOOKUP($A25,INDIRECT(\"'Curves \"&C$10&\"'!$A$14:$A$163\"),_xlfn.XLOOKUP(C$11&$J$3,INDIRECT(\"'Curves \"&C$10&\"'!$11:$11\")&INDIRECT(\"'Curves \"&C$10&\"'!$12:$12\"),INDIRECT(\"'Curves \"&C$10&\"'!$14:$163\"),,0,1),,0,1)","v":4.9933292766540127E-2},{"$f":"_xlfn.XLOOKUP($A25,INDIRECT(\"'Curves \"&D$10&\"'!$A$14:$A$163\"),_xlfn.XLOOKUP(D$11&$J$3,INDIRECT(\"'Curves \"&D$10&\"'!$11:$11\")&INDIRECT(\"'Curves \"&D$10&\"'!$12:$12\"),INDIRECT(\"'Curves \"&D$10&\"'!$14:$163\"),,0,1),,0,1)","v":1.1389982213021455E-2},null,{"$f":"_xlfn.XLOOKUP($A25,INDIRECT(\"'Curves \"&F$10&\"'!$A$14:$A$163\"),_xlfn.XLOOKUP(F$11&$J$3,INDIRECT(\"'Curves \"&F$10&\"'!$11:$11\")&INDIRECT(\"'Curves \"&F$10&\"'!$12:$12\"),INDIRECT(\"'Curves \"&F$10&\"'!$14:$163\"),,0,1),,0,1)","v":3.3439705517358975E-2},{"$f":"_xlfn.XLOOKUP($A25,INDIRECT(\"'Curves \"&G$10&\"'!$A$14:$A$163\"),_xlfn.XLOOKUP(G$11&$J$3,INDIRECT(\"'Curves \"&G$10&\"'!$11:$11\")&INDIRECT(\"'Curves \"&G$10&\"'!$12:$12\"),INDIRECT(\"'Curves \"&G$10&\"'!$14:$163\"),,0,1),,0,1)","v":5.3098789147566716E-2},{"$f":"_xlfn.XLOOKUP($A25,INDIRECT(\"'Curves \"&H$10&\"'!$A$14:$A$163\"),_xlfn.XLOOKUP(H$11&$J$3,INDIRECT(\"'Curves \"&H$10&\"'!$11:$11\")&INDIRECT(\"'Curves \"&H$10&\"'!$12:$12\"),INDIRECT(\"'Curves \"&H$10&\"'!$14:$163\"),,0,1),,0,1)","v":1.4439272439894735E-2}]
[14,{"$f":"_xlfn.XLOOKUP($A26,INDIRECT(\"'Curves \"&B$10&\"'!$A$14:$A$163\"),_xlfn.XLOOKUP(B$11&$J$3,INDIRECT(\"'Curves \"&B$10&\"'!$11:$11\")&INDIRECT(\"'Curves \"&B$10&\"'!$12:$12\"),INDIRECT(\"'Curves \"&B$10&\"'!$14:$163\"),,0,1),,0,1)","v":3.0729932558340334E-2},{"$f":"_xlfn.XLOOKUP($A26,INDIRECT(\"'Curves \"&C$10&\"'!$A$14:$A$163\"),_xlfn.XLOOKUP(C$11&$J$3,INDIRECT(\"'Curves \"&C$10&\"'!$11:$11\")&INDIRECT(\"'Curves \"&C$10&\"'!$12:$12\"),INDIRECT(\"'Curves \"&C$10&\"'!$14:$163\"),,0,1),,0,1)","v":4.9841613000259022E-2},{"$f":"_xlfn.XLOOKUP($A26,INDIRECT(\"'Curves \"&D$10&\"'!$A$14:$A$163\"),_xlfn.XLOOKUP(D$11&$J$3,INDIRECT(\"'Curves \"&D$10&\"'!$11:$11\")&INDIRECT(\"'Curves \"&D$10&\"'!$12:$12\"),INDIRECT(\"'Curves \"&D$10&\"'!$14:$163\"),,0,1),,0,1)","v":1.1408762232670622E-2},null,{"$f":"_xlfn.XLOOKUP($A26,INDIRECT(\"'Curves \"&F$10&\"'!$A$14:$A$163\"),_xlfn.XLOOKUP(F$11&$J$3,INDIRECT(\"'Curves \"&F$10&\"'!$11:$11\")&INDIRECT(\"'Curves \"&F$10&\"'!$12:$12\"),INDIRECT(\"'Curves \"&F$10&\"'!$14:$163\"),,0,1),,0,1)","v":3.3837531768507123E-2},{"$f":"_xlfn.XLOOKUP($A26,INDIRECT(\"'Curves \"&G$10&\"'!$A$14:$A$163\"),_xlfn.XLOOKUP(G$11&$J$3,INDIRECT(\"'Curves \"&G$10&\"'!$11:$11\")&INDIRECT(\"'Curves \"&G$10&\"'!$12:$12\"),INDIRECT(\"'Curves \"&G$10&\"'!$14:$163\"),,0,1),,0,1)","v":5.3006832971374207E-2},{"$f":"_xlfn.XLOOKUP($A26,INDIRECT(\"'Curves \"&H$10&\"'!$A$14:$A$163\"),_xlfn.XLOOKUP(H$11&$J$3,INDIRECT(\"'Curves \"&H$10&\"'!$11:$11\")&INDIRECT(\"'Curves \"&H$10&\"'!$12:$12\"),INDIRECT(\"'Curves \"&H$10&\"'!$14:$163\"),,0,1),,0,1)","v":1.4458109080364157E-2}]
[15,{"$f":"_xlfn.XLOOKUP($A27,INDIRECT(\"'Curves \"&B$10&\"'!$A$14:$A$163\"),_xlfn.XLOOKUP(B$11&$J$3,INDIRECT(\"'Curves \"&B$10&\"'!$11:$11\")&INDIRECT(\"'Curves \"&B$10&\"'!$12:$12\"),INDIRECT(\"'Curves \"&B$10&\"'!$14:$163\"),,0,1),,0,1)","v":3.1073802433713382E-2},{"$f":"_xlfn.XLOOKUP($A27,INDIRECT(\"'Curves \"&C$10&\"'!$A$14:$A$163\"),_xlfn.XLOOKUP(C$11&$J$3,INDIRECT(\"'Curves \"&C$10&\"'!$11:$11\")&INDIRECT(\"'Curves \"&C$10&\"'!$12:$12\"),INDIRECT(\"'Curves \"&C$10&\"'!$14:$163\"),,0,1),,0,1)","v":4.9574467115153231E-2},{"$f":"_xlfn.XLOOKUP($A27,INDIRECT(\"'Curves \"&D$10&\"'!$A$14:$A$163\"),_xlfn.XLOOKUP(D$11&$J$3,INDIRECT(\"'Curves \"&D$10&\"'!$11:$11\")&INDIRECT(\"'Curves \"&D$10&\"'!$12:$12\"),INDIRECT(\"'Curves \"&D$10&\"'!$14:$163\"),,0,1),,0,1)","v":1.1390591338542366E-2},null,{"$f":"_xlfn.XLOOKUP($A27,INDIRECT(\"'Curves \"&F$10&\"'!$A$14:$A$163\"),_xlfn.XLOOKUP(F$11&$J$3,INDIRECT(\"'Curves \"&F$10&\"'!$11:$11\")&INDIRECT(\"'Curves \"&F$10&\"'!$12:$12\"),INDIRECT(\"'Curves \"&F$10&\"'!$14:$163\"),,0,1),,0,1)","v":3.418243839436097E-2},{"$f":"_xlfn.XLOOKUP($A27,INDIRECT(\"'Curves \"&G$10&\"'!$A$14:$A$163\"),_xlfn.XLOOKUP(G$11&$J$3,INDIRECT(\"'Curves \"&G$10&\"'!$11:$11\")&INDIRECT(\"'Curves \"&G$10&\"'!$12:$12\"),INDIRECT(\"'Curves \"&G$10&\"'!$14:$163\"),,0,1),,0,1)","v":5.2738881654782244E-2},{"$f":"_xlfn.XLOOKUP($A27,INDIRECT(\"'Curves \"&H$10&\"'!$A$14:$A$163\"),_xlfn.XLOOKUP(H$11&$J$3,INDIRECT(\"'Curves \"&H$10&\"'!$11:$11\")&INDIRECT(\"'Curves \"&H$10&\"'!$12:$12\"),INDIRECT(\"'Curves \"&H$10&\"'!$14:$163\"),,0,1),,0,1)","v":1.4439883401898612E-2}]
[16,{"$f":"_xlfn.XLOOKUP($A28,INDIRECT(\"'Curves \"&B$10&\"'!$A$14:$A$163\"),_xlfn.XLOOKUP(B$11&$J$3,INDIRECT(\"'Curves \"&B$10&\"'!$11:$11\")&INDIRECT(\"'Curves \"&B$10&\"'!$12:$12\"),INDIRECT(\"'Curves \"&B$10&\"'!$14:$163\"),,0,1),,0,1)","v":3.1327928807661554E-2},{"$f":"_xlfn.XLOOKUP($A28,INDIRECT(\"'Curves \"&C$10&\"'!$A$14:$A$163\"),_xlfn.XLOOKUP(C$11&$J$3,INDIRECT(\"'Curves \"&C$10&\"'!$11:$11\")&INDIRECT(\"'Curves \"&C$10&\"'!$12:$12\"),INDIRECT(\"'Curves \"&C$10&\"'!$14:$163\"),,0,1),,0,1)","v":4.9899748873806882E-2},{"$f":"_xlfn.XLOOKUP($A28,INDIRECT(\"'Curves \"&D$10&\"'!$A$14:$A$163\"),_xlfn.XLOOKUP(D$11&$J$3,INDIRECT(\"'Curves \"&D$10&\"'!$11:$11\")&INDIRECT(\"'Curves \"&D$10&\"'!$12:$12\"),INDIRECT(\"'Curves \"&D$10&\"'!$14:$163\"),,0,1),,0,1)","v":1.1003802268060525E-2},null,{"$f":"_xlfn.XLOOKUP($A28,INDIRECT(\"'Curves \"&F$10&\"'!$A$14:$A$163\"),_xlfn.XLOOKUP(F$11&$J$3,INDIRECT(\"'Curves \"&F$10&\"'!$11:$11\")&INDIRECT(\"'Curves \"&F$10&\"'!$12:$12\"),INDIRECT(\"'Curves \"&F$10&\"'!$14:$163\"),,0,1),,0,1)","v":3.4437330946620381E-2},{"$f":"_xlfn.XLOOKUP($A28,INDIRECT(\"'Curves \"&G$10&\"'!$A$14:$A$163\"),_xlfn.XLOOKUP(G$11&$J$3,INDIRECT(\"'Curves \"&G$10&\"'!$11:$11\")&INDIRECT(\"'Curves \"&G$10&\"'!$12:$12\"),INDIRECT(\"'Curves \"&G$10&\"'!$14:$163\"),,0,1),,0,1)","v":5.306514412167429E-2},{"$f":"_xlfn.XLOOKUP($A28,INDIRECT(\"'Curves \"&H$10&\"'!$A$14:$A$163\"),_xlfn.XLOOKUP(H$11&$J$3,INDIRECT(\"'Curves \"&H$10&\"'!$11:$11\")&INDIRECT(\"'Curves \"&H$10&\"'!$12:$12\"),INDIRECT(\"'Curves \"&H$10&\"'!$14:$163\"),,0,1),,0,1)","v":1.4051928181708639E-2}]
[17,{"$f":"_xlfn.XLOOKUP($A29,INDIRECT(\"'Curves \"&B$10&\"'!$A$14:$A$163\"),_xlfn.XLOOKUP(B$11&$J$3,INDIRECT(\"'Curves \"&B$10&\"'!$11:$11\")&INDIRECT(\"'Curves \"&B$10&\"'!$12:$12\"),INDIRECT(\"'Curves \"&B$10&\"'!$14:$163\"),,0,1),,0,1)","v":3.1552209974986534E-2},{"$f":"_xlfn.XLOOKUP($A29,INDIRECT(\"'Curves \"&C$10&\"'!$A$14:$A$163\"),_xlfn.XLOOKUP(C$11&$J$3,INDIRECT(\"'Curves \"&C$10&\"'!$11:$11\")&INDIRECT(\"'Curves \"&C$10&\"'!$12:$12\"),INDIRECT(\"'Curves \"&C$10&\"'!$14:$163\"),,0,1),,0,1)","v":4.9571306668233062E-2},{"$f":"_xlfn.XLOOKUP($A29,INDIRECT(\"'Curves \"&D$10&\"'!$A$14:$A$163\"),_xlfn.XLOOKUP(D$11&$J$3,INDIRECT(\"'Curves \"&D$10&\"'!$11:$11\")&INDIRECT(\"'Curves \"&D$10&\"'!$12:$12\"),INDIRECT(\"'Curves \"&D$10&\"'!$14:$163\"),,0,1),,0,1)","v":1.0907149186992982E-2},null,{"$f":"_xlfn.XLOOKUP($A29,INDIRECT(\"'Curves \"&F$10&\"'!$A$14:$A$163\"),_xlfn.XLOOKUP(F$11&$J$3,INDIRECT(\"'Curves \"&F$10&\"'!$11:$11\")&INDIRECT(\"'Curves \"&F$10&\"'!$12:$12\"),INDIRECT(\"'Curves \"&F$10&\"'!$14:$163\"),,0,1),,0,1)","v":3.4662288310450595E-2},{"$f":"_xlfn.XLOOKUP($A29,INDIRECT(\"'Curves \"&G$10&\"'!$A$14:$A$163\"),_xlfn.XLOOKUP(G$11&$J$3,INDIRECT(\"'Curves \"&G$10&\"'!$11:$11\")&INDIRECT(\"'Curves \"&G$10&\"'!$12:$12\"),INDIRECT(\"'Curves \"&G$10&\"'!$14:$163\"),,0,1),,0,1)","v":5.2735711679272379E-2},{"$f":"_xlfn.XLOOKUP($A29,INDIRECT(\"'Curves \"&H$10&\"'!$A$14:$A$163\"),_xlfn.XLOOKUP(H$11&$J$3,INDIRECT(\"'Curves \"&H$10&\"'!$11:$11\")&INDIRECT(\"'Curves \"&H$10&\"'!$12:$12\"),INDIRECT(\"'Curves \"&H$10&\"'!$14:$163\"),,0,1),,0,1)","v":1.3954983696434331E-2}]
[18,{"$f":"_xlfn.XLOOKUP($A30,INDIRECT(\"'Curves \"&B$10&\"'!$A$14:$A$163\"),_xlfn.XLOOKUP(B$11&$J$3,INDIRECT(\"'Curves \"&B$10&\"'!$11:$11\")&INDIRECT(\"'Curves \"&B$10&\"'!$12:$12\"),INDIRECT(\"'Curves \"&B$10&\"'!$14:$163\"),,0,1),,0,1)","v":3.1751611958396708E-2},{"$f":"_xlfn.XLOOKUP($A30,INDIRECT(\"'Curves \"&C$10&\"'!$A$14:$A$163\"),_xlfn.XLOOKUP(C$11&$J$3,INDIRECT(\"'Curves \"&C$10&\"'!$11:$11\")&INDIRECT(\"'Curves \"&C$10&\"'!$12:$12\"),INDIRECT(\"'Curves \"&C$10&\"'!$14:$163\"),,0,1),,0,1)","v":4.9107031067579854E-2},{"$f":"_xlfn.XLOOKUP($A30,INDIRECT(\"'Curves \"&D$10&\"'!$A$14:$A$163\"),_xlfn.XLOOKUP(D$11&$J$3,INDIRECT(\"'Curves \"&D$10&\"'!$11:$11\")&INDIRECT(\"'Curves \"&D$10&\"'!$12:$12\"),INDIRECT(\"'Curves \"&D$10&\"'!$14:$163\"),,0,1),,0,1)","v":1.0793322098782365E-2},null,{"$f":"_xlfn.XLOOKUP($A30,INDIRECT(\"'Curves \"&F$10&\"'!$A$14:$A$163\"),_xlfn.XLOOKUP(F$11&$J$3,INDIRECT(\"'Curves \"&F$10&\"'!$11:$11\")&INDIRECT(\"'Curves \"&F$10&\"'!$12:$12\"),INDIRECT(\"'Curves \"&F$10&\"'!$14:$163\"),,0,1),,0,1)","v":3.4862291480870722E-2},{"$f":"_xlfn.XLOOKUP($A30,INDIRECT(\"'Curves \"&G$10&\"'!$A$14:$A$163\"),_xlfn.XLOOKUP(G$11&$J$3,INDIRECT(\"'Curves \"&G$10&\"'!$11:$11\")&INDIRECT(\"'Curves \"&G$10&\"'!$12:$12\"),INDIRECT(\"'Curves \"&G$10&\"'!$14:$163\"),,0,1),,0,1)","v":5.2270036310896995E-2},{"$f":"_xlfn.XLOOKUP($A30,INDIRECT(\"'Curves \"&H$10&\"'!$A$14:$A$163\"),_xlfn.XLOOKUP(H$11&$J$3,INDIRECT(\"'Curves \"&H$10&\"'!$11:$11\")&INDIRECT(\"'Curves \"&H$10&\"'!$12:$12\"),INDIRECT(\"'Curves \"&H$10&\"'!$14:$163\"),,0,1),,0,1)","v":1.3840813425244125E-2}]
[19,{"$f":"_xlfn.XLOOKUP($A31,INDIRECT(\"'Curves \"&B$10&\"'!$A$14:$A$163\"),_xlfn.XLOOKUP(B$11&$J$3,INDIRECT(\"'Curves \"&B$10&\"'!$11:$11\")&INDIRECT(\"'Curves \"&B$10&\"'!$12:$12\"),INDIRECT(\"'Curves \"&B$10&\"'!$14:$163\"),,0,1),,0,1)","v":3.1930056931590345E-2},{"$f":"_xlfn.XLOOKUP($A31,INDIRECT(\"'Curves \"&C$10&\"'!$A$14:$A$163\"),_xlfn.XLOOKUP(C$11&$J$3,INDIRECT(\"'Curves \"&C$10&\"'!$11:$11\")&INDIRECT(\"'Curves \"&C$10&\"'!$12:$12\"),INDIRECT(\"'Curves \"&C$10&\"'!$14:$163\"),,0,1),,0,1)","v":4.9331871733804045E-2},{"$f":"_xlfn.XLOOKUP($A31,INDIRECT(\"'Curves \"&D$10&\"'!$A$14:$A$163\"),_xlfn.XLOOKUP(D$11&$J$3,INDIRECT(\"'Curves \"&D$10&\"'!$11:$11\")&INDIRECT(\"'Curves \"&D$10&\"'!$12:$12\"),INDIRECT(\"'Curves \"&D$10&\"'!$14:$163\"),,0,1),,0,1)","v":1.1084329035111029E-2},null,{"$f":"_xlfn.XLOOKUP($A31,INDIRECT(\"'Curves \"&F$10&\"'!$A$14:$A$163\"),_xlfn.XLOOKUP(F$11&$J$3,INDIRECT(\"'Curves \"&F$10&\"'!$11:$11\")&INDIRECT(\"'Curves \"&F$10&\"'!$12:$12\"),INDIRECT(\"'Curves \"&F$10&\"'!$14:$163\"),,0,1),,0,1)","v":3.5041274456736327E-2},{"$f":"_xlfn.XLOOKUP($A31,INDIRECT(\"'Curves \"&G$10&\"'!$A$14:$A$163\"),_xlfn.XLOOKUP(G$11&$J$3,INDIRECT(\"'Curves \"&G$10&\"'!$11:$11\")&INDIRECT(\"'Curves \"&G$10&\"'!$12:$12\"),INDIRECT(\"'Curves \"&G$10&\"'!$14:$163\"),,0,1),,0,1)","v":5.2495554860487958E-2},{"$f":"_xlfn.XLOOKUP($A31,INDIRECT(\"'Curves \"&H$10&\"'!$A$14:$A$163\"),_xlfn.XLOOKUP(H$11&$J$3,INDIRECT(\"'Curves \"&H$10&\"'!$11:$11\")&INDIRECT(\"'Curves \"&H$10&\"'!$12:$12\"),INDIRECT(\"'Curves \"&H$10&\"'!$14:$163\"),,0,1),,0,1)","v":1.4132697732935462E-2}]
[20,{"$f":"_xlfn.XLOOKUP($A32,INDIRECT(\"'Curves \"&B$10&\"'!$A$14:$A$163\"),_xlfn.XLOOKUP(B$11&$J$3,INDIRECT(\"'Curves \"&B$10&\"'!$11:$11\")&INDIRECT(\"'Curves \"&B$10&\"'!$12:$12\"),INDIRECT(\"'Curves \"&B$10&\"'!$14:$163\"),,0,1),,0,1)","v":3.2090683794894659E-2},{"$f":"_xlfn.XLOOKUP($A32,INDIRECT(\"'Curves \"&C$10&\"'!$A$14:$A$163\"),_xlfn.XLOOKUP(C$11&$J$3,INDIRECT(\"'Curves \"&C$10&\"'!$11:$11\")&INDIRECT(\"'Curves \"&C$10&\"'!$12:$12\"),INDIRECT(\"'Curves \"&C$10&\"'!$14:$163\"),,0,1),,0,1)","v":4.8913354743618243E-2},{"$f":"_xlfn.XLOOKUP($A32,INDIRECT(\"'Curves \"&D$10&\"'!$A$14:$A$163\"),_xlfn.XLOOKUP(D$11&$J$3,INDIRECT(\"'Curves \"&D$10&\"'!$11:$11\")&INDIRECT(\"'Curves \"&D$10&\"'!$12:$12\"),INDIRECT(\"'Curves \"&D$10&\"'!$14:$163\"),,0,1),,0,1)","v":1.1045341897447436E-2},null,{"$f":"_xlfn.XLOOKUP($A32,INDIRECT(\"'Curves \"&F$10&\"'!$A$14:$A$163\"),_xlfn.XLOOKUP(F$11&$J$3,INDIRECT(\"'Curves \"&F$10&\"'!$11:$11\")&INDIRECT(\"'Curves \"&F$10&\"'!$12:$12\"),INDIRECT(\"'Curves \"&F$10&\"'!$14:$163\"),,0,1),,0,1)","v":3.5202385602002062E-2},{"$f":"_xlfn.XLOOKUP($A32,INDIRECT(\"'Curves \"&G$10&\"'!$A$14:$A$163\"),_xlfn.XLOOKUP(G$11&$J$3,INDIRECT(\"'Curves \"&G$10&\"'!$11:$11\")&INDIRECT(\"'Curves \"&G$10&\"'!$12:$12\"),INDIRECT(\"'Curves \"&G$10&\"'!$14:$163\"),,0,1),,0,1)","v":5.2075776062502355E-2},{"$f":"_xlfn.XLOOKUP($A32,INDIRECT(\"'Curves \"&H$10&\"'!$A$14:$A$163\"),_xlfn.XLOOKUP(H$11&$J$3,INDIRECT(\"'Curves \"&H$10&\"'!$11:$11\")&INDIRECT(\"'Curves \"&H$10&\"'!$12:$12\"),INDIRECT(\"'Curves \"&H$10&\"'!$14:$163\"),,0,1),,0,1)","v":1.4093593051001108E-2}]
[21,{"$f":"_xlfn.XLOOKUP($A33,INDIRECT(\"'Curves \"&B$10&\"'!$A$14:$A$163\"),_xlfn.XLOOKUP(B$11&$J$3,INDIRECT(\"'Curves \"&B$10&\"'!$11:$11\")&INDIRECT(\"'Curves \"&B$10&\"'!$12:$12\"),INDIRECT(\"'Curves \"&B$10&\"'!$14:$163\"),,0,1),,0,1)","v":3.2123705321590812E-2},{"$f":"_xlfn.XLOOKUP($A33,INDIRECT(\"'Curves \"&C$10&\"'!$A$14:$A$163\"),_xlfn.XLOOKUP(C$11&$J$3,INDIRECT(\"'Curves \"&C$10&\"'!$11:$11\")&INDIRECT(\"'Curves \"&C$10&\"'!$12:$12\"),INDIRECT(\"'Curves \"&C$10&\"'!$14:$163\"),,0,1),,0,1)","v":4.853209861909713E-2},{"$f":"_xlfn.XLOOKUP($A33,INDIRECT(\"'Curves \"&D$10&\"'!$A$14:$A$163\"),_xlfn.XLOOKUP(D$11&$J$3,INDIRECT(\"'Curves \"&D$10&\"'!$11:$11\")&INDIRECT(\"'Curves \"&D$10&\"'!$12:$12\"),INDIRECT(\"'Curves \"&D$10&\"'!$14:$163\"),,0,1),,0,1)","v":1.105712173740736E-2},null,{"$f":"_xlfn.XLOOKUP($A33,INDIRECT(\"'Curves \"&F$10&\"'!$A$14:$A$163\"),_xlfn.XLOOKUP(F$11&$J$3,INDIRECT(\"'Curves \"&F$10&\"'!$11:$11\")&INDIRECT(\"'Curves \"&F$10&\"'!$12:$12\"),INDIRECT(\"'Curves \"&F$10&\"'!$14:$163\"),,0,1),,0,1)","v":3.5133483488925199E-2},{"$f":"_xlfn.XLOOKUP($A33,INDIRECT(\"'Curves \"&G$10&\"'!$A$14:$A$163\"),_xlfn.XLOOKUP(G$11&$J$3,INDIRECT(\"'Curves \"&G$10&\"'!$11:$11\")&INDIRECT(\"'Curves \"&G$10&\"'!$12:$12\"),INDIRECT(\"'Curves \"&G$10&\"'!$14:$163\"),,0,1),,0,1)","v":5.1589725337582104E-2},{"$f":"_xlfn.XLOOKUP($A33,INDIRECT(\"'Curves \"&H$10&\"'!$A$14:$A$163\"),_xlfn.XLOOKUP(H$11&$J$3,INDIRECT(\"'Curves \"&H$10&\"'!$11:$11\")&INDIRECT(\"'Curves \"&H$10&\"'!$12:$12\"),INDIRECT(\"'Curves \"&H$10&\"'!$14:$163\"),,0,1),,0,1)","v":1.4005467594830456E-2}]
[22,{"$f":"_xlfn.XLOOKUP($A34,INDIRECT(\"'Curves \"&B$10&\"'!$A$14:$A$163\"),_xlfn.XLOOKUP(B$11&$J$3,INDIRECT(\"'Curves \"&B$10&\"'!$11:$11\")&INDIRECT(\"'Curves \"&B$10&\"'!$12:$12\"),INDIRECT(\"'Curves \"&B$10&\"'!$14:$163\"),,0,1),,0,1)","v":3.2154746104094523E-2},{"$f":"_xlfn.XLOOKUP($A34,INDIRECT(\"'Curves \"&C$10&\"'!$A$14:$A$163\"),_xlfn.XLOOKUP(C$11&$J$3,INDIRECT(\"'Curves \"&C$10&\"'!$11:$11\")&INDIRECT(\"'Curves \"&C$10&\"'!$12:$12\"),INDIRECT(\"'Curves \"&C$10&\"'!$14:$163\"),,0,1),,0,1)","v":4.8154842061208791E-2},{"$f":"_xlfn.XLOOKUP($A34,INDIRECT(\"'Curves \"&D$10&\"'!$A$14:$A$163\"),_xlfn.XLOOKUP(D$11&$J$3,INDIRECT(\"'Curves \"&D$10&\"'!$11:$11\")&INDIRECT(\"'Curves \"&D$10&\"'!$12:$12\"),INDIRECT(\"'Curves \"&D$10&\"'!$14:$163\"),,0,1),,0,1)","v":1.1162548362092073E-2},null,{"$f":"_xlfn.XLOOKUP($A34,INDIRECT(\"'Curves \"&F$10&\"'!$A$14:$A$163\"),_xlfn.XLOOKUP(F$11&$J$3,INDIRECT(\"'Curves \"&F$10&\"'!$11:$11\")&INDIRECT(\"'Curves \"&F$10&\"'!$12:$12\"),INDIRECT(\"'Curves \"&F$10&\"'!$14:$163\"),,0,1),,0,1)","v":3.5067261893461987E-2},{"$f":"_xlfn.XLOOKUP($A34,INDIRECT(\"'Curves \"&G$10&\"'!$A$14:$A$163\"),_xlfn.XLOOKUP(G$11&$J$3,INDIRECT(\"'Curves \"&G$10&\"'!$11:$11\")&INDIRECT(\"'Curves \"&G$10&\"'!$12:$12\"),INDIRECT(\"'Curves \"&G$10&\"'!$14:$163\"),,0,1),,0,1)","v":5.1112506634983124E-2},{"$f":"_xlfn.XLOOKUP($A34,INDIRECT(\"'Curves \"&H$10&\"'!$A$14:$A$163\"),_xlfn.XLOOKUP(H$11&$J$3,INDIRECT(\"'Curves \"&H$10&\"'!$11:$11\")&INDIRECT(\"'Curves \"&H$10&\"'!$12:$12\"),INDIRECT(\"'Curves \"&H$10&\"'!$14:$163\"),,0,1),,0,1)","v":1.4015828743582981E-2}]
[23,{"$f":"_xlfn.XLOOKUP($A35,INDIRECT(\"'Curves \"&B$10&\"'!$A$14:$A$163\"),_xlfn.XLOOKUP(B$11&$J$3,INDIRECT(\"'Curves \"&B$10&\"'!$11:$11\")&INDIRECT(\"'Curves \"&B$10&\"'!$12:$12\"),INDIRECT(\"'Curves \"&B$10&\"'!$14:$163\"),,0,1),,0,1)","v":3.218396280436564E-2},{"$f":"_xlfn.XLOOKUP($A35,INDIRECT(\"'Curves \"&C$10&\"'!$A$14:$A$163\"),_xlfn.XLOOKUP(C$11&$J$3,INDIRECT(\"'Curves \"&C$10&\"'!$11:$11\")&INDIRECT(\"'Curves \"&C$10&\"'!$12:$12\"),INDIRECT(\"'Curves \"&C$10&\"'!$14:$163\"),,0,1),,0,1)","v":4.7784143146940572E-2},{"$f":"_xlfn.XLOOKUP($A35,INDIRECT(\"'Curves \"&D$10&\"'!$A$14:$A$163\"),_xlfn.XLOOKUP(D$11&$J$3,INDIRECT(\"'Curves \"&D$10&\"'!$11:$11\")&INDIRECT(\"'Curves \"&D$10&\"'!$12:$12\"),INDIRECT(\"'Curves \"&D$10&\"'!$14:$163\"),,0,1),,0,1)","v":1.1339993882017341E-2},null,{"$f":"_xlfn.XLOOKUP($A35,INDIRECT(\"'Curves \"&F$10&\"'!$A$14:$A$163\"),_xlfn.XLOOKUP(F$11&$J$3,INDIRECT(\"'Curves \"&F$10&\"'!$11:$11\")&INDIRECT(\"'Curves \"&F$10&\"'!$12:$12\"),INDIRECT(\"'Curves \"&F$10&\"'!$14:$163\"),,0,1),,0,1)","v":3.5003728692156288E-2},{"$f":"_xlfn.XLOOKUP($A35,INDIRECT(\"'Curves \"&G$10&\"'!$A$14:$A$163\"),_xlfn.XLOOKUP(G$11&$J$3,INDIRECT(\"'Curves \"&G$10&\"'!$11:$11\")&INDIRECT(\"'Curves \"&G$10&\"'!$12:$12\"),INDIRECT(\"'Curves \"&G$10&\"'!$14:$163\"),,0,1),,0,1)","v":5.0646526298667283E-2},{"$f":"_xlfn.XLOOKUP($A35,INDIRECT(\"'Curves \"&H$10&\"'!$A$14:$A$163\"),_xlfn.XLOOKUP(H$11&$J$3,INDIRECT(\"'Curves \"&H$10&\"'!$11:$11\")&INDIRECT(\"'Curves \"&H$10&\"'!$12:$12\"),INDIRECT(\"'Curves \"&H$10&\"'!$14:$163\"),,0,1),,0,1)","v":1.4102817291866687E-2}]
[24,{"$f":"_xlfn.XLOOKUP($A36,INDIRECT(\"'Curves \"&B$10&\"'!$A$14:$A$163\"),_xlfn.XLOOKUP(B$11&$J$3,INDIRECT(\"'Curves \"&B$10&\"'!$11:$11\")&INDIRECT(\"'Curves \"&B$10&\"'!$12:$12\"),INDIRECT(\"'Curves \"&B$10&\"'!$14:$163\"),,0,1),,0,1)","v":3.2211496120299721E-2},{"$f":"_xlfn.XLOOKUP($A36,INDIRECT(\"'Curves \"&C$10&\"'!$A$14:$A$163\"),_xlfn.XLOOKUP(C$11&$J$3,INDIRECT(\"'Curves \"&C$10&\"'!$11:$11\")&INDIRECT(\"'Curves \"&C$10&\"'!$12:$12\"),INDIRECT(\"'Curves \"&C$10&\"'!$14:$163\"),,0,1),,0,1)","v":4.7421823589770762E-2},{"$f":"_xlfn.XLOOKUP($A36,INDIRECT(\"'Curves \"&D$10&\"'!$A$14:$A$163\"),_xlfn.XLOOKUP(D$11&$J$3,INDIRECT(\"'Curves \"&D$10&\"'!$11:$11\")&INDIRECT(\"'Curves \"&D$10&\"'!$12:$12\"),INDIRECT(\"'Curves \"&D$10&\"'!$14:$163\"),,0,1),,0,1)","v":1.1572386972180215E-2},null,{"$f":"_xlfn.XLOOKUP($A36,INDIRECT(\"'Curves \"&F$10&\"'!$A$14:$A$163\"),_xlfn.XLOOKUP(F$11&$J$3,INDIRECT(\"'Curves \"&F$10&\"'!$11:$11\")&INDIRECT(\"'Curves \"&F$10&\"'!$12:$12\"),INDIRECT(\"'Curves \"&F$10&\"'!$14:$163\"),,0,1),,0,1)","v":3.4942854706097037E-2},{"$f":"_xlfn.XLOOKUP($A36,INDIRECT(\"'Curves \"&G$10&\"'!$A$14:$A$163\"),_xlfn.XLOOKUP(G$11&$J$3,INDIRECT(\"'Curves \"&G$10&\"'!$11:$11\")&INDIRECT(\"'Curves \"&G$10&\"'!$12:$12\"),INDIRECT(\"'Curves \"&G$10&\"'!$14:$163\"),,0,1),,0,1)","v":5.0193430572996967E-2},{"$f":"_xlfn.XLOOKUP($A36,INDIRECT(\"'Curves \"&H$10&\"'!$A$14:$A$163\"),_xlfn.XLOOKUP(H$11&$J$3,INDIRECT(\"'Curves \"&H$10&\"'!$11:$11\")&INDIRECT(\"'Curves \"&H$10&\"'!$12:$12\"),INDIRECT(\"'Curves \"&H$10&\"'!$14:$163\"),,0,1),,0,1)","v":1.4249131936460158E-2}]
[25,{"$f":"_xlfn.XLOOKUP($A37,INDIRECT(\"'Curves \"&B$10&\"'!$A$14:$A$163\"),_xlfn.XLOOKUP(B$11&$J$3,INDIRECT(\"'Curves \"&B$10&\"'!$11:$11\")&INDIRECT(\"'Curves \"&B$10&\"'!$12:$12\"),INDIRECT(\"'Curves \"&B$10&\"'!$14:$163\"),,0,1),,0,1)","v":3.2237472964663061E-2},{"$f":"_xlfn.XLOOKUP($A37,INDIRECT(\"'Curves \"&C$10&\"'!$A$14:$A$163\"),_xlfn.XLOOKUP(C$11&$J$3,INDIRECT(\"'Curves \"&C$10&\"'!$11:$11\")&INDIRECT(\"'Curves \"&C$10&\"'!$12:$12\"),INDIRECT(\"'Curves \"&C$10&\"'!$14:$163\"),,0,1),,0,1)","v":4.7069147260415889E-2},{"$f":"_xlfn.XLOOKUP($A37,INDIRECT(\"'Curves \"&D$10&\"'!$A$14:$A$163\"),_xlfn.XLOOKUP(D$11&$J$3,INDIRECT(\"'Curves \"&D$10&\"'!$11:$11\")&INDIRECT(\"'Curves \"&D$10&\"'!$12:$12\"),INDIRECT(\"'Curves \"&D$10&\"'!$14:$163\"),,0,1),,0,1)","v":1.1846200662535944E-2},null,{"$f":"_xlfn.XLOOKUP($A37,INDIRECT(\"'Curves \"&F$10&\"'!$A$14:$A$163\"),_xlfn.XLOOKUP(F$11&$J$3,INDIRECT(\"'Curves \"&F$10&\"'!$11:$11\")&INDIRECT(\"'Curves \"&F$10&\"'!$12:$12\"),INDIRECT(\"'Curves \"&F$10&\"'!$14:$163\"),,0,1),,0,1)","v":3.4884584693367415E-2},{"$f":"_xlfn.XLOOKUP($A37,INDIRECT(\"'Curves \"&G$10&\"'!$A$14:$A$163\"),_xlfn.XLOOKUP(G$11&$J$3,INDIRECT(\"'Curves \"&G$10&\"'!$11:$11\")&INDIRECT(\"'Curves \"&G$10&\"'!$12:$12\"),INDIRECT(\"'Curves \"&G$10&\"'!$14:$163\"),,0,1),,0,1)","v":4.9754293937485317E-2},{"$f":"_xlfn.XLOOKUP($A37,INDIRECT(\"'Curves \"&H$10&\"'!$A$14:$A$163\"),_xlfn.XLOOKUP(H$11&$J$3,INDIRECT(\"'Curves \"&H$10&\"'!$11:$11\")&INDIRECT(\"'Curves \"&H$10&\"'!$12:$12\"),INDIRECT(\"'Curves \"&H$10&\"'!$14:$163\"),,0,1),,0,1)","v":1.4441020183790121E-2}]
[26,{"$f":"_xlfn.XLOOKUP($A38,INDIRECT(\"'Curves \"&B$10&\"'!$A$14:$A$163\"),_xlfn.XLOOKUP(B$11&$J$3,INDIRECT(\"'Curves \"&B$10&\"'!$11:$11\")&INDIRECT(\"'Curves \"&B$10&\"'!$12:$12\"),INDIRECT(\"'Curves \"&B$10&\"'!$14:$163\"),,0,1),,0,1)","v":3.2262008242638807E-2},{"$f":"_xlfn.XLOOKUP($A38,INDIRECT(\"'Curves \"&C$10&\"'!$A$14:$A$163\"),_xlfn.XLOOKUP(C$11&$J$3,INDIRECT(\"'Curves \"&C$10&\"'!$11:$11\")&INDIRECT(\"'Curves \"&C$10&\"'!$12:$12\"),INDIRECT(\"'Curves \"&C$10&\"'!$14:$163\"),,0,1),,0,1)","v":4.6726954377938945E-2},{"$f":"_xlfn.XLOOKUP($A38,INDIRECT(\"'Curves \"&D$10&\"'!$A$14:$A$163\"),_xlfn.XLOOKUP(D$11&$J$3,INDIRECT(\"'Curves \"&D$10&\"'!$11:$11\")&INDIRECT(\"'Curves \"&D$10&\"'!$12:$12\"),INDIRECT(\"'Curves \"&D$10&\"'!$14:$163\"),,0,1),,0,1)","v":1.215068579037526E-2},null,{"$f":"_xlfn.XLOOKUP($A38,INDIRECT(\"'Curves \"&F$10&\"'!$A$14:$A$163\"),_xlfn.XLOOKUP(F$11&$J$3,INDIRECT(\"'Curves \"&F$10&\"'!$11:$11\")&INDIRECT(\"'Curves \"&F$10&\"'!$12:$12\"),INDIRECT(\"'Curves \"&F$10&\"'!$14:$163\"),,0,1),,0,1)","v":3.4828845445132428E-2},{"$f":"_xlfn.XLOOKUP($A38,INDIRECT(\"'Curves \"&G$10&\"'!$A$14:$A$163\"),_xlfn.XLOOKUP(G$11&$J$3,INDIRECT(\"'Curves \"&G$10&\"'!$11:$11\")&INDIRECT(\"'Curves \"&G$10&\"'!$12:$12\"),INDIRECT(\"'Curves \"&G$10&\"'!$14:$163\"),,0,1),,0,1)","v":4.9329760318578275E-2},{"$f":"_xlfn.XLOOKUP($A38,INDIRECT(\"'Curves \"&H$10&\"'!$A$14:$A$163\"),_xlfn.XLOOKUP(H$11&$J$3,INDIRECT(\"'Curves \"&H$10&\"'!$11:$11\")&INDIRECT(\"'Curves \"&H$10&\"'!$12:$12\"),INDIRECT(\"'Curves \"&H$10&\"'!$14:$163\"),,0,1),,0,1)","v":1.4667513896099216E-2}]
[27,{"$f":"_xlfn.XLOOKUP($A39,INDIRECT(\"'Curves \"&B$10&\"'!$A$14:$A$163\"),_xlfn.XLOOKUP(B$11&$J$3,INDIRECT(\"'Curves \"&B$10&\"'!$11:$11\")&INDIRECT(\"'Curves \"&B$10&\"'!$12:$12\"),INDIRECT(\"'Curves \"&B$10&\"'!$14:$163\"),,0,1),,0,1)","v":3.2285206321883919E-2},{"$f":"_xlfn.XLOOKUP($A39,INDIRECT(\"'Curves \"&C$10&\"'!$A$14:$A$163\"),_xlfn.XLOOKUP(C$11&$J$3,INDIRECT(\"'Curves \"&C$10&\"'!$11:$11\")&INDIRECT(\"'Curves \"&C$10&\"'!$12:$12\"),INDIRECT(\"'Curves \"&C$10&\"'!$14:$163\"),,0,1),,0,1)","v":4.6395763168110893E-2},{"$f":"_xlfn.XLOOKUP($A39,INDIRECT(\"'Curves \"&D$10&\"'!$A$14:$A$163\"),_xlfn.XLOOKUP(D$11&$J$3,INDIRECT(\"'Curves \"&D$10&\"'!$11:$11\")&INDIRECT(\"'Curves \"&D$10&\"'!$12:$12\"),INDIRECT(\"'Curves \"&D$10&\"'!$14:$163\"),,0,1),,0,1)","v":1.2477284574325065E-2},null,{"$f":"_xlfn.XLOOKUP($A39,INDIRECT(\"'Curves \"&F$10&\"'!$A$14:$A$163\"),_xlfn.XLOOKUP(F$11&$J$3,INDIRECT(\"'Curves \"&F$10&\"'!$11:$11\")&INDIRECT(\"'Curves \"&F$10&\"'!$12:$12\"),INDIRECT(\"'Curves \"&F$10&\"'!$14:$163\"),,0,1),,0,1)","v":3.4775551772449287E-2},{"$f":"_xlfn.XLOOKUP($A39,INDIRECT(\"'Curves \"&G$10&\"'!$A$14:$A$163\"),_xlfn.XLOOKUP(G$11&$J$3,INDIRECT(\"'Curves \"&G$10&\"'!$11:$11\")&INDIRECT(\"'Curves \"&G$10&\"'!$12:$12\"),INDIRECT(\"'Curves \"&G$10&\"'!$14:$163\"),,0,1),,0,1)","v":4.8920149754625664E-2},{"$f":"_xlfn.XLOOKUP($A39,INDIRECT(\"'Curves \"&H$10&\"'!$A$14:$A$163\"),_xlfn.XLOOKUP(H$11&$J$3,INDIRECT(\"'Curves \"&H$10&\"'!$11:$11\")&INDIRECT(\"'Curves \"&H$10&\"'!$12:$12\"),INDIRECT(\"'Curves \"&H$10&\"'!$14:$163\"),,0,1),,0,1)","v":1.4919844231287005E-2}]
[28,{"$f":"_xlfn.XLOOKUP($A40,INDIRECT(\"'Curves \"&B$10&\"'!$A$14:$A$163\"),_xlfn.XLOOKUP(B$11&$J$3,INDIRECT(\"'Curves \"&B$10&\"'!$11:$11\")&INDIRECT(\"'Curves \"&B$10&\"'!$12:$12\"),INDIRECT(\"'Curves \"&B$10&\"'!$14:$163\"),,0,1),,0,1)","v":3.2307162263198297E-2},{"$f":"_xlfn.XLOOKUP($A40,INDIRECT(\"'Curves \"&C$10&\"'!$A$14:$A$163\"),_xlfn.XLOOKUP(C$11&$J$3,INDIRECT(\"'Curves \"&C$10&\"'!$11:$11\")&INDIRECT(\"'Curves \"&C$10&\"'!$12:$12\"),INDIRECT(\"'Curves \"&C$10&\"'!$14:$163\"),,0,1),,0,1)","v":4.6075847389895896E-2},{"$f":"_xlfn.XLOOKUP($A40,INDIRECT(\"'Curves \"&D$10&\"'!$A$14:$A$163\"),_xlfn.XLOOKUP(D$11&$J$3,INDIRECT(\"'Curves \"&D$10&\"'!$11:$11\")&INDIRECT(\"'Curves \"&D$10&\"'!$12:$12\"),INDIRECT(\"'Curves \"&D$10&\"'!$14:$163\"),,0,1),,0,1)","v":1.2819177888735434E-2},null,{"$f":"_xlfn.XLOOKUP($A40,INDIRECT(\"'Curves \"&F$10&\"'!$A$14:$A$163\"),_xlfn.XLOOKUP(F$11&$J$3,INDIRECT(\"'Curves \"&F$10&\"'!$11:$11\")&INDIRECT(\"'Curves \"&F$10&\"'!$12:$12\"),INDIRECT(\"'Curves \"&F$10&\"'!$14:$163\"),,0,1),,0,1)","v":3.4724610942371115E-2},{"$f":"_xlfn.XLOOKUP($A40,INDIRECT(\"'Curves \"&G$10&\"'!$A$14:$A$163\"),_xlfn.XLOOKUP(G$11&$J$3,INDIRECT(\"'Curves \"&G$10&\"'!$11:$11\")&INDIRECT(\"'Curves \"&G$10&\"'!$12:$12\"),INDIRECT(\"'Curves \"&G$10&\"'!$14:$163\"),,0,1),,0,1)","v":4.8525539466082845E-2},{"$f":"_xlfn.XLOOKUP($A40,INDIRECT(\"'Curves \"&H$10&\"'!$A$14:$A$163\"),_xlfn.XLOOKUP(H$11&$J$3,INDIRECT(\"'Curves \"&H$10&\"'!$11:$11\")&INDIRECT(\"'Curves \"&H$10&\"'!$12:$12\"),INDIRECT(\"'Curves \"&H$10&\"'!$14:$163\"),,0,1),,0,1)","v":1.5190989761531215E-2}]
[29,{"$f":"_xlfn.XLOOKUP($A41,INDIRECT(\"'Curves \"&B$10&\"'!$A$14:$A$163\"),_xlfn.XLOOKUP(B$11&$J$3,INDIRECT(\"'Curves \"&B$10&\"'!$11:$11\")&INDIRECT(\"'Curves \"&B$10&\"'!$12:$12\"),INDIRECT(\"'Curves \"&B$10&\"'!$14:$163\"),,0,1),,0,1)","v":3.2327962861988357E-2},{"$f":"_xlfn.XLOOKUP($A41,INDIRECT(\"'Curves \"&C$10&\"'!$A$14:$A$163\"),_xlfn.XLOOKUP(C$11&$J$3,INDIRECT(\"'Curves \"&C$10&\"'!$11:$11\")&INDIRECT(\"'Curves \"&C$10&\"'!$12:$12\"),INDIRECT(\"'Curves \"&C$10&\"'!$14:$163\"),,0,1),,0,1)","v":4.5767295789437279E-2},{"$f":"_xlfn.XLOOKUP($A41,INDIRECT(\"'Curves \"&D$10&\"'!$A$14:$A$163\"),_xlfn.XLOOKUP(D$11&$J$3,INDIRECT(\"'Curves \"&D$10&\"'!$11:$11\")&INDIRECT(\"'Curves \"&D$10&\"'!$12:$12\"),INDIRECT(\"'Curves \"&D$10&\"'!$14:$163\"),,0,1),,0,1)","v":1.3170932894098764E-2},null,{"$f":"_xlfn.XLOOKUP($A41,INDIRECT(\"'Curves \"&F$10&\"'!$A$14:$A$163\"),_xlfn.XLOOKUP(F$11&$J$3,INDIRECT(\"'Curves \"&F$10&\"'!$11:$11\")&INDIRECT(\"'Curves \"&F$10&\"'!$12:$12\"),INDIRECT(\"'Curves \"&F$10&\"'!$14:$163\"),,0,1),,0,1)","v":3.4675925964674059E-2},{"$f":"_xlfn.XLOOKUP($A41,INDIRECT(\"'Curves \"&G$10&\"'!$A$14:$A$163\"),_xlfn.XLOOKUP(G$11&$J$3,INDIRECT(\"'Curves \"&G$10&\"'!$11:$11\")&INDIRECT(\"'Curves \"&G$10&\"'!$12:$12\"),INDIRECT(\"'Curves \"&G$10&\"'!$14:$163\"),,0,1),,0,1)","v":4.8145825784596585E-2},{"$f":"_xlfn.XLOOKUP($A41,INDIRECT(\"'Curves \"&H$10&\"'!$A$14:$A$163\"),_xlfn.XLOOKUP(H$11&$J$3,INDIRECT(\"'Curves \"&H$10&\"'!$11:$11\")&INDIRECT(\"'Curves \"&H$10&\"'!$12:$12\"),INDIRECT(\"'Curves \"&H$10&\"'!$14:$163\"),,0,1),,0,1)","v":1.5475324572644222E-2}]
[30,{"$f":"_xlfn.XLOOKUP($A42,INDIRECT(\"'Curves \"&B$10&\"'!$A$14:$A$163\"),_xlfn.XLOOKUP(B$11&$J$3,INDIRECT(\"'Curves \"&B$10&\"'!$11:$11\")&INDIRECT(\"'Curves \"&B$10&\"'!$12:$12\"),INDIRECT(\"'Curves \"&B$10&\"'!$14:$163\"),,0,1),,0,1)","v":3.234768753809969E-2},{"$f":"_xlfn.XLOOKUP($A42,INDIRECT(\"'Curves \"&C$10&\"'!$A$14:$A$163\"),_xlfn.XLOOKUP(C$11&$J$3,INDIRECT(\"'Curves \"&C$10&\"'!$11:$11\")&INDIRECT(\"'Curves \"&C$10&\"'!$12:$12\"),INDIRECT(\"'Curves \"&C$10&\"'!$14:$163\"),,0,1),,0,1)","v":4.5470057903105765E-2},{"$f":"_xlfn.XLOOKUP($A42,INDIRECT(\"'Curves \"&D$10&\"'!$A$14:$A$163\"),_xlfn.XLOOKUP(D$11&$J$3,INDIRECT(\"'Curves \"&D$10&\"'!$11:$11\")&INDIRECT(\"'Curves \"&D$10&\"'!$12:$12\"),INDIRECT(\"'Curves \"&D$10&\"'!$14:$163\"),,0,1),,0,1)","v":1.3528226762786755E-2},null,{"$f":"_xlfn.XLOOKUP($A42,INDIRECT(\"'Curves \"&F$10&\"'!$A$14:$A$163\"),_xlfn.XLOOKUP(F$11&$J$3,INDIRECT(\"'Curves \"&F$10&\"'!$11:$11\")&INDIRECT(\"'Curves \"&F$10&\"'!$12:$12\"),INDIRECT(\"'Curves \"&F$10&\"'!$14:$163\"),,0,1),,0,1)","v":3.4629398020789015E-2},{"$f":"_xlfn.XLOOKUP($A42,INDIRECT(\"'Curves \"&G$10&\"'!$A$14:$A$163\"),_xlfn.XLOOKUP(G$11&$J$3,INDIRECT(\"'Curves \"&G$10&\"'!$11:$11\")&INDIRECT(\"'Curves \"&G$10&\"'!$12:$12\"),INDIRECT(\"'Curves \"&G$10&\"'!$14:$163\"),,0,1),,0,1)","v":4.7780771647371489E-2},{"$f":"_xlfn.XLOOKUP($A42,INDIRECT(\"'Curves \"&H$10&\"'!$A$14:$A$163\"),_xlfn.XLOOKUP(H$11&$J$3,INDIRECT(\"'Curves \"&H$10&\"'!$11:$11\")&INDIRECT(\"'Curves \"&H$10&\"'!$12:$12\"),INDIRECT(\"'Curves \"&H$10&\"'!$14:$163\"),,0,1),,0,1)","v":1.5768342188454021E-2}]
[31,{"$f":"_xlfn.XLOOKUP($A43,INDIRECT(\"'Curves \"&B$10&\"'!$A$14:$A$163\"),_xlfn.XLOOKUP(B$11&$J$3,INDIRECT(\"'Curves \"&B$10&\"'!$11:$11\")&INDIRECT(\"'Curves \"&B$10&\"'!$12:$12\"),INDIRECT(\"'Curves \"&B$10&\"'!$14:$163\"),,0,1),,0,1)","v":3.2366409102550842E-2},{"$f":"_xlfn.XLOOKUP($A43,INDIRECT(\"'Curves \"&C$10&\"'!$A$14:$A$163\"),_xlfn.XLOOKUP(C$11&$J$3,INDIRECT(\"'Curves \"&C$10&\"'!$11:$11\")&INDIRECT(\"'Curves \"&C$10&\"'!$12:$12\"),INDIRECT(\"'Curves \"&C$10&\"'!$14:$163\"),,0,1),,0,1)","v":4.5183979470370561E-2},{"$f":"_xlfn.XLOOKUP($A43,INDIRECT(\"'Curves \"&D$10&\"'!$A$14:$A$163\"),_xlfn.XLOOKUP(D$11&$J$3,INDIRECT(\"'Curves \"&D$10&\"'!$11:$11\")&INDIRECT(\"'Curves \"&D$10&\"'!$12:$12\"),INDIRECT(\"'Curves \"&D$10&\"'!$14:$163\"),,0,1),,0,1)","v":1.3887628639509986E-2},null,{"$f":"_xlfn.XLOOKUP($A43,INDIRECT(\"'Curves \"&F$10&\"'!$A$14:$A$163\"),_xlfn.XLOOKUP(F$11&$J$3,INDIRECT(\"'Curves \"&F$10&\"'!$11:$11\")&INDIRECT(\"'Curves \"&F$10&\"'!$12:$12\"),INDIRECT(\"'Curves \"&F$10&\"'!$14:$163\"),,0,1),,0,1)","v":3.4584928248905467E-2},{"$f":"_xlfn.XLOOKUP($A43,INDIRECT(\"'Curves \"&G$10&\"'!$A$14:$A$163\"),_xlfn.XLOOKUP(G$11&$J$3,INDIRECT(\"'Curves \"&G$10&\"'!$11:$11\")&INDIRECT(\"'Curves \"&G$10&\"'!$12:$12\"),INDIRECT(\"'Curves \"&G$10&\"'!$14:$163\"),,0,1),,0,1)","v":4.7430043125167298E-2},{"$f":"_xlfn.XLOOKUP($A43,INDIRECT(\"'Curves \"&H$10&\"'!$A$14:$A$163\"),_xlfn.XLOOKUP(H$11&$J$3,INDIRECT(\"'Curves \"&H$10&\"'!$11:$11\")&INDIRECT(\"'Curves \"&H$10&\"'!$12:$12\"),INDIRECT(\"'Curves \"&H$10&\"'!$14:$163\"),,0,1),,0,1)","v":1.6066437535805056E-2}]
[32,{"$f":"_xlfn.XLOOKUP($A44,INDIRECT(\"'Curves \"&B$10&\"'!$A$14:$A$163\"),_xlfn.XLOOKUP(B$11&$J$3,INDIRECT(\"'Curves \"&B$10&\"'!$11:$11\")&INDIRECT(\"'Curves \"&B$10&\"'!$12:$12\"),INDIRECT(\"'Curves \"&B$10&\"'!$14:$163\"),,0,1),,0,1)","v":3.2384194423146218E-2},{"$f":"_xlfn.XLOOKUP($A44,INDIRECT(\"'Curves \"&C$10&\"'!$A$14:$A$163\"),_xlfn.XLOOKUP(C$11&$J$3,INDIRECT(\"'Curves \"&C$10&\"'!$11:$11\")&INDIRECT(\"'Curves \"&C$10&\"'!$12:$12\"),INDIRECT(\"'Curves \"&C$10&\"'!$14:$163\"),,0,1),,0,1)","v":4.490882988449596E-2},{"$f":"_xlfn.XLOOKUP($A44,INDIRECT(\"'Curves \"&D$10&\"'!$A$14:$A$163\"),_xlfn.XLOOKUP(D$11&$J$3,INDIRECT(\"'Curves \"&D$10&\"'!$11:$11\")&INDIRECT(\"'Curves \"&D$10&\"'!$12:$12\"),INDIRECT(\"'Curves \"&D$10&\"'!$14:$163\"),,0,1),,0,1)","v":1.4246426544733071E-2},null,{"$f":"_xlfn.XLOOKUP($A44,INDIRECT(\"'Curves \"&F$10&\"'!$A$14:$A$163\"),_xlfn.XLOOKUP(F$11&$J$3,INDIRECT(\"'Curves \"&F$10&\"'!$11:$11\")&INDIRECT(\"'Curves \"&F$10&\"'!$12:$12\"),INDIRECT(\"'Curves \"&F$10&\"'!$14:$163\"),,0,1),,0,1)","v":3.454241904367028E-2},{"$f":"_xlfn.XLOOKUP($A44,INDIRECT(\"'Curves \"&G$10&\"'!$A$14:$A$163\"),_xlfn.XLOOKUP(G$11&$J$3,INDIRECT(\"'Curves \"&G$10&\"'!$11:$11\")&INDIRECT(\"'Curves \"&G$10&\"'!$12:$12\"),INDIRECT(\"'Curves \"&G$10&\"'!$14:$163\"),,0,1),,0,1)","v":4.7093237564351798E-2},{"$f":"_xlfn.XLOOKUP($A44,INDIRECT(\"'Curves \"&H$10&\"'!$A$14:$A$163\"),_xlfn.XLOOKUP(H$11&$J$3,INDIRECT(\"'Curves \"&H$10&\"'!$11:$11\")&INDIRECT(\"'Curves \"&H$10&\"'!$12:$12\"),INDIRECT(\"'Curves \"&H$10&\"'!$14:$163\"),,0,1),,0,1)","v":1.6366733714168857E-2}]
[33,{"$f":"_xlfn.XLOOKUP($A45,INDIRECT(\"'Curves \"&B$10&\"'!$A$14:$A$163\"),_xlfn.XLOOKUP(B$11&$J$3,INDIRECT(\"'Curves \"&B$10&\"'!$11:$11\")&INDIRECT(\"'Curves \"&B$10&\"'!$12:$12\"),INDIRECT(\"'Curves \"&B$10&\"'!$14:$163\"),,0,1),,0,1)","v":3.2401105006113484E-2},{"$f":"_xlfn.XLOOKUP($A45,INDIRECT(\"'Curves \"&C$10&\"'!$A$14:$A$163\"),_xlfn.XLOOKUP(C$11&$J$3,INDIRECT(\"'Curves \"&C$10&\"'!$11:$11\")&INDIRECT(\"'Curves \"&C$10&\"'!$12:$12\"),INDIRECT(\"'Curves \"&C$10&\"'!$14:$163\"),,0,1),,0,1)","v":4.4644323504965167E-2},{"$f":"_xlfn.XLOOKUP($A45,INDIRECT(\"'Curves \"&D$10&\"'!$A$14:$A$163\"),_xlfn.XLOOKUP(D$11&$J$3,INDIRECT(\"'Curves \"&D$10&\"'!$11:$11\")&INDIRECT(\"'Curves \"&D$10&\"'!$12:$12\"),INDIRECT(\"'Curves \"&D$10&\"'!$14:$163\"),,0,1),,0,1)","v":1.4602489230489901E-2},null,{"$f":"_xlfn.XLOOKUP($A45,INDIRECT(\"'Curves \"&F$10&\"'!$A$14:$A$163\"),_xlfn.XLOOKUP(F$11&$J$3,INDIRECT(\"'Curves \"&F$10&\"'!$11:$11\")&INDIRECT(\"'Curves \"&F$10&\"'!$12:$12\"),INDIRECT(\"'Curves \"&F$10&\"'!$14:$163\"),,0,1),,0,1)","v":3.450177498871243E-2},{"$f":"_xlfn.XLOOKUP($A45,INDIRECT(\"'Curves \"&G$10&\"'!$A$14:$A$163\"),_xlfn.XLOOKUP(G$11&$J$3,INDIRECT(\"'Curves \"&G$10&\"'!$11:$11\")&INDIRECT(\"'Curves \"&G$10&\"'!$12:$12\"),INDIRECT(\"'Curves \"&G$10&\"'!$14:$163\"),,0,1),,0,1)","v":4.6769905279566482E-2},{"$f":"_xlfn.XLOOKUP($A45,INDIRECT(\"'Curves \"&H$10&\"'!$A$14:$A$163\"),_xlfn.XLOOKUP(H$11&$J$3,INDIRECT(\"'Curves \"&H$10&\"'!$11:$11\")&INDIRECT(\"'Curves \"&H$10&\"'!$12:$12\"),INDIRECT(\"'Curves \"&H$10&\"'!$14:$163\"),,0,1),,0,1)","v":1.6666943620418095E-2}]
[34,{"$f":"_xlfn.XLOOKUP($A46,INDIRECT(\"'Curves \"&B$10&\"'!$A$14:$A$163\"),_xlfn.XLOOKUP(B$11&$J$3,INDIRECT(\"'Curves \"&B$10&\"'!$11:$11\")&INDIRECT(\"'Curves \"&B$10&\"'!$12:$12\"),INDIRECT(\"'Curves \"&B$10&\"'!$14:$163\"),,0,1),,0,1)","v":3.2417197507316198E-2},{"$f":"_xlfn.XLOOKUP($A46,INDIRECT(\"'Curves \"&C$10&\"'!$A$14:$A$163\"),_xlfn.XLOOKUP(C$11&$J$3,INDIRECT(\"'Curves \"&C$10&\"'!$11:$11\")&INDIRECT(\"'Curves \"&C$10&\"'!$12:$12\"),INDIRECT(\"'Curves \"&C$10&\"'!$14:$163\"),,0,1),,0,1)","v":4.4390136212749232E-2},{"$f":"_xlfn.XLOOKUP($A46,INDIRECT(\"'Curves \"&D$10&\"'!$A$14:$A$163\"),_xlfn.XLOOKUP(D$11&$J$3,INDIRECT(\"'Curves \"&D$10&\"'!$11:$11\")&INDIRECT(\"'Curves \"&D$10&\"'!$12:$12\"),INDIRECT(\"'Curves \"&D$10&\"'!$14:$163\"),,0,1),,0,1)","v":1.495415541020817E-2},null,{"$f":"_xlfn.XLOOKUP($A46,INDIRECT(\"'Curves \"&F$10&\"'!$A$14:$A$163\"),_xlfn.XLOOKUP(F$11&$J$3,INDIRECT(\"'Curves \"&F$10&\"'!$11:$11\")&INDIRECT(\"'Curves \"&F$10&\"'!$12:$12\"),INDIRECT(\"'Curves \"&F$10&\"'!$14:$163\"),,0,1),,0,1)","v":3.4462903510859233E-2},{"$f":"_xlfn.XLOOKUP($A46,INDIRECT(\"'Curves \"&G$10&\"'!$A$14:$A$163\"),_xlfn.XLOOKUP(G$11&$J$3,INDIRECT(\"'Curves \"&G$10&\"'!$11:$11\")&INDIRECT(\"'Curves \"&G$10&\"'!$12:$12\"),INDIRECT(\"'Curves \"&G$10&\"'!$14:$163\"),,0,1),,0,1)","v":4.6459566261812801E-2},{"$f":"_xlfn.XLOOKUP($A46,INDIRECT(\"'Curves \"&H$10&\"'!$A$14:$A$163\"),_xlfn.XLOOKUP(H$11&$J$3,INDIRECT(\"'Curves \"&H$10&\"'!$11:$11\")&INDIRECT(\"'Curves \"&H$10&\"'!$12:$12\"),INDIRECT(\"'Curves \"&H$10&\"'!$14:$163\"),,0,1),,0,1)","v":1.6965258880836664E-2}]
[35,{"$f":"_xlfn.XLOOKUP($A47,INDIRECT(\"'Curves \"&B$10&\"'!$A$14:$A$163\"),_xlfn.XLOOKUP(B$11&$J$3,INDIRECT(\"'Curves \"&B$10&\"'!$11:$11\")&INDIRECT(\"'Curves \"&B$10&\"'!$12:$12\"),INDIRECT(\"'Curves \"&B$10&\"'!$14:$163\"),,0,1),,0,1)","v":3.2432524183866773E-2},{"$f":"_xlfn.XLOOKUP($A47,INDIRECT(\"'Curves \"&C$10&\"'!$A$14:$A$163\"),_xlfn.XLOOKUP(C$11&$J$3,INDIRECT(\"'Curves \"&C$10&\"'!$11:$11\")&INDIRECT(\"'Curves \"&C$10&\"'!$12:$12\"),INDIRECT(\"'Curves \"&C$10&\"'!$14:$163\"),,0,1),,0,1)","v":4.4145918261937034E-2},{"$f":"_xlfn.XLOOKUP($A47,INDIRECT(\"'Curves \"&D$10&\"'!$A$14:$A$163\"),_xlfn.XLOOKUP(D$11&$J$3,INDIRECT(\"'Curves \"&D$10&\"'!$11:$11\")&INDIRECT(\"'Curves \"&D$10&\"'!$12:$12\"),INDIRECT(\"'Curves \"&D$10&\"'!$14:$163\"),,0,1),,0,1)","v":1.5300144565099982E-2},null,{"$f":"_xlfn.XLOOKUP($A47,INDIRECT(\"'Curves \"&F$10&\"'!$A$14:$A$163\"),_xlfn.XLOOKUP(F$11&$J$3,INDIRECT(\"'Curves \"&F$10&\"'!$11:$11\")&INDIRECT(\"'Curves \"&F$10&\"'!$12:$12\"),INDIRECT(\"'Curves \"&F$10&\"'!$14:$163\"),,0,1),,0,1)","v":3.4425715323247008E-2},{"$f":"_xlfn.XLOOKUP($A47,INDIRECT(\"'Curves \"&G$10&\"'!$A$14:$A$163\"),_xlfn.XLOOKUP(G$11&$J$3,INDIRECT(\"'Curves \"&G$10&\"'!$11:$11\")&INDIRECT(\"'Curves \"&G$10&\"'!$12:$12\"),INDIRECT(\"'Curves \"&G$10&\"'!$14:$163\"),,0,1),,0,1)","v":4.6161723017937861E-2},{"$f":"_xlfn.XLOOKUP($A47,INDIRECT(\"'Curves \"&H$10&\"'!$A$14:$A$163\"),_xlfn.XLOOKUP(H$11&$J$3,INDIRECT(\"'Curves \"&H$10&\"'!$11:$11\")&INDIRECT(\"'Curves \"&H$10&\"'!$12:$12\"),INDIRECT(\"'Curves \"&H$10&\"'!$14:$163\"),,0,1),,0,1)","v":1.7260260315578035E-2}]
[36,{"$f":"_xlfn.XLOOKUP($A48,INDIRECT(\"'Curves \"&B$10&\"'!$A$14:$A$163\"),_xlfn.XLOOKUP(B$11&$J$3,INDIRECT(\"'Curves \"&B$10&\"'!$11:$11\")&INDIRECT(\"'Curves \"&B$10&\"'!$12:$12\"),INDIRECT(\"'Curves \"&B$10&\"'!$14:$163\"),,0,1),,0,1)","v":3.2447133294892794E-2},{"$f":"_xlfn.XLOOKUP($A48,INDIRECT(\"'Curves \"&C$10&\"'!$A$14:$A$163\"),_xlfn.XLOOKUP(C$11&$J$3,INDIRECT(\"'Curves \"&C$10&\"'!$11:$11\")&INDIRECT(\"'Curves \"&C$10&\"'!$12:$12\"),INDIRECT(\"'Curves \"&C$10&\"'!$14:$163\"),,0,1),,0,1)","v":4.3911304236688542E-2},{"$f":"_xlfn.XLOOKUP($A48,INDIRECT(\"'Curves \"&D$10&\"'!$A$14:$A$163\"),_xlfn.XLOOKUP(D$11&$J$3,INDIRECT(\"'Curves \"&D$10&\"'!$11:$11\")&INDIRECT(\"'Curves \"&D$10&\"'!$12:$12\"),INDIRECT(\"'Curves \"&D$10&\"'!$14:$163\"),,0,1),,0,1)","v":1.5639484857305819E-2},null,{"$f":"_xlfn.XLOOKUP($A48,INDIRECT(\"'Curves \"&F$10&\"'!$A$14:$A$163\"),_xlfn.XLOOKUP(F$11&$J$3,INDIRECT(\"'Curves \"&F$10&\"'!$11:$11\")&INDIRECT(\"'Curves \"&F$10&\"'!$12:$12\"),INDIRECT(\"'Curves \"&F$10&\"'!$14:$163\"),,0,1),,0,1)","v":3.4390124708421954E-2},{"$f":"_xlfn.XLOOKUP($A48,INDIRECT(\"'Curves \"&G$10&\"'!$A$14:$A$163\"),_xlfn.XLOOKUP(G$11&$J$3,INDIRECT(\"'Curves \"&G$10&\"'!$11:$11\")&INDIRECT(\"'Curves \"&G$10&\"'!$12:$12\"),INDIRECT(\"'Curves \"&G$10&\"'!$14:$163\"),,0,1),,0,1)","v":4.5875870397228846E-2},{"$f":"_xlfn.XLOOKUP($A48,INDIRECT(\"'Curves \"&H$10&\"'!$A$14:$A$163\"),_xlfn.XLOOKUP(H$11&$J$3,INDIRECT(\"'Curves \"&H$10&\"'!$11:$11\")&INDIRECT(\"'Curves \"&H$10&\"'!$12:$12\"),INDIRECT(\"'Curves \"&H$10&\"'!$14:$163\"),,0,1),,0,1)","v":1.7550845482639854E-2}]
[37,{"$f":"_xlfn.XLOOKUP($A49,INDIRECT(\"'Curves \"&B$10&\"'!$A$14:$A$163\"),_xlfn.XLOOKUP(B$11&$J$3,INDIRECT(\"'Curves \"&B$10&\"'!$11:$11\")&INDIRECT(\"'Curves \"&B$10&\"'!$12:$12\"),INDIRECT(\"'Curves \"&B$10&\"'!$14:$163\"),,0,1),,0,1)","v":3.2461069458604275E-2},{"$f":"_xlfn.XLOOKUP($A49,INDIRECT(\"'Curves \"&C$10&\"'!$A$14:$A$163\"),_xlfn.XLOOKUP(C$11&$J$3,INDIRECT(\"'Curves \"&C$10&\"'!$11:$11\")&INDIRECT(\"'Curves \"&C$10&\"'!$12:$12\"),INDIRECT(\"'Curves \"&C$10&\"'!$14:$163\"),,0,1),,0,1)","v":4.3685920738459005E-2},{"$f":"_xlfn.XLOOKUP($A49,INDIRECT(\"'Curves \"&D$10&\"'!$A$14:$A$163\"),_xlfn.XLOOKUP(D$11&$J$3,INDIRECT(\"'Curves \"&D$10&\"'!$11:$11\")&INDIRECT(\"'Curves \"&D$10&\"'!$12:$12\"),INDIRECT(\"'Curves \"&D$10&\"'!$14:$163\"),,0,1),,0,1)","v":1.5971454678630259E-2},null,{"$f":"_xlfn.XLOOKUP($A49,INDIRECT(\"'Curves \"&F$10&\"'!$A$14:$A$163\"),_xlfn.XLOOKUP(F$11&$J$3,INDIRECT(\"'Curves \"&F$10&\"'!$11:$11\")&INDIRECT(\"'Curves \"&F$10&\"'!$12:$12\"),INDIRECT(\"'Curves \"&F$10&\"'!$14:$163\"),,0,1),,0,1)","v":3.4356049680458911E-2},{"$f":"_xlfn.XLOOKUP($A49,INDIRECT(\"'Curves \"&G$10&\"'!$A$14:$A$163\"),_xlfn.XLOOKUP(G$11&$J$3,INDIRECT(\"'Curves \"&G$10&\"'!$11:$11\")&INDIRECT(\"'Curves \"&G$10&\"'!$12:$12\"),INDIRECT(\"'Curves \"&G$10&\"'!$14:$163\"),,0,1),,0,1)","v":4.5601503065126892E-2},{"$f":"_xlfn.XLOOKUP($A49,INDIRECT(\"'Curves \"&H$10&\"'!$A$14:$A$163\"),_xlfn.XLOOKUP(H$11&$J$3,INDIRECT(\"'Curves \"&H$10&\"'!$11:$11\")&INDIRECT(\"'Curves \"&H$10&\"'!$12:$12\"),INDIRECT(\"'Curves \"&H$10&\"'!$14:$163\"),,0,1),,0,1)","v":1.7836169842752048E-2}]
[38,{"$f":"_xlfn.XLOOKUP($A50,INDIRECT(\"'Curves \"&B$10&\"'!$A$14:$A$163\"),_xlfn.XLOOKUP(B$11&$J$3,INDIRECT(\"'Curves \"&B$10&\"'!$11:$11\")&INDIRECT(\"'Curves \"&B$10&\"'!$12:$12\"),INDIRECT(\"'Curves \"&B$10&\"'!$14:$163\"),,0,1),,0,1)","v":3.247437397155295E-2},{"$f":"_xlfn.XLOOKUP($A50,INDIRECT(\"'Curves \"&C$10&\"'!$A$14:$A$163\"),_xlfn.XLOOKUP(C$11&$J$3,INDIRECT(\"'Curves \"&C$10&\"'!$11:$11\")&INDIRECT(\"'Curves \"&C$10&\"'!$12:$12\"),INDIRECT(\"'Curves \"&C$10&\"'!$14:$163\"),,0,1),,0,1)","v":4.3469392288924213E-2},{"$f":"_xlfn.XLOOKUP($A50,INDIRECT(\"'Curves \"&D$10&\"'!$A$14:$A$163\"),_xlfn.XLOOKUP(D$11&$J$3,INDIRECT(\"'Curves \"&D$10&\"'!$11:$11\")&INDIRECT(\"'Curves \"&D$10&\"'!$12:$12\"),INDIRECT(\"'Curves \"&D$10&\"'!$14:$163\"),,0,1),,0,1)","v":1.6295535121171545E-2},null,{"$f":"_xlfn.XLOOKUP($A50,INDIRECT(\"'Curves \"&F$10&\"'!$A$14:$A$163\"),_xlfn.XLOOKUP(F$11&$J$3,INDIRECT(\"'Curves \"&F$10&\"'!$11:$11\")&INDIRECT(\"'Curves \"&F$10&\"'!$12:$12\"),INDIRECT(\"'Curves \"&F$10&\"'!$14:$163\"),,0,1),,0,1)","v":3.4323412056012748E-2},{"$f":"_xlfn.XLOOKUP($A50,INDIRECT(\"'Curves \"&G$10&\"'!$A$14:$A$163\"),_xlfn.XLOOKUP(G$11&$J$3,INDIRECT(\"'Curves \"&G$10&\"'!$11:$11\")&INDIRECT(\"'Curves \"&G$10&\"'!$12:$12\"),INDIRECT(\"'Curves \"&G$10&\"'!$14:$163\"),,0,1),,0,1)","v":4.5338121135809484E-2},{"$f":"_xlfn.XLOOKUP($A50,INDIRECT(\"'Curves \"&H$10&\"'!$A$14:$A$163\"),_xlfn.XLOOKUP(H$11&$J$3,INDIRECT(\"'Curves \"&H$10&\"'!$11:$11\")&INDIRECT(\"'Curves \"&H$10&\"'!$12:$12\"),INDIRECT(\"'Curves \"&H$10&\"'!$14:$163\"),,0,1),,0,1)","v":1.8115598840793945E-2}]
[39,{"$f":"_xlfn.XLOOKUP($A51,INDIRECT(\"'Curves \"&B$10&\"'!$A$14:$A$163\"),_xlfn.XLOOKUP(B$11&$J$3,INDIRECT(\"'Curves \"&B$10&\"'!$11:$11\")&INDIRECT(\"'Curves \"&B$10&\"'!$12:$12\"),INDIRECT(\"'Curves \"&B$10&\"'!$14:$163\"),,0,1),,0,1)","v":3.2487085094986545E-2},{"$f":"_xlfn.XLOOKUP($A51,INDIRECT(\"'Curves \"&C$10&\"'!$A$14:$A$163\"),_xlfn.XLOOKUP(C$11&$J$3,INDIRECT(\"'Curves \"&C$10&\"'!$11:$11\")&INDIRECT(\"'Curves \"&C$10&\"'!$12:$12\"),INDIRECT(\"'Curves \"&C$10&\"'!$14:$163\"),,0,1),,0,1)","v":4.3261345827524389E-2},{"$f":"_xlfn.XLOOKUP($A51,INDIRECT(\"'Curves \"&D$10&\"'!$A$14:$A$163\"),_xlfn.XLOOKUP(D$11&$J$3,INDIRECT(\"'Curves \"&D$10&\"'!$11:$11\")&INDIRECT(\"'Curves \"&D$10&\"'!$12:$12\"),INDIRECT(\"'Curves \"&D$10&\"'!$14:$163\"),,0,1),,0,1)","v":1.6611371235184302E-2},null,{"$f":"_xlfn.XLOOKUP($A51,INDIRECT(\"'Curves \"&F$10&\"'!$A$14:$A$163\"),_xlfn.XLOOKUP(F$11&$J$3,INDIRECT(\"'Curves \"&F$10&\"'!$11:$11\")&INDIRECT(\"'Curves \"&F$10&\"'!$12:$12\"),INDIRECT(\"'Curves \"&F$10&\"'!$14:$163\"),,0,1),,0,1)","v":3.4292137457313743E-2},{"$f":"_xlfn.XLOOKUP($A51,INDIRECT(\"'Curves \"&G$10&\"'!$A$14:$A$163\"),_xlfn.XLOOKUP(G$11&$J$3,INDIRECT(\"'Curves \"&G$10&\"'!$11:$11\")&INDIRECT(\"'Curves \"&G$10&\"'!$12:$12\"),INDIRECT(\"'Curves \"&G$10&\"'!$14:$163\"),,0,1),,0,1)","v":4.5085234362301829E-2},{"$f":"_xlfn.XLOOKUP($A51,INDIRECT(\"'Curves \"&H$10&\"'!$A$14:$A$163\"),_xlfn.XLOOKUP(H$11&$J$3,INDIRECT(\"'Curves \"&H$10&\"'!$11:$11\")&INDIRECT(\"'Curves \"&H$10&\"'!$12:$12\"),INDIRECT(\"'Curves \"&H$10&\"'!$14:$163\"),,0,1),,0,1)","v":1.838866877595513E-2}]
[40,{"$f":"_xlfn.XLOOKUP($A52,INDIRECT(\"'Curves \"&B$10&\"'!$A$14:$A$163\"),_xlfn.XLOOKUP(B$11&$J$3,INDIRECT(\"'Curves \"&B$10&\"'!$11:$11\")&INDIRECT(\"'Curves \"&B$10&\"'!$12:$12\"),INDIRECT(\"'Curves \"&B$10&\"'!$14:$163\"),,0,1),,0,1)","v":3.2499238312410528E-2},{"$f":"_xlfn.XLOOKUP($A52,INDIRECT(\"'Curves \"&C$10&\"'!$A$14:$A$163\"),_xlfn.XLOOKUP(C$11&$J$3,INDIRECT(\"'Curves \"&C$10&\"'!$11:$11\")&INDIRECT(\"'Curves \"&C$10&\"'!$12:$12\"),INDIRECT(\"'Curves \"&C$10&\"'!$14:$163\"),,0,1),,0,1)","v":4.3061414100711071E-2},{"$f":"_xlfn.XLOOKUP($A52,INDIRECT(\"'Curves \"&D$10&\"'!$A$14:$A$163\"),_xlfn.XLOOKUP(D$11&$J$3,INDIRECT(\"'Curves \"&D$10&\"'!$11:$11\")&INDIRECT(\"'Curves \"&D$10&\"'!$12:$12\"),INDIRECT(\"'Curves \"&D$10&\"'!$14:$163\"),,0,1),,0,1)","v":1.6918740385366782E-2},null,{"$f":"_xlfn.XLOOKUP($A52,INDIRECT(\"'Curves \"&F$10&\"'!$A$14:$A$163\"),_xlfn.XLOOKUP(F$11&$J$3,INDIRECT(\"'Curves \"&F$10&\"'!$11:$11\")&INDIRECT(\"'Curves \"&F$10&\"'!$12:$12\"),INDIRECT(\"'Curves \"&F$10&\"'!$14:$163\"),,0,1),,0,1)","v":3.4262155264823235E-2},{"$f":"_xlfn.XLOOKUP($A52,INDIRECT(\"'Curves \"&G$10&\"'!$A$14:$A$163\"),_xlfn.XLOOKUP(G$11&$J$3,INDIRECT(\"'Curves \"&G$10&\"'!$11:$11\")&INDIRECT(\"'Curves \"&G$10&\"'!$12:$12\"),INDIRECT(\"'Curves \"&G$10&\"'!$14:$163\"),,0,1),,0,1)","v":4.4842365195969069E-2},{"$f":"_xlfn.XLOOKUP($A52,INDIRECT(\"'Curves \"&H$10&\"'!$A$14:$A$163\"),_xlfn.XLOOKUP(H$11&$J$3,INDIRECT(\"'Curves \"&H$10&\"'!$11:$11\")&INDIRECT(\"'Curves \"&H$10&\"'!$12:$12\"),INDIRECT(\"'Curves \"&H$10&\"'!$14:$163\"),,0,1),,0,1)","v":1.8655054776825164E-2}]
[41,{"$f":"_xlfn.XLOOKUP($A53,INDIRECT(\"'Curves \"&B$10&\"'!$A$14:$A$163\"),_xlfn.XLOOKUP(B$11&$J$3,INDIRECT(\"'Curves \"&B$10&\"'!$11:$11\")&INDIRECT(\"'Curves \"&B$10&\"'!$12:$12\"),INDIRECT(\"'Curves \"&B$10&\"'!$14:$163\"),,0,1),,0,1)","v":3.2510866561835217E-2},{"$f":"_xlfn.XLOOKUP($A53,INDIRECT(\"'Curves \"&C$10&\"'!$A$14:$A$163\"),_xlfn.XLOOKUP(C$11&$J$3,INDIRECT(\"'Curves \"&C$10&\"'!$11:$11\")&INDIRECT(\"'Curves \"&C$10&\"'!$12:$12\"),INDIRECT(\"'Curves \"&C$10&\"'!$14:$163\"),,0,1),,0,1)","v":4.2869238176734381E-2},{"$f":"_xlfn.XLOOKUP($A53,INDIRECT(\"'Curves \"&D$10&\"'!$A$14:$A$163\"),_xlfn.XLOOKUP(D$11&$J$3,INDIRECT(\"'Curves \"&D$10&\"'!$11:$11\")&INDIRECT(\"'Curves \"&D$10&\"'!$12:$12\"),INDIRECT(\"'Curves \"&D$10&\"'!$14:$163\"),,0,1),,0,1)","v":1.7217526362422131E-2},null,{"$f":"_xlfn.XLOOKUP($A53,INDIRECT(\"'Curves \"&F$10&\"'!$A$14:$A$163\"),_xlfn.XLOOKUP(F$11&$J$3,INDIRECT(\"'Curves \"&F$10&\"'!$11:$11\")&INDIRECT(\"'Curves \"&F$10&\"'!$12:$12\"),INDIRECT(\"'Curves \"&F$10&\"'!$14:$163\"),,0,1),,0,1)","v":3.4233398533231707E-2},{"$f":"_xlfn.XLOOKUP($A53,INDIRECT(\"'Curves \"&G$10&\"'!$A$14:$A$163\"),_xlfn.XLOOKUP(G$11&$J$3,INDIRECT(\"'Curves \"&G$10&\"'!$11:$11\")&INDIRECT(\"'Curves \"&G$10&\"'!$12:$12\"),INDIRECT(\"'Curves \"&G$10&\"'!$14:$163\"),,0,1),,0,1)","v":4.4609050960232821E-2},{"$f":"_xlfn.XLOOKUP($A53,INDIRECT(\"'Curves \"&H$10&\"'!$A$14:$A$163\"),_xlfn.XLOOKUP(H$11&$J$3,INDIRECT(\"'Curves \"&H$10&\"'!$11:$11\")&INDIRECT(\"'Curves \"&H$10&\"'!$12:$12\"),INDIRECT(\"'Curves \"&H$10&\"'!$14:$163\"),,0,1),,0,1)","v":1.8914544541861478E-2}]
[42,{"$f":"_xlfn.XLOOKUP($A54,INDIRECT(\"'Curves \"&B$10&\"'!$A$14:$A$163\"),_xlfn.XLOOKUP(B$11&$J$3,INDIRECT(\"'Curves \"&B$10&\"'!$11:$11\")&INDIRECT(\"'Curves \"&B$10&\"'!$12:$12\"),INDIRECT(\"'Curves \"&B$10&\"'!$14:$163\"),,0,1),,0,1)","v":3.2522000445671884E-2},{"$f":"_xlfn.XLOOKUP($A54,INDIRECT(\"'Curves \"&C$10&\"'!$A$14:$A$163\"),_xlfn.XLOOKUP(C$11&$J$3,INDIRECT(\"'Curves \"&C$10&\"'!$11:$11\")&INDIRECT(\"'Curves \"&C$10&\"'!$12:$12\"),INDIRECT(\"'Curves \"&C$10&\"'!$14:$163\"),,0,1),,0,1)","v":4.2684469270654057E-2},{"$f":"_xlfn.XLOOKUP($A54,INDIRECT(\"'Curves \"&D$10&\"'!$A$14:$A$163\"),_xlfn.XLOOKUP(D$11&$J$3,INDIRECT(\"'Curves \"&D$10&\"'!$11:$11\")&INDIRECT(\"'Curves \"&D$10&\"'!$12:$12\"),INDIRECT(\"'Curves \"&D$10&\"'!$14:$163\"),,0,1),,0,1)","v":1.7507698176400188E-2},null,{"$f":"_xlfn.XLOOKUP($A54,INDIRECT(\"'Curves \"&F$10&\"'!$A$14:$A$163\"),_xlfn.XLOOKUP(F$11&$J$3,INDIRECT(\"'Curves \"&F$10&\"'!$11:$11\")&INDIRECT(\"'Curves \"&F$10&\"'!$12:$12\"),INDIRECT(\"'Curves \"&F$10&\"'!$14:$163\"),,0,1),,0,1)","v":3.4205803881343311E-2},{"$f":"_xlfn.XLOOKUP($A54,INDIRECT(\"'Curves \"&G$10&\"'!$A$14:$A$163\"),_xlfn.XLOOKUP(G$11&$J$3,INDIRECT(\"'Curves \"&G$10&\"'!$11:$11\")&INDIRECT(\"'Curves \"&G$10&\"'!$12:$12\"),INDIRECT(\"'Curves \"&G$10&\"'!$14:$163\"),,0,1),,0,1)","v":4.4384845331330025E-2},{"$f":"_xlfn.XLOOKUP($A54,INDIRECT(\"'Curves \"&H$10&\"'!$A$14:$A$163\"),_xlfn.XLOOKUP(H$11&$J$3,INDIRECT(\"'Curves \"&H$10&\"'!$11:$11\")&INDIRECT(\"'Curves \"&H$10&\"'!$12:$12\"),INDIRECT(\"'Curves \"&H$10&\"'!$14:$163\"),,0,1),,0,1)","v":1.9167016774233492E-2}]
[43,{"$f":"_xlfn.XLOOKUP($A55,INDIRECT(\"'Curves \"&B$10&\"'!$A$14:$A$163\"),_xlfn.XLOOKUP(B$11&$J$3,INDIRECT(\"'Curves \"&B$10&\"'!$11:$11\")&INDIRECT(\"'Curves \"&B$10&\"'!$12:$12\"),INDIRECT(\"'Curves \"&B$10&\"'!$14:$163\"),,0,1),,0,1)","v":3.253266842081004E-2},{"$f":"_xlfn.XLOOKUP($A55,INDIRECT(\"'Curves \"&C$10&\"'!$A$14:$A$163\"),_xlfn.XLOOKUP(C$11&$J$3,INDIRECT(\"'Curves \"&C$10&\"'!$11:$11\")&INDIRECT(\"'Curves \"&C$10&\"'!$12:$12\"),INDIRECT(\"'Curves \"&C$10&\"'!$14:$163\"),,0,1),,0,1)","v":4.2506770025878993E-2},{"$f":"_xlfn.XLOOKUP($A55,INDIRECT(\"'Curves \"&D$10&\"'!$A$14:$A$163\"),_xlfn.XLOOKUP(D$11&$J$3,INDIRECT(\"'Curves \"&D$10&\"'!$11:$11\")&INDIRECT(\"'Curves \"&D$10&\"'!$12:$12\"),INDIRECT(\"'Curves \"&D$10&\"'!$14:$163\"),,0,1),,0,1)","v":1.7789292669960544E-2},null,{"$f":"_xlfn.XLOOKUP($A55,INDIRECT(\"'Curves \"&F$10&\"'!$A$14:$A$163\"),_xlfn.XLOOKUP(F$11&$J$3,INDIRECT(\"'Curves \"&F$10&\"'!$11:$11\")&INDIRECT(\"'Curves \"&F$10&\"'!$12:$12\"),INDIRECT(\"'Curves \"&F$10&\"'!$14:$163\"),,0,1),,0,1)","v":3.4179311363985887E-2},{"$f":"_xlfn.XLOOKUP($A55,INDIRECT(\"'Curves \"&G$10&\"'!$A$14:$A$163\"),_xlfn.XLOOKUP(G$11&$J$3,INDIRECT(\"'Curves \"&G$10&\"'!$11:$11\")&INDIRECT(\"'Curves \"&G$10&\"'!$12:$12\"),INDIRECT(\"'Curves \"&G$10&\"'!$14:$163\"),,0,1),,0,1)","v":4.4169319278390073E-2},{"$f":"_xlfn.XLOOKUP($A55,INDIRECT(\"'Curves \"&H$10&\"'!$A$14:$A$163\"),_xlfn.XLOOKUP(H$11&$J$3,INDIRECT(\"'Curves \"&H$10&\"'!$11:$11\")&INDIRECT(\"'Curves \"&H$10&\"'!$12:$12\"),INDIRECT(\"'Curves \"&H$10&\"'!$14:$163\"),,0,1),,0,1)","v":1.9412423450876348E-2}]
[44,{"$f":"_xlfn.XLOOKUP($A56,INDIRECT(\"'Curves \"&B$10&\"'!$A$14:$A$163\"),_xlfn.XLOOKUP(B$11&$J$3,INDIRECT(\"'Curves \"&B$10&\"'!$11:$11\")&INDIRECT(\"'Curves \"&B$10&\"'!$12:$12\"),INDIRECT(\"'Curves \"&B$10&\"'!$14:$163\"),,0,1),,0,1)","v":3.2542896971071711E-2},{"$f":"_xlfn.XLOOKUP($A56,INDIRECT(\"'Curves \"&C$10&\"'!$A$14:$A$163\"),_xlfn.XLOOKUP(C$11&$J$3,INDIRECT(\"'Curves \"&C$10&\"'!$11:$11\")&INDIRECT(\"'Curves \"&C$10&\"'!$12:$12\"),INDIRECT(\"'Curves \"&C$10&\"'!$14:$163\"),,0,1),,0,1)","v":4.2335815368420127E-2},{"$f":"_xlfn.XLOOKUP($A56,INDIRECT(\"'Curves \"&D$10&\"'!$A$14:$A$163\"),_xlfn.XLOOKUP(D$11&$J$3,INDIRECT(\"'Curves \"&D$10&\"'!$11:$11\")&INDIRECT(\"'Curves \"&D$10&\"'!$12:$12\"),INDIRECT(\"'Curves \"&D$10&\"'!$14:$163\"),,0,1),,0,1)","v":1.8062400256712685E-2},null,{"$f":"_xlfn.XLOOKUP($A56,INDIRECT(\"'Curves \"&F$10&\"'!$A$14:$A$163\"),_xlfn.XLOOKUP(F$11&$J$3,INDIRECT(\"'Curves \"&F$10&\"'!$11:$11\")&INDIRECT(\"'Curves \"&F$10&\"'!$12:$12\"),INDIRECT(\"'Curves \"&F$10&\"'!$14:$163\"),,0,1),,0,1)","v":3.4153864332206574E-2},{"$f":"_xlfn.XLOOKUP($A56,INDIRECT(\"'Curves \"&G$10&\"'!$A$14:$A$163\"),_xlfn.XLOOKUP(G$11&$J$3,INDIRECT(\"'Curves \"&G$10&\"'!$11:$11\")&INDIRECT(\"'Curves \"&G$10&\"'!$12:$12\"),INDIRECT(\"'Curves \"&G$10&\"'!$14:$163\"),,0,1),,0,1)","v":4.3962061583300072E-2},{"$f":"_xlfn.XLOOKUP($A56,INDIRECT(\"'Curves \"&H$10&\"'!$A$14:$A$163\"),_xlfn.XLOOKUP(H$11&$J$3,INDIRECT(\"'Curves \"&H$10&\"'!$11:$11\")&INDIRECT(\"'Curves \"&H$10&\"'!$12:$12\"),INDIRECT(\"'Curves \"&H$10&\"'!$14:$163\"),,0,1),,0,1)","v":1.9650775231954132E-2}]
[45,{"$f":"_xlfn.XLOOKUP($A57,INDIRECT(\"'Curves \"&B$10&\"'!$A$14:$A$163\"),_xlfn.XLOOKUP(B$11&$J$3,INDIRECT(\"'Curves \"&B$10&\"'!$11:$11\")&INDIRECT(\"'Curves \"&B$10&\"'!$12:$12\"),INDIRECT(\"'Curves \"&B$10&\"'!$14:$163\"),,0,1),,0,1)","v":3.2552710763935178E-2},{"$f":"_xlfn.XLOOKUP($A57,INDIRECT(\"'Curves \"&C$10&\"'!$A$14:$A$163\"),_xlfn.XLOOKUP(C$11&$J$3,INDIRECT(\"'Curves \"&C$10&\"'!$11:$11\")&INDIRECT(\"'Curves \"&C$10&\"'!$12:$12\"),INDIRECT(\"'Curves \"&C$10&\"'!$14:$163\"),,0,1),,0,1)","v":4.2171293026312506E-2},{"$f":"_xlfn.XLOOKUP($A57,INDIRECT(\"'Curves \"&D$10&\"'!$A$14:$A$163\"),_xlfn.XLOOKUP(D$11&$J$3,INDIRECT(\"'Curves \"&D$10&\"'!$11:$11\")&INDIRECT(\"'Curves \"&D$10&\"'!$12:$12\"),INDIRECT(\"'Curves \"&D$10&\"'!$14:$163\"),,0,1),,0,1)","v":1.8327153222262638E-2},null,{"$f":"_xlfn.XLOOKUP($A57,INDIRECT(\"'Curves \"&F$10&\"'!$A$14:$A$163\"),_xlfn.XLOOKUP(F$11&$J$3,INDIRECT(\"'Curves \"&F$10&\"'!$11:$11\")&INDIRECT(\"'Curves \"&F$10&\"'!$12:$12\"),INDIRECT(\"'Curves \"&F$10&\"'!$14:$163\"),,0,1),,0,1)","v":3.4129409286547396E-2},{"$f":"_xlfn.XLOOKUP($A57,INDIRECT(\"'Curves \"&G$10&\"'!$A$14:$A$163\"),_xlfn.XLOOKUP(G$11&$J$3,INDIRECT(\"'Curves \"&G$10&\"'!$11:$11\")&INDIRECT(\"'Curves \"&G$10&\"'!$12:$12\"),INDIRECT(\"'Curves \"&G$10&\"'!$14:$163\"),,0,1),,0,1)","v":4.3762679035853402E-2},{"$f":"_xlfn.XLOOKUP($A57,INDIRECT(\"'Curves \"&H$10&\"'!$A$14:$A$163\"),_xlfn.XLOOKUP(H$11&$J$3,INDIRECT(\"'Curves \"&H$10&\"'!$11:$11\")&INDIRECT(\"'Curves \"&H$10&\"'!$12:$12\"),INDIRECT(\"'Curves \"&H$10&\"'!$14:$163\"),,0,1),,0,1)","v":1.9882129448932639E-2}]
[46,{"$f":"_xlfn.XLOOKUP($A58,INDIRECT(\"'Curves \"&B$10&\"'!$A$14:$A$163\"),_xlfn.XLOOKUP(B$11&$J$3,INDIRECT(\"'Curves \"&B$10&\"'!$11:$11\")&INDIRECT(\"'Curves \"&B$10&\"'!$12:$12\"),INDIRECT(\"'Curves \"&B$10&\"'!$14:$163\"),,0,1),,0,1)","v":3.2562132793183318E-2},{"$f":"_xlfn.XLOOKUP($A58,INDIRECT(\"'Curves \"&C$10&\"'!$A$14:$A$163\"),_xlfn.XLOOKUP(C$11&$J$3,INDIRECT(\"'Curves \"&C$10&\"'!$11:$11\")&INDIRECT(\"'Curves \"&C$10&\"'!$12:$12\"),INDIRECT(\"'Curves \"&C$10&\"'!$14:$163\"),,0,1),,0,1)","v":4.2012903787901568E-2},{"$f":"_xlfn.XLOOKUP($A58,INDIRECT(\"'Curves \"&D$10&\"'!$A$14:$A$163\"),_xlfn.XLOOKUP(D$11&$J$3,INDIRECT(\"'Curves \"&D$10&\"'!$11:$11\")&INDIRECT(\"'Curves \"&D$10&\"'!$12:$12\"),INDIRECT(\"'Curves \"&D$10&\"'!$14:$163\"),,0,1),,0,1)","v":1.8583716131194583E-2},null,{"$f":"_xlfn.XLOOKUP($A58,INDIRECT(\"'Curves \"&F$10&\"'!$A$14:$A$163\"),_xlfn.XLOOKUP(F$11&$J$3,INDIRECT(\"'Curves \"&F$10&\"'!$11:$11\")&INDIRECT(\"'Curves \"&F$10&\"'!$12:$12\"),INDIRECT(\"'Curves \"&F$10&\"'!$14:$163\"),,0,1),,0,1)","v":3.4105895727067903E-2},{"$f":"_xlfn.XLOOKUP($A58,INDIRECT(\"'Curves \"&G$10&\"'!$A$14:$A$163\"),_xlfn.XLOOKUP(G$11&$J$3,INDIRECT(\"'Curves \"&G$10&\"'!$11:$11\")&INDIRECT(\"'Curves \"&G$10&\"'!$12:$12\"),INDIRECT(\"'Curves \"&G$10&\"'!$14:$163\"),,0,1),,0,1)","v":4.3570796379939214E-2},{"$f":"_xlfn.XLOOKUP($A58,INDIRECT(\"'Curves \"&H$10&\"'!$A$14:$A$163\"),_xlfn.XLOOKUP(H$11&$J$3,INDIRECT(\"'Curves \"&H$10&\"'!$11:$11\")&INDIRECT(\"'Curves \"&H$10&\"'!$12:$12\"),INDIRECT(\"'Curves \"&H$10&\"'!$14:$163\"),,0,1),,0,1)","v":2.0106580214703129E-2}]
[47,{"$f":"_xlfn.XLOOKUP($A59,INDIRECT(\"'Curves \"&B$10&\"'!$A$14:$A$163\"),_xlfn.XLOOKUP(B$11&$J$3,INDIRECT(\"'Curves \"&B$10&\"'!$11:$11\")&INDIRECT(\"'Curves \"&B$10&\"'!$12:$12\"),INDIRECT(\"'Curves \"&B$10&\"'!$14:$163\"),,0,1),,0,1)","v":3.2571184508925155E-2},{"$f":"_xlfn.XLOOKUP($A59,INDIRECT(\"'Curves \"&C$10&\"'!$A$14:$A$163\"),_xlfn.XLOOKUP(C$11&$J$3,INDIRECT(\"'Curves \"&C$10&\"'!$11:$11\")&INDIRECT(\"'Curves \"&C$10&\"'!$12:$12\"),INDIRECT(\"'Curves \"&C$10&\"'!$14:$163\"),,0,1),,0,1)","v":4.186036155778794E-2},{"$f":"_xlfn.XLOOKUP($A59,INDIRECT(\"'Curves \"&D$10&\"'!$A$14:$A$163\"),_xlfn.XLOOKUP(D$11&$J$3,INDIRECT(\"'Curves \"&D$10&\"'!$11:$11\")&INDIRECT(\"'Curves \"&D$10&\"'!$12:$12\"),INDIRECT(\"'Curves \"&D$10&\"'!$14:$163\"),,0,1),,0,1)","v":1.8832277967770317E-2},null,{"$f":"_xlfn.XLOOKUP($A59,INDIRECT(\"'Curves \"&F$10&\"'!$A$14:$A$163\"),_xlfn.XLOOKUP(F$11&$J$3,INDIRECT(\"'Curves \"&F$10&\"'!$11:$11\")&INDIRECT(\"'Curves \"&F$10&\"'!$12:$12\"),INDIRECT(\"'Curves \"&F$10&\"'!$14:$163\"),,0,1),,0,1)","v":3.4083276002881968E-2},{"$f":"_xlfn.XLOOKUP($A59,INDIRECT(\"'Curves \"&G$10&\"'!$A$14:$A$163\"),_xlfn.XLOOKUP(G$11&$J$3,INDIRECT(\"'Curves \"&G$10&\"'!$11:$11\")&INDIRECT(\"'Curves \"&G$10&\"'!$12:$12\"),INDIRECT(\"'Curves \"&G$10&\"'!$14:$163\"),,0,1),,0,1)","v":4.3386056070899404E-2},{"$f":"_xlfn.XLOOKUP($A59,INDIRECT(\"'Curves \"&H$10&\"'!$A$14:$A$163\"),_xlfn.XLOOKUP(H$11&$J$3,INDIRECT(\"'Curves \"&H$10&\"'!$11:$11\")&INDIRECT(\"'Curves \"&H$10&\"'!$12:$12\"),INDIRECT(\"'Curves \"&H$10&\"'!$14:$163\"),,0,1),,0,1)","v":2.0324250283476841E-2}]
[48,{"$f":"_xlfn.XLOOKUP($A60,INDIRECT(\"'Curves \"&B$10&\"'!$A$14:$A$163\"),_xlfn.XLOOKUP(B$11&$J$3,INDIRECT(\"'Curves \"&B$10&\"'!$11:$11\")&INDIRECT(\"'Curves \"&B$10&\"'!$12:$12\"),INDIRECT(\"'Curves \"&B$10&\"'!$14:$163\"),,0,1),,0,1)","v":3.2579885936261599E-2},{"$f":"_xlfn.XLOOKUP($A60,INDIRECT(\"'Curves \"&C$10&\"'!$A$14:$A$163\"),_xlfn.XLOOKUP(C$11&$J$3,INDIRECT(\"'Curves \"&C$10&\"'!$11:$11\")&INDIRECT(\"'Curves \"&C$10&\"'!$12:$12\"),INDIRECT(\"'Curves \"&C$10&\"'!$14:$163\"),,0,1),,0,1)","v":4.171339325737411E-2},{"$f":"_xlfn.XLOOKUP($A60,INDIRECT(\"'Curves \"&D$10&\"'!$A$14:$A$163\"),_xlfn.XLOOKUP(D$11&$J$3,INDIRECT(\"'Curves \"&D$10&\"'!$11:$11\")&INDIRECT(\"'Curves \"&D$10&\"'!$12:$12\"),INDIRECT(\"'Curves \"&D$10&\"'!$14:$163\"),,0,1),,0,1)","v":1.9073045706107017E-2},null,{"$f":"_xlfn.XLOOKUP($A60,INDIRECT(\"'Curves \"&F$10&\"'!$A$14:$A$163\"),_xlfn.XLOOKUP(F$11&$J$3,INDIRECT(\"'Curves \"&F$10&\"'!$11:$11\")&INDIRECT(\"'Curves \"&F$10&\"'!$12:$12\"),INDIRECT(\"'Curves \"&F$10&\"'!$14:$163\"),,0,1),,0,1)","v":3.406150516328621E-2},{"$f":"_xlfn.XLOOKUP($A60,INDIRECT(\"'Curves \"&G$10&\"'!$A$14:$A$163\"),_xlfn.XLOOKUP(G$11&$J$3,INDIRECT(\"'Curves \"&G$10&\"'!$11:$11\")&INDIRECT(\"'Curves \"&G$10&\"'!$12:$12\"),INDIRECT(\"'Curves \"&G$10&\"'!$14:$163\"),,0,1),,0,1)","v":4.3208117891778475E-2},{"$f":"_xlfn.XLOOKUP($A60,INDIRECT(\"'Curves \"&H$10&\"'!$A$14:$A$163\"),_xlfn.XLOOKUP(H$11&$J$3,INDIRECT(\"'Curves \"&H$10&\"'!$11:$11\")&INDIRECT(\"'Curves \"&H$10&\"'!$12:$12\"),INDIRECT(\"'Curves \"&H$10&\"'!$14:$163\"),,0,1),,0,1)","v":2.0535284355944539E-2}]
[49,{"$f":"_xlfn.XLOOKUP($A61,INDIRECT(\"'Curves \"&B$10&\"'!$A$14:$A$163\"),_xlfn.XLOOKUP(B$11&$J$3,INDIRECT(\"'Curves \"&B$10&\"'!$11:$11\")&INDIRECT(\"'Curves \"&B$10&\"'!$12:$12\"),INDIRECT(\"'Curves \"&B$10&\"'!$14:$163\"),,0,1),,0,1)","v":3.2588255783718489E-2},{"$f":"_xlfn.XLOOKUP($A61,INDIRECT(\"'Curves \"&C$10&\"'!$A$14:$A$163\"),_xlfn.XLOOKUP(C$11&$J$3,INDIRECT(\"'Curves \"&C$10&\"'!$11:$11\")&INDIRECT(\"'Curves \"&C$10&\"'!$12:$12\"),INDIRECT(\"'Curves \"&C$10&\"'!$14:$163\"),,0,1),,0,1)","v":4.1571738607487196E-2},{"$f":"_xlfn.XLOOKUP($A61,INDIRECT(\"'Curves \"&D$10&\"'!$A$14:$A$163\"),_xlfn.XLOOKUP(D$11&$J$3,INDIRECT(\"'Curves \"&D$10&\"'!$11:$11\")&INDIRECT(\"'Curves \"&D$10&\"'!$12:$12\"),INDIRECT(\"'Curves \"&D$10&\"'!$14:$163\"),,0,1),,0,1)","v":1.930623906048079E-2},null,{"$f":"_xlfn.XLOOKUP($A61,INDIRECT(\"'Curves \"&F$10&\"'!$A$14:$A$163\"),_xlfn.XLOOKUP(F$11&$J$3,INDIRECT(\"'Curves \"&F$10&\"'!$11:$11\")&INDIRECT(\"'Curves \"&F$10&\"'!$12:$12\"),INDIRECT(\"'Curves \"&F$10&\"'!$14:$163\"),,0,1),,0,1)","v":3.4040540812010134E-2},{"$f":"_xlfn.XLOOKUP($A61,INDIRECT(\"'Curves \"&G$10&\"'!$A$14:$A$163\"),_xlfn.XLOOKUP(G$11&$J$3,INDIRECT(\"'Curves \"&G$10&\"'!$11:$11\")&INDIRECT(\"'Curves \"&G$10&\"'!$12:$12\"),INDIRECT(\"'Curves \"&G$10&\"'!$14:$163\"),,0,1),,0,1)","v":4.3036658466297117E-2},{"$f":"_xlfn.XLOOKUP($A61,INDIRECT(\"'Curves \"&H$10&\"'!$A$14:$A$163\"),_xlfn.XLOOKUP(H$11&$J$3,INDIRECT(\"'Curves \"&H$10&\"'!$11:$11\")&INDIRECT(\"'Curves \"&H$10&\"'!$12:$12\"),INDIRECT(\"'Curves \"&H$10&\"'!$14:$163\"),,0,1),,0,1)","v":2.0739843579939743E-2}]
[50,{"$f":"_xlfn.XLOOKUP($A62,INDIRECT(\"'Curves \"&B$10&\"'!$A$14:$A$163\"),_xlfn.XLOOKUP(B$11&$J$3,INDIRECT(\"'Curves \"&B$10&\"'!$11:$11\")&INDIRECT(\"'Curves \"&B$10&\"'!$12:$12\"),INDIRECT(\"'Curves \"&B$10&\"'!$14:$163\"),,0,1),,0,1)","v":3.2596311542440803E-2},{"$f":"_xlfn.XLOOKUP($A62,INDIRECT(\"'Curves \"&C$10&\"'!$A$14:$A$163\"),_xlfn.XLOOKUP(C$11&$J$3,INDIRECT(\"'Curves \"&C$10&\"'!$11:$11\")&INDIRECT(\"'Curves \"&C$10&\"'!$12:$12\"),INDIRECT(\"'Curves \"&C$10&\"'!$14:$163\"),,0,1),,0,1)","v":4.1435149822979467E-2},{"$f":"_xlfn.XLOOKUP($A62,INDIRECT(\"'Curves \"&D$10&\"'!$A$14:$A$163\"),_xlfn.XLOOKUP(D$11&$J$3,INDIRECT(\"'Curves \"&D$10&\"'!$11:$11\")&INDIRECT(\"'Curves \"&D$10&\"'!$12:$12\"),INDIRECT(\"'Curves \"&D$10&\"'!$14:$163\"),,0,1),,0,1)","v":1.9532086210866995E-2},null,{"$f":"_xlfn.XLOOKUP($A62,INDIRECT(\"'Curves \"&F$10&\"'!$A$14:$A$163\"),_xlfn.XLOOKUP(F$11&$J$3,INDIRECT(\"'Curves \"&F$10&\"'!$11:$11\")&INDIRECT(\"'Curves \"&F$10&\"'!$12:$12\"),INDIRECT(\"'Curves \"&F$10&\"'!$14:$163\"),,0,1),,0,1)","v":3.402034296569667E-2},{"$f":"_xlfn.XLOOKUP($A62,INDIRECT(\"'Curves \"&G$10&\"'!$A$14:$A$163\"),_xlfn.XLOOKUP(G$11&$J$3,INDIRECT(\"'Curves \"&G$10&\"'!$11:$11\")&INDIRECT(\"'Curves \"&G$10&\"'!$12:$12\"),INDIRECT(\"'Curves \"&G$10&\"'!$14:$163\"),,0,1),,0,1)","v":4.2871370698507993E-2},{"$f":"_xlfn.XLOOKUP($A62,INDIRECT(\"'Curves \"&H$10&\"'!$A$14:$A$163\"),_xlfn.XLOOKUP(H$11&$J$3,INDIRECT(\"'Curves \"&H$10&\"'!$11:$11\")&INDIRECT(\"'Curves \"&H$10&\"'!$12:$12\"),INDIRECT(\"'Curves \"&H$10&\"'!$14:$163\"),,0,1),,0,1)","v":2.093810104120597E-2}]
[51,{"$f":"_xlfn.XLOOKUP($A63,INDIRECT(\"'Curves \"&B$10&\"'!$A$14:$A$163\"),_xlfn.XLOOKUP(B$11&$J$3,INDIRECT(\"'Curves \"&B$10&\"'!$11:$11\")&INDIRECT(\"'Curves \"&B$10&\"'!$12:$12\"),INDIRECT(\"'Curves \"&B$10&\"'!$14:$163\"),,0,1),,0,1)","v":3.2604069577032213E-2},{"$f":"_xlfn.XLOOKUP($A63,INDIRECT(\"'Curves \"&C$10&\"'!$A$14:$A$163\"),_xlfn.XLOOKUP(C$11&$J$3,INDIRECT(\"'Curves \"&C$10&\"'!$11:$11\")&INDIRECT(\"'Curves \"&C$10&\"'!$12:$12\"),INDIRECT(\"'Curves \"&C$10&\"'!$14:$163\"),,0,1),,0,1)","v":4.1303391243135756E-2},{"$f":"_xlfn.XLOOKUP($A63,INDIRECT(\"'Curves \"&D$10&\"'!$A$14:$A$163\"),_xlfn.XLOOKUP(D$11&$J$3,INDIRECT(\"'Curves \"&D$10&\"'!$11:$11\")&INDIRECT(\"'Curves \"&D$10&\"'!$12:$12\"),INDIRECT(\"'Curves \"&D$10&\"'!$14:$163\"),,0,1),,0,1)","v":1.9750820334975883E-2},null,{"$f":"_xlfn.XLOOKUP($A63,INDIRECT(\"'Curves \"&F$10&\"'!$A$14:$A$163\"),_xlfn.XLOOKUP(F$11&$J$3,INDIRECT(\"'Curves \"&F$10&\"'!$11:$11\")&INDIRECT(\"'Curves \"&F$10&\"'!$12:$12\"),INDIRECT(\"'Curves \"&F$10&\"'!$14:$163\"),,0,1),,0,1)","v":3.4000873917387375E-2},{"$f":"_xlfn.XLOOKUP($A63,INDIRECT(\"'Curves \"&G$10&\"'!$A$14:$A$163\"),_xlfn.XLOOKUP(G$11&$J$3,INDIRECT(\"'Curves \"&G$10&\"'!$11:$11\")&INDIRECT(\"'Curves \"&G$10&\"'!$12:$12\"),INDIRECT(\"'Curves \"&G$10&\"'!$14:$163\"),,0,1),,0,1)","v":4.2711963162778366E-2},{"$f":"_xlfn.XLOOKUP($A63,INDIRECT(\"'Curves \"&H$10&\"'!$A$14:$A$163\"),_xlfn.XLOOKUP(H$11&$J$3,INDIRECT(\"'Curves \"&H$10&\"'!$11:$11\")&INDIRECT(\"'Curves \"&H$10&\"'!$12:$12\"),INDIRECT(\"'Curves \"&H$10&\"'!$14:$163\"),,0,1),,0,1)","v":2.1130238074931196E-2}]
[52,{"$f":"_xlfn.XLOOKUP($A64,INDIRECT(\"'Curves \"&B$10&\"'!$A$14:$A$163\"),_xlfn.XLOOKUP(B$11&$J$3,INDIRECT(\"'Curves \"&B$10&\"'!$11:$11\")&INDIRECT(\"'Curves \"&B$10&\"'!$12:$12\"),INDIRECT(\"'Curves \"&B$10&\"'!$14:$163\"),,0,1),,0,1)","v":3.2611545208822701E-2},{"$f":"_xlfn.XLOOKUP($A64,INDIRECT(\"'Curves \"&C$10&\"'!$A$14:$A$163\"),_xlfn.XLOOKUP(C$11&$J$3,INDIRECT(\"'Curves \"&C$10&\"'!$11:$11\")&INDIRECT(\"'Curves \"&C$10&\"'!$12:$12\"),INDIRECT(\"'Curves \"&C$10&\"'!$14:$163\"),,0,1),,0,1)","v":4.1176238916832864E-2},{"$f":"_xlfn.XLOOKUP($A64,INDIRECT(\"'Curves \"&D$10&\"'!$A$14:$A$163\"),_xlfn.XLOOKUP(D$11&$J$3,INDIRECT(\"'Curves \"&D$10&\"'!$11:$11\")&INDIRECT(\"'Curves \"&D$10&\"'!$12:$12\"),INDIRECT(\"'Curves \"&D$10&\"'!$14:$163\"),,0,1),,0,1)","v":1.996267680753383E-2},null,{"$f":"_xlfn.XLOOKUP($A64,INDIRECT(\"'Curves \"&F$10&\"'!$A$14:$A$163\"),_xlfn.XLOOKUP(F$11&$J$3,INDIRECT(\"'Curves \"&F$10&\"'!$11:$11\")&INDIRECT(\"'Curves \"&F$10&\"'!$12:$12\"),INDIRECT(\"'Curves \"&F$10&\"'!$14:$163\"),,0,1),,0,1)","v":3.3982098105529657E-2},{"$f":"_xlfn.XLOOKUP($A64,INDIRECT(\"'Curves \"&G$10&\"'!$A$14:$A$163\"),_xlfn.XLOOKUP(G$11&$J$3,INDIRECT(\"'Curves \"&G$10&\"'!$11:$11\")&INDIRECT(\"'Curves \"&G$10&\"'!$12:$12\"),INDIRECT(\"'Curves \"&G$10&\"'!$14:$163\"),,0,1),,0,1)","v":4.2558159462706247E-2},{"$f":"_xlfn.XLOOKUP($A64,INDIRECT(\"'Curves \"&H$10&\"'!$A$14:$A$163\"),_xlfn.XLOOKUP(H$11&$J$3,INDIRECT(\"'Curves \"&H$10&\"'!$11:$11\")&INDIRECT(\"'Curves \"&H$10&\"'!$12:$12\"),INDIRECT(\"'Curves \"&H$10&\"'!$14:$163\"),,0,1),,0,1)","v":2.1316441258180996E-2}]
[53,{"$f":"_xlfn.XLOOKUP($A65,INDIRECT(\"'Curves \"&B$10&\"'!$A$14:$A$163\"),_xlfn.XLOOKUP(B$11&$J$3,INDIRECT(\"'Curves \"&B$10&\"'!$11:$11\")&INDIRECT(\"'Curves \"&B$10&\"'!$12:$12\"),INDIRECT(\"'Curves \"&B$10&\"'!$14:$163\"),,0,1),,0,1)","v":3.2618752792272776E-2},{"$f":"_xlfn.XLOOKUP($A65,INDIRECT(\"'Curves \"&C$10&\"'!$A$14:$A$163\"),_xlfn.XLOOKUP(C$11&$J$3,INDIRECT(\"'Curves \"&C$10&\"'!$11:$11\")&INDIRECT(\"'Curves \"&C$10&\"'!$12:$12\"),INDIRECT(\"'Curves \"&C$10&\"'!$14:$163\"),,0,1),,0,1)","v":4.1053480157477118E-2},{"$f":"_xlfn.XLOOKUP($A65,INDIRECT(\"'Curves \"&D$10&\"'!$A$14:$A$163\"),_xlfn.XLOOKUP(D$11&$J$3,INDIRECT(\"'Curves \"&D$10&\"'!$11:$11\")&INDIRECT(\"'Curves \"&D$10&\"'!$12:$12\"),INDIRECT(\"'Curves \"&D$10&\"'!$14:$163\"),,0,1),,0,1)","v":2.016789095166982E-2},null,{"$f":"_xlfn.XLOOKUP($A65,INDIRECT(\"'Curves \"&F$10&\"'!$A$14:$A$163\"),_xlfn.XLOOKUP(F$11&$J$3,INDIRECT(\"'Curves \"&F$10&\"'!$11:$11\")&INDIRECT(\"'Curves \"&F$10&\"'!$12:$12\"),INDIRECT(\"'Curves \"&F$10&\"'!$14:$163\"),,0,1),,0,1)","v":3.3963981988822889E-2},{"$f":"_xlfn.XLOOKUP($A65,INDIRECT(\"'Curves \"&G$10&\"'!$A$14:$A$163\"),_xlfn.XLOOKUP(G$11&$J$3,INDIRECT(\"'Curves \"&G$10&\"'!$11:$11\")&INDIRECT(\"'Curves \"&G$10&\"'!$12:$12\"),INDIRECT(\"'Curves \"&G$10&\"'!$14:$163\"),,0,1),,0,1)","v":4.2409697573528415E-2},{"$f":"_xlfn.XLOOKUP($A65,INDIRECT(\"'Curves \"&H$10&\"'!$A$14:$A$163\"),_xlfn.XLOOKUP(H$11&$J$3,INDIRECT(\"'Curves \"&H$10&\"'!$11:$11\")&INDIRECT(\"'Curves \"&H$10&\"'!$12:$12\"),INDIRECT(\"'Curves \"&H$10&\"'!$14:$163\"),,0,1),,0,1)","v":2.1496899967417438E-2}]
[54,{"$f":"_xlfn.XLOOKUP($A66,INDIRECT(\"'Curves \"&B$10&\"'!$A$14:$A$163\"),_xlfn.XLOOKUP(B$11&$J$3,INDIRECT(\"'Curves \"&B$10&\"'!$11:$11\")&INDIRECT(\"'Curves \"&B$10&\"'!$12:$12\"),INDIRECT(\"'Curves \"&B$10&\"'!$14:$163\"),,0,1),,0,1)","v":3.2625705785134684E-2},{"$f":"_xlfn.XLOOKUP($A66,INDIRECT(\"'Curves \"&C$10&\"'!$A$14:$A$163\"),_xlfn.XLOOKUP(C$11&$J$3,INDIRECT(\"'Curves \"&C$10&\"'!$11:$11\")&INDIRECT(\"'Curves \"&C$10&\"'!$12:$12\"),INDIRECT(\"'Curves \"&C$10&\"'!$14:$163\"),,0,1),,0,1)","v":4.0934913079585744E-2},{"$f":"_xlfn.XLOOKUP($A66,INDIRECT(\"'Curves \"&D$10&\"'!$A$14:$A$163\"),_xlfn.XLOOKUP(D$11&$J$3,INDIRECT(\"'Curves \"&D$10&\"'!$11:$11\")&INDIRECT(\"'Curves \"&D$10&\"'!$12:$12\"),INDIRECT(\"'Curves \"&D$10&\"'!$14:$163\"),,0,1),,0,1)","v":2.0366696247064331E-2},null,{"$f":"_xlfn.XLOOKUP($A66,INDIRECT(\"'Curves \"&F$10&\"'!$A$14:$A$163\"),_xlfn.XLOOKUP(F$11&$J$3,INDIRECT(\"'Curves \"&F$10&\"'!$11:$11\")&INDIRECT(\"'Curves \"&F$10&\"'!$12:$12\"),INDIRECT(\"'Curves \"&F$10&\"'!$14:$163\"),,0,1),,0,1)","v":3.39464939270675E-2},{"$f":"_xlfn.XLOOKUP($A66,INDIRECT(\"'Curves \"&G$10&\"'!$A$14:$A$163\"),_xlfn.XLOOKUP(G$11&$J$3,INDIRECT(\"'Curves \"&G$10&\"'!$11:$11\")&INDIRECT(\"'Curves \"&G$10&\"'!$12:$12\"),INDIRECT(\"'Curves \"&G$10&\"'!$14:$163\"),,0,1),,0,1)","v":4.2266329179356354E-2},{"$f":"_xlfn.XLOOKUP($A66,INDIRECT(\"'Curves \"&H$10&\"'!$A$14:$A$163\"),_xlfn.XLOOKUP(H$11&$J$3,INDIRECT(\"'Curves \"&H$10&\"'!$11:$11\")&INDIRECT(\"'Curves \"&H$10&\"'!$12:$12\"),INDIRECT(\"'Curves \"&H$10&\"'!$14:$163\"),,0,1),,0,1)","v":2.1671804405108519E-2}]
[55,{"$f":"_xlfn.XLOOKUP($A67,INDIRECT(\"'Curves \"&B$10&\"'!$A$14:$A$163\"),_xlfn.XLOOKUP(B$11&$J$3,INDIRECT(\"'Curves \"&B$10&\"'!$11:$11\")&INDIRECT(\"'Curves \"&B$10&\"'!$12:$12\"),INDIRECT(\"'Curves \"&B$10&\"'!$14:$163\"),,0,1),,0,1)","v":3.26324168129426E-2},{"$f":"_xlfn.XLOOKUP($A67,INDIRECT(\"'Curves \"&C$10&\"'!$A$14:$A$163\"),_xlfn.XLOOKUP(C$11&$J$3,INDIRECT(\"'Curves \"&C$10&\"'!$11:$11\")&INDIRECT(\"'Curves \"&C$10&\"'!$12:$12\"),INDIRECT(\"'Curves \"&C$10&\"'!$14:$163\"),,0,1),,0,1)","v":4.0820346126324125E-2},{"$f":"_xlfn.XLOOKUP($A67,INDIRECT(\"'Curves \"&D$10&\"'!$A$14:$A$163\"),_xlfn.XLOOKUP(D$11&$J$3,INDIRECT(\"'Curves \"&D$10&\"'!$11:$11\")&INDIRECT(\"'Curves \"&D$10&\"'!$12:$12\"),INDIRECT(\"'Curves \"&D$10&\"'!$14:$163\"),,0,1),,0,1)","v":2.0559322915778111E-2},null,{"$f":"_xlfn.XLOOKUP($A67,INDIRECT(\"'Curves \"&F$10&\"'!$A$14:$A$163\"),_xlfn.XLOOKUP(F$11&$J$3,INDIRECT(\"'Curves \"&F$10&\"'!$11:$11\")&INDIRECT(\"'Curves \"&F$10&\"'!$12:$12\"),INDIRECT(\"'Curves \"&F$10&\"'!$14:$163\"),,0,1),,0,1)","v":3.3929604068060781E-2},{"$f":"_xlfn.XLOOKUP($A67,INDIRECT(\"'Curves \"&G$10&\"'!$A$14:$A$163\"),_xlfn.XLOOKUP(G$11&$J$3,INDIRECT(\"'Curves \"&G$10&\"'!$11:$11\")&INDIRECT(\"'Curves \"&G$10&\"'!$12:$12\"),INDIRECT(\"'Curves \"&G$10&\"'!$14:$163\"),,0,1),,0,1)","v":4.2127819013946466E-2},{"$f":"_xlfn.XLOOKUP($A67,INDIRECT(\"'Curves \"&H$10&\"'!$A$14:$A$163\"),_xlfn.XLOOKUP(H$11&$J$3,INDIRECT(\"'Curves \"&H$10&\"'!$11:$11\")&INDIRECT(\"'Curves \"&H$10&\"'!$12:$12\"),INDIRECT(\"'Curves \"&H$10&\"'!$14:$163\"),,0,1),,0,1)","v":2.1841344015662179E-2}]
[56,{"$f":"_xlfn.XLOOKUP($A68,INDIRECT(\"'Curves \"&B$10&\"'!$A$14:$A$163\"),_xlfn.XLOOKUP(B$11&$J$3,INDIRECT(\"'Curves \"&B$10&\"'!$11:$11\")&INDIRECT(\"'Curves \"&B$10&\"'!$12:$12\"),INDIRECT(\"'Curves \"&B$10&\"'!$14:$163\"),,0,1),,0,1)","v":3.2638897728333394E-2},{"$f":"_xlfn.XLOOKUP($A68,INDIRECT(\"'Curves \"&C$10&\"'!$A$14:$A$163\"),_xlfn.XLOOKUP(C$11&$J$3,INDIRECT(\"'Curves \"&C$10&\"'!$11:$11\")&INDIRECT(\"'Curves \"&C$10&\"'!$12:$12\"),INDIRECT(\"'Curves \"&C$10&\"'!$14:$163\"),,0,1),,0,1)","v":4.0709597595272484E-2},{"$f":"_xlfn.XLOOKUP($A68,INDIRECT(\"'Curves \"&D$10&\"'!$A$14:$A$163\"),_xlfn.XLOOKUP(D$11&$J$3,INDIRECT(\"'Curves \"&D$10&\"'!$11:$11\")&INDIRECT(\"'Curves \"&D$10&\"'!$12:$12\"),INDIRECT(\"'Curves \"&D$10&\"'!$14:$163\"),,0,1),,0,1)","v":2.0745996820098256E-2},null,{"$f":"_xlfn.XLOOKUP($A68,INDIRECT(\"'Curves \"&F$10&\"'!$A$14:$A$163\"),_xlfn.XLOOKUP(F$11&$J$3,INDIRECT(\"'Curves \"&F$10&\"'!$11:$11\")&INDIRECT(\"'Curves \"&F$10&\"'!$12:$12\"),INDIRECT(\"'Curves \"&F$10&\"'!$14:$163\"),,0,1),,0,1)","v":3.3913284240497221E-2},{"$f":"_xlfn.XLOOKUP($A68,INDIRECT(\"'Curves \"&G$10&\"'!$A$14:$A$163\"),_xlfn.XLOOKUP(G$11&$J$3,INDIRECT(\"'Curves \"&G$10&\"'!$11:$11\")&INDIRECT(\"'Curves \"&G$10&\"'!$12:$12\"),INDIRECT(\"'Curves \"&G$10&\"'!$14:$163\"),,0,1),,0,1)","v":4.1993944211667023E-2},{"$f":"_xlfn.XLOOKUP($A68,INDIRECT(\"'Curves \"&H$10&\"'!$A$14:$A$163\"),_xlfn.XLOOKUP(H$11&$J$3,INDIRECT(\"'Curves \"&H$10&\"'!$11:$11\")&INDIRECT(\"'Curves \"&H$10&\"'!$12:$12\"),INDIRECT(\"'Curves \"&H$10&\"'!$14:$163\"),,0,1),,0,1)","v":2.2005706224377253E-2}]
[57,{"$f":"_xlfn.XLOOKUP($A69,INDIRECT(\"'Curves \"&B$10&\"'!$A$14:$A$163\"),_xlfn.XLOOKUP(B$11&$J$3,INDIRECT(\"'Curves \"&B$10&\"'!$11:$11\")&INDIRECT(\"'Curves \"&B$10&\"'!$12:$12\"),INDIRECT(\"'Curves \"&B$10&\"'!$14:$163\"),,0,1),,0,1)","v":3.2645159665656287E-2},{"$f":"_xlfn.XLOOKUP($A69,INDIRECT(\"'Curves \"&C$10&\"'!$A$14:$A$163\"),_xlfn.XLOOKUP(C$11&$J$3,INDIRECT(\"'Curves \"&C$10&\"'!$11:$11\")&INDIRECT(\"'Curves \"&C$10&\"'!$12:$12\"),INDIRECT(\"'Curves \"&C$10&\"'!$14:$163\"),,0,1),,0,1)","v":4.0602495168028385E-2},{"$f":"_xlfn.XLOOKUP($A69,INDIRECT(\"'Curves \"&D$10&\"'!$A$14:$A$163\"),_xlfn.XLOOKUP(D$11&$J$3,INDIRECT(\"'Curves \"&D$10&\"'!$11:$11\")&INDIRECT(\"'Curves \"&D$10&\"'!$12:$12\"),INDIRECT(\"'Curves \"&D$10&\"'!$14:$163\"),,0,1),,0,1)","v":2.0926938617819246E-2},null,{"$f":"_xlfn.XLOOKUP($A69,INDIRECT(\"'Curves \"&F$10&\"'!$A$14:$A$163\"),_xlfn.XLOOKUP(F$11&$J$3,INDIRECT(\"'Curves \"&F$10&\"'!$11:$11\")&INDIRECT(\"'Curves \"&F$10&\"'!$12:$12\"),INDIRECT(\"'Curves \"&F$10&\"'!$14:$163\"),,0,1),,0,1)","v":3.3897507852759468E-2},{"$f":"_xlfn.XLOOKUP($A69,INDIRECT(\"'Curves \"&G$10&\"'!$A$14:$A$163\"),_xlfn.XLOOKUP(G$11&$J$3,INDIRECT(\"'Curves \"&G$10&\"'!$11:$11\")&INDIRECT(\"'Curves \"&G$10&\"'!$12:$12\"),INDIRECT(\"'Curves \"&G$10&\"'!$14:$163\"),,0,1),,0,1)","v":4.1864493673633651E-2},{"$f":"_xlfn.XLOOKUP($A69,INDIRECT(\"'Curves \"&H$10&\"'!$A$14:$A$163\"),_xlfn.XLOOKUP(H$11&$J$3,INDIRECT(\"'Curves \"&H$10&\"'!$11:$11\")&INDIRECT(\"'Curves \"&H$10&\"'!$12:$12\"),INDIRECT(\"'Curves \"&H$10&\"'!$14:$163\"),,0,1),,0,1)","v":2.2165075444177562E-2}]
[58,{"$f":"_xlfn.XLOOKUP($A70,INDIRECT(\"'Curves \"&B$10&\"'!$A$14:$A$163\"),_xlfn.XLOOKUP(B$11&$J$3,INDIRECT(\"'Curves \"&B$10&\"'!$11:$11\")&INDIRECT(\"'Curves \"&B$10&\"'!$12:$12\"),INDIRECT(\"'Curves \"&B$10&\"'!$14:$163\"),,0,1),,0,1)","v":3.2651213091282605E-2},{"$f":"_xlfn.XLOOKUP($A70,INDIRECT(\"'Curves \"&C$10&\"'!$A$14:$A$163\"),_xlfn.XLOOKUP(C$11&$J$3,INDIRECT(\"'Curves \"&C$10&\"'!$11:$11\")&INDIRECT(\"'Curves \"&C$10&\"'!$12:$12\"),INDIRECT(\"'Curves \"&C$10&\"'!$14:$163\"),,0,1),,0,1)","v":4.0498875447931626E-2},{"$f":"_xlfn.XLOOKUP($A70,INDIRECT(\"'Curves \"&D$10&\"'!$A$14:$A$163\"),_xlfn.XLOOKUP(D$11&$J$3,INDIRECT(\"'Curves \"&D$10&\"'!$11:$11\")&INDIRECT(\"'Curves \"&D$10&\"'!$12:$12\"),INDIRECT(\"'Curves \"&D$10&\"'!$14:$163\"),,0,1),,0,1)","v":2.1102363129549273E-2},null,{"$f":"_xlfn.XLOOKUP($A70,INDIRECT(\"'Curves \"&F$10&\"'!$A$14:$A$163\"),_xlfn.XLOOKUP(F$11&$J$3,INDIRECT(\"'Curves \"&F$10&\"'!$11:$11\")&INDIRECT(\"'Curves \"&F$10&\"'!$12:$12\"),INDIRECT(\"'Curves \"&F$10&\"'!$14:$163\"),,0,1),,0,1)","v":3.3882249797444697E-2},{"$f":"_xlfn.XLOOKUP($A70,INDIRECT(\"'Curves \"&G$10&\"'!$A$14:$A$163\"),_xlfn.XLOOKUP(G$11&$J$3,INDIRECT(\"'Curves \"&G$10&\"'!$11:$11\")&INDIRECT(\"'Curves \"&G$10&\"'!$12:$12\"),INDIRECT(\"'Curves \"&G$10&\"'!$14:$163\"),,0,1),,0,1)","v":4.1739267452665096E-2},{"$f":"_xlfn.XLOOKUP($A70,INDIRECT(\"'Curves \"&H$10&\"'!$A$14:$A$163\"),_xlfn.XLOOKUP(H$11&$J$3,INDIRECT(\"'Curves \"&H$10&\"'!$11:$11\")&INDIRECT(\"'Curves \"&H$10&\"'!$12:$12\"),INDIRECT(\"'Curves \"&H$10&\"'!$14:$163\"),,0,1),,0,1)","v":2.231963230410261E-2}]
[59,{"$f":"_xlfn.XLOOKUP($A71,INDIRECT(\"'Curves \"&B$10&\"'!$A$14:$A$163\"),_xlfn.XLOOKUP(B$11&$J$3,INDIRECT(\"'Curves \"&B$10&\"'!$11:$11\")&INDIRECT(\"'Curves \"&B$10&\"'!$12:$12\"),INDIRECT(\"'Curves \"&B$10&\"'!$14:$163\"),,0,1),,0,1)","v":3.2657067849988008E-2},{"$f":"_xlfn.XLOOKUP($A71,INDIRECT(\"'Curves \"&C$10&\"'!$A$14:$A$163\"),_xlfn.XLOOKUP(C$11&$J$3,INDIRECT(\"'Curves \"&C$10&\"'!$11:$11\")&INDIRECT(\"'Curves \"&C$10&\"'!$12:$12\"),INDIRECT(\"'Curves \"&C$10&\"'!$14:$163\"),,0,1),,0,1)","v":4.0398583509120733E-2},{"$f":"_xlfn.XLOOKUP($A71,INDIRECT(\"'Curves \"&D$10&\"'!$A$14:$A$163\"),_xlfn.XLOOKUP(D$11&$J$3,INDIRECT(\"'Curves \"&D$10&\"'!$11:$11\")&INDIRECT(\"'Curves \"&D$10&\"'!$12:$12\"),INDIRECT(\"'Curves \"&D$10&\"'!$14:$163\"),,0,1),,0,1)","v":2.1272478880241641E-2},null,{"$f":"_xlfn.XLOOKUP($A71,INDIRECT(\"'Curves \"&F$10&\"'!$A$14:$A$163\"),_xlfn.XLOOKUP(F$11&$J$3,INDIRECT(\"'Curves \"&F$10&\"'!$11:$11\")&INDIRECT(\"'Curves \"&F$10&\"'!$12:$12\"),INDIRECT(\"'Curves \"&F$10&\"'!$14:$163\"),,0,1),,0,1)","v":3.3867486361425447E-2},{"$f":"_xlfn.XLOOKUP($A71,INDIRECT(\"'Curves \"&G$10&\"'!$A$14:$A$163\"),_xlfn.XLOOKUP(G$11&$J$3,INDIRECT(\"'Curves \"&G$10&\"'!$11:$11\")&INDIRECT(\"'Curves \"&G$10&\"'!$12:$12\"),INDIRECT(\"'Curves \"&G$10&\"'!$14:$163\"),,0,1),,0,1)","v":4.1618076159642747E-2},{"$f":"_xlfn.XLOOKUP($A71,INDIRECT(\"'Curves \"&H$10&\"'!$A$14:$A$163\"),_xlfn.XLOOKUP(H$11&$J$3,INDIRECT(\"'Curves \"&H$10&\"'!$11:$11\")&INDIRECT(\"'Curves \"&H$10&\"'!$12:$12\"),INDIRECT(\"'Curves \"&H$10&\"'!$14:$163\"),,0,1),,0,1)","v":2.2469553061152281E-2}]
[60,{"$f":"_xlfn.XLOOKUP($A72,INDIRECT(\"'Curves \"&B$10&\"'!$A$14:$A$163\"),_xlfn.XLOOKUP(B$11&$J$3,INDIRECT(\"'Curves \"&B$10&\"'!$11:$11\")&INDIRECT(\"'Curves \"&B$10&\"'!$12:$12\"),INDIRECT(\"'Curves \"&B$10&\"'!$14:$163\"),,0,1),,0,1)","v":3.266273320774471E-2},{"$f":"_xlfn.XLOOKUP($A72,INDIRECT(\"'Curves \"&C$10&\"'!$A$14:$A$163\"),_xlfn.XLOOKUP(C$11&$J$3,INDIRECT(\"'Curves \"&C$10&\"'!$11:$11\")&INDIRECT(\"'Curves \"&C$10&\"'!$12:$12\"),INDIRECT(\"'Curves \"&C$10&\"'!$14:$163\"),,0,1),,0,1)","v":4.0301472459274068E-2},{"$f":"_xlfn.XLOOKUP($A72,INDIRECT(\"'Curves \"&D$10&\"'!$A$14:$A$163\"),_xlfn.XLOOKUP(D$11&$J$3,INDIRECT(\"'Curves \"&D$10&\"'!$11:$11\")&INDIRECT(\"'Curves \"&D$10&\"'!$12:$12\"),INDIRECT(\"'Curves \"&D$10&\"'!$14:$163\"),,0,1),,0,1)","v":2.1437487783469988E-2},null,{"$f":"_xlfn.XLOOKUP($A72,INDIRECT(\"'Curves \"&F$10&\"'!$A$14:$A$163\"),_xlfn.XLOOKUP(F$11&$J$3,INDIRECT(\"'Curves \"&F$10&\"'!$11:$11\")&INDIRECT(\"'Curves \"&F$10&\"'!$12:$12\"),INDIRECT(\"'Curves \"&F$10&\"'!$14:$163\"),,0,1),,0,1)","v":3.3853195141233527E-2},{"$f":"_xlfn.XLOOKUP($A72,INDIRECT(\"'Curves \"&G$10&\"'!$A$14:$A$163\"),_xlfn.XLOOKUP(G$11&$J$3,INDIRECT(\"'Curves \"&G$10&\"'!$11:$11\")&INDIRECT(\"'Curves \"&G$10&\"'!$12:$12\"),INDIRECT(\"'Curves \"&G$10&\"'!$14:$163\"),,0,1),,0,1)","v":4.1500740393024538E-2},{"$f":"_xlfn.XLOOKUP($A72,INDIRECT(\"'Curves \"&H$10&\"'!$A$14:$A$163\"),_xlfn.XLOOKUP(H$11&$J$3,INDIRECT(\"'Curves \"&H$10&\"'!$11:$11\")&INDIRECT(\"'Curves \"&H$10&\"'!$12:$12\"),INDIRECT(\"'Curves \"&H$10&\"'!$14:$163\"),,0,1),,0,1)","v":2.2615009163434507E-2}]
[61,{"$f":"_xlfn.XLOOKUP($A73,INDIRECT(\"'Curves \"&B$10&\"'!$A$14:$A$163\"),_xlfn.XLOOKUP(B$11&$J$3,INDIRECT(\"'Curves \"&B$10&\"'!$11:$11\")&INDIRECT(\"'Curves \"&B$10&\"'!$12:$12\"),INDIRECT(\"'Curves \"&B$10&\"'!$14:$163\"),,0,1),,0,1)","v":3.2668217891225426E-2},{"$f":"_xlfn.XLOOKUP($A73,INDIRECT(\"'Curves \"&C$10&\"'!$A$14:$A$163\"),_xlfn.XLOOKUP(C$11&$J$3,INDIRECT(\"'Curves \"&C$10&\"'!$11:$11\")&INDIRECT(\"'Curves \"&C$10&\"'!$12:$12\"),INDIRECT(\"'Curves \"&C$10&\"'!$14:$163\"),,0,1),,0,1)","v":4.0207403017701759E-2},{"$f":"_xlfn.XLOOKUP($A73,INDIRECT(\"'Curves \"&D$10&\"'!$A$14:$A$163\"),_xlfn.XLOOKUP(D$11&$J$3,INDIRECT(\"'Curves \"&D$10&\"'!$11:$11\")&INDIRECT(\"'Curves \"&D$10&\"'!$12:$12\"),INDIRECT(\"'Curves \"&D$10&\"'!$14:$163\"),,0,1),,0,1)","v":2.1597584942226522E-2},null,{"$f":"_xlfn.XLOOKUP($A73,INDIRECT(\"'Curves \"&F$10&\"'!$A$14:$A$163\"),_xlfn.XLOOKUP(F$11&$J$3,INDIRECT(\"'Curves \"&F$10&\"'!$11:$11\")&INDIRECT(\"'Curves \"&F$10&\"'!$12:$12\"),INDIRECT(\"'Curves \"&F$10&\"'!$14:$163\"),,0,1),,0,1)","v":3.3839354963526525E-2},{"$f":"_xlfn.XLOOKUP($A73,INDIRECT(\"'Curves \"&G$10&\"'!$A$14:$A$163\"),_xlfn.XLOOKUP(G$11&$J$3,INDIRECT(\"'Curves \"&G$10&\"'!$11:$11\")&INDIRECT(\"'Curves \"&G$10&\"'!$12:$12\"),INDIRECT(\"'Curves \"&G$10&\"'!$14:$163\"),,0,1),,0,1)","v":4.1387090192585463E-2},{"$f":"_xlfn.XLOOKUP($A73,INDIRECT(\"'Curves \"&H$10&\"'!$A$14:$A$163\"),_xlfn.XLOOKUP(H$11&$J$3,INDIRECT(\"'Curves \"&H$10&\"'!$11:$11\")&INDIRECT(\"'Curves \"&H$10&\"'!$12:$12\"),INDIRECT(\"'Curves \"&H$10&\"'!$14:$163\"),,0,1),,0,1)","v":2.2756166937847766E-2}]
[62,{"$f":"_xlfn.XLOOKUP($A74,INDIRECT(\"'Curves \"&B$10&\"'!$A$14:$A$163\"),_xlfn.XLOOKUP(B$11&$J$3,INDIRECT(\"'Curves \"&B$10&\"'!$11:$11\")&INDIRECT(\"'Curves \"&B$10&\"'!$12:$12\"),INDIRECT(\"'Curves \"&B$10&\"'!$14:$163\"),,0,1),,0,1)","v":3.2673530124299299E-2},{"$f":"_xlfn.XLOOKUP($A74,INDIRECT(\"'Curves \"&C$10&\"'!$A$14:$A$163\"),_xlfn.XLOOKUP(C$11&$J$3,INDIRECT(\"'Curves \"&C$10&\"'!$11:$11\")&INDIRECT(\"'Curves \"&C$10&\"'!$12:$12\"),INDIRECT(\"'Curves \"&C$10&\"'!$14:$163\"),,0,1),,0,1)","v":4.0116243109902028E-2},{"$f":"_xlfn.XLOOKUP($A74,INDIRECT(\"'Curves \"&D$10&\"'!$A$14:$A$163\"),_xlfn.XLOOKUP(D$11&$J$3,INDIRECT(\"'Curves \"&D$10&\"'!$11:$11\")&INDIRECT(\"'Curves \"&D$10&\"'!$12:$12\"),INDIRECT(\"'Curves \"&D$10&\"'!$14:$163\"),,0,1),,0,1)","v":2.1752958544402734E-2},null,{"$f":"_xlfn.XLOOKUP($A74,INDIRECT(\"'Curves \"&F$10&\"'!$A$14:$A$163\"),_xlfn.XLOOKUP(F$11&$J$3,INDIRECT(\"'Curves \"&F$10&\"'!$11:$11\")&INDIRECT(\"'Curves \"&F$10&\"'!$12:$12\"),INDIRECT(\"'Curves \"&F$10&\"'!$14:$163\"),,0,1),,0,1)","v":3.3825945810400437E-2},{"$f":"_xlfn.XLOOKUP($A74,INDIRECT(\"'Curves \"&G$10&\"'!$A$14:$A$163\"),_xlfn.XLOOKUP(G$11&$J$3,INDIRECT(\"'Curves \"&G$10&\"'!$11:$11\")&INDIRECT(\"'Curves \"&G$10&\"'!$12:$12\"),INDIRECT(\"'Curves \"&G$10&\"'!$14:$163\"),,0,1),,0,1)","v":4.1276964517939163E-2},{"$f":"_xlfn.XLOOKUP($A74,INDIRECT(\"'Curves \"&H$10&\"'!$A$14:$A$163\"),_xlfn.XLOOKUP(H$11&$J$3,INDIRECT(\"'Curves \"&H$10&\"'!$11:$11\")&INDIRECT(\"'Curves \"&H$10&\"'!$12:$12\"),INDIRECT(\"'Curves \"&H$10&\"'!$14:$163\"),,0,1),,0,1)","v":2.2893187379942948E-2}]
[63,{"$f":"_xlfn.XLOOKUP($A75,INDIRECT(\"'Curves \"&B$10&\"'!$A$14:$A$163\"),_xlfn.XLOOKUP(B$11&$J$3,INDIRECT(\"'Curves \"&B$10&\"'!$11:$11\")&INDIRECT(\"'Curves \"&B$10&\"'!$12:$12\"),INDIRECT(\"'Curves \"&B$10&\"'!$14:$163\"),,0,1),,0,1)","v":3.2678677661767352E-2},{"$f":"_xlfn.XLOOKUP($A75,INDIRECT(\"'Curves \"&C$10&\"'!$A$14:$A$163\"),_xlfn.XLOOKUP(C$11&$J$3,INDIRECT(\"'Curves \"&C$10&\"'!$11:$11\")&INDIRECT(\"'Curves \"&C$10&\"'!$12:$12\"),INDIRECT(\"'Curves \"&C$10&\"'!$14:$163\"),,0,1),,0,1)","v":4.0027867479266677E-2},{"$f":"_xlfn.XLOOKUP($A75,INDIRECT(\"'Curves \"&D$10&\"'!$A$14:$A$163\"),_xlfn.XLOOKUP(D$11&$J$3,INDIRECT(\"'Curves \"&D$10&\"'!$11:$11\")&INDIRECT(\"'Curves \"&D$10&\"'!$12:$12\"),INDIRECT(\"'Curves \"&D$10&\"'!$14:$163\"),,0,1),,0,1)","v":2.1903789834763598E-2},null,{"$f":"_xlfn.XLOOKUP($A75,INDIRECT(\"'Curves \"&F$10&\"'!$A$14:$A$163\"),_xlfn.XLOOKUP(F$11&$J$3,INDIRECT(\"'Curves \"&F$10&\"'!$11:$11\")&INDIRECT(\"'Curves \"&F$10&\"'!$12:$12\"),INDIRECT(\"'Curves \"&F$10&\"'!$14:$163\"),,0,1),,0,1)","v":3.3812948749299077E-2},{"$f":"_xlfn.XLOOKUP($A75,INDIRECT(\"'Curves \"&G$10&\"'!$A$14:$A$163\"),_xlfn.XLOOKUP(G$11&$J$3,INDIRECT(\"'Curves \"&G$10&\"'!$11:$11\")&INDIRECT(\"'Curves \"&G$10&\"'!$12:$12\"),INDIRECT(\"'Curves \"&G$10&\"'!$14:$163\"),,0,1),,0,1)","v":4.1170210751987346E-2},{"$f":"_xlfn.XLOOKUP($A75,INDIRECT(\"'Curves \"&H$10&\"'!$A$14:$A$163\"),_xlfn.XLOOKUP(H$11&$J$3,INDIRECT(\"'Curves \"&H$10&\"'!$11:$11\")&INDIRECT(\"'Curves \"&H$10&\"'!$12:$12\"),INDIRECT(\"'Curves \"&H$10&\"'!$14:$163\"),,0,1),,0,1)","v":2.3026226027281105E-2}]
[64,{"$f":"_xlfn.XLOOKUP($A76,INDIRECT(\"'Curves \"&B$10&\"'!$A$14:$A$163\"),_xlfn.XLOOKUP(B$11&$J$3,INDIRECT(\"'Curves \"&B$10&\"'!$11:$11\")&INDIRECT(\"'Curves \"&B$10&\"'!$12:$12\"),INDIRECT(\"'Curves \"&B$10&\"'!$14:$163\"),,0,1),,0,1)","v":3.2683667820569529E-2},{"$f":"_xlfn.XLOOKUP($A76,INDIRECT(\"'Curves \"&C$10&\"'!$A$14:$A$163\"),_xlfn.XLOOKUP(C$11&$J$3,INDIRECT(\"'Curves \"&C$10&\"'!$11:$11\")&INDIRECT(\"'Curves \"&C$10&\"'!$12:$12\"),INDIRECT(\"'Curves \"&C$10&\"'!$14:$163\"),,0,1),,0,1)","v":3.9942157316267046E-2},{"$f":"_xlfn.XLOOKUP($A76,INDIRECT(\"'Curves \"&D$10&\"'!$A$14:$A$163\"),_xlfn.XLOOKUP(D$11&$J$3,INDIRECT(\"'Curves \"&D$10&\"'!$11:$11\")&INDIRECT(\"'Curves \"&D$10&\"'!$12:$12\"),INDIRECT(\"'Curves \"&D$10&\"'!$14:$163\"),,0,1),,0,1)","v":2.2050253148283572E-2},null,{"$f":"_xlfn.XLOOKUP($A76,INDIRECT(\"'Curves \"&F$10&\"'!$A$14:$A$163\"),_xlfn.XLOOKUP(F$11&$J$3,INDIRECT(\"'Curves \"&F$10&\"'!$11:$11\")&INDIRECT(\"'Curves \"&F$10&\"'!$12:$12\"),INDIRECT(\"'Curves \"&F$10&\"'!$14:$163\"),,0,1),,0,1)","v":3.3800345867277093E-2},{"$f":"_xlfn.XLOOKUP($A76,INDIRECT(\"'Curves \"&G$10&\"'!$A$14:$A$163\"),_xlfn.XLOOKUP(G$11&$J$3,INDIRECT(\"'Curves \"&G$10&\"'!$11:$11\")&INDIRECT(\"'Curves \"&G$10&\"'!$12:$12\"),INDIRECT(\"'Curves \"&G$10&\"'!$14:$163\"),,0,1),,0,1)","v":4.1066684229112971E-2},{"$f":"_xlfn.XLOOKUP($A76,INDIRECT(\"'Curves \"&H$10&\"'!$A$14:$A$163\"),_xlfn.XLOOKUP(H$11&$J$3,INDIRECT(\"'Curves \"&H$10&\"'!$11:$11\")&INDIRECT(\"'Curves \"&H$10&\"'!$12:$12\"),INDIRECT(\"'Curves \"&H$10&\"'!$14:$163\"),,0,1),,0,1)","v":2.3155432900696438E-2}]
[65,{"$f":"_xlfn.XLOOKUP($A77,INDIRECT(\"'Curves \"&B$10&\"'!$A$14:$A$163\"),_xlfn.XLOOKUP(B$11&$J$3,INDIRECT(\"'Curves \"&B$10&\"'!$11:$11\")&INDIRECT(\"'Curves \"&B$10&\"'!$12:$12\"),INDIRECT(\"'Curves \"&B$10&\"'!$14:$163\"),,0,1),,0,1)","v":3.2688507508667586E-2},{"$f":"_xlfn.XLOOKUP($A77,INDIRECT(\"'Curves \"&C$10&\"'!$A$14:$A$163\"),_xlfn.XLOOKUP(C$11&$J$3,INDIRECT(\"'Curves \"&C$10&\"'!$11:$11\")&INDIRECT(\"'Curves \"&C$10&\"'!$12:$12\"),INDIRECT(\"'Curves \"&C$10&\"'!$14:$163\"),,0,1),,0,1)","v":3.9858999905191483E-2},{"$f":"_xlfn.XLOOKUP($A77,INDIRECT(\"'Curves \"&D$10&\"'!$A$14:$A$163\"),_xlfn.XLOOKUP(D$11&$J$3,INDIRECT(\"'Curves \"&D$10&\"'!$11:$11\")&INDIRECT(\"'Curves \"&D$10&\"'!$12:$12\"),INDIRECT(\"'Curves \"&D$10&\"'!$14:$163\"),,0,1),,0,1)","v":2.2192515992256467E-2},null,{"$f":"_xlfn.XLOOKUP($A77,INDIRECT(\"'Curves \"&F$10&\"'!$A$14:$A$163\"),_xlfn.XLOOKUP(F$11&$J$3,INDIRECT(\"'Curves \"&F$10&\"'!$11:$11\")&INDIRECT(\"'Curves \"&F$10&\"'!$12:$12\"),INDIRECT(\"'Curves \"&F$10&\"'!$14:$163\"),,0,1),,0,1)","v":3.3788120209375494E-2},{"$f":"_xlfn.XLOOKUP($A77,INDIRECT(\"'Curves \"&G$10&\"'!$A$14:$A$163\"),_xlfn.XLOOKUP(G$11&$J$3,INDIRECT(\"'Curves \"&G$10&\"'!$11:$11\")&INDIRECT(\"'Curves \"&G$10&\"'!$12:$12\"),INDIRECT(\"'Curves \"&G$10&\"'!$14:$163\"),,0,1),,0,1)","v":4.0966247787710852E-2},{"$f":"_xlfn.XLOOKUP($A77,INDIRECT(\"'Curves \"&H$10&\"'!$A$14:$A$163\"),_xlfn.XLOOKUP(H$11&$J$3,INDIRECT(\"'Curves \"&H$10&\"'!$11:$11\")&INDIRECT(\"'Curves \"&H$10&\"'!$12:$12\"),INDIRECT(\"'Curves \"&H$10&\"'!$14:$163\"),,0,1),,0,1)","v":2.32809525004396E-2}]
[66,{"$f":"_xlfn.XLOOKUP($A78,INDIRECT(\"'Curves \"&B$10&\"'!$A$14:$A$163\"),_xlfn.XLOOKUP(B$11&$J$3,INDIRECT(\"'Curves \"&B$10&\"'!$11:$11\")&INDIRECT(\"'Curves \"&B$10&\"'!$12:$12\"),INDIRECT(\"'Curves \"&B$10&\"'!$14:$163\"),,0,1),,0,1)","v":3.2693203251793923E-2},{"$f":"_xlfn.XLOOKUP($A78,INDIRECT(\"'Curves \"&C$10&\"'!$A$14:$A$163\"),_xlfn.XLOOKUP(C$11&$J$3,INDIRECT(\"'Curves \"&C$10&\"'!$11:$11\")&INDIRECT(\"'Curves \"&C$10&\"'!$12:$12\"),INDIRECT(\"'Curves \"&C$10&\"'!$14:$163\"),,0,1),,0,1)","v":3.9778288288290886E-2},{"$f":"_xlfn.XLOOKUP($A78,INDIRECT(\"'Curves \"&D$10&\"'!$A$14:$A$163\"),_xlfn.XLOOKUP(D$11&$J$3,INDIRECT(\"'Curves \"&D$10&\"'!$11:$11\")&INDIRECT(\"'Curves \"&D$10&\"'!$12:$12\"),INDIRECT(\"'Curves \"&D$10&\"'!$14:$163\"),,0,1),,0,1)","v":2.2330739166729563E-2},null,{"$f":"_xlfn.XLOOKUP($A78,INDIRECT(\"'Curves \"&F$10&\"'!$A$14:$A$163\"),_xlfn.XLOOKUP(F$11&$J$3,INDIRECT(\"'Curves \"&F$10&\"'!$11:$11\")&INDIRECT(\"'Curves \"&F$10&\"'!$12:$12\"),INDIRECT(\"'Curves \"&F$10&\"'!$14:$163\"),,0,1),,0,1)","v":3.3776255720872728E-2},{"$f":"_xlfn.XLOOKUP($A78,INDIRECT(\"'Curves \"&G$10&\"'!$A$14:$A$163\"),_xlfn.XLOOKUP(G$11&$J$3,INDIRECT(\"'Curves \"&G$10&\"'!$11:$11\")&INDIRECT(\"'Curves \"&G$10&\"'!$12:$12\"),INDIRECT(\"'Curves \"&G$10&\"'!$14:$163\"),,0,1),,0,1)","v":4.0868771346452837E-2},{"$f":"_xlfn.XLOOKUP($A78,INDIRECT(\"'Curves \"&H$10&\"'!$A$14:$A$163\"),_xlfn.XLOOKUP(H$11&$J$3,INDIRECT(\"'Curves \"&H$10&\"'!$11:$11\")&INDIRECT(\"'Curves \"&H$10&\"'!$12:$12\"),INDIRECT(\"'Curves \"&H$10&\"'!$14:$163\"),,0,1),,0,1)","v":2.3402923846345125E-2}]
[67,{"$f":"_xlfn.XLOOKUP($A79,INDIRECT(\"'Curves \"&B$10&\"'!$A$14:$A$163\"),_xlfn.XLOOKUP(B$11&$J$3,INDIRECT(\"'Curves \"&B$10&\"'!$11:$11\")&INDIRECT(\"'Curves \"&B$10&\"'!$12:$12\"),INDIRECT(\"'Curves \"&B$10&\"'!$14:$163\"),,0,1),,0,1)","v":3.269776121824064E-2},{"$f":"_xlfn.XLOOKUP($A79,INDIRECT(\"'Curves \"&C$10&\"'!$A$14:$A$163\"),_xlfn.XLOOKUP(C$11&$J$3,INDIRECT(\"'Curves \"&C$10&\"'!$11:$11\")&INDIRECT(\"'Curves \"&C$10&\"'!$12:$12\"),INDIRECT(\"'Curves \"&C$10&\"'!$14:$163\"),,0,1),,0,1)","v":3.9699920947028566E-2},{"$f":"_xlfn.XLOOKUP($A79,INDIRECT(\"'Curves \"&D$10&\"'!$A$14:$A$163\"),_xlfn.XLOOKUP(D$11&$J$3,INDIRECT(\"'Curves \"&D$10&\"'!$11:$11\")&INDIRECT(\"'Curves \"&D$10&\"'!$12:$12\"),INDIRECT(\"'Curves \"&D$10&\"'!$14:$163\"),,0,1),,0,1)","v":2.2465076914590432E-2},null,{"$f":"_xlfn.XLOOKUP($A79,INDIRECT(\"'Curves \"&F$10&\"'!$A$14:$A$163\"),_xlfn.XLOOKUP(F$11&$J$3,INDIRECT(\"'Curves \"&F$10&\"'!$11:$11\")&INDIRECT(\"'Curves \"&F$10&\"'!$12:$12\"),INDIRECT(\"'Curves \"&F$10&\"'!$14:$163\"),,0,1),,0,1)","v":3.3764737193186178E-2},{"$f":"_xlfn.XLOOKUP($A79,INDIRECT(\"'Curves \"&G$10&\"'!$A$14:$A$163\"),_xlfn.XLOOKUP(G$11&$J$3,INDIRECT(\"'Curves \"&G$10&\"'!$11:$11\")&INDIRECT(\"'Curves \"&G$10&\"'!$12:$12\"),INDIRECT(\"'Curves \"&G$10&\"'!$14:$163\"),,0,1),,0,1)","v":4.0774131503556355E-2},{"$f":"_xlfn.XLOOKUP($A79,INDIRECT(\"'Curves \"&H$10&\"'!$A$14:$A$163\"),_xlfn.XLOOKUP(H$11&$J$3,INDIRECT(\"'Curves \"&H$10&\"'!$11:$11\")&INDIRECT(\"'Curves \"&H$10&\"'!$12:$12\"),INDIRECT(\"'Curves \"&H$10&\"'!$14:$163\"),,0,1),,0,1)","v":2.3521480552961771E-2}]
[68,{"$f":"_xlfn.XLOOKUP($A80,INDIRECT(\"'Curves \"&B$10&\"'!$A$14:$A$163\"),_xlfn.XLOOKUP(B$11&$J$3,INDIRECT(\"'Curves \"&B$10&\"'!$11:$11\")&INDIRECT(\"'Curves \"&B$10&\"'!$12:$12\"),INDIRECT(\"'Curves \"&B$10&\"'!$14:$163\"),,0,1),,0,1)","v":3.2702187241843372E-2},{"$f":"_xlfn.XLOOKUP($A80,INDIRECT(\"'Curves \"&C$10&\"'!$A$14:$A$163\"),_xlfn.XLOOKUP(C$11&$J$3,INDIRECT(\"'Curves \"&C$10&\"'!$11:$11\")&INDIRECT(\"'Curves \"&C$10&\"'!$12:$12\"),INDIRECT(\"'Curves \"&C$10&\"'!$14:$163\"),,0,1),,0,1)","v":3.9623801500010769E-2},{"$f":"_xlfn.XLOOKUP($A80,INDIRECT(\"'Curves \"&D$10&\"'!$A$14:$A$163\"),_xlfn.XLOOKUP(D$11&$J$3,INDIRECT(\"'Curves \"&D$10&\"'!$11:$11\")&INDIRECT(\"'Curves \"&D$10&\"'!$12:$12\"),INDIRECT(\"'Curves \"&D$10&\"'!$14:$163\"),,0,1),,0,1)","v":2.2595677094137123E-2},null,{"$f":"_xlfn.XLOOKUP($A80,INDIRECT(\"'Curves \"&F$10&\"'!$A$14:$A$163\"),_xlfn.XLOOKUP(F$11&$J$3,INDIRECT(\"'Curves \"&F$10&\"'!$11:$11\")&INDIRECT(\"'Curves \"&F$10&\"'!$12:$12\"),INDIRECT(\"'Curves \"&F$10&\"'!$14:$163\"),,0,1),,0,1)","v":3.3753550213202477E-2},{"$f":"_xlfn.XLOOKUP($A80,INDIRECT(\"'Curves \"&G$10&\"'!$A$14:$A$163\"),_xlfn.XLOOKUP(G$11&$J$3,INDIRECT(\"'Curves \"&G$10&\"'!$11:$11\")&INDIRECT(\"'Curves \"&G$10&\"'!$12:$12\"),INDIRECT(\"'Curves \"&G$10&\"'!$14:$163\"),,0,1),,0,1)","v":4.0682211158229675E-2},{"$f":"_xlfn.XLOOKUP($A80,INDIRECT(\"'Curves \"&H$10&\"'!$A$14:$A$163\"),_xlfn.XLOOKUP(H$11&$J$3,INDIRECT(\"'Curves \"&H$10&\"'!$11:$11\")&INDIRECT(\"'Curves \"&H$10&\"'!$12:$12\"),INDIRECT(\"'Curves \"&H$10&\"'!$14:$163\"),,0,1),,0,1)","v":2.3636750932123585E-2}]
[69,{"$f":"_xlfn.XLOOKUP($A81,INDIRECT(\"'Curves \"&B$10&\"'!$A$14:$A$163\"),_xlfn.XLOOKUP(B$11&$J$3,INDIRECT(\"'Curves \"&B$10&\"'!$11:$11\")&INDIRECT(\"'Curves \"&B$10&\"'!$12:$12\"),INDIRECT(\"'Curves \"&B$10&\"'!$14:$163\"),,0,1),,0,1)","v":3.2706486843306015E-2},{"$f":"_xlfn.XLOOKUP($A81,INDIRECT(\"'Curves \"&C$10&\"'!$A$14:$A$163\"),_xlfn.XLOOKUP(C$11&$J$3,INDIRECT(\"'Curves \"&C$10&\"'!$11:$11\")&INDIRECT(\"'Curves \"&C$10&\"'!$12:$12\"),INDIRECT(\"'Curves \"&C$10&\"'!$14:$163\"),,0,1),,0,1)","v":3.9549838417088035E-2},{"$f":"_xlfn.XLOOKUP($A81,INDIRECT(\"'Curves \"&D$10&\"'!$A$14:$A$163\"),_xlfn.XLOOKUP(D$11&$J$3,INDIRECT(\"'Curves \"&D$10&\"'!$11:$11\")&INDIRECT(\"'Curves \"&D$10&\"'!$12:$12\"),INDIRECT(\"'Curves \"&D$10&\"'!$14:$163\"),,0,1),,0,1)","v":2.2722681368206654E-2},null,{"$f":"_xlfn.XLOOKUP($A81,INDIRECT(\"'Curves \"&F$10&\"'!$A$14:$A$163\"),_xlfn.XLOOKUP(F$11&$J$3,INDIRECT(\"'Curves \"&F$10&\"'!$11:$11\")&INDIRECT(\"'Curves \"&F$10&\"'!$12:$12\"),INDIRECT(\"'Curves \"&F$10&\"'!$14:$163\"),,0,1),,0,1)","v":3.3742681115827233E-2},{"$f":"_xlfn.XLOOKUP($A81,INDIRECT(\"'Curves \"&G$10&\"'!$A$14:$A$163\"),_xlfn.XLOOKUP(G$11&$J$3,INDIRECT(\"'Curves \"&G$10&\"'!$11:$11\")&INDIRECT(\"'Curves \"&G$10&\"'!$12:$12\"),INDIRECT(\"'Curves \"&G$10&\"'!$14:$163\"),,0,1),,0,1)","v":4.0592899153407025E-2},{"$f":"_xlfn.XLOOKUP($A81,INDIRECT(\"'Curves \"&H$10&\"'!$A$14:$A$163\"),_xlfn.XLOOKUP(H$11&$J$3,INDIRECT(\"'Curves \"&H$10&\"'!$11:$11\")&INDIRECT(\"'Curves \"&H$10&\"'!$12:$12\"),INDIRECT(\"'Curves \"&H$10&\"'!$14:$163\"),,0,1),,0,1)","v":2.3748858116694471E-2}]
[70,{"$f":"_xlfn.XLOOKUP($A82,INDIRECT(\"'Curves \"&B$10&\"'!$A$14:$A$163\"),_xlfn.XLOOKUP(B$11&$J$3,INDIRECT(\"'Curves \"&B$10&\"'!$11:$11\")&INDIRECT(\"'Curves \"&B$10&\"'!$12:$12\"),INDIRECT(\"'Curves \"&B$10&\"'!$14:$163\"),,0,1),,0,1)","v":3.2710665249995774E-2},{"$f":"_xlfn.XLOOKUP($A82,INDIRECT(\"'Curves \"&C$10&\"'!$A$14:$A$163\"),_xlfn.XLOOKUP(C$11&$J$3,INDIRECT(\"'Curves \"&C$10&\"'!$11:$11\")&INDIRECT(\"'Curves \"&C$10&\"'!$12:$12\"),INDIRECT(\"'Curves \"&C$10&\"'!$14:$163\"),,0,1),,0,1)","v":3.9477944749049199E-2},{"$f":"_xlfn.XLOOKUP($A82,INDIRECT(\"'Curves \"&D$10&\"'!$A$14:$A$163\"),_xlfn.XLOOKUP(D$11&$J$3,INDIRECT(\"'Curves \"&D$10&\"'!$11:$11\")&INDIRECT(\"'Curves \"&D$10&\"'!$12:$12\"),INDIRECT(\"'Curves \"&D$10&\"'!$14:$163\"),,0,1),,0,1)","v":2.284622540498793E-2},null,{"$f":"_xlfn.XLOOKUP($A82,INDIRECT(\"'Curves \"&F$10&\"'!$A$14:$A$163\"),_xlfn.XLOOKUP(F$11&$J$3,INDIRECT(\"'Curves \"&F$10&\"'!$11:$11\")&INDIRECT(\"'Curves \"&F$10&\"'!$12:$12\"),INDIRECT(\"'Curves \"&F$10&\"'!$14:$163\"),,0,1),,0,1)","v":3.373211693955569E-2},{"$f":"_xlfn.XLOOKUP($A82,INDIRECT(\"'Curves \"&G$10&\"'!$A$14:$A$163\"),_xlfn.XLOOKUP(G$11&$J$3,INDIRECT(\"'Curves \"&G$10&\"'!$11:$11\")&INDIRECT(\"'Curves \"&G$10&\"'!$12:$12\"),INDIRECT(\"'Curves \"&G$10&\"'!$14:$163\"),,0,1),,0,1)","v":4.050608993884186E-2},{"$f":"_xlfn.XLOOKUP($A82,INDIRECT(\"'Curves \"&H$10&\"'!$A$14:$A$163\"),_xlfn.XLOOKUP(H$11&$J$3,INDIRECT(\"'Curves \"&H$10&\"'!$11:$11\")&INDIRECT(\"'Curves \"&H$10&\"'!$12:$12\"),INDIRECT(\"'Curves \"&H$10&\"'!$14:$163\"),,0,1),,0,1)","v":2.3857920200303084E-2}]
[71,{"$f":"_xlfn.XLOOKUP($A83,INDIRECT(\"'Curves \"&B$10&\"'!$A$14:$A$163\"),_xlfn.XLOOKUP(B$11&$J$3,INDIRECT(\"'Curves \"&B$10&\"'!$11:$11\")&INDIRECT(\"'Curves \"&B$10&\"'!$12:$12\"),INDIRECT(\"'Curves \"&B$10&\"'!$14:$163\"),,0,1),,0,1)","v":3.2714727414329348E-2},{"$f":"_xlfn.XLOOKUP($A83,INDIRECT(\"'Curves \"&C$10&\"'!$A$14:$A$163\"),_xlfn.XLOOKUP(C$11&$J$3,INDIRECT(\"'Curves \"&C$10&\"'!$11:$11\")&INDIRECT(\"'Curves \"&C$10&\"'!$12:$12\"),INDIRECT(\"'Curves \"&C$10&\"'!$14:$163\"),,0,1),,0,1)","v":3.9408037872290302E-2},{"$f":"_xlfn.XLOOKUP($A83,INDIRECT(\"'Curves \"&D$10&\"'!$A$14:$A$163\"),_xlfn.XLOOKUP(D$11&$J$3,INDIRECT(\"'Curves \"&D$10&\"'!$11:$11\")&INDIRECT(\"'Curves \"&D$10&\"'!$12:$12\"),INDIRECT(\"'Curves \"&D$10&\"'!$14:$163\"),,0,1),,0,1)","v":2.296643908652074E-2},null,{"$f":"_xlfn.XLOOKUP($A83,INDIRECT(\"'Curves \"&F$10&\"'!$A$14:$A$163\"),_xlfn.XLOOKUP(F$11&$J$3,INDIRECT(\"'Curves \"&F$10&\"'!$11:$11\")&INDIRECT(\"'Curves \"&F$10&\"'!$12:$12\"),INDIRECT(\"'Curves \"&F$10&\"'!$14:$163\"),,0,1),,0,1)","v":3.3721845384871107E-2},{"$f":"_xlfn.XLOOKUP($A83,INDIRECT(\"'Curves \"&G$10&\"'!$A$14:$A$163\"),_xlfn.XLOOKUP(G$11&$J$3,INDIRECT(\"'Curves \"&G$10&\"'!$11:$11\")&INDIRECT(\"'Curves \"&G$10&\"'!$12:$12\"),INDIRECT(\"'Curves \"&G$10&\"'!$14:$163\"),,0,1),,0,1)","v":4.0421683253612395E-2},{"$f":"_xlfn.XLOOKUP($A83,INDIRECT(\"'Curves \"&H$10&\"'!$A$14:$A$163\"),_xlfn.XLOOKUP(H$11&$J$3,INDIRECT(\"'Curves \"&H$10&\"'!$11:$11\")&INDIRECT(\"'Curves \"&H$10&\"'!$12:$12\"),INDIRECT(\"'Curves \"&H$10&\"'!$14:$163\"),,0,1),,0,1)","v":2.3964050388767477E-2}]
[72,{"$f":"_xlfn.XLOOKUP($A84,INDIRECT(\"'Curves \"&B$10&\"'!$A$14:$A$163\"),_xlfn.XLOOKUP(B$11&$J$3,INDIRECT(\"'Curves \"&B$10&\"'!$11:$11\")&INDIRECT(\"'Curves \"&B$10&\"'!$12:$12\"),INDIRECT(\"'Curves \"&B$10&\"'!$14:$163\"),,0,1),,0,1)","v":3.2718678030860371E-2},{"$f":"_xlfn.XLOOKUP($A84,INDIRECT(\"'Curves \"&C$10&\"'!$A$14:$A$163\"),_xlfn.XLOOKUP(C$11&$J$3,INDIRECT(\"'Curves \"&C$10&\"'!$11:$11\")&INDIRECT(\"'Curves \"&C$10&\"'!$12:$12\"),INDIRECT(\"'Curves \"&C$10&\"'!$14:$163\"),,0,1),,0,1)","v":3.9340039247814484E-2},{"$f":"_xlfn.XLOOKUP($A84,INDIRECT(\"'Curves \"&D$10&\"'!$A$14:$A$163\"),_xlfn.XLOOKUP(D$11&$J$3,INDIRECT(\"'Curves \"&D$10&\"'!$11:$11\")&INDIRECT(\"'Curves \"&D$10&\"'!$12:$12\"),INDIRECT(\"'Curves \"&D$10&\"'!$14:$163\"),,0,1),,0,1)","v":2.3083446721618106E-2},null,{"$f":"_xlfn.XLOOKUP($A84,INDIRECT(\"'Curves \"&F$10&\"'!$A$14:$A$163\"),_xlfn.XLOOKUP(F$11&$J$3,INDIRECT(\"'Curves \"&F$10&\"'!$11:$11\")&INDIRECT(\"'Curves \"&F$10&\"'!$12:$12\"),INDIRECT(\"'Curves \"&F$10&\"'!$14:$163\"),,0,1),,0,1)","v":3.3711854775294814E-2},{"$f":"_xlfn.XLOOKUP($A84,INDIRECT(\"'Curves \"&G$10&\"'!$A$14:$A$163\"),_xlfn.XLOOKUP(G$11&$J$3,INDIRECT(\"'Curves \"&G$10&\"'!$11:$11\")&INDIRECT(\"'Curves \"&G$10&\"'!$12:$12\"),INDIRECT(\"'Curves \"&G$10&\"'!$14:$163\"),,0,1),,0,1)","v":4.0339583827088132E-2},{"$f":"_xlfn.XLOOKUP($A84,INDIRECT(\"'Curves \"&H$10&\"'!$A$14:$A$163\"),_xlfn.XLOOKUP(H$11&$J$3,INDIRECT(\"'Curves \"&H$10&\"'!$11:$11\")&INDIRECT(\"'Curves \"&H$10&\"'!$12:$12\"),INDIRECT(\"'Curves \"&H$10&\"'!$14:$163\"),,0,1),,0,1)","v":2.4067357159683667E-2}]
[73,{"$f":"_xlfn.XLOOKUP($A85,INDIRECT(\"'Curves \"&B$10&\"'!$A$14:$A$163\"),_xlfn.XLOOKUP(B$11&$J$3,INDIRECT(\"'Curves \"&B$10&\"'!$11:$11\")&INDIRECT(\"'Curves \"&B$10&\"'!$12:$12\"),INDIRECT(\"'Curves \"&B$10&\"'!$14:$163\"),,0,1),,0,1)","v":3.2722521552168704E-2},{"$f":"_xlfn.XLOOKUP($A85,INDIRECT(\"'Curves \"&C$10&\"'!$A$14:$A$163\"),_xlfn.XLOOKUP(C$11&$J$3,INDIRECT(\"'Curves \"&C$10&\"'!$11:$11\")&INDIRECT(\"'Curves \"&C$10&\"'!$12:$12\"),INDIRECT(\"'Curves \"&C$10&\"'!$14:$163\"),,0,1),,0,1)","v":3.9273874193907155E-2},{"$f":"_xlfn.XLOOKUP($A85,INDIRECT(\"'Curves \"&D$10&\"'!$A$14:$A$163\"),_xlfn.XLOOKUP(D$11&$J$3,INDIRECT(\"'Curves \"&D$10&\"'!$11:$11\")&INDIRECT(\"'Curves \"&D$10&\"'!$12:$12\"),INDIRECT(\"'Curves \"&D$10&\"'!$14:$163\"),,0,1),,0,1)","v":2.3197367260562984E-2},null,{"$f":"_xlfn.XLOOKUP($A85,INDIRECT(\"'Curves \"&F$10&\"'!$A$14:$A$163\"),_xlfn.XLOOKUP(F$11&$J$3,INDIRECT(\"'Curves \"&F$10&\"'!$11:$11\")&INDIRECT(\"'Curves \"&F$10&\"'!$12:$12\"),INDIRECT(\"'Curves \"&F$10&\"'!$14:$163\"),,0,1),,0,1)","v":3.3702134020914265E-2},{"$f":"_xlfn.XLOOKUP($A85,INDIRECT(\"'Curves \"&G$10&\"'!$A$14:$A$163\"),_xlfn.XLOOKUP(G$11&$J$3,INDIRECT(\"'Curves \"&G$10&\"'!$11:$11\")&INDIRECT(\"'Curves \"&G$10&\"'!$12:$12\"),INDIRECT(\"'Curves \"&G$10&\"'!$14:$163\"),,0,1),,0,1)","v":4.0259701097412393E-2},{"$f":"_xlfn.XLOOKUP($A85,INDIRECT(\"'Curves \"&H$10&\"'!$A$14:$A$163\"),_xlfn.XLOOKUP(H$11&$J$3,INDIRECT(\"'Curves \"&H$10&\"'!$11:$11\")&INDIRECT(\"'Curves \"&H$10&\"'!$12:$12\"),INDIRECT(\"'Curves \"&H$10&\"'!$14:$163\"),,0,1),,0,1)","v":2.4167944427263777E-2}]
[74,{"$f":"_xlfn.XLOOKUP($A86,INDIRECT(\"'Curves \"&B$10&\"'!$A$14:$A$163\"),_xlfn.XLOOKUP(B$11&$J$3,INDIRECT(\"'Curves \"&B$10&\"'!$11:$11\")&INDIRECT(\"'Curves \"&B$10&\"'!$12:$12\"),INDIRECT(\"'Curves \"&B$10&\"'!$14:$163\"),,0,1),,0,1)","v":3.2726262203642609E-2},{"$f":"_xlfn.XLOOKUP($A86,INDIRECT(\"'Curves \"&C$10&\"'!$A$14:$A$163\"),_xlfn.XLOOKUP(C$11&$J$3,INDIRECT(\"'Curves \"&C$10&\"'!$11:$11\")&INDIRECT(\"'Curves \"&C$10&\"'!$12:$12\"),INDIRECT(\"'Curves \"&C$10&\"'!$14:$163\"),,0,1),,0,1)","v":3.9209471671821428E-2},{"$f":"_xlfn.XLOOKUP($A86,INDIRECT(\"'Curves \"&D$10&\"'!$A$14:$A$163\"),_xlfn.XLOOKUP(D$11&$J$3,INDIRECT(\"'Curves \"&D$10&\"'!$11:$11\")&INDIRECT(\"'Curves \"&D$10&\"'!$12:$12\"),INDIRECT(\"'Curves \"&D$10&\"'!$14:$163\"),,0,1),,0,1)","v":2.3308314509441708E-2},null,{"$f":"_xlfn.XLOOKUP($A86,INDIRECT(\"'Curves \"&F$10&\"'!$A$14:$A$163\"),_xlfn.XLOOKUP(F$11&$J$3,INDIRECT(\"'Curves \"&F$10&\"'!$11:$11\")&INDIRECT(\"'Curves \"&F$10&\"'!$12:$12\"),INDIRECT(\"'Curves \"&F$10&\"'!$14:$163\"),,0,1),,0,1)","v":3.3692672584230365E-2},{"$f":"_xlfn.XLOOKUP($A86,INDIRECT(\"'Curves \"&G$10&\"'!$A$14:$A$163\"),_xlfn.XLOOKUP(G$11&$J$3,INDIRECT(\"'Curves \"&G$10&\"'!$11:$11\")&INDIRECT(\"'Curves \"&G$10&\"'!$12:$12\"),INDIRECT(\"'Curves \"&G$10&\"'!$14:$163\"),,0,1),,0,1)","v":4.0181948946569568E-2},{"$f":"_xlfn.XLOOKUP($A86,INDIRECT(\"'Curves \"&H$10&\"'!$A$14:$A$163\"),_xlfn.XLOOKUP(H$11&$J$3,INDIRECT(\"'Curves \"&H$10&\"'!$11:$11\")&INDIRECT(\"'Curves \"&H$10&\"'!$12:$12\"),INDIRECT(\"'Curves \"&H$10&\"'!$14:$163\"),,0,1),,0,1)","v":2.4265911710052768E-2}]
[75,{"$f":"_xlfn.XLOOKUP($A87,INDIRECT(\"'Curves \"&B$10&\"'!$A$14:$A$163\"),_xlfn.XLOOKUP(B$11&$J$3,INDIRECT(\"'Curves \"&B$10&\"'!$11:$11\")&INDIRECT(\"'Curves \"&B$10&\"'!$12:$12\"),INDIRECT(\"'Curves \"&B$10&\"'!$14:$163\"),,0,1),,0,1)","v":3.272990399724085E-2},{"$f":"_xlfn.XLOOKUP($A87,INDIRECT(\"'Curves \"&C$10&\"'!$A$14:$A$163\"),_xlfn.XLOOKUP(C$11&$J$3,INDIRECT(\"'Curves \"&C$10&\"'!$11:$11\")&INDIRECT(\"'Curves \"&C$10&\"'!$12:$12\"),INDIRECT(\"'Curves \"&C$10&\"'!$14:$163\"),,0,1),,0,1)","v":3.9146764083823893E-2},{"$f":"_xlfn.XLOOKUP($A87,INDIRECT(\"'Curves \"&D$10&\"'!$A$14:$A$163\"),_xlfn.XLOOKUP(D$11&$J$3,INDIRECT(\"'Curves \"&D$10&\"'!$11:$11\")&INDIRECT(\"'Curves \"&D$10&\"'!$12:$12\"),INDIRECT(\"'Curves \"&D$10&\"'!$14:$163\"),,0,1),,0,1)","v":2.3416397342409967E-2},null,{"$f":"_xlfn.XLOOKUP($A87,INDIRECT(\"'Curves \"&F$10&\"'!$A$14:$A$163\"),_xlfn.XLOOKUP(F$11&$J$3,INDIRECT(\"'Curves \"&F$10&\"'!$11:$11\")&INDIRECT(\"'Curves \"&F$10&\"'!$12:$12\"),INDIRECT(\"'Curves \"&F$10&\"'!$14:$163\"),,0,1),,0,1)","v":3.3683460448174385E-2},{"$f":"_xlfn.XLOOKUP($A87,INDIRECT(\"'Curves \"&G$10&\"'!$A$14:$A$163\"),_xlfn.XLOOKUP(G$11&$J$3,INDIRECT(\"'Curves \"&G$10&\"'!$11:$11\")&INDIRECT(\"'Curves \"&G$10&\"'!$12:$12\"),INDIRECT(\"'Curves \"&G$10&\"'!$14:$163\"),,0,1),,0,1)","v":4.0106245451143163E-2},{"$f":"_xlfn.XLOOKUP($A87,INDIRECT(\"'Curves \"&H$10&\"'!$A$14:$A$163\"),_xlfn.XLOOKUP(H$11&$J$3,INDIRECT(\"'Curves \"&H$10&\"'!$11:$11\")&INDIRECT(\"'Curves \"&H$10&\"'!$12:$12\"),INDIRECT(\"'Curves \"&H$10&\"'!$14:$163\"),,0,1),,0,1)","v":2.4361354299596849E-2}]
[76,{"$f":"_xlfn.XLOOKUP($A88,INDIRECT(\"'Curves \"&B$10&\"'!$A$14:$A$163\"),_xlfn.XLOOKUP(B$11&$J$3,INDIRECT(\"'Curves \"&B$10&\"'!$11:$11\")&INDIRECT(\"'Curves \"&B$10&\"'!$12:$12\"),INDIRECT(\"'Curves \"&B$10&\"'!$14:$163\"),,0,1),,0,1)","v":3.2733450744308223E-2},{"$f":"_xlfn.XLOOKUP($A88,INDIRECT(\"'Curves \"&C$10&\"'!$A$14:$A$163\"),_xlfn.XLOOKUP(C$11&$J$3,INDIRECT(\"'Curves \"&C$10&\"'!$11:$11\")&INDIRECT(\"'Curves \"&C$10&\"'!$12:$12\"),INDIRECT(\"'Curves \"&C$10&\"'!$14:$163\"),,0,1),,0,1)","v":3.9085687082953013E-2},{"$f":"_xlfn.XLOOKUP($A88,INDIRECT(\"'Curves \"&D$10&\"'!$A$14:$A$163\"),_xlfn.XLOOKUP(D$11&$J$3,INDIRECT(\"'Curves \"&D$10&\"'!$11:$11\")&INDIRECT(\"'Curves \"&D$10&\"'!$12:$12\"),INDIRECT(\"'Curves \"&D$10&\"'!$14:$163\"),,0,1),,0,1)","v":2.3521719910537531E-2},null,{"$f":"_xlfn.XLOOKUP($A88,INDIRECT(\"'Curves \"&F$10&\"'!$A$14:$A$163\"),_xlfn.XLOOKUP(F$11&$J$3,INDIRECT(\"'Curves \"&F$10&\"'!$11:$11\")&INDIRECT(\"'Curves \"&F$10&\"'!$12:$12\"),INDIRECT(\"'Curves \"&F$10&\"'!$14:$163\"),,0,1),,0,1)","v":3.3674488086150811E-2},{"$f":"_xlfn.XLOOKUP($A88,INDIRECT(\"'Curves \"&G$10&\"'!$A$14:$A$163\"),_xlfn.XLOOKUP(G$11&$J$3,INDIRECT(\"'Curves \"&G$10&\"'!$11:$11\")&INDIRECT(\"'Curves \"&G$10&\"'!$12:$12\"),INDIRECT(\"'Curves \"&G$10&\"'!$14:$163\"),,0,1),,0,1)","v":4.0032512647879326E-2},{"$f":"_xlfn.XLOOKUP($A88,INDIRECT(\"'Curves \"&H$10&\"'!$A$14:$A$163\"),_xlfn.XLOOKUP(H$11&$J$3,INDIRECT(\"'Curves \"&H$10&\"'!$11:$11\")&INDIRECT(\"'Curves \"&H$10&\"'!$12:$12\"),INDIRECT(\"'Curves \"&H$10&\"'!$14:$163\"),,0,1),,0,1)","v":2.4454363428503045E-2}]
[77,{"$f":"_xlfn.XLOOKUP($A89,INDIRECT(\"'Curves \"&B$10&\"'!$A$14:$A$163\"),_xlfn.XLOOKUP(B$11&$J$3,INDIRECT(\"'Curves \"&B$10&\"'!$11:$11\")&INDIRECT(\"'Curves \"&B$10&\"'!$12:$12\"),INDIRECT(\"'Curves \"&B$10&\"'!$14:$163\"),,0,1),,0,1)","v":3.2736906067521332E-2},{"$f":"_xlfn.XLOOKUP($A89,INDIRECT(\"'Curves \"&C$10&\"'!$A$14:$A$163\"),_xlfn.XLOOKUP(C$11&$J$3,INDIRECT(\"'Curves \"&C$10&\"'!$11:$11\")&INDIRECT(\"'Curves \"&C$10&\"'!$12:$12\"),INDIRECT(\"'Curves \"&C$10&\"'!$14:$163\"),,0,1),,0,1)","v":3.9026179393863103E-2},{"$f":"_xlfn.XLOOKUP($A89,INDIRECT(\"'Curves \"&D$10&\"'!$A$14:$A$163\"),_xlfn.XLOOKUP(D$11&$J$3,INDIRECT(\"'Curves \"&D$10&\"'!$11:$11\")&INDIRECT(\"'Curves \"&D$10&\"'!$12:$12\"),INDIRECT(\"'Curves \"&D$10&\"'!$14:$163\"),,0,1),,0,1)","v":2.3624381846183651E-2},null,{"$f":"_xlfn.XLOOKUP($A89,INDIRECT(\"'Curves \"&F$10&\"'!$A$14:$A$163\"),_xlfn.XLOOKUP(F$11&$J$3,INDIRECT(\"'Curves \"&F$10&\"'!$11:$11\")&INDIRECT(\"'Curves \"&F$10&\"'!$12:$12\"),INDIRECT(\"'Curves \"&F$10&\"'!$14:$163\"),,0,1),,0,1)","v":3.3665746433972243E-2},{"$f":"_xlfn.XLOOKUP($A89,INDIRECT(\"'Curves \"&G$10&\"'!$A$14:$A$163\"),_xlfn.XLOOKUP(G$11&$J$3,INDIRECT(\"'Curves \"&G$10&\"'!$11:$11\")&INDIRECT(\"'Curves \"&G$10&\"'!$12:$12\"),INDIRECT(\"'Curves \"&G$10&\"'!$14:$163\"),,0,1),,0,1)","v":3.9960676313214316E-2},{"$f":"_xlfn.XLOOKUP($A89,INDIRECT(\"'Curves \"&H$10&\"'!$A$14:$A$163\"),_xlfn.XLOOKUP(H$11&$J$3,INDIRECT(\"'Curves \"&H$10&\"'!$11:$11\")&INDIRECT(\"'Curves \"&H$10&\"'!$12:$12\"),INDIRECT(\"'Curves \"&H$10&\"'!$14:$163\"),,0,1),,0,1)","v":2.4545026436646245E-2}]
[78,{"$f":"_xlfn.XLOOKUP($A90,INDIRECT(\"'Curves \"&B$10&\"'!$A$14:$A$163\"),_xlfn.XLOOKUP(B$11&$J$3,INDIRECT(\"'Curves \"&B$10&\"'!$11:$11\")&INDIRECT(\"'Curves \"&B$10&\"'!$12:$12\"),INDIRECT(\"'Curves \"&B$10&\"'!$14:$163\"),,0,1),,0,1)","v":3.2740273412023901E-2},{"$f":"_xlfn.XLOOKUP($A90,INDIRECT(\"'Curves \"&C$10&\"'!$A$14:$A$163\"),_xlfn.XLOOKUP(C$11&$J$3,INDIRECT(\"'Curves \"&C$10&\"'!$11:$11\")&INDIRECT(\"'Curves \"&C$10&\"'!$12:$12\"),INDIRECT(\"'Curves \"&C$10&\"'!$14:$163\"),,0,1),,0,1)","v":3.8968182644146143E-2},{"$f":"_xlfn.XLOOKUP($A90,INDIRECT(\"'Curves \"&D$10&\"'!$A$14:$A$163\"),_xlfn.XLOOKUP(D$11&$J$3,INDIRECT(\"'Curves \"&D$10&\"'!$11:$11\")&INDIRECT(\"'Curves \"&D$10&\"'!$12:$12\"),INDIRECT(\"'Curves \"&D$10&\"'!$14:$163\"),,0,1),,0,1)","v":2.3724478462094911E-2},null,{"$f":"_xlfn.XLOOKUP($A90,INDIRECT(\"'Curves \"&F$10&\"'!$A$14:$A$163\"),_xlfn.XLOOKUP(F$11&$J$3,INDIRECT(\"'Curves \"&F$10&\"'!$11:$11\")&INDIRECT(\"'Curves \"&F$10&\"'!$12:$12\"),INDIRECT(\"'Curves \"&F$10&\"'!$14:$163\"),,0,1),,0,1)","v":3.3657226863566869E-2},{"$f":"_xlfn.XLOOKUP($A90,INDIRECT(\"'Curves \"&G$10&\"'!$A$14:$A$163\"),_xlfn.XLOOKUP(G$11&$J$3,INDIRECT(\"'Curves \"&G$10&\"'!$11:$11\")&INDIRECT(\"'Curves \"&G$10&\"'!$12:$12\"),INDIRECT(\"'Curves \"&G$10&\"'!$14:$163\"),,0,1),,0,1)","v":3.9890665755965893E-2},{"$f":"_xlfn.XLOOKUP($A90,INDIRECT(\"'Curves \"&H$10&\"'!$A$14:$A$163\"),_xlfn.XLOOKUP(H$11&$J$3,INDIRECT(\"'Curves \"&H$10&\"'!$11:$11\")&INDIRECT(\"'Curves \"&H$10&\"'!$12:$12\"),INDIRECT(\"'Curves \"&H$10&\"'!$14:$163\"),,0,1),,0,1)","v":2.4633426934544289E-2}]
[79,{"$f":"_xlfn.XLOOKUP($A91,INDIRECT(\"'Curves \"&B$10&\"'!$A$14:$A$163\"),_xlfn.XLOOKUP(B$11&$J$3,INDIRECT(\"'Curves \"&B$10&\"'!$11:$11\")&INDIRECT(\"'Curves \"&B$10&\"'!$12:$12\"),INDIRECT(\"'Curves \"&B$10&\"'!$14:$163\"),,0,1),,0,1)","v":3.2743556055816248E-2},{"$f":"_xlfn.XLOOKUP($A91,INDIRECT(\"'Curves \"&C$10&\"'!$A$14:$A$163\"),_xlfn.XLOOKUP(C$11&$J$3,INDIRECT(\"'Curves \"&C$10&\"'!$11:$11\")&INDIRECT(\"'Curves \"&C$10&\"'!$12:$12\"),INDIRECT(\"'Curves \"&C$10&\"'!$14:$163\"),,0,1),,0,1)","v":3.8911641205542136E-2},{"$f":"_xlfn.XLOOKUP($A91,INDIRECT(\"'Curves \"&D$10&\"'!$A$14:$A$163\"),_xlfn.XLOOKUP(D$11&$J$3,INDIRECT(\"'Curves \"&D$10&\"'!$11:$11\")&INDIRECT(\"'Curves \"&D$10&\"'!$12:$12\"),INDIRECT(\"'Curves \"&D$10&\"'!$14:$163\"),,0,1),,0,1)","v":2.3822100944627778E-2},null,{"$f":"_xlfn.XLOOKUP($A91,INDIRECT(\"'Curves \"&F$10&\"'!$A$14:$A$163\"),_xlfn.XLOOKUP(F$11&$J$3,INDIRECT(\"'Curves \"&F$10&\"'!$11:$11\")&INDIRECT(\"'Curves \"&F$10&\"'!$12:$12\"),INDIRECT(\"'Curves \"&F$10&\"'!$14:$163\"),,0,1),,0,1)","v":3.3648921158335066E-2},{"$f":"_xlfn.XLOOKUP($A91,INDIRECT(\"'Curves \"&G$10&\"'!$A$14:$A$163\"),_xlfn.XLOOKUP(G$11&$J$3,INDIRECT(\"'Curves \"&G$10&\"'!$11:$11\")&INDIRECT(\"'Curves \"&G$10&\"'!$12:$12\"),INDIRECT(\"'Curves \"&G$10&\"'!$14:$163\"),,0,1),,0,1)","v":3.9822413622404573E-2},{"$f":"_xlfn.XLOOKUP($A91,INDIRECT(\"'Curves \"&H$10&\"'!$A$14:$A$163\"),_xlfn.XLOOKUP(H$11&$J$3,INDIRECT(\"'Curves \"&H$10&\"'!$11:$11\")&INDIRECT(\"'Curves \"&H$10&\"'!$12:$12\"),INDIRECT(\"'Curves \"&H$10&\"'!$14:$163\"),,0,1),,0,1)","v":2.4719644963128173E-2}]
[80,{"$f":"_xlfn.XLOOKUP($A92,INDIRECT(\"'Curves \"&B$10&\"'!$A$14:$A$163\"),_xlfn.XLOOKUP(B$11&$J$3,INDIRECT(\"'Curves \"&B$10&\"'!$11:$11\")&INDIRECT(\"'Curves \"&B$10&\"'!$12:$12\"),INDIRECT(\"'Curves \"&B$10&\"'!$14:$163\"),,0,1),,0,1)","v":3.2746757119452852E-2},{"$f":"_xlfn.XLOOKUP($A92,INDIRECT(\"'Curves \"&C$10&\"'!$A$14:$A$163\"),_xlfn.XLOOKUP(C$11&$J$3,INDIRECT(\"'Curves \"&C$10&\"'!$11:$11\")&INDIRECT(\"'Curves \"&C$10&\"'!$12:$12\"),INDIRECT(\"'Curves \"&C$10&\"'!$14:$163\"),,0,1),,0,1)","v":3.885650204447777E-2},{"$f":"_xlfn.XLOOKUP($A92,INDIRECT(\"'Curves \"&D$10&\"'!$A$14:$A$163\"),_xlfn.XLOOKUP(D$11&$J$3,INDIRECT(\"'Curves \"&D$10&\"'!$11:$11\")&INDIRECT(\"'Curves \"&D$10&\"'!$12:$12\"),INDIRECT(\"'Curves \"&D$10&\"'!$14:$163\"),,0,1),,0,1)","v":2.3917336540661083E-2},null,{"$f":"_xlfn.XLOOKUP($A92,INDIRECT(\"'Curves \"&F$10&\"'!$A$14:$A$163\"),_xlfn.XLOOKUP(F$11&$J$3,INDIRECT(\"'Curves \"&F$10&\"'!$11:$11\")&INDIRECT(\"'Curves \"&F$10&\"'!$12:$12\"),INDIRECT(\"'Curves \"&F$10&\"'!$14:$163\"),,0,1),,0,1)","v":3.3640821490050987E-2},{"$f":"_xlfn.XLOOKUP($A92,INDIRECT(\"'Curves \"&G$10&\"'!$A$14:$A$163\"),_xlfn.XLOOKUP(G$11&$J$3,INDIRECT(\"'Curves \"&G$10&\"'!$11:$11\")&INDIRECT(\"'Curves \"&G$10&\"'!$12:$12\"),INDIRECT(\"'Curves \"&G$10&\"'!$14:$163\"),,0,1),,0,1)","v":3.9755855712973354E-2},{"$f":"_xlfn.XLOOKUP($A92,INDIRECT(\"'Curves \"&H$10&\"'!$A$14:$A$163\"),_xlfn.XLOOKUP(H$11&$J$3,INDIRECT(\"'Curves \"&H$10&\"'!$11:$11\")&INDIRECT(\"'Curves \"&H$10&\"'!$12:$12\"),INDIRECT(\"'Curves \"&H$10&\"'!$14:$163\"),,0,1),,0,1)","v":2.4803757149322481E-2}]
[81,{"$f":"_xlfn.XLOOKUP($A93,INDIRECT(\"'Curves \"&B$10&\"'!$A$14:$A$163\"),_xlfn.XLOOKUP(B$11&$J$3,INDIRECT(\"'Curves \"&B$10&\"'!$11:$11\")&INDIRECT(\"'Curves \"&B$10&\"'!$12:$12\"),INDIRECT(\"'Curves \"&B$10&\"'!$14:$163\"),,0,1),,0,1)","v":3.2749879575098007E-2},{"$f":"_xlfn.XLOOKUP($A93,INDIRECT(\"'Curves \"&C$10&\"'!$A$14:$A$163\"),_xlfn.XLOOKUP(C$11&$J$3,INDIRECT(\"'Curves \"&C$10&\"'!$11:$11\")&INDIRECT(\"'Curves \"&C$10&\"'!$12:$12\"),INDIRECT(\"'Curves \"&C$10&\"'!$14:$163\"),,0,1),,0,1)","v":3.8802714581389175E-2},{"$f":"_xlfn.XLOOKUP($A93,INDIRECT(\"'Curves \"&D$10&\"'!$A$14:$A$163\"),_xlfn.XLOOKUP(D$11&$J$3,INDIRECT(\"'Curves \"&D$10&\"'!$11:$11\")&INDIRECT(\"'Curves \"&D$10&\"'!$12:$12\"),INDIRECT(\"'Curves \"&D$10&\"'!$14:$163\"),,0,1),,0,1)","v":2.4010268737911789E-2},null,{"$f":"_xlfn.XLOOKUP($A93,INDIRECT(\"'Curves \"&F$10&\"'!$A$14:$A$163\"),_xlfn.XLOOKUP(F$11&$J$3,INDIRECT(\"'Curves \"&F$10&\"'!$11:$11\")&INDIRECT(\"'Curves \"&F$10&\"'!$12:$12\"),INDIRECT(\"'Curves \"&F$10&\"'!$14:$163\"),,0,1),,0,1)","v":3.3632920397205446E-2},{"$f":"_xlfn.XLOOKUP($A93,INDIRECT(\"'Curves \"&G$10&\"'!$A$14:$A$163\"),_xlfn.XLOOKUP(G$11&$J$3,INDIRECT(\"'Curves \"&G$10&\"'!$11:$11\")&INDIRECT(\"'Curves \"&G$10&\"'!$12:$12\"),INDIRECT(\"'Curves \"&G$10&\"'!$14:$163\"),,0,1),,0,1)","v":3.9690930809958225E-2},{"$f":"_xlfn.XLOOKUP($A93,INDIRECT(\"'Curves \"&H$10&\"'!$A$14:$A$163\"),_xlfn.XLOOKUP(H$11&$J$3,INDIRECT(\"'Curves \"&H$10&\"'!$11:$11\")&INDIRECT(\"'Curves \"&H$10&\"'!$12:$12\"),INDIRECT(\"'Curves \"&H$10&\"'!$14:$163\"),,0,1),,0,1)","v":2.4885836857004406E-2}]
[82,{"$f":"_xlfn.XLOOKUP($A94,INDIRECT(\"'Curves \"&B$10&\"'!$A$14:$A$163\"),_xlfn.XLOOKUP(B$11&$J$3,INDIRECT(\"'Curves \"&B$10&\"'!$11:$11\")&INDIRECT(\"'Curves \"&B$10&\"'!$12:$12\"),INDIRECT(\"'Curves \"&B$10&\"'!$14:$163\"),,0,1),,0,1)","v":3.2752926254986603E-2},{"$f":"_xlfn.XLOOKUP($A94,INDIRECT(\"'Curves \"&C$10&\"'!$A$14:$A$163\"),_xlfn.XLOOKUP(C$11&$J$3,INDIRECT(\"'Curves \"&C$10&\"'!$11:$11\")&INDIRECT(\"'Curves \"&C$10&\"'!$12:$12\"),INDIRECT(\"'Curves \"&C$10&\"'!$14:$163\"),,0,1),,0,1)","v":3.8750230558322274E-2},{"$f":"_xlfn.XLOOKUP($A94,INDIRECT(\"'Curves \"&D$10&\"'!$A$14:$A$163\"),_xlfn.XLOOKUP(D$11&$J$3,INDIRECT(\"'Curves \"&D$10&\"'!$11:$11\")&INDIRECT(\"'Curves \"&D$10&\"'!$12:$12\"),INDIRECT(\"'Curves \"&D$10&\"'!$14:$163\"),,0,1),,0,1)","v":2.4100977438472393E-2},null,{"$f":"_xlfn.XLOOKUP($A94,INDIRECT(\"'Curves \"&F$10&\"'!$A$14:$A$163\"),_xlfn.XLOOKUP(F$11&$J$3,INDIRECT(\"'Curves \"&F$10&\"'!$11:$11\")&INDIRECT(\"'Curves \"&F$10&\"'!$12:$12\"),INDIRECT(\"'Curves \"&F$10&\"'!$14:$163\"),,0,1),,0,1)","v":3.3625210764694158E-2},{"$f":"_xlfn.XLOOKUP($A94,INDIRECT(\"'Curves \"&G$10&\"'!$A$14:$A$163\"),_xlfn.XLOOKUP(G$11&$J$3,INDIRECT(\"'Curves \"&G$10&\"'!$11:$11\")&INDIRECT(\"'Curves \"&G$10&\"'!$12:$12\"),INDIRECT(\"'Curves \"&G$10&\"'!$14:$163\"),,0,1),,0,1)","v":3.9627580515448013E-2},{"$f":"_xlfn.XLOOKUP($A94,INDIRECT(\"'Curves \"&H$10&\"'!$A$14:$A$163\"),_xlfn.XLOOKUP(H$11&$J$3,INDIRECT(\"'Curves \"&H$10&\"'!$11:$11\")&INDIRECT(\"'Curves \"&H$10&\"'!$12:$12\"),INDIRECT(\"'Curves \"&H$10&\"'!$14:$163\"),,0,1),,0,1)","v":2.4965954333028506E-2}]
[83,{"$f":"_xlfn.XLOOKUP($A95,INDIRECT(\"'Curves \"&B$10&\"'!$A$14:$A$163\"),_xlfn.XLOOKUP(B$11&$J$3,INDIRECT(\"'Curves \"&B$10&\"'!$11:$11\")&INDIRECT(\"'Curves \"&B$10&\"'!$12:$12\"),INDIRECT(\"'Curves \"&B$10&\"'!$14:$163\"),,0,1),,0,1)","v":3.2755899859335136E-2},{"$f":"_xlfn.XLOOKUP($A95,INDIRECT(\"'Curves \"&C$10&\"'!$A$14:$A$163\"),_xlfn.XLOOKUP(C$11&$J$3,INDIRECT(\"'Curves \"&C$10&\"'!$11:$11\")&INDIRECT(\"'Curves \"&C$10&\"'!$12:$12\"),INDIRECT(\"'Curves \"&C$10&\"'!$14:$163\"),,0,1),,0,1)","v":3.8699003914312469E-2},{"$f":"_xlfn.XLOOKUP($A95,INDIRECT(\"'Curves \"&D$10&\"'!$A$14:$A$163\"),_xlfn.XLOOKUP(D$11&$J$3,INDIRECT(\"'Curves \"&D$10&\"'!$11:$11\")&INDIRECT(\"'Curves \"&D$10&\"'!$12:$12\"),INDIRECT(\"'Curves \"&D$10&\"'!$14:$163\"),,0,1),,0,1)","v":2.4189539125484938E-2},null,{"$f":"_xlfn.XLOOKUP($A95,INDIRECT(\"'Curves \"&F$10&\"'!$A$14:$A$163\"),_xlfn.XLOOKUP(F$11&$J$3,INDIRECT(\"'Curves \"&F$10&\"'!$11:$11\")&INDIRECT(\"'Curves \"&F$10&\"'!$12:$12\"),INDIRECT(\"'Curves \"&F$10&\"'!$14:$163\"),,0,1),,0,1)","v":3.3617685804762987E-2},{"$f":"_xlfn.XLOOKUP($A95,INDIRECT(\"'Curves \"&G$10&\"'!$A$14:$A$163\"),_xlfn.XLOOKUP(G$11&$J$3,INDIRECT(\"'Curves \"&G$10&\"'!$11:$11\")&INDIRECT(\"'Curves \"&G$10&\"'!$12:$12\"),INDIRECT(\"'Curves \"&G$10&\"'!$14:$163\"),,0,1),,0,1)","v":3.9565749098944281E-2},{"$f":"_xlfn.XLOOKUP($A95,INDIRECT(\"'Curves \"&H$10&\"'!$A$14:$A$163\"),_xlfn.XLOOKUP(H$11&$J$3,INDIRECT(\"'Curves \"&H$10&\"'!$11:$11\")&INDIRECT(\"'Curves \"&H$10&\"'!$12:$12\"),INDIRECT(\"'Curves \"&H$10&\"'!$14:$163\"),,0,1),,0,1)","v":2.5044176848099564E-2}]
[84,{"$f":"_xlfn.XLOOKUP($A96,INDIRECT(\"'Curves \"&B$10&\"'!$A$14:$A$163\"),_xlfn.XLOOKUP(B$11&$J$3,INDIRECT(\"'Curves \"&B$10&\"'!$11:$11\")&INDIRECT(\"'Curves \"&B$10&\"'!$12:$12\"),INDIRECT(\"'Curves \"&B$10&\"'!$14:$163\"),,0,1),,0,1)","v":3.2758802963739786E-2},{"$f":"_xlfn.XLOOKUP($A96,INDIRECT(\"'Curves \"&C$10&\"'!$A$14:$A$163\"),_xlfn.XLOOKUP(C$11&$J$3,INDIRECT(\"'Curves \"&C$10&\"'!$11:$11\")&INDIRECT(\"'Curves \"&C$10&\"'!$12:$12\"),INDIRECT(\"'Curves \"&C$10&\"'!$14:$163\"),,0,1),,0,1)","v":3.86489906680898E-2},{"$f":"_xlfn.XLOOKUP($A96,INDIRECT(\"'Curves \"&D$10&\"'!$A$14:$A$163\"),_xlfn.XLOOKUP(D$11&$J$3,INDIRECT(\"'Curves \"&D$10&\"'!$11:$11\")&INDIRECT(\"'Curves \"&D$10&\"'!$12:$12\"),INDIRECT(\"'Curves \"&D$10&\"'!$14:$163\"),,0,1),,0,1)","v":2.4276027022945845E-2},null,{"$f":"_xlfn.XLOOKUP($A96,INDIRECT(\"'Curves \"&F$10&\"'!$A$14:$A$163\"),_xlfn.XLOOKUP(F$11&$J$3,INDIRECT(\"'Curves \"&F$10&\"'!$11:$11\")&INDIRECT(\"'Curves \"&F$10&\"'!$12:$12\"),INDIRECT(\"'Curves \"&F$10&\"'!$14:$163\"),,0,1),,0,1)","v":3.3610339039129133E-2},{"$f":"_xlfn.XLOOKUP($A96,INDIRECT(\"'Curves \"&G$10&\"'!$A$14:$A$163\"),_xlfn.XLOOKUP(G$11&$J$3,INDIRECT(\"'Curves \"&G$10&\"'!$11:$11\")&INDIRECT(\"'Curves \"&G$10&\"'!$12:$12\"),INDIRECT(\"'Curves \"&G$10&\"'!$14:$163\"),,0,1),,0,1)","v":3.9505383354051515E-2},{"$f":"_xlfn.XLOOKUP($A96,INDIRECT(\"'Curves \"&H$10&\"'!$A$14:$A$163\"),_xlfn.XLOOKUP(H$11&$J$3,INDIRECT(\"'Curves \"&H$10&\"'!$11:$11\")&INDIRECT(\"'Curves \"&H$10&\"'!$12:$12\"),INDIRECT(\"'Curves \"&H$10&\"'!$14:$163\"),,0,1),,0,1)","v":2.512056883238234E-2}]
[85,{"$f":"_xlfn.XLOOKUP($A97,INDIRECT(\"'Curves \"&B$10&\"'!$A$14:$A$163\"),_xlfn.XLOOKUP(B$11&$J$3,INDIRECT(\"'Curves \"&B$10&\"'!$11:$11\")&INDIRECT(\"'Curves \"&B$10&\"'!$12:$12\"),INDIRECT(\"'Curves \"&B$10&\"'!$14:$163\"),,0,1),,0,1)","v":3.2761638026099327E-2},{"$f":"_xlfn.XLOOKUP($A97,INDIRECT(\"'Curves \"&C$10&\"'!$A$14:$A$163\"),_xlfn.XLOOKUP(C$11&$J$3,INDIRECT(\"'Curves \"&C$10&\"'!$11:$11\")&INDIRECT(\"'Curves \"&C$10&\"'!$12:$12\"),INDIRECT(\"'Curves \"&C$10&\"'!$14:$163\"),,0,1),,0,1)","v":3.8600148807660606E-2},{"$f":"_xlfn.XLOOKUP($A97,INDIRECT(\"'Curves \"&D$10&\"'!$A$14:$A$163\"),_xlfn.XLOOKUP(D$11&$J$3,INDIRECT(\"'Curves \"&D$10&\"'!$11:$11\")&INDIRECT(\"'Curves \"&D$10&\"'!$12:$12\"),INDIRECT(\"'Curves \"&D$10&\"'!$14:$163\"),,0,1),,0,1)","v":2.4360511248687544E-2},null,{"$f":"_xlfn.XLOOKUP($A97,INDIRECT(\"'Curves \"&F$10&\"'!$A$14:$A$163\"),_xlfn.XLOOKUP(F$11&$J$3,INDIRECT(\"'Curves \"&F$10&\"'!$11:$11\")&INDIRECT(\"'Curves \"&F$10&\"'!$12:$12\"),INDIRECT(\"'Curves \"&F$10&\"'!$14:$163\"),,0,1),,0,1)","v":3.3603164282196341E-2},{"$f":"_xlfn.XLOOKUP($A97,INDIRECT(\"'Curves \"&G$10&\"'!$A$14:$A$163\"),_xlfn.XLOOKUP(G$11&$J$3,INDIRECT(\"'Curves \"&G$10&\"'!$11:$11\")&INDIRECT(\"'Curves \"&G$10&\"'!$12:$12\"),INDIRECT(\"'Curves \"&G$10&\"'!$14:$163\"),,0,1),,0,1)","v":3.9446432463663195E-2},{"$f":"_xlfn.XLOOKUP($A97,INDIRECT(\"'Curves \"&H$10&\"'!$A$14:$A$163\"),_xlfn.XLOOKUP(H$11&$J$3,INDIRECT(\"'Curves \"&H$10&\"'!$11:$11\")&INDIRECT(\"'Curves \"&H$10&\"'!$12:$12\"),INDIRECT(\"'Curves \"&H$10&\"'!$14:$163\"),,0,1),,0,1)","v":2.5195192005780909E-2}]
[86,{"$f":"_xlfn.XLOOKUP($A98,INDIRECT(\"'Curves \"&B$10&\"'!$A$14:$A$163\"),_xlfn.XLOOKUP(B$11&$J$3,INDIRECT(\"'Curves \"&B$10&\"'!$11:$11\")&INDIRECT(\"'Curves \"&B$10&\"'!$12:$12\"),INDIRECT(\"'Curves \"&B$10&\"'!$14:$163\"),,0,1),,0,1)","v":3.2764407393099049E-2},{"$f":"_xlfn.XLOOKUP($A98,INDIRECT(\"'Curves \"&C$10&\"'!$A$14:$A$163\"),_xlfn.XLOOKUP(C$11&$J$3,INDIRECT(\"'Curves \"&C$10&\"'!$11:$11\")&INDIRECT(\"'Curves \"&C$10&\"'!$12:$12\"),INDIRECT(\"'Curves \"&C$10&\"'!$14:$163\"),,0,1),,0,1)","v":3.8552438186358451E-2},{"$f":"_xlfn.XLOOKUP($A98,INDIRECT(\"'Curves \"&D$10&\"'!$A$14:$A$163\"),_xlfn.XLOOKUP(D$11&$J$3,INDIRECT(\"'Curves \"&D$10&\"'!$11:$11\")&INDIRECT(\"'Curves \"&D$10&\"'!$12:$12\"),INDIRECT(\"'Curves \"&D$10&\"'!$14:$163\"),,0,1),,0,1)","v":2.4443058960640585E-2},null,{"$f":"_xlfn.XLOOKUP($A98,INDIRECT(\"'Curves \"&F$10&\"'!$A$14:$A$163\"),_xlfn.XLOOKUP(F$11&$J$3,INDIRECT(\"'Curves \"&F$10&\"'!$11:$11\")&INDIRECT(\"'Curves \"&F$10&\"'!$12:$12\"),INDIRECT(\"'Curves \"&F$10&\"'!$14:$163\"),,0,1),,0,1)","v":3.3596155625296387E-2},{"$f":"_xlfn.XLOOKUP($A98,INDIRECT(\"'Curves \"&G$10&\"'!$A$14:$A$163\"),_xlfn.XLOOKUP(G$11&$J$3,INDIRECT(\"'Curves \"&G$10&\"'!$11:$11\")&INDIRECT(\"'Curves \"&G$10&\"'!$12:$12\"),INDIRECT(\"'Curves \"&G$10&\"'!$14:$163\"),,0,1),,0,1)","v":3.938884787313901E-2},{"$f":"_xlfn.XLOOKUP($A98,INDIRECT(\"'Curves \"&H$10&\"'!$A$14:$A$163\"),_xlfn.XLOOKUP(H$11&$J$3,INDIRECT(\"'Curves \"&H$10&\"'!$11:$11\")&INDIRECT(\"'Curves \"&H$10&\"'!$12:$12\"),INDIRECT(\"'Curves \"&H$10&\"'!$14:$163\"),,0,1),,0,1)","v":2.5268105502889382E-2}]
[87,{"$f":"_xlfn.XLOOKUP($A99,INDIRECT(\"'Curves \"&B$10&\"'!$A$14:$A$163\"),_xlfn.XLOOKUP(B$11&$J$3,INDIRECT(\"'Curves \"&B$10&\"'!$11:$11\")&INDIRECT(\"'Curves \"&B$10&\"'!$12:$12\"),INDIRECT(\"'Curves \"&B$10&\"'!$14:$163\"),,0,1),,0,1)","v":3.2767113306281015E-2},{"$f":"_xlfn.XLOOKUP($A99,INDIRECT(\"'Curves \"&C$10&\"'!$A$14:$A$163\"),_xlfn.XLOOKUP(C$11&$J$3,INDIRECT(\"'Curves \"&C$10&\"'!$11:$11\")&INDIRECT(\"'Curves \"&C$10&\"'!$12:$12\"),INDIRECT(\"'Curves \"&C$10&\"'!$14:$163\"),,0,1),,0,1)","v":3.8505820424966641E-2},{"$f":"_xlfn.XLOOKUP($A99,INDIRECT(\"'Curves \"&D$10&\"'!$A$14:$A$163\"),_xlfn.XLOOKUP(D$11&$J$3,INDIRECT(\"'Curves \"&D$10&\"'!$11:$11\")&INDIRECT(\"'Curves \"&D$10&\"'!$12:$12\"),INDIRECT(\"'Curves \"&D$10&\"'!$14:$163\"),,0,1),,0,1)","v":2.4523734496508798E-2},null,{"$f":"_xlfn.XLOOKUP($A99,INDIRECT(\"'Curves \"&F$10&\"'!$A$14:$A$163\"),_xlfn.XLOOKUP(F$11&$J$3,INDIRECT(\"'Curves \"&F$10&\"'!$11:$11\")&INDIRECT(\"'Curves \"&F$10&\"'!$12:$12\"),INDIRECT(\"'Curves \"&F$10&\"'!$14:$163\"),,0,1),,0,1)","v":3.3589307421887593E-2},{"$f":"_xlfn.XLOOKUP($A99,INDIRECT(\"'Curves \"&G$10&\"'!$A$14:$A$163\"),_xlfn.XLOOKUP(G$11&$J$3,INDIRECT(\"'Curves \"&G$10&\"'!$11:$11\")&INDIRECT(\"'Curves \"&G$10&\"'!$12:$12\"),INDIRECT(\"'Curves \"&G$10&\"'!$14:$163\"),,0,1),,0,1)","v":3.9332583170967661E-2},{"$f":"_xlfn.XLOOKUP($A99,INDIRECT(\"'Curves \"&H$10&\"'!$A$14:$A$163\"),_xlfn.XLOOKUP(H$11&$J$3,INDIRECT(\"'Curves \"&H$10&\"'!$11:$11\")&INDIRECT(\"'Curves \"&H$10&\"'!$12:$12\"),INDIRECT(\"'Curves \"&H$10&\"'!$14:$163\"),,0,1),,0,1)","v":2.5339365992660623E-2}]
[88,{"$f":"_xlfn.XLOOKUP($A100,INDIRECT(\"'Curves \"&B$10&\"'!$A$14:$A$163\"),_xlfn.XLOOKUP(B$11&$J$3,INDIRECT(\"'Curves \"&B$10&\"'!$11:$11\")&INDIRECT(\"'Curves \"&B$10&\"'!$12:$12\"),INDIRECT(\"'Curves \"&B$10&\"'!$14:$163\"),,0,1),,0,1)","v":3.2769757907737729E-2},{"$f":"_xlfn.XLOOKUP($A100,INDIRECT(\"'Curves \"&C$10&\"'!$A$14:$A$163\"),_xlfn.XLOOKUP(C$11&$J$3,INDIRECT(\"'Curves \"&C$10&\"'!$11:$11\")&INDIRECT(\"'Curves \"&C$10&\"'!$12:$12\"),INDIRECT(\"'Curves \"&C$10&\"'!$14:$163\"),,0,1),,0,1)","v":3.846025881954529E-2},{"$f":"_xlfn.XLOOKUP($A100,INDIRECT(\"'Curves \"&D$10&\"'!$A$14:$A$163\"),_xlfn.XLOOKUP(D$11&$J$3,INDIRECT(\"'Curves \"&D$10&\"'!$11:$11\")&INDIRECT(\"'Curves \"&D$10&\"'!$12:$12\"),INDIRECT(\"'Curves \"&D$10&\"'!$14:$163\"),,0,1),,0,1)","v":2.4602599507024037E-2},null,{"$f":"_xlfn.XLOOKUP($A100,INDIRECT(\"'Curves \"&F$10&\"'!$A$14:$A$163\"),_xlfn.XLOOKUP(F$11&$J$3,INDIRECT(\"'Curves \"&F$10&\"'!$11:$11\")&INDIRECT(\"'Curves \"&F$10&\"'!$12:$12\"),INDIRECT(\"'Curves \"&F$10&\"'!$14:$163\"),,0,1),,0,1)","v":3.358261427364595E-2},{"$f":"_xlfn.XLOOKUP($A100,INDIRECT(\"'Curves \"&G$10&\"'!$A$14:$A$163\"),_xlfn.XLOOKUP(G$11&$J$3,INDIRECT(\"'Curves \"&G$10&\"'!$11:$11\")&INDIRECT(\"'Curves \"&G$10&\"'!$12:$12\"),INDIRECT(\"'Curves \"&G$10&\"'!$14:$163\"),,0,1),,0,1)","v":3.9277593976448255E-2},{"$f":"_xlfn.XLOOKUP($A100,INDIRECT(\"'Curves \"&H$10&\"'!$A$14:$A$163\"),_xlfn.XLOOKUP(H$11&$J$3,INDIRECT(\"'Curves \"&H$10&\"'!$11:$11\")&INDIRECT(\"'Curves \"&H$10&\"'!$12:$12\"),INDIRECT(\"'Curves \"&H$10&\"'!$14:$163\"),,0,1),,0,1)","v":2.5409027792862471E-2}]
[89,{"$f":"_xlfn.XLOOKUP($A101,INDIRECT(\"'Curves \"&B$10&\"'!$A$14:$A$163\"),_xlfn.XLOOKUP(B$11&$J$3,INDIRECT(\"'Curves \"&B$10&\"'!$11:$11\")&INDIRECT(\"'Curves \"&B$10&\"'!$12:$12\"),INDIRECT(\"'Curves \"&B$10&\"'!$14:$163\"),,0,1),,0,1)","v":3.2772343245446534E-2},{"$f":"_xlfn.XLOOKUP($A101,INDIRECT(\"'Curves \"&C$10&\"'!$A$14:$A$163\"),_xlfn.XLOOKUP(C$11&$J$3,INDIRECT(\"'Curves \"&C$10&\"'!$11:$11\")&INDIRECT(\"'Curves \"&C$10&\"'!$12:$12\"),INDIRECT(\"'Curves \"&C$10&\"'!$14:$163\"),,0,1),,0,1)","v":3.8415718254613651E-2},{"$f":"_xlfn.XLOOKUP($A101,INDIRECT(\"'Curves \"&D$10&\"'!$A$14:$A$163\"),_xlfn.XLOOKUP(D$11&$J$3,INDIRECT(\"'Curves \"&D$10&\"'!$11:$11\")&INDIRECT(\"'Curves \"&D$10&\"'!$12:$12\"),INDIRECT(\"'Curves \"&D$10&\"'!$14:$163\"),,0,1),,0,1)","v":2.4679713082970789E-2},null,{"$f":"_xlfn.XLOOKUP($A101,INDIRECT(\"'Curves \"&F$10&\"'!$A$14:$A$163\"),_xlfn.XLOOKUP(F$11&$J$3,INDIRECT(\"'Curves \"&F$10&\"'!$11:$11\")&INDIRECT(\"'Curves \"&F$10&\"'!$12:$12\"),INDIRECT(\"'Curves \"&F$10&\"'!$14:$163\"),,0,1),,0,1)","v":3.3576071017394682E-2},{"$f":"_xlfn.XLOOKUP($A101,INDIRECT(\"'Curves \"&G$10&\"'!$A$14:$A$163\"),_xlfn.XLOOKUP(G$11&$J$3,INDIRECT(\"'Curves \"&G$10&\"'!$11:$11\")&INDIRECT(\"'Curves \"&G$10&\"'!$12:$12\"),INDIRECT(\"'Curves \"&G$10&\"'!$14:$163\"),,0,1),,0,1)","v":3.9223837833964659E-2},{"$f":"_xlfn.XLOOKUP($A101,INDIRECT(\"'Curves \"&H$10&\"'!$A$14:$A$163\"),_xlfn.XLOOKUP(H$11&$J$3,INDIRECT(\"'Curves \"&H$10&\"'!$11:$11\")&INDIRECT(\"'Curves \"&H$10&\"'!$12:$12\"),INDIRECT(\"'Curves \"&H$10&\"'!$14:$163\"),,0,1),,0,1)","v":2.5477142979446032E-2}]
[90,{"$f":"_xlfn.XLOOKUP($A102,INDIRECT(\"'Curves \"&B$10&\"'!$A$14:$A$163\"),_xlfn.XLOOKUP(B$11&$J$3,INDIRECT(\"'Curves \"&B$10&\"'!$11:$11\")&INDIRECT(\"'Curves \"&B$10&\"'!$12:$12\"),INDIRECT(\"'Curves \"&B$10&\"'!$14:$163\"),,0,1),,0,1)","v":3.2774871278277606E-2},{"$f":"_xlfn.XLOOKUP($A102,INDIRECT(\"'Curves \"&C$10&\"'!$A$14:$A$163\"),_xlfn.XLOOKUP(C$11&$J$3,INDIRECT(\"'Curves \"&C$10&\"'!$11:$11\")&INDIRECT(\"'Curves \"&C$10&\"'!$12:$12\"),INDIRECT(\"'Curves \"&C$10&\"'!$14:$163\"),,0,1),,0,1)","v":3.8372165121361546E-2},{"$f":"_xlfn.XLOOKUP($A102,INDIRECT(\"'Curves \"&D$10&\"'!$A$14:$A$163\"),_xlfn.XLOOKUP(D$11&$J$3,INDIRECT(\"'Curves \"&D$10&\"'!$11:$11\")&INDIRECT(\"'Curves \"&D$10&\"'!$12:$12\"),INDIRECT(\"'Curves \"&D$10&\"'!$14:$163\"),,0,1),,0,1)","v":2.4755131876178282E-2},null,{"$f":"_xlfn.XLOOKUP($A102,INDIRECT(\"'Curves \"&F$10&\"'!$A$14:$A$163\"),_xlfn.XLOOKUP(F$11&$J$3,INDIRECT(\"'Curves \"&F$10&\"'!$11:$11\")&INDIRECT(\"'Curves \"&F$10&\"'!$12:$12\"),INDIRECT(\"'Curves \"&F$10&\"'!$14:$163\"),,0,1),,0,1)","v":3.356967271281408E-2},{"$f":"_xlfn.XLOOKUP($A102,INDIRECT(\"'Curves \"&G$10&\"'!$A$14:$A$163\"),_xlfn.XLOOKUP(G$11&$J$3,INDIRECT(\"'Curves \"&G$10&\"'!$11:$11\")&INDIRECT(\"'Curves \"&G$10&\"'!$12:$12\"),INDIRECT(\"'Curves \"&G$10&\"'!$14:$163\"),,0,1),,0,1)","v":3.9171274113430243E-2},{"$f":"_xlfn.XLOOKUP($A102,INDIRECT(\"'Curves \"&H$10&\"'!$A$14:$A$163\"),_xlfn.XLOOKUP(H$11&$J$3,INDIRECT(\"'Curves \"&H$10&\"'!$11:$11\")&INDIRECT(\"'Curves \"&H$10&\"'!$12:$12\"),INDIRECT(\"'Curves \"&H$10&\"'!$14:$163\"),,0,1),,0,1)","v":2.5543761490932182E-2}]
[91,{"$f":"_xlfn.XLOOKUP($A103,INDIRECT(\"'Curves \"&B$10&\"'!$A$14:$A$163\"),_xlfn.XLOOKUP(B$11&$J$3,INDIRECT(\"'Curves \"&B$10&\"'!$11:$11\")&INDIRECT(\"'Curves \"&B$10&\"'!$12:$12\"),INDIRECT(\"'Curves \"&B$10&\"'!$14:$163\"),,0,1),,0,1)","v":3.2777343880692866E-2},{"$f":"_xlfn.XLOOKUP($A103,INDIRECT(\"'Curves \"&C$10&\"'!$A$14:$A$163\"),_xlfn.XLOOKUP(C$11&$J$3,INDIRECT(\"'Curves \"&C$10&\"'!$11:$11\")&INDIRECT(\"'Curves \"&C$10&\"'!$12:$12\"),INDIRECT(\"'Curves \"&C$10&\"'!$14:$163\"),,0,1),,0,1)","v":3.8329567240579232E-2},{"$f":"_xlfn.XLOOKUP($A103,INDIRECT(\"'Curves \"&D$10&\"'!$A$14:$A$163\"),_xlfn.XLOOKUP(D$11&$J$3,INDIRECT(\"'Curves \"&D$10&\"'!$11:$11\")&INDIRECT(\"'Curves \"&D$10&\"'!$12:$12\"),INDIRECT(\"'Curves \"&D$10&\"'!$14:$163\"),,0,1),,0,1)","v":2.4828910214701017E-2},null,{"$f":"_xlfn.XLOOKUP($A103,INDIRECT(\"'Curves \"&F$10&\"'!$A$14:$A$163\"),_xlfn.XLOOKUP(F$11&$J$3,INDIRECT(\"'Curves \"&F$10&\"'!$11:$11\")&INDIRECT(\"'Curves \"&F$10&\"'!$12:$12\"),INDIRECT(\"'Curves \"&F$10&\"'!$14:$163\"),,0,1),,0,1)","v":3.3563414630879862E-2},{"$f":"_xlfn.XLOOKUP($A103,INDIRECT(\"'Curves \"&G$10&\"'!$A$14:$A$163\"),_xlfn.XLOOKUP(G$11&$J$3,INDIRECT(\"'Curves \"&G$10&\"'!$11:$11\")&INDIRECT(\"'Curves \"&G$10&\"'!$12:$12\"),INDIRECT(\"'Curves \"&G$10&\"'!$14:$163\"),,0,1),,0,1)","v":3.9119863916525999E-2},{"$f":"_xlfn.XLOOKUP($A103,INDIRECT(\"'Curves \"&H$10&\"'!$A$14:$A$163\"),_xlfn.XLOOKUP(H$11&$J$3,INDIRECT(\"'Curves \"&H$10&\"'!$11:$11\")&INDIRECT(\"'Curves \"&H$10&\"'!$12:$12\"),INDIRECT(\"'Curves \"&H$10&\"'!$14:$163\"),,0,1),,0,1)","v":2.5608931227980358E-2}]
[92,{"$f":"_xlfn.XLOOKUP($A104,INDIRECT(\"'Curves \"&B$10&\"'!$A$14:$A$163\"),_xlfn.XLOOKUP(B$11&$J$3,INDIRECT(\"'Curves \"&B$10&\"'!$11:$11\")&INDIRECT(\"'Curves \"&B$10&\"'!$12:$12\"),INDIRECT(\"'Curves \"&B$10&\"'!$14:$163\"),,0,1),,0,1)","v":3.2779762847159555E-2},{"$f":"_xlfn.XLOOKUP($A104,INDIRECT(\"'Curves \"&C$10&\"'!$A$14:$A$163\"),_xlfn.XLOOKUP(C$11&$J$3,INDIRECT(\"'Curves \"&C$10&\"'!$11:$11\")&INDIRECT(\"'Curves \"&C$10&\"'!$12:$12\"),INDIRECT(\"'Curves \"&C$10&\"'!$14:$163\"),,0,1),,0,1)","v":3.8287893790018845E-2},{"$f":"_xlfn.XLOOKUP($A104,INDIRECT(\"'Curves \"&D$10&\"'!$A$14:$A$163\"),_xlfn.XLOOKUP(D$11&$J$3,INDIRECT(\"'Curves \"&D$10&\"'!$11:$11\")&INDIRECT(\"'Curves \"&D$10&\"'!$12:$12\"),INDIRECT(\"'Curves \"&D$10&\"'!$14:$163\"),,0,1),,0,1)","v":2.4901100212401106E-2},null,{"$f":"_xlfn.XLOOKUP($A104,INDIRECT(\"'Curves \"&F$10&\"'!$A$14:$A$163\"),_xlfn.XLOOKUP(F$11&$J$3,INDIRECT(\"'Curves \"&F$10&\"'!$11:$11\")&INDIRECT(\"'Curves \"&F$10&\"'!$12:$12\"),INDIRECT(\"'Curves \"&F$10&\"'!$14:$163\"),,0,1),,0,1)","v":3.3557292242988312E-2},{"$f":"_xlfn.XLOOKUP($A104,INDIRECT(\"'Curves \"&G$10&\"'!$A$14:$A$163\"),_xlfn.XLOOKUP(G$11&$J$3,INDIRECT(\"'Curves \"&G$10&\"'!$11:$11\")&INDIRECT(\"'Curves \"&G$10&\"'!$12:$12\"),INDIRECT(\"'Curves \"&G$10&\"'!$14:$163\"),,0,1),,0,1)","v":3.9069569988368524E-2},{"$f":"_xlfn.XLOOKUP($A104,INDIRECT(\"'Curves \"&H$10&\"'!$A$14:$A$163\"),_xlfn.XLOOKUP(H$11&$J$3,INDIRECT(\"'Curves \"&H$10&\"'!$11:$11\")&INDIRECT(\"'Curves \"&H$10&\"'!$12:$12\"),INDIRECT(\"'Curves \"&H$10&\"'!$14:$163\"),,0,1),,0,1)","v":2.5672698148281992E-2}]
[93,{"$f":"_xlfn.XLOOKUP($A105,INDIRECT(\"'Curves \"&B$10&\"'!$A$14:$A$163\"),_xlfn.XLOOKUP(B$11&$J$3,INDIRECT(\"'Curves \"&B$10&\"'!$11:$11\")&INDIRECT(\"'Curves \"&B$10&\"'!$12:$12\"),INDIRECT(\"'Curves \"&B$10&\"'!$14:$163\"),,0,1),,0,1)","v":3.2782129896295364E-2},{"$f":"_xlfn.XLOOKUP($A105,INDIRECT(\"'Curves \"&C$10&\"'!$A$14:$A$163\"),_xlfn.XLOOKUP(C$11&$J$3,INDIRECT(\"'Curves \"&C$10&\"'!$11:$11\")&INDIRECT(\"'Curves \"&C$10&\"'!$12:$12\"),INDIRECT(\"'Curves \"&C$10&\"'!$14:$163\"),,0,1),,0,1)","v":3.8247115235914508E-2},{"$f":"_xlfn.XLOOKUP($A105,INDIRECT(\"'Curves \"&D$10&\"'!$A$14:$A$163\"),_xlfn.XLOOKUP(D$11&$J$3,INDIRECT(\"'Curves \"&D$10&\"'!$11:$11\")&INDIRECT(\"'Curves \"&D$10&\"'!$12:$12\"),INDIRECT(\"'Curves \"&D$10&\"'!$14:$163\"),,0,1),,0,1)","v":2.4971751873166248E-2},null,{"$f":"_xlfn.XLOOKUP($A105,INDIRECT(\"'Curves \"&F$10&\"'!$A$14:$A$163\"),_xlfn.XLOOKUP(F$11&$J$3,INDIRECT(\"'Curves \"&F$10&\"'!$11:$11\")&INDIRECT(\"'Curves \"&F$10&\"'!$12:$12\"),INDIRECT(\"'Curves \"&F$10&\"'!$14:$163\"),,0,1),,0,1)","v":3.3551301210718476E-2},{"$f":"_xlfn.XLOOKUP($A105,INDIRECT(\"'Curves \"&G$10&\"'!$A$14:$A$163\"),_xlfn.XLOOKUP(G$11&$J$3,INDIRECT(\"'Curves \"&G$10&\"'!$11:$11\")&INDIRECT(\"'Curves \"&G$10&\"'!$12:$12\"),INDIRECT(\"'Curves \"&G$10&\"'!$14:$163\"),,0,1),,0,1)","v":3.9020356634274389E-2},{"$f":"_xlfn.XLOOKUP($A105,INDIRECT(\"'Curves \"&H$10&\"'!$A$14:$A$163\"),_xlfn.XLOOKUP(H$11&$J$3,INDIRECT(\"'Curves \"&H$10&\"'!$11:$11\")&INDIRECT(\"'Curves \"&H$10&\"'!$12:$12\"),INDIRECT(\"'Curves \"&H$10&\"'!$14:$163\"),,0,1),,0,1)","v":2.5735106356956639E-2}]
[94,{"$f":"_xlfn.XLOOKUP($A106,INDIRECT(\"'Curves \"&B$10&\"'!$A$14:$A$163\"),_xlfn.XLOOKUP(B$11&$J$3,INDIRECT(\"'Curves \"&B$10&\"'!$11:$11\")&INDIRECT(\"'Curves \"&B$10&\"'!$12:$12\"),INDIRECT(\"'Curves \"&B$10&\"'!$14:$163\"),,0,1),,0,1)","v":3.2784446674767542E-2},{"$f":"_xlfn.XLOOKUP($A106,INDIRECT(\"'Curves \"&C$10&\"'!$A$14:$A$163\"),_xlfn.XLOOKUP(C$11&$J$3,INDIRECT(\"'Curves \"&C$10&\"'!$11:$11\")&INDIRECT(\"'Curves \"&C$10&\"'!$12:$12\"),INDIRECT(\"'Curves \"&C$10&\"'!$14:$163\"),,0,1),,0,1)","v":3.8207203268406209E-2},{"$f":"_xlfn.XLOOKUP($A106,INDIRECT(\"'Curves \"&D$10&\"'!$A$14:$A$163\"),_xlfn.XLOOKUP(D$11&$J$3,INDIRECT(\"'Curves \"&D$10&\"'!$11:$11\")&INDIRECT(\"'Curves \"&D$10&\"'!$12:$12\"),INDIRECT(\"'Curves \"&D$10&\"'!$14:$163\"),,0,1),,0,1)","v":2.504091318998003E-2},null,{"$f":"_xlfn.XLOOKUP($A106,INDIRECT(\"'Curves \"&F$10&\"'!$A$14:$A$163\"),_xlfn.XLOOKUP(F$11&$J$3,INDIRECT(\"'Curves \"&F$10&\"'!$11:$11\")&INDIRECT(\"'Curves \"&F$10&\"'!$12:$12\"),INDIRECT(\"'Curves \"&F$10&\"'!$14:$163\"),,0,1),,0,1)","v":3.3545437376191201E-2},{"$f":"_xlfn.XLOOKUP($A106,INDIRECT(\"'Curves \"&G$10&\"'!$A$14:$A$163\"),_xlfn.XLOOKUP(G$11&$J$3,INDIRECT(\"'Curves \"&G$10&\"'!$11:$11\")&INDIRECT(\"'Curves \"&G$10&\"'!$12:$12\"),INDIRECT(\"'Curves \"&G$10&\"'!$14:$163\"),,0,1),,0,1)","v":3.8972189641295563E-2},{"$f":"_xlfn.XLOOKUP($A106,INDIRECT(\"'Curves \"&H$10&\"'!$A$14:$A$163\"),_xlfn.XLOOKUP(H$11&$J$3,INDIRECT(\"'Curves \"&H$10&\"'!$11:$11\")&INDIRECT(\"'Curves \"&H$10&\"'!$12:$12\"),INDIRECT(\"'Curves \"&H$10&\"'!$14:$163\"),,0,1),,0,1)","v":2.5796198192603592E-2}]
[95,{"$f":"_xlfn.XLOOKUP($A107,INDIRECT(\"'Curves \"&B$10&\"'!$A$14:$A$163\"),_xlfn.XLOOKUP(B$11&$J$3,INDIRECT(\"'Curves \"&B$10&\"'!$11:$11\")&INDIRECT(\"'Curves \"&B$10&\"'!$12:$12\"),INDIRECT(\"'Curves \"&B$10&\"'!$14:$163\"),,0,1),,0,1)","v":3.2786714760957736E-2},{"$f":"_xlfn.XLOOKUP($A107,INDIRECT(\"'Curves \"&C$10&\"'!$A$14:$A$163\"),_xlfn.XLOOKUP(C$11&$J$3,INDIRECT(\"'Curves \"&C$10&\"'!$11:$11\")&INDIRECT(\"'Curves \"&C$10&\"'!$12:$12\"),INDIRECT(\"'Curves \"&C$10&\"'!$14:$163\"),,0,1),,0,1)","v":3.8168130740628747E-2},{"$f":"_xlfn.XLOOKUP($A107,INDIRECT(\"'Curves \"&D$10&\"'!$A$14:$A$163\"),_xlfn.XLOOKUP(D$11&$J$3,INDIRECT(\"'Curves \"&D$10&\"'!$11:$11\")&INDIRECT(\"'Curves \"&D$10&\"'!$12:$12\"),INDIRECT(\"'Curves \"&D$10&\"'!$14:$163\"),,0,1),,0,1)","v":2.5108630239075946E-2},null,{"$f":"_xlfn.XLOOKUP($A107,INDIRECT(\"'Curves \"&F$10&\"'!$A$14:$A$163\"),_xlfn.XLOOKUP(F$11&$J$3,INDIRECT(\"'Curves \"&F$10&\"'!$11:$11\")&INDIRECT(\"'Curves \"&F$10&\"'!$12:$12\"),INDIRECT(\"'Curves \"&F$10&\"'!$14:$163\"),,0,1),,0,1)","v":3.35396967529904E-2},{"$f":"_xlfn.XLOOKUP($A107,INDIRECT(\"'Curves \"&G$10&\"'!$A$14:$A$163\"),_xlfn.XLOOKUP(G$11&$J$3,INDIRECT(\"'Curves \"&G$10&\"'!$11:$11\")&INDIRECT(\"'Curves \"&G$10&\"'!$12:$12\"),INDIRECT(\"'Curves \"&G$10&\"'!$14:$163\"),,0,1),,0,1)","v":3.8925036204242147E-2},{"$f":"_xlfn.XLOOKUP($A107,INDIRECT(\"'Curves \"&H$10&\"'!$A$14:$A$163\"),_xlfn.XLOOKUP(H$11&$J$3,INDIRECT(\"'Curves \"&H$10&\"'!$11:$11\")&INDIRECT(\"'Curves \"&H$10&\"'!$12:$12\"),INDIRECT(\"'Curves \"&H$10&\"'!$14:$163\"),,0,1),,0,1)","v":2.585601430919926E-2}]
[96,{"$f":"_xlfn.XLOOKUP($A108,INDIRECT(\"'Curves \"&B$10&\"'!$A$14:$A$163\"),_xlfn.XLOOKUP(B$11&$J$3,INDIRECT(\"'Curves \"&B$10&\"'!$11:$11\")&INDIRECT(\"'Curves \"&B$10&\"'!$12:$12\"),INDIRECT(\"'Curves \"&B$10&\"'!$14:$163\"),,0,1),,0,1)","v":3.2788935668410346E-2},{"$f":"_xlfn.XLOOKUP($A108,INDIRECT(\"'Curves \"&C$10&\"'!$A$14:$A$163\"),_xlfn.XLOOKUP(C$11&$J$3,INDIRECT(\"'Curves \"&C$10&\"'!$11:$11\")&INDIRECT(\"'Curves \"&C$10&\"'!$12:$12\"),INDIRECT(\"'Curves \"&C$10&\"'!$14:$163\"),,0,1),,0,1)","v":3.8129871611240151E-2},{"$f":"_xlfn.XLOOKUP($A108,INDIRECT(\"'Curves \"&D$10&\"'!$A$14:$A$163\"),_xlfn.XLOOKUP(D$11&$J$3,INDIRECT(\"'Curves \"&D$10&\"'!$11:$11\")&INDIRECT(\"'Curves \"&D$10&\"'!$12:$12\"),INDIRECT(\"'Curves \"&D$10&\"'!$14:$163\"),,0,1),,0,1)","v":2.5174947269394066E-2},null,{"$f":"_xlfn.XLOOKUP($A108,INDIRECT(\"'Curves \"&F$10&\"'!$A$14:$A$163\"),_xlfn.XLOOKUP(F$11&$J$3,INDIRECT(\"'Curves \"&F$10&\"'!$11:$11\")&INDIRECT(\"'Curves \"&F$10&\"'!$12:$12\"),INDIRECT(\"'Curves \"&F$10&\"'!$14:$163\"),,0,1),,0,1)","v":3.3534075517606121E-2},{"$f":"_xlfn.XLOOKUP($A108,INDIRECT(\"'Curves \"&G$10&\"'!$A$14:$A$163\"),_xlfn.XLOOKUP(G$11&$J$3,INDIRECT(\"'Curves \"&G$10&\"'!$11:$11\")&INDIRECT(\"'Curves \"&G$10&\"'!$12:$12\"),INDIRECT(\"'Curves \"&G$10&\"'!$14:$163\"),,0,1),,0,1)","v":3.8878864855902862E-2},{"$f":"_xlfn.XLOOKUP($A108,INDIRECT(\"'Curves \"&H$10&\"'!$A$14:$A$163\"),_xlfn.XLOOKUP(H$11&$J$3,INDIRECT(\"'Curves \"&H$10&\"'!$11:$11\")&INDIRECT(\"'Curves \"&H$10&\"'!$12:$12\"),INDIRECT(\"'Curves \"&H$10&\"'!$14:$163\"),,0,1),,0,1)","v":2.5914593754000625E-2}]
[97,{"$f":"_xlfn.XLOOKUP($A109,INDIRECT(\"'Curves \"&B$10&\"'!$A$14:$A$163\"),_xlfn.XLOOKUP(B$11&$J$3,INDIRECT(\"'Curves \"&B$10&\"'!$11:$11\")&INDIRECT(\"'Curves \"&B$10&\"'!$12:$12\"),INDIRECT(\"'Curves \"&B$10&\"'!$14:$163\"),,0,1),,0,1)","v":3.2791110849080374E-2},{"$f":"_xlfn.XLOOKUP($A109,INDIRECT(\"'Curves \"&C$10&\"'!$A$14:$A$163\"),_xlfn.XLOOKUP(C$11&$J$3,INDIRECT(\"'Curves \"&C$10&\"'!$11:$11\")&INDIRECT(\"'Curves \"&C$10&\"'!$12:$12\"),INDIRECT(\"'Curves \"&C$10&\"'!$14:$163\"),,0,1),,0,1)","v":3.8092400890181732E-2},{"$f":"_xlfn.XLOOKUP($A109,INDIRECT(\"'Curves \"&D$10&\"'!$A$14:$A$163\"),_xlfn.XLOOKUP(D$11&$J$3,INDIRECT(\"'Curves \"&D$10&\"'!$11:$11\")&INDIRECT(\"'Curves \"&D$10&\"'!$12:$12\"),INDIRECT(\"'Curves \"&D$10&\"'!$14:$163\"),,0,1),,0,1)","v":2.5239906787557942E-2},null,{"$f":"_xlfn.XLOOKUP($A109,INDIRECT(\"'Curves \"&F$10&\"'!$A$14:$A$163\"),_xlfn.XLOOKUP(F$11&$J$3,INDIRECT(\"'Curves \"&F$10&\"'!$11:$11\")&INDIRECT(\"'Curves \"&F$10&\"'!$12:$12\"),INDIRECT(\"'Curves \"&F$10&\"'!$14:$163\"),,0,1),,0,1)","v":3.352857000136944E-2},{"$f":"_xlfn.XLOOKUP($A109,INDIRECT(\"'Curves \"&G$10&\"'!$A$14:$A$163\"),_xlfn.XLOOKUP(G$11&$J$3,INDIRECT(\"'Curves \"&G$10&\"'!$11:$11\")&INDIRECT(\"'Curves \"&G$10&\"'!$12:$12\"),INDIRECT(\"'Curves \"&G$10&\"'!$14:$163\"),,0,1),,0,1)","v":3.8833645401212369E-2},{"$f":"_xlfn.XLOOKUP($A109,INDIRECT(\"'Curves \"&H$10&\"'!$A$14:$A$163\"),_xlfn.XLOOKUP(H$11&$J$3,INDIRECT(\"'Curves \"&H$10&\"'!$11:$11\")&INDIRECT(\"'Curves \"&H$10&\"'!$12:$12\"),INDIRECT(\"'Curves \"&H$10&\"'!$14:$163\"),,0,1),,0,1)","v":2.5971974041633095E-2}]
[98,{"$f":"_xlfn.XLOOKUP($A110,INDIRECT(\"'Curves \"&B$10&\"'!$A$14:$A$163\"),_xlfn.XLOOKUP(B$11&$J$3,INDIRECT(\"'Curves \"&B$10&\"'!$11:$11\")&INDIRECT(\"'Curves \"&B$10&\"'!$12:$12\"),INDIRECT(\"'Curves \"&B$10&\"'!$14:$163\"),,0,1),,0,1)","v":3.2793241696390307E-2},{"$f":"_xlfn.XLOOKUP($A110,INDIRECT(\"'Curves \"&C$10&\"'!$A$14:$A$163\"),_xlfn.XLOOKUP(C$11&$J$3,INDIRECT(\"'Curves \"&C$10&\"'!$11:$11\")&INDIRECT(\"'Curves \"&C$10&\"'!$12:$12\"),INDIRECT(\"'Curves \"&C$10&\"'!$14:$163\"),,0,1),,0,1)","v":3.8055694587469935E-2},{"$f":"_xlfn.XLOOKUP($A110,INDIRECT(\"'Curves \"&D$10&\"'!$A$14:$A$163\"),_xlfn.XLOOKUP(D$11&$J$3,INDIRECT(\"'Curves \"&D$10&\"'!$11:$11\")&INDIRECT(\"'Curves \"&D$10&\"'!$12:$12\"),INDIRECT(\"'Curves \"&D$10&\"'!$14:$163\"),,0,1),,0,1)","v":2.5303549638583833E-2},null,{"$f":"_xlfn.XLOOKUP($A110,INDIRECT(\"'Curves \"&F$10&\"'!$A$14:$A$163\"),_xlfn.XLOOKUP(F$11&$J$3,INDIRECT(\"'Curves \"&F$10&\"'!$11:$11\")&INDIRECT(\"'Curves \"&F$10&\"'!$12:$12\"),INDIRECT(\"'Curves \"&F$10&\"'!$14:$163\"),,0,1),,0,1)","v":3.3523176682845657E-2},{"$f":"_xlfn.XLOOKUP($A110,INDIRECT(\"'Curves \"&G$10&\"'!$A$14:$A$163\"),_xlfn.XLOOKUP(G$11&$J$3,INDIRECT(\"'Curves \"&G$10&\"'!$11:$11\")&INDIRECT(\"'Curves \"&G$10&\"'!$12:$12\"),INDIRECT(\"'Curves \"&G$10&\"'!$14:$163\"),,0,1),,0,1)","v":3.8789348855118089E-2},{"$f":"_xlfn.XLOOKUP($A110,INDIRECT(\"'Curves \"&H$10&\"'!$A$14:$A$163\"),_xlfn.XLOOKUP(H$11&$J$3,INDIRECT(\"'Curves \"&H$10&\"'!$11:$11\")&INDIRECT(\"'Curves \"&H$10&\"'!$12:$12\"),INDIRECT(\"'Curves \"&H$10&\"'!$14:$163\"),,0,1),,0,1)","v":2.6028191224530595E-2}]
[99,{"$f":"_xlfn.XLOOKUP($A111,INDIRECT(\"'Curves \"&B$10&\"'!$A$14:$A$163\"),_xlfn.XLOOKUP(B$11&$J$3,INDIRECT(\"'Curves \"&B$10&\"'!$11:$11\")&INDIRECT(\"'Curves \"&B$10&\"'!$12:$12\"),INDIRECT(\"'Curves \"&B$10&\"'!$14:$163\"),,0,1),,0,1)","v":3.2795329548111152E-2},{"$f":"_xlfn.XLOOKUP($A111,INDIRECT(\"'Curves \"&C$10&\"'!$A$14:$A$163\"),_xlfn.XLOOKUP(C$11&$J$3,INDIRECT(\"'Curves \"&C$10&\"'!$11:$11\")&INDIRECT(\"'Curves \"&C$10&\"'!$12:$12\"),INDIRECT(\"'Curves \"&C$10&\"'!$14:$163\"),,0,1),,0,1)","v":3.8019729664838131E-2},{"$f":"_xlfn.XLOOKUP($A111,INDIRECT(\"'Curves \"&D$10&\"'!$A$14:$A$163\"),_xlfn.XLOOKUP(D$11&$J$3,INDIRECT(\"'Curves \"&D$10&\"'!$11:$11\")&INDIRECT(\"'Curves \"&D$10&\"'!$12:$12\"),INDIRECT(\"'Curves \"&D$10&\"'!$14:$163\"),,0,1),,0,1)","v":2.5365915082529389E-2},null,{"$f":"_xlfn.XLOOKUP($A111,INDIRECT(\"'Curves \"&F$10&\"'!$A$14:$A$163\"),_xlfn.XLOOKUP(F$11&$J$3,INDIRECT(\"'Curves \"&F$10&\"'!$11:$11\")&INDIRECT(\"'Curves \"&F$10&\"'!$12:$12\"),INDIRECT(\"'Curves \"&F$10&\"'!$14:$163\"),,0,1),,0,1)","v":3.3517892180659592E-2},{"$f":"_xlfn.XLOOKUP($A111,INDIRECT(\"'Curves \"&G$10&\"'!$A$14:$A$163\"),_xlfn.XLOOKUP(G$11&$J$3,INDIRECT(\"'Curves \"&G$10&\"'!$11:$11\")&INDIRECT(\"'Curves \"&G$10&\"'!$12:$12\"),INDIRECT(\"'Curves \"&G$10&\"'!$14:$163\"),,0,1),,0,1)","v":3.8745947383920898E-2},{"$f":"_xlfn.XLOOKUP($A111,INDIRECT(\"'Curves \"&H$10&\"'!$A$14:$A$163\"),_xlfn.XLOOKUP(H$11&$J$3,INDIRECT(\"'Curves \"&H$10&\"'!$11:$11\")&INDIRECT(\"'Curves \"&H$10&\"'!$12:$12\"),INDIRECT(\"'Curves \"&H$10&\"'!$14:$163\"),,0,1),,0,1)","v":2.6083279959897343E-2}]
[100,{"$f":"_xlfn.XLOOKUP($A112,INDIRECT(\"'Curves \"&B$10&\"'!$A$14:$A$163\"),_xlfn.XLOOKUP(B$11&$J$3,INDIRECT(\"'Curves \"&B$10&\"'!$11:$11\")&INDIRECT(\"'Curves \"&B$10&\"'!$12:$12\"),INDIRECT(\"'Curves \"&B$10&\"'!$14:$163\"),,0,1),,0,1)","v":3.2797375689078923E-2},{"$f":"_xlfn.XLOOKUP($A112,INDIRECT(\"'Curves \"&C$10&\"'!$A$14:$A$163\"),_xlfn.XLOOKUP(C$11&$J$3,INDIRECT(\"'Curves \"&C$10&\"'!$11:$11\")&INDIRECT(\"'Curves \"&C$10&\"'!$12:$12\"),INDIRECT(\"'Curves \"&C$10&\"'!$14:$163\"),,0,1),,0,1)","v":3.7984483990053386E-2},{"$f":"_xlfn.XLOOKUP($A112,INDIRECT(\"'Curves \"&D$10&\"'!$A$14:$A$163\"),_xlfn.XLOOKUP(D$11&$J$3,INDIRECT(\"'Curves \"&D$10&\"'!$11:$11\")&INDIRECT(\"'Curves \"&D$10&\"'!$12:$12\"),INDIRECT(\"'Curves \"&D$10&\"'!$14:$163\"),,0,1),,0,1)","v":2.5427040867280315E-2},null,{"$f":"_xlfn.XLOOKUP($A112,INDIRECT(\"'Curves \"&F$10&\"'!$A$14:$A$163\"),_xlfn.XLOOKUP(F$11&$J$3,INDIRECT(\"'Curves \"&F$10&\"'!$11:$11\")&INDIRECT(\"'Curves \"&F$10&\"'!$12:$12\"),INDIRECT(\"'Curves \"&F$10&\"'!$14:$163\"),,0,1),,0,1)","v":3.3512713246723003E-2},{"$f":"_xlfn.XLOOKUP($A112,INDIRECT(\"'Curves \"&G$10&\"'!$A$14:$A$163\"),_xlfn.XLOOKUP(G$11&$J$3,INDIRECT(\"'Curves \"&G$10&\"'!$11:$11\")&INDIRECT(\"'Curves \"&G$10&\"'!$12:$12\"),INDIRECT(\"'Curves \"&G$10&\"'!$14:$163\"),,0,1),,0,1)","v":3.8703414249877666E-2},{"$f":"_xlfn.XLOOKUP($A112,INDIRECT(\"'Curves \"&H$10&\"'!$A$14:$A$163\"),_xlfn.XLOOKUP(H$11&$J$3,INDIRECT(\"'Curves \"&H$10&\"'!$11:$11\")&INDIRECT(\"'Curves \"&H$10&\"'!$12:$12\"),INDIRECT(\"'Curves \"&H$10&\"'!$14:$163\"),,0,1),,0,1)","v":2.6137273573348718E-2}]
[101,{"$f":"_xlfn.XLOOKUP($A113,INDIRECT(\"'Curves \"&B$10&\"'!$A$14:$A$163\"),_xlfn.XLOOKUP(B$11&$J$3,INDIRECT(\"'Curves \"&B$10&\"'!$11:$11\")&INDIRECT(\"'Curves \"&B$10&\"'!$12:$12\"),INDIRECT(\"'Curves \"&B$10&\"'!$14:$163\"),,0,1),,0,1)","v":3.279938135375593E-2},{"$f":"_xlfn.XLOOKUP($A113,INDIRECT(\"'Curves \"&C$10&\"'!$A$14:$A$163\"),_xlfn.XLOOKUP(C$11&$J$3,INDIRECT(\"'Curves \"&C$10&\"'!$11:$11\")&INDIRECT(\"'Curves \"&C$10&\"'!$12:$12\"),INDIRECT(\"'Curves \"&C$10&\"'!$14:$163\"),,0,1),,0,1)","v":3.7949936293746322E-2},{"$f":"_xlfn.XLOOKUP($A113,INDIRECT(\"'Curves \"&D$10&\"'!$A$14:$A$163\"),_xlfn.XLOOKUP(D$11&$J$3,INDIRECT(\"'Curves \"&D$10&\"'!$11:$11\")&INDIRECT(\"'Curves \"&D$10&\"'!$12:$12\"),INDIRECT(\"'Curves \"&D$10&\"'!$14:$163\"),,0,1),,0,1)","v":2.5486963297666643E-2},null,{"$f":"_xlfn.XLOOKUP($A113,INDIRECT(\"'Curves \"&F$10&\"'!$A$14:$A$163\"),_xlfn.XLOOKUP(F$11&$J$3,INDIRECT(\"'Curves \"&F$10&\"'!$11:$11\")&INDIRECT(\"'Curves \"&F$10&\"'!$12:$12\"),INDIRECT(\"'Curves \"&F$10&\"'!$14:$163\"),,0,1),,0,1)","v":3.3507636759841031E-2},{"$f":"_xlfn.XLOOKUP($A113,INDIRECT(\"'Curves \"&G$10&\"'!$A$14:$A$163\"),_xlfn.XLOOKUP(G$11&$J$3,INDIRECT(\"'Curves \"&G$10&\"'!$11:$11\")&INDIRECT(\"'Curves \"&G$10&\"'!$12:$12\"),INDIRECT(\"'Curves \"&G$10&\"'!$14:$163\"),,0,1),,0,1)","v":3.86617237588609E-2},{"$f":"_xlfn.XLOOKUP($A113,INDIRECT(\"'Curves \"&H$10&\"'!$A$14:$A$163\"),_xlfn.XLOOKUP(H$11&$J$3,INDIRECT(\"'Curves \"&H$10&\"'!$11:$11\")&INDIRECT(\"'Curves \"&H$10&\"'!$12:$12\"),INDIRECT(\"'Curves \"&H$10&\"'!$14:$163\"),,0,1),,0,1)","v":2.6190204119396654E-2}]
[102,{"$f":"_xlfn.XLOOKUP($A114,INDIRECT(\"'Curves \"&B$10&\"'!$A$14:$A$163\"),_xlfn.XLOOKUP(B$11&$J$3,INDIRECT(\"'Curves \"&B$10&\"'!$11:$11\")&INDIRECT(\"'Curves \"&B$10&\"'!$12:$12\"),INDIRECT(\"'Curves \"&B$10&\"'!$14:$163\"),,0,1),,0,1)","v":3.280134772864729E-2},{"$f":"_xlfn.XLOOKUP($A114,INDIRECT(\"'Curves \"&C$10&\"'!$A$14:$A$163\"),_xlfn.XLOOKUP(C$11&$J$3,INDIRECT(\"'Curves \"&C$10&\"'!$11:$11\")&INDIRECT(\"'Curves \"&C$10&\"'!$12:$12\"),INDIRECT(\"'Curves \"&C$10&\"'!$14:$163\"),,0,1),,0,1)","v":3.7916066128605985E-2},{"$f":"_xlfn.XLOOKUP($A114,INDIRECT(\"'Curves \"&D$10&\"'!$A$14:$A$163\"),_xlfn.XLOOKUP(D$11&$J$3,INDIRECT(\"'Curves \"&D$10&\"'!$11:$11\")&INDIRECT(\"'Curves \"&D$10&\"'!$12:$12\"),INDIRECT(\"'Curves \"&D$10&\"'!$14:$163\"),,0,1),,0,1)","v":2.5545717301096671E-2},null,{"$f":"_xlfn.XLOOKUP($A114,INDIRECT(\"'Curves \"&F$10&\"'!$A$14:$A$163\"),_xlfn.XLOOKUP(F$11&$J$3,INDIRECT(\"'Curves \"&F$10&\"'!$11:$11\")&INDIRECT(\"'Curves \"&F$10&\"'!$12:$12\"),INDIRECT(\"'Curves \"&F$10&\"'!$14:$163\"),,0,1),,0,1)","v":3.35026597196737E-2},{"$f":"_xlfn.XLOOKUP($A114,INDIRECT(\"'Curves \"&G$10&\"'!$A$14:$A$163\"),_xlfn.XLOOKUP(G$11&$J$3,INDIRECT(\"'Curves \"&G$10&\"'!$11:$11\")&INDIRECT(\"'Curves \"&G$10&\"'!$12:$12\"),INDIRECT(\"'Curves \"&G$10&\"'!$14:$163\"),,0,1),,0,1)","v":3.8620851210902529E-2},{"$f":"_xlfn.XLOOKUP($A114,INDIRECT(\"'Curves \"&H$10&\"'!$A$14:$A$163\"),_xlfn.XLOOKUP(H$11&$J$3,INDIRECT(\"'Curves \"&H$10&\"'!$11:$11\")&INDIRECT(\"'Curves \"&H$10&\"'!$12:$12\"),INDIRECT(\"'Curves \"&H$10&\"'!$14:$163\"),,0,1),,0,1)","v":2.6242102438926773E-2}]
[103,{"$f":"_xlfn.XLOOKUP($A115,INDIRECT(\"'Curves \"&B$10&\"'!$A$14:$A$163\"),_xlfn.XLOOKUP(B$11&$J$3,INDIRECT(\"'Curves \"&B$10&\"'!$11:$11\")&INDIRECT(\"'Curves \"&B$10&\"'!$12:$12\"),INDIRECT(\"'Curves \"&B$10&\"'!$14:$163\"),,0,1),,0,1)","v":3.28032759545831E-2},{"$f":"_xlfn.XLOOKUP($A115,INDIRECT(\"'Curves \"&C$10&\"'!$A$14:$A$163\"),_xlfn.XLOOKUP(C$11&$J$3,INDIRECT(\"'Curves \"&C$10&\"'!$11:$11\")&INDIRECT(\"'Curves \"&C$10&\"'!$12:$12\"),INDIRECT(\"'Curves \"&C$10&\"'!$14:$163\"),,0,1),,0,1)","v":3.7882853830790486E-2},{"$f":"_xlfn.XLOOKUP($A115,INDIRECT(\"'Curves \"&D$10&\"'!$A$14:$A$163\"),_xlfn.XLOOKUP(D$11&$J$3,INDIRECT(\"'Curves \"&D$10&\"'!$11:$11\")&INDIRECT(\"'Curves \"&D$10&\"'!$12:$12\"),INDIRECT(\"'Curves \"&D$10&\"'!$14:$163\"),,0,1),,0,1)","v":2.5603336489880446E-2},null,{"$f":"_xlfn.XLOOKUP($A115,INDIRECT(\"'Curves \"&F$10&\"'!$A$14:$A$163\"),_xlfn.XLOOKUP(F$11&$J$3,INDIRECT(\"'Curves \"&F$10&\"'!$11:$11\")&INDIRECT(\"'Curves \"&F$10&\"'!$12:$12\"),INDIRECT(\"'Curves \"&F$10&\"'!$14:$163\"),,0,1),,0,1)","v":3.3497779241030923E-2},{"$f":"_xlfn.XLOOKUP($A115,INDIRECT(\"'Curves \"&G$10&\"'!$A$14:$A$163\"),_xlfn.XLOOKUP(G$11&$J$3,INDIRECT(\"'Curves \"&G$10&\"'!$11:$11\")&INDIRECT(\"'Curves \"&G$10&\"'!$12:$12\"),INDIRECT(\"'Curves \"&G$10&\"'!$14:$163\"),,0,1),,0,1)","v":3.8580772853430201E-2},{"$f":"_xlfn.XLOOKUP($A115,INDIRECT(\"'Curves \"&H$10&\"'!$A$14:$A$163\"),_xlfn.XLOOKUP(H$11&$J$3,INDIRECT(\"'Curves \"&H$10&\"'!$11:$11\")&INDIRECT(\"'Curves \"&H$10&\"'!$12:$12\"),INDIRECT(\"'Curves \"&H$10&\"'!$14:$163\"),,0,1),,0,1)","v":2.6292998213818919E-2}]
[104,{"$f":"_xlfn.XLOOKUP($A116,INDIRECT(\"'Curves \"&B$10&\"'!$A$14:$A$163\"),_xlfn.XLOOKUP(B$11&$J$3,INDIRECT(\"'Curves \"&B$10&\"'!$11:$11\")&INDIRECT(\"'Curves \"&B$10&\"'!$12:$12\"),INDIRECT(\"'Curves \"&B$10&\"'!$14:$163\"),,0,1),,0,1)","v":3.2805167128872492E-2},{"$f":"_xlfn.XLOOKUP($A116,INDIRECT(\"'Curves \"&C$10&\"'!$A$14:$A$163\"),_xlfn.XLOOKUP(C$11&$J$3,INDIRECT(\"'Curves \"&C$10&\"'!$11:$11\")&INDIRECT(\"'Curves \"&C$10&\"'!$12:$12\"),INDIRECT(\"'Curves \"&C$10&\"'!$14:$163\"),,0,1),,0,1)","v":3.78502804834282E-2},{"$f":"_xlfn.XLOOKUP($A116,INDIRECT(\"'Curves \"&D$10&\"'!$A$14:$A$163\"),_xlfn.XLOOKUP(D$11&$J$3,INDIRECT(\"'Curves \"&D$10&\"'!$11:$11\")&INDIRECT(\"'Curves \"&D$10&\"'!$12:$12\"),INDIRECT(\"'Curves \"&D$10&\"'!$14:$163\"),,0,1),,0,1)","v":2.5659853220420192E-2},null,{"$f":"_xlfn.XLOOKUP($A116,INDIRECT(\"'Curves \"&F$10&\"'!$A$14:$A$163\"),_xlfn.XLOOKUP(F$11&$J$3,INDIRECT(\"'Curves \"&F$10&\"'!$11:$11\")&INDIRECT(\"'Curves \"&F$10&\"'!$12:$12\"),INDIRECT(\"'Curves \"&F$10&\"'!$14:$163\"),,0,1),,0,1)","v":3.3492992548477485E-2},{"$f":"_xlfn.XLOOKUP($A116,INDIRECT(\"'Curves \"&G$10&\"'!$A$14:$A$163\"),_xlfn.XLOOKUP(G$11&$J$3,INDIRECT(\"'Curves \"&G$10&\"'!$11:$11\")&INDIRECT(\"'Curves \"&G$10&\"'!$12:$12\"),INDIRECT(\"'Curves \"&G$10&\"'!$14:$163\"),,0,1),,0,1)","v":3.8541465837046429E-2},{"$f":"_xlfn.XLOOKUP($A116,INDIRECT(\"'Curves \"&H$10&\"'!$A$14:$A$163\"),_xlfn.XLOOKUP(H$11&$J$3,INDIRECT(\"'Curves \"&H$10&\"'!$11:$11\")&INDIRECT(\"'Curves \"&H$10&\"'!$12:$12\"),INDIRECT(\"'Curves \"&H$10&\"'!$14:$163\"),,0,1),,0,1)","v":2.6342920018850746E-2}]
[105,{"$f":"_xlfn.XLOOKUP($A117,INDIRECT(\"'Curves \"&B$10&\"'!$A$14:$A$163\"),_xlfn.XLOOKUP(B$11&$J$3,INDIRECT(\"'Curves \"&B$10&\"'!$11:$11\")&INDIRECT(\"'Curves \"&B$10&\"'!$12:$12\"),INDIRECT(\"'Curves \"&B$10&\"'!$14:$163\"),,0,1),,0,1)","v":3.2807022307339784E-2},{"$f":"_xlfn.XLOOKUP($A117,INDIRECT(\"'Curves \"&C$10&\"'!$A$14:$A$163\"),_xlfn.XLOOKUP(C$11&$J$3,INDIRECT(\"'Curves \"&C$10&\"'!$11:$11\")&INDIRECT(\"'Curves \"&C$10&\"'!$12:$12\"),INDIRECT(\"'Curves \"&C$10&\"'!$14:$163\"),,0,1),,0,1)","v":3.7818327882079616E-2},{"$f":"_xlfn.XLOOKUP($A117,INDIRECT(\"'Curves \"&D$10&\"'!$A$14:$A$163\"),_xlfn.XLOOKUP(D$11&$J$3,INDIRECT(\"'Curves \"&D$10&\"'!$11:$11\")&INDIRECT(\"'Curves \"&D$10&\"'!$12:$12\"),INDIRECT(\"'Curves \"&D$10&\"'!$14:$163\"),,0,1),,0,1)","v":2.5715298649421126E-2},null,{"$f":"_xlfn.XLOOKUP($A117,INDIRECT(\"'Curves \"&F$10&\"'!$A$14:$A$163\"),_xlfn.XLOOKUP(F$11&$J$3,INDIRECT(\"'Curves \"&F$10&\"'!$11:$11\")&INDIRECT(\"'Curves \"&F$10&\"'!$12:$12\"),INDIRECT(\"'Curves \"&F$10&\"'!$14:$163\"),,0,1),,0,1)","v":3.3488296971234899E-2},{"$f":"_xlfn.XLOOKUP($A117,INDIRECT(\"'Curves \"&G$10&\"'!$A$14:$A$163\"),_xlfn.XLOOKUP(G$11&$J$3,INDIRECT(\"'Curves \"&G$10&\"'!$11:$11\")&INDIRECT(\"'Curves \"&G$10&\"'!$12:$12\"),INDIRECT(\"'Curves \"&G$10&\"'!$14:$163\"),,0,1),,0,1)","v":3.8502908173693395E-2},{"$f":"_xlfn.XLOOKUP($A117,INDIRECT(\"'Curves \"&H$10&\"'!$A$14:$A$163\"),_xlfn.XLOOKUP(H$11&$J$3,INDIRECT(\"'Curves \"&H$10&\"'!$11:$11\")&INDIRECT(\"'Curves \"&H$10&\"'!$12:$12\"),INDIRECT(\"'Curves \"&H$10&\"'!$14:$163\"),,0,1),,0,1)","v":2.6391895371021823E-2}]
[106,{"$f":"_xlfn.XLOOKUP($A118,INDIRECT(\"'Curves \"&B$10&\"'!$A$14:$A$163\"),_xlfn.XLOOKUP(B$11&$J$3,INDIRECT(\"'Curves \"&B$10&\"'!$11:$11\")&INDIRECT(\"'Curves \"&B$10&\"'!$12:$12\"),INDIRECT(\"'Curves \"&B$10&\"'!$14:$163\"),,0,1),,0,1)","v":3.2808842506248492E-2},{"$f":"_xlfn.XLOOKUP($A118,INDIRECT(\"'Curves \"&C$10&\"'!$A$14:$A$163\"),_xlfn.XLOOKUP(C$11&$J$3,INDIRECT(\"'Curves \"&C$10&\"'!$11:$11\")&INDIRECT(\"'Curves \"&C$10&\"'!$12:$12\"),INDIRECT(\"'Curves \"&C$10&\"'!$14:$163\"),,0,1),,0,1)","v":3.7786978502045487E-2},{"$f":"_xlfn.XLOOKUP($A118,INDIRECT(\"'Curves \"&D$10&\"'!$A$14:$A$163\"),_xlfn.XLOOKUP(D$11&$J$3,INDIRECT(\"'Curves \"&D$10&\"'!$11:$11\")&INDIRECT(\"'Curves \"&D$10&\"'!$12:$12\"),INDIRECT(\"'Curves \"&D$10&\"'!$14:$163\"),,0,1),,0,1)","v":2.5769702787286963E-2},null,{"$f":"_xlfn.XLOOKUP($A118,INDIRECT(\"'Curves \"&F$10&\"'!$A$14:$A$163\"),_xlfn.XLOOKUP(F$11&$J$3,INDIRECT(\"'Curves \"&F$10&\"'!$11:$11\")&INDIRECT(\"'Curves \"&F$10&\"'!$12:$12\"),INDIRECT(\"'Curves \"&F$10&\"'!$14:$163\"),,0,1),,0,1)","v":3.348368993835682E-2},{"$f":"_xlfn.XLOOKUP($A118,INDIRECT(\"'Curves \"&G$10&\"'!$A$14:$A$163\"),_xlfn.XLOOKUP(G$11&$J$3,INDIRECT(\"'Curves \"&G$10&\"'!$11:$11\")&INDIRECT(\"'Curves \"&G$10&\"'!$12:$12\"),INDIRECT(\"'Curves \"&G$10&\"'!$14:$163\"),,0,1),,0,1)","v":3.8465078697061506E-2},{"$f":"_xlfn.XLOOKUP($A118,INDIRECT(\"'Curves \"&H$10&\"'!$A$14:$A$163\"),_xlfn.XLOOKUP(H$11&$J$3,INDIRECT(\"'Curves \"&H$10&\"'!$11:$11\")&INDIRECT(\"'Curves \"&H$10&\"'!$12:$12\"),INDIRECT(\"'Curves \"&H$10&\"'!$14:$163\"),,0,1),,0,1)","v":2.6439950776431465E-2}]
[107,{"$f":"_xlfn.XLOOKUP($A119,INDIRECT(\"'Curves \"&B$10&\"'!$A$14:$A$163\"),_xlfn.XLOOKUP(B$11&$J$3,INDIRECT(\"'Curves \"&B$10&\"'!$11:$11\")&INDIRECT(\"'Curves \"&B$10&\"'!$12:$12\"),INDIRECT(\"'Curves \"&B$10&\"'!$14:$163\"),,0,1),,0,1)","v":3.2810628704121436E-2},{"$f":"_xlfn.XLOOKUP($A119,INDIRECT(\"'Curves \"&C$10&\"'!$A$14:$A$163\"),_xlfn.XLOOKUP(C$11&$J$3,INDIRECT(\"'Curves \"&C$10&\"'!$11:$11\")&INDIRECT(\"'Curves \"&C$10&\"'!$12:$12\"),INDIRECT(\"'Curves \"&C$10&\"'!$14:$163\"),,0,1),,0,1)","v":3.7756215467410259E-2},{"$f":"_xlfn.XLOOKUP($A119,INDIRECT(\"'Curves \"&D$10&\"'!$A$14:$A$163\"),_xlfn.XLOOKUP(D$11&$J$3,INDIRECT(\"'Curves \"&D$10&\"'!$11:$11\")&INDIRECT(\"'Curves \"&D$10&\"'!$12:$12\"),INDIRECT(\"'Curves \"&D$10&\"'!$14:$163\"),,0,1),,0,1)","v":2.582309454884002E-2},null,{"$f":"_xlfn.XLOOKUP($A119,INDIRECT(\"'Curves \"&F$10&\"'!$A$14:$A$163\"),_xlfn.XLOOKUP(F$11&$J$3,INDIRECT(\"'Curves \"&F$10&\"'!$11:$11\")&INDIRECT(\"'Curves \"&F$10&\"'!$12:$12\"),INDIRECT(\"'Curves \"&F$10&\"'!$14:$163\"),,0,1),,0,1)","v":3.3479168974162699E-2},{"$f":"_xlfn.XLOOKUP($A119,INDIRECT(\"'Curves \"&G$10&\"'!$A$14:$A$163\"),_xlfn.XLOOKUP(G$11&$J$3,INDIRECT(\"'Curves \"&G$10&\"'!$11:$11\")&INDIRECT(\"'Curves \"&G$10&\"'!$12:$12\"),INDIRECT(\"'Curves \"&G$10&\"'!$14:$163\"),,0,1),,0,1)","v":3.8427957025101156E-2},{"$f":"_xlfn.XLOOKUP($A119,INDIRECT(\"'Curves \"&H$10&\"'!$A$14:$A$163\"),_xlfn.XLOOKUP(H$11&$J$3,INDIRECT(\"'Curves \"&H$10&\"'!$11:$11\")&INDIRECT(\"'Curves \"&H$10&\"'!$12:$12\"),INDIRECT(\"'Curves \"&H$10&\"'!$14:$163\"),,0,1),,0,1)","v":2.6487111774829097E-2}]
[108,{"$f":"_xlfn.XLOOKUP($A120,INDIRECT(\"'Curves \"&B$10&\"'!$A$14:$A$163\"),_xlfn.XLOOKUP(B$11&$J$3,INDIRECT(\"'Curves \"&B$10&\"'!$11:$11\")&INDIRECT(\"'Curves \"&B$10&\"'!$12:$12\"),INDIRECT(\"'Curves \"&B$10&\"'!$14:$163\"),,0,1),,0,1)","v":3.2812381843462024E-2},{"$f":"_xlfn.XLOOKUP($A120,INDIRECT(\"'Curves \"&C$10&\"'!$A$14:$A$163\"),_xlfn.XLOOKUP(C$11&$J$3,INDIRECT(\"'Curves \"&C$10&\"'!$11:$11\")&INDIRECT(\"'Curves \"&C$10&\"'!$12:$12\"),INDIRECT(\"'Curves \"&C$10&\"'!$14:$163\"),,0,1),,0,1)","v":3.7726022521721303E-2},{"$f":"_xlfn.XLOOKUP($A120,INDIRECT(\"'Curves \"&D$10&\"'!$A$14:$A$163\"),_xlfn.XLOOKUP(D$11&$J$3,INDIRECT(\"'Curves \"&D$10&\"'!$11:$11\")&INDIRECT(\"'Curves \"&D$10&\"'!$12:$12\"),INDIRECT(\"'Curves \"&D$10&\"'!$14:$163\"),,0,1),,0,1)","v":2.5875501801509326E-2},null,{"$f":"_xlfn.XLOOKUP($A120,INDIRECT(\"'Curves \"&F$10&\"'!$A$14:$A$163\"),_xlfn.XLOOKUP(F$11&$J$3,INDIRECT(\"'Curves \"&F$10&\"'!$11:$11\")&INDIRECT(\"'Curves \"&F$10&\"'!$12:$12\"),INDIRECT(\"'Curves \"&F$10&\"'!$14:$163\"),,0,1),,0,1)","v":3.3474731693916571E-2},{"$f":"_xlfn.XLOOKUP($A120,INDIRECT(\"'Curves \"&G$10&\"'!$A$14:$A$163\"),_xlfn.XLOOKUP(G$11&$J$3,INDIRECT(\"'Curves \"&G$10&\"'!$11:$11\")&INDIRECT(\"'Curves \"&G$10&\"'!$12:$12\"),INDIRECT(\"'Curves \"&G$10&\"'!$14:$163\"),,0,1),,0,1)","v":3.8391523524530013E-2},{"$f":"_xlfn.XLOOKUP($A120,INDIRECT(\"'Curves \"&H$10&\"'!$A$14:$A$163\"),_xlfn.XLOOKUP(H$11&$J$3,INDIRECT(\"'Curves \"&H$10&\"'!$11:$11\")&INDIRECT(\"'Curves \"&H$10&\"'!$12:$12\"),INDIRECT(\"'Curves \"&H$10&\"'!$14:$163\"),,0,1),,0,1)","v":2.653340298196416E-2}]
[109,{"$f":"_xlfn.XLOOKUP($A121,INDIRECT(\"'Curves \"&B$10&\"'!$A$14:$A$163\"),_xlfn.XLOOKUP(B$11&$J$3,INDIRECT(\"'Curves \"&B$10&\"'!$11:$11\")&INDIRECT(\"'Curves \"&B$10&\"'!$12:$12\"),INDIRECT(\"'Curves \"&B$10&\"'!$14:$163\"),,0,1),,0,1)","v":3.2814102832384506E-2},{"$f":"_xlfn.XLOOKUP($A121,INDIRECT(\"'Curves \"&C$10&\"'!$A$14:$A$163\"),_xlfn.XLOOKUP(C$11&$J$3,INDIRECT(\"'Curves \"&C$10&\"'!$11:$11\")&INDIRECT(\"'Curves \"&C$10&\"'!$12:$12\"),INDIRECT(\"'Curves \"&C$10&\"'!$14:$163\"),,0,1),,0,1)","v":3.7696384000204031E-2},{"$f":"_xlfn.XLOOKUP($A121,INDIRECT(\"'Curves \"&D$10&\"'!$A$14:$A$163\"),_xlfn.XLOOKUP(D$11&$J$3,INDIRECT(\"'Curves \"&D$10&\"'!$11:$11\")&INDIRECT(\"'Curves \"&D$10&\"'!$12:$12\"),INDIRECT(\"'Curves \"&D$10&\"'!$14:$163\"),,0,1),,0,1)","v":2.5926951411122889E-2},null,{"$f":"_xlfn.XLOOKUP($A121,INDIRECT(\"'Curves \"&F$10&\"'!$A$14:$A$163\"),_xlfn.XLOOKUP(F$11&$J$3,INDIRECT(\"'Curves \"&F$10&\"'!$11:$11\")&INDIRECT(\"'Curves \"&F$10&\"'!$12:$12\"),INDIRECT(\"'Curves \"&F$10&\"'!$14:$163\"),,0,1),,0,1)","v":3.3470375799733221E-2},{"$f":"_xlfn.XLOOKUP($A121,INDIRECT(\"'Curves \"&G$10&\"'!$A$14:$A$163\"),_xlfn.XLOOKUP(G$11&$J$3,INDIRECT(\"'Curves \"&G$10&\"'!$11:$11\")&INDIRECT(\"'Curves \"&G$10&\"'!$12:$12\"),INDIRECT(\"'Curves \"&G$10&\"'!$14:$163\"),,0,1),,0,1)","v":3.835575927719459E-2},{"$f":"_xlfn.XLOOKUP($A121,INDIRECT(\"'Curves \"&H$10&\"'!$A$14:$A$163\"),_xlfn.XLOOKUP(H$11&$J$3,INDIRECT(\"'Curves \"&H$10&\"'!$11:$11\")&INDIRECT(\"'Curves \"&H$10&\"'!$12:$12\"),INDIRECT(\"'Curves \"&H$10&\"'!$14:$163\"),,0,1),,0,1)","v":2.6578848129844346E-2}]
[110,{"$f":"_xlfn.XLOOKUP($A122,INDIRECT(\"'Curves \"&B$10&\"'!$A$14:$A$163\"),_xlfn.XLOOKUP(B$11&$J$3,INDIRECT(\"'Curves \"&B$10&\"'!$11:$11\")&INDIRECT(\"'Curves \"&B$10&\"'!$12:$12\"),INDIRECT(\"'Curves \"&B$10&\"'!$14:$163\"),,0,1),,0,1)","v":3.2815792546155187E-2},{"$f":"_xlfn.XLOOKUP($A122,INDIRECT(\"'Curves \"&C$10&\"'!$A$14:$A$163\"),_xlfn.XLOOKUP(C$11&$J$3,INDIRECT(\"'Curves \"&C$10&\"'!$11:$11\")&INDIRECT(\"'Curves \"&C$10&\"'!$12:$12\"),INDIRECT(\"'Curves \"&C$10&\"'!$14:$163\"),,0,1),,0,1)","v":3.7667284803426515E-2},{"$f":"_xlfn.XLOOKUP($A122,INDIRECT(\"'Curves \"&D$10&\"'!$A$14:$A$163\"),_xlfn.XLOOKUP(D$11&$J$3,INDIRECT(\"'Curves \"&D$10&\"'!$11:$11\")&INDIRECT(\"'Curves \"&D$10&\"'!$12:$12\"),INDIRECT(\"'Curves \"&D$10&\"'!$14:$163\"),,0,1),,0,1)","v":2.5977469285424881E-2},null,{"$f":"_xlfn.XLOOKUP($A122,INDIRECT(\"'Curves \"&F$10&\"'!$A$14:$A$163\"),_xlfn.XLOOKUP(F$11&$J$3,INDIRECT(\"'Curves \"&F$10&\"'!$11:$11\")&INDIRECT(\"'Curves \"&F$10&\"'!$12:$12\"),INDIRECT(\"'Curves \"&F$10&\"'!$14:$163\"),,0,1),,0,1)","v":3.3466099076700395E-2},{"$f":"_xlfn.XLOOKUP($A122,INDIRECT(\"'Curves \"&G$10&\"'!$A$14:$A$163\"),_xlfn.XLOOKUP(G$11&$J$3,INDIRECT(\"'Curves \"&G$10&\"'!$11:$11\")&INDIRECT(\"'Curves \"&G$10&\"'!$12:$12\"),INDIRECT(\"'Curves \"&G$10&\"'!$14:$163\"),,0,1),,0,1)","v":3.8320646048201068E-2},{"$f":"_xlfn.XLOOKUP($A122,INDIRECT(\"'Curves \"&H$10&\"'!$A$14:$A$163\"),_xlfn.XLOOKUP(H$11&$J$3,INDIRECT(\"'Curves \"&H$10&\"'!$11:$11\")&INDIRECT(\"'Curves \"&H$10&\"'!$12:$12\"),INDIRECT(\"'Curves \"&H$10&\"'!$14:$163\"),,0,1),,0,1)","v":2.6623470105013203E-2}]
[111,{"$f":"_xlfn.XLOOKUP($A123,INDIRECT(\"'Curves \"&B$10&\"'!$A$14:$A$163\"),_xlfn.XLOOKUP(B$11&$J$3,INDIRECT(\"'Curves \"&B$10&\"'!$11:$11\")&INDIRECT(\"'Curves \"&B$10&\"'!$12:$12\"),INDIRECT(\"'Curves \"&B$10&\"'!$14:$163\"),,0,1),,0,1)","v":3.2817451828656585E-2},{"$f":"_xlfn.XLOOKUP($A123,INDIRECT(\"'Curves \"&C$10&\"'!$A$14:$A$163\"),_xlfn.XLOOKUP(C$11&$J$3,INDIRECT(\"'Curves \"&C$10&\"'!$11:$11\")&INDIRECT(\"'Curves \"&C$10&\"'!$12:$12\"),INDIRECT(\"'Curves \"&C$10&\"'!$14:$163\"),,0,1),,0,1)","v":3.76387103723268E-2},{"$f":"_xlfn.XLOOKUP($A123,INDIRECT(\"'Curves \"&D$10&\"'!$A$14:$A$163\"),_xlfn.XLOOKUP(D$11&$J$3,INDIRECT(\"'Curves \"&D$10&\"'!$11:$11\")&INDIRECT(\"'Curves \"&D$10&\"'!$12:$12\"),INDIRECT(\"'Curves \"&D$10&\"'!$14:$163\"),,0,1),,0,1)","v":2.6027080415442994E-2},null,{"$f":"_xlfn.XLOOKUP($A123,INDIRECT(\"'Curves \"&F$10&\"'!$A$14:$A$163\"),_xlfn.XLOOKUP(F$11&$J$3,INDIRECT(\"'Curves \"&F$10&\"'!$11:$11\")&INDIRECT(\"'Curves \"&F$10&\"'!$12:$12\"),INDIRECT(\"'Curves \"&F$10&\"'!$14:$163\"),,0,1),,0,1)","v":3.3461899389202854E-2},{"$f":"_xlfn.XLOOKUP($A123,INDIRECT(\"'Curves \"&G$10&\"'!$A$14:$A$163\"),_xlfn.XLOOKUP(G$11&$J$3,INDIRECT(\"'Curves \"&G$10&\"'!$11:$11\")&INDIRECT(\"'Curves \"&G$10&\"'!$12:$12\"),INDIRECT(\"'Curves \"&G$10&\"'!$14:$163\"),,0,1),,0,1)","v":3.8286166255691034E-2},{"$f":"_xlfn.XLOOKUP($A123,INDIRECT(\"'Curves \"&H$10&\"'!$A$14:$A$163\"),_xlfn.XLOOKUP(H$11&$J$3,INDIRECT(\"'Curves \"&H$10&\"'!$11:$11\")&INDIRECT(\"'Curves \"&H$10&\"'!$12:$12\"),INDIRECT(\"'Curves \"&H$10&\"'!$14:$163\"),,0,1),,0,1)","v":2.6667290984946357E-2}]
[112,{"$f":"_xlfn.XLOOKUP($A124,INDIRECT(\"'Curves \"&B$10&\"'!$A$14:$A$163\"),_xlfn.XLOOKUP(B$11&$J$3,INDIRECT(\"'Curves \"&B$10&\"'!$11:$11\")&INDIRECT(\"'Curves \"&B$10&\"'!$12:$12\"),INDIRECT(\"'Curves \"&B$10&\"'!$14:$163\"),,0,1),,0,1)","v":3.2819081493770108E-2},{"$f":"_xlfn.XLOOKUP($A124,INDIRECT(\"'Curves \"&C$10&\"'!$A$14:$A$163\"),_xlfn.XLOOKUP(C$11&$J$3,INDIRECT(\"'Curves \"&C$10&\"'!$11:$11\")&INDIRECT(\"'Curves \"&C$10&\"'!$12:$12\"),INDIRECT(\"'Curves \"&C$10&\"'!$14:$163\"),,0,1),,0,1)","v":3.7610646664526737E-2},{"$f":"_xlfn.XLOOKUP($A124,INDIRECT(\"'Curves \"&D$10&\"'!$A$14:$A$163\"),_xlfn.XLOOKUP(D$11&$J$3,INDIRECT(\"'Curves \"&D$10&\"'!$11:$11\")&INDIRECT(\"'Curves \"&D$10&\"'!$12:$12\"),INDIRECT(\"'Curves \"&D$10&\"'!$14:$163\"),,0,1),,0,1)","v":2.6075808914819421E-2},null,{"$f":"_xlfn.XLOOKUP($A124,INDIRECT(\"'Curves \"&F$10&\"'!$A$14:$A$163\"),_xlfn.XLOOKUP(F$11&$J$3,INDIRECT(\"'Curves \"&F$10&\"'!$11:$11\")&INDIRECT(\"'Curves \"&F$10&\"'!$12:$12\"),INDIRECT(\"'Curves \"&F$10&\"'!$14:$163\"),,0,1),,0,1)","v":3.3457774677436047E-2},{"$f":"_xlfn.XLOOKUP($A124,INDIRECT(\"'Curves \"&G$10&\"'!$A$14:$A$163\"),_xlfn.XLOOKUP(G$11&$J$3,INDIRECT(\"'Curves \"&G$10&\"'!$11:$11\")&INDIRECT(\"'Curves \"&G$10&\"'!$12:$12\"),INDIRECT(\"'Curves \"&G$10&\"'!$14:$163\"),,0,1),,0,1)","v":3.825230294218307E-2},{"$f":"_xlfn.XLOOKUP($A124,INDIRECT(\"'Curves \"&H$10&\"'!$A$14:$A$163\"),_xlfn.XLOOKUP(H$11&$J$3,INDIRECT(\"'Curves \"&H$10&\"'!$11:$11\")&INDIRECT(\"'Curves \"&H$10&\"'!$12:$12\"),INDIRECT(\"'Curves \"&H$10&\"'!$14:$163\"),,0,1),,0,1)","v":2.6710332072670484E-2}]
[113,{"$f":"_xlfn.XLOOKUP($A125,INDIRECT(\"'Curves \"&B$10&\"'!$A$14:$A$163\"),_xlfn.XLOOKUP(B$11&$J$3,INDIRECT(\"'Curves \"&B$10&\"'!$11:$11\")&INDIRECT(\"'Curves \"&B$10&\"'!$12:$12\"),INDIRECT(\"'Curves \"&B$10&\"'!$14:$163\"),,0,1),,0,1)","v":3.2820682326691442E-2},{"$f":"_xlfn.XLOOKUP($A125,INDIRECT(\"'Curves \"&C$10&\"'!$A$14:$A$163\"),_xlfn.XLOOKUP(C$11&$J$3,INDIRECT(\"'Curves \"&C$10&\"'!$11:$11\")&INDIRECT(\"'Curves \"&C$10&\"'!$12:$12\"),INDIRECT(\"'Curves \"&C$10&\"'!$14:$163\"),,0,1),,0,1)","v":3.7583080131854629E-2},{"$f":"_xlfn.XLOOKUP($A125,INDIRECT(\"'Curves \"&D$10&\"'!$A$14:$A$163\"),_xlfn.XLOOKUP(D$11&$J$3,INDIRECT(\"'Curves \"&D$10&\"'!$11:$11\")&INDIRECT(\"'Curves \"&D$10&\"'!$12:$12\"),INDIRECT(\"'Curves \"&D$10&\"'!$14:$163\"),,0,1),,0,1)","v":2.6123678057209609E-2},null,{"$f":"_xlfn.XLOOKUP($A125,INDIRECT(\"'Curves \"&F$10&\"'!$A$14:$A$163\"),_xlfn.XLOOKUP(F$11&$J$3,INDIRECT(\"'Curves \"&F$10&\"'!$11:$11\")&INDIRECT(\"'Curves \"&F$10&\"'!$12:$12\"),INDIRECT(\"'Curves \"&F$10&\"'!$14:$163\"),,0,1),,0,1)","v":3.3453722954102094E-2},{"$f":"_xlfn.XLOOKUP($A125,INDIRECT(\"'Curves \"&G$10&\"'!$A$14:$A$163\"),_xlfn.XLOOKUP(G$11&$J$3,INDIRECT(\"'Curves \"&G$10&\"'!$11:$11\")&INDIRECT(\"'Curves \"&G$10&\"'!$12:$12\"),INDIRECT(\"'Curves \"&G$10&\"'!$14:$163\"),,0,1),,0,1)","v":3.8219039747378281E-2},{"$f":"_xlfn.XLOOKUP($A125,INDIRECT(\"'Curves \"&H$10&\"'!$A$14:$A$163\"),_xlfn.XLOOKUP(H$11&$J$3,INDIRECT(\"'Curves \"&H$10&\"'!$11:$11\")&INDIRECT(\"'Curves \"&H$10&\"'!$12:$12\"),INDIRECT(\"'Curves \"&H$10&\"'!$14:$163\"),,0,1),,0,1)","v":2.6752613929693192E-2}]
[114,{"$f":"_xlfn.XLOOKUP($A126,INDIRECT(\"'Curves \"&B$10&\"'!$A$14:$A$163\"),_xlfn.XLOOKUP(B$11&$J$3,INDIRECT(\"'Curves \"&B$10&\"'!$11:$11\")&INDIRECT(\"'Curves \"&B$10&\"'!$12:$12\"),INDIRECT(\"'Curves \"&B$10&\"'!$14:$163\"),,0,1),,0,1)","v":3.2822255085174223E-2},{"$f":"_xlfn.XLOOKUP($A126,INDIRECT(\"'Curves \"&C$10&\"'!$A$14:$A$163\"),_xlfn.XLOOKUP(C$11&$J$3,INDIRECT(\"'Curves \"&C$10&\"'!$11:$11\")&INDIRECT(\"'Curves \"&C$10&\"'!$12:$12\"),INDIRECT(\"'Curves \"&C$10&\"'!$14:$163\"),,0,1),,0,1)","v":3.7555997699010302E-2},{"$f":"_xlfn.XLOOKUP($A126,INDIRECT(\"'Curves \"&D$10&\"'!$A$14:$A$163\"),_xlfn.XLOOKUP(D$11&$J$3,INDIRECT(\"'Curves \"&D$10&\"'!$11:$11\")&INDIRECT(\"'Curves \"&D$10&\"'!$12:$12\"),INDIRECT(\"'Curves \"&D$10&\"'!$14:$163\"),,0,1),,0,1)","v":2.6170710311856915E-2},null,{"$f":"_xlfn.XLOOKUP($A126,INDIRECT(\"'Curves \"&F$10&\"'!$A$14:$A$163\"),_xlfn.XLOOKUP(F$11&$J$3,INDIRECT(\"'Curves \"&F$10&\"'!$11:$11\")&INDIRECT(\"'Curves \"&F$10&\"'!$12:$12\"),INDIRECT(\"'Curves \"&F$10&\"'!$14:$163\"),,0,1),,0,1)","v":3.3449742301271179E-2},{"$f":"_xlfn.XLOOKUP($A126,INDIRECT(\"'Curves \"&G$10&\"'!$A$14:$A$163\"),_xlfn.XLOOKUP(G$11&$J$3,INDIRECT(\"'Curves \"&G$10&\"'!$11:$11\")&INDIRECT(\"'Curves \"&G$10&\"'!$12:$12\"),INDIRECT(\"'Curves \"&G$10&\"'!$14:$163\"),,0,1),,0,1)","v":3.8186360882351389E-2},{"$f":"_xlfn.XLOOKUP($A126,INDIRECT(\"'Curves \"&H$10&\"'!$A$14:$A$163\"),_xlfn.XLOOKUP(H$11&$J$3,INDIRECT(\"'Curves \"&H$10&\"'!$11:$11\")&INDIRECT(\"'Curves \"&H$10&\"'!$12:$12\"),INDIRECT(\"'Curves \"&H$10&\"'!$14:$163\"),,0,1),,0,1)","v":2.679415640733307E-2}]
[115,{"$f":"_xlfn.XLOOKUP($A127,INDIRECT(\"'Curves \"&B$10&\"'!$A$14:$A$163\"),_xlfn.XLOOKUP(B$11&$J$3,INDIRECT(\"'Curves \"&B$10&\"'!$11:$11\")&INDIRECT(\"'Curves \"&B$10&\"'!$12:$12\"),INDIRECT(\"'Curves \"&B$10&\"'!$14:$163\"),,0,1),,0,1)","v":3.2823800500713984E-2},{"$f":"_xlfn.XLOOKUP($A127,INDIRECT(\"'Curves \"&C$10&\"'!$A$14:$A$163\"),_xlfn.XLOOKUP(C$11&$J$3,INDIRECT(\"'Curves \"&C$10&\"'!$11:$11\")&INDIRECT(\"'Curves \"&C$10&\"'!$12:$12\"),INDIRECT(\"'Curves \"&C$10&\"'!$14:$163\"),,0,1),,0,1)","v":3.7529386743306192E-2},{"$f":"_xlfn.XLOOKUP($A127,INDIRECT(\"'Curves \"&D$10&\"'!$A$14:$A$163\"),_xlfn.XLOOKUP(D$11&$J$3,INDIRECT(\"'Curves \"&D$10&\"'!$11:$11\")&INDIRECT(\"'Curves \"&D$10&\"'!$12:$12\"),INDIRECT(\"'Curves \"&D$10&\"'!$14:$163\"),,0,1),,0,1)","v":2.6216927377434862E-2},null,{"$f":"_xlfn.XLOOKUP($A127,INDIRECT(\"'Curves \"&F$10&\"'!$A$14:$A$163\"),_xlfn.XLOOKUP(F$11&$J$3,INDIRECT(\"'Curves \"&F$10&\"'!$11:$11\")&INDIRECT(\"'Curves \"&F$10&\"'!$12:$12\"),INDIRECT(\"'Curves \"&F$10&\"'!$14:$163\"),,0,1),,0,1)","v":3.3445830867404158E-2},{"$f":"_xlfn.XLOOKUP($A127,INDIRECT(\"'Curves \"&G$10&\"'!$A$14:$A$163\"),_xlfn.XLOOKUP(G$11&$J$3,INDIRECT(\"'Curves \"&G$10&\"'!$11:$11\")&INDIRECT(\"'Curves \"&G$10&\"'!$12:$12\"),INDIRECT(\"'Curves \"&G$10&\"'!$14:$163\"),,0,1),,0,1)","v":3.8154251105044334E-2},{"$f":"_xlfn.XLOOKUP($A127,INDIRECT(\"'Curves \"&H$10&\"'!$A$14:$A$163\"),_xlfn.XLOOKUP(H$11&$J$3,INDIRECT(\"'Curves \"&H$10&\"'!$11:$11\")&INDIRECT(\"'Curves \"&H$10&\"'!$12:$12\"),INDIRECT(\"'Curves \"&H$10&\"'!$14:$163\"),,0,1),,0,1)","v":2.6834978676534282E-2}]
[116,{"$f":"_xlfn.XLOOKUP($A128,INDIRECT(\"'Curves \"&B$10&\"'!$A$14:$A$163\"),_xlfn.XLOOKUP(B$11&$J$3,INDIRECT(\"'Curves \"&B$10&\"'!$11:$11\")&INDIRECT(\"'Curves \"&B$10&\"'!$12:$12\"),INDIRECT(\"'Curves \"&B$10&\"'!$14:$163\"),,0,1),,0,1)","v":3.2825319279668141E-2},{"$f":"_xlfn.XLOOKUP($A128,INDIRECT(\"'Curves \"&C$10&\"'!$A$14:$A$163\"),_xlfn.XLOOKUP(C$11&$J$3,INDIRECT(\"'Curves \"&C$10&\"'!$11:$11\")&INDIRECT(\"'Curves \"&C$10&\"'!$12:$12\"),INDIRECT(\"'Curves \"&C$10&\"'!$14:$163\"),,0,1),,0,1)","v":3.750323507542408E-2},{"$f":"_xlfn.XLOOKUP($A128,INDIRECT(\"'Curves \"&D$10&\"'!$A$14:$A$163\"),_xlfn.XLOOKUP(D$11&$J$3,INDIRECT(\"'Curves \"&D$10&\"'!$11:$11\")&INDIRECT(\"'Curves \"&D$10&\"'!$12:$12\"),INDIRECT(\"'Curves \"&D$10&\"'!$14:$163\"),,0,1),,0,1)","v":2.6262350214252272E-2},null,{"$f":"_xlfn.XLOOKUP($A128,INDIRECT(\"'Curves \"&F$10&\"'!$A$14:$A$163\"),_xlfn.XLOOKUP(F$11&$J$3,INDIRECT(\"'Curves \"&F$10&\"'!$11:$11\")&INDIRECT(\"'Curves \"&F$10&\"'!$12:$12\"),INDIRECT(\"'Curves \"&F$10&\"'!$14:$163\"),,0,1),,0,1)","v":3.3441986864525042E-2},{"$f":"_xlfn.XLOOKUP($A128,INDIRECT(\"'Curves \"&G$10&\"'!$A$14:$A$163\"),_xlfn.XLOOKUP(G$11&$J$3,INDIRECT(\"'Curves \"&G$10&\"'!$11:$11\")&INDIRECT(\"'Curves \"&G$10&\"'!$12:$12\"),INDIRECT(\"'Curves \"&G$10&\"'!$14:$163\"),,0,1),,0,1)","v":3.8122695696995113E-2},{"$f":"_xlfn.XLOOKUP($A128,INDIRECT(\"'Curves \"&H$10&\"'!$A$14:$A$163\"),_xlfn.XLOOKUP(H$11&$J$3,INDIRECT(\"'Curves \"&H$10&\"'!$11:$11\")&INDIRECT(\"'Curves \"&H$10&\"'!$12:$12\"),INDIRECT(\"'Curves \"&H$10&\"'!$14:$163\"),,0,1),,0,1)","v":2.6875099256246537E-2}]
[117,{"$f":"_xlfn.XLOOKUP($A129,INDIRECT(\"'Curves \"&B$10&\"'!$A$14:$A$163\"),_xlfn.XLOOKUP(B$11&$J$3,INDIRECT(\"'Curves \"&B$10&\"'!$11:$11\")&INDIRECT(\"'Curves \"&B$10&\"'!$12:$12\"),INDIRECT(\"'Curves \"&B$10&\"'!$14:$163\"),,0,1),,0,1)","v":3.2826812104322478E-2},{"$f":"_xlfn.XLOOKUP($A129,INDIRECT(\"'Curves \"&C$10&\"'!$A$14:$A$163\"),_xlfn.XLOOKUP(C$11&$J$3,INDIRECT(\"'Curves \"&C$10&\"'!$11:$11\")&INDIRECT(\"'Curves \"&C$10&\"'!$12:$12\"),INDIRECT(\"'Curves \"&C$10&\"'!$14:$163\"),,0,1),,0,1)","v":3.7477530921129709E-2},{"$f":"_xlfn.XLOOKUP($A129,INDIRECT(\"'Curves \"&D$10&\"'!$A$14:$A$163\"),_xlfn.XLOOKUP(D$11&$J$3,INDIRECT(\"'Curves \"&D$10&\"'!$11:$11\")&INDIRECT(\"'Curves \"&D$10&\"'!$12:$12\"),INDIRECT(\"'Curves \"&D$10&\"'!$14:$163\"),,0,1),,0,1)","v":2.6306999074905635E-2},null,{"$f":"_xlfn.XLOOKUP($A129,INDIRECT(\"'Curves \"&F$10&\"'!$A$14:$A$163\"),_xlfn.XLOOKUP(F$11&$J$3,INDIRECT(\"'Curves \"&F$10&\"'!$11:$11\")&INDIRECT(\"'Curves \"&F$10&\"'!$12:$12\"),INDIRECT(\"'Curves \"&F$10&\"'!$14:$163\"),,0,1),,0,1)","v":3.3438208565534477E-2},{"$f":"_xlfn.XLOOKUP($A129,INDIRECT(\"'Curves \"&G$10&\"'!$A$14:$A$163\"),_xlfn.XLOOKUP(G$11&$J$3,INDIRECT(\"'Curves \"&G$10&\"'!$11:$11\")&INDIRECT(\"'Curves \"&G$10&\"'!$12:$12\"),INDIRECT(\"'Curves \"&G$10&\"'!$14:$163\"),,0,1),,0,1)","v":3.8091680441221687E-2},{"$f":"_xlfn.XLOOKUP($A129,INDIRECT(\"'Curves \"&H$10&\"'!$A$14:$A$163\"),_xlfn.XLOOKUP(H$11&$J$3,INDIRECT(\"'Curves \"&H$10&\"'!$11:$11\")&INDIRECT(\"'Curves \"&H$10&\"'!$12:$12\"),INDIRECT(\"'Curves \"&H$10&\"'!$14:$163\"),,0,1),,0,1)","v":2.6914536040443027E-2}]
[118,{"$f":"_xlfn.XLOOKUP($A130,INDIRECT(\"'Curves \"&B$10&\"'!$A$14:$A$163\"),_xlfn.XLOOKUP(B$11&$J$3,INDIRECT(\"'Curves \"&B$10&\"'!$11:$11\")&INDIRECT(\"'Curves \"&B$10&\"'!$12:$12\"),INDIRECT(\"'Curves \"&B$10&\"'!$14:$163\"),,0,1),,0,1)","v":3.2828279633903668E-2},{"$f":"_xlfn.XLOOKUP($A130,INDIRECT(\"'Curves \"&C$10&\"'!$A$14:$A$163\"),_xlfn.XLOOKUP(C$11&$J$3,INDIRECT(\"'Curves \"&C$10&\"'!$11:$11\")&INDIRECT(\"'Curves \"&C$10&\"'!$12:$12\"),INDIRECT(\"'Curves \"&C$10&\"'!$14:$163\"),,0,1),,0,1)","v":3.745226290388981E-2},{"$f":"_xlfn.XLOOKUP($A130,INDIRECT(\"'Curves \"&D$10&\"'!$A$14:$A$163\"),_xlfn.XLOOKUP(D$11&$J$3,INDIRECT(\"'Curves \"&D$10&\"'!$11:$11\")&INDIRECT(\"'Curves \"&D$10&\"'!$12:$12\"),INDIRECT(\"'Curves \"&D$10&\"'!$14:$163\"),,0,1),,0,1)","v":2.6350893533461761E-2},null,{"$f":"_xlfn.XLOOKUP($A130,INDIRECT(\"'Curves \"&F$10&\"'!$A$14:$A$163\"),_xlfn.XLOOKUP(F$11&$J$3,INDIRECT(\"'Curves \"&F$10&\"'!$11:$11\")&INDIRECT(\"'Curves \"&F$10&\"'!$12:$12\"),INDIRECT(\"'Curves \"&F$10&\"'!$14:$163\"),,0,1),,0,1)","v":3.3434494301657569E-2},{"$f":"_xlfn.XLOOKUP($A130,INDIRECT(\"'Curves \"&G$10&\"'!$A$14:$A$163\"),_xlfn.XLOOKUP(G$11&$J$3,INDIRECT(\"'Curves \"&G$10&\"'!$11:$11\")&INDIRECT(\"'Curves \"&G$10&\"'!$12:$12\"),INDIRECT(\"'Curves \"&G$10&\"'!$14:$163\"),,0,1),,0,1)","v":3.8061191601204136E-2},{"$f":"_xlfn.XLOOKUP($A130,INDIRECT(\"'Curves \"&H$10&\"'!$A$14:$A$163\"),_xlfn.XLOOKUP(H$11&$J$3,INDIRECT(\"'Curves \"&H$10&\"'!$11:$11\")&INDIRECT(\"'Curves \"&H$10&\"'!$12:$12\"),INDIRECT(\"'Curves \"&H$10&\"'!$14:$163\"),,0,1),,0,1)","v":2.6953306323846293E-2}]
[119,{"$f":"_xlfn.XLOOKUP($A131,INDIRECT(\"'Curves \"&B$10&\"'!$A$14:$A$163\"),_xlfn.XLOOKUP(B$11&$J$3,INDIRECT(\"'Curves \"&B$10&\"'!$11:$11\")&INDIRECT(\"'Curves \"&B$10&\"'!$12:$12\"),INDIRECT(\"'Curves \"&B$10&\"'!$14:$163\"),,0,1),,0,1)","v":3.282972250554006E-2},{"$f":"_xlfn.XLOOKUP($A131,INDIRECT(\"'Curves \"&C$10&\"'!$A$14:$A$163\"),_xlfn.XLOOKUP(C$11&$J$3,INDIRECT(\"'Curves \"&C$10&\"'!$11:$11\")&INDIRECT(\"'Curves \"&C$10&\"'!$12:$12\"),INDIRECT(\"'Curves \"&C$10&\"'!$14:$163\"),,0,1),,0,1)","v":3.7427420028346203E-2},{"$f":"_xlfn.XLOOKUP($A131,INDIRECT(\"'Curves \"&D$10&\"'!$A$14:$A$163\"),_xlfn.XLOOKUP(D$11&$J$3,INDIRECT(\"'Curves \"&D$10&\"'!$11:$11\")&INDIRECT(\"'Curves \"&D$10&\"'!$12:$12\"),INDIRECT(\"'Curves \"&D$10&\"'!$14:$163\"),,0,1),,0,1)","v":2.6394052513248667E-2},null,{"$f":"_xlfn.XLOOKUP($A131,INDIRECT(\"'Curves \"&F$10&\"'!$A$14:$A$163\"),_xlfn.XLOOKUP(F$11&$J$3,INDIRECT(\"'Curves \"&F$10&\"'!$11:$11\")&INDIRECT(\"'Curves \"&F$10&\"'!$12:$12\"),INDIRECT(\"'Curves \"&F$10&\"'!$14:$163\"),,0,1),,0,1)","v":3.3430842460015597E-2},{"$f":"_xlfn.XLOOKUP($A131,INDIRECT(\"'Curves \"&G$10&\"'!$A$14:$A$163\"),_xlfn.XLOOKUP(G$11&$J$3,INDIRECT(\"'Curves \"&G$10&\"'!$11:$11\")&INDIRECT(\"'Curves \"&G$10&\"'!$12:$12\"),INDIRECT(\"'Curves \"&G$10&\"'!$14:$163\"),,0,1),,0,1)","v":3.8031215900899307E-2},{"$f":"_xlfn.XLOOKUP($A131,INDIRECT(\"'Curves \"&H$10&\"'!$A$14:$A$163\"),_xlfn.XLOOKUP(H$11&$J$3,INDIRECT(\"'Curves \"&H$10&\"'!$11:$11\")&INDIRECT(\"'Curves \"&H$10&\"'!$12:$12\"),INDIRECT(\"'Curves \"&H$10&\"'!$14:$163\"),,0,1),,0,1)","v":2.6991426826435516E-2}]
[120,{"$f":"_xlfn.XLOOKUP($A132,INDIRECT(\"'Curves \"&B$10&\"'!$A$14:$A$163\"),_xlfn.XLOOKUP(B$11&$J$3,INDIRECT(\"'Curves \"&B$10&\"'!$11:$11\")&INDIRECT(\"'Curves \"&B$10&\"'!$12:$12\"),INDIRECT(\"'Curves \"&B$10&\"'!$14:$163\"),,0,1),,0,1)","v":3.2831141335176728E-2},{"$f":"_xlfn.XLOOKUP($A132,INDIRECT(\"'Curves \"&C$10&\"'!$A$14:$A$163\"),_xlfn.XLOOKUP(C$11&$J$3,INDIRECT(\"'Curves \"&C$10&\"'!$11:$11\")&INDIRECT(\"'Curves \"&C$10&\"'!$12:$12\"),INDIRECT(\"'Curves \"&C$10&\"'!$14:$163\"),,0,1),,0,1)","v":3.74029916645926E-2},{"$f":"_xlfn.XLOOKUP($A132,INDIRECT(\"'Curves \"&D$10&\"'!$A$14:$A$163\"),_xlfn.XLOOKUP(D$11&$J$3,INDIRECT(\"'Curves \"&D$10&\"'!$11:$11\")&INDIRECT(\"'Curves \"&D$10&\"'!$12:$12\"),INDIRECT(\"'Curves \"&D$10&\"'!$14:$163\"),,0,1),,0,1)","v":2.6436494313326842E-2},null,{"$f":"_xlfn.XLOOKUP($A132,INDIRECT(\"'Curves \"&F$10&\"'!$A$14:$A$163\"),_xlfn.XLOOKUP(F$11&$J$3,INDIRECT(\"'Curves \"&F$10&\"'!$11:$11\")&INDIRECT(\"'Curves \"&F$10&\"'!$12:$12\"),INDIRECT(\"'Curves \"&F$10&\"'!$14:$163\"),,0,1),,0,1)","v":3.3427251481319198E-2},{"$f":"_xlfn.XLOOKUP($A132,INDIRECT(\"'Curves \"&G$10&\"'!$A$14:$A$163\"),_xlfn.XLOOKUP(G$11&$J$3,INDIRECT(\"'Curves \"&G$10&\"'!$11:$11\")&INDIRECT(\"'Curves \"&G$10&\"'!$12:$12\"),INDIRECT(\"'Curves \"&G$10&\"'!$14:$163\"),,0,1),,0,1)","v":3.8001740505734682E-2},{"$f":"_xlfn.XLOOKUP($A132,INDIRECT(\"'Curves \"&H$10&\"'!$A$14:$A$163\"),_xlfn.XLOOKUP(H$11&$J$3,INDIRECT(\"'Curves \"&H$10&\"'!$11:$11\")&INDIRECT(\"'Curves \"&H$10&\"'!$12:$12\"),INDIRECT(\"'Curves \"&H$10&\"'!$14:$163\"),,0,1),,0,1)","v":2.7028913716792946E-2}]
[121,{"$f":"_xlfn.XLOOKUP($A133,INDIRECT(\"'Curves \"&B$10&\"'!$A$14:$A$163\"),_xlfn.XLOOKUP(B$11&$J$3,INDIRECT(\"'Curves \"&B$10&\"'!$11:$11\")&INDIRECT(\"'Curves \"&B$10&\"'!$12:$12\"),INDIRECT(\"'Curves \"&B$10&\"'!$14:$163\"),,0,1),,0,1)","v":3.2832536718445882E-2},{"$f":"_xlfn.XLOOKUP($A133,INDIRECT(\"'Curves \"&C$10&\"'!$A$14:$A$163\"),_xlfn.XLOOKUP(C$11&$J$3,INDIRECT(\"'Curves \"&C$10&\"'!$11:$11\")&INDIRECT(\"'Curves \"&C$10&\"'!$12:$12\"),INDIRECT(\"'Curves \"&C$10&\"'!$14:$163\"),,0,1),,0,1)","v":3.7378967533215679E-2},{"$f":"_xlfn.XLOOKUP($A133,INDIRECT(\"'Curves \"&D$10&\"'!$A$14:$A$163\"),_xlfn.XLOOKUP(D$11&$J$3,INDIRECT(\"'Curves \"&D$10&\"'!$11:$11\")&INDIRECT(\"'Curves \"&D$10&\"'!$12:$12\"),INDIRECT(\"'Curves \"&D$10&\"'!$14:$163\"),,0,1),,0,1)","v":2.6478236633710184E-2},null,{"$f":"_xlfn.XLOOKUP($A133,INDIRECT(\"'Curves \"&F$10&\"'!$A$14:$A$163\"),_xlfn.XLOOKUP(F$11&$J$3,INDIRECT(\"'Curves \"&F$10&\"'!$11:$11\")&INDIRECT(\"'Curves \"&F$10&\"'!$12:$12\"),INDIRECT(\"'Curves \"&F$10&\"'!$14:$163\"),,0,1),,0,1)","v":3.3423719857672118E-2},{"$f":"_xlfn.XLOOKUP($A133,INDIRECT(\"'Curves \"&G$10&\"'!$A$14:$A$163\"),_xlfn.XLOOKUP(G$11&$J$3,INDIRECT(\"'Curves \"&G$10&\"'!$11:$11\")&INDIRECT(\"'Curves \"&G$10&\"'!$12:$12\"),INDIRECT(\"'Curves \"&G$10&\"'!$14:$163\"),,0,1),,0,1)","v":3.7972753004519744E-2},{"$f":"_xlfn.XLOOKUP($A133,INDIRECT(\"'Curves \"&H$10&\"'!$A$14:$A$163\"),_xlfn.XLOOKUP(H$11&$J$3,INDIRECT(\"'Curves \"&H$10&\"'!$11:$11\")&INDIRECT(\"'Curves \"&H$10&\"'!$12:$12\"),INDIRECT(\"'Curves \"&H$10&\"'!$14:$163\"),,0,1),,0,1)","v":2.7065782634350999E-2}]
[122,{"$f":"_xlfn.XLOOKUP($A134,INDIRECT(\"'Curves \"&B$10&\"'!$A$14:$A$163\"),_xlfn.XLOOKUP(B$11&$J$3,INDIRECT(\"'Curves \"&B$10&\"'!$11:$11\")&INDIRECT(\"'Curves \"&B$10&\"'!$12:$12\"),INDIRECT(\"'Curves \"&B$10&\"'!$14:$163\"),,0,1),,0,1)","v":3.2833909231493541E-2},{"$f":"_xlfn.XLOOKUP($A134,INDIRECT(\"'Curves \"&C$10&\"'!$A$14:$A$163\"),_xlfn.XLOOKUP(C$11&$J$3,INDIRECT(\"'Curves \"&C$10&\"'!$11:$11\")&INDIRECT(\"'Curves \"&C$10&\"'!$12:$12\"),INDIRECT(\"'Curves \"&C$10&\"'!$14:$163\"),,0,1),,0,1)","v":3.7355337691054702E-2},{"$f":"_xlfn.XLOOKUP($A134,INDIRECT(\"'Curves \"&D$10&\"'!$A$14:$A$163\"),_xlfn.XLOOKUP(D$11&$J$3,INDIRECT(\"'Curves \"&D$10&\"'!$11:$11\")&INDIRECT(\"'Curves \"&D$10&\"'!$12:$12\"),INDIRECT(\"'Curves \"&D$10&\"'!$14:$163\"),,0,1),,0,1)","v":2.6519296599402997E-2},null,{"$f":"_xlfn.XLOOKUP($A134,INDIRECT(\"'Curves \"&F$10&\"'!$A$14:$A$163\"),_xlfn.XLOOKUP(F$11&$J$3,INDIRECT(\"'Curves \"&F$10&\"'!$11:$11\")&INDIRECT(\"'Curves \"&F$10&\"'!$12:$12\"),INDIRECT(\"'Curves \"&F$10&\"'!$14:$163\"),,0,1),,0,1)","v":3.3420246130481557E-2},{"$f":"_xlfn.XLOOKUP($A134,INDIRECT(\"'Curves \"&G$10&\"'!$A$14:$A$163\"),_xlfn.XLOOKUP(G$11&$J$3,INDIRECT(\"'Curves \"&G$10&\"'!$11:$11\")&INDIRECT(\"'Curves \"&G$10&\"'!$12:$12\"),INDIRECT(\"'Curves \"&G$10&\"'!$14:$163\"),,0,1),,0,1)","v":3.7944241392234401E-2},{"$f":"_xlfn.XLOOKUP($A134,INDIRECT(\"'Curves \"&H$10&\"'!$A$14:$A$163\"),_xlfn.XLOOKUP(H$11&$J$3,INDIRECT(\"'Curves \"&H$10&\"'!$11:$11\")&INDIRECT(\"'Curves \"&H$10&\"'!$12:$12\"),INDIRECT(\"'Curves \"&H$10&\"'!$14:$163\"),,0,1),,0,1)","v":2.7102048710599069E-2}]
[123,{"$f":"_xlfn.XLOOKUP($A135,INDIRECT(\"'Curves \"&B$10&\"'!$A$14:$A$163\"),_xlfn.XLOOKUP(B$11&$J$3,INDIRECT(\"'Curves \"&B$10&\"'!$11:$11\")&INDIRECT(\"'Curves \"&B$10&\"'!$12:$12\"),INDIRECT(\"'Curves \"&B$10&\"'!$14:$163\"),,0,1),,0,1)","v":3.2835259431767572E-2},{"$f":"_xlfn.XLOOKUP($A135,INDIRECT(\"'Curves \"&C$10&\"'!$A$14:$A$163\"),_xlfn.XLOOKUP(C$11&$J$3,INDIRECT(\"'Curves \"&C$10&\"'!$11:$11\")&INDIRECT(\"'Curves \"&C$10&\"'!$12:$12\"),INDIRECT(\"'Curves \"&C$10&\"'!$14:$163\"),,0,1),,0,1)","v":3.7332092517642579E-2},{"$f":"_xlfn.XLOOKUP($A135,INDIRECT(\"'Curves \"&D$10&\"'!$A$14:$A$163\"),_xlfn.XLOOKUP(D$11&$J$3,INDIRECT(\"'Curves \"&D$10&\"'!$11:$11\")&INDIRECT(\"'Curves \"&D$10&\"'!$12:$12\"),INDIRECT(\"'Curves \"&D$10&\"'!$14:$163\"),,0,1),,0,1)","v":2.6559690783314327E-2},null,{"$f":"_xlfn.XLOOKUP($A135,INDIRECT(\"'Curves \"&F$10&\"'!$A$14:$A$163\"),_xlfn.XLOOKUP(F$11&$J$3,INDIRECT(\"'Curves \"&F$10&\"'!$11:$11\")&INDIRECT(\"'Curves \"&F$10&\"'!$12:$12\"),INDIRECT(\"'Curves \"&F$10&\"'!$14:$163\"),,0,1),,0,1)","v":3.3416828888468419E-2},{"$f":"_xlfn.XLOOKUP($A135,INDIRECT(\"'Curves \"&G$10&\"'!$A$14:$A$163\"),_xlfn.XLOOKUP(G$11&$J$3,INDIRECT(\"'Curves \"&G$10&\"'!$11:$11\")&INDIRECT(\"'Curves \"&G$10&\"'!$12:$12\"),INDIRECT(\"'Curves \"&G$10&\"'!$14:$163\"),,0,1),,0,1)","v":3.7916194053637442E-2},{"$f":"_xlfn.XLOOKUP($A135,INDIRECT(\"'Curves \"&H$10&\"'!$A$14:$A$163\"),_xlfn.XLOOKUP(H$11&$J$3,INDIRECT(\"'Curves \"&H$10&\"'!$11:$11\")&INDIRECT(\"'Curves \"&H$10&\"'!$12:$12\"),INDIRECT(\"'Curves \"&H$10&\"'!$14:$163\"),,0,1),,0,1)","v":2.7137726589303579E-2}]
[124,{"$f":"_xlfn.XLOOKUP($A136,INDIRECT(\"'Curves \"&B$10&\"'!$A$14:$A$163\"),_xlfn.XLOOKUP(B$11&$J$3,INDIRECT(\"'Curves \"&B$10&\"'!$11:$11\")&INDIRECT(\"'Curves \"&B$10&\"'!$12:$12\"),INDIRECT(\"'Curves \"&B$10&\"'!$14:$163\"),,0,1),,0,1)","v":3.2836587858768418E-2},{"$f":"_xlfn.XLOOKUP($A136,INDIRECT(\"'Curves \"&C$10&\"'!$A$14:$A$163\"),_xlfn.XLOOKUP(C$11&$J$3,INDIRECT(\"'Curves \"&C$10&\"'!$11:$11\")&INDIRECT(\"'Curves \"&C$10&\"'!$12:$12\"),INDIRECT(\"'Curves \"&C$10&\"'!$14:$163\"),,0,1),,0,1)","v":3.7309222702290423E-2},{"$f":"_xlfn.XLOOKUP($A136,INDIRECT(\"'Curves \"&D$10&\"'!$A$14:$A$163\"),_xlfn.XLOOKUP(D$11&$J$3,INDIRECT(\"'Curves \"&D$10&\"'!$11:$11\")&INDIRECT(\"'Curves \"&D$10&\"'!$12:$12\"),INDIRECT(\"'Curves \"&D$10&\"'!$14:$163\"),,0,1),,0,1)","v":2.6599435228107149E-2},null,{"$f":"_xlfn.XLOOKUP($A136,INDIRECT(\"'Curves \"&F$10&\"'!$A$14:$A$163\"),_xlfn.XLOOKUP(F$11&$J$3,INDIRECT(\"'Curves \"&F$10&\"'!$11:$11\")&INDIRECT(\"'Curves \"&F$10&\"'!$12:$12\"),INDIRECT(\"'Curves \"&F$10&\"'!$14:$163\"),,0,1),,0,1)","v":3.3413466765772837E-2},{"$f":"_xlfn.XLOOKUP($A136,INDIRECT(\"'Curves \"&G$10&\"'!$A$14:$A$163\"),_xlfn.XLOOKUP(G$11&$J$3,INDIRECT(\"'Curves \"&G$10&\"'!$11:$11\")&INDIRECT(\"'Curves \"&G$10&\"'!$12:$12\"),INDIRECT(\"'Curves \"&G$10&\"'!$14:$163\"),,0,1),,0,1)","v":3.7888599747655016E-2},{"$f":"_xlfn.XLOOKUP($A136,INDIRECT(\"'Curves \"&H$10&\"'!$A$14:$A$163\"),_xlfn.XLOOKUP(H$11&$J$3,INDIRECT(\"'Curves \"&H$10&\"'!$11:$11\")&INDIRECT(\"'Curves \"&H$10&\"'!$12:$12\"),INDIRECT(\"'Curves \"&H$10&\"'!$14:$163\"),,0,1),,0,1)","v":2.7172830445789664E-2}]
[125,{"$f":"_xlfn.XLOOKUP($A137,INDIRECT(\"'Curves \"&B$10&\"'!$A$14:$A$163\"),_xlfn.XLOOKUP(B$11&$J$3,INDIRECT(\"'Curves \"&B$10&\"'!$11:$11\")&INDIRECT(\"'Curves \"&B$10&\"'!$12:$12\"),INDIRECT(\"'Curves \"&B$10&\"'!$14:$163\"),,0,1),,0,1)","v":3.2837895034762754E-2},{"$f":"_xlfn.XLOOKUP($A137,INDIRECT(\"'Curves \"&C$10&\"'!$A$14:$A$163\"),_xlfn.XLOOKUP(C$11&$J$3,INDIRECT(\"'Curves \"&C$10&\"'!$11:$11\")&INDIRECT(\"'Curves \"&C$10&\"'!$12:$12\"),INDIRECT(\"'Curves \"&C$10&\"'!$14:$163\"),,0,1),,0,1)","v":3.7286719231781396E-2},{"$f":"_xlfn.XLOOKUP($A137,INDIRECT(\"'Curves \"&D$10&\"'!$A$14:$A$163\"),_xlfn.XLOOKUP(D$11&$J$3,INDIRECT(\"'Curves \"&D$10&\"'!$11:$11\")&INDIRECT(\"'Curves \"&D$10&\"'!$12:$12\"),INDIRECT(\"'Curves \"&D$10&\"'!$14:$163\"),,0,1),,0,1)","v":2.6638545467039476E-2},null,{"$f":"_xlfn.XLOOKUP($A137,INDIRECT(\"'Curves \"&F$10&\"'!$A$14:$A$163\"),_xlfn.XLOOKUP(F$11&$J$3,INDIRECT(\"'Curves \"&F$10&\"'!$11:$11\")&INDIRECT(\"'Curves \"&F$10&\"'!$12:$12\"),INDIRECT(\"'Curves \"&F$10&\"'!$14:$163\"),,0,1),,0,1)","v":3.341015844014894E-2},{"$f":"_xlfn.XLOOKUP($A137,INDIRECT(\"'Curves \"&G$10&\"'!$A$14:$A$163\"),_xlfn.XLOOKUP(G$11&$J$3,INDIRECT(\"'Curves \"&G$10&\"'!$11:$11\")&INDIRECT(\"'Curves \"&G$10&\"'!$12:$12\"),INDIRECT(\"'Curves \"&G$10&\"'!$14:$163\"),,0,1),,0,1)","v":3.7861447592507869E-2},{"$f":"_xlfn.XLOOKUP($A137,INDIRECT(\"'Curves \"&H$10&\"'!$A$14:$A$163\"),_xlfn.XLOOKUP(H$11&$J$3,INDIRECT(\"'Curves \"&H$10&\"'!$11:$11\")&INDIRECT(\"'Curves \"&H$10&\"'!$12:$12\"),INDIRECT(\"'Curves \"&H$10&\"'!$14:$163\"),,0,1),,0,1)","v":2.7207374005335794E-2}]
[126,{"$f":"_xlfn.XLOOKUP($A138,INDIRECT(\"'Curves \"&B$10&\"'!$A$14:$A$163\"),_xlfn.XLOOKUP(B$11&$J$3,INDIRECT(\"'Curves \"&B$10&\"'!$11:$11\")&INDIRECT(\"'Curves \"&B$10&\"'!$12:$12\"),INDIRECT(\"'Curves \"&B$10&\"'!$14:$163\"),,0,1),,0,1)","v":3.2839181465464495E-2},{"$f":"_xlfn.XLOOKUP($A138,INDIRECT(\"'Curves \"&C$10&\"'!$A$14:$A$163\"),_xlfn.XLOOKUP(C$11&$J$3,INDIRECT(\"'Curves \"&C$10&\"'!$11:$11\")&INDIRECT(\"'Curves \"&C$10&\"'!$12:$12\"),INDIRECT(\"'Curves \"&C$10&\"'!$14:$163\"),,0,1),,0,1)","v":3.7264573378638977E-2},{"$f":"_xlfn.XLOOKUP($A138,INDIRECT(\"'Curves \"&D$10&\"'!$A$14:$A$163\"),_xlfn.XLOOKUP(D$11&$J$3,INDIRECT(\"'Curves \"&D$10&\"'!$11:$11\")&INDIRECT(\"'Curves \"&D$10&\"'!$12:$12\"),INDIRECT(\"'Curves \"&D$10&\"'!$14:$163\"),,0,1),,0,1)","v":2.6677036543847121E-2},null,{"$f":"_xlfn.XLOOKUP($A138,INDIRECT(\"'Curves \"&F$10&\"'!$A$14:$A$163\"),_xlfn.XLOOKUP(F$11&$J$3,INDIRECT(\"'Curves \"&F$10&\"'!$11:$11\")&INDIRECT(\"'Curves \"&F$10&\"'!$12:$12\"),INDIRECT(\"'Curves \"&F$10&\"'!$14:$163\"),,0,1),,0,1)","v":3.3406902631244018E-2},{"$f":"_xlfn.XLOOKUP($A138,INDIRECT(\"'Curves \"&G$10&\"'!$A$14:$A$163\"),_xlfn.XLOOKUP(G$11&$J$3,INDIRECT(\"'Curves \"&G$10&\"'!$11:$11\")&INDIRECT(\"'Curves \"&G$10&\"'!$12:$12\"),INDIRECT(\"'Curves \"&G$10&\"'!$14:$163\"),,0,1),,0,1)","v":3.7834727051531791E-2},{"$f":"_xlfn.XLOOKUP($A138,INDIRECT(\"'Curves \"&H$10&\"'!$A$14:$A$163\"),_xlfn.XLOOKUP(H$11&$J$3,INDIRECT(\"'Curves \"&H$10&\"'!$11:$11\")&INDIRECT(\"'Curves \"&H$10&\"'!$12:$12\"),INDIRECT(\"'Curves \"&H$10&\"'!$14:$163\"),,0,1),,0,1)","v":2.7241370560725509E-2}]
[127,{"$f":"_xlfn.XLOOKUP($A139,INDIRECT(\"'Curves \"&B$10&\"'!$A$14:$A$163\"),_xlfn.XLOOKUP(B$11&$J$3,INDIRECT(\"'Curves \"&B$10&\"'!$11:$11\")&INDIRECT(\"'Curves \"&B$10&\"'!$12:$12\"),INDIRECT(\"'Curves \"&B$10&\"'!$14:$163\"),,0,1),,0,1)","v":3.2840447640683834E-2},{"$f":"_xlfn.XLOOKUP($A139,INDIRECT(\"'Curves \"&C$10&\"'!$A$14:$A$163\"),_xlfn.XLOOKUP(C$11&$J$3,INDIRECT(\"'Curves \"&C$10&\"'!$11:$11\")&INDIRECT(\"'Curves \"&C$10&\"'!$12:$12\"),INDIRECT(\"'Curves \"&C$10&\"'!$14:$163\"),,0,1),,0,1)","v":3.7242776689944801E-2},{"$f":"_xlfn.XLOOKUP($A139,INDIRECT(\"'Curves \"&D$10&\"'!$A$14:$A$163\"),_xlfn.XLOOKUP(D$11&$J$3,INDIRECT(\"'Curves \"&D$10&\"'!$11:$11\")&INDIRECT(\"'Curves \"&D$10&\"'!$12:$12\"),INDIRECT(\"'Curves \"&D$10&\"'!$14:$163\"),,0,1),,0,1)","v":2.671492303171985E-2},null,{"$f":"_xlfn.XLOOKUP($A139,INDIRECT(\"'Curves \"&F$10&\"'!$A$14:$A$163\"),_xlfn.XLOOKUP(F$11&$J$3,INDIRECT(\"'Curves \"&F$10&\"'!$11:$11\")&INDIRECT(\"'Curves \"&F$10&\"'!$12:$12\"),INDIRECT(\"'Curves \"&F$10&\"'!$14:$163\"),,0,1),,0,1)","v":3.3403698098958268E-2},{"$f":"_xlfn.XLOOKUP($A139,INDIRECT(\"'Curves \"&G$10&\"'!$A$14:$A$163\"),_xlfn.XLOOKUP(G$11&$J$3,INDIRECT(\"'Curves \"&G$10&\"'!$11:$11\")&INDIRECT(\"'Curves \"&G$10&\"'!$12:$12\"),INDIRECT(\"'Curves \"&G$10&\"'!$14:$163\"),,0,1),,0,1)","v":3.7808427919664656E-2},{"$f":"_xlfn.XLOOKUP($A139,INDIRECT(\"'Curves \"&H$10&\"'!$A$14:$A$163\"),_xlfn.XLOOKUP(H$11&$J$3,INDIRECT(\"'Curves \"&H$10&\"'!$11:$11\")&INDIRECT(\"'Curves \"&H$10&\"'!$12:$12\"),INDIRECT(\"'Curves \"&H$10&\"'!$14:$163\"),,0,1),,0,1)","v":2.7274832988999131E-2}]
[128,{"$f":"_xlfn.XLOOKUP($A140,INDIRECT(\"'Curves \"&B$10&\"'!$A$14:$A$163\"),_xlfn.XLOOKUP(B$11&$J$3,INDIRECT(\"'Curves \"&B$10&\"'!$11:$11\")&INDIRECT(\"'Curves \"&B$10&\"'!$12:$12\"),INDIRECT(\"'Curves \"&B$10&\"'!$14:$163\"),,0,1),,0,1)","v":3.28416940349463E-2},{"$f":"_xlfn.XLOOKUP($A140,INDIRECT(\"'Curves \"&C$10&\"'!$A$14:$A$163\"),_xlfn.XLOOKUP(C$11&$J$3,INDIRECT(\"'Curves \"&C$10&\"'!$11:$11\")&INDIRECT(\"'Curves \"&C$10&\"'!$12:$12\"),INDIRECT(\"'Curves \"&C$10&\"'!$14:$163\"),,0,1),,0,1)","v":3.7221320976668748E-2},{"$f":"_xlfn.XLOOKUP($A140,INDIRECT(\"'Curves \"&D$10&\"'!$A$14:$A$163\"),_xlfn.XLOOKUP(D$11&$J$3,INDIRECT(\"'Curves \"&D$10&\"'!$11:$11\")&INDIRECT(\"'Curves \"&D$10&\"'!$12:$12\"),INDIRECT(\"'Curves \"&D$10&\"'!$14:$163\"),,0,1),,0,1)","v":2.6752219051414672E-2},null,{"$f":"_xlfn.XLOOKUP($A140,INDIRECT(\"'Curves \"&F$10&\"'!$A$14:$A$163\"),_xlfn.XLOOKUP(F$11&$J$3,INDIRECT(\"'Curves \"&F$10&\"'!$11:$11\")&INDIRECT(\"'Curves \"&F$10&\"'!$12:$12\"),INDIRECT(\"'Curves \"&F$10&\"'!$14:$163\"),,0,1),,0,1)","v":3.3400543641881164E-2},{"$f":"_xlfn.XLOOKUP($A140,INDIRECT(\"'Curves \"&G$10&\"'!$A$14:$A$163\"),_xlfn.XLOOKUP(G$11&$J$3,INDIRECT(\"'Curves \"&G$10&\"'!$11:$11\")&INDIRECT(\"'Curves \"&G$10&\"'!$12:$12\"),INDIRECT(\"'Curves \"&G$10&\"'!$14:$163\"),,0,1),,0,1)","v":3.7782540310550949E-2},{"$f":"_xlfn.XLOOKUP($A140,INDIRECT(\"'Curves \"&H$10&\"'!$A$14:$A$163\"),_xlfn.XLOOKUP(H$11&$J$3,INDIRECT(\"'Curves \"&H$10&\"'!$11:$11\")&INDIRECT(\"'Curves \"&H$10&\"'!$12:$12\"),INDIRECT(\"'Curves \"&H$10&\"'!$14:$163\"),,0,1),,0,1)","v":2.7307773767447419E-2}]
[129,{"$f":"_xlfn.XLOOKUP($A141,INDIRECT(\"'Curves \"&B$10&\"'!$A$14:$A$163\"),_xlfn.XLOOKUP(B$11&$J$3,INDIRECT(\"'Curves \"&B$10&\"'!$11:$11\")&INDIRECT(\"'Curves \"&B$10&\"'!$12:$12\"),INDIRECT(\"'Curves \"&B$10&\"'!$14:$163\"),,0,1),,0,1)","v":3.2842921108082512E-2},{"$f":"_xlfn.XLOOKUP($A141,INDIRECT(\"'Curves \"&C$10&\"'!$A$14:$A$163\"),_xlfn.XLOOKUP(C$11&$J$3,INDIRECT(\"'Curves \"&C$10&\"'!$11:$11\")&INDIRECT(\"'Curves \"&C$10&\"'!$12:$12\"),INDIRECT(\"'Curves \"&C$10&\"'!$14:$163\"),,0,1),,0,1)","v":3.7200198303491971E-2},{"$f":"_xlfn.XLOOKUP($A141,INDIRECT(\"'Curves \"&D$10&\"'!$A$14:$A$163\"),_xlfn.XLOOKUP(D$11&$J$3,INDIRECT(\"'Curves \"&D$10&\"'!$11:$11\")&INDIRECT(\"'Curves \"&D$10&\"'!$12:$12\"),INDIRECT(\"'Curves \"&D$10&\"'!$14:$163\"),,0,1),,0,1)","v":2.6788938288553554E-2},null,{"$f":"_xlfn.XLOOKUP($A141,INDIRECT(\"'Curves \"&F$10&\"'!$A$14:$A$163\"),_xlfn.XLOOKUP(F$11&$J$3,INDIRECT(\"'Curves \"&F$10&\"'!$11:$11\")&INDIRECT(\"'Curves \"&F$10&\"'!$12:$12\"),INDIRECT(\"'Curves \"&F$10&\"'!$14:$163\"),,0,1),,0,1)","v":3.3397438095797982E-2},{"$f":"_xlfn.XLOOKUP($A141,INDIRECT(\"'Curves \"&G$10&\"'!$A$14:$A$163\"),_xlfn.XLOOKUP(G$11&$J$3,INDIRECT(\"'Curves \"&G$10&\"'!$11:$11\")&INDIRECT(\"'Curves \"&G$10&\"'!$12:$12\"),INDIRECT(\"'Curves \"&G$10&\"'!$14:$163\"),,0,1),,0,1)","v":3.7757054644245391E-2},{"$f":"_xlfn.XLOOKUP($A141,INDIRECT(\"'Curves \"&H$10&\"'!$A$14:$A$163\"),_xlfn.XLOOKUP(H$11&$J$3,INDIRECT(\"'Curves \"&H$10&\"'!$11:$11\")&INDIRECT(\"'Curves \"&H$10&\"'!$12:$12\"),INDIRECT(\"'Curves \"&H$10&\"'!$14:$163\"),,0,1),,0,1)","v":2.7340204988884453E-2}]
[130,{"$f":"_xlfn.XLOOKUP($A142,INDIRECT(\"'Curves \"&B$10&\"'!$A$14:$A$163\"),_xlfn.XLOOKUP(B$11&$J$3,INDIRECT(\"'Curves \"&B$10&\"'!$11:$11\")&INDIRECT(\"'Curves \"&B$10&\"'!$12:$12\"),INDIRECT(\"'Curves \"&B$10&\"'!$14:$163\"),,0,1),,0,1)","v":3.2844129305791725E-2},{"$f":"_xlfn.XLOOKUP($A142,INDIRECT(\"'Curves \"&C$10&\"'!$A$14:$A$163\"),_xlfn.XLOOKUP(C$11&$J$3,INDIRECT(\"'Curves \"&C$10&\"'!$11:$11\")&INDIRECT(\"'Curves \"&C$10&\"'!$12:$12\"),INDIRECT(\"'Curves \"&C$10&\"'!$14:$163\"),,0,1),,0,1)","v":3.7179400979091115E-2},{"$f":"_xlfn.XLOOKUP($A142,INDIRECT(\"'Curves \"&D$10&\"'!$A$14:$A$163\"),_xlfn.XLOOKUP(D$11&$J$3,INDIRECT(\"'Curves \"&D$10&\"'!$11:$11\")&INDIRECT(\"'Curves \"&D$10&\"'!$12:$12\"),INDIRECT(\"'Curves \"&D$10&\"'!$14:$163\"),,0,1),,0,1)","v":2.6825094010143546E-2},null,{"$f":"_xlfn.XLOOKUP($A142,INDIRECT(\"'Curves \"&F$10&\"'!$A$14:$A$163\"),_xlfn.XLOOKUP(F$11&$J$3,INDIRECT(\"'Curves \"&F$10&\"'!$11:$11\")&INDIRECT(\"'Curves \"&F$10&\"'!$12:$12\"),INDIRECT(\"'Curves \"&F$10&\"'!$14:$163\"),,0,1),,0,1)","v":3.3394380332266715E-2},{"$f":"_xlfn.XLOOKUP($A142,INDIRECT(\"'Curves \"&G$10&\"'!$A$14:$A$163\"),_xlfn.XLOOKUP(G$11&$J$3,INDIRECT(\"'Curves \"&G$10&\"'!$11:$11\")&INDIRECT(\"'Curves \"&G$10&\"'!$12:$12\"),INDIRECT(\"'Curves \"&G$10&\"'!$14:$163\"),,0,1),,0,1)","v":3.773196163547099E-2},{"$f":"_xlfn.XLOOKUP($A142,INDIRECT(\"'Curves \"&H$10&\"'!$A$14:$A$163\"),_xlfn.XLOOKUP(H$11&$J$3,INDIRECT(\"'Curves \"&H$10&\"'!$11:$11\")&INDIRECT(\"'Curves \"&H$10&\"'!$12:$12\"),INDIRECT(\"'Curves \"&H$10&\"'!$14:$163\"),,0,1),,0,1)","v":2.7372138376236865E-2}]
[131,{"$f":"_xlfn.XLOOKUP($A143,INDIRECT(\"'Curves \"&B$10&\"'!$A$14:$A$163\"),_xlfn.XLOOKUP(B$11&$J$3,INDIRECT(\"'Curves \"&B$10&\"'!$11:$11\")&INDIRECT(\"'Curves \"&B$10&\"'!$12:$12\"),INDIRECT(\"'Curves \"&B$10&\"'!$14:$163\"),,0,1),,0,1)","v":3.2845319060179401E-2},{"$f":"_xlfn.XLOOKUP($A143,INDIRECT(\"'Curves \"&C$10&\"'!$A$14:$A$163\"),_xlfn.XLOOKUP(C$11&$J$3,INDIRECT(\"'Curves \"&C$10&\"'!$11:$11\")&INDIRECT(\"'Curves \"&C$10&\"'!$12:$12\"),INDIRECT(\"'Curves \"&C$10&\"'!$14:$163\"),,0,1),,0,1)","v":3.7158921546864621E-2},{"$f":"_xlfn.XLOOKUP($A143,INDIRECT(\"'Curves \"&D$10&\"'!$A$14:$A$163\"),_xlfn.XLOOKUP(D$11&$J$3,INDIRECT(\"'Curves \"&D$10&\"'!$11:$11\")&INDIRECT(\"'Curves \"&D$10&\"'!$12:$12\"),INDIRECT(\"'Curves \"&D$10&\"'!$14:$163\"),,0,1),,0,1)","v":2.6860699080361039E-2},null,{"$f":"_xlfn.XLOOKUP($A143,INDIRECT(\"'Curves \"&F$10&\"'!$A$14:$A$163\"),_xlfn.XLOOKUP(F$11&$J$3,INDIRECT(\"'Curves \"&F$10&\"'!$11:$11\")&INDIRECT(\"'Curves \"&F$10&\"'!$12:$12\"),INDIRECT(\"'Curves \"&F$10&\"'!$14:$163\"),,0,1),,0,1)","v":3.3391369257256942E-2},{"$f":"_xlfn.XLOOKUP($A143,INDIRECT(\"'Curves \"&G$10&\"'!$A$14:$A$163\"),_xlfn.XLOOKUP(G$11&$J$3,INDIRECT(\"'Curves \"&G$10&\"'!$11:$11\")&INDIRECT(\"'Curves \"&G$10&\"'!$12:$12\"),INDIRECT(\"'Curves \"&G$10&\"'!$14:$163\"),,0,1),,0,1)","v":3.7707252282416448E-2},{"$f":"_xlfn.XLOOKUP($A143,INDIRECT(\"'Curves \"&H$10&\"'!$A$14:$A$163\"),_xlfn.XLOOKUP(H$11&$J$3,INDIRECT(\"'Curves \"&H$10&\"'!$11:$11\")&INDIRECT(\"'Curves \"&H$10&\"'!$12:$12\"),INDIRECT(\"'Curves \"&H$10&\"'!$14:$163\"),,0,1),,0,1)","v":2.7403585296483124E-2}]
[132,{"$f":"_xlfn.XLOOKUP($A144,INDIRECT(\"'Curves \"&B$10&\"'!$A$14:$A$163\"),_xlfn.XLOOKUP(B$11&$J$3,INDIRECT(\"'Curves \"&B$10&\"'!$11:$11\")&INDIRECT(\"'Curves \"&B$10&\"'!$12:$12\"),INDIRECT(\"'Curves \"&B$10&\"'!$14:$163\"),,0,1),,0,1)","v":3.2846490790271243E-2},{"$f":"_xlfn.XLOOKUP($A144,INDIRECT(\"'Curves \"&C$10&\"'!$A$14:$A$163\"),_xlfn.XLOOKUP(C$11&$J$3,INDIRECT(\"'Curves \"&C$10&\"'!$11:$11\")&INDIRECT(\"'Curves \"&C$10&\"'!$12:$12\"),INDIRECT(\"'Curves \"&C$10&\"'!$14:$163\"),,0,1),,0,1)","v":3.713875277607448E-2},{"$f":"_xlfn.XLOOKUP($A144,INDIRECT(\"'Curves \"&D$10&\"'!$A$14:$A$163\"),_xlfn.XLOOKUP(D$11&$J$3,INDIRECT(\"'Curves \"&D$10&\"'!$11:$11\")&INDIRECT(\"'Curves \"&D$10&\"'!$12:$12\"),INDIRECT(\"'Curves \"&D$10&\"'!$14:$163\"),,0,1),,0,1)","v":2.6895765975636143E-2},null,{"$f":"_xlfn.XLOOKUP($A144,INDIRECT(\"'Curves \"&F$10&\"'!$A$14:$A$163\"),_xlfn.XLOOKUP(F$11&$J$3,INDIRECT(\"'Curves \"&F$10&\"'!$11:$11\")&INDIRECT(\"'Curves \"&F$10&\"'!$12:$12\"),INDIRECT(\"'Curves \"&F$10&\"'!$14:$163\"),,0,1),,0,1)","v":3.3388403809852418E-2},{"$f":"_xlfn.XLOOKUP($A144,INDIRECT(\"'Curves \"&G$10&\"'!$A$14:$A$163\"),_xlfn.XLOOKUP(G$11&$J$3,INDIRECT(\"'Curves \"&G$10&\"'!$11:$11\")&INDIRECT(\"'Curves \"&G$10&\"'!$12:$12\"),INDIRECT(\"'Curves \"&G$10&\"'!$14:$163\"),,0,1),,0,1)","v":3.7682917856028952E-2},{"$f":"_xlfn.XLOOKUP($A144,INDIRECT(\"'Curves \"&H$10&\"'!$A$14:$A$163\"),_xlfn.XLOOKUP(H$11&$J$3,INDIRECT(\"'Curves \"&H$10&\"'!$11:$11\")&INDIRECT(\"'Curves \"&H$10&\"'!$12:$12\"),INDIRECT(\"'Curves \"&H$10&\"'!$14:$163\"),,0,1),,0,1)","v":2.7434556773975549E-2}]
[133,{"$f":"_xlfn.XLOOKUP($A145,INDIRECT(\"'Curves \"&B$10&\"'!$A$14:$A$163\"),_xlfn.XLOOKUP(B$11&$J$3,INDIRECT(\"'Curves \"&B$10&\"'!$11:$11\")&INDIRECT(\"'Curves \"&B$10&\"'!$12:$12\"),INDIRECT(\"'Curves \"&B$10&\"'!$14:$163\"),,0,1),,0,1)","v":3.2847644902502138E-2},{"$f":"_xlfn.XLOOKUP($A145,INDIRECT(\"'Curves \"&C$10&\"'!$A$14:$A$163\"),_xlfn.XLOOKUP(C$11&$J$3,INDIRECT(\"'Curves \"&C$10&\"'!$11:$11\")&INDIRECT(\"'Curves \"&C$10&\"'!$12:$12\"),INDIRECT(\"'Curves \"&C$10&\"'!$14:$163\"),,0,1),,0,1)","v":3.7118887653383226E-2},{"$f":"_xlfn.XLOOKUP($A145,INDIRECT(\"'Curves \"&D$10&\"'!$A$14:$A$163\"),_xlfn.XLOOKUP(D$11&$J$3,INDIRECT(\"'Curves \"&D$10&\"'!$11:$11\")&INDIRECT(\"'Curves \"&D$10&\"'!$12:$12\"),INDIRECT(\"'Curves \"&D$10&\"'!$14:$163\"),,0,1),,0,1)","v":2.69303067990736E-2},null,{"$f":"_xlfn.XLOOKUP($A145,INDIRECT(\"'Curves \"&F$10&\"'!$A$14:$A$163\"),_xlfn.XLOOKUP(F$11&$J$3,INDIRECT(\"'Curves \"&F$10&\"'!$11:$11\")&INDIRECT(\"'Curves \"&F$10&\"'!$12:$12\"),INDIRECT(\"'Curves \"&F$10&\"'!$14:$163\"),,0,1),,0,1)","v":3.3385482961010293E-2},{"$f":"_xlfn.XLOOKUP($A145,INDIRECT(\"'Curves \"&G$10&\"'!$A$14:$A$163\"),_xlfn.XLOOKUP(G$11&$J$3,INDIRECT(\"'Curves \"&G$10&\"'!$11:$11\")&INDIRECT(\"'Curves \"&G$10&\"'!$12:$12\"),INDIRECT(\"'Curves \"&G$10&\"'!$14:$163\"),,0,1),,0,1)","v":3.7658949889794124E-2},{"$f":"_xlfn.XLOOKUP($A145,INDIRECT(\"'Curves \"&H$10&\"'!$A$14:$A$163\"),_xlfn.XLOOKUP(H$11&$J$3,INDIRECT(\"'Curves \"&H$10&\"'!$11:$11\")&INDIRECT(\"'Curves \"&H$10&\"'!$12:$12\"),INDIRECT(\"'Curves \"&H$10&\"'!$14:$163\"),,0,1),,0,1)","v":2.7465063503179898E-2}]
[134,{"$f":"_xlfn.XLOOKUP($A146,INDIRECT(\"'Curves \"&B$10&\"'!$A$14:$A$163\"),_xlfn.XLOOKUP(B$11&$J$3,INDIRECT(\"'Curves \"&B$10&\"'!$11:$11\")&INDIRECT(\"'Curves \"&B$10&\"'!$12:$12\"),INDIRECT(\"'Curves \"&B$10&\"'!$14:$163\"),,0,1),,0,1)","v":3.2848781791186221E-2},{"$f":"_xlfn.XLOOKUP($A146,INDIRECT(\"'Curves \"&C$10&\"'!$A$14:$A$163\"),_xlfn.XLOOKUP(C$11&$J$3,INDIRECT(\"'Curves \"&C$10&\"'!$11:$11\")&INDIRECT(\"'Curves \"&C$10&\"'!$12:$12\"),INDIRECT(\"'Curves \"&C$10&\"'!$14:$163\"),,0,1),,0,1)","v":3.7099319374767958E-2},{"$f":"_xlfn.XLOOKUP($A146,INDIRECT(\"'Curves \"&D$10&\"'!$A$14:$A$163\"),_xlfn.XLOOKUP(D$11&$J$3,INDIRECT(\"'Curves \"&D$10&\"'!$11:$11\")&INDIRECT(\"'Curves \"&D$10&\"'!$12:$12\"),INDIRECT(\"'Curves \"&D$10&\"'!$14:$163\"),,0,1),,0,1)","v":2.6964333294240195E-2},null,{"$f":"_xlfn.XLOOKUP($A146,INDIRECT(\"'Curves \"&F$10&\"'!$A$14:$A$163\"),_xlfn.XLOOKUP(F$11&$J$3,INDIRECT(\"'Curves \"&F$10&\"'!$11:$11\")&INDIRECT(\"'Curves \"&F$10&\"'!$12:$12\"),INDIRECT(\"'Curves \"&F$10&\"'!$14:$163\"),,0,1),,0,1)","v":3.3382605712375391E-2},{"$f":"_xlfn.XLOOKUP($A146,INDIRECT(\"'Curves \"&G$10&\"'!$A$14:$A$163\"),_xlfn.XLOOKUP(G$11&$J$3,INDIRECT(\"'Curves \"&G$10&\"'!$11:$11\")&INDIRECT(\"'Curves \"&G$10&\"'!$12:$12\"),INDIRECT(\"'Curves \"&G$10&\"'!$14:$163\"),,0,1),,0,1)","v":3.7635340169962284E-2},{"$f":"_xlfn.XLOOKUP($A146,INDIRECT(\"'Curves \"&H$10&\"'!$A$14:$A$163\"),_xlfn.XLOOKUP(H$11&$J$3,INDIRECT(\"'Curves \"&H$10&\"'!$11:$11\")&INDIRECT(\"'Curves \"&H$10&\"'!$12:$12\"),INDIRECT(\"'Curves \"&H$10&\"'!$14:$163\"),,0,1),,0,1)","v":2.7495115860851405E-2}]
[135,{"$f":"_xlfn.XLOOKUP($A147,INDIRECT(\"'Curves \"&B$10&\"'!$A$14:$A$163\"),_xlfn.XLOOKUP(B$11&$J$3,INDIRECT(\"'Curves \"&B$10&\"'!$11:$11\")&INDIRECT(\"'Curves \"&B$10&\"'!$12:$12\"),INDIRECT(\"'Curves \"&B$10&\"'!$14:$163\"),,0,1),,0,1)","v":3.2849901838963635E-2},{"$f":"_xlfn.XLOOKUP($A147,INDIRECT(\"'Curves \"&C$10&\"'!$A$14:$A$163\"),_xlfn.XLOOKUP(C$11&$J$3,INDIRECT(\"'Curves \"&C$10&\"'!$11:$11\")&INDIRECT(\"'Curves \"&C$10&\"'!$12:$12\"),INDIRECT(\"'Curves \"&C$10&\"'!$14:$163\"),,0,1),,0,1)","v":3.7080041337788971E-2},{"$f":"_xlfn.XLOOKUP($A147,INDIRECT(\"'Curves \"&D$10&\"'!$A$14:$A$163\"),_xlfn.XLOOKUP(D$11&$J$3,INDIRECT(\"'Curves \"&D$10&\"'!$11:$11\")&INDIRECT(\"'Curves \"&D$10&\"'!$12:$12\"),INDIRECT(\"'Curves \"&D$10&\"'!$14:$163\"),,0,1),,0,1)","v":2.6997856858353764E-2},null,{"$f":"_xlfn.XLOOKUP($A147,INDIRECT(\"'Curves \"&F$10&\"'!$A$14:$A$163\"),_xlfn.XLOOKUP(F$11&$J$3,INDIRECT(\"'Curves \"&F$10&\"'!$11:$11\")&INDIRECT(\"'Curves \"&F$10&\"'!$12:$12\"),INDIRECT(\"'Curves \"&F$10&\"'!$14:$163\"),,0,1),,0,1)","v":3.3379771095147337E-2},{"$f":"_xlfn.XLOOKUP($A147,INDIRECT(\"'Curves \"&G$10&\"'!$A$14:$A$163\"),_xlfn.XLOOKUP(G$11&$J$3,INDIRECT(\"'Curves \"&G$10&\"'!$11:$11\")&INDIRECT(\"'Curves \"&G$10&\"'!$12:$12\"),INDIRECT(\"'Curves \"&G$10&\"'!$14:$163\"),,0,1),,0,1)","v":3.7612080726211472E-2},{"$f":"_xlfn.XLOOKUP($A147,INDIRECT(\"'Curves \"&H$10&\"'!$A$14:$A$163\"),_xlfn.XLOOKUP(H$11&$J$3,INDIRECT(\"'Curves \"&H$10&\"'!$11:$11\")&INDIRECT(\"'Curves \"&H$10&\"'!$12:$12\"),INDIRECT(\"'Curves \"&H$10&\"'!$14:$163\"),,0,1),,0,1)","v":2.7524723917688121E-2}]
[136,{"$f":"_xlfn.XLOOKUP($A148,INDIRECT(\"'Curves \"&B$10&\"'!$A$14:$A$163\"),_xlfn.XLOOKUP(B$11&$J$3,INDIRECT(\"'Curves \"&B$10&\"'!$11:$11\")&INDIRECT(\"'Curves \"&B$10&\"'!$12:$12\"),INDIRECT(\"'Curves \"&B$10&\"'!$14:$163\"),,0,1),,0,1)","v":3.2851005417229517E-2},{"$f":"_xlfn.XLOOKUP($A148,INDIRECT(\"'Curves \"&C$10&\"'!$A$14:$A$163\"),_xlfn.XLOOKUP(C$11&$J$3,INDIRECT(\"'Curves \"&C$10&\"'!$11:$11\")&INDIRECT(\"'Curves \"&C$10&\"'!$12:$12\"),INDIRECT(\"'Curves \"&C$10&\"'!$14:$163\"),,0,1),,0,1)","v":3.7061047134197E-2},{"$f":"_xlfn.XLOOKUP($A148,INDIRECT(\"'Curves \"&D$10&\"'!$A$14:$A$163\"),_xlfn.XLOOKUP(D$11&$J$3,INDIRECT(\"'Curves \"&D$10&\"'!$11:$11\")&INDIRECT(\"'Curves \"&D$10&\"'!$12:$12\"),INDIRECT(\"'Curves \"&D$10&\"'!$14:$163\"),,0,1),,0,1)","v":2.7030888554902432E-2},null,{"$f":"_xlfn.XLOOKUP($A148,INDIRECT(\"'Curves \"&F$10&\"'!$A$14:$A$163\"),_xlfn.XLOOKUP(F$11&$J$3,INDIRECT(\"'Curves \"&F$10&\"'!$11:$11\")&INDIRECT(\"'Curves \"&F$10&\"'!$12:$12\"),INDIRECT(\"'Curves \"&F$10&\"'!$14:$163\"),,0,1),,0,1)","v":3.3376978168997207E-2},{"$f":"_xlfn.XLOOKUP($A148,INDIRECT(\"'Curves \"&G$10&\"'!$A$14:$A$163\"),_xlfn.XLOOKUP(G$11&$J$3,INDIRECT(\"'Curves \"&G$10&\"'!$11:$11\")&INDIRECT(\"'Curves \"&G$10&\"'!$12:$12\"),INDIRECT(\"'Curves \"&G$10&\"'!$14:$163\"),,0,1),,0,1)","v":3.7589163822713934E-2},{"$f":"_xlfn.XLOOKUP($A148,INDIRECT(\"'Curves \"&H$10&\"'!$A$14:$A$163\"),_xlfn.XLOOKUP(H$11&$J$3,INDIRECT(\"'Curves \"&H$10&\"'!$11:$11\")&INDIRECT(\"'Curves \"&H$10&\"'!$12:$12\"),INDIRECT(\"'Curves \"&H$10&\"'!$14:$163\"),,0,1),,0,1)","v":2.7553897449477116E-2}]
[137,{"$f":"_xlfn.XLOOKUP($A149,INDIRECT(\"'Curves \"&B$10&\"'!$A$14:$A$163\"),_xlfn.XLOOKUP(B$11&$J$3,INDIRECT(\"'Curves \"&B$10&\"'!$11:$11\")&INDIRECT(\"'Curves \"&B$10&\"'!$12:$12\"),INDIRECT(\"'Curves \"&B$10&\"'!$14:$163\"),,0,1),,0,1)","v":3.2852092886543227E-2},{"$f":"_xlfn.XLOOKUP($A149,INDIRECT(\"'Curves \"&C$10&\"'!$A$14:$A$163\"),_xlfn.XLOOKUP(C$11&$J$3,INDIRECT(\"'Curves \"&C$10&\"'!$11:$11\")&INDIRECT(\"'Curves \"&C$10&\"'!$12:$12\"),INDIRECT(\"'Curves \"&C$10&\"'!$14:$163\"),,0,1),,0,1)","v":3.7042330542862212E-2},{"$f":"_xlfn.XLOOKUP($A149,INDIRECT(\"'Curves \"&D$10&\"'!$A$14:$A$163\"),_xlfn.XLOOKUP(D$11&$J$3,INDIRECT(\"'Curves \"&D$10&\"'!$11:$11\")&INDIRECT(\"'Curves \"&D$10&\"'!$12:$12\"),INDIRECT(\"'Curves \"&D$10&\"'!$14:$163\"),,0,1),,0,1)","v":2.7063439125718292E-2},null,{"$f":"_xlfn.XLOOKUP($A149,INDIRECT(\"'Curves \"&F$10&\"'!$A$14:$A$163\"),_xlfn.XLOOKUP(F$11&$J$3,INDIRECT(\"'Curves \"&F$10&\"'!$11:$11\")&INDIRECT(\"'Curves \"&F$10&\"'!$12:$12\"),INDIRECT(\"'Curves \"&F$10&\"'!$14:$163\"),,0,1),,0,1)","v":3.3374226021030795E-2},{"$f":"_xlfn.XLOOKUP($A149,INDIRECT(\"'Curves \"&G$10&\"'!$A$14:$A$163\"),_xlfn.XLOOKUP(G$11&$J$3,INDIRECT(\"'Curves \"&G$10&\"'!$11:$11\")&INDIRECT(\"'Curves \"&G$10&\"'!$12:$12\"),INDIRECT(\"'Curves \"&G$10&\"'!$14:$163\"),,0,1),,0,1)","v":3.7566581949594946E-2},{"$f":"_xlfn.XLOOKUP($A149,INDIRECT(\"'Curves \"&H$10&\"'!$A$14:$A$163\"),_xlfn.XLOOKUP(H$11&$J$3,INDIRECT(\"'Curves \"&H$10&\"'!$11:$11\")&INDIRECT(\"'Curves \"&H$10&\"'!$12:$12\"),INDIRECT(\"'Curves \"&H$10&\"'!$14:$163\"),,0,1),,0,1)","v":2.7582645947761497E-2}]
[138,{"$f":"_xlfn.XLOOKUP($A150,INDIRECT(\"'Curves \"&B$10&\"'!$A$14:$A$163\"),_xlfn.XLOOKUP(B$11&$J$3,INDIRECT(\"'Curves \"&B$10&\"'!$11:$11\")&INDIRECT(\"'Curves \"&B$10&\"'!$12:$12\"),INDIRECT(\"'Curves \"&B$10&\"'!$14:$163\"),,0,1),,0,1)","v":3.2853164597020035E-2},{"$f":"_xlfn.XLOOKUP($A150,INDIRECT(\"'Curves \"&C$10&\"'!$A$14:$A$163\"),_xlfn.XLOOKUP(C$11&$J$3,INDIRECT(\"'Curves \"&C$10&\"'!$11:$11\")&INDIRECT(\"'Curves \"&C$10&\"'!$12:$12\"),INDIRECT(\"'Curves \"&C$10&\"'!$14:$163\"),,0,1),,0,1)","v":3.702388552300806E-2},{"$f":"_xlfn.XLOOKUP($A150,INDIRECT(\"'Curves \"&D$10&\"'!$A$14:$A$163\"),_xlfn.XLOOKUP(D$11&$J$3,INDIRECT(\"'Curves \"&D$10&\"'!$11:$11\")&INDIRECT(\"'Curves \"&D$10&\"'!$12:$12\"),INDIRECT(\"'Curves \"&D$10&\"'!$14:$163\"),,0,1),,0,1)","v":2.7095519002539703E-2},null,{"$f":"_xlfn.XLOOKUP($A150,INDIRECT(\"'Curves \"&F$10&\"'!$A$14:$A$163\"),_xlfn.XLOOKUP(F$11&$J$3,INDIRECT(\"'Curves \"&F$10&\"'!$11:$11\")&INDIRECT(\"'Curves \"&F$10&\"'!$12:$12\"),INDIRECT(\"'Curves \"&F$10&\"'!$14:$163\"),,0,1),,0,1)","v":3.3371513764797411E-2},{"$f":"_xlfn.XLOOKUP($A150,INDIRECT(\"'Curves \"&G$10&\"'!$A$14:$A$163\"),_xlfn.XLOOKUP(G$11&$J$3,INDIRECT(\"'Curves \"&G$10&\"'!$11:$11\")&INDIRECT(\"'Curves \"&G$10&\"'!$12:$12\"),INDIRECT(\"'Curves \"&G$10&\"'!$14:$163\"),,0,1),,0,1)","v":3.7544327814760026E-2},{"$f":"_xlfn.XLOOKUP($A150,INDIRECT(\"'Curves \"&H$10&\"'!$A$14:$A$163\"),_xlfn.XLOOKUP(H$11&$J$3,INDIRECT(\"'Curves \"&H$10&\"'!$11:$11\")&INDIRECT(\"'Curves \"&H$10&\"'!$12:$12\"),INDIRECT(\"'Curves \"&H$10&\"'!$14:$163\"),,0,1),,0,1)","v":2.7610978630056682E-2}]
[139,{"$f":"_xlfn.XLOOKUP($A151,INDIRECT(\"'Curves \"&B$10&\"'!$A$14:$A$163\"),_xlfn.XLOOKUP(B$11&$J$3,INDIRECT(\"'Curves \"&B$10&\"'!$11:$11\")&INDIRECT(\"'Curves \"&B$10&\"'!$12:$12\"),INDIRECT(\"'Curves \"&B$10&\"'!$14:$163\"),,0,1),,0,1)","v":3.2854220888706154E-2},{"$f":"_xlfn.XLOOKUP($A151,INDIRECT(\"'Curves \"&C$10&\"'!$A$14:$A$163\"),_xlfn.XLOOKUP(C$11&$J$3,INDIRECT(\"'Curves \"&C$10&\"'!$11:$11\")&INDIRECT(\"'Curves \"&C$10&\"'!$12:$12\"),INDIRECT(\"'Curves \"&C$10&\"'!$14:$163\"),,0,1),,0,1)","v":3.7005706207736244E-2},{"$f":"_xlfn.XLOOKUP($A151,INDIRECT(\"'Curves \"&D$10&\"'!$A$14:$A$163\"),_xlfn.XLOOKUP(D$11&$J$3,INDIRECT(\"'Curves \"&D$10&\"'!$11:$11\")&INDIRECT(\"'Curves \"&D$10&\"'!$12:$12\"),INDIRECT(\"'Curves \"&D$10&\"'!$14:$163\"),,0,1),,0,1)","v":2.7127138318078892E-2},null,{"$f":"_xlfn.XLOOKUP($A151,INDIRECT(\"'Curves \"&F$10&\"'!$A$14:$A$163\"),_xlfn.XLOOKUP(F$11&$J$3,INDIRECT(\"'Curves \"&F$10&\"'!$11:$11\")&INDIRECT(\"'Curves \"&F$10&\"'!$12:$12\"),INDIRECT(\"'Curves \"&F$10&\"'!$14:$163\"),,0,1),,0,1)","v":3.3368840539340194E-2},{"$f":"_xlfn.XLOOKUP($A151,INDIRECT(\"'Curves \"&G$10&\"'!$A$14:$A$163\"),_xlfn.XLOOKUP(G$11&$J$3,INDIRECT(\"'Curves \"&G$10&\"'!$11:$11\")&INDIRECT(\"'Curves \"&G$10&\"'!$12:$12\"),INDIRECT(\"'Curves \"&G$10&\"'!$14:$163\"),,0,1),,0,1)","v":3.7522394336071629E-2},{"$f":"_xlfn.XLOOKUP($A151,INDIRECT(\"'Curves \"&H$10&\"'!$A$14:$A$163\"),_xlfn.XLOOKUP(H$11&$J$3,INDIRECT(\"'Curves \"&H$10&\"'!$11:$11\")&INDIRECT(\"'Curves \"&H$10&\"'!$12:$12\"),INDIRECT(\"'Curves \"&H$10&\"'!$14:$163\"),,0,1),,0,1)","v":2.7638904449627688E-2}]
[140,{"$f":"_xlfn.XLOOKUP($A152,INDIRECT(\"'Curves \"&B$10&\"'!$A$14:$A$163\"),_xlfn.XLOOKUP(B$11&$J$3,INDIRECT(\"'Curves \"&B$10&\"'!$11:$11\")&INDIRECT(\"'Curves \"&B$10&\"'!$12:$12\"),INDIRECT(\"'Curves \"&B$10&\"'!$14:$163\"),,0,1),,0,1)","v":3.2855262091938231E-2},{"$f":"_xlfn.XLOOKUP($A152,INDIRECT(\"'Curves \"&C$10&\"'!$A$14:$A$163\"),_xlfn.XLOOKUP(C$11&$J$3,INDIRECT(\"'Curves \"&C$10&\"'!$11:$11\")&INDIRECT(\"'Curves \"&C$10&\"'!$12:$12\"),INDIRECT(\"'Curves \"&C$10&\"'!$14:$163\"),,0,1),,0,1)","v":3.6987786897825448E-2},{"$f":"_xlfn.XLOOKUP($A152,INDIRECT(\"'Curves \"&D$10&\"'!$A$14:$A$163\"),_xlfn.XLOOKUP(D$11&$J$3,INDIRECT(\"'Curves \"&D$10&\"'!$11:$11\")&INDIRECT(\"'Curves \"&D$10&\"'!$12:$12\"),INDIRECT(\"'Curves \"&D$10&\"'!$14:$163\"),,0,1),,0,1)","v":2.7158306916624131E-2},null,{"$f":"_xlfn.XLOOKUP($A152,INDIRECT(\"'Curves \"&F$10&\"'!$A$14:$A$163\"),_xlfn.XLOOKUP(F$11&$J$3,INDIRECT(\"'Curves \"&F$10&\"'!$11:$11\")&INDIRECT(\"'Curves \"&F$10&\"'!$12:$12\"),INDIRECT(\"'Curves \"&F$10&\"'!$14:$163\"),,0,1),,0,1)","v":3.3366205508288393E-2},{"$f":"_xlfn.XLOOKUP($A152,INDIRECT(\"'Curves \"&G$10&\"'!$A$14:$A$163\"),_xlfn.XLOOKUP(G$11&$J$3,INDIRECT(\"'Curves \"&G$10&\"'!$11:$11\")&INDIRECT(\"'Curves \"&G$10&\"'!$12:$12\"),INDIRECT(\"'Curves \"&G$10&\"'!$14:$163\"),,0,1),,0,1)","v":3.7500774633859146E-2},{"$f":"_xlfn.XLOOKUP($A152,INDIRECT(\"'Curves \"&H$10&\"'!$A$14:$A$163\"),_xlfn.XLOOKUP(H$11&$J$3,INDIRECT(\"'Curves \"&H$10&\"'!$11:$11\")&INDIRECT(\"'Curves \"&H$10&\"'!$12:$12\"),INDIRECT(\"'Curves \"&H$10&\"'!$14:$163\"),,0,1),,0,1)","v":2.7666432104857419E-2}]
[141,{"$f":"_xlfn.XLOOKUP($A153,INDIRECT(\"'Curves \"&B$10&\"'!$A$14:$A$163\"),_xlfn.XLOOKUP(B$11&$J$3,INDIRECT(\"'Curves \"&B$10&\"'!$11:$11\")&INDIRECT(\"'Curves \"&B$10&\"'!$12:$12\"),INDIRECT(\"'Curves \"&B$10&\"'!$14:$163\"),,0,1),,0,1)","v":3.285628852768685E-2},{"$f":"_xlfn.XLOOKUP($A153,INDIRECT(\"'Curves \"&C$10&\"'!$A$14:$A$163\"),_xlfn.XLOOKUP(C$11&$J$3,INDIRECT(\"'Curves \"&C$10&\"'!$11:$11\")&INDIRECT(\"'Curves \"&C$10&\"'!$12:$12\"),INDIRECT(\"'Curves \"&C$10&\"'!$14:$163\"),,0,1),,0,1)","v":3.6970122055794086E-2},{"$f":"_xlfn.XLOOKUP($A153,INDIRECT(\"'Curves \"&D$10&\"'!$A$14:$A$163\"),_xlfn.XLOOKUP(D$11&$J$3,INDIRECT(\"'Curves \"&D$10&\"'!$11:$11\")&INDIRECT(\"'Curves \"&D$10&\"'!$12:$12\"),INDIRECT(\"'Curves \"&D$10&\"'!$14:$163\"),,0,1),,0,1)","v":2.7189034364198728E-2},null,{"$f":"_xlfn.XLOOKUP($A153,INDIRECT(\"'Curves \"&F$10&\"'!$A$14:$A$163\"),_xlfn.XLOOKUP(F$11&$J$3,INDIRECT(\"'Curves \"&F$10&\"'!$11:$11\")&INDIRECT(\"'Curves \"&F$10&\"'!$12:$12\"),INDIRECT(\"'Curves \"&F$10&\"'!$14:$163\"),,0,1),,0,1)","v":3.3363607858985844E-2},{"$f":"_xlfn.XLOOKUP($A153,INDIRECT(\"'Curves \"&G$10&\"'!$A$14:$A$163\"),_xlfn.XLOOKUP(G$11&$J$3,INDIRECT(\"'Curves \"&G$10&\"'!$11:$11\")&INDIRECT(\"'Curves \"&G$10&\"'!$12:$12\"),INDIRECT(\"'Curves \"&G$10&\"'!$14:$163\"),,0,1),,0,1)","v":3.7479462023746635E-2},{"$f":"_xlfn.XLOOKUP($A153,INDIRECT(\"'Curves \"&H$10&\"'!$A$14:$A$163\"),_xlfn.XLOOKUP(H$11&$J$3,INDIRECT(\"'Curves \"&H$10&\"'!$11:$11\")&INDIRECT(\"'Curves \"&H$10&\"'!$12:$12\"),INDIRECT(\"'Curves \"&H$10&\"'!$14:$163\"),,0,1),,0,1)","v":2.7693570048223259E-2}]
[142,{"$f":"_xlfn.XLOOKUP($A154,INDIRECT(\"'Curves \"&B$10&\"'!$A$14:$A$163\"),_xlfn.XLOOKUP(B$11&$J$3,INDIRECT(\"'Curves \"&B$10&\"'!$11:$11\")&INDIRECT(\"'Curves \"&B$10&\"'!$12:$12\"),INDIRECT(\"'Curves \"&B$10&\"'!$14:$163\"),,0,1),,0,1)","v":3.2857300507885157E-2},{"$f":"_xlfn.XLOOKUP($A154,INDIRECT(\"'Curves \"&C$10&\"'!$A$14:$A$163\"),_xlfn.XLOOKUP(C$11&$J$3,INDIRECT(\"'Curves \"&C$10&\"'!$11:$11\")&INDIRECT(\"'Curves \"&C$10&\"'!$12:$12\"),INDIRECT(\"'Curves \"&C$10&\"'!$14:$163\"),,0,1),,0,1)","v":3.6952706300213078E-2},{"$f":"_xlfn.XLOOKUP($A154,INDIRECT(\"'Curves \"&D$10&\"'!$A$14:$A$163\"),_xlfn.XLOOKUP(D$11&$J$3,INDIRECT(\"'Curves \"&D$10&\"'!$11:$11\")&INDIRECT(\"'Curves \"&D$10&\"'!$12:$12\"),INDIRECT(\"'Curves \"&D$10&\"'!$14:$163\"),,0,1),,0,1)","v":2.7219329958293681E-2},null,{"$f":"_xlfn.XLOOKUP($A154,INDIRECT(\"'Curves \"&F$10&\"'!$A$14:$A$163\"),_xlfn.XLOOKUP(F$11&$J$3,INDIRECT(\"'Curves \"&F$10&\"'!$11:$11\")&INDIRECT(\"'Curves \"&F$10&\"'!$12:$12\"),INDIRECT(\"'Curves \"&F$10&\"'!$14:$163\"),,0,1),,0,1)","v":3.3361046801659189E-2},{"$f":"_xlfn.XLOOKUP($A154,INDIRECT(\"'Curves \"&G$10&\"'!$A$14:$A$163\"),_xlfn.XLOOKUP(G$11&$J$3,INDIRECT(\"'Curves \"&G$10&\"'!$11:$11\")&INDIRECT(\"'Curves \"&G$10&\"'!$12:$12\"),INDIRECT(\"'Curves \"&G$10&\"'!$14:$163\"),,0,1),,0,1)","v":3.7458450009785427E-2},{"$f":"_xlfn.XLOOKUP($A154,INDIRECT(\"'Curves \"&H$10&\"'!$A$14:$A$163\"),_xlfn.XLOOKUP(H$11&$J$3,INDIRECT(\"'Curves \"&H$10&\"'!$11:$11\")&INDIRECT(\"'Curves \"&H$10&\"'!$12:$12\"),INDIRECT(\"'Curves \"&H$10&\"'!$14:$163\"),,0,1),,0,1)","v":2.7720326494896641E-2}]
[143,{"$f":"_xlfn.XLOOKUP($A155,INDIRECT(\"'Curves \"&B$10&\"'!$A$14:$A$163\"),_xlfn.XLOOKUP(B$11&$J$3,INDIRECT(\"'Curves \"&B$10&\"'!$11:$11\")&INDIRECT(\"'Curves \"&B$10&\"'!$12:$12\"),INDIRECT(\"'Curves \"&B$10&\"'!$14:$163\"),,0,1),,0,1)","v":3.2858298335745273E-2},{"$f":"_xlfn.XLOOKUP($A155,INDIRECT(\"'Curves \"&C$10&\"'!$A$14:$A$163\"),_xlfn.XLOOKUP(C$11&$J$3,INDIRECT(\"'Curves \"&C$10&\"'!$11:$11\")&INDIRECT(\"'Curves \"&C$10&\"'!$12:$12\"),INDIRECT(\"'Curves \"&C$10&\"'!$14:$163\"),,0,1),,0,1)","v":3.6935534400254211E-2},{"$f":"_xlfn.XLOOKUP($A155,INDIRECT(\"'Curves \"&D$10&\"'!$A$14:$A$163\"),_xlfn.XLOOKUP(D$11&$J$3,INDIRECT(\"'Curves \"&D$10&\"'!$11:$11\")&INDIRECT(\"'Curves \"&D$10&\"'!$12:$12\"),INDIRECT(\"'Curves \"&D$10&\"'!$14:$163\"),,0,1),,0,1)","v":2.7249202737199996E-2},null,{"$f":"_xlfn.XLOOKUP($A155,INDIRECT(\"'Curves \"&F$10&\"'!$A$14:$A$163\"),_xlfn.XLOOKUP(F$11&$J$3,INDIRECT(\"'Curves \"&F$10&\"'!$11:$11\")&INDIRECT(\"'Curves \"&F$10&\"'!$12:$12\"),INDIRECT(\"'Curves \"&F$10&\"'!$14:$163\"),,0,1),,0,1)","v":3.3358521568617183E-2},{"$f":"_xlfn.XLOOKUP($A155,INDIRECT(\"'Curves \"&G$10&\"'!$A$14:$A$163\"),_xlfn.XLOOKUP(G$11&$J$3,INDIRECT(\"'Curves \"&G$10&\"'!$11:$11\")&INDIRECT(\"'Curves \"&G$10&\"'!$12:$12\"),INDIRECT(\"'Curves \"&G$10&\"'!$14:$163\"),,0,1),,0,1)","v":3.7437732277865621E-2},{"$f":"_xlfn.XLOOKUP($A155,INDIRECT(\"'Curves \"&H$10&\"'!$A$14:$A$163\"),_xlfn.XLOOKUP(H$11&$J$3,INDIRECT(\"'Curves \"&H$10&\"'!$11:$11\")&INDIRECT(\"'Curves \"&H$10&\"'!$12:$12\"),INDIRECT(\"'Curves \"&H$10&\"'!$14:$163\"),,0,1),,0,1)","v":2.774670943098978E-2}]
[144,{"$f":"_xlfn.XLOOKUP($A156,INDIRECT(\"'Curves \"&B$10&\"'!$A$14:$A$163\"),_xlfn.XLOOKUP(B$11&$J$3,INDIRECT(\"'Curves \"&B$10&\"'!$11:$11\")&INDIRECT(\"'Curves \"&B$10&\"'!$12:$12\"),INDIRECT(\"'Curves \"&B$10&\"'!$14:$163\"),,0,1),,0,1)","v":3.2859282306060944E-2},{"$f":"_xlfn.XLOOKUP($A156,INDIRECT(\"'Curves \"&C$10&\"'!$A$14:$A$163\"),_xlfn.XLOOKUP(C$11&$J$3,INDIRECT(\"'Curves \"&C$10&\"'!$11:$11\")&INDIRECT(\"'Curves \"&C$10&\"'!$12:$12\"),INDIRECT(\"'Curves \"&C$10&\"'!$14:$163\"),,0,1),,0,1)","v":3.6918601270465867E-2},{"$f":"_xlfn.XLOOKUP($A156,INDIRECT(\"'Curves \"&D$10&\"'!$A$14:$A$163\"),_xlfn.XLOOKUP(D$11&$J$3,INDIRECT(\"'Curves \"&D$10&\"'!$11:$11\")&INDIRECT(\"'Curves \"&D$10&\"'!$12:$12\"),INDIRECT(\"'Curves \"&D$10&\"'!$14:$163\"),,0,1),,0,1)","v":2.7278661488955303E-2},null,{"$f":"_xlfn.XLOOKUP($A156,INDIRECT(\"'Curves \"&F$10&\"'!$A$14:$A$163\"),_xlfn.XLOOKUP(F$11&$J$3,INDIRECT(\"'Curves \"&F$10&\"'!$11:$11\")&INDIRECT(\"'Curves \"&F$10&\"'!$12:$12\"),INDIRECT(\"'Curves \"&F$10&\"'!$14:$163\"),,0,1),,0,1)","v":3.3356031413486864E-2},{"$f":"_xlfn.XLOOKUP($A156,INDIRECT(\"'Curves \"&G$10&\"'!$A$14:$A$163\"),_xlfn.XLOOKUP(G$11&$J$3,INDIRECT(\"'Curves \"&G$10&\"'!$11:$11\")&INDIRECT(\"'Curves \"&G$10&\"'!$12:$12\"),INDIRECT(\"'Curves \"&G$10&\"'!$14:$163\"),,0,1),,0,1)","v":3.7417302689408682E-2},{"$f":"_xlfn.XLOOKUP($A156,INDIRECT(\"'Curves \"&H$10&\"'!$A$14:$A$163\"),_xlfn.XLOOKUP(H$11&$J$3,INDIRECT(\"'Curves \"&H$10&\"'!$11:$11\")&INDIRECT(\"'Curves \"&H$10&\"'!$12:$12\"),INDIRECT(\"'Curves \"&H$10&\"'!$14:$163\"),,0,1),,0,1)","v":2.7772726621460908E-2}]
[145,{"$f":"_xlfn.XLOOKUP($A157,INDIRECT(\"'Curves \"&B$10&\"'!$A$14:$A$163\"),_xlfn.XLOOKUP(B$11&$J$3,INDIRECT(\"'Curves \"&B$10&\"'!$11:$11\")&INDIRECT(\"'Curves \"&B$10&\"'!$12:$12\"),INDIRECT(\"'Curves \"&B$10&\"'!$14:$163\"),,0,1),,0,1)","v":3.286025270549664E-2},{"$f":"_xlfn.XLOOKUP($A157,INDIRECT(\"'Curves \"&C$10&\"'!$A$14:$A$163\"),_xlfn.XLOOKUP(C$11&$J$3,INDIRECT(\"'Curves \"&C$10&\"'!$11:$11\")&INDIRECT(\"'Curves \"&C$10&\"'!$12:$12\"),INDIRECT(\"'Curves \"&C$10&\"'!$14:$163\"),,0,1),,0,1)","v":3.6901901965764816E-2},{"$f":"_xlfn.XLOOKUP($A157,INDIRECT(\"'Curves \"&D$10&\"'!$A$14:$A$163\"),_xlfn.XLOOKUP(D$11&$J$3,INDIRECT(\"'Curves \"&D$10&\"'!$11:$11\")&INDIRECT(\"'Curves \"&D$10&\"'!$12:$12\"),INDIRECT(\"'Curves \"&D$10&\"'!$14:$163\"),,0,1),,0,1)","v":2.7307714759925661E-2},null,{"$f":"_xlfn.XLOOKUP($A157,INDIRECT(\"'Curves \"&F$10&\"'!$A$14:$A$163\"),_xlfn.XLOOKUP(F$11&$J$3,INDIRECT(\"'Curves \"&F$10&\"'!$11:$11\")&INDIRECT(\"'Curves \"&F$10&\"'!$12:$12\"),INDIRECT(\"'Curves \"&F$10&\"'!$14:$163\"),,0,1),,0,1)","v":3.3353575610477915E-2},{"$f":"_xlfn.XLOOKUP($A157,INDIRECT(\"'Curves \"&G$10&\"'!$A$14:$A$163\"),_xlfn.XLOOKUP(G$11&$J$3,INDIRECT(\"'Curves \"&G$10&\"'!$11:$11\")&INDIRECT(\"'Curves \"&G$10&\"'!$12:$12\"),INDIRECT(\"'Curves \"&G$10&\"'!$14:$163\"),,0,1),,0,1)","v":3.7397155275317839E-2},{"$f":"_xlfn.XLOOKUP($A157,INDIRECT(\"'Curves \"&H$10&\"'!$A$14:$A$163\"),_xlfn.XLOOKUP(H$11&$J$3,INDIRECT(\"'Curves \"&H$10&\"'!$11:$11\")&INDIRECT(\"'Curves \"&H$10&\"'!$12:$12\"),INDIRECT(\"'Curves \"&H$10&\"'!$14:$163\"),,0,1),,0,1)","v":2.7798385617699095E-2}]
[146,{"$f":"_xlfn.XLOOKUP($A158,INDIRECT(\"'Curves \"&B$10&\"'!$A$14:$A$163\"),_xlfn.XLOOKUP(B$11&$J$3,INDIRECT(\"'Curves \"&B$10&\"'!$11:$11\")&INDIRECT(\"'Curves \"&B$10&\"'!$12:$12\"),INDIRECT(\"'Curves \"&B$10&\"'!$14:$163\"),,0,1),,0,1)","v":3.2861209812865555E-2},{"$f":"_xlfn.XLOOKUP($A158,INDIRECT(\"'Curves \"&C$10&\"'!$A$14:$A$163\"),_xlfn.XLOOKUP(C$11&$J$3,INDIRECT(\"'Curves \"&C$10&\"'!$11:$11\")&INDIRECT(\"'Curves \"&C$10&\"'!$12:$12\"),INDIRECT(\"'Curves \"&C$10&\"'!$14:$163\"),,0,1),,0,1)","v":3.6885431676631164E-2},{"$f":"_xlfn.XLOOKUP($A158,INDIRECT(\"'Curves \"&D$10&\"'!$A$14:$A$163\"),_xlfn.XLOOKUP(D$11&$J$3,INDIRECT(\"'Curves \"&D$10&\"'!$11:$11\")&INDIRECT(\"'Curves \"&D$10&\"'!$12:$12\"),INDIRECT(\"'Curves \"&D$10&\"'!$14:$163\"),,0,1),,0,1)","v":2.7336370863038084E-2},null,{"$f":"_xlfn.XLOOKUP($A158,INDIRECT(\"'Curves \"&F$10&\"'!$A$14:$A$163\"),_xlfn.XLOOKUP(F$11&$J$3,INDIRECT(\"'Curves \"&F$10&\"'!$11:$11\")&INDIRECT(\"'Curves \"&F$10&\"'!$12:$12\"),INDIRECT(\"'Curves \"&F$10&\"'!$14:$163\"),,0,1),,0,1)","v":3.3351153453679894E-2},{"$f":"_xlfn.XLOOKUP($A158,INDIRECT(\"'Curves \"&G$10&\"'!$A$14:$A$163\"),_xlfn.XLOOKUP(G$11&$J$3,INDIRECT(\"'Curves \"&G$10&\"'!$11:$11\")&INDIRECT(\"'Curves \"&G$10&\"'!$12:$12\"),INDIRECT(\"'Curves \"&G$10&\"'!$14:$163\"),,0,1),,0,1)","v":3.7377284230175167E-2},{"$f":"_xlfn.XLOOKUP($A158,INDIRECT(\"'Curves \"&H$10&\"'!$A$14:$A$163\"),_xlfn.XLOOKUP(H$11&$J$3,INDIRECT(\"'Curves \"&H$10&\"'!$11:$11\")&INDIRECT(\"'Curves \"&H$10&\"'!$12:$12\"),INDIRECT(\"'Curves \"&H$10&\"'!$14:$163\"),,0,1),,0,1)","v":2.7823693764798429E-2}]
[147,{"$f":"_xlfn.XLOOKUP($A159,INDIRECT(\"'Curves \"&B$10&\"'!$A$14:$A$163\"),_xlfn.XLOOKUP(B$11&$J$3,INDIRECT(\"'Curves \"&B$10&\"'!$11:$11\")&INDIRECT(\"'Curves \"&B$10&\"'!$12:$12\"),INDIRECT(\"'Curves \"&B$10&\"'!$14:$163\"),,0,1),,0,1)","v":3.2862153899397617E-2},{"$f":"_xlfn.XLOOKUP($A159,INDIRECT(\"'Curves \"&C$10&\"'!$A$14:$A$163\"),_xlfn.XLOOKUP(C$11&$J$3,INDIRECT(\"'Curves \"&C$10&\"'!$11:$11\")&INDIRECT(\"'Curves \"&C$10&\"'!$12:$12\"),INDIRECT(\"'Curves \"&C$10&\"'!$14:$163\"),,0,1),,0,1)","v":3.686918572449982E-2},{"$f":"_xlfn.XLOOKUP($A159,INDIRECT(\"'Curves \"&D$10&\"'!$A$14:$A$163\"),_xlfn.XLOOKUP(D$11&$J$3,INDIRECT(\"'Curves \"&D$10&\"'!$11:$11\")&INDIRECT(\"'Curves \"&D$10&\"'!$12:$12\"),INDIRECT(\"'Curves \"&D$10&\"'!$14:$163\"),,0,1),,0,1)","v":2.7364637885679555E-2},null,{"$f":"_xlfn.XLOOKUP($A159,INDIRECT(\"'Curves \"&F$10&\"'!$A$14:$A$163\"),_xlfn.XLOOKUP(F$11&$J$3,INDIRECT(\"'Curves \"&F$10&\"'!$11:$11\")&INDIRECT(\"'Curves \"&F$10&\"'!$12:$12\"),INDIRECT(\"'Curves \"&F$10&\"'!$14:$163\"),,0,1),,0,1)","v":3.3348764256385888E-2},{"$f":"_xlfn.XLOOKUP($A159,INDIRECT(\"'Curves \"&G$10&\"'!$A$14:$A$163\"),_xlfn.XLOOKUP(G$11&$J$3,INDIRECT(\"'Curves \"&G$10&\"'!$11:$11\")&INDIRECT(\"'Curves \"&G$10&\"'!$12:$12\"),INDIRECT(\"'Curves \"&G$10&\"'!$14:$163\"),,0,1),,0,1)","v":3.7357683906673156E-2},{"$f":"_xlfn.XLOOKUP($A159,INDIRECT(\"'Curves \"&H$10&\"'!$A$14:$A$163\"),_xlfn.XLOOKUP(H$11&$J$3,INDIRECT(\"'Curves \"&H$10&\"'!$11:$11\")&INDIRECT(\"'Curves \"&H$10&\"'!$12:$12\"),INDIRECT(\"'Curves \"&H$10&\"'!$14:$163\"),,0,1),,0,1)","v":2.7848658208537991E-2}]
[148,{"$f":"_xlfn.XLOOKUP($A160,INDIRECT(\"'Curves \"&B$10&\"'!$A$14:$A$163\"),_xlfn.XLOOKUP(B$11&$J$3,INDIRECT(\"'Curves \"&B$10&\"'!$11:$11\")&INDIRECT(\"'Curves \"&B$10&\"'!$12:$12\"),INDIRECT(\"'Curves \"&B$10&\"'!$14:$163\"),,0,1),,0,1)","v":3.2863085228994171E-2},{"$f":"_xlfn.XLOOKUP($A160,INDIRECT(\"'Curves \"&C$10&\"'!$A$14:$A$163\"),_xlfn.XLOOKUP(C$11&$J$3,INDIRECT(\"'Curves \"&C$10&\"'!$11:$11\")&INDIRECT(\"'Curves \"&C$10&\"'!$12:$12\"),INDIRECT(\"'Curves \"&C$10&\"'!$14:$163\"),,0,1),,0,1)","v":3.6853159557338699E-2},{"$f":"_xlfn.XLOOKUP($A160,INDIRECT(\"'Curves \"&D$10&\"'!$A$14:$A$163\"),_xlfn.XLOOKUP(D$11&$J$3,INDIRECT(\"'Curves \"&D$10&\"'!$11:$11\")&INDIRECT(\"'Curves \"&D$10&\"'!$12:$12\"),INDIRECT(\"'Curves \"&D$10&\"'!$14:$163\"),,0,1),,0,1)","v":2.7392523697281179E-2},null,{"$f":"_xlfn.XLOOKUP($A160,INDIRECT(\"'Curves \"&F$10&\"'!$A$14:$A$163\"),_xlfn.XLOOKUP(F$11&$J$3,INDIRECT(\"'Curves \"&F$10&\"'!$11:$11\")&INDIRECT(\"'Curves \"&F$10&\"'!$12:$12\"),INDIRECT(\"'Curves \"&F$10&\"'!$14:$163\"),,0,1),,0,1)","v":3.3346407350445251E-2},{"$f":"_xlfn.XLOOKUP($A160,INDIRECT(\"'Curves \"&G$10&\"'!$A$14:$A$163\"),_xlfn.XLOOKUP(G$11&$J$3,INDIRECT(\"'Curves \"&G$10&\"'!$11:$11\")&INDIRECT(\"'Curves \"&G$10&\"'!$12:$12\"),INDIRECT(\"'Curves \"&G$10&\"'!$14:$163\"),,0,1),,0,1)","v":3.7338348810277866E-2},{"$f":"_xlfn.XLOOKUP($A160,INDIRECT(\"'Curves \"&H$10&\"'!$A$14:$A$163\"),_xlfn.XLOOKUP(H$11&$J$3,INDIRECT(\"'Curves \"&H$10&\"'!$11:$11\")&INDIRECT(\"'Curves \"&H$10&\"'!$12:$12\"),INDIRECT(\"'Curves \"&H$10&\"'!$14:$163\"),,0,1),,0,1)","v":2.7873285902086042E-2}]
[149,{"$f":"_xlfn.XLOOKUP($A161,INDIRECT(\"'Curves \"&B$10&\"'!$A$14:$A$163\"),_xlfn.XLOOKUP(B$11&$J$3,INDIRECT(\"'Curves \"&B$10&\"'!$11:$11\")&INDIRECT(\"'Curves \"&B$10&\"'!$12:$12\"),INDIRECT(\"'Curves \"&B$10&\"'!$14:$163\"),,0,1),,0,1)","v":3.2864004058474672E-2},{"$f":"_xlfn.XLOOKUP($A161,INDIRECT(\"'Curves \"&C$10&\"'!$A$14:$A$163\"),_xlfn.XLOOKUP(C$11&$J$3,INDIRECT(\"'Curves \"&C$10&\"'!$11:$11\")&INDIRECT(\"'Curves \"&C$10&\"'!$12:$12\"),INDIRECT(\"'Curves \"&C$10&\"'!$14:$163\"),,0,1),,0,1)","v":3.6837348745403675E-2},{"$f":"_xlfn.XLOOKUP($A161,INDIRECT(\"'Curves \"&D$10&\"'!$A$14:$A$163\"),_xlfn.XLOOKUP(D$11&$J$3,INDIRECT(\"'Curves \"&D$10&\"'!$11:$11\")&INDIRECT(\"'Curves \"&D$10&\"'!$12:$12\"),INDIRECT(\"'Curves \"&D$10&\"'!$14:$163\"),,0,1),,0,1)","v":2.7420035956597699E-2},null,{"$f":"_xlfn.XLOOKUP($A161,INDIRECT(\"'Curves \"&F$10&\"'!$A$14:$A$163\"),_xlfn.XLOOKUP(F$11&$J$3,INDIRECT(\"'Curves \"&F$10&\"'!$11:$11\")&INDIRECT(\"'Curves \"&F$10&\"'!$12:$12\"),INDIRECT(\"'Curves \"&F$10&\"'!$14:$163\"),,0,1),,0,1)","v":3.3344082085640991E-2},{"$f":"_xlfn.XLOOKUP($A161,INDIRECT(\"'Curves \"&G$10&\"'!$A$14:$A$163\"),_xlfn.XLOOKUP(G$11&$J$3,INDIRECT(\"'Curves \"&G$10&\"'!$11:$11\")&INDIRECT(\"'Curves \"&G$10&\"'!$12:$12\"),INDIRECT(\"'Curves \"&G$10&\"'!$14:$163\"),,0,1),,0,1)","v":3.7319273594098368E-2},{"$f":"_xlfn.XLOOKUP($A161,INDIRECT(\"'Curves \"&H$10&\"'!$A$14:$A$163\"),_xlfn.XLOOKUP(H$11&$J$3,INDIRECT(\"'Curves \"&H$10&\"'!$11:$11\")&INDIRECT(\"'Curves \"&H$10&\"'!$12:$12\"),INDIRECT(\"'Curves \"&H$10&\"'!$14:$163\"),,0,1),,0,1)","v":2.7897583612431331E-2}]
[150,{"$f":"_xlfn.XLOOKUP($A162,INDIRECT(\"'Curves \"&B$10&\"'!$A$14:$A$163\"),_xlfn.XLOOKUP(B$11&$J$3,INDIRECT(\"'Curves \"&B$10&\"'!$11:$11\")&INDIRECT(\"'Curves \"&B$10&\"'!$12:$12\"),INDIRECT(\"'Curves \"&B$10&\"'!$14:$163\"),,0,1),,0,1)","v":3.2864910637811384E-2},{"$f":"_xlfn.XLOOKUP($A162,INDIRECT(\"'Curves \"&C$10&\"'!$A$14:$A$163\"),_xlfn.XLOOKUP(C$11&$J$3,INDIRECT(\"'Curves \"&C$10&\"'!$11:$11\")&INDIRECT(\"'Curves \"&C$10&\"'!$12:$12\"),INDIRECT(\"'Curves \"&C$10&\"'!$14:$163\"),,0,1),,0,1)","v":3.6821748977162505E-2},{"$f":"_xlfn.XLOOKUP($A162,INDIRECT(\"'Curves \"&D$10&\"'!$A$14:$A$163\"),_xlfn.XLOOKUP(D$11&$J$3,INDIRECT(\"'Curves \"&D$10&\"'!$11:$11\")&INDIRECT(\"'Curves \"&D$10&\"'!$12:$12\"),INDIRECT(\"'Curves \"&D$10&\"'!$14:$163\"),,0,1),,0,1)","v":2.7447182118699232E-2},null,{"$f":"_xlfn.XLOOKUP($A162,INDIRECT(\"'Curves \"&F$10&\"'!$A$14:$A$163\"),_xlfn.XLOOKUP(F$11&$J$3,INDIRECT(\"'Curves \"&F$10&\"'!$11:$11\")&INDIRECT(\"'Curves \"&F$10&\"'!$12:$12\"),INDIRECT(\"'Curves \"&F$10&\"'!$14:$163\"),,0,1),,0,1)","v":3.3341787829092251E-2},{"$f":"_xlfn.XLOOKUP($A162,INDIRECT(\"'Curves \"&G$10&\"'!$A$14:$A$163\"),_xlfn.XLOOKUP(G$11&$J$3,INDIRECT(\"'Curves \"&G$10&\"'!$11:$11\")&INDIRECT(\"'Curves \"&G$10&\"'!$12:$12\"),INDIRECT(\"'Curves \"&G$10&\"'!$14:$163\"),,0,1),,0,1)","v":3.7300453053967342E-2},{"$f":"_xlfn.XLOOKUP($A162,INDIRECT(\"'Curves \"&H$10&\"'!$A$14:$A$163\"),_xlfn.XLOOKUP(H$11&$J$3,INDIRECT(\"'Curves \"&H$10&\"'!$11:$11\")&INDIRECT(\"'Curves \"&H$10&\"'!$12:$12\"),INDIRECT(\"'Curves \"&H$10&\"'!$14:$163\"),,0,1),,0,1)","v":2.7921557926563256E-2}]

{"sheet":"RCS and Scaling Factors","index":2,"n_rows":8,"n_cols":4,"rows_kept":8,"cut":false,"hidden":false,"merged":[]}
[]
[null,"Currency","Scaled Risk Corrected Currency Spread","VA With CSSR=1"]
[null,"AUD",4.2750000000000002E-3,{"$f":"Table5[[#This Row],[Scaled Risk Corrected Currency Spread]]*0.85","v":3.6337499999999998E-3}]
[null,"CZK",3.7190000000000001E-3,{"$f":"Table5[[#This Row],[Scaled Risk Corrected Currency Spread]]*0.85","v":3.1611500000000002E-3}]
[null,"EUR",3.5469999999999998E-3,{"$f":"Table5[[#This Row],[Scaled Risk Corrected Currency Spread]]*0.85","v":3.0149499999999997E-3}]
[null,"GBP",6.3759999999999997E-3,{"$f":"Table5[[#This Row],[Scaled Risk Corrected Currency Spread]]*0.85","v":5.4195999999999992E-3}]
[null,"JPY",2.2369999999999998E-3,{"$f":"Table5[[#This Row],[Scaled Risk Corrected Currency Spread]]*0.85","v":1.9014499999999998E-3}]
[null,"USD",7.2100000000000003E-3,{"$f":"Table5[[#This Row],[Scaled Risk Corrected Currency Spread]]*0.85","v":6.1285000000000003E-3}]

{"sheet":"Curves without VA","index":3,"n_rows":163,"n_cols":19,"rows_kept":163,"cut":false,"hidden":false,"merged":[]}
["LLP before FSP"]
["FSP"]
["First weight"]
["First fw LLFR"]
["VA"]
["LLFR"]
["UFR"]
["LLFRVA"]
["Mean Rev"]
["Compounding"]
["Scenario","Baseline","Baseline","Baseline","Baseline","Baseline","Baseline","Up","Up","Up","Up","Up","Up","Down","Down","Down","Down","Down","Down"]
["Currency","EUR","CZK","JPY","USD","GBP","AUD",{"$f":"B$12","v":"EUR"},{"$f":"C$12","v":"CZK"},"JPY","USD","GBP","AUD",{"$f":"B$12","v":"EUR"},{"$f":"C$12","v":"CZK"},"JPY","USD","GBP","AUD"]
["Tenor","Curve","Curve","Curve","Curve","Curve","Curve","Curve","Curve","Curve","Curve","Curve","Curve","Curve","Curve","Curve","Curve","Curve","Curve"]
[1,2.0760000000000112E-2,3.4032000000000062E-2,9.0550000000000352E-3,3.430500000000003E-2,3.5405499999999979E-2,4.0788656290249969E-2,5.4823600000000194E-2,7.619152000000029E-2,3.5978550000000054E-2,7.6631050000000034E-2,7.8402854999999994E-2,8.7069736627302552E-2,-2.8807999999999057E-3,2.6934400000000469E-3,-7.7968999999999955E-3,2.8080999999999801E-3,3.2703099999999985E-3,5.5312356419050523E-3]
[2,2.1629304559586338E-2,3.4678013707622801E-2,1.1530205297736629E-2,3.3100399440509687E-2,3.4917121867575007E-2,4.1878408148567248E-2,5.1692835976167029E-2,7.1657360972662731E-2,3.6241214105537045E-2,6.9243611143979811E-2,7.2023196457389638E-2,8.2673964467307792E-2,6.9835923419736545E-4,7.0922267167352615E-3,-4.2501994041090896E-3,6.3191957258497133E-3,7.2093897151117581E-3,1.0620419992797947E-2]
[3,2.2828593829980814E-2,3.5725241699762433E-2,1.3228208058280844E-2,3.3375598400646744E-2,3.5316018173057406E-2,4.2568760647309301E-2,5.1214604806671504E-2,7.0430610132646176E-2,3.6910030006838568E-2,6.6929641616963798E-2,6.9820867077855731E-2,8.0627453364491064E-2,4.484012544789362E-3,1.1706135351867042E-2,-8.9220348736274158E-4,1.0390335104362158E-2,1.1476970176912182E-2,1.5538505962493288E-2]
[4,2.3862928330017574E-2,3.6759310442661564E-2,1.4279314089939543E-2,3.3971088803638194E-2,3.592296645834292E-2,4.3176943161089998E-2,5.0939875361825759E-2,6.9768593246285926E-2,3.6947798571311807E-2,6.5697789653311744E-2,6.8547531029180764E-2,7.9138337015191462E-2,6.9177569980105602E-3,1.4655586265597043E-2,1.1675884539636971E-3,1.2982653282182843E-2,1.4153779875005768E-2,1.8506165896654103E-2]
[5,2.478759707331557E-2,3.7380247181604043E-2,1.5127352140442474E-2,3.4657594525166591E-2,3.6653107544383667E-2,4.3845873529560597E-2,5.1742015756307547E-2,7.0001358413325887E-2,3.7734660603641723E-2,6.6053512061491571E-2,6.8947005939356432E-2,7.9376516617862825E-2,7.7725582439893692E-3,1.5328148308962453E-2,1.9764112842655113E-3,1.3694556715099893E-2,1.4891864526630272E-2,1.9207524117736297E-2]
[6,2.5648686706935209E-2,3.8432902249341927E-2,1.5847205063551417E-2,3.5429036279631232E-2,3.7310371526777519E-2,4.4528501597277836E-2,5.0564648256778533E-2,6.8590392171572034E-2,3.6744559139607391E-2,6.4354941154280088E-2,6.700762385275616E-2,7.7185187252161613E-2,9.2021857582997857E-3,1.7128399394592098E-2,3.1252671394019771E-3,1.5266002493371289E-2,1.6432430346602134E-2,2.090767099031221E-2]
[7,2.6510389019120062E-2,3.9185452635445372E-2,1.6674657069008392E-2,3.6194489332028068E-2,3.8113247979187914E-2,4.5268213788373757E-2,4.9319232956194448E-2,6.668407011055999E-2,3.5844280184541333E-2,6.2586450384878312E-2,6.5215149731487454E-2,7.5017452890072001E-2,1.0401545082045605E-2,1.8386835160330683E-2,4.2050339534753789E-3,1.6502528279177753E-2,1.7711346226888303E-2,2.2218974686675441E-2]
[8,2.7239909807460716E-2,3.9750223303696819E-2,1.7424729404426742E-2,3.6937725090129936E-2,3.8917902205213073E-2,4.5962578264604703E-2,4.8401479141997328E-2,6.5165299226953799E-2,3.5249137401931918E-2,6.1396551620774176E-2,6.4049988954985482E-2,7.3489854874570382E-2,1.068874408062559E-2,1.8445138448291987E-2,4.6033322307446056E-3,1.6701389555880519E-2,1.7929099367232082E-2,2.2296798524054973E-2]
[9,2.7925215671903869E-2,4.0189701574779857E-2,1.8193893472087108E-2,3.7664645132907237E-2,3.9707699603434898E-2,4.6610141190704502E-2,4.8061284686913286E-2,6.4250406078709466E-2,3.5215939383155037E-2,6.0917331575437661E-2,6.3614163476534147E-2,7.2725386371730094E-2,1.0934381559861261E-2,1.8415717960615696E-2,4.9982750179731195E-3,1.6875433531073458E-2,1.8121696758095274E-2,2.2332186126329701E-2]
[10,2.8630841555192132E-2,4.0541417933104062E-2,1.8977621084416141E-2,3.8375256721554507E-2,4.0446320305988603E-2,4.7176950839291187E-2,4.7720094021749704E-2,6.3203843313035302E-2,3.5170907409741048E-2,6.0387833738020813E-2,6.3080216397785049E-2,7.1830036091078409E-2,1.1078504933115241E-2,1.8224850759862354E-2,5.2865726506496902E-3,1.692515403293271E-2,1.8167792183593212E-2,2.2206170503574763E-2]
[11,2.9208174098932504E-2,4.1052631841497655E-2,1.9888392359177942E-2,3.9122124632261501E-2,4.119803769056718E-2,4.7736160754370704E-2,4.8470626328612099E-2,6.3868421393946884E-2,3.6354910066931367E-2,6.1358762021940016E-2,6.4057448997737243E-2,7.2557008980681958E-2,1.1232822718370228E-2,1.8221052786483671E-2,5.7341514919149184E-3,1.7082053533034269E-2,1.8306842237434617E-2,2.2164334845078626E-2]
[12,2.9747890947353195E-2,4.1478835282924509E-2,2.0647990238543912E-2,3.9744924899983936E-2,4.1824883705061877E-2,4.8202397128322305E-2,4.9172258231559018E-2,6.4422485867801749E-2,3.7342387310107084E-2,6.2168402369979114E-2,6.4872348816580327E-2,7.3163116266818928E-2,1.1253776749464928E-2,1.8057724464096259E-2,5.975834338355579E-3,1.7052056441990704E-2,1.8258432548935888E-2,2.1957390334427007E-2]
[13,3.0333302128107809E-2,4.1839605246392297E-2,2.1591871767034698E-2,4.0381648878091481E-2,4.2511021413316641E-2,4.8626185710451963E-2,4.9933292766540127E-2,6.4891486820309874E-2,3.8569433297145128E-2,6.2996143541518945E-2,6.5764327837311676E-2,7.3714041423587506E-2,1.1389982213021455E-2,1.7948574990443555E-2,6.4073669072097772E-3,1.7117539860512121E-2,1.8331282205590549E-2,2.1816925854957647E-2]
[14,3.0729932558340334E-2,4.2148936108964641E-2,2.240160779492073E-2,4.0927722623403051E-2,4.309949910119415E-2,4.8989569434892744E-2,4.9841613000259022E-2,6.4572127580564409E-2,3.9098074055447629E-2,6.2996762184189814E-2,6.5798353840540447E-2,7.3396544571011635E-2,1.1408762232670622E-2,1.7803404221020225E-2,6.7449003651556261E-3,1.7119524669105601E-2,1.8335719496668679E-2,2.1634158883540033E-2]
[15,3.1073802433713382E-2,4.2417097146257632E-2,2.3103898157389002E-2,4.1401218376156956E-2,4.3609781790955315E-2,4.930460385343749E-2,4.9574467115153231E-2,6.4093884347209862E-2,3.9372989641457856E-2,6.2793559521481024E-2,6.5620520692422746E-2,7.2909892932399911E-2,1.1390591338542366E-2,1.7629403430441615E-2,7.0071439865639906E-3,1.7070670106886343E-2,1.828537998502533E-2,2.141753211939057E-2]
[16,3.1327928807661554E-2,4.1812427434563704E-2,2.4009602074844816E-2,4.1760011331791747E-2,4.4048625196303925E-2,4.9508073310523093E-2,4.9899748873806882E-2,6.4099793629896817E-2,4.053229065580144E-2,6.3252814504693555E-2,6.6182240251269064E-2,7.3170333837469625E-2,1.1003802268060525E-2,1.7604609472623656E-2,7.1250890996676919E-3,1.653280600584961E-2,1.7745771354040984E-2,2.0639278854577281E-2]
[17,3.1552209974986534E-2,4.1280518678013411E-2,2.4809418401419814E-2,4.2076696005797887E-2,4.4435993211059621E-2,4.968763794918063E-2,4.9571306668233062E-2,6.3920539461355119E-2,4.1007961369803336E-2,6.2937403927363356E-2,6.5933711378045823E-2,7.2603300195459575E-2,1.0907149186992982E-2,1.7669580198152346E-2,7.4008975687382961E-3,1.6379881923014983E-2,1.7606716469751094E-2,2.0337571733573867E-2]
[18,3.1751611958396708E-2,4.0809065382345633E-2,2.5520890677634522E-2,4.235827431130379E-2,4.4780440990118242E-2,4.9847276752843728E-2,4.9107031067579854E-2,6.3605203861881066E-2,4.1256322253819588E-2,6.247142563224295E-2,6.5523355647549186E-2,7.190756870858328E-2,1.0793322098782365E-2,1.78008238598657E-2,7.6156542455936282E-3,1.6202719898764872E-2,1.7438024904960381E-2,2.002211114395025E-2]
[19,3.1930056931590345E-2,4.0388375342819582E-2,2.6157889809792723E-2,4.2610277287617127E-2,4.5088727396662476E-2,4.9990132051123348E-2,4.9331871733804045E-2,6.319077862231981E-2,4.2058941160338925E-2,6.2788949382397652E-2,6.5911796519794841E-2,7.2087566384415602E-2,1.1084329035111029E-2,1.7980646626558849E-2,8.1405238029943483E-3,1.6531241416684717E-2,1.7795250972297838E-2,2.0294967346072834E-2]
[20,3.2090683794894659E-2,4.001071270198997E-2,2.6731527319618031E-2,4.2837132056608551E-2,4.536626293854451E-2,5.0118718439563725E-2,4.8913354743618243E-2,6.2705340698013146E-2,4.2214409149522458E-2,6.2346415070760663E-2,6.5507828673180502E-2,7.1448398049454465E-2,1.1045341897447436E-2,1.8195613658046117E-2,8.3657636598091223E-3,1.6418566028304271E-2,1.7683131469272251E-2,2.0059359219781969E-2]
[21,3.2123705321590812E-2,3.966982947328801E-2,2.7276222912953507E-2,4.2867051062486006E-2,4.5528823587424494E-2,5.0043850933394696E-2,4.853209861909713E-2,6.217031324781086E-2,4.2795278641191814E-2,6.2283813828107437E-2,6.5611029484280659E-2,7.1254813666743244E-2,1.105712173740736E-2,1.8435460680345406E-2,9.0108736856062688E-3,1.6962196041867772E-2,1.8319700029586494E-2,2.0622363976031233E-2]
[22,3.2154746104094523E-2,3.9360625355932433E-2,2.7771651479021386E-2,4.2894250903609654E-2,4.5676627931841463E-2,4.9975794195986412E-2,4.8154842061208791E-2,6.1602101023135791E-2,4.2936847833986436E-2,6.1688871120475941E-2,6.5139018635483437E-2,7.0469984803023022E-2,1.1162548362092073E-2,1.8692310943447366E-2,8.9858257395107888E-3,1.6547125451804812E-2,1.7938313965920827E-2,2.008789709799319E-2]
[23,3.218396280436564E-2,3.9078896663403473E-2,2.8224207967844528E-2,4.2919086160726483E-2,4.5811597972891027E-2,4.9913659288060241E-2,4.7784143146940572E-2,6.1013289691755901E-2,4.3198017880127226E-2,6.1419666839300779E-2,6.5006381486384823E-2,7.0092937517194587E-2,1.1339993882017341E-2,1.8960103355575519E-2,9.0298619042439299E-3,1.6230352218755906E-2,1.7647683006716708E-2,1.9657693051149616E-2]
[24,3.2211496120299721E-2,3.8821148287057738E-2,2.8639226469787671E-2,4.294185233263037E-2,4.5935335814480061E-2,4.98567055192638E-2,4.7421823589770762E-2,6.041353619205303E-2,4.3226248557838742E-2,6.0818478369135454E-2,6.4500463051810453E-2,6.9323747788694545E-2,1.1572386972180215E-2,1.9234169265039514E-2,9.2332209701959655E-3,1.6241507642988928E-2,1.7708314549095272E-2,1.9629785704439184E-2]
[25,3.2237472964663061E-2,3.8584450986419938E-2,2.9021191436979787E-2,4.296279764970512E-2,4.6049187559063176E-2,4.9804310780641181E-2,4.7069147260415889E-2,5.9810236919479065E-2,4.3205853553115459E-2,6.0214613132640205E-2,6.3980008822057011E-2,6.8561259152382314E-2,1.1846200662535944E-2,1.9510915551235186E-2,9.2301718897502827E-3,1.5922142871858558E-2,1.7403610028350336E-2,1.9206069174707796E-2]
[26,3.2262008242638807E-2,3.8366331762273553E-2,2.9373900371638451E-2,4.2818652836428273E-2,4.6017264056207319E-2,4.9585891973192187E-2,4.6726954377938945E-2,5.9209034029982455E-2,4.3436158453398876E-2,5.9838756460442566E-2,6.3741062148573002E-2,6.8094788207294421E-2,1.215068579037526E-2,1.9787584837832384E-2,9.4994721783865366E-3,1.59529533614855E-2,1.7488286746979442E-2,1.9201228147132321E-2]
[27,3.2285206321883919E-2,3.8164688706816552E-2,2.9700590511593905E-2,4.2685203179736453E-2,4.5987706125937278E-2,4.9383692855763606E-2,4.6395763168110893E-2,5.861420236974757E-2,4.3337714519028792E-2,5.9049095847481192E-2,6.304512441238419E-2,6.7154268355474001E-2,1.2477284574325065E-2,2.0062072377724727E-2,9.4592775404491736E-3,1.556204549447604E-2,1.7114221879190428E-2,1.871033564220892E-2]
[28,3.2307162263198297E-2,3.79777241908279E-2,3.0004038477605688E-2,4.2561300932823842E-2,4.5960260224278349E-2,4.9195971411400308E-2,4.6075847389895896E-2,5.8028947423072186E-2,4.3504886557903077E-2,5.8699174128716836E-2,6.2811914871376828E-2,6.6727125407794574E-2,1.2819177888735434E-2,2.0332785067642689E-2,9.7018980844747471E-3,1.5603811438427151E-2,1.7201322305410827E-2,1.8722106563358043E-2]
[29,3.2327962861988357E-2,3.7803891946297519E-2,3.0286639383674485E-2,4.2445956903706783E-2,4.5934707790796336E-2,4.9021226460620904E-2,4.5767295789437279E-2,5.7455636281976918E-2,4.3343967260409233E-2,5.7935148284448124E-2,6.2121649348955588E-2,6.5825471752744891E-2,1.3170932894098764E-2,2.0598532111712364E-2,1.0034720510327055E-2,1.5749599744742104E-2,1.7389312661674206E-2,1.8839976436491934E-2]
[30,3.234768753809969E-2,3.764185479067117E-2,3.0550470184384171E-2,4.2338313989920939E-2,4.5910859416080418E-2,4.8858157431598048E-2,4.5470057903105765E-2,5.6895977752268179E-2,4.3560564221260867E-2,5.7705976787905122E-2,6.1993031299296453E-2,6.5529788917917609E-2,1.3528226762786755E-2,2.0858439687028607E-2,1.0258720986660474E-2,1.5799007575262758E-2,1.747810392555782E-2,1.8863333992851006E-2]
[31,3.2366409102550842E-2,3.7490450580885293E-2,3.0620747821329619E-2,4.2028746714702692E-2,4.571727741985665E-2,4.8335763743311055E-2,4.5183979470370561E-2,5.6351163522803116E-2,4.3625565776982622E-2,5.7283211313470916E-2,6.1860732903827875E-2,6.5013680190832757E-2,1.3887628639509986E-2,2.1111883968877532E-2,1.0408777853027518E-2,1.580685875069765E-2,1.7487120387332578E-2,1.8832482278162699E-2]
[32,3.2384194423146218E-2,3.7348664590020952E-2,3.0684260794771268E-2,4.1739318861572894E-2,4.55358268385746E-2,4.7846968080136998E-2,4.490882988449596E-2,5.5821979310722636E-2,4.3647037386397525E-2,5.6853338170200551E-2,6.1742992206289538E-2,6.447968970599538E-2,1.4246426544733071E-2,2.1358438309257322E-2,1.0599588542771432E-2,1.5864147629281566E-2,1.7501838614130127E-2,1.8847552990456151E-2]
[33,3.2401105006113484E-2,3.7215606938739043E-2,3.0741863368964895E-2,4.1468120162484912E-2,4.5365401942787376E-2,4.7388622341215658E-2,4.4644323504965167E-2,5.5308892702377044E-2,4.3632920644614881E-2,5.6420428346797502E-2,6.1538482331344957E-2,6.393457674574754E-2,1.4602489230489901E-2,2.159783140311955E-2,1.0822409304782399E-2,1.59613438253281E-2,1.7168084893682156E-2,1.8899929078779243E-2]
[34,3.2417197507316198E-2,3.7090494036446264E-2,3.0794285183886494E-2,4.1213473288976843E-2,4.5205027417539956E-2,4.6957958677602774E-2,4.4390136212749232E-2,5.4812122797678553E-2,4.358982331389849E-2,5.5987724827063268E-2,6.1346032901048009E-2,6.3383781914017501E-2,1.495415541020817E-2,2.1829914039250609E-2,1.1070035978508086E-2,1.6090551194424485E-2,1.7194312612068385E-2,1.8982459949804298E-2]
[35,3.2432524183866773E-2,3.697263322671196E-2,3.0842151484606006E-2,4.0973899699793925E-2,4.505383968603982E-2,4.6552534056177652E-2,4.4145918261937034E-2,5.4331695569533878E-2,4.3523249190670965E-2,5.5557796279195326E-2,6.1164607623247935E-2,6.2831668375151306E-2,1.5300144565099982E-2,2.2054632596932855E-2,1.1336531209276357E-2,1.62452209101005E-2,1.7224766255578228E-2,1.9089204867837051E-2]
[36,3.2447133294892794E-2,3.6861410011000739E-2,3.0885999736770975E-2,4.0748091279034337E-2,4.491107135346617E-2,4.6170184200709397E-2,4.3911304236688542E-2,5.3867487954748716E-2,4.3437785995137812E-2,5.5132661602825594E-2,6.1093285624159499E-2,6.228171771852975E-2,1.5639484857305819E-2,2.2272007870917543E-2,1.1617002867758242E-2,1.6419918240816012E-2,1.7259092822594413E-2,1.9215224272333353E-2]
[37,3.2461069458604275E-2,3.6756277360558531E-2,3.0926293335686195E-2,4.0534886657181968E-2,4.4776038179250133E-2,4.5808985116570611E-2,4.3685920738459005E-2,5.3419263017245866E-2,4.333725951087275E-2,5.4713891178346241E-2,6.1379006196892849E-2,6.1736689486558527E-2,1.5971454678630259E-2,2.2482118124664607E-2,1.1907423290413499E-2,1.6610132141521738E-2,1.6849217180662457E-2,1.9356409320299583E-2]
[38,3.247437397155295E-2,3.665674672981134E-2,3.0963432965312787E-2,4.033325134230803E-2,4.4648128111006491E-2,4.5467220786409746E-2,4.3469392288924213E-2,5.2986698010835775E-2,4.3224860463863202E-2,5.4302689407783378E-2,6.1224235014317951E-2,6.1198751477109958E-2,1.6295535121171545E-2,2.2685085512842873E-2,1.220448124648188E-2,1.6812119175323437E-2,1.6891657649952929E-2,1.9509342093871007E-2]
[39,3.2487085094986545E-2,3.656238046422966E-2,3.0997766047403008E-2,4.0142260969118881E-2,4.452679200926557E-2,4.5143355916395622E-2,4.3261345827524389E-2,5.2569406775540672E-2,4.3103249287949286E-2,5.3899962170744997E-2,6.1177418331211486E-2,6.0669586445427415E-2,1.6611371235184302E-2,2.2881065198460115E-2,1.2505460278133596E-2,1.7022775106838361E-2,1.6491788484076952E-2,1.9671180536728894E-2]
[40,3.2499238312410528E-2,3.6472785357234416E-2,3.1029594631176938E-2,3.9961087113123739E-2,4.4411535766476273E-2,4.4836012838694872E-2,4.3061414100711071E-2,5.216695759843315E-2,4.2974642879864744E-2,5.3506372071192354E-2,6.1037958277436299E-2,6.0150479677115287E-2,1.6918740385366782E-2,2.3070236632034335E-2,1.2808138395272728E-2,1.7239528908430612E-2,1.6096960379584857E-2,1.9839563428249551E-2]
[41,3.2510866561835217E-2,3.6387607158794966E-2,3.1059182003999153E-2,3.9788985225962081E-2,4.4155860070549835E-2,4.4543951851923502E-2,4.2869238176734381E-2,5.1778887434996035E-2,4.2840886630830077E-2,5.3122383768285486E-2,6.0828590685365391E-2,5.9642391003463358E-2,1.7217526362422131E-2,2.3252796570306877E-2,1.3110705137485912E-2,1.7460255001193969E-2,1.6087019830336446E-2,2.0012531666449895E-2]
[42,3.2522000445671884E-2,3.6306525876101725E-2,3.1086758248705992E-2,3.9625284333248301E-2,4.391241759854414E-2,4.4266054419376255E-2,4.2684469270654057E-2,5.1404713203804686E-2,4.2703514379746732E-2,5.2748301228216166E-2,6.0534025294238569E-2,5.9146014123658608E-2,1.7507698176400188E-2,2.3428953497885763E-2,1.3411692817428822E-2,1.7683200392767162E-2,1.5643215391388576E-2,2.0188462879337843E-2]
[43,3.253266842081004E-2,3.6229251736524137E-2,3.1112524930016594E-2,3.9469378203651706E-2,4.3680350891971642E-2,4.4001308753793156E-2,4.2506770025878993E-2,5.1043940723738412E-2,4.2563798425543364E-2,5.2384298374542393E-2,6.0353224579285714E-2,5.8661825540915702E-2,1.7789292669960544E-2,2.3598923182536868E-2,1.3709919387527858E-2,1.7906924031559912E-2,1.5208943865708369E-2,2.0366016970382983E-2]
[44,3.2542896971071711E-2,3.6155521706756621E-2,3.1136659058204064E-2,3.9320717751413881E-2,4.3458880797585309E-2,4.374879740393145E-2,4.2335815368420127E-2,5.0696071749807281E-2,4.2422791333046606E-2,5.2030444330072312E-2,6.0085245765078232E-2,5.8190124977598234E-2,1.8062400256712685E-2,2.3762925147933434E-2,1.400444086605801E-2,1.8130246214614454E-2,1.4348963511058299E-2,2.0544090665497672E-2]
[45,3.2552710763935178E-2,3.6085096481013768E-2,3.1159316450909635E-2,3.9178804477224993E-2,4.3247297728172152E-2,4.350768652727699E-2,4.2171293026312506E-2,5.0360609474185303E-2,4.2281360944899093E-2,5.1686724217124835E-2,5.9829230251088328E-2,5.773106878245815E-2,1.8327153222262638E-2,2.3921179889722088E-2,1.429451165001594E-2,1.8352206296183393E-2,1.3933973136705413E-2,2.0721779494626613E-2]
[46,3.2562132793183318E-2,3.6017757866354749E-2,3.1180634592100409E-2,3.9043184786683449E-2,4.3044954068185204E-2,4.327721658869077E-2,4.2012903787901568E-2,5.0037062787910314E-2,4.2140219753997732E-2,5.1353056302305466E-2,5.9584394422504072E-2,5.728469756165655E-2,1.8583716131194583E-2,2.4073906694218161E-2,1.4579551353783193E-2,1.8572027270369329E-2,1.4057082545910315E-2,2.0898345932292894E-2]
[47,3.2571184508925155E-2,3.5953306505527305E-2,3.1200735069591534E-2,3.8913445053243789E-2,4.2851257552985134E-2,4.3056694269536067E-2,4.186036155778794E-2,4.9724949541974262E-2,4.1999949583176654E-2,5.1029306127014173E-2,5.9350021639112072E-2,5.6850959039226323E-2,1.8832277967770317E-2,2.4221321945769647E-2,1.4859117061856608E-2,1.8789086062186433E-2,1.3654965294604526E-2,2.1073192654530448E-2]
[48,3.2579885936261599E-2,3.5891559887706537E-2,3.1219725658311992E-2,3.878920731501978E-2,4.2665665479115988E-2,4.284548540812616E-2,4.171339325737411E-2,4.9423799001101276E-2,4.1861022350912158E-2,5.071529814821063E-2,5.9025455229730461E-2,5.6429726970466776E-2,1.9073045706107017E-2,2.4363637830270513E-2,1.5132880084317568E-2,1.9002888571207022E-2,1.3259639572481774E-2,2.1245840057051213E-2]
[49,3.2588255783718489E-2,3.5832350605653707E-2,3.1237702104961462E-2,3.8670125513096121E-2,4.2487679626415087E-2,4.2643008821908968E-2,4.1571738607487196E-2,4.9133153647004768E-2,4.1723817565576304E-2,5.0410825319661345E-2,5.8810092347962417E-2,5.6020816784406735E-2,1.930623906048079E-2,2.4501061359547549E-2,1.5400606465498345E-2,1.9213048681346878E-2,1.3395564665509507E-2,2.1415907330857964E-2]
[50,3.2596311542440803E-2,3.5775524824489979E-2,3.1254749660280856E-2,3.8555882193984425E-2,4.2316841791900206E-2,4.2448730886012864E-2,4.1435149822979467E-2,4.8852570458514766E-2,4.15886370798213E-2,5.0115656967420152E-2,5.8503378568199427E-2,5.56239985118685E-2,1.9532086210866995E-2,2.4633793655282732E-2,1.5662140627468624E-2,1.941927058766435E-2,1.3010894627164982E-2,2.1583096514253608E-2]
[51,3.2604069577032213E-2,3.5720940932780998E-2,3.1270944397473244E-2,3.8446185611161976E-2,4.2129087308574675E-2,4.226216076266831E-2,4.1303391243135756E-2,4.8581621772191053E-2,4.145571754603905E-2,4.9829545251087959E-2,5.829012811279366E-2,5.5239007458280476E-2,1.9750820334975883E-2,2.4762029442411793E-2,1.591739163670769E-2,1.9621333902820615E-2,1.2801112288134853E-2,2.1747179040127573E-2]
[52,3.2611545208822701E-2,3.5668468351157445E-2,3.128635434897542E-2,3.8340767170793599E-2,4.194902180592619E-2,4.2082846192455836E-2,4.1176238916832864E-2,4.8319895807783286E-2,4.1325240939561025E-2,4.9552230451617829E-2,5.8058282603218325E-2,5.4865553000849943E-2,1.996267680753383E-2,2.4885956711099277E-2,1.6166321669517592E-2,1.9819081097147917E-2,1.2657554916299052E-2,2.1907984379045731E-2]
[53,3.2618752792272776E-2,3.5617986477469277E-2,3.1301040488585841E-2,3.8239379175148303E-2,4.1776163541489941E-2,4.1910369771929412E-2,4.1053480157477118E-2,4.8066996927258465E-2,4.1197343455195545E-2,4.9283445284902694E-2,5.7811651132342101E-2,5.4503325824578619E-2,2.016789095166982E-2,2.5005756513850397E-2,1.6408936323188295E-2,2.0012406901109836E-2,1.2570509304073774E-2,2.206539044560496E-2]
[54,3.2625705785134684E-2,3.5569383750595263E-2,3.1315057581638772E-2,3.8141792824225584E-2,4.1610071182504482E-2,4.1744345653491832E-2,4.0934913079585744E-2,4.7822545683387174E-2,4.1072123032367625E-2,4.9022918406276483E-2,5.755347853287951E-2,5.415200385810448E-2,2.0366696247064331E-2,2.5121602870410209E-2,1.664527647867553E-2,2.0201249360489948E-2,1.2531600759327244E-2,2.2219315490581426E-2]
[55,3.26324168129426E-2,3.5522556817658479E-2,3.1328454922347371E-2,3.8047796441939896E-2,4.1450339647770562E-2,4.1584416612846065E-2,4.0820346126324125E-2,4.7586178703500792E-2,4.0949645722511807E-2,4.8770377243035234E-2,5.7286525306495806E-2,5.3811257126328949E-2,2.0559322915778111E-2,2.5233662758064268E-2,1.6875411469002843E-2,2.0385582285401993E-2,1.2533605646599888E-2,2.2369711246821078E-2]
[56,3.2638897728333394E-2,3.5477409791585535E-2,3.1341276974473864E-2,3.7957193898112029E-2,4.1296596445087763E-2,4.1430251437262866E-2,4.0709597595272484E-2,4.7357548445558839E-2,4.0829951077887561E-2,4.8525550268949891E-2,5.7013136139655751E-2,5.3480751700450302E-2,2.0745996820098256E-2,2.5342096169047146E-2,1.7099433347664617E-2,2.0565408876223712E-2,1.2570291342818951E-2,2.2516557134410364E-2]
[57,3.2645159665656287E-2,3.5433853587799824E-2,3.1353563928997907E-2,3.7869803201616259E-2,4.1148498438188463E-2,4.128154259455874E-2,4.0602495168028385E-2,4.7136322856724977E-2,4.0713056712339046E-2,4.8288168815648236E-2,5.6735298677523804E-2,5.3160152895975754E-2,2.0926938617819246E-2,2.5447056220088138E-2,1.7317452084525176E-2,2.0740756344376887E-2,1.2636279349161006E-2,2.265985536184445E-2]
[58,3.2651213091282605E-2,3.5391805330395654E-2,3.1365352190399154E-2,3.7785455243501076E-2,4.1005728986751144E-2,4.1138004148290941E-2,4.0498875447931626E-2,4.6922184958984037E-2,4.0598962160668828E-2,4.8057968499917392E-2,5.645469397460201E-2,5.2849127844393218E-2,2.1102363129549273E-2,2.5548689301889915E-2,1.7529591544328316E-2,2.091167137485872E-2,1.2726928012450234E-2,2.2799626785843907E-2]
[59,3.2657067849988008E-2,3.5351187819457452E-2,3.1376674801414595E-2,3.7703992671828557E-2,4.0867995411215663E-2,4.0999369889415993E-2,4.0398583509120733E-2,4.6714832381668403E-2,4.048765214339145E-2,4.7834690332863916E-2,5.6172739827632157E-2,5.2547347543496992E-2,2.1272478880241641E-2,2.5647135258575871E-2,1.7735986125932079E-2,2.1078216301563923E-2,1.2838231892129182E-2,2.2935907414097345E-2]
[60,3.266273320774471E-2,3.5311929052316282E-2,3.1387561814693266E-2,3.7625268882460094E-2,4.0735026740973623E-2,4.086539165869163E-2,4.0301472459274068E-2,4.6513976856955574E-2,4.0379099326992129E-2,4.7618081565956372E-2,5.5890628016235233E-2,5.2254488474182903E-2,2.1437487783469988E-2,2.5742527589011077E-2,1.793677795959403E-2,2.1240465886612991E-2,1.2966735287885722E-2,2.3068745453266537E-2]
[61,3.2668217891225426E-2,3.5273961792481323E-2,3.1398040618520362E-2,3.7549147112125647E-2,4.0606571710320782E-2,4.0735837837520439E-2,4.0207403017701759E-2,4.6319343691259895E-2,4.0273266655864726E-2,4.7407896319906051E-2,5.5609356324519688E-2,5.1970233857191017E-2,2.1597584942226522E-2,2.5834993663429451E-2,1.8132114575703406E-2,2.1398504611792157E-2,1.3109457838466954E-2,2.3198198819722293E-2]
[62,3.2673530124299299E-2,3.5237223180804245E-2,3.1408136222763838E-2,3.7475499621917985E-2,4.0482396971472712E-2,4.0610491987858044E-2,4.0116243109902028E-2,4.6130671222879283E-2,4.0170109320407654E-2,4.7203896034771375E-2,5.5329756088005722E-2,5.169427461132825E-2,2.1752958544402734E-2,2.5924654950057358E-2,1.8322146971826658E-2,2.1552424404372328E-2,1.3263830429881995E-2,2.3324333043175383E-2]
[63,3.2678677661767352E-2,3.520165438413092E-2,3.1417871510303064E-2,3.7404206960887976E-2,4.0362285498127592E-2,4.0489151624307551E-2,4.0027867479266677E-2,4.5947710274140796E-2,4.0069576415907582E-2,4.7005849773361419E-2,5.5052515901004018E-2,5.1426310064709213E-2,2.1903789834763598E-2,2.6011627247465752E-2,1.8507028016244709E-2,2.1702322731476764E-2,1.3427639923671242E-2,2.3447219504021843E-2]
[64,3.2683667820569529E-2,3.516720027729292E-2,3.1427267458464803E-2,3.7335157300739441E-2,4.02460351566305E-2,4.0371627103667374E-2,3.9942157316267046E-2,4.5770223604570281E-2,3.9971612338561169E-2,4.6813534404734236E-2,5.47782020269314E-2,5.1166048462206515E-2,2.2050253148283572E-2,2.6096020919237572E-2,1.8686911135673778E-2,2.1848301007196591E-2,1.3598981443260882E-2,2.3566933954223934E-2]
[65,3.2688507508667586E-2,3.513380915480635E-2,3.1436343334352301E-2,3.7268245833752545E-2,4.013345742483132E-2,4.0257740619039417E-2,3.9858999905191483E-2,4.5597985370183336E-2,3.9876157957981384E-2,4.6626734690173421E-2,5.4507275975357095E-2,5.0913207305292474E-2,2.2192515992256467E-2,2.6177941128240345E-2,1.8861949242877207E-2,2.1990463265092908E-2,1.377621714667554E-2,2.3683555279104151E-2]
[66,3.2693203251793923E-2,3.5101432469092586E-2,3.1445116867419243E-2,3.7203374227043895E-2,4.0024376241340809E-2,4.0147325287195779E-2,3.9778288288290886E-2,4.543078059284511E-2,3.9783151599642741E-2,4.6445243290331062E-2,5.4240109642666789E-2,5.0667513554591537E-2,2.2330739166729563E-2,2.6257488068375245E-2,1.9032293866636518E-2,2.2128915055867227E-2,1.3957940573585903E-2,2.379716446384661E-2]
[67,3.269776121824064E-2,3.5070024592416482E-2,3.1453604402176261E-2,3.7140450127110203E-2,3.9918626970118609E-2,4.0040224319272788E-2,3.9699920947028566E-2,4.5268404642692328E-2,3.96925298657127E-2,4.6268860709125059E-2,5.3976998356294104E-2,5.0428703720534429E-2,2.2465076914590432E-2,2.6334757192145286E-2,1.9198094452261172E-2,2.2263762536013587E-2,1.4142945789075378E-2,2.3907843733899758E-2]
[68,3.2702187241843372E-2,3.5039542600071805E-2,3.1461821033529569E-2,3.7079386709337081E-2,3.9816055467254863E-2,3.993629026604939E-2,3.9623801500010769E-2,4.5110662735842411E-2,3.9604228318488754E-2,4.6097395187386203E-2,5.3718172113942142E-2,5.0196523863369702E-2,2.2595677094137123E-2,2.6409839432784299E-2,1.9359497805646386E-2,2.2395111718374938E-2,1.4330200659922854E-2,2.4015675843071183E-2]
[69,3.2706486843306015E-2,3.5009946072636522E-2,3.1469780726912644E-2,3.7020102267779631E-2,3.9716517238457927E-2,3.983538433009981E-2,3.9549838417088035E-2,4.4957369448983986E-2,3.951818204707247E-2,4.5930662557067015E-2,5.3463805267847997E-2,4.9970729520308454E-2,2.2722681368206654E-2,2.6482821419997471E-2,1.9516647657977115E-2,2.2523067859860024E-2,1.4518823695129912E-2,2.4120743486983232E-2]
[70,3.2710665249995774E-2,3.4981196915363943E-2,3.147749642508435E-2,3.6962519841076347E-2,3.9619876677193133E-2,3.9737375738003733E-2,3.9477944749049199E-2,4.4808348251935248E-2,3.9434326134864195E-2,4.576848606499806E-2,5.3214024868800891E-2,4.9751085574653242E-2,2.284622540498793E-2,2.6553785688632869E-2,1.9669684331645287E-2,2.2647734965252964E-2,1.4708063963729368E-2,2.4223128822871143E-2]
[71,3.2714727414329348E-2,3.4953259193007069E-2,3.1484980143219765E-2,3.6906566870835489E-2,3.9526006374649203E-2,3.964214116658149E-2,3.9408037872290302E-2,4.4663431058850511E-2,3.9352596042869115E-2,4.561069617364133E-2,5.2968917854438136E-2,4.9537366079303702E-2,2.296643908652074E-2,2.6622810879811887E-2,1.9818744490885276E-2,2.2769215389173425E-2,1.4897283671995609E-2,2.432291307950174E-2]
[72,3.2718678030860371E-2,3.4926098978552034E-2,3.1492243053706792E-2,3.6852174889246081E-2,3.9434786493782514E-2,3.9549564217802091E-2,3.9340039247814484E-2,4.4522457798415793E-2,3.9272927921606637E-2,4.5457130345002428E-2,5.2728537240511519E-2,4.9329354044961082E-2,2.3083446721618106E-2,2.6689971934219292E-2,1.9963960963126803E-2,2.2887609520897856E-2,1.5085943040960892E-2,2.4420176243386216E-2]
[73,3.2722521552168704E-2,3.4899684214518389E-2,3.1499295561881135E-2,3.6799279233034277E-2,3.9346104200617571E-2,3.9459534937609675E-2,3.9273874193907155E-2,4.4385276003126917E-2,3.9195258862533722E-2,4.5307632812778609E-2,5.2492907451697768E-2,4.9126841201604377E-2,2.3197367260562984E-2,2.6755340277392126E-2,2.0105462619194103E-2,2.3003015539020844E-2,1.5273587175274272E-2,2.4514996809491985E-2]
[74,3.2726262203642609E-2,3.4873984585617634E-2,3.1506147373768778E-2,3.6747818781207142E-2,3.9259853146787815E-2,3.9371949374435777E-2,3.9209471671821428E-2,4.4251740417520669E-2,3.9119527098300688E-2,4.5162054346913783E-2,5.2262028909574321E-2,4.892962774035392E-2,2.3308314509441708E-2,2.6818983996955703E-2,2.0243374302271855E-2,2.3115529224858822E-2,1.5459834657254312E-2,2.4607451586387885E-2]
[75,3.272990399724085E-2,3.4848971401703954E-2,3.1512807556774325E-2,3.6697735714297908E-2,3.9175932998008145E-2,3.9286709173628198E-2,3.9146764083823893E-2,4.4121712625083465E-2,3.9045672159783607E-2,4.5020252013970197E-2,5.203588197912512E-2,4.8737522041591319E-2,2.3416397342409967E-2,2.6880968011847362E-2,2.0377816797102932E-2,2.3225243825137243E-2,1.5644367636621581E-2,2.4697615547243368E-2]
[76,3.2733450744308223E-2,3.4824617490054388E-2,3.1519284594131669E-2,3.6648975293084085E-2,3.9094249003779336E-2,3.9203721204423614E-2,3.9085687082953013E-2,4.3995060693424293E-2,3.8973634996684048E-2,4.4882088936083475E-2,5.1814430361174946E-2,4.8550340394178937E-2,2.3521719910537531E-2,2.6941354233631865E-2,2.0508906832182872E-2,2.3332249955913653E-2,1.582692321777035E-2,2.4785561719358196E-2]
[77,3.2736906067521332E-2,3.4800897096123551E-2,3.1525586433835073E-2,3.6601485654957244E-2,3.9014711604164809E-2,3.9122897216455899E-2,3.9026179393863103E-2,4.3871658837214556E-2,3.8903358067484239E-2,4.4747434050739221E-2,5.159762400616863E-2,4.8367906709735342E-2,2.3624381846183651E-2,2.7000201720070782E-2,2.0636757108827952E-2,2.3436635540871942E-2,1.6007285973377083E-2,2.4871361105976764E-2]
[78,3.2740273412023901E-2,3.4777785792003746E-2,3.1531720532671947E-2,3.6555217626320191E-2,3.8937236069950032E-2,3.9044153523101865E-2,3.8968182644146143E-2,4.3751387098324379E-2,3.8834785403700334E-2,4.4616161873157312E-2,5.138540161438776E-2,4.8190052235198566E-2,2.3724478462094911E-2,2.7057566821146128E-2,2.0761476351943919E-2,2.353848577815798E-2,1.6185281436265964E-2,2.4955082635068182E-2]
[79,3.2743556055816248E-2,3.4755260391899689E-2,3.1537693895915986E-2,3.6510124549553158E-2,3.8861742172900282E-2,3.8967410709242145E-2,3.8911641205542136E-2,4.363413104253433E-2,3.8767862652649976E-2,4.4488152262695424E-2,5.1177692778832995E-2,4.801661526628842E-2,2.3822100944627778E-2,2.7113503317769849E-2,2.088316937812329E-2,2.3637883130787518E-2,1.6360770441357531E-2,2.5036793130533086E-2]
[80,3.2746757119452852E-2,3.473329887399923E-2,3.1543513113154287E-2,3.6466162123242718E-2,3.8788153883202448E-2,3.8892593361268712E-2,3.885650204447777E-2,4.3519781472177721E-2,3.8702537102324186E-2,4.4363290194376903E-2,5.0974419819349359E-2,4.7847440863963087E-2,2.3917336540661083E-2,2.7168062553432071E-2,2.1001937177391738E-2,2.373490733641237E-2,1.6533644206658593E-2,2.5116557301977371E-2]
[81,3.2749879575098007E-2,3.4711880308178733E-2,3.1549184390680329E-2,3.6423288254497699E-2,3.8716399091486275E-2,3.8819629817379298E-2,3.8802714581389175E-2,4.340823415403805E-2,3.8638757691429548E-2,4.4241465536380975E-2,5.0775499349988484E-2,4.768238057553309E-2,2.4010268737911789E-2,2.7221293559056337E-2,2.1117877005504715E-2,2.3829635432858431E-2,1.6703820057029084E-2,2.5194437749765264E-2]
[82,3.2752926254986603E-2,3.4690984789045309E-2,3.1554713580822957E-2,3.6381462922294494E-2,3.8646409353107147E-2,3.8748451936400974E-2,3.8750230558322274E-2,4.3299389561828994E-2,3.8576475007203515E-2,4.4122572834125684E-2,5.0580843615929627E-2,4.7521292161730067E-2,2.4100977438472393E-2,2.7273243171337835E-2,2.123108248419503E-2,2.3922141796405727E-2,1.6871237707204889E-2,2.527049498255951E-2]
[83,3.2755899859335136E-2,3.4670593373854697E-2,3.156010620854266E-2,3.6340648050899649E-2,3.8578119652612708E-2,3.8678994883553974E-2,3.8699003914312469E-2,4.3193152632578835E-2,3.8515641273222379E-2,4.4006511101391199E-2,5.0390361631364788E-2,4.7364039330733743E-2,2.4189539125484938E-2,2.7323956144846173E-2,2.1341643707198488E-2,2.4012498190232545E-2,1.7035856031579755E-2,2.5344787444977479E-2]
[84,3.2758802963739786E-2,3.4650688024900456E-2,3.1565367495585139E-2,3.6300807392508405E-2,3.8511468186537945E-2,3.8611196931720659E-2,3.86489906680898E-2,4.3089432536249195E-2,3.8456210329084195E-2,4.3893183618781917E-2,5.0203960145541737E-2,4.721049147990164E-2,2.4276027022945845E-2,2.7373475258175128E-2,2.1449647350240797E-2,2.4100773820857624E-2,1.7197650257762875E-2,2.5417371553351442E-2]
[85,3.2761638026099327E-2,3.4631251555998999E-2,3.1570502382448851E-2,3.6261906418324052E-2,3.8446396162866936E-2,3.8544999276923786E-2,3.8600148807660606E-2,4.2988142457931477E-2,3.8398137603564919E-2,4.3782497739715209E-2,5.0021544460486123E-2,4.7060523445741742E-2,2.4360511248687544E-2,2.7421841414417836E-2,2.1555176783480512E-2,2.4187035400743628E-2,1.7356609529176392E-2,2.5488301737893515E-2]
[86,3.2764407393099049E-2,3.4612267582736278E-2,3.1575515548395217E-2,3.6223912217373977E-2,3.8382847615663573E-2,3.8480345866838128E-2,3.8552438186358451E-2,4.2889199391980215E-2,3.8341380082598908E-2,4.3674364704013202E-2,4.9843019120775711E-2,4.6914015262495168E-2,2.4443058960640585E-2,2.7469093736243622E-2,2.1658312185163675E-2,2.4271347215522043E-2,1.7512734789092432E-2,2.5557630489826177E-2]
[87,3.2767113306281015E-2,3.4593720476169487E-2,3.1580411429702249E-2,3.618679340242692E-2,3.8320769233533891E-2,3.8417183241272967E-2,3.8505820424966641E-2,4.2792523947460692E-2,3.8285896273231979E-2,4.3568699459104465E-2,4.96682884930022E-2,4.6770851929555102E-2,2.4523734496508798E-2,2.7515269655845387E-2,2.1759130655461645E-2,2.4353771194545848E-2,1.7666036944695485E-2,2.562540841226979E-2]
[88,3.2769757907737729E-2,3.4575595319705332E-2,3.1585194236339209E-2,3.6150520022434351E-2,3.8260110200710518E-2,3.8355460383658224E-2,3.846025881954529E-2,4.2698040164310447E-2,3.823164616450736E-2,4.3465420488774775E-2,4.9497257250196158E-2,4.6630923187831907E-2,2.4602599507024037E-2,2.7560405000019994E-2,2.1857706329660331E-2,2.4434366983689726E-2,1.7816535275124723E-2,2.5691684273865922E-2]
[89,3.2772343245446534E-2,3.455787786890796E-2,3.1589867967221963E-2,3.6115063480969045E-2,3.8200822049671013E-2,3.8295128582655158E-2,3.8415718254613651E-2,4.2605675339639548E-2,3.8178591186099009E-2,4.3364449649353265E-2,4.9329830774438976E-2,4.6494123305077073E-2,2.4679713082970789E-2,2.7604534070633013E-2,2.1954110490020939E-2,2.451319201949409E-2,1.7964256052103833E-2,2.5756505064288726E-2]
[90,3.2774871278277606E-2,3.4540554513998956E-2,3.1594436424189576E-2,3.6080396460189901E-2,3.814285852431043E-2,3.8236141303095827E-2,3.8372165121361546E-2,4.2515359863611435E-2,3.8126694165370623E-2,4.3265712013182522E-2,4.9165915489120193E-2,4.6360350870111366E-2,2.4755131876178282E-2,2.7647689720713631E-2,2.2048411675772206E-2,2.4590301603912623E-2,1.8109231345816879E-2,2.5819916050927816E-2]
[91,3.2777343880692866E-2,3.4523612244848012E-2,3.1598903224826946E-2,3.6046492849894474E-2,3.8086175452780813E-2,3.8178454065520562E-2,3.8329567240579232E-2,4.2427027064380729E-2,3.8075919283431903E-2,4.3169135719192786E-2,4.9005419130758066E-2,4.6229508595827085E-2,2.4828910214701017E-2,2.7689903426413087E-2,2.2140675790803366E-2,2.4665748979043167E-2,1.8251497992199273E-2,2.5881960836157347E-2]
[92,3.2779762847159555E-2,3.4507038618259323E-2,3.1603271814246936E-2,3.601332768126575E-2,3.8030730629196263E-2,3.812202433365397E-2,3.8287893790018845E-2,4.2340613061577326E-2,3.802623203065969E-2,4.3074651830369737E-2,4.8848250968977602E-2,4.6101503130804744E-2,2.4901100212401106E-2,2.773120535505047E-2,2.2230966208727221E-2,2.4739585401341468E-2,1.8391096700872467E-2,2.5942681414698132E-2]
[93,3.2782129896295364E-2,3.4490821727379384E-2,3.1607545475927923E-2,3.5980877064955674E-2,3.7976483703476172E-2,3.8066811409211532E-2,3.8247115235914508E-2,4.2256056627859584E-2,3.7977599162081876E-2,4.2982194197896284E-2,4.8694321982080568E-2,4.5976244879328831E-2,2.4971751873166248E-2,2.7771624429461905E-2,2.2319343875060405E-2,2.4811860214910775E-2,1.8528071285610626E-2,2.6002118230676441E-2]
[94,3.2784446674767542E-2,3.4474950173069674E-2,3.1611727341700702E-2,3.594911813317192E-2,3.7923396078673122E-2,3.8012776333484988E-2,3.8207203268406209E-2,4.2173299058081204E-2,3.7929988652939395E-2,4.289169933173187E-2,4.854354499464697E-2,4.5853647829573019E-2,2.504091318998003E-2,2.7811188388856767E-2,2.2405867406337654E-2,2.4882620923536658E-2,1.8662468001540589E-2,2.6060310234050865E-2]
[95,3.2786714760957736E-2,3.445941303709521E-2,3.1615820400958894E-2,3.5918028985471695E-2,3.7871430815181295E-2,3.7959881795200712E-2,3.8168130740628747E-2,4.2092284045634143E-2,3.7883369654692078E-2,4.2803106277388592E-2,4.8395834782740677E-2,4.5733629389698383E-2,2.5108630239075946E-2,2.7849923846373636E-2,2.249059318602975E-2,2.4951913261212155E-2,1.8794334975295035E-2,2.6117294936146784E-2]
[96,3.2788935668410346E-2,3.4444199856999091E-2,3.1619827509169696E-2,3.5887588637985024E-2,3.7820552541289576E-2,3.7908092044189212E-2,3.8129871611240151E-2,4.201295756556167E-2,3.7837712451680883E-2,4.2716356498657015E-2,4.8251108151537547E-2,4.5616110231591955E-2,2.5174947269394066E-2,2.7887856343523421E-2,2.2573575457188078E-2,2.501978126094917E-2,1.8923721716090913E-2,2.6173108464085715E-2]
[97,3.2791110849080374E-2,3.4429300602536239E-2,3.162375139574336E-2,3.5857776975816158E-2,3.777072736957976E-2,3.7857372810438772E-2,3.8092400890181732E-2,4.1935267764050543E-2,3.7792988418613227E-2,4.2631393766033865E-2,4.8109283989543172E-2,4.5501014141967167E-2,2.5239906787557942E-2,2.7925010401693706E-2,2.2654866411768504E-2,2.5086267321722033E-2,1.9050678697243972E-2,2.6227785613950783E-2]
[98,3.2793241696390307E-2,3.4414705653558864E-2,3.1627594671322257E-2,3.5828574708394179E-2,3.7721922818724218E-2,3.7807691228148421E-2,3.8055694587469935E-2,4.1859164853937925E-2,3.7749169979005348E-2,4.2548164050608905E-2,4.7970283303004013E-2,4.5388267880541289E-2,2.5303549638583833E-2,2.7961409570879558E-2,2.2734516276629257E-2,2.5151412273435758E-2,1.9175256998953838E-2,2.6281359902559531E-2]
[99,3.2795329548111152E-2,3.4400405779246856E-2,3.1631359834539241E-2,3.5799963327558304E-2,3.7674107740270912E-2,3.7759015764419201E-2,3.8019729664838131E-2,4.1784601015883549E-2,3.7706230564687582E-2,4.2466615423162768E-2,4.7834029233618347E-2,4.5277801045001898E-2,2.5365915082529389E-2,2.799707647579841E-2,2.281257339621745E-2,2.5215255439836826E-2,1.9297508004370689E-2,2.6333863617751696E-2]
[100,3.2797375689078923E-2,3.4386392118590292E-2,3.1635049278292637E-2,3.5771925068184274E-2,3.762725225004071E-2,3.7711316152256646E-2,3.7984483990053386E-2,4.1711530304882505E-2,3.7664144576442071E-2,4.2386697958245012E-2,4.7700447062235973E-2,4.5169545942474354E-2,2.5427040867280315E-2,2.803203285953848E-2,2.2889084311978447E-2,2.5277834699319213E-2,1.9417483141958014E-2,2.6385327867126884E-2]
[101,3.279938135375593E-2,3.4372656162035442E-2,3.1638665295578905E-2,3.5744442871175508E-2,3.7581327663797071E-2,3.7664563327583833E-2,3.7949936293746322E-2,4.1639908561808658E-2,3.7622887345836187E-2,4.2308363642991509E-2,4.7569464200856171E-2,4.5063437467210754E-2,2.5486963297666643E-2,2.8066299624879942E-2,2.2964093838547361E-2,2.5339186543600567E-2,1.9535233668067198E-2,2.643578262518842E-2]
[102,3.280134772864729E-2,3.4359189734215478E-2,3.1642210084919409E-2,3.5717500348649844E-2,3.7536306436873224E-2,3.7618729369986781E-2,3.7916066128605985E-2,4.1569693329700508E-2,3.7582435098281852E-2,4.223156629046243E-2,4.7441010174922749E-2,4.4959412984217018E-2,2.5545717301096671E-2,2.8099896873420516E-2,2.3037645136786855E-2,2.5399346134262313E-2,1.965081048439643E-2,2.6485256778869815E-2]
[103,3.28032759545831E-2,3.4345984977689925E-2,3.1645685755417041E-2,3.5691081751175746E-2,3.7492162107470195E-2,3.7573787446932849E-2,3.7882853830790486E-2,4.1500843774511464E-2,3.7542764917346316E-2,4.2156261457277466E-2,4.7315016597625714E-2,4.4857412218548998E-2,2.5603336489880446E-2,2.8132843942633823E-2,2.3109779783750062E-2,2.545834735716257E-2,1.9764263985699637E-2,2.6533778171433431E-2]
[104,3.2805167128872492E-2,3.4333034337627133E-2,3.1649094331474004E-2,3.5665171936912765E-2,3.7448869243364769E-2,3.7529711761231876E-2,3.78502804834282E-2,4.1433320610073432E-2,3.7503854710321693E-2,4.2082406365340219E-2,4.7191417137689484E-2,4.475737715001249E-2,2.5659853220420192E-2,2.8165159440972865E-2,2.318053783965679E-2,2.5516222874748529E-2,1.9875643933689346E-2,2.6581373644747552E-2]
[105,3.2807022307339784E-2,3.4320330547362721E-2,3.1652437757193841E-2,3.5639756342533246E-2,3.7406403391783138E-2,3.7486477501517124E-2,3.7818327882079616E-2,4.1367086027023214E-2,3.7465683175053943E-2,4.2009959827445265E-2,4.7070147481907298E-2,4.4659251913006015E-2,2.5715298649421126E-2,2.8196861281135854E-2,2.3249957911971153E-2,2.5573004176297598E-2,1.9984999353598321E-2,2.6628069079954741E-2]
[106,3.2808842506248492E-2,3.4307866614780469E-2,3.1655717900498592E-2,3.5614820955801152E-2,3.7364741032222204E-2,3.7444060795545964E-2,3.7786978502045487E-2,4.1302103625470821E-2,3.7428229768019294E-2,4.1938882176577152E-2,4.6951145293507413E-2,4.4562982701264575E-2,2.5769702787286963E-2,2.8227966711594332E-2,2.3318077216681887E-2,2.5628721626134832E-2,2.0092378450317527E-2,2.6673889436557019E-2]
[107,3.2810628704121436E-2,3.429563580945838E-2,3.1658936556979711E-2,3.5590352289701865E-2,3.7323859532011561E-2,3.7402438666136906E-2,3.7756215467410259E-2,4.1238338351189618E-2,3.7391474673632574E-2,4.1869135198709939E-2,4.6834350167275662E-2,4.4468517677259678E-2,2.582309454884002E-2,2.8258492346484365E-2,2.3384931636877271E-2,2.5683404509869057E-2,2.0197828541415275E-2,2.6718858789944289E-2]
[108,3.2812381843462024E-2,3.4283631650530166E-2,3.1662095453506733E-2,3.5566337358018618E-2,3.7283737104430559E-2,3.7361588989566874E-2,3.7726022521721303E-2,4.1175756435129829E-2,3.7355398774767679E-2,4.1800682068932948E-2,4.6719703582223326E-2,4.437580688602627E-2,2.5875501801509326E-2,2.8288454193952539E-2,2.3450555778722126E-2,2.5737081078708979E-2,2.0301396004694938E-2,2.6763000367405754E-2]
[109,3.2814102832384506E-2,3.4271847895218643E-2,3.1665196251607242E-2,3.5542763652265386E-2,3.7244352769208122E-2,3.7321490456272199E-2,3.7696384000204031E-2,4.1114325336064628E-2,3.7319983624458875E-2,4.1733487290728011E-2,4.6607148852474189E-2,4.4284802173199855E-2,2.5926951411122889E-2,2.8317867683045339E-2,2.3514983024931047E-2,2.5789778591908341E-2,2.0403126238242031E-2,2.6806336582659629E-2]
[110,3.2815792546155187E-2,3.4260278527994403E-2,3.1668240550643212E-2,3.5519619119883217E-2,3.7205686315243458E-2,3.7282122533703888E-2,3.7667284803426515E-2,4.1054013686188773E-2,3.7285211418757624E-2,4.1667516638239199E-2,4.6496631076936357E-2,4.4195457107046865E-2,2.5977469285424881E-2,2.8346747689223406E-2,2.3578245585840651E-2,2.5841523357408969E-2,2.0503063631182039E-2,2.6848889068947335E-2]
[111,3.2817451828656585E-2,3.4248917750323349E-2,3.1671229890790187E-2,3.5496892143625391E-2,3.7167718265404437E-2,3.7243465431201939E-2,3.76387103723268E-2,4.099479123950367E-2,3.7251064970710734E-2,4.1602737101377851E-2,4.6388097088240876E-2,4.4107726904290656E-2,2.6027080415442994E-2,2.8375108558577278E-2,2.3640374548180798E-2,2.5892340770735656E-2,2.0601251543593158E-2,2.6890678710733917E-2]
[112,3.2819081493770108E-2,3.4237759970964676E-2,3.1674165755841255E-2,3.5474571522053022E-2,3.7130429843263757E-2,3.72055000667606E-2,3.7610646664526737E-2,4.0936628822832111E-2,3.7217527685425633E-2,4.1539116833615886E-2,4.628149540135551E-2,4.4021568359537966E-2,2.6075808914819421E-2,2.8402964130818331E-2,2.3701399921638E-2,2.5942255352210619E-2,2.0697732294223448E-2,2.6931725674063101E-2]
[113,3.2820682326691442E-2,3.4226799796784668E-2,3.1677049575844274E-2,3.5452646451071823E-2,3.7093802941650988E-2,3.7168208035565753E-2,3.7583080131854629E-2,4.0879498289310812E-2,3.718458353618681E-2,4.1476625102328191E-2,4.6176776162204725E-2,4.3936939778123518E-2,2.6123678057209609E-2,2.8430327761114871E-2,2.376135068331009E-2,2.5991290782549026E-2,2.0792547154839358E-2,2.6972049435613599E-2]
[114,3.2822255085174223E-2,3.4216032024055654E-2,3.1679882729585884E-2,3.5431106506447207E-2,3.7057820092901261E-2,3.713157158019742E-2,3.7555997699010302E-2,4.0823372474225073E-2,3.7152217041588331E-2,4.1415232241550859E-2,4.607389109658655E-2,4.3853800912197594E-2,2.6170710311856915E-2,2.845721234083376E-2,2.3820254820142717E-2,2.6039469936897985E-2,2.088573635017954E-2,2.701166881050443E-2]
[115,3.2823800500713984E-2,3.4205451630209938E-2,3.1682666546931637E-2,3.5409941627235542E-2,3.7022464440694902E-2,3.7095573562392792E-2,3.7529386743306192E-2,4.076822515305234E-2,3.7120413243644679E-2,4.1354909607028034E-2,4.597279345961125E-2,4.3772112899888249E-2,2.6216927377434862E-2,2.8483630317252651E-2,2.3878139369437612E-2,2.6086814917381407E-2,2.0977339062629996E-2,2.7050601978895417E-2]
[116,3.2825319279668141E-2,3.4195053766020278E-2,3.168540231103667E-2,3.5389142100078042E-2,3.6987719713387879E-2,3.7060197436276976E-2,3.750323507542408E-2,4.0714031001591877E-2,3.7089157686843732E-2,4.1295629533429912E-2,4.5873437985858745E-2,4.369183820738276E-2,2.6262350214252272E-2,2.8509593712296777E-2,2.3935030457521211E-2,2.6133347084213998E-2,2.1067393440849402E-2,2.708886651143394E-2]
[117,3.2826812104322478E-2,3.4184833748183818E-2,3.1688091260427598E-2,3.5368698544302246E-2,3.6953570198740238E-2,3.7025427222970864E-2,3.7477530921129709E-2,4.0660765558065304E-2,3.7058436398104799E-2,4.1237365293625095E-2,4.5775780840406899E-2,4.361294057377707E-2,2.6306999074905635E-2,2.8535114140356255E-2,2.3990953336655796E-2,2.6179087085440145E-2,2.1155936611676252E-2,2.7126479393589253E-2]
[118,3.2828279633903668E-2,3.4174787052282607E-2,3.1690734590975378E-2,3.5348601897787102E-2,3.692000071995527E-2,3.699124748649707E-2,3.745226290388981E-2,4.06084051870792E-2,3.7028235867605508E-2,4.11800910599045E-2,4.5679779570852341E-2,4.3535384958548695E-2,2.6350893533461761E-2,2.856020282523164E-2,2.4045932420275751E-2,2.6224054885360726E-2,2.1243004694740941E-2,2.7163457048925643E-2]
[119,3.282972250554006E-2,3.4164909306099389E-2,3.1693333457754935E-2,3.5328843403541699E-2,3.6886996612952583E-2,3.6957643310904231E-2,3.7427420028346203E-2,4.0556927045344526E-2,3.6998543030442921E-2,4.1123781867050457E-2,4.5585393060426638E-2,4.3459137491520972E-2,2.6394052513248667E-2,2.858487061625925E-2,2.4099991316626879E-2,2.6268269791702492E-2,2.1328632819283211E-2,2.7199815361353741E-2]
[120,3.2831141335176728E-2,3.4155196283269795E-2,3.1695888976808417E-2,3.5309414596959243E-2,3.6854543704798237E-2,3.6924600278539721E-2,3.74029916645926E-2,4.0506309049061606E-2,3.6969345249093566E-2,4.1068413577157292E-2,4.5492581482276417E-2,4.3384165425187859E-2,2.6436494313326842E-2,2.860912800365556E-2,2.4153152860883376E-2,2.631175048158596E-2,2.1412855142742826E-2,2.7235569696410167E-2]
[121,3.2832536718445882E-2,3.4145643897248057E-2,3.1698402226813194E-2,3.5290307293705414E-2,3.6822628293224025E-2,3.689210444940394E-2,3.7378967533215679E-2,4.0456529842874733E-2,3.6940630296636634E-2,4.1013962846112584E-2,4.5401306254965634E-2,4.3310437089279841E-2,2.6478236633710184E-2,2.8632985133130173E-2,2.4205439145813079E-2,2.6354515026344671E-2,2.1495704870753363E-2,2.7270734921600148E-2]
[122,3.2833909231493541E-2,3.4136248195571373E-2,3.1700874250661704E-2,3.5271513578204017E-2,3.6791237127170362E-2,3.6860142341522906E-2,3.7355337691054702E-2,4.0407568770315372E-2,3.6912386340712366E-2,4.0960407091650941E-2,4.531152999923882E-2,4.3237921847452343E-2,2.6519296599402997E-2,2.8656451819797368E-2,2.4256871551063375E-2,2.6396580915249546E-2,2.1577214278218015E-2,2.7305325425851734E-2]
[123,3.2835259431767572E-2,3.4127005354403606E-2,3.1703306056960256E-2,3.5253025792688186E-2,3.6760357388294418E-2,3.6828700912282297E-2,3.7332092517642579E-2,4.0359405845650009E-2,3.688460192817633E-2,4.0907724462900363E-2,4.522321649607064E-2,4.3166590055992549E-2,2.6559690783314327E-2,2.8679537561435042E-2,2.4307470771129491E-2,2.6437965078183856E-2,2.1657414731195423E-2,2.7339355138114918E-2]
[124,3.2836587858768418E-2,3.4117911673343881E-2,3.1705698621449674E-2,3.5234836526780278E-2,3.6729976673386844E-2,3.6797767540668103E-2,3.7309222702290423E-2,4.0312021727061165E-2,3.6857265970426267E-2,4.0855893811343247E-2,4.5136330646012413E-2,4.3096413024436231E-2,2.6599435228107149E-2,2.8702251551114166E-2,2.4357256842069352E-2,2.6478683907322109E-2,2.173633670935704E-2,2.7372837545148743E-2]
[125,3.2837895034762754E-2,3.4108963570484763E-2,3.1708052888354432E-2,3.5216938607578019E-2,3.6700082977644044E-2,3.67673300103597E-2,3.7286719231781396E-2,4.0265397691085836E-2,3.6830367729366653E-2,4.0804894663119873E-2,4.5050838429843143E-2,4.3027362978000472E-2,2.6638545467039476E-2,2.8724602689242484E-2,2.4406249167028049E-2,2.6518753277854579E-2,2.1814009828822423E-2,2.7405785708529917E-2]
[126,3.2839181465464495E-2,3.4100157577704904E-2,3.1710369771664082E-2,3.5199325090209177E-2,3.6670664678748244E-2,3.6737376493635177E-2,3.7264573378638977E-2,4.0219515608248102E-2,3.680389680398366E-2,4.0754707192603989E-2,4.4966706870516848E-2,4.2959413021737669E-2,2.6677036543847121E-2,2.874659959504644E-2,2.4454466540623665E-2,2.6558188567802343E-2,2.1890462865194582E-2,2.7438212280920249E-2]
[127,3.2840447640683834E-2,3.409149033618708E-2,3.1712650156350275E-2,3.5181989248838086E-2,3.6641710521709614E-2,3.6707895536034041E-2,3.7242776689944801E-2,4.0174357919821935E-2,3.677784311750254E-2,4.0705312197187205E-2,4.4883903996397745E-2,4.2892537106323791E-2,2.671492303171985E-2,2.8768250617523972E-2,2.450192717225419E-2,2.6597004676966352E-2,2.1965723776657731E-2,2.7470129521625308E-2]
[128,3.28416940349463E-2,3.4082958592143164E-2,3.1714894899524948E-2,3.5164924568093392E-2,3.6613209604428265E-2,3.6678876041746244E-2,3.7221320976668748E-2,4.012990761566293E-2,3.6752196905103895E-2,4.0656691073208684E-2,4.4802398805764421E-2,4.2826709995398504E-2,2.6752219051414672E-2,2.8789563845895261E-2,2.4548648708372811E-2,2.6635216045051147E-2,2.2039819727012855E-2,2.7501549311478968E-2]
[129,3.2842921108082512E-2,3.4074559192740717E-2,3.1717104831540555E-2,3.5148124734894814E-2,3.6585151363934143E-2,3.6650307259677994E-2,3.7200198303491971E-2,4.0086148213056338E-2,3.6726948702167084E-2,4.0608825792972869E-2,4.4722161232562119E-2,4.2761907234378338E-2,2.6788938288553554E-2,2.8810547119576979E-2,2.4594648253786433E-2,2.667283666899789E-2,2.2112777108550974E-2,2.7532483167082678E-2]
[130,3.2844129305791725E-2,3.4066289082217205E-2,3.1719280757039447E-2,3.513158363065938E-2,3.6557525563269966E-2,3.6622178770165936E-2,3.7179400979091115E-2,4.0043063736524109E-2,3.6702089333023658E-2,4.0561698882799924E-2,4.4643162113378487E-2,4.2698105120668295E-2,2.6825094010143546E-2,2.8831208037706446E-2,2.4639942392019165E-2,2.6709880119568874E-2,2.2184621564677709E-2,2.7562942254430123E-2]
[131,3.2845319060179401E-2,3.405814529817186E-2,3.1721423455951747E-2,3.5115295323865814E-2,3.6530322278982563E-2,3.6594480472299296E-2,3.7158921546864621E-2,4.0000638698546753E-2,3.6677609900192865E-2,4.0515293402057173E-2,4.456537315561504E-2,4.2635280675201059E-2,2.6860699080361039E-2,2.8851553968235688E-2,2.4684547204789409E-2,2.6746359557215493E-2,2.225537801222055E-2,2.7592937401946571E-2]
[132,3.2846490790271243E-2,3.4050124968026285E-2,3.1723533684445693E-2,3.5099254062956664E-2,3.6503531889185314E-2,3.6567202571821555E-2,3.713875277607448E-2,3.9958858081148296E-2,3.6653501774076336E-2,4.0469592923120912E-2,4.448876690682213E-2,4.2573411615240309E-2,2.6895765975636143E-2,2.8871592056620932E-2,2.472847829064051E-2,2.6782287747263211E-2,2.2325070663363533E-2,2.762247911297E-2]
[133,3.2847644902502138E-2,3.4042225305645823E-2,3.1725612175835582E-2,3.508345426956172E-2,3.6477145062167482E-2,3.6540335569577476E-2,3.7118887653383226E-2,3.9917707318302575E-2,3.6629756583095974E-2,4.0424581512223723E-2,4.4413316725170127E-2,4.2512476328381066E-2,2.69303067990736E-2,2.889132923412574E-2,2.4771750782767832E-2,2.6817677074447266E-2,2.239372304715892E-2,2.7651577577697539E-2]
[134,3.2848781791186221E-2,3.4034443608111475E-2,3.1727659641444639E-2,3.5067890532026302E-2,3.645115274551558E-2,3.651387025048014E-2,3.7099319374767958E-2,3.9877172279118467E-2,3.6606366204248397E-2,4.0380243711141794E-2,4.4338996751017934E-2,4.2452453847691585E-2,2.6964333294240195E-2,2.8910772225757997E-2,2.4814379366078221E-2,2.6852539556827537E-2,2.2461358030583689E-2,2.7680242684625433E-2]
[135,3.2849901838963635E-2,3.4026777252635476E-2,3.1729676771432125E-2,3.5052557599227541E-2,3.6425546155724797E-2,3.6487797672969391E-2,3.7080041337788971E-2,3.9837239251764522E-2,3.6583322754060399E-2,4.0336564519681817E-2,4.4265781879550881E-2,4.2393323827936147E-2,2.6997856858353764E-2,2.892992755785917E-2,2.4856378293521386E-2,2.6886886859113224E-2,2.2527997839110414E-2,2.7708484031504499E-2]
[136,3.2851005417229517E-2,3.4019223693613654E-2,3.173166423557916E-2,3.503745037466266E-2,3.6400316768269381E-2,3.6462109158935219E-2,3.7061047134197E-2,3.9797894928097044E-2,3.6560618579925874E-2,4.0293529378925941E-2,4.4193647734448893E-2,4.2335066522831033E-2,2.7030888554902432E-2,2.8948801565364279E-2,2.4897761401724727E-2,2.6920730305424412E-2,2.259366407677188E-2,2.773631093583262E-2]
[137,3.2852092886543227E-2,3.4011780459806351E-2,3.1733622684041451E-2,3.502256391079972E-2,3.6375456308114895E-2,3.6436796284085471E-2,3.7042330542862212E-2,3.9759126388954735E-2,3.6538246251807127E-2,4.0251124155200602E-2,4.4122570642555647E-2,4.2277662763276158E-2,2.7063439125718292E-2,2.8967400398746346E-2,2.4938542125966912E-2,2.6954080891515408E-2,2.2658377745703673E-2,2.7763732444908262E-2]
[138,3.2853164597020035E-2,3.4004445151642804E-2,3.1735552748067608E-2,3.5007893403671053E-2,3.6350956740642149E-2,3.6411850868730555E-2,3.702388552300806E-2,3.9720921090087069E-2,3.6516198554280788E-2,4.0209335124731016E-2,4.4052527609507841E-2,4.2221093936523069E-2,2.7095519002539703E-2,2.8985730030664625E-2,2.4978733514520401E-2,2.6986949296488483E-2,2.2722159265154751E-2,2.7790757345462325E-2]
[139,3.2854220888706154E-2,3.3997215438641204E-2,3.1737455040685925E-2,3.4993434187702732E-2,3.6326810262969467E-2,3.638726496897049E-2,3.7005706207736244E-2,3.9683266848686616E-2,3.6494468478918574E-2,4.0168148958949601E-2,4.398349629629883E-2,4.2165341966224457E-2,2.7127138318078892E-2,2.9003796262326409E-2,2.5018348242393129E-2,2.7019345894017555E-2,2.2785028489960668E-2,2.7817394172890753E-2]
[140,3.2855262091938231E-2,3.3990089056939343E-2,3.1739330157360968E-2,3.4979181730765863E-2,3.6303009295645117E-2,3.6363030868256985E-2,3.6987786897825448E-2,3.9646151830494913E-2,3.6473049216980469E-2,4.0127552710425451E-2,4.3915454996734216E-2,4.2110389293331663E-2,2.7158306916624131E-2,2.9021604729581929E-2,2.5057398624498406E-2,2.70512807631067E-2,2.2847004728477227E-2,2.7843651220103682E-2]
[141,3.285628852768685E-2,3.3983063806931169E-2,3.1741178676621074E-2,3.4965131629437707E-2,3.6279546474699664E-2,3.6339141069317016E-2,3.6970122055794086E-2,3.9609564537451458E-2,3.6451934152409882E-2,4.0087533799386232E-2,4.38483826157543E-2,4.2056218857793315E-2,2.7189034364198728E-2,2.9039160908760575E-2,2.5095896628277048E-2,2.7082763698406342E-2,2.2908106759975011E-2,2.7869536546011764E-2]
[142,3.2857300507885157E-2,3.3976137551003704E-2,3.1743001160660311E-2,3.4951279604465091E-2,3.6256414644032731E-2,3.6315588286418343E-2,3.6952706300213078E-2,3.9573493795864501E-2,3.6431116855118573E-2,4.0048080000803399E-2,4.3782258648584982E-2,4.2002814081018247E-2,2.7219329958293681E-2,2.9056470122264422E-2,2.5133853885801027E-2,2.7113804220104898E-2,2.2968352851498564E-2,2.7895057983663429E-2]
[143,3.2858298335745273E-2,3.3969308211366123E-2,3.1744798155912912E-2,3.4937621496416105E-2,3.6233606848123046E-2,3.6292365437960328E-2,3.6935534400254211E-2,3.9537928745073669E-2,3.6410591074541587E-2,4.0009179432013875E-2,4.3717063160689351E-2,4.1950158849068497E-2,2.7249202737199996E-2,2.9073537543926609E-2,2.5171281705380188E-2,2.7144411583415406E-2,2.3027760774196215E-2,2.7920223148050427E-2]
[144,3.2859282306060944E-2,3.3962573767973847E-2,3.1746570193604162E-2,3.49241532615161E-2,3.6211116325043369E-2,3.6269465639373166E-2,3.6918601270465867E-2,3.9502858826583331E-2,3.6390350733457977E-2,3.9970820540852658E-2,4.3652776768487556E-2,4.1898237496544644E-2,2.7278661488955303E-2,2.9090368204151673E-2,2.5208191082695119E-2,2.7174594787679363E-2,2.3086347819128106E-2,2.7945039443597164E-2]
[145,3.286025270549664E-2,3.3955932256534371E-2,3.1748317790278424E-2,3.4910870967653995E-2,3.6188936499764512E-2,3.624688219631178E-2,3.6901901965764816E-2,3.9468273773643814E-2,3.6370389922058433E-2,3.993299209427259E-2,4.3589380620814078E-2,4.1847034791133497E-2,2.7307714759925661E-2,2.9106966994842054E-2,2.5244592711480385E-2,2.7204362585101061E-2,2.3144130812562391E-2,2.7969514071347845E-2]
[146,3.2861209812865555E-2,3.3949381766597675E-2,3.1750041448304955E-2,3.4897770790554006E-2,3.6167060977738918E-2,3.6224608598131702E-2,3.6885431676631164E-2,3.9434163601259398E-2,3.6350702892253617E-2,3.9895683167428642E-2,4.3526856381085999E-2,4.1796535918784405E-2,2.7336370863038084E-2,2.9123338674125643E-2,2.5280496993775436E-2,2.7233723489131334E-2,2.3201126130765415E-2,2.7993654035864735E-2]
[147,3.2862153899397617E-2,3.3942920439724134E-2,3.1751741656361521E-2,3.4884849010103691E-2,3.6145483538744028E-2,3.6202638511628971E-2,3.686918572449982E-2,3.9400518596601986E-2,3.6331284052207424E-2,3.9858883133203626E-2,4.3465186210152496E-2,4.174672646948796E-2,2.7364637885679555E-2,2.9139487870889935E-2,2.5315914049765631E-2,2.7262685782516005E-2,2.3257349714304487E-2,2.8017466151851522E-2]
[148,3.2863085228994171E-2,3.3936546467725481E-2,3.1753418889900686E-2,3.487210200683144E-2,3.6124198130978336E-2,3.6180965775035601E-2,3.6853159557338699E-2,3.9367329309812682E-2,3.6312127961090956E-2,3.9822581652156686E-2,4.340435274979626E-2,4.1697592423627361E-2,2.7392523697281179E-2,2.9155419089135437E-2,2.5350853727231337E-2,2.7291257525025259E-2,2.3312817081867498E-2,2.8040957050512461E-2]
[149,3.2864004058474672E-2,3.3930258090978604E-2,3.1755073611594575E-2,3.4859526258524731E-2,3.6103198865396369E-2,3.6159584392258859E-2,3.6837348745403675E-2,3.9334586545173744E-2,3.6293229324041221E-2,3.9786768662875005E-2,4.3344339106865748E-2,4.1649120138875118E-2,2.7420035956597699E-2,2.9171136712153656E-2,2.5385325610620679E-2,2.7319446560876814E-2,2.3367543343616903E-2,2.8064133185662588E-2]
[150,3.2864910637811384E-2,3.3924053596805726E-2,3.1756706271763413E-2,3.4847118336985616E-2,3.6082480010269036E-2,3.6138488527347912E-2,3.6821748977162505E-2,3.9302281352630253E-2,3.6274582987320558E-2,3.975143437270634E-2,4.3285128838007614E-2,4.1601296337612448E-2,2.7447182118699232E-2,2.9186645006538781E-2,2.5419339029767674E-2,2.7347260525867334E-2,2.3421543214088292E-2,2.8087000839595477E-2]

{"sheet":"Curves with VA","index":4,"n_rows":163,"n_cols":25,"rows_kept":163,"cut":false,"hidden":false,"merged":[]}
["LLP before FSP",null,null,null,null,null,null,15,10,20,25,40,25]
["FSP",20,15,30,30,50,30,{"$f":"B$2","v":20},15,30,30,50,30]
["First weight",null,null,null,null,null,null,0.33,1,1,1,1,1]
["First fw LLFR",null,null,null,null,null,null,{"$f":"(H$2*LN(1+OFFSET('Curves without VA'!B$13,H$2,0))-H$1*LN(1+OFFSET('Curves without VA'!B$13,H$1,0)))/(H$2-H$1)","v":3.4543782904386131E-2},{"$f":"(I$2*LN(1+OFFSET('Curves without VA'!C$13,I$2,0))-I$1*LN(1+OFFSET('Curves without VA'!C$13,I$1,0)))/(I$2-I$1)","v":4.5144101507585355E-2},{"$f":"(J$2*LN(1+OFFSET('Curves without VA'!D$13,J$2,0))-J$1*LN(1+OFFSET('Curves without VA'!D$13,J$1,0)))/(J$2-J$1)","v":3.7518325094349513E-2},{"$f":"(K$2*LN(1+OFFSET('Curves without VA'!E$13,K$2,0))-K$1*LN(1+OFFSET('Curves without VA'!E$13,K$1,0)))/(K$2-K$1)","v":3.8471875099958107E-2},{"$f":"(L$2*LN(1+OFFSET('Curves without VA'!F$13,L$2,0))-L$1*LN(1+OFFSET('Curves without VA'!F$13,L$1,0)))/(L$2-L$1)","v":3.3415427104284821E-2},{"$f":"(M$2*LN(1+OFFSET('Curves without VA'!G$13,M$2,0))-M$1*LN(1+OFFSET('Curves without VA'!G$13,M$1,0)))/(M$2-M$1)","v":4.3193739422867375E-2}]
["VA",{"$f":"VLOOKUP(B$12,'RCS and Scaling Factors'!$B$2:$D$8,3,FALSE)*'Scenario Data'!$J$6*10000","v":30.149499999999996},{"$f":"VLOOKUP(C$12,'RCS and Scaling Factors'!$B$2:$D$8,3,FALSE)*'Scenario Data'!$J$6*10000","v":31.611500000000003},{"$f":"VLOOKUP(D$12,'RCS and Scaling Factors'!$B$2:$D$8,3,FALSE)*'Scenario Data'!$J$6*10000","v":19.014499999999998},{"$f":"VLOOKUP(E$12,'RCS and Scaling Factors'!$B$2:$D$8,3,FALSE)*'Scenario Data'!$J$6*10000","v":61.285000000000004},{"$f":"VLOOKUP(F$12,'RCS and Scaling Factors'!$B$2:$D$8,3,FALSE)*'Scenario Data'!$J$6*10000","v":54.195999999999991},{"$f":"VLOOKUP(G$12,'RCS and Scaling Factors'!$B$2:$D$8,3,FALSE)*'Scenario Data'!$J$6*10000","v":36.337499999999999},{"$f":"B$5","v":30.149499999999996},31.611500000000003,19.014499999999998,61.285000000000004,54.195999999999991,36.337499999999999]
["LLFR",null,null,null,null,null,null,3.2246721869295406E-2,4.5144101507585355E-2,3.7518325094349513E-2,3.8471875099958107E-2,3.3415427104284821E-2,4.3193739422867375E-2]
["UFR",null,null,null,null,null,null,3.3000000000000002E-2,3.3000000000000002E-2,3.2000000000000001E-2,3.3000000000000002E-2,3.3000000000000002E-2,3.3000000000000002E-2]
["LLFRVA",null,null,null,null,null,null,{"$f":"H$3*(H$4+LN(1+H$5/10000))+(H$6-H$3*H$4)","v":3.3240158539740348E-2},{"$f":"I$3*(I$4+LN(1+I$5/10000))+(I$6-I$3*I$4)","v":4.8300265577675611E-2},3.9417969626607152E-2,4.4581672218673644E-2,3.8820393919069142E-2,4.6820903303388672E-2]
["Mean Rev",null,null,null,null,null,null,0.11,0.11,0.11,0.11,0.11,0.11]
["Compounding",null,null,null,null,null,null,"A","A","A","A","A","A"]
["Scenario","Zeros with VA","Zeros with VA","Zeros with VA","Zeros with VA","Zeros with VA","Zeros with VA","Baseline","Baseline","Baseline","Baseline","Baseline","Baseline","Up","Up","Up","Up","Up","Up","Down","Down","Down","Down","Down","Down"]
["Currency",{"$f":"'Curves without VA'!B$12","v":"EUR"},{"$f":"'Curves without VA'!C$12","v":"CZK"},{"$f":"'Curves without VA'!D$12","v":"JPY"},{"$f":"'Curves without VA'!E$12","v":"USD"},{"$f":"'Curves without VA'!F$12","v":"GBP"},{"$f":"'Curves without VA'!G$12","v":"AUD"},{"$f":"'Curves without VA'!B$12","v":"EUR"},{"$f":"'Curves without VA'!C$12","v":"CZK"},{"$f":"'Curves without VA'!D$12","v":"JPY"},{"$f":"'Curves without VA'!E$12","v":"USD"},{"$f":"'Curves without VA'!F$12","v":"GBP"},{"$f":"'Curves without VA'!G$12","v":"AUD"},{"$f":"'Curves without VA'!B$12","v":"EUR"},{"$f":"'Curves without VA'!C$12","v":"CZK"},{"$f":"'Curves without VA'!D$12","v":"JPY"},{"$f":"'Curves without VA'!E$12","v":"USD"},{"$f":"'Curves without VA'!F$12","v":"GBP"},{"$f":"'Curves without VA'!G$12","v":"AUD"},{"$f":"'Curves without VA'!B$12","v":"EUR"},{"$f":"'Curves without VA'!C$12","v":"CZK"},{"$f":"'Curves without VA'!D$12","v":"JPY"},{"$f":"'Curves without VA'!E$12","v":"USD"},{"$f":"'Curves without VA'!F$12","v":"GBP"},{"$f":"'Curves without VA'!G$12","v":"AUD"}]
["Tenor","Curve","Curve","Curve","Curve","Curve","Curve","Curve","Curve","Curve","Curve","Curve","Curve","Curve","Curve","Curve","Curve","Curve","Curve","Curve","Curve","Curve","Curve","Curve","Curve"]
[1,{"$f":"($A14*LN(1+'Curves without VA'!B14)-IF(ISNUMBER($A13),$A13*LN(1+'Curves without VA'!B13),0)+($A14<=B$2)*LN(1+B$5/10000)+IF(ISNUMBER($A13),$A13*B13))/$A14","v":2.3557862040523573E-2},{"$f":"($A14*LN(1+'Curves without VA'!C14)-IF(ISNUMBER($A13),$A13*LN(1+'Curves without VA'!C13),0)+($A14<=C$2)*LN(1+C$5/10000)+IF(ISNUMBER($A13),$A13*C13))/$A14","v":3.6621887453083805E-2},{"$f":"($A14*LN(1+'Curves without VA'!D14)-IF(ISNUMBER($A13),$A13*LN(1+'Curves without VA'!D13),0)+($A14<=D$2)*LN(1+D$5/10000)+IF(ISNUMBER($A13),$A13*D13))/$A14","v":1.0913893833408028E-2},{"$f":"($A14*LN(1+'Curves without VA'!E14)-IF(ISNUMBER($A13),$A13*LN(1+'Curves without VA'!E13),0)+($A14<=E$2)*LN(1+E$5/10000)+IF(ISNUMBER($A13),$A13*E13))/$A14","v":3.9839500696024918E-2},{"$f":"($A14*LN(1+'Curves without VA'!F14)-IF(ISNUMBER($A13),$A13*LN(1+'Curves without VA'!F13),0)+($A14<=F$2)*LN(1+F$5/10000)+IF(ISNUMBER($A13),$A13*F13))/$A14","v":4.0198104243071534E-2},{"$f":"($A14*LN(1+'Curves without VA'!G14)-IF(ISNUMBER($A13),$A13*LN(1+'Curves without VA'!G13),0)+($A14<=G$2)*LN(1+G$5/10000)+IF(ISNUMBER($A13),$A13*G13))/$A14","v":4.3605913007932463E-2},{"$f":"INDEX(AlternativeExtrapolation(B$14:B$163,H$2,H$7,H$8,H$9,H$10),,1)","v":2.3837540362000142E-2},{"$f":"INDEX(AlternativeExtrapolation(C$14:C$163,I$2,I$7,I$8,I$9,I$10),,1)","v":3.730073025680003E-2},{"$f":"INDEX(AlternativeExtrapolation(D$14:D$163,J$2,J$7,J$8,J$9,J$10),,1)","v":1.097366762975005E-2},{"$f":"INDEX(AlternativeExtrapolation(E$14:E$163,K$2,K$7,K$8,K$9,K$10),,1)","v":4.0643738192500001E-2},{"$f":"INDEX(AlternativeExtrapolation(F$14:F$163,L$2,L$7,L$8,L$9,L$10),,1)","v":4.1016983647800043E-2},{"$f":"INDEX(AlternativeExtrapolation(G$14:G$163,M$2,M$7,M$8,M$9,M$10),,1)","v":4.4570622070044807E-2},{"$f":"(1+'Curves without VA'!H14)*(1+H14)/(1+'Curves without VA'!B14)-1","v":5.8003840412820251E-2},{"$f":"(1+'Curves without VA'!I14)*(1+I14)/(1+'Curves without VA'!C14)-1","v":7.9593522823448337E-2},{"$f":"(1+'Curves without VA'!J14)*(1+J14)/(1+'Curves without VA'!D14)-1","v":3.7948411413897487E-2},{"$f":"(1+'Curves without VA'!K14)*(1+K14)/(1+'Curves without VA'!E14)-1","v":8.3229183389925021E-2},{"$f":"(1+'Curves without VA'!L14)*(1+L14)/(1+'Curves without VA'!F14)-1","v":8.4247367112958216E-2},{"$f":"(1+'Curves without VA'!M14)*(1+M14)/(1+'Curves without VA'!G14)-1","v":9.1019876282772083E-2},{"$f":"(1+'Curves without VA'!N14)*(1+H14)/(1+'Curves without VA'!B14)-1","v":1.2546453204009822E-4},{"$f":"(1+'Curves without VA'!O14)*(1+I14)/(1+'Curves without VA'!C14)-1","v":5.8631043678560868E-3},{"$f":"(1+'Curves without VA'!P14)*(1+J14)/(1+'Curves without VA'!D14)-1","v":-5.9102754155049286E-3},{"$f":"(1+'Curves without VA'!Q14)*(1+K14)/(1+'Curves without VA'!E14)-1","v":8.9538094408498914E-3},{"$f":"(1+'Curves without VA'!R14)*(1+L14)/(1+'Curves without VA'!F14)-1","v":8.7076337720759511E-3},{"$f":"(1+'Curves without VA'!S14)*(1+M14)/(1+'Curves without VA'!G14)-1","v":9.1850847694188165E-3}]
[2,{"$f":"($A15*LN(1+'Curves without VA'!B15)-IF(ISNUMBER($A14),$A14*LN(1+'Curves without VA'!B14),0)+($A15<=B$2)*LN(1+B$5/10000)+IF(ISNUMBER($A14),$A14*B14))/$A15","v":2.4409124442006467E-2},{"$f":"($A15*LN(1+'Curves without VA'!C15)-IF(ISNUMBER($A14),$A14*LN(1+'Curves without VA'!C14),0)+($A15<=C$2)*LN(1+C$5/10000)+IF(ISNUMBER($A14),$A14*C14))/$A15","v":3.7246444519411552E-2},{"$f":"($A15*LN(1+'Curves without VA'!D15)-IF(ISNUMBER($A14),$A14*LN(1+'Curves without VA'!D14),0)+($A15<=D$2)*LN(1+D$5/10000)+IF(ISNUMBER($A14),$A14*D14))/$A15","v":1.3363883598110591E-2},{"$f":"($A15*LN(1+'Curves without VA'!E15)-IF(ISNUMBER($A14),$A14*LN(1+'Curves without VA'!E14),0)+($A15<=E$2)*LN(1+E$5/10000)+IF(ISNUMBER($A14),$A14*E14))/$A15","v":3.8674174634541821E-2},{"$f":"($A15*LN(1+'Curves without VA'!F15)-IF(ISNUMBER($A14),$A14*LN(1+'Curves without VA'!F14),0)+($A15<=F$2)*LN(1+F$5/10000)+IF(ISNUMBER($A14),$A14*F14))/$A15","v":3.9726314835637794E-2},{"$f":"($A15*LN(1+'Curves without VA'!G15)-IF(ISNUMBER($A14),$A14*LN(1+'Curves without VA'!G14),0)+($A15<=G$2)*LN(1+G$5/10000)+IF(ISNUMBER($A14),$A14*G14))/$A15","v":4.4652409566483316E-2},2.4709465831368238E-2,3.7948786110654664E-2,1.3453579406600191E-2,3.9431755238480859E-2,4.0525958701248532E-2,4.5664333814177116E-2,{"$f":"(1+'Curves without VA'!H15)*(1+H15)/(1+'Curves without VA'!B15)-1","v":5.4863637291993284E-2},{"$f":"(1+'Curves without VA'!I15)*(1+I15)/(1+'Curves without VA'!C15)-1","v":7.5045030639301347E-2},{"$f":"(1+'Curves without VA'!J15)*(1+J15)/(1+'Curves without VA'!D15)-1","v":3.8211574962098149E-2},{"$f":"(1+'Curves without VA'!K15)*(1+K15)/(1+'Curves without VA'!E15)-1","v":7.5796470614875711E-2},{"$f":"(1+'Curves without VA'!L15)*(1+L15)/(1+'Curves without VA'!F15)-1","v":7.7833133372910313E-2},{"$f":"(1+'Curves without VA'!M15)*(1+M15)/(1+'Curves without VA'!G15)-1","v":8.6608130985690979E-2},{"$f":"(1+'Curves without VA'!N15)*(1+H15)/(1+'Curves without VA'!B15)-1","v":3.7154147523703607E-3},{"$f":"(1+'Curves without VA'!O15)*(1+I15)/(1+'Curves without VA'!C15)-1","v":1.0275796309220819E-2},{"$f":"(1+'Curves without VA'!P15)*(1+J15)/(1+'Curves without VA'!D15)-1","v":-2.3568309457657755E-3},{"$f":"(1+'Curves without VA'!Q15)*(1+K15)/(1+'Curves without VA'!E15)-1","v":1.2486422916855533E-2},{"$f":"(1+'Curves without VA'!R15)*(1+L15)/(1+'Curves without VA'!F15)-1","v":1.2668061723611679E-2},{"$f":"(1+'Curves without VA'!S15)*(1+M15)/(1+'Curves without VA'!G15)-1","v":1.4292761943946797E-2}]
[3,{"$f":"($A16*LN(1+'Curves without VA'!B16)-IF(ISNUMBER($A15),$A15*LN(1+'Curves without VA'!B15),0)+($A16<=B$2)*LN(1+B$5/10000)+IF(ISNUMBER($A15),$A15*B15))/$A16","v":2.5582334620508903E-2},{"$f":"($A16*LN(1+'Curves without VA'!C16)-IF(ISNUMBER($A15),$A15*LN(1+'Curves without VA'!C15),0)+($A16<=C$2)*LN(1+C$5/10000)+IF(ISNUMBER($A15),$A15*C15))/$A16","v":3.8258062018285743E-2},{"$f":"($A16*LN(1+'Curves without VA'!D16)-IF(ISNUMBER($A15),$A15*LN(1+'Curves without VA'!D15),0)+($A16<=D$2)*LN(1+D$5/10000)+IF(ISNUMBER($A15),$A15*D15))/$A16","v":1.5041123852950677E-2},{"$f":"($A16*LN(1+'Curves without VA'!E16)-IF(ISNUMBER($A15),$A15*LN(1+'Curves without VA'!E15),0)+($A16<=E$2)*LN(1+E$5/10000)+IF(ISNUMBER($A15),$A15*E15))/$A16","v":3.8940520783300819E-2},{"$f":"($A16*LN(1+'Curves without VA'!F16)-IF(ISNUMBER($A15),$A15*LN(1+'Curves without VA'!F15),0)+($A16<=F$2)*LN(1+F$5/10000)+IF(ISNUMBER($A15),$A15*F15))/$A16","v":4.011167849609111E-2},{"$f":"($A16*LN(1+'Curves without VA'!G16)-IF(ISNUMBER($A15),$A15*LN(1+'Curves without VA'!G15),0)+($A16<=G$2)*LN(1+G$5/10000)+IF(ISNUMBER($A15),$A15*G15))/$A16","v":4.5314793851696011E-2},2.59123708989486E-2,3.8999324547561498E-2,1.5154810834493437E-2,3.9708640755445002E-2,4.0927016865148103E-2,4.6357194881311514E-2,{"$f":"(1+'Curves without VA'!H16)*(1+H16)/(1+'Curves without VA'!B16)-1","v":5.4383964279433483E-2},{"$f":"(1+'Curves without VA'!I16)*(1+I16)/(1+'Curves without VA'!C16)-1","v":7.3814401855866851E-2},{"$f":"(1+'Curves without VA'!J16)*(1+J16)/(1+'Curves without VA'!D16)-1","v":3.8881662583395205E-2},{"$f":"(1+'Curves without VA'!K16)*(1+K16)/(1+'Curves without VA'!E16)-1","v":7.3468319925613201E-2},{"$f":"(1+'Curves without VA'!L16)*(1+L16)/(1+'Curves without VA'!F16)-1","v":7.5618868249070825E-2},{"$f":"(1+'Curves without VA'!M16)*(1+M16)/(1+'Curves without VA'!G16)-1","v":8.4554183373154457E-2},{"$f":"(1+'Curves without VA'!N16)*(1+H16)/(1+'Curves without VA'!B16)-1","v":7.5124816184113374E-3},{"$f":"(1+'Curves without VA'!O16)*(1+I16)/(1+'Curves without VA'!C16)-1","v":1.4904290201634529E-2},{"$f":"(1+'Curves without VA'!P16)*(1+J16)/(1+'Curves without VA'!D16)-1","v":1.00755003231634E-3},{"$f":"(1+'Curves without VA'!Q16)*(1+K16)/(1+'Curves without VA'!E16)-1","v":1.6582512273049188E-2},{"$f":"(1+'Curves without VA'!R16)*(1+L16)/(1+'Curves without VA'!F16)-1","v":1.6958770764482933E-2},{"$f":"(1+'Curves without VA'!S16)*(1+M16)/(1+'Curves without VA'!G16)-1","v":1.9228719008534512E-2}]
[4,{"$f":"($A17*LN(1+'Curves without VA'!B17)-IF(ISNUMBER($A16),$A16*LN(1+'Curves without VA'!B16),0)+($A17<=B$2)*LN(1+B$5/10000)+IF(ISNUMBER($A16),$A16*B16))/$A17","v":2.659307275753971E-2},{"$f":"($A17*LN(1+'Curves without VA'!C17)-IF(ISNUMBER($A16),$A16*LN(1+'Curves without VA'!C16),0)+($A17<=C$2)*LN(1+C$5/10000)+IF(ISNUMBER($A16),$A16*C16))/$A17","v":3.9255964586622338E-2},{"$f":"($A17*LN(1+'Curves without VA'!D17)-IF(ISNUMBER($A16),$A16*LN(1+'Curves without VA'!D16),0)+($A17<=D$2)*LN(1+D$5/10000)+IF(ISNUMBER($A16),$A16*D16))/$A17","v":1.6077969452133332E-2},{"$f":"($A17*LN(1+'Curves without VA'!E17)-IF(ISNUMBER($A16),$A16*LN(1+'Curves without VA'!E16),0)+($A17<=E$2)*LN(1+E$5/10000)+IF(ISNUMBER($A16),$A16*E16))/$A17","v":3.9516612275982285E-2},{"$f":"($A17*LN(1+'Curves without VA'!F17)-IF(ISNUMBER($A16),$A16*LN(1+'Curves without VA'!F16),0)+($A17<=F$2)*LN(1+F$5/10000)+IF(ISNUMBER($A16),$A16*F16))/$A17","v":4.0697751187037945E-2},{"$f":"($A17*LN(1+'Curves without VA'!G17)-IF(ISNUMBER($A16),$A16*LN(1+'Curves without VA'!G16),0)+($A17<=G$2)*LN(1+G$5/10000)+IF(ISNUMBER($A16),$A16*G16))/$A17","v":4.589797379535554E-2},2.6949823865786149E-2,4.0036662136867296E-2,1.6207915491715852E-2,4.0307780621371192E-2,4.153725456736046E-2,4.6967587378301756E-2,{"$f":"(1+'Curves without VA'!H17)*(1+H17)/(1+'Curves without VA'!B17)-1","v":5.4108406539047804E-2},{"$f":"(1+'Curves without VA'!I17)*(1+I17)/(1+'Curves without VA'!C17)-1","v":7.3150292234826386E-2},{"$f":"(1+'Curves without VA'!J17)*(1+J17)/(1+'Curves without VA'!D17)-1","v":3.891950296290525E-2},{"$f":"(1+'Curves without VA'!K17)*(1+K17)/(1+'Curves without VA'!E17)-1","v":7.2228918557201816E-2},{"$f":"(1+'Curves without VA'!L17)*(1+L17)/(1+'Curves without VA'!F17)-1","v":7.4338631228346497E-2},{"$f":"(1+'Curves without VA'!M17)*(1+M17)/(1+'Curves without VA'!G17)-1","v":8.3059655947320454E-2},{"$f":"(1+'Curves without VA'!N17)*(1+H17)/(1+'Curves without VA'!B17)-1","v":9.953563689471645E-3},{"$f":"(1+'Curves without VA'!O17)*(1+I17)/(1+'Curves without VA'!C17)-1","v":1.7863064772120518E-2},{"$f":"(1+'Curves without VA'!P17)*(1+J17)/(1+'Curves without VA'!D17)-1","v":3.0712585650296553E-3},{"$f":"(1+'Curves without VA'!Q17)*(1+K17)/(1+'Curves without VA'!E17)-1","v":1.9190717472822749E-2},{"$f":"(1+'Curves without VA'!R17)*(1+L17)/(1+'Curves without VA'!F17)-1","v":1.9650087700416208E-2},{"$f":"(1+'Curves without VA'!S17)*(1+M17)/(1+'Curves without VA'!G17)-1","v":2.2207162676981307E-2}]
[5,{"$f":"($A18*LN(1+'Curves without VA'!B18)-IF(ISNUMBER($A17),$A17*LN(1+'Curves without VA'!B17),0)+($A18<=B$2)*LN(1+B$5/10000)+IF(ISNUMBER($A17),$A17*B17))/$A18","v":2.7495782902216586E-2},{"$f":"($A18*LN(1+'Curves without VA'!C18)-IF(ISNUMBER($A17),$A17*LN(1+'Curves without VA'!C17),0)+($A18<=C$2)*LN(1+C$5/10000)+IF(ISNUMBER($A17),$A17*C17))/$A18","v":3.9854706127624283E-2},{"$f":"($A18*LN(1+'Curves without VA'!D18)-IF(ISNUMBER($A17),$A17*LN(1+'Curves without VA'!D17),0)+($A18<=D$2)*LN(1+D$5/10000)+IF(ISNUMBER($A17),$A17*D17))/$A18","v":1.6913719244400906E-2},{"$f":"($A18*LN(1+'Curves without VA'!E18)-IF(ISNUMBER($A17),$A17*LN(1+'Curves without VA'!E17),0)+($A18<=E$2)*LN(1+E$5/10000)+IF(ISNUMBER($A17),$A17*E17))/$A18","v":4.018034255514126E-2},{"$f":"($A18*LN(1+'Curves without VA'!F18)-IF(ISNUMBER($A17),$A17*LN(1+'Curves without VA'!F17),0)+($A18<=F$2)*LN(1+F$5/10000)+IF(ISNUMBER($A17),$A17*F17))/$A18","v":4.1402324713099736E-2},{"$f":"($A18*LN(1+'Curves without VA'!G18)-IF(ISNUMBER($A17),$A17*LN(1+'Curves without VA'!G17),0)+($A18<=G$2)*LN(1+G$5/10000)+IF(ISNUMBER($A17),$A17*G17))/$A18","v":4.653901172366938E-2},2.7877280439111862E-2,4.0659561749982087E-2,1.705756604417008E-2,4.0998493593214169E-2,4.2271352726031219E-2,4.7638948472498832E-2,{"$f":"(1+'Curves without VA'!H18)*(1+H18)/(1+'Curves without VA'!B18)-1","v":5.4912965346712195E-2},{"$f":"(1+'Curves without VA'!I18)*(1+I18)/(1+'Curves without VA'!C18)-1","v":7.3383793207473902E-2},{"$f":"(1+'Curves without VA'!J18)*(1+J18)/(1+'Curves without VA'!D18)-1","v":3.9707861174046899E-2},{"$f":"(1+'Curves without VA'!K18)*(1+K18)/(1+'Curves without VA'!E18)-1","v":7.2586821010160563E-2},{"$f":"(1+'Curves without VA'!L18)*(1+L18)/(1+'Curves without VA'!F18)-1","v":7.4740271132745395E-2},{"$f":"(1+'Curves without VA'!M18)*(1+M18)/(1+'Curves without VA'!G18)-1","v":8.3298701035123157E-2},{"$f":"(1+'Curves without VA'!N18)*(1+H18)/(1+'Curves without VA'!B18)-1","v":1.0810942118467226E-2},{"$f":"(1+'Curves without VA'!O18)*(1+I18)/(1+'Curves without VA'!C18)-1","v":1.8537752884989267E-2},{"$f":"(1+'Curves without VA'!P18)*(1+J18)/(1+'Curves without VA'!D18)-1","v":3.8816193315021064E-3},{"$f":"(1+'Curves without VA'!Q18)*(1+K18)/(1+'Curves without VA'!E18)-1","v":1.990698380592848E-2},{"$f":"(1+'Curves without VA'!R18)*(1+L18)/(1+'Curves without VA'!F18)-1","v":2.0392172475618864E-2},{"$f":"(1+'Curves without VA'!S18)*(1+M18)/(1+'Curves without VA'!G18)-1","v":2.29110694584993E-2}]
[6,{"$f":"($A19*LN(1+'Curves without VA'!B19)-IF(ISNUMBER($A18),$A18*LN(1+'Curves without VA'!B18),0)+($A19<=B$2)*LN(1+B$5/10000)+IF(ISNUMBER($A18),$A18*B18))/$A19","v":2.8335691648518301E-2},{"$f":"($A19*LN(1+'Curves without VA'!C19)-IF(ISNUMBER($A18),$A18*LN(1+'Curves without VA'!C18),0)+($A19<=C$2)*LN(1+C$5/10000)+IF(ISNUMBER($A18),$A18*C18))/$A19","v":4.0868916060978304E-2},{"$f":"($A19*LN(1+'Curves without VA'!D19)-IF(ISNUMBER($A18),$A18*LN(1+'Curves without VA'!D18),0)+($A19<=D$2)*LN(1+D$5/10000)+IF(ISNUMBER($A18),$A18*D18))/$A19","v":1.7622593662053852E-2},{"$f":"($A19*LN(1+'Curves without VA'!E19)-IF(ISNUMBER($A18),$A18*LN(1+'Curves without VA'!E18),0)+($A19<=E$2)*LN(1+E$5/10000)+IF(ISNUMBER($A18),$A18*E18))/$A19","v":4.0925665749539618E-2},{"$f":"($A19*LN(1+'Curves without VA'!F19)-IF(ISNUMBER($A18),$A18*LN(1+'Curves without VA'!F18),0)+($A19<=F$2)*LN(1+F$5/10000)+IF(ISNUMBER($A18),$A18*F18))/$A19","v":4.2036148800196897E-2},{"$f":"($A19*LN(1+'Curves without VA'!G19)-IF(ISNUMBER($A18),$A18*LN(1+'Curves without VA'!G18),0)+($A19<=G$2)*LN(1+G$5/10000)+IF(ISNUMBER($A18),$A18*G18))/$A19","v":4.7192752834611162E-2},2.8740966214922281E-2,4.1715544418287287E-2,1.7778787731619561E-2,4.1774663128471001E-2,4.2932178816303956E-2,4.8324057039957014E-2,{"$f":"(1+'Curves without VA'!H19)*(1+H19)/(1+'Curves without VA'!B19)-1","v":5.3732048143040334E-2},{"$f":"(1+'Curves without VA'!I19)*(1+I19)/(1+'Curves without VA'!C19)-1","v":7.1968366689785235E-2},{"$f":"(1+'Curves without VA'!J19)*(1+J19)/(1+'Curves without VA'!D19)-1","v":3.8715877081583638E-2},{"$f":"(1+'Curves without VA'!K19)*(1+K19)/(1+'Curves without VA'!E19)-1","v":7.0877840411144089E-2},{"$f":"(1+'Curves without VA'!L19)*(1+L19)/(1+'Curves without VA'!F19)-1","v":7.2790378370988451E-2},{"$f":"(1+'Curves without VA'!M19)*(1+M19)/(1+'Curves without VA'!G19)-1","v":8.1099408926339267E-2},{"$f":"(1+'Curves without VA'!N19)*(1+H19)/(1+'Curves without VA'!B19)-1","v":1.2244879888251736E-2},{"$f":"(1+'Curves without VA'!O19)*(1+I19)/(1+'Curves without VA'!C19)-1","v":2.0343694834338066E-2},{"$f":"(1+'Curves without VA'!P19)*(1+J19)/(1+'Curves without VA'!D19)-1","v":5.0326596786041122E-3},{"$f":"(1+'Curves without VA'!Q19)*(1+K19)/(1+'Curves without VA'!E19)-1","v":2.1488060189651881E-2},{"$f":"(1+'Curves without VA'!R19)*(1+L19)/(1+'Curves without VA'!F19)-1","v":2.1941087546108573E-2},{"$f":"(1+'Curves without VA'!S19)*(1+M19)/(1+'Curves without VA'!G19)-1","v":2.461739423977316E-2}]
[7,{"$f":"($A20*LN(1+'Curves without VA'!B20)-IF(ISNUMBER($A19),$A19*LN(1+'Curves without VA'!B19),0)+($A20<=B$2)*LN(1+B$5/10000)+IF(ISNUMBER($A19),$A19*B19))/$A20","v":2.9175492395956987E-2},{"$f":"($A20*LN(1+'Curves without VA'!C20)-IF(ISNUMBER($A19),$A19*LN(1+'Curves without VA'!C19),0)+($A20<=C$2)*LN(1+C$5/10000)+IF(ISNUMBER($A19),$A19*C19))/$A20","v":4.1593351727659877E-2},{"$f":"($A20*LN(1+'Curves without VA'!D20)-IF(ISNUMBER($A19),$A19*LN(1+'Curves without VA'!D19),0)+($A20<=D$2)*LN(1+D$5/10000)+IF(ISNUMBER($A19),$A19*D19))/$A20","v":1.8436805864722596E-2},{"$f":"($A20*LN(1+'Curves without VA'!E20)-IF(ISNUMBER($A19),$A19*LN(1+'Curves without VA'!E19),0)+($A20<=E$2)*LN(1+E$5/10000)+IF(ISNUMBER($A19),$A19*E19))/$A20","v":4.1664654352215953E-2},{"$f":"($A20*LN(1+'Curves without VA'!F20)-IF(ISNUMBER($A19),$A19*LN(1+'Curves without VA'!F19),0)+($A20<=F$2)*LN(1+F$5/10000)+IF(ISNUMBER($A19),$A19*F19))/$A20","v":4.2809847706690336E-2},{"$f":"($A20*LN(1+'Curves without VA'!G20)-IF(ISNUMBER($A19),$A19*LN(1+'Curves without VA'!G19),0)+($A20<=G$2)*LN(1+G$5/10000)+IF(ISNUMBER($A19),$A19*G19))/$A20","v":4.7900680277068015E-2},2.9605266516493423E-2,4.2470473729043778E-2,1.8607813095692372E-2,4.2544807259899287E-2,4.3739406537935954E-2,4.9066457160227284E-2,{"$f":"(1+'Curves without VA'!H20)*(1+H20)/(1+'Curves without VA'!B20)-1","v":5.2482877977595876E-2},{"$f":"(1+'Curves without VA'!I20)*(1+I20)/(1+'Curves without VA'!C20)-1","v":7.0056018458789948E-2},{"$f":"(1+'Curves without VA'!J20)*(1+J20)/(1+'Curves without VA'!D20)-1","v":3.7813886291098386E-2},{"$f":"(1+'Curves without VA'!K20)*(1+K20)/(1+'Curves without VA'!E20)-1","v":6.909851144606205E-2},{"$f":"(1+'Curves without VA'!L20)*(1+L20)/(1+'Curves without VA'!F20)-1","v":7.0988189756972186E-2},{"$f":"(1+'Curves without VA'!M20)*(1+M20)/(1+'Curves without VA'!G20)-1","v":7.8923797559511399E-2},{"$f":"(1+'Curves without VA'!N20)*(1+H20)/(1+'Curves without VA'!B20)-1","v":1.3447855220390936E-2},{"$f":"(1+'Curves without VA'!O20)*(1+I20)/(1+'Curves without VA'!C20)-1","v":2.1606108704297577E-2},{"$f":"(1+'Curves without VA'!P20)*(1+J20)/(1+'Curves without VA'!D20)-1","v":6.1144796152863279E-3},{"$f":"(1+'Curves without VA'!Q20)*(1+K20)/(1+'Curves without VA'!E20)-1","v":2.2732164023736567E-2},{"$f":"(1+'Curves without VA'!R20)*(1+L20)/(1+'Curves without VA'!F20)-1","v":2.3226934638899577E-2},{"$f":"(1+'Curves without VA'!S20)*(1+M20)/(1+'Curves without VA'!G20)-1","v":2.5933462885943115E-2}]
[8,{"$f":"($A21*LN(1+'Curves without VA'!B21)-IF(ISNUMBER($A20),$A20*LN(1+'Curves without VA'!B20),0)+($A21<=B$2)*LN(1+B$5/10000)+IF(ISNUMBER($A20),$A20*B20))/$A21","v":2.9885920357370189E-2},{"$f":"($A21*LN(1+'Curves without VA'!C21)-IF(ISNUMBER($A20),$A20*LN(1+'Curves without VA'!C20),0)+($A21<=C$2)*LN(1+C$5/10000)+IF(ISNUMBER($A20),$A20*C20))/$A21","v":4.21366784776709E-2},{"$f":"($A21*LN(1+'Curves without VA'!D21)-IF(ISNUMBER($A20),$A20*LN(1+'Curves without VA'!D20),0)+($A21<=D$2)*LN(1+D$5/10000)+IF(ISNUMBER($A20),$A20*D20))/$A21","v":1.9174304115204863E-2},{"$f":"($A21*LN(1+'Curves without VA'!E21)-IF(ISNUMBER($A20),$A20*LN(1+'Curves without VA'!E20),0)+($A21<=E$2)*LN(1+E$5/10000)+IF(ISNUMBER($A20),$A20*E20))/$A21","v":4.238167161216079E-2},{"$f":"($A21*LN(1+'Curves without VA'!F21)-IF(ISNUMBER($A20),$A20*LN(1+'Curves without VA'!F20),0)+($A21<=F$2)*LN(1+F$5/10000)+IF(ISNUMBER($A20),$A20*F20))/$A21","v":4.3584659645556828E-2},{"$f":"($A21*LN(1+'Curves without VA'!G21)-IF(ISNUMBER($A20),$A20*LN(1+'Curves without VA'!G20),0)+($A21<=G$2)*LN(1+G$5/10000)+IF(ISNUMBER($A20),$A20*G20))/$A21","v":4.8564752845611958E-2},3.0336986773534802E-2,4.3037029722093223E-2,1.9359311656152789E-2,4.3292597938344723E-2,4.4548421668004323E-2,4.9763344783373853E-2,{"$f":"(1+'Curves without VA'!H21)*(1+H21)/(1+'Curves without VA'!B21)-1","v":5.1562357181536456E-2},{"$f":"(1+'Curves without VA'!I21)*(1+I21)/(1+'Curves without VA'!C21)-1","v":6.8532446512604928E-2},{"$f":"(1+'Curves without VA'!J21)*(1+J21)/(1+'Curves without VA'!D21)-1","v":3.7217611874244882E-2},{"$f":"(1+'Curves without VA'!K21)*(1+K21)/(1+'Curves without VA'!E21)-1","v":6.7901320387381947E-2},{"$f":"(1+'Curves without VA'!L21)*(1+L21)/(1+'Curves without VA'!F21)-1","v":6.9816714275125813E-2},{"$f":"(1+'Curves without VA'!M21)*(1+M21)/(1+'Curves without VA'!G21)-1","v":7.7390648634721115E-2},{"$f":"(1+'Curves without VA'!N21)*(1+H21)/(1+'Curves without VA'!B21)-1","v":1.373592010959146E-2},{"$f":"(1+'Curves without VA'!O21)*(1+I21)/(1+'Curves without VA'!C21)-1","v":2.1664596297697569E-2},{"$f":"(1+'Curves without VA'!P21)*(1+J21)/(1+'Curves without VA'!D21)-1","v":6.5135352368146382E-3},{"$f":"(1+'Curves without VA'!Q21)*(1+K21)/(1+'Curves without VA'!E21)-1","v":2.2932244021773629E-2},{"$f":"(1+'Curves without VA'!R21)*(1+L21)/(1+'Curves without VA'!F21)-1","v":2.3445867914162699E-2},{"$f":"(1+'Curves without VA'!S21)*(1+M21)/(1+'Curves without VA'!G21)-1","v":2.6011569515691946E-2}]
[9,{"$f":"($A22*LN(1+'Curves without VA'!B22)-IF(ISNUMBER($A21),$A21*LN(1+'Curves without VA'!B21),0)+($A22<=B$2)*LN(1+B$5/10000)+IF(ISNUMBER($A21),$A21*B21))/$A22","v":3.0552831138744605E-2},{"$f":"($A22*LN(1+'Curves without VA'!C22)-IF(ISNUMBER($A21),$A21*LN(1+'Curves without VA'!C21),0)+($A22<=C$2)*LN(1+C$5/10000)+IF(ISNUMBER($A21),$A21*C21))/$A22","v":4.2559265949901753E-2},{"$f":"($A22*LN(1+'Curves without VA'!D22)-IF(ISNUMBER($A21),$A21*LN(1+'Curves without VA'!D21),0)+($A22<=D$2)*LN(1+D$5/10000)+IF(ISNUMBER($A21),$A21*D21))/$A22","v":1.99300096246963E-2},{"$f":"($A22*LN(1+'Curves without VA'!E22)-IF(ISNUMBER($A21),$A21*LN(1+'Curves without VA'!E21),0)+($A22<=E$2)*LN(1+E$5/10000)+IF(ISNUMBER($A21),$A21*E21))/$A22","v":4.30824517548615E-2},{"$f":"($A22*LN(1+'Curves without VA'!F22)-IF(ISNUMBER($A21),$A21*LN(1+'Curves without VA'!F21),0)+($A22<=F$2)*LN(1+F$5/10000)+IF(ISNUMBER($A21),$A21*F21))/$A22","v":4.4344582390222785E-2},{"$f":"($A22*LN(1+'Curves without VA'!G22)-IF(ISNUMBER($A21),$A21*LN(1+'Curves without VA'!G21),0)+($A22<=G$2)*LN(1+G$5/10000)+IF(ISNUMBER($A21),$A21*G21))/$A22","v":4.9183668442427587E-2},3.1024358800894047E-2,4.34778972499128E-2,2.012993825082976E-2,4.4023972910604225E-2,4.5342499452205587E-2,5.0413260791256409E-2,{"$f":"(1+'Curves without VA'!H22)*(1+H22)/(1+'Curves without VA'!B22)-1","v":5.1221137057180233E-2},{"$f":"(1+'Curves without VA'!I22)*(1+I22)/(1+'Curves without VA'!C22)-1","v":6.7614661249884911E-2},{"$f":"(1+'Curves without VA'!J22)*(1+J22)/(1+'Curves without VA'!D22)-1","v":3.7184350731095162E-2},{"$f":"(1+'Curves without VA'!K22)*(1+K22)/(1+'Curves without VA'!E22)-1","v":6.7419163441997609E-2},{"$f":"(1+'Curves without VA'!L22)*(1+L22)/(1+'Curves without VA'!F22)-1","v":6.9378526796911366E-2},{"$f":"(1+'Curves without VA'!M22)*(1+M22)/(1+'Curves without VA'!G22)-1","v":7.6623402244458516E-2},{"$f":"(1+'Curves without VA'!N22)*(1+H22)/(1+'Curves without VA'!B22)-1","v":1.3982298173545349E-2},{"$f":"(1+'Curves without VA'!O22)*(1+I22)/(1+'Curves without VA'!C22)-1","v":2.1635082807446748E-2},{"$f":"(1+'Curves without VA'!P22)*(1+J22)/(1+'Curves without VA'!D22)-1","v":6.9092289880061664E-3},{"$f":"(1+'Curves without VA'!Q22)*(1+K22)/(1+'Curves without VA'!E22)-1","v":2.3107354625468535E-2},{"$f":"(1+'Curves without VA'!R22)*(1+L22)/(1+'Curves without VA'!F22)-1","v":2.3639509105845224E-2},{"$f":"(1+'Curves without VA'!S22)*(1+M22)/(1+'Curves without VA'!G22)-1","v":2.6047085707666451E-2}]
[10,{"$f":"($A23*LN(1+'Curves without VA'!B23)-IF(ISNUMBER($A22),$A22*LN(1+'Curves without VA'!B22),0)+($A23<=B$2)*LN(1+B$5/10000)+IF(ISNUMBER($A22),$A22*B22))/$A23","v":3.1239052074467179E-2},{"$f":"($A23*LN(1+'Curves without VA'!C23)-IF(ISNUMBER($A22),$A22*LN(1+'Curves without VA'!C22),0)+($A23<=C$2)*LN(1+C$5/10000)+IF(ISNUMBER($A22),$A22*C22))/$A23","v":4.289733592768652E-2},{"$f":"($A23*LN(1+'Curves without VA'!D23)-IF(ISNUMBER($A22),$A22*LN(1+'Curves without VA'!D22),0)+($A23<=D$2)*LN(1+D$5/10000)+IF(ISNUMBER($A22),$A22*D22))/$A23","v":2.0699436887343589E-2},{"$f":"($A23*LN(1+'Curves without VA'!E23)-IF(ISNUMBER($A22),$A22*LN(1+'Curves without VA'!E22),0)+($A23<=E$2)*LN(1+E$5/10000)+IF(ISNUMBER($A22),$A22*E22))/$A23","v":4.3767035529735134E-2},{"$f":"($A23*LN(1+'Curves without VA'!F23)-IF(ISNUMBER($A22),$A22*LN(1+'Curves without VA'!F22),0)+($A23<=F$2)*LN(1+F$5/10000)+IF(ISNUMBER($A22),$A22*F22))/$A23","v":4.5054742048138932E-2},{"$f":"($A23*LN(1+'Curves without VA'!G23)-IF(ISNUMBER($A22),$A22*LN(1+'Curves without VA'!G22),0)+($A23<=G$2)*LN(1+G$5/10000)+IF(ISNUMBER($A22),$A22*G22))/$A23","v":4.9725088976148787E-2},3.173211211093907E-2,4.3830725436403206E-2,2.0915156082027098E-2,4.4738939482372508E-2,4.6085123183518872E-2,5.0982130084403554E-2,{"$f":"(1+'Curves without VA'!H23)*(1+H23)/(1+'Curves without VA'!B23)-1","v":5.0878917719220818E-2},{"$f":"(1+'Curves without VA'!I23)*(1+I23)/(1+'Curves without VA'!C23)-1","v":6.6564790142324304E-2},{"$f":"(1+'Curves without VA'!J23)*(1+J23)/(1+'Curves without VA'!D23)-1","v":3.7139233131635141E-2},{"$f":"(1+'Curves without VA'!K23)*(1+K23)/(1+'Curves without VA'!E23)-1","v":6.6886420577084271E-2},{"$f":"(1+'Curves without VA'!L23)*(1+L23)/(1+'Curves without VA'!F23)-1","v":6.8841685938574315E-2},{"$f":"(1+'Curves without VA'!M23)*(1+M23)/(1+'Curves without VA'!G23)-1","v":7.5724798484724465E-2},{"$f":"(1+'Curves without VA'!N23)*(1+H23)/(1+'Curves without VA'!B23)-1","v":1.4126856071563498E-2},{"$f":"(1+'Curves without VA'!O23)*(1+I23)/(1+'Curves without VA'!C23)-1","v":2.144361224684177E-2},{"$f":"(1+'Curves without VA'!P23)*(1+J23)/(1+'Curves without VA'!D23)-1","v":7.1980748042161924E-3},{"$f":"(1+'Curves without VA'!Q23)*(1+K23)/(1+'Curves without VA'!E23)-1","v":2.3157379839423564E-2},{"$f":"(1+'Curves without VA'!R23)*(1+L23)/(1+'Curves without VA'!F23)-1","v":2.3685854350111502E-2},{"$f":"(1+'Curves without VA'!S23)*(1+M23)/(1+'Curves without VA'!G23)-1","v":2.5920612175642121E-2}]
[11,{"$f":"($A24*LN(1+'Curves without VA'!B24)-IF(ISNUMBER($A23),$A23*LN(1+'Curves without VA'!B23),0)+($A24<=B$2)*LN(1+B$5/10000)+IF(ISNUMBER($A23),$A23*B23))/$A24","v":3.1800157733846583E-2},{"$f":"($A24*LN(1+'Curves without VA'!C24)-IF(ISNUMBER($A23),$A23*LN(1+'Curves without VA'!C23),0)+($A24<=C$2)*LN(1+C$5/10000)+IF(ISNUMBER($A23),$A23*C23))/$A24","v":4.3388511350412794E-2},{"$f":"($A24*LN(1+'Curves without VA'!D24)-IF(ISNUMBER($A23),$A23*LN(1+'Curves without VA'!D23),0)+($A24<=D$2)*LN(1+D$5/10000)+IF(ISNUMBER($A23),$A23*D23))/$A24","v":2.1592846586005986E-2},{"$f":"($A24*LN(1+'Curves without VA'!E24)-IF(ISNUMBER($A23),$A23*LN(1+'Curves without VA'!E23),0)+($A24<=E$2)*LN(1+E$5/10000)+IF(ISNUMBER($A23),$A23*E23))/$A24","v":4.4486042879237624E-2},{"$f":"($A24*LN(1+'Curves without VA'!F24)-IF(ISNUMBER($A23),$A23*LN(1+'Curves without VA'!F23),0)+($A24<=F$2)*LN(1+F$5/10000)+IF(ISNUMBER($A23),$A23*F23))/$A24","v":4.577697628989779E-2},{"$f":"($A24*LN(1+'Curves without VA'!G24)-IF(ISNUMBER($A23),$A23*LN(1+'Curves without VA'!G23),0)+($A24<=G$2)*LN(1+G$5/10000)+IF(ISNUMBER($A23),$A23*G23))/$A24","v":5.0258963078389091E-2},3.2311185283432131E-2,4.4343555368643317E-2,2.182765914282947E-2,4.5490384573070308E-2,4.6840914575634995E-2,5.1543372028512113E-2,{"$f":"(1+'Curves without VA'!H24)*(1+H24)/(1+'Curves without VA'!B24)-1","v":5.1631712843461575E-2},{"$f":"(1+'Curves without VA'!I24)*(1+I24)/(1+'Curves without VA'!C24)-1","v":6.7231469054236159E-2},{"$f":"(1+'Curves without VA'!J24)*(1+J24)/(1+'Curves without VA'!D24)-1","v":3.832548711067818E-2},{"$f":"(1+'Curves without VA'!K24)*(1+K24)/(1+'Curves without VA'!E24)-1","v":6.7863299194991455E-2},{"$f":"(1+'Curves without VA'!L24)*(1+L24)/(1+'Curves without VA'!F24)-1","v":6.9824214748325231E-2},{"$f":"(1+'Curves without VA'!M24)*(1+M24)/(1+'Curves without VA'!G24)-1","v":7.6454413012065681E-2},{"$f":"(1+'Curves without VA'!N24)*(1+H24)/(1+'Curves without VA'!B24)-1","v":1.4281639117224909E-2},{"$f":"(1+'Curves without VA'!O24)*(1+I24)/(1+'Curves without VA'!C24)-1","v":2.1439802267499752E-2},{"$f":"(1+'Curves without VA'!P24)*(1+J24)/(1+'Curves without VA'!D24)-1","v":7.6465046942695292E-3},{"$f":"(1+'Curves without VA'!Q24)*(1+K24)/(1+'Curves without VA'!E24)-1","v":2.3315240898111433E-2},{"$f":"(1+'Curves without VA'!R24)*(1+L24)/(1+'Curves without VA'!F24)-1","v":2.3825657999624772E-2},{"$f":"(1+'Curves without VA'!S24)*(1+M24)/(1+'Curves without VA'!G24)-1","v":2.58786244968221E-2}]
[12,{"$f":"($A25*LN(1+'Curves without VA'!B25)-IF(ISNUMBER($A24),$A24*LN(1+'Curves without VA'!B24),0)+($A25<=B$2)*LN(1+B$5/10000)+IF(ISNUMBER($A24),$A24*B24))/$A25","v":3.2324420363773441E-2},{"$f":"($A25*LN(1+'Curves without VA'!C25)-IF(ISNUMBER($A24),$A24*LN(1+'Curves without VA'!C24),0)+($A25<=C$2)*LN(1+C$5/10000)+IF(ISNUMBER($A24),$A24*C24))/$A25","v":4.3797824202684611E-2},{"$f":"($A25*LN(1+'Curves without VA'!D25)-IF(ISNUMBER($A24),$A24*LN(1+'Curves without VA'!D24),0)+($A25<=D$2)*LN(1+D$5/10000)+IF(ISNUMBER($A24),$A24*D24))/$A25","v":2.2337354668224601E-2},{"$f":"($A25*LN(1+'Curves without VA'!E25)-IF(ISNUMBER($A24),$A24*LN(1+'Curves without VA'!E24),0)+($A25<=E$2)*LN(1+E$5/10000)+IF(ISNUMBER($A24),$A24*E24))/$A25","v":4.5085215670489565E-2},{"$f":"($A25*LN(1+'Curves without VA'!F25)-IF(ISNUMBER($A24),$A24*LN(1+'Curves without VA'!F24),0)+($A25<=F$2)*LN(1+F$5/10000)+IF(ISNUMBER($A24),$A24*F24))/$A25","v":4.6378838158030261E-2},{"$f":"($A25*LN(1+'Curves without VA'!G25)-IF(ISNUMBER($A24),$A24*LN(1+'Curves without VA'!G24),0)+($A25<=G$2)*LN(1+G$5/10000)+IF(ISNUMBER($A24),$A24*G24))/$A25","v":5.0703858163589334E-2},3.2852529351165005E-2,4.4771106103079106E-2,2.258870135958313E-2,4.6117001672233426E-2,4.7471157844789724E-2,5.2011302588887531E-2,{"$f":"(1+'Curves without VA'!H25)*(1+H25)/(1+'Curves without VA'!B25)-1","v":5.2335460131514466E-2},{"$f":"(1+'Curves without VA'!I25)*(1+I25)/(1+'Curves without VA'!C25)-1","v":6.7787285009002884E-2},{"$f":"(1+'Curves without VA'!J25)*(1+J25)/(1+'Curves without VA'!D25)-1","v":3.9314841992458049E-2},{"$f":"(1+'Curves without VA'!K25)*(1+K25)/(1+'Curves without VA'!E25)-1","v":6.8677901423903398E-2},{"$f":"(1+'Curves without VA'!L25)*(1+L25)/(1+'Curves without VA'!F25)-1","v":7.0643530998226511E-2},{"$f":"(1+'Curves without VA'!M25)*(1+M25)/(1+'Curves without VA'!G25)-1","v":7.7062722740553591E-2},{"$f":"(1+'Curves without VA'!N25)*(1+H25)/(1+'Curves without VA'!B25)-1","v":1.4302656323675667E-2},{"$f":"(1+'Curves without VA'!O25)*(1+I25)/(1+'Curves without VA'!C25)-1","v":2.1275957639785847E-2},{"$f":"(1+'Curves without VA'!P25)*(1+J25)/(1+'Curves without VA'!D25)-1","v":7.8886470885584092E-3},{"$f":"(1+'Curves without VA'!Q25)*(1+K25)/(1+'Curves without VA'!E25)-1","v":2.3285059969895494E-2},{"$f":"(1+'Curves without VA'!R25)*(1+L25)/(1+'Curves without VA'!F25)-1","v":2.3776985949978124E-2},{"$f":"(1+'Curves without VA'!S25)*(1+M25)/(1+'Curves without VA'!G25)-1","v":2.5670928001555016E-2}]
[13,{"$f":"($A26*LN(1+'Curves without VA'!B26)-IF(ISNUMBER($A25),$A25*LN(1+'Curves without VA'!B25),0)+($A26<=B$2)*LN(1+B$5/10000)+IF(ISNUMBER($A25),$A25*B25))/$A26","v":3.2892758348198582E-2},{"$f":"($A26*LN(1+'Curves without VA'!C26)-IF(ISNUMBER($A25),$A25*LN(1+'Curves without VA'!C25),0)+($A26<=C$2)*LN(1+C$5/10000)+IF(ISNUMBER($A25),$A25*C25))/$A26","v":4.4144165846914857E-2},{"$f":"($A26*LN(1+'Curves without VA'!D26)-IF(ISNUMBER($A25),$A25*LN(1+'Curves without VA'!D25),0)+($A26<=D$2)*LN(1+D$5/10000)+IF(ISNUMBER($A25),$A25*D25))/$A26","v":2.3261713861538309E-2},{"$f":"($A26*LN(1+'Curves without VA'!E26)-IF(ISNUMBER($A25),$A25*LN(1+'Curves without VA'!E25),0)+($A26<=E$2)*LN(1+E$5/10000)+IF(ISNUMBER($A25),$A25*E25))/$A26","v":4.5697413030035168E-2},{"$f":"($A26*LN(1+'Curves without VA'!F26)-IF(ISNUMBER($A25),$A25*LN(1+'Curves without VA'!F25),0)+($A26<=F$2)*LN(1+F$5/10000)+IF(ISNUMBER($A25),$A25*F25))/$A26","v":4.7037213548824224E-2},{"$f":"($A26*LN(1+'Curves without VA'!G26)-IF(ISNUMBER($A25),$A25*LN(1+'Curves without VA'!G25),0)+($A26<=G$2)*LN(1+G$5/10000)+IF(ISNUMBER($A25),$A25*G25))/$A26","v":5.1108076792969366E-2},3.3439705517358975E-2,4.5133016514516955E-2,2.3534377631606151E-2,4.6757627813240887E-2,4.8161014144968206E-2,5.2436631112777521E-2,{"$f":"(1+'Curves without VA'!H26)*(1+H26)/(1+'Curves without VA'!B26)-1","v":5.3098789147566716E-2},{"$f":"(1+'Curves without VA'!I26)*(1+I26)/(1+'Curves without VA'!C26)-1","v":6.8257768543871888E-2},{"$f":"(1+'Curves without VA'!J26)*(1+J26)/(1+'Curves without VA'!D26)-1","v":4.0544221146088022E-2},{"$f":"(1+'Curves without VA'!K26)*(1+K26)/(1+'Curves without VA'!E26)-1","v":6.9510715407213208E-2},{"$f":"(1+'Curves without VA'!L26)*(1+L26)/(1+'Curves without VA'!F26)-1","v":7.1540344188458782E-2},{"$f":"(1+'Curves without VA'!M26)*(1+M26)/(1+'Curves without VA'!G26)-1","v":7.7615649821610733E-2},{"$f":"(1+'Curves without VA'!N26)*(1+H26)/(1+'Curves without VA'!B26)-1","v":1.4439272439894735E-2},{"$f":"(1+'Curves without VA'!O26)*(1+I26)/(1+'Curves without VA'!C26)-1","v":2.1166463128274637E-2},{"$f":"(1+'Curves without VA'!P26)*(1+J26)/(1+'Curves without VA'!D26)-1","v":8.3210001950155821E-3},{"$f":"(1+'Curves without VA'!Q26)*(1+K26)/(1+'Curves without VA'!E26)-1","v":2.335094470354715E-2},{"$f":"(1+'Curves without VA'!R26)*(1+L26)/(1+'Curves without VA'!F26)-1","v":2.3850230422631791E-2},{"$f":"(1+'Curves without VA'!S26)*(1+M26)/(1+'Curves without VA'!G26)-1","v":2.5529953109283188E-2}]
[14,{"$f":"($A27*LN(1+'Curves without VA'!B27)-IF(ISNUMBER($A26),$A26*LN(1+'Curves without VA'!B26),0)+($A27<=B$2)*LN(1+B$5/10000)+IF(ISNUMBER($A26),$A26*B26))/$A27","v":3.3277637791442848E-2},{"$f":"($A27*LN(1+'Curves without VA'!C27)-IF(ISNUMBER($A26),$A26*LN(1+'Curves without VA'!C26),0)+($A27<=C$2)*LN(1+C$5/10000)+IF(ISNUMBER($A26),$A26*C26))/$A27","v":4.4441030113397721E-2},{"$f":"($A27*LN(1+'Curves without VA'!D27)-IF(ISNUMBER($A26),$A26*LN(1+'Curves without VA'!D26),0)+($A27<=D$2)*LN(1+D$5/10000)+IF(ISNUMBER($A26),$A26*D26))/$A27","v":2.4054021741521377E-2},{"$f":"($A27*LN(1+'Curves without VA'!E27)-IF(ISNUMBER($A26),$A26*LN(1+'Curves without VA'!E26),0)+($A27<=E$2)*LN(1+E$5/10000)+IF(ISNUMBER($A26),$A26*E26))/$A27","v":4.6222153623931464E-2},{"$f":"($A27*LN(1+'Curves without VA'!F27)-IF(ISNUMBER($A26),$A26*LN(1+'Curves without VA'!F26),0)+($A27<=F$2)*LN(1+F$5/10000)+IF(ISNUMBER($A26),$A26*F26))/$A27","v":4.7601535312361838E-2},{"$f":"($A27*LN(1+'Curves without VA'!G27)-IF(ISNUMBER($A26),$A26*LN(1+'Curves without VA'!G26),0)+($A27<=G$2)*LN(1+G$5/10000)+IF(ISNUMBER($A26),$A26*G26))/$A27","v":5.1454549903866428E-2},3.3837531768507123E-2,4.5443325218345487E-2,2.4345653332062511E-2,4.7307048171500554E-2,4.8752681146522869E-2,5.2801335282826933E-2,{"$f":"(1+'Curves without VA'!H27)*(1+H27)/(1+'Curves without VA'!B27)-1","v":5.3006832971374207E-2},{"$f":"(1+'Curves without VA'!I27)*(1+I27)/(1+'Curves without VA'!C27)-1","v":6.7937399761665684E-2},{"$f":"(1+'Curves without VA'!J27)*(1+J27)/(1+'Curves without VA'!D27)-1","v":4.1073867088360361E-2},{"$f":"(1+'Curves without VA'!K27)*(1+K27)/(1+'Curves without VA'!E27)-1","v":6.9511337841235532E-2},{"$f":"(1+'Curves without VA'!L27)*(1+L27)/(1+'Curves without VA'!F27)-1","v":7.1574554599014517E-2},{"$f":"(1+'Curves without VA'!M27)*(1+M27)/(1+'Curves without VA'!G27)-1","v":7.7296999264846677E-2},{"$f":"(1+'Curves without VA'!N27)*(1+H27)/(1+'Curves without VA'!B27)-1","v":1.4458109080364157E-2},{"$f":"(1+'Curves without VA'!O27)*(1+I27)/(1+'Curves without VA'!C27)-1","v":2.1020833452273457E-2},{"$f":"(1+'Curves without VA'!P27)*(1+J27)/(1+'Curves without VA'!D27)-1","v":8.6591754559550704E-3},{"$f":"(1+'Curves without VA'!Q27)*(1+K27)/(1+'Curves without VA'!E27)-1","v":2.3352941676040073E-2},{"$f":"(1+'Curves without VA'!R27)*(1+L27)/(1+'Curves without VA'!F27)-1","v":2.3854691762052571E-2},{"$f":"(1+'Curves without VA'!S27)*(1+M27)/(1+'Curves without VA'!G27)-1","v":2.5346522008383277E-2}]
[15,{"$f":"($A28*LN(1+'Curves without VA'!B28)-IF(ISNUMBER($A27),$A27*LN(1+'Curves without VA'!B27),0)+($A28<=B$2)*LN(1+B$5/10000)+IF(ISNUMBER($A27),$A27*B27))/$A28","v":3.3611199975588105E-2},{"$f":"($A28*LN(1+'Curves without VA'!C28)-IF(ISNUMBER($A27),$A27*LN(1+'Curves without VA'!C27),0)+($A28<=C$2)*LN(1+C$5/10000)+IF(ISNUMBER($A27),$A27*C27))/$A28","v":4.4698312477682876E-2},{"$f":"($A28*LN(1+'Curves without VA'!D28)-IF(ISNUMBER($A27),$A27*LN(1+'Curves without VA'!D27),0)+($A28<=D$2)*LN(1+D$5/10000)+IF(ISNUMBER($A27),$A27*D27))/$A28","v":2.4740688570840063E-2},{"$f":"($A28*LN(1+'Curves without VA'!E28)-IF(ISNUMBER($A27),$A27*LN(1+'Curves without VA'!E27),0)+($A28<=E$2)*LN(1+E$5/10000)+IF(ISNUMBER($A27),$A27*E27))/$A28","v":4.6676928805308271E-2},{"$f":"($A28*LN(1+'Curves without VA'!F28)-IF(ISNUMBER($A27),$A27*LN(1+'Curves without VA'!F27),0)+($A28<=F$2)*LN(1+F$5/10000)+IF(ISNUMBER($A27),$A27*F27))/$A28","v":4.8090614174094368E-2},{"$f":"($A28*LN(1+'Curves without VA'!G28)-IF(ISNUMBER($A27),$A27*LN(1+'Curves without VA'!G27),0)+($A28<=G$2)*LN(1+G$5/10000)+IF(ISNUMBER($A27),$A27*G27))/$A28","v":5.1754826599977308E-2},3.418243839436097E-2,4.5712333952901529E-2,2.5049279064540464E-2,4.7783445742975106E-2,4.9265729364349475E-2,5.3117514457690085E-2,{"$f":"(1+'Curves without VA'!H28)*(1+H28)/(1+'Curves without VA'!B28)-1","v":5.2738881654782244E-2},{"$f":"(1+'Curves without VA'!I28)*(1+I28)/(1+'Curves without VA'!C28)-1","v":6.7457644729713939E-2},{"$f":"(1+'Curves without VA'!J28)*(1+J28)/(1+'Curves without VA'!D28)-1","v":4.1349305412611725E-2},{"$f":"(1+'Curves without VA'!K28)*(1+K28)/(1+'Curves without VA'!E28)-1","v":6.9306889851008302E-2},{"$f":"(1+'Curves without VA'!L28)*(1+L28)/(1+'Curves without VA'!F28)-1","v":7.1395757666367299E-2},{"$f":"(1+'Curves without VA'!M28)*(1+M28)/(1+'Curves without VA'!G28)-1","v":7.6808579255843279E-2},{"$f":"(1+'Curves without VA'!N28)*(1+H28)/(1+'Curves without VA'!B28)-1","v":1.4439883401898612E-2},{"$f":"(1+'Curves without VA'!O28)*(1+I28)/(1+'Curves without VA'!C28)-1","v":2.0846282619095824E-2},{"$f":"(1+'Curves without VA'!P28)*(1+J28)/(1+'Curves without VA'!D28)-1","v":8.9219177204973299E-3},{"$f":"(1+'Curves without VA'!Q28)*(1+K28)/(1+'Curves without VA'!E28)-1","v":2.3303787708636392E-2},{"$f":"(1+'Curves without VA'!R28)*(1+L28)/(1+'Curves without VA'!F28)-1","v":2.3804079430391978E-2},{"$f":"(1+'Curves without VA'!S28)*(1+M28)/(1+'Curves without VA'!G28)-1","v":2.5129108076729745E-2}]
[16,{"$f":"($A29*LN(1+'Curves without VA'!B29)-IF(ISNUMBER($A28),$A28*LN(1+'Curves without VA'!B28),0)+($A29<=B$2)*LN(1+B$5/10000)+IF(ISNUMBER($A28),$A28*B28))/$A29","v":3.3857637293191911E-2},{"$f":"($A29*LN(1+'Curves without VA'!C29)-IF(ISNUMBER($A28),$A28*LN(1+'Curves without VA'!C28),0)+($A29<=C$2)*LN(1+C$5/10000)+IF(ISNUMBER($A28),$A28*C28))/$A29","v":4.392081888380947E-2},{"$f":"($A29*LN(1+'Curves without VA'!D29)-IF(ISNUMBER($A28),$A28*LN(1+'Curves without VA'!D28),0)+($A29<=D$2)*LN(1+D$5/10000)+IF(ISNUMBER($A28),$A28*D28))/$A29","v":2.5625548131825295E-2},{"$f":"($A29*LN(1+'Curves without VA'!E29)-IF(ISNUMBER($A28),$A28*LN(1+'Curves without VA'!E28),0)+($A29<=E$2)*LN(1+E$5/10000)+IF(ISNUMBER($A28),$A28*E28))/$A29","v":4.7021398502675803E-2},{"$f":"($A29*LN(1+'Curves without VA'!F29)-IF(ISNUMBER($A28),$A28*LN(1+'Curves without VA'!F28),0)+($A29<=F$2)*LN(1+F$5/10000)+IF(ISNUMBER($A28),$A28*F28))/$A29","v":4.8511031049138335E-2},{"$f":"($A29*LN(1+'Curves without VA'!G29)-IF(ISNUMBER($A28),$A28*LN(1+'Curves without VA'!G28),0)+($A29<=G$2)*LN(1+G$5/10000)+IF(ISNUMBER($A28),$A28*G28))/$A29","v":5.194871665975908E-2},3.4437330946620381E-2,4.5892879018853083E-2,2.595670513271009E-2,4.814443756123854E-2,4.9706951125417786E-2,5.3321723271915422E-2,{"$f":"(1+'Curves without VA'!H29)*(1+H29)/(1+'Curves without VA'!B29)-1","v":5.306514412167429E-2},{"$f":"(1+'Curves without VA'!I29)*(1+I29)/(1+'Curves without VA'!C29)-1","v":6.8267537817256141E-2},{"$f":"(1+'Curves without VA'!J29)*(1+J29)/(1+'Curves without VA'!D29)-1","v":4.2510810779869068E-2},{"$f":"(1+'Curves without VA'!K29)*(1+K29)/(1+'Curves without VA'!E29)-1","v":6.9768959378385453E-2},{"$f":"(1+'Curves without VA'!L29)*(1+L29)/(1+'Curves without VA'!F29)-1","v":7.1960521520534781E-2},{"$f":"(1+'Curves without VA'!M29)*(1+M29)/(1+'Curves without VA'!G29)-1","v":7.7069966538051649E-2},{"$f":"(1+'Curves without VA'!N29)*(1+H29)/(1+'Curves without VA'!B29)-1","v":1.4051928181708639E-2},{"$f":"(1+'Curves without VA'!O29)*(1+I29)/(1+'Curves without VA'!C29)-1","v":2.159024664833642E-2},{"$f":"(1+'Curves without VA'!P29)*(1+J29)/(1+'Curves without VA'!D29)-1","v":9.0400871003364358E-3},{"$f":"(1+'Curves without VA'!Q29)*(1+K29)/(1+'Curves without VA'!E29)-1","v":2.2762627307456373E-2},{"$f":"(1+'Curves without VA'!R29)*(1+L29)/(1+'Curves without VA'!F29)-1","v":2.3261546336471151E-2},{"$f":"(1+'Curves without VA'!S29)*(1+M29)/(1+'Curves without VA'!G29)-1","v":2.434802683411541E-2}]
[17,{"$f":"($A30*LN(1+'Curves without VA'!B30)-IF(ISNUMBER($A29),$A29*LN(1+'Curves without VA'!B29),0)+($A30<=B$2)*LN(1+B$5/10000)+IF(ISNUMBER($A29),$A29*B29))/$A30","v":3.4075081985195238E-2},{"$f":"($A30*LN(1+'Curves without VA'!C30)-IF(ISNUMBER($A29),$A29*LN(1+'Curves without VA'!C29),0)+($A30<=C$2)*LN(1+C$5/10000)+IF(ISNUMBER($A29),$A29*C29))/$A30","v":4.3236074374230264E-2},{"$f":"($A30*LN(1+'Curves without VA'!D30)-IF(ISNUMBER($A29),$A29*LN(1+'Curves without VA'!D29),0)+($A30<=D$2)*LN(1+D$5/10000)+IF(ISNUMBER($A29),$A29*D29))/$A30","v":2.6406306567988837E-2},{"$f":"($A30*LN(1+'Curves without VA'!E30)-IF(ISNUMBER($A29),$A29*LN(1+'Curves without VA'!E29),0)+($A30<=E$2)*LN(1+E$5/10000)+IF(ISNUMBER($A29),$A29*E29))/$A30","v":4.7325342353294254E-2},{"$f":"($A30*LN(1+'Curves without VA'!F30)-IF(ISNUMBER($A29),$A29*LN(1+'Curves without VA'!F29),0)+($A30<=F$2)*LN(1+F$5/10000)+IF(ISNUMBER($A29),$A29*F29))/$A30","v":4.8881987115353638E-2},{"$f":"($A30*LN(1+'Curves without VA'!G30)-IF(ISNUMBER($A29),$A29*LN(1+'Curves without VA'!G29),0)+($A30<=G$2)*LN(1+G$5/10000)+IF(ISNUMBER($A29),$A29*G29))/$A30","v":5.2119796124272408E-2},3.4662288310450595E-2,4.5956112794765636E-2,2.6758042270039306E-2,4.8463063037269327E-2,5.0096418519866237E-2,5.3501940403578585E-2,{"$f":"(1+'Curves without VA'!H30)*(1+H30)/(1+'Curves without VA'!B30)-1","v":5.2735711679272379E-2},{"$f":"(1+'Curves without VA'!I30)*(1+I30)/(1+'Curves without VA'!C30)-1","v":6.8697792589371698E-2},{"$f":"(1+'Curves without VA'!J30)*(1+J30)/(1+'Curves without VA'!D30)-1","v":4.2987385957950153E-2},{"$f":"(1+'Curves without VA'!K30)*(1+K30)/(1+'Curves without VA'!E30)-1","v":6.9451615807332168E-2},{"$f":"(1+'Curves without VA'!L30)*(1+L30)/(1+'Curves without VA'!F30)-1","v":7.1710645720230337E-2},{"$f":"(1+'Curves without VA'!M30)*(1+M30)/(1+'Curves without VA'!G30)-1","v":7.6500872437545109E-2},{"$f":"(1+'Curves without VA'!N30)*(1+H30)/(1+'Curves without VA'!B30)-1","v":1.3954983696434331E-2},{"$f":"(1+'Curves without VA'!O30)*(1+I30)/(1+'Curves without VA'!C30)-1","v":2.2239155655122467E-2},{"$f":"(1+'Curves without VA'!P30)*(1+J30)/(1+'Curves without VA'!D30)-1","v":9.3164200054205448E-3},{"$f":"(1+'Curves without VA'!Q30)*(1+K30)/(1+'Curves without VA'!E30)-1","v":2.2608766029380112E-2},{"$f":"(1+'Curves without VA'!R30)*(1+L30)/(1+'Curves without VA'!F30)-1","v":2.3121737830330336E-2},{"$f":"(1+'Curves without VA'!S30)*(1+M30)/(1+'Curves without VA'!G30)-1","v":2.4045223384860703E-2}]
[18,{"$f":"($A31*LN(1+'Curves without VA'!B31)-IF(ISNUMBER($A30),$A30*LN(1+'Curves without VA'!B30),0)+($A31<=B$2)*LN(1+B$5/10000)+IF(ISNUMBER($A30),$A30*B30))/$A31","v":3.4268366155864892E-2},{"$f":"($A31*LN(1+'Curves without VA'!C31)-IF(ISNUMBER($A30),$A30*LN(1+'Curves without VA'!C30),0)+($A31<=C$2)*LN(1+C$5/10000)+IF(ISNUMBER($A30),$A30*C30))/$A31","v":4.2628494917085008E-2},{"$f":"($A31*LN(1+'Curves without VA'!D31)-IF(ISNUMBER($A30),$A30*LN(1+'Curves without VA'!D30),0)+($A31<=D$2)*LN(1+D$5/10000)+IF(ISNUMBER($A30),$A30*D30))/$A31","v":2.7100314066800853E-2},{"$f":"($A31*LN(1+'Curves without VA'!E31)-IF(ISNUMBER($A30),$A30*LN(1+'Curves without VA'!E30),0)+($A31<=E$2)*LN(1+E$5/10000)+IF(ISNUMBER($A30),$A30*E30))/$A31","v":4.7595514664955138E-2},{"$f":"($A31*LN(1+'Curves without VA'!F31)-IF(ISNUMBER($A30),$A30*LN(1+'Curves without VA'!F30),0)+($A31<=F$2)*LN(1+F$5/10000)+IF(ISNUMBER($A30),$A30*F30))/$A31","v":4.9211725840878497E-2},{"$f":"($A31*LN(1+'Curves without VA'!G31)-IF(ISNUMBER($A30),$A30*LN(1+'Curves without VA'!G30),0)+($A31<=G$2)*LN(1+G$5/10000)+IF(ISNUMBER($A30),$A30*G30))/$A31","v":5.2271866759395332E-2},3.4862291480870722E-2,4.5931022322057258E-2,2.7470867375213537E-2,4.8746366995420676E-2,5.0442733068108314E-2,5.3662159294744383E-2,{"$f":"(1+'Curves without VA'!H31)*(1+H31)/(1+'Curves without VA'!B31)-1","v":5.2270036310896995E-2},{"$f":"(1+'Curves without VA'!I31)*(1+I31)/(1+'Curves without VA'!C31)-1","v":6.8839343567449918E-2},{"$f":"(1+'Curves without VA'!J31)*(1+J31)/(1+'Curves without VA'!D31)-1","v":4.3236219087769312E-2},{"$f":"(1+'Curves without VA'!K31)*(1+K31)/(1+'Curves without VA'!E31)-1","v":6.8982781764230117E-2},{"$f":"(1+'Curves without VA'!L31)*(1+L31)/(1+'Curves without VA'!F31)-1","v":7.1298066025816675E-2},{"$f":"(1+'Curves without VA'!M31)*(1+M31)/(1+'Curves without VA'!G31)-1","v":7.5802612836378014E-2},{"$f":"(1+'Curves without VA'!N31)*(1+H31)/(1+'Curves without VA'!B31)-1","v":1.3840813425244125E-2},{"$f":"(1+'Curves without VA'!O31)*(1+I31)/(1+'Curves without VA'!C31)-1","v":2.2809554247026798E-2},{"$f":"(1+'Curves without VA'!P31)*(1+J31)/(1+'Curves without VA'!D31)-1","v":9.531585031358869E-3},{"$f":"(1+'Curves without VA'!Q31)*(1+K31)/(1+'Curves without VA'!E31)-1","v":2.2430518267664512E-2},{"$f":"(1+'Curves without VA'!R31)*(1+L31)/(1+'Curves without VA'!F31)-1","v":2.295213202473545E-2},{"$f":"(1+'Curves without VA'!S31)*(1+M31)/(1+'Curves without VA'!G31)-1","v":2.3728616490319654E-2}]
[19,{"$f":"($A32*LN(1+'Curves without VA'!B32)-IF(ISNUMBER($A31),$A31*LN(1+'Curves without VA'!B31),0)+($A32<=B$2)*LN(1+B$5/10000)+IF(ISNUMBER($A31),$A31*B31))/$A32","v":3.4441304624358779E-2},{"$f":"($A32*LN(1+'Curves without VA'!C32)-IF(ISNUMBER($A31),$A31*LN(1+'Curves without VA'!C31),0)+($A32<=C$2)*LN(1+C$5/10000)+IF(ISNUMBER($A31),$A31*C31))/$A32","v":4.2085789748750747E-2},{"$f":"($A32*LN(1+'Curves without VA'!D32)-IF(ISNUMBER($A31),$A31*LN(1+'Curves without VA'!D31),0)+($A32<=D$2)*LN(1+D$5/10000)+IF(ISNUMBER($A31),$A31*D31))/$A32","v":2.7721268144685229E-2},{"$f":"($A32*LN(1+'Curves without VA'!E32)-IF(ISNUMBER($A31),$A31*LN(1+'Curves without VA'!E31),0)+($A32<=E$2)*LN(1+E$5/10000)+IF(ISNUMBER($A31),$A31*E31))/$A32","v":4.7837247785914895E-2},{"$f":"($A32*LN(1+'Curves without VA'!F32)-IF(ISNUMBER($A31),$A31*LN(1+'Curves without VA'!F31),0)+($A32<=F$2)*LN(1+F$5/10000)+IF(ISNUMBER($A31),$A31*F31))/$A32","v":4.9506755226874338E-2},{"$f":"($A32*LN(1+'Curves without VA'!G32)-IF(ISNUMBER($A31),$A31*LN(1+'Curves without VA'!G31),0)+($A32<=G$2)*LN(1+G$5/10000)+IF(ISNUMBER($A31),$A31*G31))/$A32","v":5.2407929959242198E-2},3.5041274456736327E-2,4.5839580553319603E-2,2.8109077729371545E-2,4.8999914371974151E-2,5.0752690263661471E-2,5.3805533693464191E-2,{"$f":"(1+'Curves without VA'!H32)*(1+H32)/(1+'Curves without VA'!B32)-1","v":5.2495554860487958E-2},{"$f":"(1+'Curves without VA'!I32)*(1+I32)/(1+'Curves without VA'!C32)-1","v":6.8761459004318182E-2},{"$f":"(1+'Curves without VA'!J32)*(1+J32)/(1+'Curves without VA'!D32)-1","v":4.4040364134008358E-2},{"$f":"(1+'Curves without VA'!K32)*(1+K32)/(1+'Curves without VA'!E32)-1","v":6.9302251458687625E-2},{"$f":"(1+'Curves without VA'!L32)*(1+L32)/(1+'Curves without VA'!F32)-1","v":7.1688612092213555E-2},{"$f":"(1+'Curves without VA'!M32)*(1+M32)/(1+'Curves without VA'!G32)-1","v":7.5983264578765031E-2},{"$f":"(1+'Curves without VA'!N32)*(1+H32)/(1+'Curves without VA'!B32)-1","v":1.4132697732935462E-2},{"$f":"(1+'Curves without VA'!O32)*(1+I32)/(1+'Curves without VA'!C32)-1","v":2.3314444597196671E-2},{"$f":"(1+'Curves without VA'!P32)*(1+J32)/(1+'Curves without VA'!D32)-1","v":1.0057452601979655E-2},{"$f":"(1+'Curves without VA'!Q32)*(1+K32)/(1+'Curves without VA'!E32)-1","v":2.2761053129706665E-2},{"$f":"(1+'Curves without VA'!R32)*(1+L32)/(1+'Curves without VA'!F32)-1","v":2.3311294114467307E-2},{"$f":"(1+'Curves without VA'!S32)*(1+M32)/(1+'Curves without VA'!G32)-1","v":2.4002464183666694E-2}]
[20,{"$f":"($A33*LN(1+'Curves without VA'!B33)-IF(ISNUMBER($A32),$A32*LN(1+'Curves without VA'!B32),0)+($A33<=B$2)*LN(1+B$5/10000)+IF(ISNUMBER($A32),$A32*B32))/$A33","v":3.4596949246003469E-2},{"$f":"($A33*LN(1+'Curves without VA'!C33)-IF(ISNUMBER($A32),$A32*LN(1+'Curves without VA'!C32),0)+($A33<=C$2)*LN(1+C$5/10000)+IF(ISNUMBER($A32),$A32*C32))/$A33","v":4.1598136827787749E-2},{"$f":"($A33*LN(1+'Curves without VA'!D33)-IF(ISNUMBER($A32),$A32*LN(1+'Curves without VA'!D32),0)+($A33<=D$2)*LN(1+D$5/10000)+IF(ISNUMBER($A32),$A32*D32))/$A33","v":2.8280126814781009E-2},{"$f":"($A33*LN(1+'Curves without VA'!E33)-IF(ISNUMBER($A32),$A32*LN(1+'Curves without VA'!E32),0)+($A33<=E$2)*LN(1+E$5/10000)+IF(ISNUMBER($A32),$A32*E32))/$A33","v":4.8054807594778697E-2},{"$f":"($A33*LN(1+'Curves without VA'!F33)-IF(ISNUMBER($A32),$A32*LN(1+'Curves without VA'!F32),0)+($A33<=F$2)*LN(1+F$5/10000)+IF(ISNUMBER($A32),$A32*F32))/$A33","v":4.9772281674270509E-2},{"$f":"($A33*LN(1+'Curves without VA'!G33)-IF(ISNUMBER($A32),$A32*LN(1+'Curves without VA'!G32),0)+($A33<=G$2)*LN(1+G$5/10000)+IF(ISNUMBER($A32),$A32*G32))/$A33","v":5.2530386839104423E-2},3.5202385602002062E-2,4.5698582108636865E-2,2.8683805982240074E-2,4.9228159420417361E-2,5.1031729937166315E-2,5.3934587332693518E-2,{"$f":"(1+'Curves without VA'!H33)*(1+H33)/(1+'Curves without VA'!B33)-1","v":5.2075776062502355E-2},{"$f":"(1+'Curves without VA'!I33)*(1+I33)/(1+'Curves without VA'!C33)-1","v":6.851732813411604E-2},{"$f":"(1+'Curves without VA'!J33)*(1+J33)/(1+'Curves without VA'!D33)-1","v":4.4196127737799795E-2},{"$f":"(1+'Curves without VA'!K33)*(1+K33)/(1+'Curves without VA'!E33)-1","v":6.8857005075521727E-2},{"$f":"(1+'Curves without VA'!L33)*(1+L33)/(1+'Curves without VA'!F33)-1","v":7.1282454901457681E-2},{"$f":"(1+'Curves without VA'!M33)*(1+M33)/(1+'Curves without VA'!G33)-1","v":7.5341773665866585E-2},{"$f":"(1+'Curves without VA'!N33)*(1+H33)/(1+'Curves without VA'!B33)-1","v":1.4093593051001108E-2},{"$f":"(1+'Curves without VA'!O33)*(1+I33)/(1+'Curves without VA'!C33)-1","v":2.3764175222052986E-2},{"$f":"(1+'Curves without VA'!P33)*(1+J33)/(1+'Curves without VA'!D33)-1","v":1.0283120741120255E-2},{"$f":"(1+'Curves without VA'!Q33)*(1+K33)/(1+'Curves without VA'!E33)-1","v":2.26476872102086E-2},{"$f":"(1+'Curves without VA'!R33)*(1+L33)/(1+'Curves without VA'!F33)-1","v":2.3198566968583245E-2},{"$f":"(1+'Curves without VA'!S33)*(1+M33)/(1+'Curves without VA'!G33)-1","v":2.3765999916346869E-2}]
[21,{"$f":"($A34*LN(1+'Curves without VA'!B34)-IF(ISNUMBER($A33),$A33*LN(1+'Curves without VA'!B33),0)+($A34<=B$2)*LN(1+B$5/10000)+IF(ISNUMBER($A33),$A33*B33))/$A34","v":3.4485590471227547E-2},{"$f":"($A34*LN(1+'Curves without VA'!C34)-IF(ISNUMBER($A33),$A33*LN(1+'Curves without VA'!C33),0)+($A34<=C$2)*LN(1+C$5/10000)+IF(ISNUMBER($A33),$A33*C33))/$A34","v":4.1157593995392726E-2},{"$f":"($A34*LN(1+'Curves without VA'!D34)-IF(ISNUMBER($A33),$A33*LN(1+'Curves without VA'!D33),0)+($A34<=D$2)*LN(1+D$5/10000)+IF(ISNUMBER($A33),$A33*D33))/$A34","v":2.881050028201081E-2},{"$f":"($A34*LN(1+'Curves without VA'!E34)-IF(ISNUMBER($A33),$A33*LN(1+'Curves without VA'!E33),0)+($A34<=E$2)*LN(1+E$5/10000)+IF(ISNUMBER($A33),$A33*E33))/$A34","v":4.8083497191435468E-2},{"$f":"($A34*LN(1+'Curves without VA'!F34)-IF(ISNUMBER($A33),$A33*LN(1+'Curves without VA'!F33),0)+($A34<=F$2)*LN(1+F$5/10000)+IF(ISNUMBER($A33),$A33*F33))/$A34","v":4.9927775510623267E-2},{"$f":"($A34*LN(1+'Curves without VA'!G34)-IF(ISNUMBER($A33),$A33*LN(1+'Curves without VA'!G33),0)+($A34<=G$2)*LN(1+G$5/10000)+IF(ISNUMBER($A33),$A33*G33))/$A34","v":5.2459089971621353E-2},3.5133483488925199E-2,4.5520949228669672E-2,2.9229537287011498E-2,4.925826178492243E-2,5.1195171599738964E-2,5.3859447776724023E-2,{"$f":"(1+'Curves without VA'!H34)*(1+H34)/(1+'Curves without VA'!B34)-1","v":5.1589725337582104E-2},{"$f":"(1+'Curves without VA'!I34)*(1+I34)/(1+'Curves without VA'!C34)-1","v":6.8148062651746777E-2},{"$f":"(1+'Curves without VA'!J34)*(1+J34)/(1+'Curves without VA'!D34)-1","v":4.4778101723764285E-2},{"$f":"(1+'Curves without VA'!K34)*(1+K34)/(1+'Curves without VA'!E34)-1","v":6.8794020181152993E-2},{"$f":"(1+'Curves without VA'!L34)*(1+L34)/(1+'Curves without VA'!F34)-1","v":7.1386215019673793E-2},{"$f":"(1+'Curves without VA'!M34)*(1+M34)/(1+'Curves without VA'!G34)-1","v":7.5147485845904916E-2},{"$f":"(1+'Curves without VA'!N34)*(1+H34)/(1+'Curves without VA'!B34)-1","v":1.4005467594830456E-2},{"$f":"(1+'Curves without VA'!O34)*(1+I34)/(1+'Curves without VA'!C34)-1","v":2.4167076309306035E-2},{"$f":"(1+'Curves without VA'!P34)*(1+J34)/(1+'Curves without VA'!D34)-1","v":1.0929457411376076E-2},{"$f":"(1+'Curves without VA'!Q34)*(1+K34)/(1+'Curves without VA'!E34)-1","v":2.3194648860310307E-2},{"$f":"(1+'Curves without VA'!R34)*(1+L34)/(1+'Curves without VA'!F34)-1","v":2.3838585475866925E-2},{"$f":"(1+'Curves without VA'!S34)*(1+M34)/(1+'Curves without VA'!G34)-1","v":2.433105049112938E-2}]
[22,{"$f":"($A35*LN(1+'Curves without VA'!B35)-IF(ISNUMBER($A34),$A34*LN(1+'Curves without VA'!B34),0)+($A35<=B$2)*LN(1+B$5/10000)+IF(ISNUMBER($A34),$A34*B34))/$A35","v":3.4385343732579204E-2},{"$f":"($A35*LN(1+'Curves without VA'!C35)-IF(ISNUMBER($A34),$A34*LN(1+'Curves without VA'!C34),0)+($A35<=C$2)*LN(1+C$5/10000)+IF(ISNUMBER($A34),$A34*C34))/$A35","v":4.0757670832716621E-2},{"$f":"($A35*LN(1+'Curves without VA'!D35)-IF(ISNUMBER($A34),$A34*LN(1+'Curves without VA'!D34),0)+($A35<=D$2)*LN(1+D$5/10000)+IF(ISNUMBER($A34),$A34*D34))/$A35","v":2.9292657979492577E-2},{"$f":"($A35*LN(1+'Curves without VA'!E35)-IF(ISNUMBER($A34),$A34*LN(1+'Curves without VA'!E34),0)+($A35<=E$2)*LN(1+E$5/10000)+IF(ISNUMBER($A34),$A34*E34))/$A35","v":4.8109578642941499E-2},{"$f":"($A35*LN(1+'Curves without VA'!F35)-IF(ISNUMBER($A34),$A34*LN(1+'Curves without VA'!F34),0)+($A35<=F$2)*LN(1+F$5/10000)+IF(ISNUMBER($A34),$A34*F34))/$A35","v":5.0069133543671346E-2},{"$f":"($A35*LN(1+'Curves without VA'!G35)-IF(ISNUMBER($A34),$A34*LN(1+'Curves without VA'!G34),0)+($A35<=G$2)*LN(1+G$5/10000)+IF(ISNUMBER($A34),$A34*G34))/$A35","v":5.2394274637545826E-2},3.5067261893461987E-2,4.5316676014307777E-2,2.9725907885726155E-2,4.9285628320272501E-2,5.1343776984580813E-2,5.3791143738146197E-2,{"$f":"(1+'Curves without VA'!H35)*(1+H35)/(1+'Curves without VA'!B35)-1","v":5.1112506634983124E-2},{"$f":"(1+'Curves without VA'!I35)*(1+I35)/(1+'Curves without VA'!C35)-1","v":6.7685606342154481E-2},{"$f":"(1+'Curves without VA'!J35)*(1+J35)/(1+'Curves without VA'!D35)-1","v":4.4919940103300471E-2},{"$f":"(1+'Curves without VA'!K35)*(1+K35)/(1+'Curves without VA'!E35)-1","v":6.8195431367137793E-2},{"$f":"(1+'Curves without VA'!L35)*(1+L35)/(1+'Curves without VA'!F35)-1","v":7.0911646060880296E-2},{"$f":"(1+'Curves without VA'!M35)*(1+M35)/(1+'Curves without VA'!G35)-1","v":7.4359805110301158E-2},{"$f":"(1+'Curves without VA'!N35)*(1+H35)/(1+'Curves without VA'!B35)-1","v":1.4015828743582981E-2},{"$f":"(1+'Curves without VA'!O35)*(1+I35)/(1+'Curves without VA'!C35)-1","v":2.4529921933568177E-2},{"$f":"(1+'Curves without VA'!P35)*(1+J35)/(1+'Curves without VA'!D35)-1","v":1.090436183786303E-2},{"$f":"(1+'Curves without VA'!Q35)*(1+K35)/(1+'Curves without VA'!E35)-1","v":2.2777034510136129E-2},{"$f":"(1+'Curves without VA'!R35)*(1+L35)/(1+'Curves without VA'!F35)-1","v":2.3455132452290473E-2},{"$f":"(1+'Curves without VA'!S35)*(1+M35)/(1+'Curves without VA'!G35)-1","v":2.3794641494073066E-2}]
[23,{"$f":"($A36*LN(1+'Curves without VA'!B36)-IF(ISNUMBER($A35),$A35*LN(1+'Curves without VA'!B35),0)+($A36<=B$2)*LN(1+B$5/10000)+IF(ISNUMBER($A35),$A35*B35))/$A36","v":3.4294661141841494E-2},{"$f":"($A36*LN(1+'Curves without VA'!C36)-IF(ISNUMBER($A35),$A35*LN(1+'Curves without VA'!C35),0)+($A36<=C$2)*LN(1+C$5/10000)+IF(ISNUMBER($A35),$A35*C35))/$A36","v":4.0393012296913833E-2},{"$f":"($A36*LN(1+'Curves without VA'!D36)-IF(ISNUMBER($A35),$A35*LN(1+'Curves without VA'!D35),0)+($A36<=D$2)*LN(1+D$5/10000)+IF(ISNUMBER($A35),$A35*D35))/$A36","v":2.973288892067143E-2},{"$f":"($A36*LN(1+'Curves without VA'!E36)-IF(ISNUMBER($A35),$A35*LN(1+'Curves without VA'!E35),0)+($A36<=E$2)*LN(1+E$5/10000)+IF(ISNUMBER($A35),$A35*E35))/$A36","v":4.8133392142142691E-2},{"$f":"($A36*LN(1+'Curves without VA'!F36)-IF(ISNUMBER($A35),$A35*LN(1+'Curves without VA'!F35),0)+($A36<=F$2)*LN(1+F$5/10000)+IF(ISNUMBER($A35),$A35*F35))/$A36","v":5.0198199573845664E-2},{"$f":"($A36*LN(1+'Curves without VA'!G36)-IF(ISNUMBER($A35),$A35*LN(1+'Curves without VA'!G35),0)+($A36<=G$2)*LN(1+G$5/10000)+IF(ISNUMBER($A35),$A35*G35))/$A36","v":5.2335095419476785E-2},3.5003728692156288E-2,4.5093520992051994E-2,3.0179324888085057E-2,4.9310615780262523E-2,5.1479478509264931E-2,5.3728783047498396E-2,{"$f":"(1+'Curves without VA'!H36)*(1+H36)/(1+'Curves without VA'!B36)-1","v":5.0646526298667283E-2},{"$f":"(1+'Curves without VA'!I36)*(1+I36)/(1+'Curves without VA'!C36)-1","v":6.7154879484110808E-2},{"$f":"(1+'Curves without VA'!J36)*(1+J36)/(1+'Curves without VA'!D36)-1","v":4.51816067512254E-2},{"$f":"(1+'Curves without VA'!K36)*(1+K36)/(1+'Curves without VA'!E36)-1","v":6.7924577267525432E-2},{"$f":"(1+'Curves without VA'!L36)*(1+L36)/(1+'Curves without VA'!F36)-1","v":7.0778290071488392E-2},{"$f":"(1+'Curves without VA'!M36)*(1+M36)/(1+'Curves without VA'!G36)-1","v":7.3981387728897952E-2},{"$f":"(1+'Curves without VA'!N36)*(1+H36)/(1+'Curves without VA'!B36)-1","v":1.4102817291866687E-2},{"$f":"(1+'Curves without VA'!O36)*(1+I36)/(1+'Curves without VA'!C36)-1","v":2.4858271672961729E-2},{"$f":"(1+'Curves without VA'!P36)*(1+J36)/(1+'Curves without VA'!D36)-1","v":1.0948481735161719E-2},{"$f":"(1+'Curves without VA'!Q36)*(1+K36)/(1+'Curves without VA'!E36)-1","v":2.2458319932328497E-2},{"$f":"(1+'Curves without VA'!R36)*(1+L36)/(1+'Curves without VA'!F36)-1","v":2.3162926389539873E-2},{"$f":"(1+'Curves without VA'!S36)*(1+M36)/(1+'Curves without VA'!G36)-1","v":2.3362874193274319E-2}]
[24,{"$f":"($A37*LN(1+'Curves without VA'!B37)-IF(ISNUMBER($A36),$A36*LN(1+'Curves without VA'!B36),0)+($A37<=B$2)*LN(1+B$5/10000)+IF(ISNUMBER($A36),$A36*B36))/$A37","v":3.4212262624212196E-2},{"$f":"($A37*LN(1+'Curves without VA'!C37)-IF(ISNUMBER($A36),$A36*LN(1+'Curves without VA'!C36),0)+($A37<=C$2)*LN(1+C$5/10000)+IF(ISNUMBER($A36),$A36*C36))/$A37","v":4.0059161524875937E-2},{"$f":"($A37*LN(1+'Curves without VA'!D37)-IF(ISNUMBER($A36),$A36*LN(1+'Curves without VA'!D36),0)+($A37<=D$2)*LN(1+D$5/10000)+IF(ISNUMBER($A36),$A36*D36))/$A37","v":3.0136433950085317E-2},{"$f":"($A37*LN(1+'Curves without VA'!E37)-IF(ISNUMBER($A36),$A36*LN(1+'Curves without VA'!E36),0)+($A37<=E$2)*LN(1+E$5/10000)+IF(ISNUMBER($A36),$A36*E36))/$A37","v":4.8155221183076968E-2},{"$f":"($A37*LN(1+'Curves without VA'!F37)-IF(ISNUMBER($A36),$A36*LN(1+'Curves without VA'!F36),0)+($A37<=F$2)*LN(1+F$5/10000)+IF(ISNUMBER($A36),$A36*F36))/$A37","v":5.0316510101505264E-2},{"$f":"($A37*LN(1+'Curves without VA'!G37)-IF(ISNUMBER($A36),$A36*LN(1+'Curves without VA'!G36),0)+($A37<=G$2)*LN(1+G$5/10000)+IF(ISNUMBER($A36),$A36*G36))/$A37","v":5.2280847802913588E-2},3.4942854706097037E-2,4.4857521582290616E-2,3.0595132526958668E-2,4.9333521474650865E-2,5.1603886960460255E-2,5.3671622322944534E-2,{"$f":"(1+'Curves without VA'!H37)*(1+H37)/(1+'Curves without VA'!B37)-1","v":5.0193430572996967E-2},{"$f":"(1+'Curves without VA'!I37)*(1+I37)/(1+'Curves without VA'!C37)-1","v":6.6575378355478332E-2},{"$f":"(1+'Curves without VA'!J37)*(1+J37)/(1+'Curves without VA'!D37)-1","v":4.5209891108159095E-2},{"$f":"(1+'Curves without VA'!K37)*(1+K37)/(1+'Curves without VA'!E37)-1","v":6.7319704413820736E-2},{"$f":"(1+'Curves without VA'!L37)*(1+L37)/(1+'Curves without VA'!F37)-1","v":7.0269629761366081E-2},{"$f":"(1+'Curves without VA'!M37)*(1+M37)/(1+'Curves without VA'!G37)-1","v":7.3209402957221892E-2},{"$f":"(1+'Curves without VA'!N37)*(1+H37)/(1+'Curves without VA'!B37)-1","v":1.4249131936460158E-2},{"$f":"(1+'Curves without VA'!O37)*(1+I37)/(1+'Curves without VA'!C37)-1","v":2.5156726705350962E-2},{"$f":"(1+'Curves without VA'!P37)*(1+J37)/(1+'Curves without VA'!D37)-1","v":1.1152227478209875E-2},{"$f":"(1+'Curves without VA'!Q37)*(1+K37)/(1+'Curves without VA'!E37)-1","v":2.2469543722579033E-2},{"$f":"(1+'Curves without VA'!R37)*(1+L37)/(1+'Curves without VA'!F37)-1","v":2.322388653062557E-2},{"$f":"(1+'Curves without VA'!S37)*(1+M37)/(1+'Curves without VA'!G37)-1","v":2.3334865438242813E-2}]
[25,{"$f":"($A38*LN(1+'Curves without VA'!B38)-IF(ISNUMBER($A37),$A37*LN(1+'Curves without VA'!B37),0)+($A38<=B$2)*LN(1+B$5/10000)+IF(ISNUMBER($A37),$A37*B37))/$A38","v":3.4137081372423106E-2},{"$f":"($A38*LN(1+'Curves without VA'!C38)-IF(ISNUMBER($A37),$A37*LN(1+'Curves without VA'!C37),0)+($A38<=C$2)*LN(1+C$5/10000)+IF(ISNUMBER($A37),$A37*C37))/$A38","v":3.9752379630029401E-2},{"$f":"($A38*LN(1+'Curves without VA'!D38)-IF(ISNUMBER($A37),$A37*LN(1+'Curves without VA'!D37),0)+($A38<=D$2)*LN(1+D$5/10000)+IF(ISNUMBER($A37),$A37*D37))/$A38","v":3.0507695377146281E-2},{"$f":"($A38*LN(1+'Curves without VA'!E38)-IF(ISNUMBER($A37),$A37*LN(1+'Curves without VA'!E37),0)+($A38<=E$2)*LN(1+E$5/10000)+IF(ISNUMBER($A37),$A37*E37))/$A38","v":4.8175303900736793E-2},{"$f":"($A38*LN(1+'Curves without VA'!F38)-IF(ISNUMBER($A37),$A37*LN(1+'Curves without VA'!F37),0)+($A38<=F$2)*LN(1+F$5/10000)+IF(ISNUMBER($A37),$A37*F37))/$A38","v":5.0425355786952245E-2},{"$f":"($A38*LN(1+'Curves without VA'!G38)-IF(ISNUMBER($A37),$A37*LN(1+'Curves without VA'!G37),0)+($A38<=G$2)*LN(1+G$5/10000)+IF(ISNUMBER($A37),$A37*G37))/$A38","v":5.2230939995675421E-2},3.4884584693367415E-2,4.4613380611871811E-2,3.0977823781437763E-2,4.9354595155101322E-2,5.1718355735958177E-2,5.3619037194940544E-2,{"$f":"(1+'Curves without VA'!H38)*(1+H38)/(1+'Curves without VA'!B38)-1","v":4.9754293937485317E-2},{"$f":"(1+'Curves without VA'!I38)*(1+I38)/(1+'Curves without VA'!C38)-1","v":6.5962381146799531E-2},{"$f":"(1+'Curves without VA'!J38)*(1+J38)/(1+'Curves without VA'!D38)-1","v":4.5189457323353999E-2},{"$f":"(1+'Curves without VA'!K38)*(1+K38)/(1+'Curves without VA'!E38)-1","v":6.6712138389223741E-2},{"$f":"(1+'Curves without VA'!L38)*(1+L38)/(1+'Curves without VA'!F38)-1","v":6.9746354877868733E-2},{"$f":"(1+'Curves without VA'!M38)*(1+M38)/(1+'Curves without VA'!G38)-1","v":7.2444143627827362E-2},{"$f":"(1+'Curves without VA'!N38)*(1+H38)/(1+'Curves without VA'!B38)-1","v":1.4441020183790121E-2},{"$f":"(1+'Curves without VA'!O38)*(1+I38)/(1+'Curves without VA'!C38)-1","v":2.5429124278893767E-2},{"$f":"(1+'Curves without VA'!P38)*(1+J38)/(1+'Curves without VA'!D38)-1","v":1.1149172600090074E-2},{"$f":"(1+'Curves without VA'!Q38)*(1+K38)/(1+'Curves without VA'!E38)-1","v":2.2148221724448636E-2},{"$f":"(1+'Curves without VA'!R38)*(1+L38)/(1+'Curves without VA'!F38)-1","v":2.2917530633259853E-2},{"$f":"(1+'Curves without VA'!S38)*(1+M38)/(1+'Curves without VA'!G38)-1","v":2.2909609228571659E-2}]
[26,{"$f":"($A39*LN(1+'Curves without VA'!B39)-IF(ISNUMBER($A38),$A38*LN(1+'Curves without VA'!B38),0)+($A39<=B$2)*LN(1+B$5/10000)+IF(ISNUMBER($A38),$A38*B38))/$A39","v":3.4068221986848966E-2},{"$f":"($A39*LN(1+'Curves without VA'!C39)-IF(ISNUMBER($A38),$A38*LN(1+'Curves without VA'!C38),0)+($A39<=C$2)*LN(1+C$5/10000)+IF(ISNUMBER($A38),$A38*C38))/$A39","v":3.9469507141303255E-2},{"$f":"($A39*LN(1+'Curves without VA'!D39)-IF(ISNUMBER($A38),$A38*LN(1+'Curves without VA'!D38),0)+($A39<=D$2)*LN(1+D$5/10000)+IF(ISNUMBER($A38),$A38*D38))/$A39","v":3.0850398232894691E-2},{"$f":"($A39*LN(1+'Curves without VA'!E39)-IF(ISNUMBER($A38),$A38*LN(1+'Curves without VA'!E38),0)+($A39<=E$2)*LN(1+E$5/10000)+IF(ISNUMBER($A38),$A38*E38))/$A39","v":4.803708729758048E-2},{"$f":"($A39*LN(1+'Curves without VA'!F39)-IF(ISNUMBER($A38),$A38*LN(1+'Curves without VA'!F38),0)+($A39<=F$2)*LN(1+F$5/10000)+IF(ISNUMBER($A38),$A38*F38))/$A39","v":5.0394837155162429E-2},{"$f":"($A39*LN(1+'Curves without VA'!G39)-IF(ISNUMBER($A38),$A38*LN(1+'Curves without VA'!G38),0)+($A39<=G$2)*LN(1+G$5/10000)+IF(ISNUMBER($A38),$A38*G38))/$A39","v":5.2022861661356661E-2},3.4828845445132428E-2,4.436475963284181E-2,3.1331203374500127E-2,4.9209566950336292E-2,5.1686259220486308E-2,5.3399824708149968E-2,{"$f":"(1+'Curves without VA'!H39)*(1+H39)/(1+'Curves without VA'!B39)-1","v":4.9329760318578275E-2},{"$f":"(1+'Curves without VA'!I39)*(1+I39)/(1+'Curves without VA'!C39)-1","v":6.5327865887425229E-2},{"$f":"(1+'Curves without VA'!J39)*(1+J39)/(1+'Curves without VA'!D39)-1","v":4.5420200136889965E-2},{"$f":"(1+'Curves without VA'!K39)*(1+K39)/(1+'Curves without VA'!E39)-1","v":6.6333978279410344E-2},{"$f":"(1+'Curves without VA'!L39)*(1+L39)/(1+'Curves without VA'!F39)-1","v":6.9506113208993359E-2},{"$f":"(1+'Curves without VA'!M39)*(1+M39)/(1+'Curves without VA'!G39)-1","v":7.1975977643942812E-2},{"$f":"(1+'Curves without VA'!N39)*(1+H39)/(1+'Curves without VA'!B39)-1","v":1.4667513896099216E-2},{"$f":"(1+'Curves without VA'!O39)*(1+I39)/(1+'Curves without VA'!C39)-1","v":2.5678687124025545E-2},{"$f":"(1+'Curves without VA'!P39)*(1+J39)/(1+'Curves without VA'!D39)-1","v":1.1418984949760125E-2},{"$f":"(1+'Curves without VA'!Q39)*(1+K39)/(1+'Curves without VA'!E39)-1","v":2.2179221036161323E-2},{"$f":"(1+'Curves without VA'!R39)*(1+L39)/(1+'Curves without VA'!F39)-1","v":2.300266626583336E-2},{"$f":"(1+'Curves without VA'!S39)*(1+M39)/(1+'Curves without VA'!G39)-1","v":2.2904750609912261E-2}]
[27,{"$f":"($A40*LN(1+'Curves without VA'!B40)-IF(ISNUMBER($A39),$A39*LN(1+'Curves without VA'!B39),0)+($A40<=B$2)*LN(1+B$5/10000)+IF(ISNUMBER($A39),$A39*B39))/$A40","v":3.4004928002762558E-2},{"$f":"($A40*LN(1+'Curves without VA'!C40)-IF(ISNUMBER($A39),$A39*LN(1+'Curves without VA'!C39),0)+($A40<=C$2)*LN(1+C$5/10000)+IF(ISNUMBER($A39),$A39*C39))/$A40","v":3.9207856282449119E-2},{"$f":"($A40*LN(1+'Curves without VA'!D40)-IF(ISNUMBER($A39),$A39*LN(1+'Curves without VA'!D39),0)+($A40<=D$2)*LN(1+D$5/10000)+IF(ISNUMBER($A39),$A39*D39))/$A40","v":3.1167715691921182E-2},{"$f":"($A40*LN(1+'Curves without VA'!E40)-IF(ISNUMBER($A39),$A39*LN(1+'Curves without VA'!E39),0)+($A40<=E$2)*LN(1+E$5/10000)+IF(ISNUMBER($A39),$A39*E39))/$A40","v":4.7909108961324727E-2},{"$f":"($A40*LN(1+'Curves without VA'!F40)-IF(ISNUMBER($A39),$A39*LN(1+'Curves without VA'!F39),0)+($A40<=F$2)*LN(1+F$5/10000)+IF(ISNUMBER($A39),$A39*F39))/$A40","v":5.0366579162764415E-2},{"$f":"($A40*LN(1+'Curves without VA'!G40)-IF(ISNUMBER($A39),$A39*LN(1+'Curves without VA'!G39),0)+($A40<=G$2)*LN(1+G$5/10000)+IF(ISNUMBER($A39),$A39*G39))/$A40","v":5.1830196536987533E-2},3.4775551772449287E-2,4.4114503524642412E-2,3.1658514699422158E-2,4.9075299447423504E-2,5.1656541098057396E-2,5.3196890849678269E-2,{"$f":"(1+'Curves without VA'!H40)*(1+H40)/(1+'Curves without VA'!B40)-1","v":4.8920149754625664E-2},{"$f":"(1+'Curves without VA'!I40)*(1+I40)/(1+'Curves without VA'!C40)-1","v":6.4681215182007756E-2},{"$f":"(1+'Curves without VA'!J40)*(1+J40)/(1+'Curves without VA'!D40)-1","v":4.5321569016300911E-2},{"$f":"(1+'Curves without VA'!K40)*(1+K40)/(1+'Curves without VA'!E40)-1","v":6.5539478231382509E-2},{"$f":"(1+'Curves without VA'!L40)*(1+L40)/(1+'Curves without VA'!F40)-1","v":6.8806403768649549E-2},{"$f":"(1+'Curves without VA'!M40)*(1+M40)/(1+'Curves without VA'!G40)-1","v":7.10320401781106E-2},{"$f":"(1+'Curves without VA'!N40)*(1+H40)/(1+'Curves without VA'!B40)-1","v":1.4919844231287005E-2},{"$f":"(1+'Curves without VA'!O40)*(1+I40)/(1+'Curves without VA'!C40)-1","v":2.5908139479944525E-2},{"$f":"(1+'Curves without VA'!P40)*(1+J40)/(1+'Curves without VA'!D40)-1","v":1.1378713883728464E-2},{"$f":"(1+'Curves without VA'!Q40)*(1+K40)/(1+'Curves without VA'!E40)-1","v":2.178591749028902E-2},{"$f":"(1+'Curves without VA'!R40)*(1+L40)/(1+'Curves without VA'!F40)-1","v":2.2626574116086928E-2},{"$f":"(1+'Curves without VA'!S40)*(1+M40)/(1+'Curves without VA'!G40)-1","v":2.2412074324348774E-2}]
[28,{"$f":"($A41*LN(1+'Curves without VA'!B41)-IF(ISNUMBER($A40),$A40*LN(1+'Curves without VA'!B40),0)+($A41<=B$2)*LN(1+B$5/10000)+IF(ISNUMBER($A40),$A40*B40))/$A41","v":3.3946556449422891E-2},{"$f":"($A41*LN(1+'Curves without VA'!C41)-IF(ISNUMBER($A40),$A40*LN(1+'Curves without VA'!C40),0)+($A41<=C$2)*LN(1+C$5/10000)+IF(ISNUMBER($A40),$A40*C40))/$A41","v":3.8965126376704996E-2},{"$f":"($A41*LN(1+'Curves without VA'!D41)-IF(ISNUMBER($A40),$A40*LN(1+'Curves without VA'!D40),0)+($A41<=D$2)*LN(1+D$5/10000)+IF(ISNUMBER($A40),$A40*D40))/$A41","v":3.1462367618159889E-2},{"$f":"($A41*LN(1+'Curves without VA'!E41)-IF(ISNUMBER($A40),$A40*LN(1+'Curves without VA'!E40),0)+($A41<=E$2)*LN(1+E$5/10000)+IF(ISNUMBER($A40),$A40*E40))/$A41","v":4.7790271934801419E-2},{"$f":"($A41*LN(1+'Curves without VA'!F41)-IF(ISNUMBER($A40),$A40*LN(1+'Curves without VA'!F40),0)+($A41<=F$2)*LN(1+F$5/10000)+IF(ISNUMBER($A40),$A40*F40))/$A41","v":5.0340339598394769E-2},{"$f":"($A41*LN(1+'Curves without VA'!G41)-IF(ISNUMBER($A40),$A40*LN(1+'Curves without VA'!G40),0)+($A41<=G$2)*LN(1+G$5/10000)+IF(ISNUMBER($A40),$A40*G40))/$A41","v":5.1651293207216113E-2},3.4724610942371115E-2,4.3864813860684748E-2,3.1962539656569033E-2,4.8950637865590618E-2,5.1628946450589908E-2,5.3008487272516502E-2,{"$f":"(1+'Curves without VA'!H41)*(1+H41)/(1+'Curves without VA'!B41)-1","v":4.8525539466082845E-2},{"$f":"(1+'Curves without VA'!I41)*(1+I41)/(1+'Curves without VA'!C41)-1","v":6.4029761449827305E-2},{"$f":"(1+'Curves without VA'!J41)*(1+J41)/(1+'Curves without VA'!D41)-1","v":4.5489058924448544E-2},{"$f":"(1+'Curves without VA'!K41)*(1+K41)/(1+'Curves without VA'!E41)-1","v":6.5187412017364776E-2},{"$f":"(1+'Curves without VA'!L41)*(1+L41)/(1+'Curves without VA'!F41)-1","v":6.8571930325213915E-2},{"$f":"(1+'Curves without VA'!M41)*(1+M41)/(1+'Curves without VA'!G41)-1","v":7.0603345099745196E-2},{"$f":"(1+'Curves without VA'!N41)*(1+H41)/(1+'Curves without VA'!B41)-1","v":1.5190989761531215E-2},{"$f":"(1+'Curves without VA'!O41)*(1+I41)/(1+'Curves without VA'!C41)-1","v":2.6119798082272494E-2},{"$f":"(1+'Curves without VA'!P41)*(1+J41)/(1+'Curves without VA'!D41)-1","v":1.1621795758587572E-2},{"$f":"(1+'Curves without VA'!Q41)*(1+K41)/(1+'Curves without VA'!E41)-1","v":2.1827939396827478E-2},{"$f":"(1+'Curves without VA'!R41)*(1+L41)/(1+'Curves without VA'!F41)-1","v":2.2714146591777284E-2},{"$f":"(1+'Curves without VA'!S41)*(1+M41)/(1+'Curves without VA'!G41)-1","v":2.2423888018082705E-2}]
[29,{"$f":"($A42*LN(1+'Curves without VA'!B42)-IF(ISNUMBER($A41),$A41*LN(1+'Curves without VA'!B41),0)+($A42<=B$2)*LN(1+B$5/10000)+IF(ISNUMBER($A41),$A41*B41))/$A42","v":3.3892557736270555E-2},{"$f":"($A42*LN(1+'Curves without VA'!C42)-IF(ISNUMBER($A41),$A41*LN(1+'Curves without VA'!C41),0)+($A42<=C$2)*LN(1+C$5/10000)+IF(ISNUMBER($A41),$A41*C41))/$A42","v":3.8739336790561227E-2},{"$f":"($A42*LN(1+'Curves without VA'!D42)-IF(ISNUMBER($A41),$A41*LN(1+'Curves without VA'!D41),0)+($A42<=D$2)*LN(1+D$5/10000)+IF(ISNUMBER($A41),$A41*D41))/$A42","v":3.1736698721899555E-2},{"$f":"($A42*LN(1+'Curves without VA'!E42)-IF(ISNUMBER($A41),$A41*LN(1+'Curves without VA'!E41),0)+($A42<=E$2)*LN(1+E$5/10000)+IF(ISNUMBER($A41),$A41*E41))/$A42","v":4.7679630565279851E-2},{"$f":"($A42*LN(1+'Curves without VA'!F42)-IF(ISNUMBER($A41),$A41*LN(1+'Curves without VA'!F41),0)+($A42<=F$2)*LN(1+F$5/10000)+IF(ISNUMBER($A41),$A41*F41))/$A42","v":5.0315909659154057E-2},{"$f":"($A42*LN(1+'Curves without VA'!G42)-IF(ISNUMBER($A41),$A41*LN(1+'Curves without VA'!G41),0)+($A42<=G$2)*LN(1+G$5/10000)+IF(ISNUMBER($A41),$A41*G41))/$A42","v":5.1484728038118613E-2},3.4675925964674059E-2,4.3617383685615518E-2,3.2245677914130688E-2,4.8834586950591063E-2,5.1603255533139381E-2,5.2833107342272312E-2,{"$f":"(1+'Curves without VA'!H42)*(1+H42)/(1+'Curves without VA'!B42)-1","v":4.8145825784596585E-2},{"$f":"(1+'Curves without VA'!I42)*(1+I42)/(1+'Curves without VA'!C42)-1","v":6.3379211683772363E-2},{"$f":"(1+'Curves without VA'!J42)*(1+J42)/(1+'Curves without VA'!D42)-1","v":4.5327833646956472E-2},{"$f":"(1+'Curves without VA'!K42)*(1+K42)/(1+'Curves without VA'!E42)-1","v":6.4418703840709135E-2},{"$f":"(1+'Curves without VA'!L42)*(1+L42)/(1+'Curves without VA'!F42)-1","v":6.7877923839767096E-2},{"$f":"(1+'Curves without VA'!M42)*(1+M42)/(1+'Curves without VA'!G42)-1","v":6.9698415060726715E-2},{"$f":"(1+'Curves without VA'!N42)*(1+H42)/(1+'Curves without VA'!B42)-1","v":1.5475324572644222E-2},{"$f":"(1+'Curves without VA'!O42)*(1+I42)/(1+'Curves without VA'!C42)-1","v":2.6315644161142515E-2},{"$f":"(1+'Curves without VA'!P42)*(1+J42)/(1+'Curves without VA'!D42)-1","v":1.1955251029641456E-2},{"$f":"(1+'Curves without VA'!Q42)*(1+K42)/(1+'Curves without VA'!E42)-1","v":2.197462116677773E-2},{"$f":"(1+'Curves without VA'!R42)*(1+L42)/(1+'Curves without VA'!F42)-1","v":2.2903155780575446E-2},{"$f":"(1+'Curves without VA'!S42)*(1+M42)/(1+'Curves without VA'!G42)-1","v":2.254218620086812E-2}]
[30,{"$f":"($A43*LN(1+'Curves without VA'!B43)-IF(ISNUMBER($A42),$A42*LN(1+'Curves without VA'!B42),0)+($A43<=B$2)*LN(1+B$5/10000)+IF(ISNUMBER($A42),$A42*B42))/$A43","v":3.3842459616852047E-2},{"$f":"($A43*LN(1+'Curves without VA'!C43)-IF(ISNUMBER($A42),$A42*LN(1+'Curves without VA'!C42),0)+($A43<=C$2)*LN(1+C$5/10000)+IF(ISNUMBER($A42),$A42*C42))/$A43","v":3.8528773320488124E-2},{"$f":"($A43*LN(1+'Curves without VA'!D43)-IF(ISNUMBER($A42),$A42*LN(1+'Curves without VA'!D42),0)+($A43<=D$2)*LN(1+D$5/10000)+IF(ISNUMBER($A42),$A42*D42))/$A43","v":3.1992741085389728E-2},{"$f":"($A43*LN(1+'Curves without VA'!E43)-IF(ISNUMBER($A42),$A42*LN(1+'Curves without VA'!E42),0)+($A43<=E$2)*LN(1+E$5/10000)+IF(ISNUMBER($A42),$A42*E42))/$A43","v":4.7576365287059622E-2},{"$f":"($A43*LN(1+'Curves without VA'!F43)-IF(ISNUMBER($A42),$A42*LN(1+'Curves without VA'!F42),0)+($A43<=F$2)*LN(1+F$5/10000)+IF(ISNUMBER($A42),$A42*F42))/$A43","v":5.0293108382529421E-2},{"$f":"($A43*LN(1+'Curves without VA'!G43)-IF(ISNUMBER($A42),$A42*LN(1+'Curves without VA'!G42),0)+($A43<=G$2)*LN(1+G$5/10000)+IF(ISNUMBER($A42),$A42*G42))/$A43","v":5.1329267213627613E-2},3.4629398020789015E-2,4.337350296056508E-2,3.2510010375916387E-2,4.8726284347208271E-2,5.1579277909771903E-2,5.2669445761165168E-2,{"$f":"(1+'Curves without VA'!H43)*(1+H43)/(1+'Curves without VA'!B43)-1","v":4.7780771647371489E-2},{"$f":"(1+'Curves without VA'!I43)*(1+I43)/(1+'Curves without VA'!C43)-1","v":6.2733980400950795E-2},{"$f":"(1+'Curves without VA'!J43)*(1+J43)/(1+'Curves without VA'!D43)-1","v":4.5544842456099355E-2},{"$f":"(1+'Curves without VA'!K43)*(1+K43)/(1+'Curves without VA'!E43)-1","v":6.4188127866650069E-2},{"$f":"(1+'Curves without VA'!L43)*(1+L43)/(1+'Curves without VA'!F43)-1","v":6.7748608731726279E-2},{"$f":"(1+'Curves without VA'!M43)*(1+M43)/(1+'Curves without VA'!G43)-1","v":6.9401657788398019E-2},{"$f":"(1+'Curves without VA'!N43)*(1+H43)/(1+'Curves without VA'!B43)-1","v":1.5768342188454021E-2},{"$f":"(1+'Curves without VA'!O43)*(1+I43)/(1+'Curves without VA'!C43)-1","v":2.6497380888695243E-2},{"$f":"(1+'Curves without VA'!P43)*(1+J43)/(1+'Curves without VA'!D43)-1","v":1.2179677431680691E-2},{"$f":"(1+'Curves without VA'!Q43)*(1+K43)/(1+'Curves without VA'!E43)-1","v":2.2024331793187857E-2},{"$f":"(1+'Curves without VA'!R43)*(1+L43)/(1+'Curves without VA'!F43)-1","v":2.2992428257592845E-2},{"$f":"(1+'Curves without VA'!S43)*(1+M43)/(1+'Curves without VA'!G43)-1","v":2.2565628632747581E-2}]
[31,{"$f":"($A44*LN(1+'Curves without VA'!B44)-IF(ISNUMBER($A43),$A43*LN(1+'Curves without VA'!B43),0)+($A44<=B$2)*LN(1+B$5/10000)+IF(ISNUMBER($A43),$A43*B43))/$A44","v":3.3795854304151815E-2},{"$f":"($A44*LN(1+'Curves without VA'!C44)-IF(ISNUMBER($A43),$A43*LN(1+'Curves without VA'!C43),0)+($A44<=C$2)*LN(1+C$5/10000)+IF(ISNUMBER($A43),$A43*C43))/$A44","v":3.8331944983916073E-2},{"$f":"($A44*LN(1+'Curves without VA'!D44)-IF(ISNUMBER($A43),$A43*LN(1+'Curves without VA'!D43),0)+($A44<=D$2)*LN(1+D$5/10000)+IF(ISNUMBER($A43),$A43*D43))/$A44","v":3.1999654174321983E-2},{"$f":"($A44*LN(1+'Curves without VA'!E44)-IF(ISNUMBER($A43),$A43*LN(1+'Curves without VA'!E43),0)+($A44<=E$2)*LN(1+E$5/10000)+IF(ISNUMBER($A43),$A43*E43))/$A44","v":4.7082237857661212E-2},{"$f":"($A44*LN(1+'Curves without VA'!F44)-IF(ISNUMBER($A43),$A43*LN(1+'Curves without VA'!F43),0)+($A44<=F$2)*LN(1+F$5/10000)+IF(ISNUMBER($A43),$A43*F43))/$A44","v":5.0108006649226752E-2},{"$f":"($A44*LN(1+'Curves without VA'!G44)-IF(ISNUMBER($A43),$A43*LN(1+'Curves without VA'!G43),0)+($A44<=G$2)*LN(1+G$5/10000)+IF(ISNUMBER($A43),$A43*G43))/$A44","v":5.0714078431759194E-2},3.4584928248905467E-2,4.3134141526420366E-2,3.2743357616565882E-2,4.8603244982554417E-2,5.1384646776561294E-2,5.2490519037831307E-2,{"$f":"(1+'Curves without VA'!H44)*(1+H44)/(1+'Curves without VA'!B44)-1","v":4.7430043125167298E-2},{"$f":"(1+'Curves without VA'!I44)*(1+I44)/(1+'Curves without VA'!C44)-1","v":6.2097452072775949E-2},{"$f":"(1+'Curves without VA'!J44)*(1+J44)/(1+'Curves without VA'!D44)-1","v":4.5774959579853336E-2},{"$f":"(1+'Curves without VA'!K44)*(1+K44)/(1+'Curves without VA'!E44)-1","v":6.3953954959770964E-2},{"$f":"(1+'Curves without VA'!L44)*(1+L44)/(1+'Curves without VA'!F44)-1","v":6.7615593331873391E-2},{"$f":"(1+'Curves without VA'!M44)*(1+M44)/(1+'Curves without VA'!G44)-1","v":6.9234533260568165E-2},{"$f":"(1+'Curves without VA'!N44)*(1+H44)/(1+'Curves without VA'!B44)-1","v":1.6066437535805056E-2},{"$f":"(1+'Curves without VA'!O44)*(1+I44)/(1+'Curves without VA'!C44)-1","v":2.6666479570896628E-2},{"$f":"(1+'Curves without VA'!P44)*(1+J44)/(1+'Curves without VA'!D44)-1","v":1.2489760186827237E-2},{"$f":"(1+'Curves without VA'!Q44)*(1+K44)/(1+'Curves without VA'!E44)-1","v":2.2215914599093445E-2},{"$f":"(1+'Curves without VA'!R44)*(1+L44)/(1+'Curves without VA'!F44)-1","v":2.3001493584983823E-2},{"$f":"(1+'Curves without VA'!S44)*(1+M44)/(1+'Curves without VA'!G44)-1","v":2.2870310420989304E-2}]
[32,{"$f":"($A45*LN(1+'Curves without VA'!B45)-IF(ISNUMBER($A44),$A44*LN(1+'Curves without VA'!B44),0)+($A45<=B$2)*LN(1+B$5/10000)+IF(ISNUMBER($A44),$A44*B44))/$A45","v":3.3752388043154766E-2},{"$f":"($A45*LN(1+'Curves without VA'!C45)-IF(ISNUMBER($A44),$A44*LN(1+'Curves without VA'!C44),0)+($A45<=C$2)*LN(1+C$5/10000)+IF(ISNUMBER($A44),$A44*C44))/$A45","v":3.8147548935769451E-2},{"$f":"($A45*LN(1+'Curves without VA'!D45)-IF(ISNUMBER($A44),$A44*LN(1+'Curves without VA'!D44),0)+($A45<=D$2)*LN(1+D$5/10000)+IF(ISNUMBER($A44),$A44*D44))/$A45","v":3.2003829289176625E-2},{"$f":"($A45*LN(1+'Curves without VA'!E45)-IF(ISNUMBER($A44),$A44*LN(1+'Curves without VA'!E44),0)+($A45<=E$2)*LN(1+E$5/10000)+IF(ISNUMBER($A44),$A44*E44))/$A45","v":4.6619672994014295E-2},{"$f":"($A45*LN(1+'Curves without VA'!F45)-IF(ISNUMBER($A44),$A44*LN(1+'Curves without VA'!F44),0)+($A45<=F$2)*LN(1+F$5/10000)+IF(ISNUMBER($A44),$A44*F44))/$A45","v":4.9934473774255375E-2},{"$f":"($A45*LN(1+'Curves without VA'!G45)-IF(ISNUMBER($A44),$A44*LN(1+'Curves without VA'!G44),0)+($A45<=G$2)*LN(1+G$5/10000)+IF(ISNUMBER($A44),$A44*G44))/$A45","v":5.0138018550171769E-2},3.454241904367028E-2,4.2900014704397638E-2,3.2936952663750629E-2,4.8448755390159581E-2,5.1202212805709024E-2,5.227624297938771E-2,{"$f":"(1+'Curves without VA'!H45)*(1+H45)/(1+'Curves without VA'!B45)-1","v":4.7093237564351798E-2},{"$f":"(1+'Curves without VA'!I45)*(1+I45)/(1+'Curves without VA'!C45)-1","v":6.1472188990150389E-2},{"$f":"(1+'Curves without VA'!J45)*(1+J45)/(1+'Curves without VA'!D45)-1","v":4.5928061056431879E-2},{"$f":"(1+'Curves without VA'!K45)*(1+K45)/(1+'Curves without VA'!E45)-1","v":6.366011820057027E-2},{"$f":"(1+'Curves without VA'!L45)*(1+L45)/(1+'Curves without VA'!F45)-1","v":6.7497214526850868E-2},{"$f":"(1+'Curves without VA'!M45)*(1+M45)/(1+'Curves without VA'!G45)-1","v":6.8979271528535335E-2},{"$f":"(1+'Curves without VA'!N45)*(1+H45)/(1+'Curves without VA'!B45)-1","v":1.6366733714168857E-2},{"$f":"(1+'Curves without VA'!O45)*(1+I45)/(1+'Curves without VA'!C45)-1","v":2.6824217055469557E-2},{"$f":"(1+'Curves without VA'!P45)*(1+J45)/(1+'Curves without VA'!D45)-1","v":1.2808382799655238E-2},{"$f":"(1+'Curves without VA'!Q45)*(1+K45)/(1+'Curves without VA'!E45)-1","v":2.2406932274900981E-2},{"$f":"(1+'Curves without VA'!R45)*(1+L45)/(1+'Curves without VA'!F45)-1","v":2.3016291578683346E-2},{"$f":"(1+'Curves without VA'!S45)*(1+M45)/(1+'Curves without VA'!G45)-1","v":2.3154246649065513E-2}]
[33,{"$f":"($A46*LN(1+'Curves without VA'!B46)-IF(ISNUMBER($A45),$A45*LN(1+'Curves without VA'!B45),0)+($A46<=B$2)*LN(1+B$5/10000)+IF(ISNUMBER($A45),$A45*B45))/$A46","v":3.3711752615229199E-2},{"$f":"($A46*LN(1+'Curves without VA'!C46)-IF(ISNUMBER($A45),$A45*LN(1+'Curves without VA'!C45),0)+($A46<=C$2)*LN(1+C$5/10000)+IF(ISNUMBER($A45),$A45*C45))/$A46","v":3.7974441784536121E-2},{"$f":"($A46*LN(1+'Curves without VA'!D46)-IF(ISNUMBER($A45),$A45*LN(1+'Curves without VA'!D45),0)+($A46<=D$2)*LN(1+D$5/10000)+IF(ISNUMBER($A45),$A45*D45))/$A46","v":3.2005748254694356E-2},{"$f":"($A46*LN(1+'Curves without VA'!E46)-IF(ISNUMBER($A45),$A45*LN(1+'Curves without VA'!E45),0)+($A46<=E$2)*LN(1+E$5/10000)+IF(ISNUMBER($A45),$A45*E45))/$A46","v":4.6185732725881057E-2},{"$f":"($A46*LN(1+'Curves without VA'!F46)-IF(ISNUMBER($A45),$A45*LN(1+'Curves without VA'!F45),0)+($A46<=F$2)*LN(1+F$5/10000)+IF(ISNUMBER($A45),$A45*F45))/$A46","v":4.977145804322157E-2},{"$f":"($A46*LN(1+'Curves without VA'!G46)-IF(ISNUMBER($A45),$A45*LN(1+'Curves without VA'!G45),0)+($A46<=G$2)*LN(1+G$5/10000)+IF(ISNUMBER($A45),$A45*G45))/$A46","v":4.959746175003369E-2},3.450177498871243E-2,4.26716353947727E-2,3.3096939649515988E-2,4.8269643444165178E-2,5.1030864275156462E-2,5.2034556505046847E-2,{"$f":"(1+'Curves without VA'!H46)*(1+H46)/(1+'Curves without VA'!B46)-1","v":4.6769905279566482E-2},{"$f":"(1+'Curves without VA'!I46)*(1+I46)/(1+'Curves without VA'!C46)-1","v":6.0860096627550542E-2},{"$f":"(1+'Curves without VA'!J46)*(1+J46)/(1+'Curves without VA'!D46)-1","v":4.6017450878963917E-2},{"$f":"(1+'Curves without VA'!K46)*(1+K46)/(1+'Curves without VA'!E46)-1","v":6.3319600774199625E-2},{"$f":"(1+'Curves without VA'!L46)*(1+L46)/(1+'Curves without VA'!F46)-1","v":6.7291596290187883E-2},{"$f":"(1+'Curves without VA'!M46)*(1+M46)/(1+'Curves without VA'!G46)-1","v":6.8653904312181657E-2},{"$f":"(1+'Curves without VA'!N46)*(1+H46)/(1+'Curves without VA'!B46)-1","v":1.6666943620418095E-2},{"$f":"(1+'Curves without VA'!O46)*(1+I46)/(1+'Curves without VA'!C46)-1","v":2.6971706228632986E-2},{"$f":"(1+'Curves without VA'!P46)*(1+J46)/(1+'Curves without VA'!D46)-1","v":1.3131972896409883E-2},{"$f":"(1+'Curves without VA'!Q46)*(1+K46)/(1+'Curves without VA'!E46)-1","v":2.2596289820830284E-2},{"$f":"(1+'Curves without VA'!R46)*(1+L46)/(1+'Curves without VA'!F46)-1","v":2.2680729046571813E-2},{"$f":"(1+'Curves without VA'!S46)*(1+M46)/(1+'Curves without VA'!G46)-1","v":2.3419495063228268E-2}]
[34,{"$f":"($A47*LN(1+'Curves without VA'!B47)-IF(ISNUMBER($A46),$A46*LN(1+'Curves without VA'!B46),0)+($A47<=B$2)*LN(1+B$5/10000)+IF(ISNUMBER($A46),$A46*B46))/$A47","v":3.3673678372973567E-2},{"$f":"($A47*LN(1+'Curves without VA'!C47)-IF(ISNUMBER($A46),$A46*LN(1+'Curves without VA'!C46),0)+($A47<=C$2)*LN(1+C$5/10000)+IF(ISNUMBER($A46),$A46*C46))/$A47","v":3.7811615988230296E-2},{"$f":"($A47*LN(1+'Curves without VA'!D47)-IF(ISNUMBER($A46),$A46*LN(1+'Curves without VA'!D46),0)+($A47<=D$2)*LN(1+D$5/10000)+IF(ISNUMBER($A46),$A46*D46))/$A47","v":3.2005812661838509E-2},{"$f":"($A47*LN(1+'Curves without VA'!E47)-IF(ISNUMBER($A46),$A46*LN(1+'Curves without VA'!E46),0)+($A47<=E$2)*LN(1+E$5/10000)+IF(ISNUMBER($A46),$A46*E46))/$A47","v":4.5777831666847402E-2},{"$f":"($A47*LN(1+'Curves without VA'!F47)-IF(ISNUMBER($A46),$A46*LN(1+'Curves without VA'!F46),0)+($A47<=F$2)*LN(1+F$5/10000)+IF(ISNUMBER($A46),$A46*F46))/$A47","v":4.9618031472837068E-2},{"$f":"($A47*LN(1+'Curves without VA'!G47)-IF(ISNUMBER($A46),$A46*LN(1+'Curves without VA'!G46),0)+($A47<=G$2)*LN(1+G$5/10000)+IF(ISNUMBER($A46),$A46*G46))/$A47","v":4.9089215719701519E-2},3.4462903510859233E-2,4.2449355610071793E-2,3.3228487096989001E-2,4.8071533273340572E-2,5.0869620584132136E-2,5.1771987408848918E-2,{"$f":"(1+'Curves without VA'!H47)*(1+H47)/(1+'Curves without VA'!B47)-1","v":4.6459566261812801E-2},{"$f":"(1+'Curves without VA'!I47)*(1+I47)/(1+'Curves without VA'!C47)-1","v":6.0262555700842491E-2},{"$f":"(1+'Curves without VA'!J47)*(1+J47)/(1+'Curves without VA'!D47)-1","v":4.6054241657032646E-2},{"$f":"(1+'Curves without VA'!K47)*(1+K47)/(1+'Curves without VA'!E47)-1","v":6.2943096943733901E-2},{"$f":"(1+'Curves without VA'!L47)*(1+L47)/(1+'Curves without VA'!F47)-1","v":6.7098103860958602E-2},{"$f":"(1+'Curves without VA'!M47)*(1+M47)/(1+'Curves without VA'!G47)-1","v":6.827333840102412E-2},{"$f":"(1+'Curves without VA'!N47)*(1+H47)/(1+'Curves without VA'!B47)-1","v":1.6965258880836664E-2},{"$f":"(1+'Curves without VA'!O47)*(1+I47)/(1+'Curves without VA'!C47)-1","v":2.7109921032481887E-2},{"$f":"(1+'Curves without VA'!P47)*(1+J47)/(1+'Curves without VA'!D47)-1","v":1.3457659436684644E-2},{"$f":"(1+'Curves without VA'!Q47)*(1+K47)/(1+'Curves without VA'!E47)-1","v":2.2783136459984643E-2},{"$f":"(1+'Curves without VA'!R47)*(1+L47)/(1+'Curves without VA'!F47)-1","v":2.2707098908700818E-2},{"$f":"(1+'Curves without VA'!S47)*(1+M47)/(1+'Curves without VA'!G47)-1","v":2.3667854237298114E-2}]
[35,{"$f":"($A48*LN(1+'Curves without VA'!B48)-IF(ISNUMBER($A47),$A47*LN(1+'Curves without VA'!B47),0)+($A48<=B$2)*LN(1+B$5/10000)+IF(ISNUMBER($A47),$A47*B47))/$A48","v":3.363792849627055E-2},{"$f":"($A48*LN(1+'Curves without VA'!C48)-IF(ISNUMBER($A47),$A47*LN(1+'Curves without VA'!C47),0)+($A48<=C$2)*LN(1+C$5/10000)+IF(ISNUMBER($A47),$A47*C47))/$A48","v":3.7658180312444167E-2},{"$f":"($A48*LN(1+'Curves without VA'!D48)-IF(ISNUMBER($A47),$A47*LN(1+'Curves without VA'!D47),0)+($A48<=D$2)*LN(1+D$5/10000)+IF(ISNUMBER($A47),$A47*D47))/$A48","v":3.2004357712629758E-2},{"$f":"($A48*LN(1+'Curves without VA'!E48)-IF(ISNUMBER($A47),$A47*LN(1+'Curves without VA'!E47),0)+($A48<=E$2)*LN(1+E$5/10000)+IF(ISNUMBER($A47),$A47*E47))/$A48","v":4.5393685942922729E-2},{"$f":"($A48*LN(1+'Curves without VA'!F48)-IF(ISNUMBER($A47),$A47*LN(1+'Curves without VA'!F47),0)+($A48<=F$2)*LN(1+F$5/10000)+IF(ISNUMBER($A47),$A47*F47))/$A48","v":4.9473372135045775E-2},{"$f":"($A48*LN(1+'Curves without VA'!G48)-IF(ISNUMBER($A47),$A47*LN(1+'Curves without VA'!G47),0)+($A48<=G$2)*LN(1+G$5/10000)+IF(ISNUMBER($A47),$A47*G47))/$A48","v":4.8610459022838226E-2},3.4425715323247008E-2,4.223339969322315E-2,3.3335952111613665E-2,4.7859057086204082E-2,5.0717613475602219E-2,5.1493901382904106E-2,{"$f":"(1+'Curves without VA'!H48)*(1+H48)/(1+'Curves without VA'!B48)-1","v":4.6161723017937861E-2},{"$f":"(1+'Curves without VA'!I48)*(1+I48)/(1+'Curves without VA'!C48)-1","v":5.9680527979288911E-2},{"$f":"(1+'Curves without VA'!J48)*(1+J48)/(1+'Curves without VA'!D48)-1","v":4.6047727772945635E-2},{"$f":"(1+'Curves without VA'!K48)*(1+K48)/(1+'Curves without VA'!E48)-1","v":6.2539413743312844E-2},{"$f":"(1+'Curves without VA'!L48)*(1+L48)/(1+'Curves without VA'!F48)-1","v":6.6915695330722835E-2},{"$f":"(1+'Curves without VA'!M48)*(1+M48)/(1+'Curves without VA'!G48)-1","v":6.7849898716216162E-2},{"$f":"(1+'Curves without VA'!N48)*(1+H48)/(1+'Curves without VA'!B48)-1","v":1.7260260315578035E-2},{"$f":"(1+'Curves without VA'!O48)*(1+I48)/(1+'Curves without VA'!C48)-1","v":2.7239717107193862E-2},{"$f":"(1+'Curves without VA'!P48)*(1+J48)/(1+'Curves without VA'!D48)-1","v":1.3783144080134591E-2},{"$f":"(1+'Curves without VA'!Q48)*(1+K48)/(1+'Curves without VA'!E48)-1","v":2.2966819108836578E-2},{"$f":"(1+'Curves without VA'!R48)*(1+L48)/(1+'Curves without VA'!F48)-1","v":2.2737717598776852E-2},{"$f":"(1+'Curves without VA'!S48)*(1+M48)/(1+'Curves without VA'!G48)-1","v":2.3900902261026147E-2}]
[36,{"$f":"($A49*LN(1+'Curves without VA'!B49)-IF(ISNUMBER($A48),$A48*LN(1+'Curves without VA'!B48),0)+($A49<=B$2)*LN(1+B$5/10000)+IF(ISNUMBER($A48),$A48*B48))/$A49","v":3.3604294229339686E-2},{"$f":"($A49*LN(1+'Curves without VA'!C49)-IF(ISNUMBER($A48),$A48*LN(1+'Curves without VA'!C48),0)+($A49<=C$2)*LN(1+C$5/10000)+IF(ISNUMBER($A48),$A48*C48))/$A49","v":3.7513343559048139E-2},{"$f":"($A49*LN(1+'Curves without VA'!D49)-IF(ISNUMBER($A48),$A48*LN(1+'Curves without VA'!D48),0)+($A49<=D$2)*LN(1+D$5/10000)+IF(ISNUMBER($A48),$A48*D48))/$A49","v":3.2001663516190271E-2},{"$f":"($A49*LN(1+'Curves without VA'!E49)-IF(ISNUMBER($A48),$A48*LN(1+'Curves without VA'!E48),0)+($A49<=E$2)*LN(1+E$5/10000)+IF(ISNUMBER($A48),$A48*E48))/$A49","v":4.5031270704160881E-2},{"$f":"($A49*LN(1+'Curves without VA'!F49)-IF(ISNUMBER($A48),$A48*LN(1+'Curves without VA'!F48),0)+($A49<=F$2)*LN(1+F$5/10000)+IF(ISNUMBER($A48),$A48*F48))/$A49","v":4.9336749427131781E-2},{"$f":"($A49*LN(1+'Curves without VA'!G49)-IF(ISNUMBER($A48),$A48*LN(1+'Curves without VA'!G48),0)+($A49<=G$2)*LN(1+G$5/10000)+IF(ISNUMBER($A48),$A48*G48))/$A49","v":4.8158688976300761E-2},3.4390124708421954E-2,4.2023890957883614E-2,3.3423014883028346E-2,4.7636027882243637E-2,5.0574071395773412E-2,5.1204705036791864E-2,{"$f":"(1+'Curves without VA'!H49)*(1+H49)/(1+'Curves without VA'!B49)-1","v":4.5875870397228846E-2},{"$f":"(1+'Curves without VA'!I49)*(1+I49)/(1+'Curves without VA'!C49)-1","v":5.911464131061317E-2},{"$f":"(1+'Curves without VA'!J49)*(1+J49)/(1+'Curves without VA'!D49)-1","v":4.6005691144613836E-2},{"$f":"(1+'Curves without VA'!K49)*(1+K49)/(1+'Curves without VA'!E49)-1","v":6.2115798965262758E-2},{"$f":"(1+'Curves without VA'!L49)*(1+L49)/(1+'Curves without VA'!F49)-1","v":6.6843986794928201E-2},{"$f":"(1+'Curves without VA'!M49)*(1+M49)/(1+'Curves without VA'!G49)-1","v":6.7393772642680982E-2},{"$f":"(1+'Curves without VA'!N49)*(1+H49)/(1+'Curves without VA'!B49)-1","v":1.7550845482639854E-2},{"$f":"(1+'Curves without VA'!O49)*(1+I49)/(1+'Curves without VA'!C49)-1","v":2.7361848916414022E-2},{"$f":"(1+'Curves without VA'!P49)*(1+J49)/(1+'Curves without VA'!D49)-1","v":1.4106596924853054E-2},{"$f":"(1+'Curves without VA'!Q49)*(1+K49)/(1+'Curves without VA'!E49)-1","v":2.3146844783124676E-2},{"$f":"(1+'Curves without VA'!R49)*(1+L49)/(1+'Curves without VA'!F49)-1","v":2.2772230202055654E-2},{"$f":"(1+'Curves without VA'!S49)*(1+M49)/(1+'Curves without VA'!G49)-1","v":2.4120028825687978E-2}]
[37,{"$f":"($A50*LN(1+'Curves without VA'!B50)-IF(ISNUMBER($A49),$A49*LN(1+'Curves without VA'!B49),0)+($A50<=B$2)*LN(1+B$5/10000)+IF(ISNUMBER($A49),$A49*B49))/$A50","v":3.3572590910795903E-2},{"$f":"($A50*LN(1+'Curves without VA'!C50)-IF(ISNUMBER($A49),$A49*LN(1+'Curves without VA'!C49),0)+($A50<=C$2)*LN(1+C$5/10000)+IF(ISNUMBER($A49),$A49*C49))/$A50","v":3.7376400945388653E-2},{"$f":"($A50*LN(1+'Curves without VA'!D50)-IF(ISNUMBER($A49),$A49*LN(1+'Curves without VA'!D49),0)+($A50<=D$2)*LN(1+D$5/10000)+IF(ISNUMBER($A49),$A49*D49))/$A50","v":3.1997964342658107E-2},{"$f":"($A50*LN(1+'Curves without VA'!E50)-IF(ISNUMBER($A49),$A49*LN(1+'Curves without VA'!E49),0)+($A50<=E$2)*LN(1+E$5/10000)+IF(ISNUMBER($A49),$A49*E49))/$A50","v":4.468878458827856E-2},{"$f":"($A50*LN(1+'Curves without VA'!F50)-IF(ISNUMBER($A49),$A49*LN(1+'Curves without VA'!F49),0)+($A50<=F$2)*LN(1+F$5/10000)+IF(ISNUMBER($A49),$A49*F49))/$A50","v":4.9207511730456531E-2},{"$f":"($A50*LN(1+'Curves without VA'!G50)-IF(ISNUMBER($A49),$A49*LN(1+'Curves without VA'!G49),0)+($A50<=G$2)*LN(1+G$5/10000)+IF(ISNUMBER($A49),$A49*G49))/$A50","v":4.773167804225277E-2},3.4356049680458911E-2,4.1820873100790079E-2,3.3492789302174364E-2,4.7405580768333788E-2,5.0438306395766297E-2,5.0908011981686707E-2,{"$f":"(1+'Curves without VA'!H50)*(1+H50)/(1+'Curves without VA'!B50)-1","v":4.5601503065126892E-2},{"$f":"(1+'Curves without VA'!I50)*(1+I50)/(1+'Curves without VA'!C50)-1","v":5.8565258106600515E-2},{"$f":"(1+'Curves without VA'!J50)*(1+J50)/(1+'Curves without VA'!D50)-1","v":4.5934652637356521E-2},{"$f":"(1+'Curves without VA'!K50)*(1+K50)/(1+'Curves without VA'!E50)-1","v":6.1678209832139341E-2},{"$f":"(1+'Curves without VA'!L50)*(1+L50)/(1+'Curves without VA'!F50)-1","v":6.713125585887747E-2},{"$f":"(1+'Curves without VA'!M50)*(1+M50)/(1+'Curves without VA'!G50)-1","v":6.6913374694295591E-2},{"$f":"(1+'Curves without VA'!N50)*(1+H50)/(1+'Curves without VA'!B50)-1","v":1.7836169842752048E-2},{"$f":"(1+'Curves without VA'!O50)*(1+I50)/(1+'Curves without VA'!C50)-1","v":2.747698402805776E-2},{"$f":"(1+'Curves without VA'!P50)*(1+J50)/(1+'Curves without VA'!D50)-1","v":1.442657168843442E-2},{"$f":"(1+'Curves without VA'!Q50)*(1+K50)/(1+'Curves without VA'!E50)-1","v":2.332285012705837E-2},{"$f":"(1+'Curves without VA'!R50)*(1+L50)/(1+'Curves without VA'!F50)-1","v":2.236013319809449E-2},{"$f":"(1+'Curves without VA'!S50)*(1+M50)/(1+'Curves without VA'!G50)-1","v":2.4326461968750657E-2}]
[38,{"$f":"($A51*LN(1+'Curves without VA'!B51)-IF(ISNUMBER($A50),$A50*LN(1+'Curves without VA'!B50),0)+($A51<=B$2)*LN(1+B$5/10000)+IF(ISNUMBER($A50),$A50*B50))/$A51","v":3.3542654648539824E-2},{"$f":"($A51*LN(1+'Curves without VA'!C51)-IF(ISNUMBER($A50),$A50*LN(1+'Curves without VA'!C50),0)+($A51<=C$2)*LN(1+C$5/10000)+IF(ISNUMBER($A50),$A50*C50))/$A51","v":3.7246722644521203E-2},{"$f":"($A51*LN(1+'Curves without VA'!D51)-IF(ISNUMBER($A50),$A50*LN(1+'Curves without VA'!D50),0)+($A51<=D$2)*LN(1+D$5/10000)+IF(ISNUMBER($A50),$A50*D50))/$A51","v":3.1993456232487873E-2},{"$f":"($A51*LN(1+'Curves without VA'!E51)-IF(ISNUMBER($A50),$A50*LN(1+'Curves without VA'!E50),0)+($A51<=E$2)*LN(1+E$5/10000)+IF(ISNUMBER($A50),$A50*E50))/$A51","v":4.4364619849356801E-2},{"$f":"($A51*LN(1+'Curves without VA'!F51)-IF(ISNUMBER($A50),$A50*LN(1+'Curves without VA'!F50),0)+($A51<=F$2)*LN(1+F$5/10000)+IF(ISNUMBER($A50),$A50*F50))/$A51","v":4.9085076017816594E-2},{"$f":"($A51*LN(1+'Curves without VA'!G51)-IF(ISNUMBER($A50),$A50*LN(1+'Curves without VA'!G50),0)+($A51<=G$2)*LN(1+G$5/10000)+IF(ISNUMBER($A50),$A50*G50))/$A51","v":4.7327437159805315E-2},3.4323412056012748E-2,4.1624327441388775E-2,3.3547914269559831E-2,4.7170288960870943E-2,5.0309703106116821E-2,5.0606779127398527E-2,{"$f":"(1+'Curves without VA'!H51)*(1+H51)/(1+'Curves without VA'!B51)-1","v":4.5338121135809484E-2},{"$f":"(1+'Curves without VA'!I51)*(1+I51)/(1+'Curves without VA'!C51)-1","v":5.8032530613659317E-2},{"$f":"(1+'Curves without VA'!J51)*(1+J51)/(1+'Curves without VA'!D51)-1","v":4.5840079453967952E-2},{"$f":"(1+'Curves without VA'!K51)*(1+K51)/(1+'Curves without VA'!E51)-1","v":6.123153373678325E-2},{"$f":"(1+'Curves without VA'!L51)*(1+L51)/(1+'Curves without VA'!F51)-1","v":6.6975645878401435E-2},{"$f":"(1+'Curves without VA'!M51)*(1+M51)/(1+'Curves without VA'!G51)-1","v":6.641564664719346E-2},{"$f":"(1+'Curves without VA'!N51)*(1+H51)/(1+'Curves without VA'!B51)-1","v":1.8115598840793945E-2},{"$f":"(1+'Curves without VA'!O51)*(1+I51)/(1+'Curves without VA'!C51)-1","v":2.7585715080766349E-2},{"$f":"(1+'Curves without VA'!P51)*(1+J51)/(1+'Curves without VA'!D51)-1","v":1.4741936479333528E-2},{"$f":"(1+'Curves without VA'!Q51)*(1+K51)/(1+'Curves without VA'!E51)-1","v":2.349457664829413E-2},{"$f":"(1+'Curves without VA'!R51)*(1+L51)/(1+'Curves without VA'!F51)-1","v":2.2402803677752603E-2},{"$f":"(1+'Curves without VA'!S51)*(1+M51)/(1+'Curves without VA'!G51)-1","v":2.4521290473211943E-2}]
[39,{"$f":"($A52*LN(1+'Curves without VA'!B52)-IF(ISNUMBER($A51),$A51*LN(1+'Curves without VA'!B51),0)+($A52<=B$2)*LN(1+B$5/10000)+IF(ISNUMBER($A51),$A51*B51))/$A52","v":3.3514339521914252E-2},{"$f":"($A52*LN(1+'Curves without VA'!C52)-IF(ISNUMBER($A51),$A51*LN(1+'Curves without VA'!C51),0)+($A52<=C$2)*LN(1+C$5/10000)+IF(ISNUMBER($A51),$A51*C51))/$A52","v":3.712374409755026E-2},{"$f":"($A52*LN(1+'Curves without VA'!D52)-IF(ISNUMBER($A51),$A51*LN(1+'Curves without VA'!D51),0)+($A52<=D$2)*LN(1+D$5/10000)+IF(ISNUMBER($A51),$A51*D51))/$A52","v":3.1988303274944667E-2},{"$f":"($A52*LN(1+'Curves without VA'!E52)-IF(ISNUMBER($A51),$A51*LN(1+'Curves without VA'!E51),0)+($A52<=E$2)*LN(1+E$5/10000)+IF(ISNUMBER($A51),$A51*E51))/$A52","v":4.4057337129322333E-2},{"$f":"($A52*LN(1+'Curves without VA'!F52)-IF(ISNUMBER($A51),$A51*LN(1+'Curves without VA'!F51),0)+($A52<=F$2)*LN(1+F$5/10000)+IF(ISNUMBER($A51),$A51*F51))/$A52","v":4.8968919059671268E-2},{"$f":"($A52*LN(1+'Curves without VA'!G52)-IF(ISNUMBER($A51),$A51*LN(1+'Curves without VA'!G51),0)+($A52<=G$2)*LN(1+G$5/10000)+IF(ISNUMBER($A51),$A51*G51))/$A52","v":4.694418476514374E-2},3.4292137457313743E-2,4.1434186818319896E-2,3.3590629322834298E-2,4.6932259289800493E-2,5.0187709411239068E-2,5.0303418857180482E-2,{"$f":"(1+'Curves without VA'!H52)*(1+H52)/(1+'Curves without VA'!B52)-1","v":4.5085234362301829E-2},{"$f":"(1+'Curves without VA'!I52)*(1+I52)/(1+'Curves without VA'!C52)-1","v":5.7516445584486764E-2},{"$f":"(1+'Curves without VA'!J52)*(1+J52)/(1+'Curves without VA'!D52)-1","v":4.5726556725297574E-2},{"$f":"(1+'Curves without VA'!K52)*(1+K52)/(1+'Curves without VA'!E52)-1","v":6.0779770098785768E-2},{"$f":"(1+'Curves without VA'!L52)*(1+L52)/(1+'Curves without VA'!F52)-1","v":6.6928575467599449E-2},{"$f":"(1+'Curves without VA'!M52)*(1+M52)/(1+'Curves without VA'!G52)-1","v":6.5906305211759442E-2},{"$f":"(1+'Curves without VA'!N52)*(1+H52)/(1+'Curves without VA'!B52)-1","v":1.838866877595513E-2},{"$f":"(1+'Curves without VA'!O52)*(1+I52)/(1+'Curves without VA'!C52)-1","v":2.7688569856964884E-2},{"$f":"(1+'Curves without VA'!P52)*(1+J52)/(1+'Curves without VA'!D52)-1","v":1.5051817128346245E-2},{"$f":"(1+'Curves without VA'!Q52)*(1+K52)/(1+'Curves without VA'!E52)-1","v":2.3661850543150731E-2},{"$f":"(1+'Curves without VA'!R52)*(1+L52)/(1+'Curves without VA'!F52)-1","v":2.2000767380945252E-2},{"$f":"(1+'Curves without VA'!S52)*(1+M52)/(1+'Curves without VA'!G52)-1","v":2.4705482712300331E-2}]
[40,{"$f":"($A53*LN(1+'Curves without VA'!B53)-IF(ISNUMBER($A52),$A52*LN(1+'Curves without VA'!B52),0)+($A53<=B$2)*LN(1+B$5/10000)+IF(ISNUMBER($A52),$A52*B52))/$A53","v":3.3487515217259317E-2},{"$f":"($A53*LN(1+'Curves without VA'!C53)-IF(ISNUMBER($A52),$A52*LN(1+'Curves without VA'!C52),0)+($A53<=C$2)*LN(1+C$5/10000)+IF(ISNUMBER($A52),$A52*C52))/$A53","v":3.7006957787034042E-2},{"$f":"($A53*LN(1+'Curves without VA'!D53)-IF(ISNUMBER($A52),$A52*LN(1+'Curves without VA'!D52),0)+($A53<=D$2)*LN(1+D$5/10000)+IF(ISNUMBER($A52),$A52*D52))/$A53","v":3.1982642804948551E-2},{"$f":"($A53*LN(1+'Curves without VA'!E53)-IF(ISNUMBER($A52),$A52*LN(1+'Curves without VA'!E52),0)+($A53<=E$2)*LN(1+E$5/10000)+IF(ISNUMBER($A52),$A52*E52))/$A53","v":4.3765644054932051E-2},{"$f":"($A53*LN(1+'Curves without VA'!F53)-IF(ISNUMBER($A52),$A52*LN(1+'Curves without VA'!F52),0)+($A53<=F$2)*LN(1+F$5/10000)+IF(ISNUMBER($A52),$A52*F52))/$A53","v":4.8858569949433078E-2},{"$f":"($A53*LN(1+'Curves without VA'!G53)-IF(ISNUMBER($A52),$A52*LN(1+'Curves without VA'!G52),0)+($A53<=G$2)*LN(1+G$5/10000)+IF(ISNUMBER($A52),$A52*G52))/$A53","v":4.6580320499858004E-2},3.4262155264823235E-2,4.1250346798318294E-2,3.3622837475948852E-2,4.6693211038901561E-2,5.0071828525716233E-2,4.9999891592275691E-2,{"$f":"(1+'Curves without VA'!H53)*(1+H53)/(1+'Curves without VA'!B53)-1","v":4.4842365195969069E-2},{"$f":"(1+'Curves without VA'!I53)*(1+I53)/(1+'Curves without VA'!C53)-1","v":5.7016860420022741E-2},{"$f":"(1+'Curves without VA'!J53)*(1+J53)/(1+'Curves without VA'!D53)-1","v":4.5597929877648991E-2},{"$f":"(1+'Curves without VA'!K53)*(1+K53)/(1+'Curves without VA'!E53)-1","v":6.0326180563323284E-2},{"$f":"(1+'Curves without VA'!L53)*(1+L53)/(1+'Curves without VA'!F53)-1","v":6.6788359596116731E-2},{"$f":"(1+'Curves without VA'!M53)*(1+M53)/(1+'Curves without VA'!G53)-1","v":6.5390046910952959E-2},{"$f":"(1+'Curves without VA'!N53)*(1+H53)/(1+'Curves without VA'!B53)-1","v":1.8655054776825164E-2},{"$f":"(1+'Curves without VA'!O53)*(1+I53)/(1+'Curves without VA'!C53)-1","v":2.7786019798853534E-2},{"$f":"(1+'Curves without VA'!P53)*(1+J53)/(1+'Curves without VA'!D53)-1","v":1.5355550682657038E-2},{"$f":"(1+'Curves without VA'!Q53)*(1+K53)/(1+'Curves without VA'!E53)-1","v":2.3824566229222688E-2},{"$f":"(1+'Curves without VA'!R53)*(1+L53)/(1+'Curves without VA'!F53)-1","v":2.160379946605806E-2},{"$f":"(1+'Curves without VA'!S53)*(1+M53)/(1+'Curves without VA'!G53)-1","v":2.487990257136552E-2}]
[41,{"$f":"($A54*LN(1+'Curves without VA'!B54)-IF(ISNUMBER($A53),$A53*LN(1+'Curves without VA'!B53),0)+($A54<=B$2)*LN(1+B$5/10000)+IF(ISNUMBER($A53),$A53*B53))/$A54","v":3.3462065021476972E-2},{"$f":"($A54*LN(1+'Curves without VA'!C54)-IF(ISNUMBER($A53),$A53*LN(1+'Curves without VA'!C53),0)+($A54<=C$2)*LN(1+C$5/10000)+IF(ISNUMBER($A53),$A53*C53))/$A54","v":3.6895906221202465E-2},{"$f":"($A54*LN(1+'Curves without VA'!D54)-IF(ISNUMBER($A53),$A53*LN(1+'Curves without VA'!D53),0)+($A54<=D$2)*LN(1+D$5/10000)+IF(ISNUMBER($A53),$A53*D53))/$A54","v":3.1976589717154294E-2},{"$f":"($A54*LN(1+'Curves without VA'!E54)-IF(ISNUMBER($A53),$A53*LN(1+'Curves without VA'!E53),0)+($A54<=E$2)*LN(1+E$5/10000)+IF(ISNUMBER($A53),$A53*E53))/$A54","v":4.3488377002937173E-2},{"$f":"($A54*LN(1+'Curves without VA'!F54)-IF(ISNUMBER($A53),$A53*LN(1+'Curves without VA'!F53),0)+($A54<=F$2)*LN(1+F$5/10000)+IF(ISNUMBER($A53),$A53*F53))/$A54","v":4.8613736387716822E-2},{"$f":"($A54*LN(1+'Curves without VA'!G54)-IF(ISNUMBER($A53),$A53*LN(1+'Curves without VA'!G53),0)+($A54<=G$2)*LN(1+G$5/10000)+IF(ISNUMBER($A53),$A53*G53))/$A54","v":4.6234402802864998E-2},3.4233398533231707E-2,4.1072674718032331E-2,3.3646157587241765E-2,4.6454541189766996E-2,4.9814767169788166E-2,4.9697782356916242E-2,{"$f":"(1+'Curves without VA'!H54)*(1+H54)/(1+'Curves without VA'!B54)-1","v":4.4609050960232821E-2},{"$f":"(1+'Curves without VA'!I54)*(1+I54)/(1+'Curves without VA'!C54)-1","v":5.6533532425899979E-2},{"$f":"(1+'Curves without VA'!J54)*(1+J54)/(1+'Curves without VA'!D54)-1","v":4.5457423060559998E-2},{"$f":"(1+'Curves without VA'!K54)*(1+K54)/(1+'Curves without VA'!E54)-1","v":5.9873413338210835E-2},{"$f":"(1+'Curves without VA'!L54)*(1+L54)/(1+'Curves without VA'!F54)-1","v":6.6577857315443856E-2},{"$f":"(1+'Curves without VA'!M54)*(1+M54)/(1+'Curves without VA'!G54)-1","v":6.4870717939304212E-2},{"$f":"(1+'Curves without VA'!N54)*(1+H54)/(1+'Curves without VA'!B54)-1","v":1.8914544541861478E-2},{"$f":"(1+'Curves without VA'!O54)*(1+I54)/(1+'Curves without VA'!C54)-1","v":2.7878487237578353E-2},{"$f":"(1+'Curves without VA'!P54)*(1+J54)/(1+'Curves without VA'!D54)-1","v":1.5652647155031785E-2},{"$f":"(1+'Curves without VA'!Q54)*(1+K54)/(1+'Curves without VA'!E54)-1","v":2.3982672883110512E-2},{"$f":"(1+'Curves without VA'!R54)*(1+L54)/(1+'Curves without VA'!F54)-1","v":2.1593805043008896E-2},{"$f":"(1+'Curves without VA'!S54)*(1+M54)/(1+'Curves without VA'!G54)-1","v":2.5045322954798444E-2}]
[42,{"$f":"($A55*LN(1+'Curves without VA'!B55)-IF(ISNUMBER($A54),$A54*LN(1+'Curves without VA'!B54),0)+($A55<=B$2)*LN(1+B$5/10000)+IF(ISNUMBER($A54),$A54*B54))/$A55","v":3.3437884112719224E-2},{"$f":"($A55*LN(1+'Curves without VA'!C55)-IF(ISNUMBER($A54),$A54*LN(1+'Curves without VA'!C54),0)+($A55<=C$2)*LN(1+C$5/10000)+IF(ISNUMBER($A54),$A54*C54))/$A55","v":3.6790175926478798E-2},{"$f":"($A55*LN(1+'Curves without VA'!D55)-IF(ISNUMBER($A54),$A54*LN(1+'Curves without VA'!D54),0)+($A55<=D$2)*LN(1+D$5/10000)+IF(ISNUMBER($A54),$A54*D54))/$A55","v":3.1970240056827672E-2},{"$f":"($A55*LN(1+'Curves without VA'!E55)-IF(ISNUMBER($A54),$A54*LN(1+'Curves without VA'!E54),0)+($A55<=E$2)*LN(1+E$5/10000)+IF(ISNUMBER($A54),$A54*E54))/$A55","v":4.322448550173013E-2},{"$f":"($A55*LN(1+'Curves without VA'!F55)-IF(ISNUMBER($A54),$A54*LN(1+'Curves without VA'!F54),0)+($A55<=F$2)*LN(1+F$5/10000)+IF(ISNUMBER($A54),$A54*F54))/$A55","v":4.8380561567034755E-2},{"$f":"($A55*LN(1+'Curves without VA'!G55)-IF(ISNUMBER($A54),$A54*LN(1+'Curves without VA'!G54),0)+($A55<=G$2)*LN(1+G$5/10000)+IF(ISNUMBER($A54),$A54*G54))/$A55","v":4.5905129734993166E-2},3.4205803881343311E-2,4.0901016973859061E-2,3.3661968121974972E-2,4.6217378534459286E-2,4.9570005336961209E-2,4.9398364246042048E-2,{"$f":"(1+'Curves without VA'!H55)*(1+H55)/(1+'Curves without VA'!B55)-1","v":4.4384845331330025E-2},{"$f":"(1+'Curves without VA'!I55)*(1+I55)/(1+'Curves without VA'!C55)-1","v":5.6066142495558857E-2},{"$f":"(1+'Curves without VA'!J55)*(1+J55)/(1+'Curves without VA'!D55)-1","v":4.5307737897934297E-2},{"$f":"(1+'Curves without VA'!K55)*(1+K55)/(1+'Curves without VA'!E55)-1","v":5.9423606337125623E-2},{"$f":"(1+'Curves without VA'!L55)*(1+L55)/(1+'Curves without VA'!F55)-1","v":6.6281695497723225E-2},{"$f":"(1+'Curves without VA'!M55)*(1+M55)/(1+'Curves without VA'!G55)-1","v":6.435145527838726E-2},{"$f":"(1+'Curves without VA'!N55)*(1+H55)/(1+'Curves without VA'!B55)-1","v":1.9167016774233492E-2},{"$f":"(1+'Curves without VA'!O55)*(1+I55)/(1+'Curves without VA'!C55)-1","v":2.7966351553984969E-2},{"$f":"(1+'Curves without VA'!P55)*(1+J55)/(1+'Curves without VA'!D55)-1","v":1.5942758002925217E-2},{"$f":"(1+'Curves without VA'!Q55)*(1+K55)/(1+'Curves without VA'!E55)-1","v":2.4136163421923928E-2},{"$f":"(1+'Curves without VA'!R55)*(1+L55)/(1+'Curves without VA'!F55)-1","v":2.1147595361523885E-2},{"$f":"(1+'Curves without VA'!S55)*(1+M55)/(1+'Curves without VA'!G55)-1","v":2.5202437288376567E-2}]
[43,{"$f":"($A56*LN(1+'Curves without VA'!B56)-IF(ISNUMBER($A55),$A55*LN(1+'Curves without VA'!B55),0)+($A56<=B$2)*LN(1+B$5/10000)+IF(ISNUMBER($A55),$A55*B55))/$A56","v":3.3414878098758941E-2},{"$f":"($A56*LN(1+'Curves without VA'!C56)-IF(ISNUMBER($A55),$A55*LN(1+'Curves without VA'!C55),0)+($A56<=C$2)*LN(1+C$5/10000)+IF(ISNUMBER($A55),$A55*C55))/$A56","v":3.668939228355117E-2},{"$f":"($A56*LN(1+'Curves without VA'!D56)-IF(ISNUMBER($A55),$A55*LN(1+'Curves without VA'!D55),0)+($A56<=D$2)*LN(1+D$5/10000)+IF(ISNUMBER($A55),$A55*D55))/$A56","v":3.1963674016124599E-2},{"$f":"($A56*LN(1+'Curves without VA'!E56)-IF(ISNUMBER($A55),$A55*LN(1+'Curves without VA'!E55),0)+($A56<=E$2)*LN(1+E$5/10000)+IF(ISNUMBER($A55),$A55*E55))/$A56","v":4.297301883707632E-2},{"$f":"($A56*LN(1+'Curves without VA'!F56)-IF(ISNUMBER($A55),$A55*LN(1+'Curves without VA'!F55),0)+($A56<=F$2)*LN(1+F$5/10000)+IF(ISNUMBER($A55),$A55*F55))/$A56","v":4.8158232086849558E-2},{"$f":"($A56*LN(1+'Curves without VA'!G56)-IF(ISNUMBER($A55),$A55*LN(1+'Curves without VA'!G55),0)+($A56<=G$2)*LN(1+G$5/10000)+IF(ISNUMBER($A55),$A55*G55))/$A56","v":4.5591322506775007E-2},3.4179311363985887E-2,4.0735204892169197E-2,3.3671443817852031E-2,4.5982628646083823E-2,4.9336680921665765E-2,4.9102651138264841E-2,{"$f":"(1+'Curves without VA'!H56)*(1+H56)/(1+'Curves without VA'!B56)-1","v":4.4169319278390073E-2},{"$f":"(1+'Curves without VA'!I56)*(1+I56)/(1+'Curves without VA'!C56)-1","v":5.5614314271376752E-2},{"$f":"(1+'Curves without VA'!J56)*(1+J56)/(1+'Curves without VA'!D56)-1","v":4.5151136015827875E-2},{"$f":"(1+'Curves without VA'!K56)*(1+K56)/(1+'Curves without VA'!E56)-1","v":5.8978472903129298E-2},{"$f":"(1+'Curves without VA'!L56)*(1+L56)/(1+'Curves without VA'!F56)-1","v":6.6099914915215718E-2},{"$f":"(1+'Curves without VA'!M56)*(1+M56)/(1+'Curves without VA'!G56)-1","v":6.3834804153270808E-2},{"$f":"(1+'Curves without VA'!N56)*(1+H56)/(1+'Curves without VA'!B56)-1","v":1.9412423450876348E-2},{"$f":"(1+'Curves without VA'!O56)*(1+I56)/(1+'Curves without VA'!C56)-1","v":2.8049954448349901E-2},{"$f":"(1+'Curves without VA'!P56)*(1+J56)/(1+'Curves without VA'!D56)-1","v":1.6225650112147605E-2},{"$f":"(1+'Curves without VA'!Q56)*(1+K56)/(1+'Curves without VA'!E56)-1","v":2.4285065477882117E-2},{"$f":"(1+'Curves without VA'!R56)*(1+L56)/(1+'Curves without VA'!F56)-1","v":2.0710970257882932E-2},{"$f":"(1+'Curves without VA'!S56)*(1+M56)/(1+'Curves without VA'!G56)-1","v":2.5351869350452194E-2}]
[44,{"$f":"($A57*LN(1+'Curves without VA'!B57)-IF(ISNUMBER($A56),$A56*LN(1+'Curves without VA'!B56),0)+($A57<=B$2)*LN(1+B$5/10000)+IF(ISNUMBER($A56),$A56*B56))/$A57","v":3.3392961762710935E-2},{"$f":"($A57*LN(1+'Curves without VA'!C57)-IF(ISNUMBER($A56),$A56*LN(1+'Curves without VA'!C56),0)+($A57<=C$2)*LN(1+C$5/10000)+IF(ISNUMBER($A56),$A56*C56))/$A57","v":3.6593215072249004E-2},{"$f":"($A57*LN(1+'Curves without VA'!D57)-IF(ISNUMBER($A56),$A56*LN(1+'Curves without VA'!D56),0)+($A57<=D$2)*LN(1+D$5/10000)+IF(ISNUMBER($A56),$A56*D56))/$A57","v":3.1956958439888931E-2},{"$f":"($A57*LN(1+'Curves without VA'!E57)-IF(ISNUMBER($A56),$A56*LN(1+'Curves without VA'!E56),0)+($A57<=E$2)*LN(1+E$5/10000)+IF(ISNUMBER($A56),$A56*E56))/$A57","v":4.2733114508473363E-2},{"$f":"($A57*LN(1+'Curves without VA'!F57)-IF(ISNUMBER($A56),$A56*LN(1+'Curves without VA'!F56),0)+($A57<=F$2)*LN(1+F$5/10000)+IF(ISNUMBER($A56),$A56*F56))/$A57","v":4.794600849212724E-2},{"$f":"($A57*LN(1+'Curves without VA'!G57)-IF(ISNUMBER($A56),$A56*LN(1+'Curves without VA'!G56),0)+($A57<=G$2)*LN(1+G$5/10000)+IF(ISNUMBER($A56),$A56*G56))/$A57","v":4.5291911276587903E-2},3.4153864332206574E-2,4.057505944703621E-2,3.3675586478484565E-2,4.5751011318957646E-2,4.9114010547955944E-2,4.8811441552178092E-2,{"$f":"(1+'Curves without VA'!H57)*(1+H57)/(1+'Curves without VA'!B57)-1","v":4.3962061583300072E-2},{"$f":"(1+'Curves without VA'!I57)*(1+I57)/(1+'Curves without VA'!C57)-1","v":5.5177629629277858E-2},{"$f":"(1+'Curves without VA'!J57)*(1+J57)/(1+'Curves without VA'!D57)-1","v":4.4989508154906321E-2},{"$f":"(1+'Curves without VA'!K57)*(1+K57)/(1+'Curves without VA'!E57)-1","v":5.8539373175127807E-2},{"$f":"(1+'Curves without VA'!L57)*(1+L57)/(1+'Curves without VA'!F57)-1","v":6.5830483763026582E-2},{"$f":"(1+'Curves without VA'!M57)*(1+M57)/(1+'Curves without VA'!G57)-1","v":6.3322815963470447E-2},{"$f":"(1+'Curves without VA'!N57)*(1+H57)/(1+'Curves without VA'!B57)-1","v":1.9650775231954132E-2},{"$f":"(1+'Curves without VA'!O57)*(1+I57)/(1+'Curves without VA'!C57)-1","v":2.8129604463927871E-2},{"$f":"(1+'Curves without VA'!P57)*(1+J57)/(1+'Curves without VA'!D57)-1","v":1.6501184296315197E-2},{"$f":"(1+'Curves without VA'!Q57)*(1+K57)/(1+'Curves without VA'!E57)-1","v":2.4429434002691819E-2},{"$f":"(1+'Curves without VA'!R57)*(1+L57)/(1+'Curves without VA'!F57)-1","v":1.9846329153702769E-2},{"$f":"(1+'Curves without VA'!S57)*(1+M57)/(1+'Curves without VA'!G57)-1","v":2.5494181704151853E-2}]
[45,{"$f":"($A58*LN(1+'Curves without VA'!B58)-IF(ISNUMBER($A57),$A57*LN(1+'Curves without VA'!B57),0)+($A58<=B$2)*LN(1+B$5/10000)+IF(ISNUMBER($A57),$A57*B57))/$A58","v":3.3372057983026344E-2},{"$f":"($A58*LN(1+'Curves without VA'!C58)-IF(ISNUMBER($A57),$A57*LN(1+'Curves without VA'!C57),0)+($A58<=C$2)*LN(1+C$5/10000)+IF(ISNUMBER($A57),$A57*C57))/$A58","v":3.6501334614498629E-2},{"$f":"($A58*LN(1+'Curves without VA'!D58)-IF(ISNUMBER($A57),$A57*LN(1+'Curves without VA'!D57),0)+($A58<=D$2)*LN(1+D$5/10000)+IF(ISNUMBER($A57),$A57*D57))/$A58","v":3.1950148925612903E-2},{"$f":"($A58*LN(1+'Curves without VA'!E58)-IF(ISNUMBER($A57),$A57*LN(1+'Curves without VA'!E57),0)+($A58<=E$2)*LN(1+E$5/10000)+IF(ISNUMBER($A57),$A57*E57))/$A58","v":4.2503988245804154E-2},{"$f":"($A58*LN(1+'Curves without VA'!F58)-IF(ISNUMBER($A57),$A57*LN(1+'Curves without VA'!F57),0)+($A58<=F$2)*LN(1+F$5/10000)+IF(ISNUMBER($A57),$A57*F57))/$A58","v":4.7743217057170412E-2},{"$f":"($A58*LN(1+'Curves without VA'!G58)-IF(ISNUMBER($A57),$A57*LN(1+'Curves without VA'!G57),0)+($A58<=G$2)*LN(1+G$5/10000)+IF(ISNUMBER($A57),$A57*G57))/$A58","v":4.5005922863516297E-2},3.4129409286547396E-2,4.0420395040874135E-2,3.3675250893456576E-2,4.5523091789023029E-2,4.8901280782939649E-2,4.8525355189629416E-2,{"$f":"(1+'Curves without VA'!H58)*(1+H58)/(1+'Curves without VA'!B58)-1","v":4.3762679035853402E-2},{"$f":"(1+'Curves without VA'!I58)*(1+I58)/(1+'Curves without VA'!C58)-1","v":5.4755641169027314E-2},{"$f":"(1+'Curves without VA'!J58)*(1+J58)/(1+'Curves without VA'!D58)-1","v":4.4824432159007443E-2},{"$f":"(1+'Curves without VA'!K58)*(1+K58)/(1+'Curves without VA'!E58)-1","v":5.8107373591121503E-2},{"$f":"(1+'Curves without VA'!L58)*(1+L58)/(1+'Curves without VA'!F58)-1","v":6.5573080747357126E-2},{"$f":"(1+'Curves without VA'!M58)*(1+M58)/(1+'Curves without VA'!G58)-1","v":6.2817130059772408E-2},{"$f":"(1+'Curves without VA'!N58)*(1+H58)/(1+'Curves without VA'!B58)-1","v":1.9882129448932639E-2},{"$f":"(1+'Curves without VA'!O58)*(1+I58)/(1+'Curves without VA'!C58)-1","v":2.8205580883098991E-2},{"$f":"(1+'Curves without VA'!P58)*(1+J58)/(1+'Curves without VA'!D58)-1","v":1.676929751097278E-2},{"$f":"(1+'Curves without VA'!Q58)*(1+K58)/(1+'Curves without VA'!E58)-1","v":2.4569345207707372E-2},{"$f":"(1+'Curves without VA'!R58)*(1+L58)/(1+'Curves without VA'!F58)-1","v":1.9429089697516888E-2},{"$f":"(1+'Curves without VA'!S58)*(1+M58)/(1+'Curves without VA'!G58)-1","v":2.562988295383084E-2}]
[46,{"$f":"($A59*LN(1+'Curves without VA'!B59)-IF(ISNUMBER($A58),$A58*LN(1+'Curves without VA'!B58),0)+($A59<=B$2)*LN(1+B$5/10000)+IF(ISNUMBER($A58),$A58*B58))/$A59","v":3.3352096800524381E-2},{"$f":"($A59*LN(1+'Curves without VA'!C59)-IF(ISNUMBER($A58),$A58*LN(1+'Curves without VA'!C58),0)+($A59<=C$2)*LN(1+C$5/10000)+IF(ISNUMBER($A58),$A58*C58))/$A59","v":3.6413468423928237E-2},{"$f":"($A59*LN(1+'Curves without VA'!D59)-IF(ISNUMBER($A58),$A58*LN(1+'Curves without VA'!D58),0)+($A59<=D$2)*LN(1+D$5/10000)+IF(ISNUMBER($A58),$A58*D58))/$A59","v":3.1943291586620119E-2},{"$f":"($A59*LN(1+'Curves without VA'!E59)-IF(ISNUMBER($A58),$A58*LN(1+'Curves without VA'!E58),0)+($A59<=E$2)*LN(1+E$5/10000)+IF(ISNUMBER($A58),$A58*E58))/$A59","v":4.2284925346694459E-2},{"$f":"($A59*LN(1+'Curves without VA'!F59)-IF(ISNUMBER($A58),$A58*LN(1+'Curves without VA'!F58),0)+($A59<=F$2)*LN(1+F$5/10000)+IF(ISNUMBER($A58),$A58*F58))/$A59","v":4.7549242641124742E-2},{"$f":"($A59*LN(1+'Curves without VA'!G59)-IF(ISNUMBER($A58),$A58*LN(1+'Curves without VA'!G58),0)+($A59<=G$2)*LN(1+G$5/10000)+IF(ISNUMBER($A58),$A58*G58))/$A59","v":4.4732470081412699E-2},3.4105895727067903E-2,4.0271022522212485E-2,3.367116670215986E-2,4.5299306804063688E-2,4.8697840501253031E-2,4.8244863425599638E-2,{"$f":"(1+'Curves without VA'!H59)*(1+H59)/(1+'Curves without VA'!B59)-1","v":4.3570796379939214E-2},{"$f":"(1+'Curves without VA'!I59)*(1+I59)/(1+'Curves without VA'!C59)-1","v":5.4347882262370195E-2},{"$f":"(1+'Curves without VA'!J59)*(1+J59)/(1+'Curves without VA'!D59)-1","v":4.4657221716033701E-2},{"$f":"(1+'Curves without VA'!K59)*(1+K59)/(1+'Curves without VA'!E59)-1","v":5.7683296565536946E-2},{"$f":"(1+'Curves without VA'!L59)*(1+L59)/(1+'Curves without VA'!F59)-1","v":6.5326918006516133E-2},{"$f":"(1+'Curves without VA'!M59)*(1+M59)/(1+'Curves without VA'!G59)-1","v":6.2319042125154267E-2},{"$f":"(1+'Curves without VA'!N59)*(1+H59)/(1+'Curves without VA'!B59)-1","v":2.0106580214703129E-2},{"$f":"(1+'Curves without VA'!O59)*(1+I59)/(1+'Curves without VA'!C59)-1","v":2.8278137093993294E-2},{"$f":"(1+'Curves without VA'!P59)*(1+J59)/(1+'Curves without VA'!D59)-1","v":1.7029988130901286E-2},{"$f":"(1+'Curves without VA'!Q59)*(1+K59)/(1+'Curves without VA'!E59)-1","v":2.4704891601125656E-2},{"$f":"(1+'Curves without VA'!R59)*(1+L59)/(1+'Curves without VA'!F59)-1","v":1.9552866310476036E-2},{"$f":"(1+'Curves without VA'!S59)*(1+M59)/(1+'Curves without VA'!G59)-1","v":2.5759434009686943E-2}]
[47,{"$f":"($A60*LN(1+'Curves without VA'!B60)-IF(ISNUMBER($A59),$A59*LN(1+'Curves without VA'!B59),0)+($A60<=B$2)*LN(1+B$5/10000)+IF(ISNUMBER($A59),$A59*B59))/$A60","v":3.3333014609934764E-2},{"$f":"($A60*LN(1+'Curves without VA'!C60)-IF(ISNUMBER($A59),$A59*LN(1+'Curves without VA'!C59),0)+($A60<=C$2)*LN(1+C$5/10000)+IF(ISNUMBER($A59),$A59*C59))/$A60","v":3.6329358286303196E-2},{"$f":"($A60*LN(1+'Curves without VA'!D60)-IF(ISNUMBER($A59),$A59*LN(1+'Curves without VA'!D59),0)+($A60<=D$2)*LN(1+D$5/10000)+IF(ISNUMBER($A59),$A59*D59))/$A60","v":3.1936424535046561E-2},{"$f":"($A60*LN(1+'Curves without VA'!E60)-IF(ISNUMBER($A59),$A59*LN(1+'Curves without VA'!E59),0)+($A60<=E$2)*LN(1+E$5/10000)+IF(ISNUMBER($A59),$A59*E59))/$A60","v":4.207527313598218E-2},{"$f":"($A60*LN(1+'Curves without VA'!F60)-IF(ISNUMBER($A59),$A59*LN(1+'Curves without VA'!F59),0)+($A60<=F$2)*LN(1+F$5/10000)+IF(ISNUMBER($A59),$A59*F59))/$A60","v":4.7363522455549187E-2},{"$f":"($A60*LN(1+'Curves without VA'!G60)-IF(ISNUMBER($A59),$A59*LN(1+'Curves without VA'!G59),0)+($A60<=G$2)*LN(1+G$5/10000)+IF(ISNUMBER($A59),$A59*G59))/$A60","v":4.4470742450812818E-2},3.4083276002881968E-2,4.0126751581940345E-2,3.366395687242818E-2,4.5079986419399365E-2,4.8503094228419252E-2,4.7970314775912071E-2,{"$f":"(1+'Curves without VA'!H60)*(1+H60)/(1+'Curves without VA'!B60)-1","v":4.3386056070899404E-2},{"$f":"(1+'Curves without VA'!I60)*(1+I60)/(1+'Curves without VA'!C60)-1","v":5.395387510719285E-2},{"$f":"(1+'Curves without VA'!J60)*(1+J60)/(1+'Curves without VA'!D60)-1","v":4.4488967392298795E-2},{"$f":"(1+'Curves without VA'!K60)*(1+K60)/(1+'Curves without VA'!E60)-1","v":5.7267762010065892E-2},{"$f":"(1+'Curves without VA'!L60)*(1+L60)/(1+'Curves without VA'!F60)-1","v":6.5091275016387229E-2},{"$f":"(1+'Curves without VA'!M60)*(1+M60)/(1+'Curves without VA'!G60)-1","v":6.182956142301621E-2},{"$f":"(1+'Curves without VA'!N60)*(1+H60)/(1+'Curves without VA'!B60)-1","v":2.0324250283476841E-2},{"$f":"(1+'Curves without VA'!O60)*(1+I60)/(1+'Curves without VA'!C60)-1","v":2.834750350857651E-2},{"$f":"(1+'Curves without VA'!P60)*(1+J60)/(1+'Curves without VA'!D60)-1","v":1.7283303758916624E-2},{"$f":"(1+'Curves without VA'!Q60)*(1+K60)/(1+'Curves without VA'!E60)-1","v":2.4836177927734848E-2},{"$f":"(1+'Curves without VA'!R60)*(1+L60)/(1+'Curves without VA'!F60)-1","v":1.9148569744515287E-2},{"$f":"(1+'Curves without VA'!S60)*(1+M60)/(1+'Curves without VA'!G60)-1","v":2.5883253512681392E-2}]
[48,{"$f":"($A61*LN(1+'Curves without VA'!B61)-IF(ISNUMBER($A60),$A60*LN(1+'Curves without VA'!B60),0)+($A61<=B$2)*LN(1+B$5/10000)+IF(ISNUMBER($A60),$A60*B60))/$A61","v":3.3314753457240033E-2},{"$f":"($A61*LN(1+'Curves without VA'!C61)-IF(ISNUMBER($A60),$A60*LN(1+'Curves without VA'!C60),0)+($A61<=C$2)*LN(1+C$5/10000)+IF(ISNUMBER($A60),$A60*C60))/$A61","v":3.6248767707643292E-2},{"$f":"($A61*LN(1+'Curves without VA'!D61)-IF(ISNUMBER($A60),$A60*LN(1+'Curves without VA'!D60),0)+($A61<=D$2)*LN(1+D$5/10000)+IF(ISNUMBER($A60),$A60*D60))/$A61","v":3.192957913109698E-2},{"$f":"($A61*LN(1+'Curves without VA'!E61)-IF(ISNUMBER($A60),$A60*LN(1+'Curves without VA'!E60),0)+($A61<=E$2)*LN(1+E$5/10000)+IF(ISNUMBER($A60),$A60*E60))/$A61","v":4.1874434382004833E-2},{"$f":"($A61*LN(1+'Curves without VA'!F61)-IF(ISNUMBER($A60),$A60*LN(1+'Curves without VA'!F60),0)+($A61<=F$2)*LN(1+F$5/10000)+IF(ISNUMBER($A60),$A60*F60))/$A61","v":4.7185540611039162E-2},{"$f":"($A61*LN(1+'Curves without VA'!G61)-IF(ISNUMBER($A60),$A60*LN(1+'Curves without VA'!G60),0)+($A61<=G$2)*LN(1+G$5/10000)+IF(ISNUMBER($A60),$A60*G60))/$A61","v":4.4219998086109991E-2},3.406150516328621E-2,3.9987392642936603E-2,3.3654153346806437E-2,4.4865372238204193E-2,4.831649631974666E-2,4.7701956189543537E-2,{"$f":"(1+'Curves without VA'!H61)*(1+H61)/(1+'Curves without VA'!B61)-1","v":4.3208117891778475E-2},{"$f":"(1+'Curves without VA'!I61)*(1+I61)/(1+'Curves without VA'!C61)-1","v":5.357313715241574E-2},{"$f":"(1+'Curves without VA'!J61)*(1+J61)/(1+'Curves without VA'!D61)-1","v":4.4320571230036965E-2},{"$f":"(1+'Curves without VA'!K61)*(1+K61)/(1+'Curves without VA'!E61)-1","v":5.6861222069930051E-2},{"$f":"(1+'Curves without VA'!L61)*(1+L61)/(1+'Curves without VA'!F61)-1","v":6.4764949586893605E-2},{"$f":"(1+'Curves without VA'!M61)*(1+M61)/(1+'Curves without VA'!G61)-1","v":6.1349458774881516E-2},{"$f":"(1+'Curves without VA'!N61)*(1+H61)/(1+'Curves without VA'!B61)-1","v":2.0535284355944539E-2},{"$f":"(1+'Curves without VA'!O61)*(1+I61)/(1+'Curves without VA'!C61)-1","v":2.8413890099481698E-2},{"$f":"(1+'Curves without VA'!P61)*(1+J61)/(1+'Curves without VA'!D61)-1","v":1.7529331130869075E-2},{"$f":"(1+'Curves without VA'!Q61)*(1+K61)/(1+'Curves without VA'!E61)-1","v":2.4963317852296329E-2},{"$f":"(1+'Curves without VA'!R61)*(1+L61)/(1+'Curves without VA'!F61)-1","v":1.8751101515108948E-2},{"$f":"(1+'Curves without VA'!S61)*(1+M61)/(1+'Curves without VA'!G61)-1","v":2.600172254614308E-2}]
[49,{"$f":"($A62*LN(1+'Curves without VA'!B62)-IF(ISNUMBER($A61),$A61*LN(1+'Curves without VA'!B61),0)+($A62<=B$2)*LN(1+B$5/10000)+IF(ISNUMBER($A61),$A61*B61))/$A62","v":3.3297260427220081E-2},{"$f":"($A62*LN(1+'Curves without VA'!C62)-IF(ISNUMBER($A61),$A61*LN(1+'Curves without VA'!C61),0)+($A62<=C$2)*LN(1+C$5/10000)+IF(ISNUMBER($A61),$A61*C61))/$A62","v":3.6171479677218142E-2},{"$f":"($A62*LN(1+'Curves without VA'!D62)-IF(ISNUMBER($A61),$A61*LN(1+'Curves without VA'!D61),0)+($A62<=D$2)*LN(1+D$5/10000)+IF(ISNUMBER($A61),$A61*D61))/$A62","v":3.1922781036905851E-2},{"$f":"($A62*LN(1+'Curves without VA'!E62)-IF(ISNUMBER($A61),$A61*LN(1+'Curves without VA'!E61),0)+($A62<=E$2)*LN(1+E$5/10000)+IF(ISNUMBER($A61),$A61*E61))/$A62","v":4.1681861531558673E-2},{"$f":"($A62*LN(1+'Curves without VA'!F62)-IF(ISNUMBER($A61),$A61*LN(1+'Curves without VA'!F61),0)+($A62<=F$2)*LN(1+F$5/10000)+IF(ISNUMBER($A61),$A61*F61))/$A62","v":4.7014823331611277E-2},{"$f":"($A62*LN(1+'Curves without VA'!G62)-IF(ISNUMBER($A61),$A61*LN(1+'Curves without VA'!G61),0)+($A62<=G$2)*LN(1+G$5/10000)+IF(ISNUMBER($A61),$A61*G61))/$A62","v":4.3979556588641167E-2},3.4040540812010134E-2,3.9852758336748728E-2,3.3642210313345577E-2,4.4655632688737956E-2,4.8137545854918473E-2,4.7439950862827818E-2,{"$f":"(1+'Curves without VA'!H62)*(1+H62)/(1+'Curves without VA'!B62)-1","v":4.3036658466297117E-2},{"$f":"(1+'Curves without VA'!I62)*(1+I62)/(1+'Curves without VA'!C62)-1","v":5.320518619107828E-2},{"$f":"(1+'Curves without VA'!J62)*(1+J62)/(1+'Curves without VA'!D62)-1","v":4.4152775957121637E-2},{"$f":"(1+'Curves without VA'!K62)*(1+K62)/(1+'Curves without VA'!E62)-1","v":5.6463990206074843E-2},{"$f":"(1+'Curves without VA'!L62)*(1+L62)/(1+'Curves without VA'!F62)-1","v":6.4548419524451672E-2},{"$f":"(1+'Curves without VA'!M62)*(1+M62)/(1+'Curves without VA'!G62)-1","v":6.0879306803768518E-2},{"$f":"(1+'Curves without VA'!N62)*(1+H62)/(1+'Curves without VA'!B62)-1","v":2.0739843579939743E-2},{"$f":"(1+'Curves without VA'!O62)*(1+I62)/(1+'Curves without VA'!C62)-1","v":2.8477488611695856E-2},{"$f":"(1+'Curves without VA'!P62)*(1+J62)/(1+'Curves without VA'!D62)-1","v":1.7768187759375387E-2},{"$f":"(1+'Curves without VA'!Q62)*(1+K62)/(1+'Curves without VA'!E62)-1","v":2.5086431256374109E-2},{"$f":"(1+'Curves without VA'!R62)*(1+L62)/(1+'Curves without VA'!F62)-1","v":1.8887763267770863E-2},{"$f":"(1+'Curves without VA'!S62)*(1+M62)/(1+'Curves without VA'!G62)-1","v":2.611518873943397E-2}]
[50,{"$f":"($A63*LN(1+'Curves without VA'!B63)-IF(ISNUMBER($A62),$A62*LN(1+'Curves without VA'!B62),0)+($A63<=B$2)*LN(1+B$5/10000)+IF(ISNUMBER($A62),$A62*B62))/$A63","v":3.3280487108145268E-2},{"$f":"($A63*LN(1+'Curves without VA'!C63)-IF(ISNUMBER($A62),$A62*LN(1+'Curves without VA'!C62),0)+($A63<=C$2)*LN(1+C$5/10000)+IF(ISNUMBER($A62),$A62*C62))/$A63","v":3.6097294701089314E-2},{"$f":"($A63*LN(1+'Curves without VA'!D63)-IF(ISNUMBER($A62),$A62*LN(1+'Curves without VA'!D62),0)+($A63<=D$2)*LN(1+D$5/10000)+IF(ISNUMBER($A62),$A62*D62))/$A63","v":3.1916051106683385E-2},{"$f":"($A63*LN(1+'Curves without VA'!E63)-IF(ISNUMBER($A62),$A62*LN(1+'Curves without VA'!E62),0)+($A63<=E$2)*LN(1+E$5/10000)+IF(ISNUMBER($A62),$A62*E62))/$A63","v":4.1497051647641794E-2},{"$f":"($A63*LN(1+'Curves without VA'!F63)-IF(ISNUMBER($A62),$A62*LN(1+'Curves without VA'!F62),0)+($A63<=F$2)*LN(1+F$5/10000)+IF(ISNUMBER($A62),$A62*F62))/$A63","v":4.6850934743360287E-2},{"$f":"($A63*LN(1+'Curves without VA'!G63)-IF(ISNUMBER($A62),$A62*LN(1+'Curves without VA'!G62),0)+($A63<=G$2)*LN(1+G$5/10000)+IF(ISNUMBER($A62),$A62*G62))/$A63","v":4.3748792803582577E-2},3.402034296569667E-2,3.9722664643801808E-2,3.3628515479635634E-2,4.4450875827626968E-2,4.7965782147675551E-2,4.7184393151261439E-2,{"$f":"(1+'Curves without VA'!H63)*(1+H63)/(1+'Curves without VA'!B63)-1","v":4.2871370698507993E-2},{"$f":"(1+'Curves without VA'!I63)*(1+I63)/(1+'Curves without VA'!C63)-1","v":5.2849544364753642E-2},{"$f":"(1+'Curves without VA'!J63)*(1+J63)/(1+'Curves without VA'!D63)-1","v":4.3986189678093313E-2},{"$f":"(1+'Curves without VA'!K63)*(1+K63)/(1+'Curves without VA'!E63)-1","v":5.6076265557237992E-2},{"$f":"(1+'Curves without VA'!L63)*(1+L63)/(1+'Curves without VA'!F63)-1","v":6.4240043478687614E-2},{"$f":"(1+'Curves without VA'!M63)*(1+M63)/(1+'Curves without VA'!G63)-1","v":6.041951371365184E-2},{"$f":"(1+'Curves without VA'!N63)*(1+H63)/(1+'Curves without VA'!B63)-1","v":2.093810104120597E-2},{"$f":"(1+'Curves without VA'!O63)*(1+I63)/(1+'Curves without VA'!C63)-1","v":2.8538474496080379E-2},{"$f":"(1+'Curves without VA'!P63)*(1+J63)/(1+'Curves without VA'!D63)-1","v":1.8000015021965687E-2},{"$f":"(1+'Curves without VA'!Q63)*(1+K63)/(1+'Curves without VA'!E63)-1","v":2.5205642041679521E-2},{"$f":"(1+'Curves without VA'!R63)*(1+L63)/(1+'Curves without VA'!F63)-1","v":1.8501008471686342E-2},{"$f":"(1+'Curves without VA'!S63)*(1+M63)/(1+'Curves without VA'!G63)-1","v":2.6223969851848272E-2}]
[51,{"$f":"($A64*LN(1+'Curves without VA'!B64)-IF(ISNUMBER($A63),$A63*LN(1+'Curves without VA'!B63),0)+($A64<=B$2)*LN(1+B$5/10000)+IF(ISNUMBER($A63),$A63*B63))/$A64","v":3.3264389122657431E-2},{"$f":"($A64*LN(1+'Curves without VA'!C64)-IF(ISNUMBER($A63),$A63*LN(1+'Curves without VA'!C63),0)+($A64<=C$2)*LN(1+C$5/10000)+IF(ISNUMBER($A63),$A63*C63))/$A64","v":3.6026029068854083E-2},{"$f":"($A64*LN(1+'Curves without VA'!D64)-IF(ISNUMBER($A63),$A63*LN(1+'Curves without VA'!D63),0)+($A64<=D$2)*LN(1+D$5/10000)+IF(ISNUMBER($A63),$A63*D63))/$A64","v":3.1909406139427651E-2},{"$f":"($A64*LN(1+'Curves without VA'!E64)-IF(ISNUMBER($A63),$A63*LN(1+'Curves without VA'!E63),0)+($A64<=E$2)*LN(1+E$5/10000)+IF(ISNUMBER($A63),$A63*E63))/$A64","v":4.131954195239762E-2},{"$f":"($A64*LN(1+'Curves without VA'!F64)-IF(ISNUMBER($A63),$A63*LN(1+'Curves without VA'!F63),0)+($A64<=F$2)*LN(1+F$5/10000)+IF(ISNUMBER($A63),$A63*F63))/$A64","v":4.6564806904778905E-2},{"$f":"($A64*LN(1+'Curves without VA'!G64)-IF(ISNUMBER($A63),$A63*LN(1+'Curves without VA'!G63),0)+($A64<=G$2)*LN(1+G$5/10000)+IF(ISNUMBER($A63),$A63*G63))/$A64","v":4.3527131320966916E-2},3.4000873917387375E-2,3.9596931759699583E-2,3.3613399664853549E-2,4.4251160074153306E-2,4.7793857955253705E-2,4.693532105543885E-2,{"$f":"(1+'Curves without VA'!H64)*(1+H64)/(1+'Curves without VA'!B64)-1","v":4.2711963162778366E-2},{"$f":"(1+'Curves without VA'!I64)*(1+I64)/(1+'Curves without VA'!C64)-1","v":5.2505741278362494E-2},{"$f":"(1+'Curves without VA'!J64)*(1+J64)/(1+'Curves without VA'!D64)-1","v":4.3821306768311086E-2},{"$f":"(1+'Curves without VA'!K64)*(1+K64)/(1+'Curves without VA'!E64)-1","v":5.5698153355310254E-2},{"$f":"(1+'Curves without VA'!L64)*(1+L64)/(1+'Curves without VA'!F64)-1","v":6.4042746407794171E-2},{"$f":"(1+'Curves without VA'!M64)*(1+M64)/(1+'Curves without VA'!G64)-1","v":5.9970351658119814E-2},{"$f":"(1+'Curves without VA'!N64)*(1+H64)/(1+'Curves without VA'!B64)-1","v":2.1130238074931196E-2},{"$f":"(1+'Curves without VA'!O64)*(1+I64)/(1+'Curves without VA'!C64)-1","v":2.85970086041889E-2},{"$f":"(1+'Curves without VA'!P64)*(1+J64)/(1+'Curves without VA'!D64)-1","v":1.8224972450644916E-2},{"$f":"(1+'Curves without VA'!Q64)*(1+K64)/(1+'Curves without VA'!E64)-1","v":2.5321076351913829E-2},{"$f":"(1+'Curves without VA'!R64)*(1+L64)/(1+'Curves without VA'!F64)-1","v":1.8306462903221243E-2},{"$f":"(1+'Curves without VA'!S64)*(1+M64)/(1+'Curves without VA'!G64)-1","v":2.632835691081481E-2}]
[52,{"$f":"($A65*LN(1+'Curves without VA'!B65)-IF(ISNUMBER($A64),$A64*LN(1+'Curves without VA'!B64),0)+($A65<=B$2)*LN(1+B$5/10000)+IF(ISNUMBER($A64),$A64*B64))/$A65","v":3.3248925715597441E-2},{"$f":"($A65*LN(1+'Curves without VA'!C65)-IF(ISNUMBER($A64),$A64*LN(1+'Curves without VA'!C64),0)+($A65<=C$2)*LN(1+C$5/10000)+IF(ISNUMBER($A64),$A64*C64))/$A65","v":3.595751332200546E-2},{"$f":"($A65*LN(1+'Curves without VA'!D65)-IF(ISNUMBER($A64),$A64*LN(1+'Curves without VA'!D64),0)+($A65<=D$2)*LN(1+D$5/10000)+IF(ISNUMBER($A64),$A64*D64))/$A65","v":3.1902859516038766E-2},{"$f":"($A65*LN(1+'Curves without VA'!E65)-IF(ISNUMBER($A64),$A64*LN(1+'Curves without VA'!E64),0)+($A65<=E$2)*LN(1+E$5/10000)+IF(ISNUMBER($A64),$A64*E64))/$A65","v":4.1148905892806301E-2},{"$f":"($A65*LN(1+'Curves without VA'!F65)-IF(ISNUMBER($A64),$A64*LN(1+'Curves without VA'!F64),0)+($A65<=F$2)*LN(1+F$5/10000)+IF(ISNUMBER($A64),$A64*F64))/$A65","v":4.6290102199320865E-2},{"$f":"($A65*LN(1+'Curves without VA'!G65)-IF(ISNUMBER($A64),$A64*LN(1+'Curves without VA'!G64),0)+($A65<=G$2)*LN(1+G$5/10000)+IF(ISNUMBER($A64),$A64*G64))/$A65","v":4.331404161967229E-2},3.3982098105529657E-2,3.9475384738867803E-2,3.3597144972159487E-2,4.405650321163046E-2,4.7615947221935517E-2,4.6692726676452301E-2,{"$f":"(1+'Curves without VA'!H65)*(1+H65)/(1+'Curves without VA'!B65)-1","v":4.2558159462706247E-2},{"$f":"(1+'Curves without VA'!I65)*(1+I65)/(1+'Curves without VA'!C65)-1","v":5.2173316388663737E-2},{"$f":"(1+'Curves without VA'!J65)*(1+J65)/(1+'Curves without VA'!D65)-1","v":4.3658525572195517E-2},{"$f":"(1+'Curves without VA'!K65)*(1+K65)/(1+'Curves without VA'!E65)-1","v":5.5329682035916816E-2},{"$f":"(1+'Curves without VA'!L65)*(1+L65)/(1+'Curves without VA'!F65)-1","v":6.3812822650591183E-2},{"$f":"(1+'Curves without VA'!M65)*(1+M65)/(1+'Curves without VA'!G65)-1","v":5.9531980573078291E-2},{"$f":"(1+'Curves without VA'!N65)*(1+H65)/(1+'Curves without VA'!B65)-1","v":2.1316441258180996E-2},{"$f":"(1+'Curves without VA'!O65)*(1+I65)/(1+'Curves without VA'!C65)-1","v":2.8653238677643467E-2},{"$f":"(1+'Curves without VA'!P65)*(1+J65)/(1+'Curves without VA'!D65)-1","v":1.8443233021836924E-2},{"$f":"(1+'Curves without VA'!Q65)*(1+K65)/(1+'Curves without VA'!E65)-1","v":2.5432861140517016E-2},{"$f":"(1+'Curves without VA'!R65)*(1+L65)/(1+'Curves without VA'!F65)-1","v":1.8165170659075747E-2},{"$f":"(1+'Curves without VA'!S65)*(1+M65)/(1+'Curves without VA'!G65)-1","v":2.6428616966791996E-2}]
[53,{"$f":"($A66*LN(1+'Curves without VA'!B66)-IF(ISNUMBER($A65),$A65*LN(1+'Curves without VA'!B65),0)+($A66<=B$2)*LN(1+B$5/10000)+IF(ISNUMBER($A65),$A65*B65))/$A66","v":3.3234059390975644E-2},{"$f":"($A66*LN(1+'Curves without VA'!C66)-IF(ISNUMBER($A65),$A65*LN(1+'Curves without VA'!C65),0)+($A66<=C$2)*LN(1+C$5/10000)+IF(ISNUMBER($A65),$A65*C65))/$A66","v":3.5891590897117666E-2},{"$f":"($A66*LN(1+'Curves without VA'!D66)-IF(ISNUMBER($A65),$A65*LN(1+'Curves without VA'!D65),0)+($A66<=D$2)*LN(1+D$5/10000)+IF(ISNUMBER($A65),$A65*D65))/$A66","v":3.1896421739046346E-2},{"$f":"($A66*LN(1+'Curves without VA'!E66)-IF(ISNUMBER($A65),$A65*LN(1+'Curves without VA'!E65),0)+($A66<=E$2)*LN(1+E$5/10000)+IF(ISNUMBER($A65),$A65*E65))/$A66","v":4.0984749659214115E-2},{"$f":"($A66*LN(1+'Curves without VA'!F66)-IF(ISNUMBER($A65),$A65*LN(1+'Curves without VA'!F65),0)+($A66<=F$2)*LN(1+F$5/10000)+IF(ISNUMBER($A65),$A65*F65))/$A66","v":4.6026131292647147E-2},{"$f":"($A66*LN(1+'Curves without VA'!G66)-IF(ISNUMBER($A65),$A65*LN(1+'Curves without VA'!G65),0)+($A66<=G$2)*LN(1+G$5/10000)+IF(ISNUMBER($A65),$A65*G65))/$A66","v":4.3109033768592285E-2},3.3963981988822889E-2,3.9357853957566746E-2,3.357999176061055E-2,4.3866889935377129E-2,4.74336835136413E-2,4.6456564969457492E-2,{"$f":"(1+'Curves without VA'!H66)*(1+H66)/(1+'Curves without VA'!B66)-1","v":4.2409697573528415E-2},{"$f":"(1+'Curves without VA'!I66)*(1+I66)/(1+'Curves without VA'!C66)-1","v":5.1851820800493664E-2},{"$f":"(1+'Curves without VA'!J66)*(1+J66)/(1+'Curves without VA'!D66)-1","v":4.3498163407022394E-2},{"$f":"(1+'Curves without VA'!K66)*(1+K66)/(1+'Curves without VA'!E66)-1","v":5.4970817578142039E-2},{"$f":"(1+'Curves without VA'!L66)*(1+L66)/(1+'Curves without VA'!F66)-1","v":6.3556254198235962E-2},{"$f":"(1+'Curves without VA'!M66)*(1+M66)/(1+'Curves without VA'!G66)-1","v":5.9104468201816474E-2},{"$f":"(1+'Curves without VA'!N66)*(1+H66)/(1+'Curves without VA'!B66)-1","v":2.1496899967417438E-2},{"$f":"(1+'Curves without VA'!O66)*(1+I66)/(1+'Curves without VA'!C66)-1","v":2.8707300660198998E-2},{"$f":"(1+'Curves without VA'!P66)*(1+J66)/(1+'Curves without VA'!D66)-1","v":1.8654979279989492E-2},{"$f":"(1+'Curves without VA'!Q66)*(1+K66)/(1+'Curves without VA'!E66)-1","v":2.5541123024325429E-2},{"$f":"(1+'Curves without VA'!R66)*(1+L66)/(1+'Curves without VA'!F66)-1","v":1.8069423639111903E-2},{"$f":"(1+'Curves without VA'!S66)*(1+M66)/(1+'Curves without VA'!G66)-1","v":2.6524995517604344E-2}]
[54,{"$f":"($A67*LN(1+'Curves without VA'!B67)-IF(ISNUMBER($A66),$A66*LN(1+'Curves without VA'!B66),0)+($A67<=B$2)*LN(1+B$5/10000)+IF(ISNUMBER($A66),$A66*B66))/$A67","v":3.3219755591454146E-2},{"$f":"($A67*LN(1+'Curves without VA'!C67)-IF(ISNUMBER($A66),$A66*LN(1+'Curves without VA'!C66),0)+($A67<=C$2)*LN(1+C$5/10000)+IF(ISNUMBER($A66),$A66*C66))/$A67","v":3.5828116921043408E-2},{"$f":"($A67*LN(1+'Curves without VA'!D67)-IF(ISNUMBER($A66),$A66*LN(1+'Curves without VA'!D66),0)+($A67<=D$2)*LN(1+D$5/10000)+IF(ISNUMBER($A66),$A66*D66))/$A67","v":3.1890100890154281E-2},{"$f":"($A67*LN(1+'Curves without VA'!E67)-IF(ISNUMBER($A66),$A66*LN(1+'Curves without VA'!E66),0)+($A67<=E$2)*LN(1+E$5/10000)+IF(ISNUMBER($A66),$A66*E66))/$A67","v":4.0826709097240836E-2},{"$f":"($A67*LN(1+'Curves without VA'!F67)-IF(ISNUMBER($A66),$A66*LN(1+'Curves without VA'!F66),0)+($A67<=F$2)*LN(1+F$5/10000)+IF(ISNUMBER($A66),$A66*F66))/$A67","v":4.5772260282019167E-2},{"$f":"($A67*LN(1+'Curves without VA'!G67)-IF(ISNUMBER($A66),$A66*LN(1+'Curves without VA'!G66),0)+($A67<=G$2)*LN(1+G$5/10000)+IF(ISNUMBER($A66),$A66*G66))/$A67","v":4.2911654612000832E-2},3.39464939270675E-2,3.9244175430781514E-2,3.3562144600128185E-2,4.3682278180255718E-2,4.7248446701142699E-2,4.6226761069253275E-2,{"$f":"(1+'Curves without VA'!H67)*(1+H67)/(1+'Curves without VA'!B67)-1","v":4.2266329179356354E-2},{"$f":"(1+'Curves without VA'!I67)*(1+I67)/(1+'Curves without VA'!C67)-1","v":5.1540818580991798E-2},{"$f":"(1+'Curves without VA'!J67)*(1+J67)/(1+'Curves without VA'!D67)-1","v":4.3340469291621275E-2},{"$f":"(1+'Curves without VA'!K67)*(1+K67)/(1+'Curves without VA'!E67)-1","v":5.4621475518362717E-2},{"$f":"(1+'Curves without VA'!L67)*(1+L67)/(1+'Curves without VA'!F67)-1","v":6.3278157861528017E-2},{"$f":"(1+'Curves without VA'!M67)*(1+M67)/(1+'Curves without VA'!G67)-1","v":5.8687806919925034E-2},{"$f":"(1+'Curves without VA'!N67)*(1+H67)/(1+'Curves without VA'!B67)-1","v":2.1671804405108519E-2},{"$f":"(1+'Curves without VA'!O67)*(1+I67)/(1+'Curves without VA'!C67)-1","v":2.8759319856367815E-2},{"$f":"(1+'Curves without VA'!P67)*(1+J67)/(1+'Curves without VA'!D67)-1","v":1.8860400156342827E-2},{"$f":"(1+'Curves without VA'!Q67)*(1+K67)/(1+'Curves without VA'!E67)-1","v":2.5645987373500878E-2},{"$f":"(1+'Curves without VA'!R67)*(1+L67)/(1+'Curves without VA'!F67)-1","v":1.8012570603529676E-2},{"$f":"(1+'Curves without VA'!S67)*(1+M67)/(1+'Curves without VA'!G67)-1","v":2.6617718646942956E-2}]
[55,{"$f":"($A68*LN(1+'Curves without VA'!B68)-IF(ISNUMBER($A67),$A67*LN(1+'Curves without VA'!B67),0)+($A68<=B$2)*LN(1+B$5/10000)+IF(ISNUMBER($A67),$A67*B67))/$A68","v":3.3205982414714501E-2},{"$f":"($A68*LN(1+'Curves without VA'!C68)-IF(ISNUMBER($A67),$A67*LN(1+'Curves without VA'!C67),0)+($A68<=C$2)*LN(1+C$5/10000)+IF(ISNUMBER($A67),$A67*C67))/$A68","v":3.5766957138651891E-2},{"$f":"($A68*LN(1+'Curves without VA'!D68)-IF(ISNUMBER($A67),$A67*LN(1+'Curves without VA'!D67),0)+($A68<=D$2)*LN(1+D$5/10000)+IF(ISNUMBER($A67),$A67*D67))/$A68","v":3.1883903018333305E-2},{"$f":"($A68*LN(1+'Curves without VA'!E68)-IF(ISNUMBER($A67),$A67*LN(1+'Curves without VA'!E67),0)+($A68<=E$2)*LN(1+E$5/10000)+IF(ISNUMBER($A67),$A67*E67))/$A68","v":4.0674446962325632E-2},{"$f":"($A68*LN(1+'Curves without VA'!F68)-IF(ISNUMBER($A67),$A67*LN(1+'Curves without VA'!F67),0)+($A68<=F$2)*LN(1+F$5/10000)+IF(ISNUMBER($A67),$A67*F67))/$A68","v":4.552790521015506E-2},{"$f":"($A68*LN(1+'Curves without VA'!G68)-IF(ISNUMBER($A67),$A67*LN(1+'Curves without VA'!G67),0)+($A68<=G$2)*LN(1+G$5/10000)+IF(ISNUMBER($A67),$A67*G67))/$A68","v":4.2721484376817248E-2},3.3929604068060781E-2,3.9134191011326536E-2,3.354377736355918E-2,4.350260442230347E-2,4.7061399576887597E-2,4.6003216416458326E-2,{"$f":"(1+'Curves without VA'!H68)*(1+H68)/(1+'Curves without VA'!B68)-1","v":4.2127819013946466E-2},{"$f":"(1+'Curves without VA'!I68)*(1+I68)/(1+'Curves without VA'!C68)-1","v":5.1239887682517971E-2},{"$f":"(1+'Curves without VA'!J68)*(1+J68)/(1+'Curves without VA'!D68)-1","v":4.3185634751355506E-2},{"$f":"(1+'Curves without VA'!K68)*(1+K68)/(1+'Curves without VA'!E68)-1","v":5.4281531009714667E-2},{"$f":"(1+'Curves without VA'!L68)*(1+L68)/(1+'Curves without VA'!F68)-1","v":6.2982906429909891E-2},{"$f":"(1+'Curves without VA'!M68)*(1+M68)/(1+'Curves without VA'!G68)-1","v":5.8281927867714467E-2},{"$f":"(1+'Curves without VA'!N68)*(1+H68)/(1+'Curves without VA'!B68)-1","v":2.1841344015662179E-2},{"$f":"(1+'Curves without VA'!O68)*(1+I68)/(1+'Curves without VA'!C68)-1","v":2.8809411956899567E-2},{"$f":"(1+'Curves without VA'!P68)*(1+J68)/(1+'Curves without VA'!D68)-1","v":1.9059688367591088E-2},{"$f":"(1+'Curves without VA'!Q68)*(1+K68)/(1+'Curves without VA'!E68)-1","v":2.5747577596578086E-2},{"$f":"(1+'Curves without VA'!R68)*(1+L68)/(1+'Curves without VA'!F68)-1","v":1.798886983466419E-2},{"$f":"(1+'Curves without VA'!S68)*(1+M68)/(1+'Curves without VA'!G68)-1","v":2.6706994915069115E-2}]
[56,{"$f":"($A69*LN(1+'Curves without VA'!B69)-IF(ISNUMBER($A68),$A68*LN(1+'Curves without VA'!B68),0)+($A69<=B$2)*LN(1+B$5/10000)+IF(ISNUMBER($A68),$A68*B68))/$A69","v":3.3192710361899545E-2},{"$f":"($A69*LN(1+'Curves without VA'!C69)-IF(ISNUMBER($A68),$A68*LN(1+'Curves without VA'!C68),0)+($A69<=C$2)*LN(1+C$5/10000)+IF(ISNUMBER($A68),$A68*C68))/$A69","v":3.5707986956423805E-2},{"$f":"($A69*LN(1+'Curves without VA'!D69)-IF(ISNUMBER($A68),$A68*LN(1+'Curves without VA'!D68),0)+($A69<=D$2)*LN(1+D$5/10000)+IF(ISNUMBER($A68),$A68*D68))/$A69","v":3.1877832469145655E-2},{"$f":"($A69*LN(1+'Curves without VA'!E69)-IF(ISNUMBER($A68),$A68*LN(1+'Curves without VA'!E68),0)+($A69<=E$2)*LN(1+E$5/10000)+IF(ISNUMBER($A68),$A68*E68))/$A69","v":4.0527650473497191E-2},{"$f":"($A69*LN(1+'Curves without VA'!F69)-IF(ISNUMBER($A68),$A68*LN(1+'Curves without VA'!F68),0)+($A69<=F$2)*LN(1+F$5/10000)+IF(ISNUMBER($A68),$A68*F68))/$A69","v":4.5292527212607465E-2},{"$f":"($A69*LN(1+'Curves without VA'!G69)-IF(ISNUMBER($A68),$A68*LN(1+'Curves without VA'!G68),0)+($A69<=G$2)*LN(1+G$5/10000)+IF(ISNUMBER($A68),$A68*G68))/$A69","v":4.253813364844438E-2},3.3913284240497221E-2,3.9027748494453895E-2,3.3525037585393047E-2,4.3327788117195176E-2,4.6873519175155032E-2,4.5785813875417691E-2,{"$f":"(1+'Curves without VA'!H69)*(1+H69)/(1+'Curves without VA'!B69)-1","v":4.1993944211667023E-2},{"$f":"(1+'Curves without VA'!I69)*(1+I69)/(1+'Curves without VA'!C69)-1","v":5.0948620548943557E-2},{"$f":"(1+'Curves without VA'!J69)*(1+J69)/(1+'Curves without VA'!D69)-1","v":4.3033802994390635E-2},{"$f":"(1+'Curves without VA'!K69)*(1+K69)/(1+'Curves without VA'!E69)-1","v":5.3950827237922994E-2},{"$f":"(1+'Curves without VA'!L69)*(1+L69)/(1+'Curves without VA'!F69)-1","v":6.2674232704305499E-2},{"$f":"(1+'Curves without VA'!M69)*(1+M69)/(1+'Curves without VA'!G69)-1","v":5.7886712815074182E-2},{"$f":"(1+'Curves without VA'!N69)*(1+H69)/(1+'Curves without VA'!B69)-1","v":2.2005706224377253E-2},{"$f":"(1+'Curves without VA'!O69)*(1+I69)/(1+'Curves without VA'!C69)-1","v":2.8857683948448232E-2},{"$f":"(1+'Curves without VA'!P69)*(1+J69)/(1+'Curves without VA'!D69)-1","v":1.925303829834446E-2},{"$f":"(1+'Curves without VA'!Q69)*(1+K69)/(1+'Curves without VA'!E69)-1","v":2.5846014586486499E-2},{"$f":"(1+'Curves without VA'!R69)*(1+L69)/(1+'Curves without VA'!F69)-1","v":1.799336320616618E-2},{"$f":"(1+'Curves without VA'!S69)*(1+M69)/(1+'Curves without VA'!G69)-1","v":2.6793017034148825E-2}]
[57,{"$f":"($A70*LN(1+'Curves without VA'!B70)-IF(ISNUMBER($A69),$A69*LN(1+'Curves without VA'!B69),0)+($A70<=B$2)*LN(1+B$5/10000)+IF(ISNUMBER($A69),$A69*B69))/$A70","v":3.3179912114019397E-2},{"$f":"($A70*LN(1+'Curves without VA'!C70)-IF(ISNUMBER($A69),$A69*LN(1+'Curves without VA'!C69),0)+($A70<=C$2)*LN(1+C$5/10000)+IF(ISNUMBER($A69),$A69*C69))/$A70","v":3.5651090587577559E-2},{"$f":"($A70*LN(1+'Curves without VA'!D70)-IF(ISNUMBER($A69),$A69*LN(1+'Curves without VA'!D69),0)+($A70<=D$2)*LN(1+D$5/10000)+IF(ISNUMBER($A69),$A69*D69))/$A70","v":3.1871892164271637E-2},{"$f":"($A70*LN(1+'Curves without VA'!E70)-IF(ISNUMBER($A69),$A69*LN(1+'Curves without VA'!E69),0)+($A70<=E$2)*LN(1+E$5/10000)+IF(ISNUMBER($A69),$A69*E69))/$A70","v":4.0386029129099194E-2},{"$f":"($A70*LN(1+'Curves without VA'!F70)-IF(ISNUMBER($A69),$A69*LN(1+'Curves without VA'!F69),0)+($A70<=F$2)*LN(1+F$5/10000)+IF(ISNUMBER($A69),$A69*F69))/$A70","v":4.5065628216184941E-2},{"$f":"($A70*LN(1+'Curves without VA'!G70)-IF(ISNUMBER($A69),$A69*LN(1+'Curves without VA'!G69),0)+($A70<=G$2)*LN(1+G$5/10000)+IF(ISNUMBER($A69),$A69*G69))/$A70","v":4.2361240669398066E-2},3.3897507852759468E-2,3.8924701647099713E-2,3.3506050196318693E-2,4.3157735411898379E-2,4.6685623582408464E-2,4.5574422003922255E-2,{"$f":"(1+'Curves without VA'!H70)*(1+H70)/(1+'Curves without VA'!B70)-1","v":4.1864493673633651E-2},{"$f":"(1+'Curves without VA'!I70)*(1+I70)/(1+'Curves without VA'!C70)-1","v":5.0666624466819021E-2},{"$f":"(1+'Curves without VA'!J70)*(1+J70)/(1+'Curves without VA'!D70)-1","v":4.2885076707364744E-2},{"$f":"(1+'Curves without VA'!K70)*(1+K70)/(1+'Curves without VA'!E70)-1","v":5.3629182453811763E-2},{"$f":"(1+'Curves without VA'!L70)*(1+L70)/(1+'Curves without VA'!F70)-1","v":6.2355318878167143E-2},{"$f":"(1+'Curves without VA'!M70)*(1+M70)/(1+'Curves without VA'!G70)-1","v":5.7502004115064898E-2},{"$f":"(1+'Curves without VA'!N70)*(1+H70)/(1+'Curves without VA'!B70)-1","v":2.2165075444177562E-2},{"$f":"(1+'Curves without VA'!O70)*(1+I70)/(1+'Curves without VA'!C70)-1","v":2.8904234922249472E-2},{"$f":"(1+'Curves without VA'!P70)*(1+J70)/(1+'Curves without VA'!D70)-1","v":1.9440644287183284E-2},{"$f":"(1+'Curves without VA'!Q70)*(1+K70)/(1+'Curves without VA'!E70)-1","v":2.5941416299190667E-2},{"$f":"(1+'Curves without VA'!R70)*(1+L70)/(1+'Curves without VA'!F70)-1","v":1.8021768367053159E-2},{"$f":"(1+'Curves without VA'!S70)*(1+M70)/(1+'Curves without VA'!G70)-1","v":2.6875963355967203E-2}]
[58,{"$f":"($A71*LN(1+'Curves without VA'!B71)-IF(ISNUMBER($A70),$A70*LN(1+'Curves without VA'!B70),0)+($A71<=B$2)*LN(1+B$5/10000)+IF(ISNUMBER($A70),$A70*B70))/$A71","v":3.3167562332794234E-2},{"$f":"($A71*LN(1+'Curves without VA'!C71)-IF(ISNUMBER($A70),$A70*LN(1+'Curves without VA'!C70),0)+($A71<=C$2)*LN(1+C$5/10000)+IF(ISNUMBER($A70),$A70*C70))/$A71","v":3.5596160286385056E-2},{"$f":"($A71*LN(1+'Curves without VA'!D71)-IF(ISNUMBER($A70),$A70*LN(1+'Curves without VA'!D70),0)+($A71<=D$2)*LN(1+D$5/10000)+IF(ISNUMBER($A70),$A70*D70))/$A71","v":3.1866083838805195E-2},{"$f":"($A71*LN(1+'Curves without VA'!E71)-IF(ISNUMBER($A70),$A70*LN(1+'Curves without VA'!E70),0)+($A71<=E$2)*LN(1+E$5/10000)+IF(ISNUMBER($A70),$A70*E70))/$A71","v":4.0249312752400727E-2},{"$f":"($A71*LN(1+'Curves without VA'!F71)-IF(ISNUMBER($A70),$A70*LN(1+'Curves without VA'!F70),0)+($A71<=F$2)*LN(1+F$5/10000)+IF(ISNUMBER($A70),$A70*F70))/$A71","v":4.4846747117789347E-2},{"$f":"($A71*LN(1+'Curves without VA'!G71)-IF(ISNUMBER($A70),$A70*LN(1+'Curves without VA'!G70),0)+($A71<=G$2)*LN(1+G$5/10000)+IF(ISNUMBER($A70),$A70*G70))/$A71","v":4.2190468921315193E-2},3.3882249797444697E-2,3.8824910177490457E-2,3.3486920725812164E-2,4.2992342243959092E-2,4.6498394903320417E-2,4.5368898609011055E-2,{"$f":"(1+'Curves without VA'!H71)*(1+H71)/(1+'Curves without VA'!B71)-1","v":4.1739267452665096E-2},{"$f":"(1+'Curves without VA'!I71)*(1+I71)/(1+'Curves without VA'!C71)-1","v":5.0393521712095435E-2},{"$f":"(1+'Curves without VA'!J71)*(1+J71)/(1+'Curves without VA'!D71)-1","v":4.2739524679484164E-2},{"$f":"(1+'Curves without VA'!K71)*(1+K71)/(1+'Curves without VA'!E71)-1","v":5.331639584088288E-2},{"$f":"(1+'Curves without VA'!L71)*(1+L71)/(1+'Curves without VA'!F71)-1","v":6.2028873374788462E-2},{"$f":"(1+'Curves without VA'!M71)*(1+M71)/(1+'Curves without VA'!G71)-1","v":5.7127613045415915E-2},{"$f":"(1+'Curves without VA'!N71)*(1+H71)/(1+'Curves without VA'!B71)-1","v":2.231963230410261E-2},{"$f":"(1+'Curves without VA'!O71)*(1+I71)/(1+'Curves without VA'!C71)-1","v":2.8949156794532138E-2},{"$f":"(1+'Curves without VA'!P71)*(1+J71)/(1+'Curves without VA'!D71)-1","v":1.9622699249262743E-2},{"$f":"(1+'Curves without VA'!Q71)*(1+K71)/(1+'Curves without VA'!E71)-1","v":2.6033897441372966E-2},{"$f":"(1+'Curves without VA'!R71)*(1+L71)/(1+'Curves without VA'!F71)-1","v":1.8070386290725216E-2},{"$f":"(1+'Curves without VA'!S71)*(1+M71)/(1+'Curves without VA'!G71)-1","v":2.6955999195796387E-2}]
[59,{"$f":"($A72*LN(1+'Curves without VA'!B72)-IF(ISNUMBER($A71),$A71*LN(1+'Curves without VA'!B71),0)+($A72<=B$2)*LN(1+B$5/10000)+IF(ISNUMBER($A71),$A71*B71))/$A72","v":3.3155637482901207E-2},{"$f":"($A72*LN(1+'Curves without VA'!C72)-IF(ISNUMBER($A71),$A71*LN(1+'Curves without VA'!C71),0)+($A72<=C$2)*LN(1+C$5/10000)+IF(ISNUMBER($A71),$A71*C71))/$A72","v":3.554309566101551E-2},{"$f":"($A72*LN(1+'Curves without VA'!D72)-IF(ISNUMBER($A71),$A71*LN(1+'Curves without VA'!D71),0)+($A72<=D$2)*LN(1+D$5/10000)+IF(ISNUMBER($A71),$A71*D71))/$A72","v":3.1860408242683283E-2},{"$f":"($A72*LN(1+'Curves without VA'!E72)-IF(ISNUMBER($A71),$A71*LN(1+'Curves without VA'!E71),0)+($A72<=E$2)*LN(1+E$5/10000)+IF(ISNUMBER($A71),$A71*E71))/$A72","v":4.0117249739415162E-2},{"$f":"($A72*LN(1+'Curves without VA'!F72)-IF(ISNUMBER($A71),$A71*LN(1+'Curves without VA'!F71),0)+($A72<=F$2)*LN(1+F$5/10000)+IF(ISNUMBER($A71),$A71*F71))/$A72","v":4.4635456383047264E-2},{"$f":"($A72*LN(1+'Curves without VA'!G72)-IF(ISNUMBER($A71),$A71*LN(1+'Curves without VA'!G71),0)+($A72<=G$2)*LN(1+G$5/10000)+IF(ISNUMBER($A71),$A71*G71))/$A72","v":4.2025504956314332E-2},3.3867486361425447E-2,3.8728239658012198E-2,3.346773805073755E-2,4.2831496924591761E-2,4.631239894611805E-2,4.5169093701643792E-2,{"$f":"(1+'Curves without VA'!H72)*(1+H72)/(1+'Curves without VA'!B72)-1","v":4.1618076159642747E-2},{"$f":"(1+'Curves without VA'!I72)*(1+I72)/(1+'Curves without VA'!C72)-1","v":5.0128949534111955E-2},{"$f":"(1+'Curves without VA'!J72)*(1+J72)/(1+'Curves without VA'!D72)-1","v":4.259718743144747E-2},{"$f":"(1+'Curves without VA'!K72)*(1+K72)/(1+'Curves without VA'!E72)-1","v":5.3012252401446691E-2},{"$f":"(1+'Curves without VA'!L72)*(1+L72)/(1+'Curves without VA'!F72)-1","v":6.1697196937982035E-2},{"$f":"(1+'Curves without VA'!M72)*(1+M72)/(1+'Curves without VA'!G72)-1","v":5.6763326789493807E-2},{"$f":"(1+'Curves without VA'!N72)*(1+H72)/(1+'Curves without VA'!B72)-1","v":2.2469553061152281E-2},{"$f":"(1+'Curves without VA'!O72)*(1+I72)/(1+'Curves without VA'!C72)-1","v":2.8992534949600746E-2},{"$f":"(1+'Curves without VA'!P72)*(1+J72)/(1+'Curves without VA'!D72)-1","v":1.9799393579383651E-2},{"$f":"(1+'Curves without VA'!Q72)*(1+K72)/(1+'Curves without VA'!E72)-1","v":2.6123569247551659E-2},{"$f":"(1+'Curves without VA'!R72)*(1+L72)/(1+'Curves without VA'!F72)-1","v":1.8136021885008402E-2},{"$f":"(1+'Curves without VA'!S72)*(1+M72)/(1+'Curves without VA'!G72)-1","v":2.7033278012871476E-2}]
[60,{"$f":"($A73*LN(1+'Curves without VA'!B73)-IF(ISNUMBER($A72),$A72*LN(1+'Curves without VA'!B72),0)+($A73<=B$2)*LN(1+B$5/10000)+IF(ISNUMBER($A72),$A72*B72))/$A73","v":3.3144115673011273E-2},{"$f":"($A73*LN(1+'Curves without VA'!C73)-IF(ISNUMBER($A72),$A72*LN(1+'Curves without VA'!C72),0)+($A73<=C$2)*LN(1+C$5/10000)+IF(ISNUMBER($A72),$A72*C72))/$A73","v":3.5491803055682107E-2},{"$f":"($A73*LN(1+'Curves without VA'!D73)-IF(ISNUMBER($A72),$A72*LN(1+'Curves without VA'!D72),0)+($A73<=D$2)*LN(1+D$5/10000)+IF(ISNUMBER($A72),$A72*D72))/$A73","v":3.1854865311644824E-2},{"$f":"($A73*LN(1+'Curves without VA'!E73)-IF(ISNUMBER($A72),$A72*LN(1+'Curves without VA'!E72),0)+($A73<=E$2)*LN(1+E$5/10000)+IF(ISNUMBER($A72),$A72*E72))/$A73","v":3.9989605484982996E-2},{"$f":"($A73*LN(1+'Curves without VA'!F73)-IF(ISNUMBER($A72),$A72*LN(1+'Curves without VA'!F72),0)+($A73<=F$2)*LN(1+F$5/10000)+IF(ISNUMBER($A72),$A72*F72))/$A73","v":4.44313590125585E-2},{"$f":"($A73*LN(1+'Curves without VA'!G73)-IF(ISNUMBER($A72),$A72*LN(1+'Curves without VA'!G72),0)+($A73<=G$2)*LN(1+G$5/10000)+IF(ISNUMBER($A72),$A72*G72))/$A73","v":4.1866056448267124E-2},3.3853195141233527E-2,3.8634561411926116E-2,3.3448576756029302E-2,4.2675082286511623E-2,4.6128102105314595E-2,4.4974851945093208E-2,{"$f":"(1+'Curves without VA'!H73)*(1+H73)/(1+'Curves without VA'!B73)-1","v":4.1500740393024538E-2},{"$f":"(1+'Curves without VA'!I73)*(1+I73)/(1+'Curves without VA'!C73)-1","v":4.9872560011186007E-2},{"$f":"(1+'Curves without VA'!J73)*(1+J73)/(1+'Curves without VA'!D73)-1","v":4.2458081998252739E-2},{"$f":"(1+'Curves without VA'!K73)*(1+K73)/(1+'Curves without VA'!E73)-1","v":5.2716527015647774E-2},{"$f":"(1+'Curves without VA'!L73)*(1+L73)/(1+'Curves without VA'!F73)-1","v":6.1362239509147987E-2},{"$f":"(1+'Curves without VA'!M73)*(1+M73)/(1+'Curves without VA'!G73)-1","v":5.6408914268551547E-2},{"$f":"(1+'Curves without VA'!N73)*(1+H73)/(1+'Curves without VA'!B73)-1","v":2.2615009163434507E-2},{"$f":"(1+'Curves without VA'!O73)*(1+I73)/(1+'Curves without VA'!C73)-1","v":2.9034448815027369E-2},{"$f":"(1+'Curves without VA'!P73)*(1+J73)/(1+'Curves without VA'!D73)-1","v":1.9970914288540031E-2},{"$f":"(1+'Curves without VA'!Q73)*(1+K73)/(1+'Curves without VA'!E73)-1","v":2.6210539330321803E-2},{"$f":"(1+'Curves without VA'!R73)*(1+L73)/(1+'Curves without VA'!F73)-1","v":1.8215915727296084E-2},{"$f":"(1+'Curves without VA'!S73)*(1+M73)/(1+'Curves without VA'!G73)-1","v":2.7107942465090629E-2}]
[61,{"$f":"($A74*LN(1+'Curves without VA'!B74)-IF(ISNUMBER($A73),$A73*LN(1+'Curves without VA'!B73),0)+($A74<=B$2)*LN(1+B$5/10000)+IF(ISNUMBER($A73),$A73*B73))/$A74","v":3.3132976513353285E-2},{"$f":"($A74*LN(1+'Curves without VA'!C74)-IF(ISNUMBER($A73),$A73*LN(1+'Curves without VA'!C73),0)+($A74<=C$2)*LN(1+C$5/10000)+IF(ISNUMBER($A73),$A73*C73))/$A74","v":3.5442194994075173E-2},{"$f":"($A74*LN(1+'Curves without VA'!D74)-IF(ISNUMBER($A73),$A73*LN(1+'Curves without VA'!D73),0)+($A74<=D$2)*LN(1+D$5/10000)+IF(ISNUMBER($A73),$A73*D73))/$A74","v":3.1849454312265157E-2},{"$f":"($A74*LN(1+'Curves without VA'!E74)-IF(ISNUMBER($A73),$A73*LN(1+'Curves without VA'!E73),0)+($A74<=E$2)*LN(1+E$5/10000)+IF(ISNUMBER($A73),$A73*E73))/$A74","v":3.9866160966348207E-2},{"$f":"($A74*LN(1+'Curves without VA'!F74)-IF(ISNUMBER($A73),$A73*LN(1+'Curves without VA'!F73),0)+($A74<=F$2)*LN(1+F$5/10000)+IF(ISNUMBER($A73),$A73*F73))/$A74","v":4.4234085830764769E-2},{"$f":"($A74*LN(1+'Curves without VA'!G74)-IF(ISNUMBER($A73),$A73*LN(1+'Curves without VA'!G73),0)+($A74<=G$2)*LN(1+G$5/10000)+IF(ISNUMBER($A73),$A73*G73))/$A74","v":4.1711850438430793E-2},3.3839354963526525E-2,3.8543752372597329E-2,3.3429499163536214E-2,4.2522977464687139E-2,4.5945885847866297E-2,4.4786014676917008E-2,{"$f":"(1+'Curves without VA'!H74)*(1+H74)/(1+'Curves without VA'!B74)-1","v":4.1387090192585463E-2},{"$f":"(1+'Curves without VA'!I74)*(1+I74)/(1+'Curves without VA'!C74)-1","v":4.9624019806045361E-2},{"$f":"(1+'Curves without VA'!J74)*(1+J74)/(1+'Curves without VA'!D74)-1","v":4.2322205992061601E-2},{"$f":"(1+'Curves without VA'!K74)*(1+K74)/(1+'Curves without VA'!E74)-1","v":5.2428987803359028E-2},{"$f":"(1+'Curves without VA'!L74)*(1+L74)/(1+'Curves without VA'!F74)-1","v":6.102564919943898E-2},{"$f":"(1+'Curves without VA'!M74)*(1+M74)/(1+'Curves without VA'!G74)-1","v":5.6064131003805917E-2},{"$f":"(1+'Curves without VA'!N74)*(1+H74)/(1+'Curves without VA'!B74)-1","v":2.2756166937847766E-2},{"$f":"(1+'Curves without VA'!O74)*(1+I74)/(1+'Curves without VA'!C74)-1","v":2.9074972377108876E-2},{"$f":"(1+'Curves without VA'!P74)*(1+J74)/(1+'Curves without VA'!D74)-1","v":2.0137444334590082E-2},{"$f":"(1+'Curves without VA'!Q74)*(1+K74)/(1+'Curves without VA'!E74)-1","v":2.6294911590140302E-2},{"$f":"(1+'Curves without VA'!R74)*(1+L74)/(1+'Curves without VA'!F74)-1","v":1.8307685293659004E-2},{"$f":"(1+'Curves without VA'!S74)*(1+M74)/(1+'Curves without VA'!G74)-1","v":2.7180125353147622E-2}]
[62,{"$f":"($A75*LN(1+'Curves without VA'!B75)-IF(ISNUMBER($A74),$A74*LN(1+'Curves without VA'!B74),0)+($A75<=B$2)*LN(1+B$5/10000)+IF(ISNUMBER($A74),$A74*B74))/$A75","v":3.3122200987850944E-2},{"$f":"($A75*LN(1+'Curves without VA'!C75)-IF(ISNUMBER($A74),$A74*LN(1+'Curves without VA'!C74),0)+($A75<=C$2)*LN(1+C$5/10000)+IF(ISNUMBER($A74),$A74*C74))/$A75","v":3.5394189677110888E-2},{"$f":"($A75*LN(1+'Curves without VA'!D75)-IF(ISNUMBER($A74),$A74*LN(1+'Curves without VA'!D74),0)+($A75<=D$2)*LN(1+D$5/10000)+IF(ISNUMBER($A74),$A74*D74))/$A75","v":3.184417396493381E-2},{"$f":"($A75*LN(1+'Curves without VA'!E75)-IF(ISNUMBER($A74),$A74*LN(1+'Curves without VA'!E74),0)+($A75<=E$2)*LN(1+E$5/10000)+IF(ISNUMBER($A74),$A74*E74))/$A75","v":3.9746711466174076E-2},{"$f":"($A75*LN(1+'Curves without VA'!F75)-IF(ISNUMBER($A74),$A74*LN(1+'Curves without VA'!F74),0)+($A75<=F$2)*LN(1+F$5/10000)+IF(ISNUMBER($A74),$A74*F74))/$A75","v":4.404329305853056E-2},{"$f":"($A75*LN(1+'Curves without VA'!G75)-IF(ISNUMBER($A74),$A74*LN(1+'Curves without VA'!G74),0)+($A75<=G$2)*LN(1+G$5/10000)+IF(ISNUMBER($A74),$A74*G74))/$A75","v":4.156263175322298E-2},3.3825945810400437E-2,3.8455694922317152E-2,3.3410557076680947E-2,4.2375059367527612E-2,4.5766059148058646E-2,4.4602421571823259E-2,{"$f":"(1+'Curves without VA'!H75)*(1+H75)/(1+'Curves without VA'!B75)-1","v":4.1276964517939163E-2},{"$f":"(1+'Curves without VA'!I75)*(1+I75)/(1+'Curves without VA'!C75)-1","v":4.9383009844278236E-2},{"$f":"(1+'Curves without VA'!J75)*(1+J75)/(1+'Curves without VA'!D75)-1","v":4.2189541052013224E-2},{"$f":"(1+'Curves without VA'!K75)*(1+K75)/(1+'Curves without VA'!E75)-1","v":5.2149398898527988E-2},{"$f":"(1+'Curves without VA'!L75)*(1+L75)/(1+'Curves without VA'!F75)-1","v":6.0688814475055697E-2},{"$f":"(1+'Curves without VA'!M75)*(1+M75)/(1+'Curves without VA'!G75)-1","v":5.5728723159014892E-2},{"$f":"(1+'Curves without VA'!N75)*(1+H75)/(1+'Curves without VA'!B75)-1","v":2.2893187379942948E-2},{"$f":"(1+'Curves without VA'!O75)*(1+I75)/(1+'Curves without VA'!C75)-1","v":2.9114174643652735E-2},{"$f":"(1+'Curves without VA'!P75)*(1+J75)/(1+'Curves without VA'!D75)-1","v":2.0299162114027824E-2},{"$f":"(1+'Curves without VA'!Q75)*(1+K75)/(1+'Curves without VA'!E75)-1","v":2.6376786173364142E-2},{"$f":"(1+'Curves without VA'!R75)*(1+L75)/(1+'Curves without VA'!F75)-1","v":1.8409274304115764E-2},{"$f":"(1+'Curves without VA'!S75)*(1+M75)/(1+'Curves without VA'!G75)-1","v":2.7249950467292283E-2}]
[63,{"$f":"($A76*LN(1+'Curves without VA'!B76)-IF(ISNUMBER($A75),$A75*LN(1+'Curves without VA'!B75),0)+($A76<=B$2)*LN(1+B$5/10000)+IF(ISNUMBER($A75),$A75*B75))/$A76","v":3.3111771339129618E-2},{"$f":"($A76*LN(1+'Curves without VA'!C76)-IF(ISNUMBER($A75),$A75*LN(1+'Curves without VA'!C75),0)+($A76<=C$2)*LN(1+C$5/10000)+IF(ISNUMBER($A75),$A75*C75))/$A76","v":3.5347710528914285E-2},{"$f":"($A76*LN(1+'Curves without VA'!D76)-IF(ISNUMBER($A75),$A75*LN(1+'Curves without VA'!D75),0)+($A76<=D$2)*LN(1+D$5/10000)+IF(ISNUMBER($A75),$A75*D75))/$A76","v":3.1839022548043244E-2},{"$f":"($A76*LN(1+'Curves without VA'!E76)-IF(ISNUMBER($A75),$A75*LN(1+'Curves without VA'!E75),0)+($A76<=E$2)*LN(1+E$5/10000)+IF(ISNUMBER($A75),$A75*E75))/$A76","v":3.9631065419260758E-2},{"$f":"($A76*LN(1+'Curves without VA'!F76)-IF(ISNUMBER($A75),$A75*LN(1+'Curves without VA'!F75),0)+($A76<=F$2)*LN(1+F$5/10000)+IF(ISNUMBER($A75),$A75*F75))/$A76","v":4.385866013572233E-2},{"$f":"($A76*LN(1+'Curves without VA'!G76)-IF(ISNUMBER($A75),$A75*LN(1+'Curves without VA'!G75),0)+($A76<=G$2)*LN(1+G$5/10000)+IF(ISNUMBER($A75),$A75*G75))/$A76","v":4.1418161574769227E-2},3.3812948749299077E-2,3.8370276716493734E-2,3.3391793281508209E-2,4.223120388705226E-2,4.558886916514493E-2,4.4423912002208077E-2,{"$f":"(1+'Curves without VA'!H76)*(1+H76)/(1+'Curves without VA'!B76)-1","v":4.1170210751987346E-2},{"$f":"(1+'Curves without VA'!I76)*(1+I76)/(1+'Curves without VA'!C76)-1","v":4.9149224934808444E-2},{"$f":"(1+'Curves without VA'!J76)*(1+J76)/(1+'Curves without VA'!D76)-1","v":4.2060055771718341E-2},{"$f":"(1+'Curves without VA'!K76)*(1+K76)/(1+'Curves without VA'!E76)-1","v":5.1877522728436043E-2},{"$f":"(1+'Curves without VA'!L76)*(1+L76)/(1+'Curves without VA'!F76)-1","v":6.035290051155684E-2},{"$f":"(1+'Curves without VA'!M76)*(1+M76)/(1+'Curves without VA'!G76)-1","v":5.5402430890828747E-2},{"$f":"(1+'Curves without VA'!N76)*(1+H76)/(1+'Curves without VA'!B76)-1","v":2.3026226027281105E-2},{"$f":"(1+'Curves without VA'!O76)*(1+I76)/(1+'Curves without VA'!C76)-1","v":2.9152120060235154E-2},{"$f":"(1+'Curves without VA'!P76)*(1+J76)/(1+'Curves without VA'!D76)-1","v":2.0456241087163152E-2},{"$f":"(1+'Curves without VA'!Q76)*(1+K76)/(1+'Curves without VA'!E76)-1","v":2.6456259469141985E-2},{"$f":"(1+'Curves without VA'!R76)*(1+L76)/(1+'Curves without VA'!F76)-1","v":1.8518909017487983E-2},{"$f":"(1+'Curves without VA'!S76)*(1+M76)/(1+'Curves without VA'!G76)-1","v":2.7317533348130807E-2}]
[64,{"$f":"($A77*LN(1+'Curves without VA'!B77)-IF(ISNUMBER($A76),$A76*LN(1+'Curves without VA'!B76),0)+($A77<=B$2)*LN(1+B$5/10000)+IF(ISNUMBER($A76),$A76*B76))/$A77","v":3.3101670964917798E-2},{"$f":"($A77*LN(1+'Curves without VA'!C77)-IF(ISNUMBER($A76),$A76*LN(1+'Curves without VA'!C76),0)+($A77<=C$2)*LN(1+C$5/10000)+IF(ISNUMBER($A76),$A76*C76))/$A77","v":3.5302685785719434E-2},{"$f":"($A77*LN(1+'Curves without VA'!D77)-IF(ISNUMBER($A76),$A76*LN(1+'Curves without VA'!D76),0)+($A77<=D$2)*LN(1+D$5/10000)+IF(ISNUMBER($A76),$A76*D76))/$A77","v":3.1833997986172716E-2},{"$f":"($A77*LN(1+'Curves without VA'!E77)-IF(ISNUMBER($A76),$A76*LN(1+'Curves without VA'!E76),0)+($A77<=E$2)*LN(1+E$5/10000)+IF(ISNUMBER($A76),$A76*E76))/$A77","v":3.951904336922249E-2},{"$f":"($A77*LN(1+'Curves without VA'!F77)-IF(ISNUMBER($A76),$A76*LN(1+'Curves without VA'!F76),0)+($A77<=F$2)*LN(1+F$5/10000)+IF(ISNUMBER($A76),$A76*F76))/$A77","v":4.3679887764516499E-2},{"$f":"($A77*LN(1+'Curves without VA'!G77)-IF(ISNUMBER($A76),$A76*LN(1+'Curves without VA'!G76),0)+($A77<=G$2)*LN(1+G$5/10000)+IF(ISNUMBER($A76),$A76*G76))/$A77","v":4.1278216147301192E-2},3.3800345867277093E-2,3.8287390497895757E-2,3.337324283869747E-2,4.2091286889060164E-2,4.5414510414392817E-2,4.4250326144307017E-2,{"$f":"(1+'Curves without VA'!H77)*(1+H77)/(1+'Curves without VA'!B77)-1","v":4.1066684229112971E-2},{"$f":"(1+'Curves without VA'!I77)*(1+I77)/(1+'Curves without VA'!C77)-1","v":4.8922373347930037E-2},{"$f":"(1+'Curves without VA'!J77)*(1+J77)/(1+'Curves without VA'!D77)-1","v":4.1933708181478568E-2},{"$f":"(1+'Curves without VA'!K77)*(1+K77)/(1+'Curves without VA'!E77)-1","v":5.1613121875954571E-2},{"$f":"(1+'Curves without VA'!L77)*(1+L77)/(1+'Curves without VA'!F77)-1","v":6.001888053505211E-2},{"$f":"(1+'Curves without VA'!M77)*(1+M77)/(1+'Curves without VA'!G77)-1","v":5.5084991114529691E-2},{"$f":"(1+'Curves without VA'!N77)*(1+H77)/(1+'Curves without VA'!B77)-1","v":2.3155432900696438E-2},{"$f":"(1+'Curves without VA'!O77)*(1+I77)/(1+'Curves without VA'!C77)-1","v":2.9188868885260844E-2},{"$f":"(1+'Curves without VA'!P77)*(1+J77)/(1+'Curves without VA'!D77)-1","v":2.0608849513471306E-2},{"$f":"(1+'Curves without VA'!Q77)*(1+K77)/(1+'Curves without VA'!E77)-1","v":2.6533424137354489E-2},{"$f":"(1+'Curves without VA'!R77)*(1+L77)/(1+'Curves without VA'!F77)-1","v":1.8635060485940214E-2},{"$f":"(1+'Curves without VA'!S77)*(1+M77)/(1+'Curves without VA'!G77)-1","v":2.7382981971422637E-2}]
[65,{"$f":"($A78*LN(1+'Curves without VA'!B78)-IF(ISNUMBER($A77),$A77*LN(1+'Curves without VA'!B77),0)+($A78<=B$2)*LN(1+B$5/10000)+IF(ISNUMBER($A77),$A77*B77))/$A78","v":3.3091884324550049E-2},{"$f":"($A78*LN(1+'Curves without VA'!C78)-IF(ISNUMBER($A77),$A77*LN(1+'Curves without VA'!C77),0)+($A78<=C$2)*LN(1+C$5/10000)+IF(ISNUMBER($A77),$A77*C77))/$A78","v":3.5259048123028047E-2},{"$f":"($A78*LN(1+'Curves without VA'!D78)-IF(ISNUMBER($A77),$A77*LN(1+'Curves without VA'!D77),0)+($A78<=D$2)*LN(1+D$5/10000)+IF(ISNUMBER($A77),$A77*D77))/$A78","v":3.1829097924628291E-2},{"$f":"($A78*LN(1+'Curves without VA'!E78)-IF(ISNUMBER($A77),$A77*LN(1+'Curves without VA'!E77),0)+($A78<=E$2)*LN(1+E$5/10000)+IF(ISNUMBER($A77),$A77*E77))/$A78","v":3.9410477023092472E-2},{"$f":"($A78*LN(1+'Curves without VA'!F78)-IF(ISNUMBER($A77),$A77*LN(1+'Curves without VA'!F77),0)+($A78<=F$2)*LN(1+F$5/10000)+IF(ISNUMBER($A77),$A77*F77))/$A78","v":4.3506696147960301E-2},{"$f":"($A78*LN(1+'Curves without VA'!G78)-IF(ISNUMBER($A77),$A77*LN(1+'Curves without VA'!G77),0)+($A78<=G$2)*LN(1+G$5/10000)+IF(ISNUMBER($A77),$A77*G77))/$A78","v":4.1142585604585467E-2},3.3788120209375494E-2,3.8206933904748386E-2,3.335493419605462E-2,4.195518501798734E-2,4.5243132645457873E-2,4.4081505870462223E-2,{"$f":"(1+'Curves without VA'!H78)*(1+H78)/(1+'Curves without VA'!B78)-1","v":4.0966247787710852E-2},{"$f":"(1+'Curves without VA'!I78)*(1+I78)/(1+'Curves without VA'!C78)-1","v":4.8702176363572214E-2},{"$f":"(1+'Curves without VA'!J78)*(1+J78)/(1+'Curves without VA'!D78)-1","v":4.1810447850764154E-2},{"$f":"(1+'Curves without VA'!K78)*(1+K78)/(1+'Curves without VA'!E78)-1","v":5.1355960590792948E-2},{"$f":"(1+'Curves without VA'!L78)*(1+L78)/(1+'Curves without VA'!F78)-1","v":5.9687562850621934E-2},{"$f":"(1+'Curves without VA'!M78)*(1+M78)/(1+'Curves without VA'!G78)-1","v":5.4776139776204991E-2},{"$f":"(1+'Curves without VA'!N78)*(1+H78)/(1+'Curves without VA'!B78)-1","v":2.32809525004396E-2},{"$f":"(1+'Curves without VA'!O78)*(1+I78)/(1+'Curves without VA'!C78)-1","v":2.922447752849644E-2},{"$f":"(1+'Curves without VA'!P78)*(1+J78)/(1+'Curves without VA'!D78)-1","v":2.0757150277615155E-2},{"$f":"(1+'Curves without VA'!Q78)*(1+K78)/(1+'Curves without VA'!E78)-1","v":2.6608369161114309E-2},{"$f":"(1+'Curves without VA'!R78)*(1+L78)/(1+'Curves without VA'!F78)-1","v":1.8756411927487227E-2},{"$f":"(1+'Curves without VA'!S78)*(1+M78)/(1+'Curves without VA'!G78)-1","v":2.7446397365527675E-2}]
[66,{"$f":"($A79*LN(1+'Curves without VA'!B79)-IF(ISNUMBER($A78),$A78*LN(1+'Curves without VA'!B78),0)+($A79<=B$2)*LN(1+B$5/10000)+IF(ISNUMBER($A78),$A78*B78))/$A79","v":3.3082396854445591E-2},{"$f":"($A79*LN(1+'Curves without VA'!C79)-IF(ISNUMBER($A78),$A78*LN(1+'Curves without VA'!C78),0)+($A79<=C$2)*LN(1+C$5/10000)+IF(ISNUMBER($A78),$A78*C78))/$A79","v":3.5216734316938642E-2},{"$f":"($A79*LN(1+'Curves without VA'!D79)-IF(ISNUMBER($A78),$A78*LN(1+'Curves without VA'!D78),0)+($A79<=D$2)*LN(1+D$5/10000)+IF(ISNUMBER($A78),$A78*D78))/$A79","v":3.1824319792352868E-2},{"$f":"($A79*LN(1+'Curves without VA'!E79)-IF(ISNUMBER($A78),$A78*LN(1+'Curves without VA'!E78),0)+($A79<=E$2)*LN(1+E$5/10000)+IF(ISNUMBER($A78),$A78*E78))/$A79","v":3.9305208393304508E-2},{"$f":"($A79*LN(1+'Curves without VA'!F79)-IF(ISNUMBER($A78),$A78*LN(1+'Curves without VA'!F78),0)+($A79<=F$2)*LN(1+F$5/10000)+IF(ISNUMBER($A78),$A78*F78))/$A79","v":4.3338823401578429E-2},{"$f":"($A79*LN(1+'Curves without VA'!G79)-IF(ISNUMBER($A78),$A78*LN(1+'Curves without VA'!G78),0)+($A79<=G$2)*LN(1+G$5/10000)+IF(ISNUMBER($A78),$A78*G78))/$A79","v":4.1011072905380877E-2},3.3776255720872728E-2,3.8128809275729036E-2,3.3336890146696829E-2,4.1822776345794566E-2,4.5074847610862223E-2,4.3917295461740169E-2,{"$f":"(1+'Curves without VA'!H79)*(1+H79)/(1+'Curves without VA'!B79)-1","v":4.0868771346452837E-2},{"$f":"(1+'Curves without VA'!I79)*(1+I79)/(1+'Curves without VA'!C79)-1","v":4.8488367800082477E-2},{"$f":"(1+'Curves without VA'!J79)*(1+J79)/(1+'Curves without VA'!D79)-1","v":4.1690217666728646E-2},{"$f":"(1+'Curves without VA'!K79)*(1+K79)/(1+'Curves without VA'!E79)-1","v":5.1105806005540266E-2},{"$f":"(1+'Curves without VA'!L79)*(1+L79)/(1+'Curves without VA'!F79)-1","v":5.9359614158122298E-2},{"$f":"(1+'Curves without VA'!M79)*(1+M79)/(1+'Curves without VA'!G79)-1","v":5.4475613708451887E-2},{"$f":"(1+'Curves without VA'!N79)*(1+H79)/(1+'Curves without VA'!B79)-1","v":2.3402923846345125E-2},{"$f":"(1+'Curves without VA'!O79)*(1+I79)/(1+'Curves without VA'!C79)-1","v":2.9258998857133678E-2},{"$f":"(1+'Curves without VA'!P79)*(1+J79)/(1+'Curves without VA'!D79)-1","v":2.0901300789770261E-2},{"$f":"(1+'Curves without VA'!Q79)*(1+K79)/(1+'Curves without VA'!E79)-1","v":2.6681179918449205E-2},{"$f":"(1+'Curves without VA'!R79)*(1+L79)/(1+'Curves without VA'!F79)-1","v":1.8881830499390295E-2},{"$f":"(1+'Curves without VA'!S79)*(1+M79)/(1+'Curves without VA'!G79)-1","v":2.7507874169076185E-2}]
[67,{"$f":"($A80*LN(1+'Curves without VA'!B80)-IF(ISNUMBER($A79),$A79*LN(1+'Curves without VA'!B79),0)+($A80<=B$2)*LN(1+B$5/10000)+IF(ISNUMBER($A79),$A79*B79))/$A80","v":3.3073194891577617E-2},{"$f":"($A80*LN(1+'Curves without VA'!C80)-IF(ISNUMBER($A79),$A79*LN(1+'Curves without VA'!C79),0)+($A80<=C$2)*LN(1+C$5/10000)+IF(ISNUMBER($A79),$A79*C79))/$A80","v":3.5175684936046392E-2},{"$f":"($A80*LN(1+'Curves without VA'!D80)-IF(ISNUMBER($A79),$A79*LN(1+'Curves without VA'!D79),0)+($A80<=D$2)*LN(1+D$5/10000)+IF(ISNUMBER($A79),$A79*D79))/$A80","v":3.1819660854916852E-2},{"$f":"($A80*LN(1+'Curves without VA'!E80)-IF(ISNUMBER($A79),$A79*LN(1+'Curves without VA'!E79),0)+($A80<=E$2)*LN(1+E$5/10000)+IF(ISNUMBER($A79),$A79*E79))/$A80","v":3.9203089017773481E-2},{"$f":"($A80*LN(1+'Curves without VA'!F80)-IF(ISNUMBER($A79),$A79*LN(1+'Curves without VA'!F79),0)+($A80<=F$2)*LN(1+F$5/10000)+IF(ISNUMBER($A79),$A79*F79))/$A80","v":4.3176024118617838E-2},{"$f":"($A80*LN(1+'Curves without VA'!G80)-IF(ISNUMBER($A79),$A79*LN(1+'Curves without VA'!G79),0)+($A80<=G$2)*LN(1+G$5/10000)+IF(ISNUMBER($A79),$A79*G79))/$A80","v":4.0883492865490666E-2},3.3764737193186178E-2,3.8052923454305665E-2,3.3319128654510699E-2,4.1693940889728554E-2,4.4909734880891339E-2,4.3757542169855279E-2,{"$f":"(1+'Curves without VA'!H80)*(1+H80)/(1+'Curves without VA'!B80)-1","v":4.0774131503556355E-2},{"$f":"(1+'Curves without VA'!I80)*(1+I80)/(1+'Curves without VA'!C80)-1","v":4.8280693531847607E-2},{"$f":"(1+'Curves without VA'!J80)*(1+J80)/(1+'Curves without VA'!D80)-1","v":4.1572955336288908E-2},{"$f":"(1+'Curves without VA'!K80)*(1+K80)/(1+'Curves without VA'!E80)-1","v":5.0862429103714524E-2},{"$f":"(1+'Curves without VA'!L80)*(1+L80)/(1+'Curves without VA'!F80)-1","v":5.9035579670098759E-2},{"$f":"(1+'Curves without VA'!M80)*(1+M80)/(1+'Curves without VA'!G80)-1","v":5.4183152134931412E-2},{"$f":"(1+'Curves without VA'!N80)*(1+H80)/(1+'Curves without VA'!B80)-1","v":2.3521480552961771E-2},{"$f":"(1+'Curves without VA'!O80)*(1+I80)/(1+'Curves without VA'!C80)-1","v":2.9292482472955461E-2},{"$f":"(1+'Curves without VA'!P80)*(1+J80)/(1+'Curves without VA'!D80)-1","v":2.1041452946544359E-2},{"$f":"(1+'Curves without VA'!Q80)*(1+K80)/(1+'Curves without VA'!E80)-1","v":2.6751938268718467E-2},{"$f":"(1+'Curves without VA'!R80)*(1+L80)/(1+'Curves without VA'!F80)-1","v":1.9010342860450002E-2},{"$f":"(1+'Curves without VA'!S80)*(1+M80)/(1+'Curves without VA'!G80)-1","v":2.756750113547235E-2}]
[68,{"$f":"($A81*LN(1+'Curves without VA'!B81)-IF(ISNUMBER($A80),$A80*LN(1+'Curves without VA'!B80),0)+($A81<=B$2)*LN(1+B$5/10000)+IF(ISNUMBER($A80),$A80*B80))/$A81","v":3.3064265604065071E-2},{"$f":"($A81*LN(1+'Curves without VA'!C81)-IF(ISNUMBER($A80),$A80*LN(1+'Curves without VA'!C80),0)+($A81<=C$2)*LN(1+C$5/10000)+IF(ISNUMBER($A80),$A80*C80))/$A81","v":3.5135844060741592E-2},{"$f":"($A81*LN(1+'Curves without VA'!D81)-IF(ISNUMBER($A80),$A80*LN(1+'Curves without VA'!D80),0)+($A81<=D$2)*LN(1+D$5/10000)+IF(ISNUMBER($A80),$A80*D80))/$A81","v":3.1815118259052443E-2},{"$f":"($A81*LN(1+'Curves without VA'!E81)-IF(ISNUMBER($A80),$A80*LN(1+'Curves without VA'!E80),0)+($A81<=E$2)*LN(1+E$5/10000)+IF(ISNUMBER($A80),$A80*E80))/$A81","v":3.9103979249908473E-2},{"$f":"($A81*LN(1+'Curves without VA'!F81)-IF(ISNUMBER($A80),$A80*LN(1+'Curves without VA'!F80),0)+($A81<=F$2)*LN(1+F$5/10000)+IF(ISNUMBER($A80),$A80*F80))/$A81","v":4.3018068071948037E-2},{"$f":"($A81*LN(1+'Curves without VA'!G81)-IF(ISNUMBER($A80),$A80*LN(1+'Curves without VA'!G80),0)+($A81<=G$2)*LN(1+G$5/10000)+IF(ISNUMBER($A80),$A80*G80))/$A81","v":4.0759671276335702E-2},3.3753550213202477E-2,3.7979187594354702E-2,3.3301663565356465E-2,4.1568561019989181E-2,4.4747846838737892E-2,4.3602096652890721E-2,{"$f":"(1+'Curves without VA'!H81)*(1+H81)/(1+'Curves without VA'!B81)-1","v":4.0682211158229675E-2},{"$f":"(1+'Curves without VA'!I81)*(1+I81)/(1+'Curves without VA'!C81)-1","v":4.8078911002440439E-2},{"$f":"(1+'Curves without VA'!J81)*(1+J81)/(1+'Curves without VA'!D81)-1","v":4.1458594652291403E-2},{"$f":"(1+'Curves without VA'!K81)*(1+K81)/(1+'Curves without VA'!E81)-1","v":5.0625605479769131E-2},{"$f":"(1+'Curves without VA'!L81)*(1+L81)/(1+'Curves without VA'!F81)-1","v":5.8715900473571114E-2},{"$f":"(1+'Curves without VA'!M81)*(1+M81)/(1+'Curves without VA'!G81)-1","v":5.3898497879135476E-2},{"$f":"(1+'Curves without VA'!N81)*(1+H81)/(1+'Curves without VA'!B81)-1","v":2.3636750932123585E-2},{"$f":"(1+'Curves without VA'!O81)*(1+I81)/(1+'Curves without VA'!C81)-1","v":2.9324974963733874E-2},{"$f":"(1+'Curves without VA'!P81)*(1+J81)/(1+'Curves without VA'!D81)-1","v":2.1177753140977584E-2},{"$f":"(1+'Curves without VA'!Q81)*(1+K81)/(1+'Curves without VA'!E81)-1","v":2.6820722650075624E-2},{"$f":"(1+'Curves without VA'!R81)*(1+L81)/(1+'Curves without VA'!F81)-1","v":1.9141113999014747E-2},{"$f":"(1+'Curves without VA'!S81)*(1+M81)/(1+'Curves without VA'!G81)-1","v":2.7625361590042141E-2}]
[69,{"$f":"($A82*LN(1+'Curves without VA'!B82)-IF(ISNUMBER($A81),$A81*LN(1+'Curves without VA'!B81),0)+($A82<=B$2)*LN(1+B$5/10000)+IF(ISNUMBER($A81),$A81*B81))/$A82","v":3.3055596928128386E-2},{"$f":"($A82*LN(1+'Curves without VA'!C82)-IF(ISNUMBER($A81),$A81*LN(1+'Curves without VA'!C81),0)+($A82<=C$2)*LN(1+C$5/10000)+IF(ISNUMBER($A81),$A81*C81))/$A82","v":3.5097159027107847E-2},{"$f":"($A82*LN(1+'Curves without VA'!D82)-IF(ISNUMBER($A81),$A81*LN(1+'Curves without VA'!D81),0)+($A82<=D$2)*LN(1+D$5/10000)+IF(ISNUMBER($A81),$A81*D81))/$A82","v":3.1810689069976833E-2},{"$f":"($A82*LN(1+'Curves without VA'!E82)-IF(ISNUMBER($A81),$A81*LN(1+'Curves without VA'!E81),0)+($A82<=E$2)*LN(1+E$5/10000)+IF(ISNUMBER($A81),$A81*E81))/$A82","v":3.9007747611346358E-2},{"$f":"($A82*LN(1+'Curves without VA'!F82)-IF(ISNUMBER($A81),$A81*LN(1+'Curves without VA'!F81),0)+($A82<=F$2)*LN(1+F$5/10000)+IF(ISNUMBER($A81),$A81*F81))/$A82","v":4.2864739037718889E-2},{"$f":"($A82*LN(1+'Curves without VA'!G82)-IF(ISNUMBER($A81),$A81*LN(1+'Curves without VA'!G81),0)+($A82<=G$2)*LN(1+G$5/10000)+IF(ISNUMBER($A81),$A81*G81))/$A82","v":4.0639444101158495E-2},3.3742681115827233E-2,3.790751696857364E-2,3.3284505219862481E-2,4.1446521775122092E-2,4.4589212970558512E-2,4.3450813305542679E-2,{"$f":"(1+'Curves without VA'!H82)*(1+H82)/(1+'Curves without VA'!B82)-1","v":4.0592899153407025E-2},{"$f":"(1+'Curves without VA'!I82)*(1+I82)/(1+'Curves without VA'!C82)-1","v":4.7882788738624171E-2},{"$f":"(1+'Curves without VA'!J82)*(1+J82)/(1+'Curves without VA'!D82)-1","v":4.1347066558355072E-2},{"$f":"(1+'Curves without VA'!K82)*(1+K82)/(1+'Curves without VA'!E82)-1","v":5.0395115924890543E-2},{"$f":"(1+'Curves without VA'!L82)*(1+L82)/(1+'Curves without VA'!F82)-1","v":5.8400928515139672E-2},{"$f":"(1+'Curves without VA'!M82)*(1+M82)/(1+'Curves without VA'!G82)-1","v":5.3621398324313674E-2},{"$f":"(1+'Curves without VA'!N82)*(1+H82)/(1+'Curves without VA'!B82)-1","v":2.3748858116694471E-2},{"$f":"(1+'Curves without VA'!O82)*(1+I82)/(1+'Curves without VA'!C82)-1","v":2.9356520131601282E-2},{"$f":"(1+'Curves without VA'!P82)*(1+J82)/(1+'Curves without VA'!D82)-1","v":2.1310342311999131E-2},{"$f":"(1+'Curves without VA'!Q82)*(1+K82)/(1+'Curves without VA'!E82)-1","v":2.6887608184955614E-2},{"$f":"(1+'Curves without VA'!R82)*(1+L82)/(1+'Curves without VA'!F82)-1","v":1.9273428878747723E-2},{"$f":"(1+'Curves without VA'!S82)*(1+M82)/(1+'Curves without VA'!G82)-1","v":2.7681533844911232E-2}]
[70,{"$f":"($A83*LN(1+'Curves without VA'!B83)-IF(ISNUMBER($A82),$A82*LN(1+'Curves without VA'!B82),0)+($A83<=B$2)*LN(1+B$5/10000)+IF(ISNUMBER($A82),$A82*B82))/$A83","v":3.3047177510737713E-2},{"$f":"($A83*LN(1+'Curves without VA'!C83)-IF(ISNUMBER($A82),$A82*LN(1+'Curves without VA'!C82),0)+($A83<=C$2)*LN(1+C$5/10000)+IF(ISNUMBER($A82),$A82*C82))/$A83","v":3.5059580192936021E-2},{"$f":"($A83*LN(1+'Curves without VA'!D83)-IF(ISNUMBER($A82),$A82*LN(1+'Curves without VA'!D82),0)+($A83<=D$2)*LN(1+D$5/10000)+IF(ISNUMBER($A82),$A82*D82))/$A83","v":3.18063703025682E-2},{"$f":"($A83*LN(1+'Curves without VA'!E83)-IF(ISNUMBER($A82),$A82*LN(1+'Curves without VA'!E82),0)+($A83<=E$2)*LN(1+E$5/10000)+IF(ISNUMBER($A82),$A82*E82))/$A83","v":3.8914270201034336E-2},{"$f":"($A83*LN(1+'Curves without VA'!F83)-IF(ISNUMBER($A82),$A82*LN(1+'Curves without VA'!F82),0)+($A83<=F$2)*LN(1+F$5/10000)+IF(ISNUMBER($A82),$A82*F82))/$A83","v":4.2715833727690097E-2},{"$f":"($A83*LN(1+'Curves without VA'!G83)-IF(ISNUMBER($A82),$A82*LN(1+'Curves without VA'!G82),0)+($A83<=G$2)*LN(1+G$5/10000)+IF(ISNUMBER($A82),$A82*G82))/$A83","v":4.0522656740991959E-2},3.373211693955569E-2,3.7837830780862891E-2,3.3267660981405989E-2,4.1327711100231923E-2,4.4433843548796759E-2,4.330355050142054E-2,{"$f":"(1+'Curves without VA'!H83)*(1+H83)/(1+'Curves without VA'!B83)-1","v":4.050608993884186E-2},{"$f":"(1+'Curves without VA'!I83)*(1+I83)/(1+'Curves without VA'!C83)-1","v":4.7692105869433954E-2},{"$f":"(1+'Curves without VA'!J83)*(1+J83)/(1+'Curves without VA'!D83)-1","v":4.1238300041924525E-2},{"$f":"(1+'Curves without VA'!K83)*(1+K83)/(1+'Curves without VA'!E83)-1","v":5.0170746867221672E-2},{"$f":"(1+'Curves without VA'!L83)*(1+L83)/(1+'Curves without VA'!F83)-1","v":5.8090939535565322E-2},{"$f":"(1+'Curves without VA'!M83)*(1+M83)/(1+'Curves without VA'!G83)-1","v":5.3351606164372845E-2},{"$f":"(1+'Curves without VA'!N83)*(1+H83)/(1+'Curves without VA'!B83)-1","v":2.3857920200303084E-2},{"$f":"(1+'Curves without VA'!O83)*(1+I83)/(1+'Curves without VA'!C83)-1","v":2.9387159200822355E-2},{"$f":"(1+'Curves without VA'!P83)*(1+J83)/(1+'Curves without VA'!D83)-1","v":2.1439356025281464E-2},{"$f":"(1+'Curves without VA'!Q83)*(1+K83)/(1+'Curves without VA'!E83)-1","v":2.695266679109154E-2},{"$f":"(1+'Curves without VA'!R83)*(1+L83)/(1+'Curves without VA'!F83)-1","v":1.9406676518044064E-2},{"$f":"(1+'Curves without VA'!S83)*(1+M83)/(1+'Curves without VA'!G83)-1","v":2.7736091576108235E-2}]
[71,{"$f":"($A84*LN(1+'Curves without VA'!B84)-IF(ISNUMBER($A83),$A83*LN(1+'Curves without VA'!B83),0)+($A84<=B$2)*LN(1+B$5/10000)+IF(ISNUMBER($A83),$A83*B83))/$A84","v":3.3038996657363075E-2},{"$f":"($A84*LN(1+'Curves without VA'!C84)-IF(ISNUMBER($A83),$A83*LN(1+'Curves without VA'!C83),0)+($A84<=C$2)*LN(1+C$5/10000)+IF(ISNUMBER($A83),$A83*C83))/$A84","v":3.5023060723662097E-2},{"$f":"($A84*LN(1+'Curves without VA'!D84)-IF(ISNUMBER($A83),$A83*LN(1+'Curves without VA'!D83),0)+($A84<=D$2)*LN(1+D$5/10000)+IF(ISNUMBER($A83),$A83*D83))/$A84","v":3.180215894730317E-2},{"$f":"($A84*LN(1+'Curves without VA'!E84)-IF(ISNUMBER($A83),$A83*LN(1+'Curves without VA'!E83),0)+($A84<=E$2)*LN(1+E$5/10000)+IF(ISNUMBER($A83),$A83*E83))/$A84","v":3.8823430155017907E-2},{"$f":"($A84*LN(1+'Curves without VA'!F84)-IF(ISNUMBER($A83),$A83*LN(1+'Curves without VA'!F83),0)+($A84<=F$2)*LN(1+F$5/10000)+IF(ISNUMBER($A83),$A83*F83))/$A84","v":4.2571160818711207E-2},{"$f":"($A84*LN(1+'Curves without VA'!G84)-IF(ISNUMBER($A83),$A83*LN(1+'Curves without VA'!G83),0)+($A84<=G$2)*LN(1+G$5/10000)+IF(ISNUMBER($A83),$A83*G83))/$A84","v":4.0409163363426877E-2},3.3721845384871107E-2,3.7770051983573305E-2,3.3251135690956612E-2,4.1212020020800155E-2,4.4281732793180595E-2,4.31601707622431E-2,{"$f":"(1+'Curves without VA'!H84)*(1+H84)/(1+'Curves without VA'!B84)-1","v":4.0421683253612395E-2},{"$f":"(1+'Curves without VA'!I84)*(1+I84)/(1+'Curves without VA'!C84)-1","v":4.7506651653632881E-2},{"$f":"(1+'Curves without VA'!J84)*(1+J84)/(1+'Curves without VA'!D84)-1","v":4.1132222880771119E-2},{"$f":"(1+'Curves without VA'!K84)*(1+K84)/(1+'Curves without VA'!E84)-1","v":4.9952290690747247E-2},{"$f":"(1+'Curves without VA'!L84)*(1+L84)/(1+'Curves without VA'!F84)-1","v":5.7786144234369674E-2},{"$f":"(1+'Curves without VA'!M84)*(1+M84)/(1+'Curves without VA'!G84)-1","v":5.3088879979535486E-2},{"$f":"(1+'Curves without VA'!N84)*(1+H84)/(1+'Curves without VA'!B84)-1","v":2.3964050388767477E-2},{"$f":"(1+'Curves without VA'!O84)*(1+I84)/(1+'Curves without VA'!C84)-1","v":2.9416931007103297E-2},{"$f":"(1+'Curves without VA'!P84)*(1+J84)/(1+'Curves without VA'!D84)-1","v":2.1564924578760802E-2},{"$f":"(1+'Curves without VA'!Q84)*(1+K84)/(1+'Curves without VA'!E84)-1","v":2.7015967296023513E-2},{"$f":"(1+'Curves without VA'!R84)*(1+L84)/(1+'Curves without VA'!F84)-1","v":1.9540336173286432E-2},{"$f":"(1+'Curves without VA'!S84)*(1+M84)/(1+'Curves without VA'!G84)-1","v":2.7789104166835443E-2}]
[72,{"$f":"($A85*LN(1+'Curves without VA'!B85)-IF(ISNUMBER($A84),$A84*LN(1+'Curves without VA'!B84),0)+($A85<=B$2)*LN(1+B$5/10000)+IF(ISNUMBER($A84),$A84*B84))/$A85","v":3.3031044284304624E-2},{"$f":"($A85*LN(1+'Curves without VA'!C85)-IF(ISNUMBER($A84),$A84*LN(1+'Curves without VA'!C84),0)+($A85<=C$2)*LN(1+C$5/10000)+IF(ISNUMBER($A84),$A84*C84))/$A85","v":3.4987556396270575E-2},{"$f":"($A85*LN(1+'Curves without VA'!D85)-IF(ISNUMBER($A84),$A84*LN(1+'Curves without VA'!D84),0)+($A85<=D$2)*LN(1+D$5/10000)+IF(ISNUMBER($A84),$A84*D84))/$A85","v":3.179805199173226E-2},{"$f":"($A85*LN(1+'Curves without VA'!E85)-IF(ISNUMBER($A84),$A84*LN(1+'Curves without VA'!E84),0)+($A85<=E$2)*LN(1+E$5/10000)+IF(ISNUMBER($A84),$A84*E84))/$A85","v":3.8735117151923258E-2},{"$f":"($A85*LN(1+'Curves without VA'!F85)-IF(ISNUMBER($A84),$A84*LN(1+'Curves without VA'!F84),0)+($A85<=F$2)*LN(1+F$5/10000)+IF(ISNUMBER($A84),$A84*F84))/$A85","v":4.2430540069196457E-2},{"$f":"($A85*LN(1+'Curves without VA'!G85)-IF(ISNUMBER($A84),$A84*LN(1+'Curves without VA'!G84),0)+($A85<=G$2)*LN(1+G$5/10000)+IF(ISNUMBER($A84),$A84*G84))/$A85","v":4.0298826287993111E-2},3.3711854775294814E-2,3.7704107100274387E-2,3.3234932058822775E-2,4.1099342762941804E-2,4.4132861581914984E-2,4.3020540866476553E-2,{"$f":"(1+'Curves without VA'!H85)*(1+H85)/(1+'Curves without VA'!B85)-1","v":4.0339583827088132E-2},{"$f":"(1+'Curves without VA'!I85)*(1+I85)/(1+'Curves without VA'!C85)-1","v":4.7326225018074597E-2},{"$f":"(1+'Curves without VA'!J85)*(1+J85)/(1+'Curves without VA'!D85)-1","v":4.1028762264521124E-2},{"$f":"(1+'Curves without VA'!K85)*(1+K85)/(1+'Curves without VA'!E85)-1","v":4.973954595338137E-2},{"$f":"(1+'Curves without VA'!L85)*(1+L85)/(1+'Curves without VA'!F85)-1","v":5.7486697905942963E-2},{"$f":"(1+'Curves without VA'!M85)*(1+M85)/(1+'Curves without VA'!G85)-1","v":5.2832984665401206E-2},{"$f":"(1+'Curves without VA'!N85)*(1+H85)/(1+'Curves without VA'!B85)-1","v":2.4067357159683667E-2},{"$f":"(1+'Curves without VA'!O85)*(1+I85)/(1+'Curves without VA'!C85)-1","v":2.9445872170322351E-2},{"$f":"(1+'Curves without VA'!P85)*(1+J85)/(1+'Curves without VA'!D85)-1","v":2.1687173127207471E-2},{"$f":"(1+'Curves without VA'!Q85)*(1+K85)/(1+'Curves without VA'!E85)-1","v":2.7077575553444921E-2},{"$f":"(1+'Curves without VA'!R85)*(1+L85)/(1+'Curves without VA'!F85)-1","v":1.9673965342389632E-2},{"$f":"(1+'Curves without VA'!S85)*(1+M85)/(1+'Curves without VA'!G85)-1","v":2.7840637020402736E-2}]
[73,{"$f":"($A86*LN(1+'Curves without VA'!B86)-IF(ISNUMBER($A85),$A85*LN(1+'Curves without VA'!B85),0)+($A86<=B$2)*LN(1+B$5/10000)+IF(ISNUMBER($A85),$A85*B85))/$A86","v":3.302331087514062E-2},{"$f":"($A86*LN(1+'Curves without VA'!C86)-IF(ISNUMBER($A85),$A85*LN(1+'Curves without VA'!C85),0)+($A86<=C$2)*LN(1+C$5/10000)+IF(ISNUMBER($A85),$A85*C85))/$A86","v":3.4953025419433646E-2},{"$f":"($A86*LN(1+'Curves without VA'!D86)-IF(ISNUMBER($A85),$A85*LN(1+'Curves without VA'!D85),0)+($A86<=D$2)*LN(1+D$5/10000)+IF(ISNUMBER($A85),$A85*D85))/$A86","v":3.1794046438159258E-2},{"$f":"($A86*LN(1+'Curves without VA'!E86)-IF(ISNUMBER($A85),$A85*LN(1+'Curves without VA'!E85),0)+($A86<=E$2)*LN(1+E$5/10000)+IF(ISNUMBER($A85),$A85*E85))/$A86","v":3.864922695968321E-2},{"$f":"($A86*LN(1+'Curves without VA'!F86)-IF(ISNUMBER($A85),$A85*LN(1+'Curves without VA'!F85),0)+($A86<=F$2)*LN(1+F$5/10000)+IF(ISNUMBER($A85),$A85*F85))/$A86","v":4.2293801513624385E-2},{"$f":"($A86*LN(1+'Curves without VA'!G86)-IF(ISNUMBER($A85),$A85*LN(1+'Curves without VA'!G85),0)+($A86<=G$2)*LN(1+G$5/10000)+IF(ISNUMBER($A85),$A85*G85))/$A86","v":4.0191515422656518E-2},3.3702134020914265E-2,3.7639926054519268E-2,3.3219051001942113E-2,4.0989576829273178E-2,4.3987199775399111E-2,4.2884531908028434E-2,{"$f":"(1+'Curves without VA'!H86)*(1+H86)/(1+'Curves without VA'!B86)-1","v":4.0259701097412393E-2},{"$f":"(1+'Curves without VA'!I86)*(1+I86)/(1+'Curves without VA'!C86)-1","v":4.715063410888054E-2},{"$f":"(1+'Curves without VA'!J86)*(1+J86)/(1+'Curves without VA'!D86)-1","v":4.0927845309663535E-2},{"$f":"(1+'Curves without VA'!K86)*(1+K86)/(1+'Curves without VA'!E86)-1","v":4.9532317521612246E-2},{"$f":"(1+'Curves without VA'!L86)*(1+L86)/(1+'Curves without VA'!F86)-1","v":5.7192708755152699E-2},{"$f":"(1+'Curves without VA'!M86)*(1+M86)/(1+'Curves without VA'!G86)-1","v":5.2583691739721772E-2},{"$f":"(1+'Curves without VA'!N86)*(1+H86)/(1+'Curves without VA'!B86)-1","v":2.4167944427263777E-2},{"$f":"(1+'Curves without VA'!O86)*(1+I86)/(1+'Curves without VA'!C86)-1","v":2.9474017252356877E-2},{"$f":"(1+'Curves without VA'!P86)*(1+J86)/(1+'Curves without VA'!D86)-1","v":2.18062218211863E-2},{"$f":"(1+'Curves without VA'!Q86)*(1+K86)/(1+'Curves without VA'!E86)-1","v":2.7137554560044519E-2},{"$f":"(1+'Curves without VA'!R86)*(1+L86)/(1+'Curves without VA'!F86)-1","v":1.9807189344549503E-2},{"$f":"(1+'Curves without VA'!S86)*(1+M86)/(1+'Curves without VA'!G86)-1","v":2.7890751845912609E-2}]
[74,{"$f":"($A87*LN(1+'Curves without VA'!B87)-IF(ISNUMBER($A86),$A86*LN(1+'Curves without VA'!B86),0)+($A87<=B$2)*LN(1+B$5/10000)+IF(ISNUMBER($A86),$A86*B86))/$A87","v":3.3015787440881919E-2},{"$f":"($A87*LN(1+'Curves without VA'!C87)-IF(ISNUMBER($A86),$A86*LN(1+'Curves without VA'!C86),0)+($A87<=C$2)*LN(1+C$5/10000)+IF(ISNUMBER($A86),$A86*C86))/$A87","v":3.4919428268332206E-2},{"$f":"($A87*LN(1+'Curves without VA'!D87)-IF(ISNUMBER($A86),$A86*LN(1+'Curves without VA'!D86),0)+($A87<=D$2)*LN(1+D$5/10000)+IF(ISNUMBER($A86),$A86*D86))/$A87","v":3.1790139318089695E-2},{"$f":"($A87*LN(1+'Curves without VA'!E87)-IF(ISNUMBER($A86),$A86*LN(1+'Curves without VA'!E86),0)+($A87<=E$2)*LN(1+E$5/10000)+IF(ISNUMBER($A86),$A86*E86))/$A87","v":3.8565661019546824E-2},{"$f":"($A87*LN(1+'Curves without VA'!F87)-IF(ISNUMBER($A86),$A86*LN(1+'Curves without VA'!F86),0)+($A87<=F$2)*LN(1+F$5/10000)+IF(ISNUMBER($A86),$A86*F86))/$A87","v":4.216078472712468E-2},{"$f":"($A87*LN(1+'Curves without VA'!G87)-IF(ISNUMBER($A86),$A86*LN(1+'Curves without VA'!G86),0)+($A87<=G$2)*LN(1+G$5/10000)+IF(ISNUMBER($A86),$A86*G86))/$A87","v":4.0087107746533818E-2},3.3692672584230365E-2,3.7577442004919748E-2,3.320349193415395E-2,4.0882623038149157E-2,4.3844708206097538E-2,4.2752019313961664E-2,{"$f":"(1+'Curves without VA'!H87)*(1+H87)/(1+'Curves without VA'!B87)-1","v":4.0181948946569568E-2},{"$f":"(1+'Curves without VA'!I87)*(1+I87)/(1+'Curves without VA'!C87)-1","v":4.6979695856830705E-2},{"$f":"(1+'Curves without VA'!J87)*(1+J87)/(1+'Curves without VA'!D87)-1","v":4.0829399483841788E-2},{"$f":"(1+'Curves without VA'!K87)*(1+K87)/(1+'Curves without VA'!E87)-1","v":4.9330416636393259E-2},{"$f":"(1+'Curves without VA'!L87)*(1+L87)/(1+'Curves without VA'!F87)-1","v":5.6904245071737636E-2},{"$f":"(1+'Curves without VA'!M87)*(1+M87)/(1+'Curves without VA'!G87)-1","v":5.234077954749794E-2},{"$f":"(1+'Curves without VA'!N87)*(1+H87)/(1+'Curves without VA'!B87)-1","v":2.4265911710052768E-2},{"$f":"(1+'Curves without VA'!O87)*(1+I87)/(1+'Curves without VA'!C87)-1","v":2.9501398901489617E-2},{"$f":"(1+'Curves without VA'!P87)*(1+J87)/(1+'Curves without VA'!D87)-1","v":2.192218595652129E-2},{"$f":"(1+'Curves without VA'!Q87)*(1+K87)/(1+'Curves without VA'!E87)-1","v":2.7195964571764542E-2},{"$f":"(1+'Curves without VA'!R87)*(1+L87)/(1+'Curves without VA'!F87)-1","v":1.9939692265875442E-2},{"$f":"(1+'Curves without VA'!S87)*(1+M87)/(1+'Curves without VA'!G87)-1","v":2.7939506919424151E-2}]
[75,{"$f":"($A88*LN(1+'Curves without VA'!B88)-IF(ISNUMBER($A87),$A87*LN(1+'Curves without VA'!B87),0)+($A88<=B$2)*LN(1+B$5/10000)+IF(ISNUMBER($A87),$A87*B87))/$A88","v":3.3008465483471382E-2},{"$f":"($A88*LN(1+'Curves without VA'!C88)-IF(ISNUMBER($A87),$A87*LN(1+'Curves without VA'!C87),0)+($A88<=C$2)*LN(1+C$5/10000)+IF(ISNUMBER($A87),$A87*C87))/$A88","v":3.4886727532783615E-2},{"$f":"($A88*LN(1+'Curves without VA'!D88)-IF(ISNUMBER($A87),$A87*LN(1+'Curves without VA'!D87),0)+($A88<=D$2)*LN(1+D$5/10000)+IF(ISNUMBER($A87),$A87*D87))/$A88","v":3.1786327703936676E-2},{"$f":"($A88*LN(1+'Curves without VA'!E88)-IF(ISNUMBER($A87),$A87*LN(1+'Curves without VA'!E87),0)+($A88<=E$2)*LN(1+E$5/10000)+IF(ISNUMBER($A87),$A87*E87))/$A88","v":3.8484326063833119E-2},{"$f":"($A88*LN(1+'Curves without VA'!F88)-IF(ISNUMBER($A87),$A87*LN(1+'Curves without VA'!F87),0)+($A88<=F$2)*LN(1+F$5/10000)+IF(ISNUMBER($A87),$A87*F87))/$A88","v":4.203133815312169E-2},{"$f":"($A88*LN(1+'Curves without VA'!G88)-IF(ISNUMBER($A87),$A87*LN(1+'Curves without VA'!G87),0)+($A88<=G$2)*LN(1+G$5/10000)+IF(ISNUMBER($A87),$A87*G87))/$A88","v":3.998548683446021E-2},3.3683460448174385E-2,3.7516591186727233E-2,3.3188253015861369E-2,4.0778385532842965E-2,4.3705340380716828E-2,4.2622882828800224E-2,{"$f":"(1+'Curves without VA'!H88)*(1+H88)/(1+'Curves without VA'!B88)-1","v":4.0106245451143163E-2},{"$f":"(1+'Curves without VA'!I88)*(1+I88)/(1+'Curves without VA'!C88)-1","v":4.681323555794048E-2},{"$f":"(1+'Curves without VA'!J88)*(1+J88)/(1+'Curves without VA'!D88)-1","v":4.0733352952935897E-2},{"$f":"(1+'Curves without VA'!K88)*(1+K88)/(1+'Curves without VA'!E88)-1","v":4.9133660922709321E-2},{"$f":"(1+'Curves without VA'!L88)*(1+L88)/(1+'Curves without VA'!F88)-1","v":5.6621341418089832E-2},{"$f":"(1+'Curves without VA'!M88)*(1+M88)/(1+'Curves without VA'!G88)-1","v":5.2104033381862092E-2},{"$f":"(1+'Curves without VA'!N88)*(1+H88)/(1+'Curves without VA'!B88)-1","v":2.4361354299596849E-2},{"$f":"(1+'Curves without VA'!O88)*(1+I88)/(1+'Curves without VA'!C88)-1","v":2.9528047984707317E-2},{"$f":"(1+'Curves without VA'!P88)*(1+J88)/(1+'Curves without VA'!D88)-1","v":2.2035176131065093E-2},{"$f":"(1+'Curves without VA'!Q88)*(1+K88)/(1+'Curves without VA'!E88)-1","v":2.725286321862308E-2},{"$f":"(1+'Curves without VA'!R88)*(1+L88)/(1+'Curves without VA'!F88)-1","v":2.0071209089452369E-2},{"$f":"(1+'Curves without VA'!S88)*(1+M88)/(1+'Curves without VA'!G88)-1","v":2.798695732303158E-2}]
[76,{"$f":"($A89*LN(1+'Curves without VA'!B89)-IF(ISNUMBER($A88),$A88*LN(1+'Curves without VA'!B88),0)+($A89<=B$2)*LN(1+B$5/10000)+IF(ISNUMBER($A88),$A88*B88))/$A89","v":3.3001336962300294E-2},{"$f":"($A89*LN(1+'Curves without VA'!C89)-IF(ISNUMBER($A88),$A88*LN(1+'Curves without VA'!C88),0)+($A89<=C$2)*LN(1+C$5/10000)+IF(ISNUMBER($A88),$A88*C88))/$A89","v":3.485488777743715E-2},{"$f":"($A89*LN(1+'Curves without VA'!D89)-IF(ISNUMBER($A88),$A88*LN(1+'Curves without VA'!D88),0)+($A89<=D$2)*LN(1+D$5/10000)+IF(ISNUMBER($A88),$A88*D88))/$A89","v":3.1782608718398539E-2},{"$f":"($A89*LN(1+'Curves without VA'!E89)-IF(ISNUMBER($A88),$A88*LN(1+'Curves without VA'!E88),0)+($A89<=E$2)*LN(1+E$5/10000)+IF(ISNUMBER($A88),$A88*E88))/$A89","v":3.840513376427817E-2},{"$f":"($A89*LN(1+'Curves without VA'!F89)-IF(ISNUMBER($A88),$A88*LN(1+'Curves without VA'!F88),0)+($A89<=F$2)*LN(1+F$5/10000)+IF(ISNUMBER($A88),$A88*F88))/$A89","v":4.190531848779043E-2},{"$f":"($A89*LN(1+'Curves without VA'!G89)-IF(ISNUMBER($A88),$A88*LN(1+'Curves without VA'!G88),0)+($A89<=G$2)*LN(1+G$5/10000)+IF(ISNUMBER($A88),$A88*G88))/$A89","v":3.9886542419502312E-2},3.3674488086150811E-2,3.7457312760006189E-2,3.3173331368617331E-2,4.0676771766213315E-2,4.3569043934444052E-2,4.249700647181287E-2,{"$f":"(1+'Curves without VA'!H89)*(1+H89)/(1+'Curves without VA'!B89)-1","v":4.0032512647879326E-2},{"$f":"(1+'Curves without VA'!I89)*(1+I89)/(1+'Curves without VA'!C89)-1","v":4.665108646985705E-2},{"$f":"(1+'Curves without VA'!J89)*(1+J89)/(1+'Curves without VA'!D89)-1","v":4.0639634862520868E-2},{"$f":"(1+'Curves without VA'!K89)*(1+K89)/(1+'Curves without VA'!E89)-1","v":4.8941874353285897E-2},{"$f":"(1+'Curves without VA'!L89)*(1+L89)/(1+'Curves without VA'!F89)-1","v":5.6344003963851197E-2},{"$f":"(1+'Curves without VA'!M89)*(1+M89)/(1+'Curves without VA'!G89)-1","v":5.1873245535563495E-2},{"$f":"(1+'Curves without VA'!N89)*(1+H89)/(1+'Curves without VA'!B89)-1","v":2.4454363428503045E-2},{"$f":"(1+'Curves without VA'!O89)*(1+I89)/(1+'Curves without VA'!C89)-1","v":2.9553993709069193E-2},{"$f":"(1+'Curves without VA'!P89)*(1+J89)/(1+'Curves without VA'!D89)-1","v":2.2145298406135661E-2},{"$f":"(1+'Curves without VA'!Q89)*(1+K89)/(1+'Curves without VA'!E89)-1","v":2.7308305617422812E-2},{"$f":"(1+'Curves without VA'!R89)*(1+L89)/(1+'Curves without VA'!F89)-1","v":2.0201518853157463E-2},{"$f":"(1+'Curves without VA'!S89)*(1+M89)/(1+'Curves without VA'!G89)-1","v":2.803315516401228E-2}]
[77,{"$f":"($A90*LN(1+'Curves without VA'!B90)-IF(ISNUMBER($A89),$A89*LN(1+'Curves without VA'!B89),0)+($A90<=B$2)*LN(1+B$5/10000)+IF(ISNUMBER($A89),$A89*B89))/$A90","v":3.2994394263458508E-2},{"$f":"($A90*LN(1+'Curves without VA'!C90)-IF(ISNUMBER($A89),$A89*LN(1+'Curves without VA'!C89),0)+($A90<=C$2)*LN(1+C$5/10000)+IF(ISNUMBER($A89),$A89*C89))/$A90","v":3.4823875412934122E-2},{"$f":"($A90*LN(1+'Curves without VA'!D90)-IF(ISNUMBER($A89),$A89*LN(1+'Curves without VA'!D89),0)+($A90<=D$2)*LN(1+D$5/10000)+IF(ISNUMBER($A89),$A89*D89))/$A90","v":3.1778979541866807E-2},{"$f":"($A90*LN(1+'Curves without VA'!E90)-IF(ISNUMBER($A89),$A89*LN(1+'Curves without VA'!E89),0)+($A90<=E$2)*LN(1+E$5/10000)+IF(ISNUMBER($A89),$A89*E89))/$A90","v":3.8328000408148294E-2},{"$f":"($A90*LN(1+'Curves without VA'!F90)-IF(ISNUMBER($A89),$A89*LN(1+'Curves without VA'!F89),0)+($A90<=F$2)*LN(1+F$5/10000)+IF(ISNUMBER($A89),$A89*F89))/$A90","v":4.1782590115777653E-2},{"$f":"($A90*LN(1+'Curves without VA'!G90)-IF(ISNUMBER($A89),$A89*LN(1+'Curves without VA'!G89),0)+($A90<=G$2)*LN(1+G$5/10000)+IF(ISNUMBER($A89),$A89*G89))/$A90","v":3.9790169989927966E-2},3.3665746433972243E-2,3.7399548664415416E-2,3.3158723259398171E-2,4.0577692465546544E-2,4.3435761871506218E-2,4.2374278472653737E-2,{"$f":"(1+'Curves without VA'!H90)*(1+H90)/(1+'Curves without VA'!B90)-1","v":3.9960676313214316E-2},{"$f":"(1+'Curves without VA'!I90)*(1+I90)/(1+'Curves without VA'!C90)-1","v":4.649308942443664E-2},{"$f":"(1+'Curves without VA'!J90)*(1+J90)/(1+'Curves without VA'!D90)-1","v":4.0548175563603683E-2},{"$f":"(1+'Curves without VA'!K90)*(1+K90)/(1+'Curves without VA'!E90)-1","v":4.8754887175305628E-2},{"$f":"(1+'Curves without VA'!L90)*(1+L90)/(1+'Curves without VA'!F90)-1","v":5.6072215082526133E-2},{"$f":"(1+'Curves without VA'!M90)*(1+M90)/(1+'Curves without VA'!G90)-1","v":5.1648215295569067E-2},{"$f":"(1+'Curves without VA'!N90)*(1+H90)/(1+'Curves without VA'!B90)-1","v":2.4545026436646245E-2},{"$f":"(1+'Curves without VA'!O90)*(1+I90)/(1+'Curves without VA'!C90)-1","v":2.957926373318398E-2},{"$f":"(1+'Curves without VA'!P90)*(1+J90)/(1+'Curves without VA'!D90)-1","v":2.2252654470443778E-2},{"$f":"(1+'Curves without VA'!Q90)*(1+K90)/(1+'Curves without VA'!E90)-1","v":2.736234448182806E-2},{"$f":"(1+'Curves without VA'!R90)*(1+L90)/(1+'Curves without VA'!F90)-1","v":2.0330438699807996E-2},{"$f":"(1+'Curves without VA'!S90)*(1+M90)/(1+'Curves without VA'!G90)-1","v":2.8078149775960126E-2}]
[78,{"$f":"($A91*LN(1+'Curves without VA'!B91)-IF(ISNUMBER($A90),$A90*LN(1+'Curves without VA'!B90),0)+($A91<=B$2)*LN(1+B$5/10000)+IF(ISNUMBER($A90),$A90*B90))/$A91","v":3.2987630171454951E-2},{"$f":"($A91*LN(1+'Curves without VA'!C91)-IF(ISNUMBER($A90),$A90*LN(1+'Curves without VA'!C90),0)+($A91<=C$2)*LN(1+C$5/10000)+IF(ISNUMBER($A90),$A90*C90))/$A91","v":3.4793658577041239E-2},{"$f":"($A91*LN(1+'Curves without VA'!D91)-IF(ISNUMBER($A90),$A90*LN(1+'Curves without VA'!D90),0)+($A91<=D$2)*LN(1+D$5/10000)+IF(ISNUMBER($A90),$A90*D90))/$A91","v":3.1775437418163195E-2},{"$f":"($A91*LN(1+'Curves without VA'!E91)-IF(ISNUMBER($A90),$A90*LN(1+'Curves without VA'!E90),0)+($A91<=E$2)*LN(1+E$5/10000)+IF(ISNUMBER($A90),$A90*E90))/$A91","v":3.8252846599591543E-2},{"$f":"($A91*LN(1+'Curves without VA'!F91)-IF(ISNUMBER($A90),$A90*LN(1+'Curves without VA'!F90),0)+($A91<=F$2)*LN(1+F$5/10000)+IF(ISNUMBER($A90),$A90*F90))/$A91","v":4.166302459224959E-2},{"$f":"($A91*LN(1+'Curves without VA'!G91)-IF(ISNUMBER($A90),$A90*LN(1+'Curves without VA'!G90),0)+($A91<=G$2)*LN(1+G$5/10000)+IF(ISNUMBER($A90),$A90*G90))/$A91","v":3.9696270417502386E-2},3.3657226863566869E-2,3.7343243480540522E-2,3.3144424258685801E-2,4.0481061581524758E-2,4.3305433621582123E-2,4.2254591189887281E-2,{"$f":"(1+'Curves without VA'!H91)*(1+H91)/(1+'Curves without VA'!B91)-1","v":3.9890665755965893E-2},{"$f":"(1+'Curves without VA'!I91)*(1+I91)/(1+'Curves without VA'!C91)-1","v":4.6339092456632702E-2},{"$f":"(1+'Curves without VA'!J91)*(1+J91)/(1+'Curves without VA'!D91)-1","v":4.0458906791133842E-2},{"$f":"(1+'Curves without VA'!K91)*(1+K91)/(1+'Curves without VA'!E91)-1","v":4.8572535807572592E-2},{"$f":"(1+'Curves without VA'!L91)*(1+L91)/(1+'Curves without VA'!F91)-1","v":5.5805937309620468E-2},{"$f":"(1+'Curves without VA'!M91)*(1+M91)/(1+'Curves without VA'!G91)-1","v":5.1428748891385379E-2},{"$f":"(1+'Curves without VA'!N91)*(1+H91)/(1+'Curves without VA'!B91)-1","v":2.4633426934544289E-2},{"$f":"(1+'Curves without VA'!O91)*(1+I91)/(1+'Curves without VA'!C91)-1","v":2.9603884269731928E-2},{"$f":"(1+'Curves without VA'!P91)*(1+J91)/(1+'Curves without VA'!D91)-1","v":2.235734180476201E-2},{"$f":"(1+'Curves without VA'!Q91)*(1+K91)/(1+'Curves without VA'!E91)-1","v":2.7415030229415605E-2},{"$f":"(1+'Curves without VA'!R91)*(1+L91)/(1+'Curves without VA'!F91)-1","v":2.0457818702487973E-2},{"$f":"(1+'Curves without VA'!S91)*(1+M91)/(1+'Curves without VA'!G91)-1","v":2.8121987903624301E-2}]
[79,{"$f":"($A92*LN(1+'Curves without VA'!B92)-IF(ISNUMBER($A91),$A91*LN(1+'Curves without VA'!B91),0)+($A92<=B$2)*LN(1+B$5/10000)+IF(ISNUMBER($A91),$A91*B91))/$A92","v":3.2981037843182501E-2},{"$f":"($A92*LN(1+'Curves without VA'!C92)-IF(ISNUMBER($A91),$A91*LN(1+'Curves without VA'!C91),0)+($A92<=C$2)*LN(1+C$5/10000)+IF(ISNUMBER($A91),$A91*C91))/$A92","v":3.4764207024866052E-2},{"$f":"($A92*LN(1+'Curves without VA'!D92)-IF(ISNUMBER($A91),$A91*LN(1+'Curves without VA'!D91),0)+($A92<=D$2)*LN(1+D$5/10000)+IF(ISNUMBER($A91),$A91*D91))/$A92","v":3.1771979658874946E-2},{"$f":"($A92*LN(1+'Curves without VA'!E92)-IF(ISNUMBER($A91),$A91*LN(1+'Curves without VA'!E91),0)+($A92<=E$2)*LN(1+E$5/10000)+IF(ISNUMBER($A91),$A91*E91))/$A92","v":3.8179596983956725E-2},{"$f":"($A92*LN(1+'Curves without VA'!F92)-IF(ISNUMBER($A91),$A91*LN(1+'Curves without VA'!F91),0)+($A92<=F$2)*LN(1+F$5/10000)+IF(ISNUMBER($A91),$A91*F91))/$A92","v":4.1546500166857264E-2},{"$f":"($A92*LN(1+'Curves without VA'!G92)-IF(ISNUMBER($A91),$A91*LN(1+'Curves without VA'!G91),0)+($A92<=G$2)*LN(1+G$5/10000)+IF(ISNUMBER($A91),$A91*G91))/$A92","v":3.9604749614298974E-2},3.3648921158335066E-2,3.728834429767347E-2,3.3130429375915149E-2,4.0386796224647137E-2,4.3177995937548008E-2,4.2137841016193889E-2,{"$f":"(1+'Curves without VA'!H92)*(1+H92)/(1+'Curves without VA'!B92)-1","v":3.9822413622404573E-2},{"$f":"(1+'Curves without VA'!I92)*(1+I92)/(1+'Curves without VA'!C92)-1","v":4.6188950449645994E-2},{"$f":"(1+'Curves without VA'!J92)*(1+J92)/(1+'Curves without VA'!D92)-1","v":4.037176180255031E-2},{"$f":"(1+'Curves without VA'!K92)*(1+K92)/(1+'Curves without VA'!E92)-1","v":4.8394662714397629E-2},{"$f":"(1+'Curves without VA'!L92)*(1+L92)/(1+'Curves without VA'!F92)-1","v":5.5545116748340506E-2},{"$f":"(1+'Curves without VA'!M92)*(1+M92)/(1+'Curves without VA'!G92)-1","v":5.1214659406056962E-2},{"$f":"(1+'Curves without VA'!N92)*(1+H92)/(1+'Curves without VA'!B92)-1","v":2.4719644963128173E-2},{"$f":"(1+'Curves without VA'!O92)*(1+I92)/(1+'Curves without VA'!C92)-1","v":2.9627880179861732E-2},{"$f":"(1+'Curves without VA'!P92)*(1+J92)/(1+'Curves without VA'!D92)-1","v":2.2459453845888433E-2},{"$f":"(1+'Curves without VA'!Q92)*(1+K92)/(1+'Curves without VA'!E92)-1","v":2.7466411085409037E-2},{"$f":"(1+'Curves without VA'!R92)*(1+L92)/(1+'Curves without VA'!F92)-1","v":2.0583537363625837E-2},{"$f":"(1+'Curves without VA'!S92)*(1+M92)/(1+'Curves without VA'!G92)-1","v":2.8164713872978142E-2}]
[80,{"$f":"($A93*LN(1+'Curves without VA'!B93)-IF(ISNUMBER($A92),$A92*LN(1+'Curves without VA'!B92),0)+($A93<=B$2)*LN(1+B$5/10000)+IF(ISNUMBER($A92),$A92*B92))/$A93","v":3.297461078392E-2},{"$f":"($A93*LN(1+'Curves without VA'!C93)-IF(ISNUMBER($A92),$A92*LN(1+'Curves without VA'!C92),0)+($A93<=C$2)*LN(1+C$5/10000)+IF(ISNUMBER($A92),$A92*C92))/$A93","v":3.4735492027355805E-2},{"$f":"($A93*LN(1+'Curves without VA'!D93)-IF(ISNUMBER($A92),$A92*LN(1+'Curves without VA'!D92),0)+($A93<=D$2)*LN(1+D$5/10000)+IF(ISNUMBER($A92),$A92*D92))/$A93","v":3.1768603646502219E-2},{"$f":"($A93*LN(1+'Curves without VA'!E93)-IF(ISNUMBER($A92),$A92*LN(1+'Curves without VA'!E92),0)+($A93<=E$2)*LN(1+E$5/10000)+IF(ISNUMBER($A92),$A92*E92))/$A93","v":3.8108179993042071E-2},{"$f":"($A93*LN(1+'Curves without VA'!F93)-IF(ISNUMBER($A92),$A92*LN(1+'Curves without VA'!F92),0)+($A93<=F$2)*LN(1+F$5/10000)+IF(ISNUMBER($A92),$A92*F92))/$A93","v":4.1432901345690207E-2},{"$f":"($A93*LN(1+'Curves without VA'!G93)-IF(ISNUMBER($A92),$A92*LN(1+'Curves without VA'!G92),0)+($A93<=G$2)*LN(1+G$5/10000)+IF(ISNUMBER($A92),$A92*G92))/$A93","v":3.9515518215505002E-2},3.3640821490050987E-2,3.7234800587899297E-2,3.3116733175361679E-2,4.0294816591896598E-2,4.305338365653566E-2,4.2023928273444477E-2,{"$f":"(1+'Curves without VA'!H93)*(1+H93)/(1+'Curves without VA'!B93)-1","v":3.9755855712973354E-2},{"$f":"(1+'Curves without VA'!I93)*(1+I93)/(1+'Curves without VA'!C93)-1","v":4.6042524796164441E-2},{"$f":"(1+'Curves without VA'!J93)*(1+J93)/(1+'Curves without VA'!D93)-1","v":4.0286675482588574E-2},{"$f":"(1+'Curves without VA'!K93)*(1+K93)/(1+'Curves without VA'!E93)-1","v":4.8221116261471852E-2},{"$f":"(1+'Curves without VA'!L93)*(1+L93)/(1+'Curves without VA'!F93)-1","v":5.5289685997220284E-2},{"$f":"(1+'Curves without VA'!M93)*(1+M93)/(1+'Curves without VA'!G93)-1","v":5.1005766657388207E-2},{"$f":"(1+'Curves without VA'!N93)*(1+H93)/(1+'Curves without VA'!B93)-1","v":2.4803757149322481E-2},{"$f":"(1+'Curves without VA'!O93)*(1+I93)/(1+'Curves without VA'!C93)-1","v":2.9651275060207372E-2},{"$f":"(1+'Curves without VA'!P93)*(1+J93)/(1+'Curves without VA'!D93)-1","v":2.2559080148774946E-2},{"$f":"(1+'Curves without VA'!Q93)*(1+K93)/(1+'Curves without VA'!E93)-1","v":2.7516533182895708E-2},{"$f":"(1+'Curves without VA'!R93)*(1+L93)/(1+'Curves without VA'!F93)-1","v":2.0707497699940403E-2},{"$f":"(1+'Curves without VA'!S93)*(1+M93)/(1+'Curves without VA'!G93)-1","v":2.8206369747885152E-2}]
[81,{"$f":"($A94*LN(1+'Curves without VA'!B94)-IF(ISNUMBER($A93),$A93*LN(1+'Curves without VA'!B93),0)+($A94<=B$2)*LN(1+B$5/10000)+IF(ISNUMBER($A93),$A93*B93))/$A94","v":3.2968342825185834E-2},{"$f":"($A94*LN(1+'Curves without VA'!C94)-IF(ISNUMBER($A93),$A93*LN(1+'Curves without VA'!C93),0)+($A94<=C$2)*LN(1+C$5/10000)+IF(ISNUMBER($A93),$A93*C93))/$A94","v":3.4707486277355898E-2},{"$f":"($A94*LN(1+'Curves without VA'!D94)-IF(ISNUMBER($A93),$A93*LN(1+'Curves without VA'!D93),0)+($A94<=D$2)*LN(1+D$5/10000)+IF(ISNUMBER($A93),$A93*D93))/$A94","v":3.1765306836615076E-2},{"$f":"($A94*LN(1+'Curves without VA'!E94)-IF(ISNUMBER($A93),$A93*LN(1+'Curves without VA'!E93),0)+($A94<=E$2)*LN(1+E$5/10000)+IF(ISNUMBER($A93),$A93*E93))/$A94","v":3.8038527609438329E-2},{"$f":"($A94*LN(1+'Curves without VA'!F94)-IF(ISNUMBER($A93),$A93*LN(1+'Curves without VA'!F93),0)+($A94<=F$2)*LN(1+F$5/10000)+IF(ISNUMBER($A93),$A93*F93))/$A94","v":4.1322118487697186E-2},{"$f":"($A94*LN(1+'Curves without VA'!G94)-IF(ISNUMBER($A93),$A93*LN(1+'Curves without VA'!G93),0)+($A94<=G$2)*LN(1+G$5/10000)+IF(ISNUMBER($A93),$A93*G93))/$A94","v":3.9428491285944924E-2},3.3632920397205446E-2,3.7182564086315706E-2,3.310332987512421E-2,4.0205045886000601E-2,4.2931530343282454E-2,4.1912757100299292E-2,{"$f":"(1+'Curves without VA'!H94)*(1+H94)/(1+'Curves without VA'!B94)-1","v":3.9690930809958225E-2},{"$f":"(1+'Curves without VA'!I94)*(1+I94)/(1+'Curves without VA'!C94)-1","v":4.5899683075385056E-2},{"$f":"(1+'Curves without VA'!J94)*(1+J94)/(1+'Curves without VA'!D94)-1","v":4.0203584419675309E-2},{"$f":"(1+'Curves without VA'!K94)*(1+K94)/(1+'Curves without VA'!E94)-1","v":4.8051750558126161E-2},{"$f":"(1+'Curves without VA'!L94)*(1+L94)/(1+'Curves without VA'!F94)-1","v":5.5039566664036643E-2},{"$f":"(1+'Curves without VA'!M94)*(1+M94)/(1+'Curves without VA'!G94)-1","v":5.0801897055754441E-2},{"$f":"(1+'Curves without VA'!N94)*(1+H94)/(1+'Curves without VA'!B94)-1","v":2.4885836857004406E-2},{"$f":"(1+'Curves without VA'!O94)*(1+I94)/(1+'Curves without VA'!C94)-1","v":2.9674091323200535E-2},{"$f":"(1+'Curves without VA'!P94)*(1+J94)/(1+'Curves without VA'!D94)-1","v":2.265630654589601E-2},{"$f":"(1+'Curves without VA'!Q94)*(1+K94)/(1+'Curves without VA'!E94)-1","v":2.756544065938682E-2},{"$f":"(1+'Curves without VA'!R94)*(1+L94)/(1+'Curves without VA'!F94)-1","v":2.0829623837051559E-2},{"$f":"(1+'Curves without VA'!S94)*(1+M94)/(1+'Curves without VA'!G94)-1","v":2.8246995474592751E-2}]
[82,{"$f":"($A95*LN(1+'Curves without VA'!B95)-IF(ISNUMBER($A94),$A94*LN(1+'Curves without VA'!B94),0)+($A95<=B$2)*LN(1+B$5/10000)+IF(ISNUMBER($A94),$A94*B94))/$A95","v":3.2962228104277451E-2},{"$f":"($A95*LN(1+'Curves without VA'!C95)-IF(ISNUMBER($A94),$A94*LN(1+'Curves without VA'!C94),0)+($A95<=C$2)*LN(1+C$5/10000)+IF(ISNUMBER($A94),$A94*C94))/$A95","v":3.4680163802583396E-2},{"$f":"($A95*LN(1+'Curves without VA'!D95)-IF(ISNUMBER($A94),$A94*LN(1+'Curves without VA'!D94),0)+($A95<=D$2)*LN(1+D$5/10000)+IF(ISNUMBER($A94),$A94*D94))/$A95","v":3.1762086759179367E-2},{"$f":"($A95*LN(1+'Curves without VA'!E95)-IF(ISNUMBER($A94),$A94*LN(1+'Curves without VA'!E94),0)+($A95<=E$2)*LN(1+E$5/10000)+IF(ISNUMBER($A94),$A94*E94))/$A95","v":3.7970575148312861E-2},{"$f":"($A95*LN(1+'Curves without VA'!F95)-IF(ISNUMBER($A94),$A94*LN(1+'Curves without VA'!F94),0)+($A95<=F$2)*LN(1+F$5/10000)+IF(ISNUMBER($A94),$A94*F94))/$A95","v":4.1214047432427008E-2},{"$f":"($A95*LN(1+'Curves without VA'!G95)-IF(ISNUMBER($A94),$A94*LN(1+'Curves without VA'!G94),0)+($A95<=G$2)*LN(1+G$5/10000)+IF(ISNUMBER($A94),$A94*G94))/$A95","v":3.9343588048276756E-2},3.3625210764694158E-2,3.7131588677192351E-2,3.309021343150742E-2,4.0117410229240091E-2,4.2812368832154446E-2,4.1804235334549356E-2,{"$f":"(1+'Curves without VA'!H95)*(1+H95)/(1+'Curves without VA'!B95)-1","v":3.9627580515448013E-2},{"$f":"(1+'Curves without VA'!I95)*(1+I95)/(1+'Curves without VA'!C95)-1","v":4.5760298745439076E-2},{"$f":"(1+'Curves without VA'!J95)*(1+J95)/(1+'Curves without VA'!D95)-1","v":4.0122426958469459E-2},{"$f":"(1+'Curves without VA'!K95)*(1+K95)/(1+'Curves without VA'!E95)-1","v":4.788642528967002E-2},{"$f":"(1+'Curves without VA'!L95)*(1+L95)/(1+'Curves without VA'!F95)-1","v":5.4794671521706695E-2},{"$f":"(1+'Curves without VA'!M95)*(1+M95)/(1+'Curves without VA'!G95)-1","v":5.0602883443842339E-2},{"$f":"(1+'Curves without VA'!N95)*(1+H95)/(1+'Curves without VA'!B95)-1","v":2.4965954333028506E-2},{"$f":"(1+'Curves without VA'!O95)*(1+I95)/(1+'Curves without VA'!C95)-1","v":2.969635027126527E-2},{"$f":"(1+'Curves without VA'!P95)*(1+J95)/(1+'Curves without VA'!D95)-1","v":2.2751215303156602E-2},{"$f":"(1+'Curves without VA'!Q95)*(1+K95)/(1+'Curves without VA'!E95)-1","v":2.7613175749656715E-2},{"$f":"(1+'Curves without VA'!R95)*(1+L95)/(1+'Curves without VA'!F95)-1","v":2.0949858047629943E-2},{"$f":"(1+'Curves without VA'!S95)*(1+M95)/(1+'Curves without VA'!G95)-1","v":2.8286629015143339E-2}]
[83,{"$f":"($A96*LN(1+'Curves without VA'!B96)-IF(ISNUMBER($A95),$A95*LN(1+'Curves without VA'!B95),0)+($A96<=B$2)*LN(1+B$5/10000)+IF(ISNUMBER($A95),$A95*B95))/$A96","v":3.2956261045349822E-2},{"$f":"($A96*LN(1+'Curves without VA'!C96)-IF(ISNUMBER($A95),$A95*LN(1+'Curves without VA'!C95),0)+($A96<=C$2)*LN(1+C$5/10000)+IF(ISNUMBER($A95),$A95*C95))/$A96","v":3.4653499884921828E-2},{"$f":"($A96*LN(1+'Curves without VA'!D96)-IF(ISNUMBER($A95),$A95*LN(1+'Curves without VA'!D95),0)+($A96<=D$2)*LN(1+D$5/10000)+IF(ISNUMBER($A95),$A95*D95))/$A96","v":3.1758941019192355E-2},{"$f":"($A96*LN(1+'Curves without VA'!E96)-IF(ISNUMBER($A95),$A95*LN(1+'Curves without VA'!E95),0)+($A96<=E$2)*LN(1+E$5/10000)+IF(ISNUMBER($A95),$A95*E95))/$A96","v":3.7904261055144321E-2},{"$f":"($A96*LN(1+'Curves without VA'!F96)-IF(ISNUMBER($A95),$A95*LN(1+'Curves without VA'!F95),0)+($A96<=F$2)*LN(1+F$5/10000)+IF(ISNUMBER($A95),$A95*F95))/$A96","v":4.110858915626097E-2},{"$f":"($A96*LN(1+'Curves without VA'!G96)-IF(ISNUMBER($A95),$A95*LN(1+'Curves without VA'!G95),0)+($A96<=G$2)*LN(1+G$5/10000)+IF(ISNUMBER($A95),$A95*G95))/$A96","v":3.9260731631012277E-2},3.3617685804762987E-2,3.7081830285859985E-2,3.3077377610787995E-2,4.0031838573444389E-2,4.2695831681995644E-2,4.1698274392039103E-2,{"$f":"(1+'Curves without VA'!H96)*(1+H96)/(1+'Curves without VA'!B96)-1","v":3.9565749098944281E-2},{"$f":"(1+'Curves without VA'!I96)*(1+I96)/(1+'Curves without VA'!C96)-1","v":4.5624250850782477E-2},{"$f":"(1+'Curves without VA'!J96)*(1+J96)/(1+'Curves without VA'!D96)-1","v":4.0043143232443956E-2},{"$f":"(1+'Curves without VA'!K96)*(1+K96)/(1+'Curves without VA'!E96)-1","v":4.772500554286685E-2},{"$f":"(1+'Curves without VA'!L96)*(1+L96)/(1+'Curves without VA'!F96)-1","v":5.4554906354379096E-2},{"$f":"(1+'Curves without VA'!M96)*(1+M96)/(1+'Curves without VA'!G96)-1","v":5.0408564922810317E-2},{"$f":"(1+'Curves without VA'!N96)*(1+H96)/(1+'Curves without VA'!B96)-1","v":2.5044176848099564E-2},{"$f":"(1+'Curves without VA'!O96)*(1+I96)/(1+'Curves without VA'!C96)-1","v":2.9718072165449749E-2},{"$f":"(1+'Curves without VA'!P96)*(1+J96)/(1+'Curves without VA'!D96)-1","v":2.2843885271788489E-2},{"$f":"(1+'Curves without VA'!Q96)*(1+K96)/(1+'Curves without VA'!E96)-1","v":2.7659778874818297E-2},{"$f":"(1+'Curves without VA'!R96)*(1+L96)/(1+'Curves without VA'!F96)-1","v":2.1068158175683971E-2},{"$f":"(1+'Curves without VA'!S96)*(1+M96)/(1+'Curves without VA'!G96)-1","v":2.8325306470696088E-2}]
[84,{"$f":"($A97*LN(1+'Curves without VA'!B97)-IF(ISNUMBER($A96),$A96*LN(1+'Curves without VA'!B96),0)+($A97<=B$2)*LN(1+B$5/10000)+IF(ISNUMBER($A96),$A96*B96))/$A97","v":3.2950436341895907E-2},{"$f":"($A97*LN(1+'Curves without VA'!C97)-IF(ISNUMBER($A96),$A96*LN(1+'Curves without VA'!C96),0)+($A97<=C$2)*LN(1+C$5/10000)+IF(ISNUMBER($A96),$A96*C96))/$A97","v":3.4627470985512949E-2},{"$f":"($A97*LN(1+'Curves without VA'!D97)-IF(ISNUMBER($A96),$A96*LN(1+'Curves without VA'!D96),0)+($A97<=D$2)*LN(1+D$5/10000)+IF(ISNUMBER($A96),$A96*D96))/$A97","v":3.1755867296746072E-2},{"$f":"($A97*LN(1+'Curves without VA'!E97)-IF(ISNUMBER($A96),$A96*LN(1+'Curves without VA'!E96),0)+($A97<=E$2)*LN(1+E$5/10000)+IF(ISNUMBER($A96),$A96*E96))/$A97","v":3.7839526718059291E-2},{"$f":"($A97*LN(1+'Curves without VA'!F97)-IF(ISNUMBER($A96),$A96*LN(1+'Curves without VA'!F96),0)+($A97<=F$2)*LN(1+F$5/10000)+IF(ISNUMBER($A96),$A96*F96))/$A97","v":4.1005649454600779E-2},{"$f":"($A97*LN(1+'Curves without VA'!G97)-IF(ISNUMBER($A96),$A96*LN(1+'Curves without VA'!G96),0)+($A97<=G$2)*LN(1+G$5/10000)+IF(ISNUMBER($A96),$A96*G96))/$A97","v":3.9179848834690653E-2},3.3610339039129133E-2,3.7033246776111861E-2,3.3064816050089263E-2,3.9948262607527596E-2,4.258185155602634E-2,4.1594789143689193E-2,{"$f":"(1+'Curves without VA'!H97)*(1+H97)/(1+'Curves without VA'!B97)-1","v":3.9505383354051515E-2},{"$f":"(1+'Curves without VA'!I97)*(1+I97)/(1+'Curves without VA'!C97)-1","v":4.5491423744054238E-2},{"$f":"(1+'Curves without VA'!J97)*(1+J97)/(1+'Curves without VA'!D97)-1","v":3.9965675179842064E-2},{"$f":"(1+'Curves without VA'!K97)*(1+K97)/(1+'Curves without VA'!E97)-1","v":4.7567361627089744E-2},{"$f":"(1+'Curves without VA'!L97)*(1+L97)/(1+'Curves without VA'!F97)-1","v":5.4320171535495732E-2},{"$f":"(1+'Curves without VA'!M97)*(1+M97)/(1+'Curves without VA'!G97)-1","v":5.0218786668612792E-2},{"$f":"(1+'Curves without VA'!N97)*(1+H97)/(1+'Curves without VA'!B97)-1","v":2.512056883238234E-2},{"$f":"(1+'Curves without VA'!O97)*(1+I97)/(1+'Curves without VA'!C97)-1","v":2.973927628896722E-2},{"$f":"(1+'Curves without VA'!P97)*(1+J97)/(1+'Curves without VA'!D97)-1","v":2.2934392035821372E-2},{"$f":"(1+'Curves without VA'!Q97)*(1+K97)/(1+'Curves without VA'!E97)-1","v":2.7705288727660315E-2},{"$f":"(1+'Curves without VA'!R97)*(1+L97)/(1+'Curves without VA'!F97)-1","v":2.1184495397106318E-2},{"$f":"(1+'Curves without VA'!S97)*(1+M97)/(1+'Curves without VA'!G97)-1","v":2.8363062195645661E-2}]
[85,{"$f":"($A98*LN(1+'Curves without VA'!B98)-IF(ISNUMBER($A97),$A97*LN(1+'Curves without VA'!B97),0)+($A98<=B$2)*LN(1+B$5/10000)+IF(ISNUMBER($A97),$A97*B97))/$A98","v":3.2944748940509194E-2},{"$f":"($A98*LN(1+'Curves without VA'!C98)-IF(ISNUMBER($A97),$A97*LN(1+'Curves without VA'!C97),0)+($A98<=C$2)*LN(1+C$5/10000)+IF(ISNUMBER($A97),$A97*C97))/$A98","v":3.4602054675161149E-2},{"$f":"($A98*LN(1+'Curves without VA'!D98)-IF(ISNUMBER($A97),$A97*LN(1+'Curves without VA'!D97),0)+($A98<=D$2)*LN(1+D$5/10000)+IF(ISNUMBER($A97),$A97*D97))/$A98","v":3.1752863346619267E-2},{"$f":"($A98*LN(1+'Curves without VA'!E98)-IF(ISNUMBER($A97),$A97*LN(1+'Curves without VA'!E97),0)+($A98<=E$2)*LN(1+E$5/10000)+IF(ISNUMBER($A97),$A97*E97))/$A98","v":3.7776316293553762E-2},{"$f":"($A98*LN(1+'Curves without VA'!F98)-IF(ISNUMBER($A97),$A97*LN(1+'Curves without VA'!F97),0)+($A98<=F$2)*LN(1+F$5/10000)+IF(ISNUMBER($A97),$A97*F97))/$A98","v":4.0905138647732313E-2},{"$f":"($A98*LN(1+'Curves without VA'!G98)-IF(ISNUMBER($A97),$A97*LN(1+'Curves without VA'!G97),0)+($A98<=G$2)*LN(1+G$5/10000)+IF(ISNUMBER($A97),$A97*G97))/$A98","v":3.9100869914695358E-2},3.3603164282196341E-2,3.6985797852891134E-2,3.3052522308855359E-2,3.9866616663686516E-2,4.247036153735162E-2,4.1493697791867623E-2,{"$f":"(1+'Curves without VA'!H98)*(1+H98)/(1+'Curves without VA'!B98)-1","v":3.9446432463663195E-2},{"$f":"(1+'Curves without VA'!I98)*(1+I98)/(1+'Curves without VA'!C98)-1","v":4.5361706821885672E-2},{"$f":"(1+'Curves without VA'!J98)*(1+J98)/(1+'Curves without VA'!D98)-1","v":3.9889966545859856E-2},{"$f":"(1+'Curves without VA'!K98)*(1+K98)/(1+'Curves without VA'!E98)-1","v":4.7413368893260754E-2},{"$f":"(1+'Curves without VA'!L98)*(1+L98)/(1+'Curves without VA'!F98)-1","v":5.4090363373994421E-2},{"$f":"(1+'Curves without VA'!M98)*(1+M98)/(1+'Curves without VA'!G98)-1","v":5.0033399741608031E-2},{"$f":"(1+'Curves without VA'!N98)*(1+H98)/(1+'Curves without VA'!B98)-1","v":2.5195192005780909E-2},{"$f":"(1+'Curves without VA'!O98)*(1+I98)/(1+'Curves without VA'!C98)-1","v":2.9759981006094005E-2},{"$f":"(1+'Curves without VA'!P98)*(1+J98)/(1+'Curves without VA'!D98)-1","v":2.3022808054848021E-2},{"$f":"(1+'Curves without VA'!Q98)*(1+K98)/(1+'Curves without VA'!E98)-1","v":2.7749742354275186E-2},{"$f":"(1+'Curves without VA'!R98)*(1+L98)/(1+'Curves without VA'!F98)-1","v":2.1298852273121005E-2},{"$f":"(1+'Curves without VA'!S98)*(1+M98)/(1+'Curves without VA'!G98)-1","v":2.8399928903333649E-2}]
[86,{"$f":"($A99*LN(1+'Curves without VA'!B99)-IF(ISNUMBER($A98),$A98*LN(1+'Curves without VA'!B98),0)+($A99<=B$2)*LN(1+B$5/10000)+IF(ISNUMBER($A98),$A98*B98))/$A99","v":3.2939194025821739E-2},{"$f":"($A99*LN(1+'Curves without VA'!C99)-IF(ISNUMBER($A98),$A98*LN(1+'Curves without VA'!C98),0)+($A99<=C$2)*LN(1+C$5/10000)+IF(ISNUMBER($A98),$A98*C98))/$A99","v":3.4577229569617667E-2},{"$f":"($A99*LN(1+'Curves without VA'!D99)-IF(ISNUMBER($A98),$A98*LN(1+'Curves without VA'!D98),0)+($A99<=D$2)*LN(1+D$5/10000)+IF(ISNUMBER($A98),$A98*D98))/$A99","v":3.1749926997485821E-2},{"$f":"($A99*LN(1+'Curves without VA'!E99)-IF(ISNUMBER($A98),$A98*LN(1+'Curves without VA'!E98),0)+($A99<=E$2)*LN(1+E$5/10000)+IF(ISNUMBER($A98),$A98*E98))/$A99","v":3.7714576544494803E-2},{"$f":"($A99*LN(1+'Curves without VA'!F99)-IF(ISNUMBER($A98),$A98*LN(1+'Curves without VA'!F98),0)+($A99<=F$2)*LN(1+F$5/10000)+IF(ISNUMBER($A98),$A98*F98))/$A99","v":4.0806971308306197E-2},{"$f":"($A99*LN(1+'Curves without VA'!G99)-IF(ISNUMBER($A98),$A98*LN(1+'Curves without VA'!G98),0)+($A99<=G$2)*LN(1+G$5/10000)+IF(ISNUMBER($A98),$A98*G98))/$A99","v":3.9023728379344085E-2},3.3596155625296387E-2,3.6939444970033986E-2,3.3040489912214088E-2,3.9786837623185356E-2,4.2361295389204745E-2,4.1394921747128999E-2,{"$f":"(1+'Curves without VA'!H99)*(1+H99)/(1+'Curves without VA'!B99)-1","v":3.938884787313901E-2},{"$f":"(1+'Curves without VA'!I99)*(1+I99)/(1+'Curves without VA'!C99)-1","v":4.5234994274107709E-2},{"$f":"(1+'Curves without VA'!J99)*(1+J99)/(1+'Curves without VA'!D99)-1","v":3.9815962873471777E-2},{"$f":"(1+'Curves without VA'!K99)*(1+K99)/(1+'Curves without VA'!E99)-1","v":4.7262907552287015E-2},{"$f":"(1+'Curves without VA'!L99)*(1+L99)/(1+'Curves without VA'!F99)-1","v":5.3865375260016224E-2},{"$f":"(1+'Curves without VA'!M99)*(1+M99)/(1+'Curves without VA'!G99)-1","v":4.9852260892050637E-2},{"$f":"(1+'Curves without VA'!N99)*(1+H99)/(1+'Curves without VA'!B99)-1","v":2.5268105502889382E-2},{"$f":"(1+'Curves without VA'!O99)*(1+I99)/(1+'Curves without VA'!C99)-1","v":2.9780203816812234E-2},{"$f":"(1+'Curves without VA'!P99)*(1+J99)/(1+'Curves without VA'!D99)-1","v":2.3109202801870676E-2},{"$f":"(1+'Curves without VA'!Q99)*(1+K99)/(1+'Curves without VA'!E99)-1","v":2.7793175232045719E-2},{"$f":"(1+'Curves without VA'!R99)*(1+L99)/(1+'Curves without VA'!F99)-1","v":2.141122105893678E-2},{"$f":"(1+'Curves without VA'!S99)*(1+M99)/(1+'Curves without VA'!G99)-1","v":2.8435937764075936E-2}]
[87,{"$f":"($A100*LN(1+'Curves without VA'!B100)-IF(ISNUMBER($A99),$A99*LN(1+'Curves without VA'!B99),0)+($A100<=B$2)*LN(1+B$5/10000)+IF(ISNUMBER($A99),$A99*B99))/$A100","v":3.2933767006513348E-2},{"$f":"($A100*LN(1+'Curves without VA'!C100)-IF(ISNUMBER($A99),$A99*LN(1+'Curves without VA'!C99),0)+($A100<=C$2)*LN(1+C$5/10000)+IF(ISNUMBER($A99),$A99*C99))/$A100","v":3.4552975269348397E-2},{"$f":"($A100*LN(1+'Curves without VA'!D100)-IF(ISNUMBER($A99),$A99*LN(1+'Curves without VA'!D99),0)+($A100<=D$2)*LN(1+D$5/10000)+IF(ISNUMBER($A99),$A99*D99))/$A100","v":3.174705615081222E-2},{"$f":"($A100*LN(1+'Curves without VA'!E100)-IF(ISNUMBER($A99),$A99*LN(1+'Curves without VA'!E99),0)+($A100<=E$2)*LN(1+E$5/10000)+IF(ISNUMBER($A99),$A99*E99))/$A100","v":3.7654256689402588E-2},{"$f":"($A100*LN(1+'Curves without VA'!F100)-IF(ISNUMBER($A99),$A99*LN(1+'Curves without VA'!F99),0)+($A100<=F$2)*LN(1+F$5/10000)+IF(ISNUMBER($A99),$A99*F99))/$A100","v":4.0711066008586837E-2},{"$f":"($A100*LN(1+'Curves without VA'!G100)-IF(ISNUMBER($A99),$A99*LN(1+'Curves without VA'!G99),0)+($A100<=G$2)*LN(1+G$5/10000)+IF(ISNUMBER($A99),$A99*G99))/$A100","v":3.8948360802012277E-2},3.3589307421887593E-2,3.6894151242844897E-2,3.3028712387347836E-2,3.9708864822475265E-2,4.2254587767808438E-2,4.129838550614684E-2,{"$f":"(1+'Curves without VA'!H100)*(1+H100)/(1+'Curves without VA'!B100)-1","v":3.9332583170967661E-2},{"$f":"(1+'Curves without VA'!I100)*(1+I100)/(1+'Curves without VA'!C100)-1","v":4.5111184845811891E-2},{"$f":"(1+'Curves without VA'!J100)*(1+J100)/(1+'Curves without VA'!D100)-1","v":3.9743611484980068E-2},{"$f":"(1+'Curves without VA'!K100)*(1+K100)/(1+'Curves without VA'!E100)-1","v":4.7115862494403249E-2},{"$f":"(1+'Curves without VA'!L100)*(1+L100)/(1+'Curves without VA'!F100)-1","v":5.3645098637291388E-2},{"$f":"(1+'Curves without VA'!M100)*(1+M100)/(1+'Curves without VA'!G100)-1","v":4.9675232363601163E-2},{"$f":"(1+'Curves without VA'!N100)*(1+H100)/(1+'Curves without VA'!B100)-1","v":2.5339365992660623E-2},{"$f":"(1+'Curves without VA'!O100)*(1+I100)/(1+'Curves without VA'!C100)-1","v":2.9799961407557696E-2},{"$f":"(1+'Curves without VA'!P100)*(1+J100)/(1+'Curves without VA'!D100)-1","v":2.3193642896112587E-2},{"$f":"(1+'Curves without VA'!Q100)*(1+K100)/(1+'Curves without VA'!E100)-1","v":2.7835621344069805E-2},{"$f":"(1+'Curves without VA'!R100)*(1+L100)/(1+'Curves without VA'!F100)-1","v":2.1521602234783943E-2},{"$f":"(1+'Curves without VA'!S100)*(1+M100)/(1+'Curves without VA'!G100)-1","v":2.8471118496155245E-2}]
[88,{"$f":"($A101*LN(1+'Curves without VA'!B101)-IF(ISNUMBER($A100),$A100*LN(1+'Curves without VA'!B100),0)+($A101<=B$2)*LN(1+B$5/10000)+IF(ISNUMBER($A100),$A100*B100))/$A101","v":3.2928463502310663E-2},{"$f":"($A101*LN(1+'Curves without VA'!C101)-IF(ISNUMBER($A100),$A100*LN(1+'Curves without VA'!C100),0)+($A101<=C$2)*LN(1+C$5/10000)+IF(ISNUMBER($A100),$A100*C100))/$A101","v":3.4529272303425215E-2},{"$f":"($A101*LN(1+'Curves without VA'!D101)-IF(ISNUMBER($A100),$A100*LN(1+'Curves without VA'!D100),0)+($A101<=D$2)*LN(1+D$5/10000)+IF(ISNUMBER($A100),$A100*D100))/$A101","v":3.1744248779505775E-2},{"$f":"($A101*LN(1+'Curves without VA'!E101)-IF(ISNUMBER($A100),$A100*LN(1+'Curves without VA'!E100),0)+($A101<=E$2)*LN(1+E$5/10000)+IF(ISNUMBER($A100),$A100*E100))/$A101","v":3.7595308262104679E-2},{"$f":"($A101*LN(1+'Curves without VA'!F101)-IF(ISNUMBER($A100),$A100*LN(1+'Curves without VA'!F100),0)+($A101<=F$2)*LN(1+F$5/10000)+IF(ISNUMBER($A100),$A100*F100))/$A101","v":4.061734508579553E-2},{"$f":"($A101*LN(1+'Curves without VA'!G101)-IF(ISNUMBER($A100),$A100*LN(1+'Curves without VA'!G100),0)+($A101<=G$2)*LN(1+G$5/10000)+IF(ISNUMBER($A100),$A100*G100))/$A101","v":3.8874706646161855E-2},3.358261427364595E-2,3.6849881365275117E-2,3.3017183293841068E-2,3.9632639960267113E-2,4.2150174394668838E-2,4.1204016531501964E-2,{"$f":"(1+'Curves without VA'!H101)*(1+H101)/(1+'Curves without VA'!B101)-1","v":3.9277593976448255E-2},{"$f":"(1+'Curves without VA'!I101)*(1+I101)/(1+'Curves without VA'!C101)-1","v":4.4990181611698654E-2},{"$f":"(1+'Curves without VA'!J101)*(1+J101)/(1+'Curves without VA'!D101)-1","v":3.9672861456047537E-2},{"$f":"(1+'Curves without VA'!K101)*(1+K101)/(1+'Curves without VA'!E101)-1","v":4.697212311055643E-2},{"$f":"(1+'Curves without VA'!L101)*(1+L101)/(1+'Curves without VA'!F101)-1","v":5.3429423825773537E-2},{"$f":"(1+'Curves without VA'!M101)*(1+M101)/(1+'Curves without VA'!G101)-1","v":4.950218169661702E-2},{"$f":"(1+'Curves without VA'!N101)*(1+H101)/(1+'Curves without VA'!B101)-1","v":2.5409027792862471E-2},{"$f":"(1+'Curves without VA'!O101)*(1+I101)/(1+'Curves without VA'!C101)-1","v":2.9819269698398543E-2},{"$f":"(1+'Curves without VA'!P101)*(1+J101)/(1+'Curves without VA'!D101)-1","v":2.3276192230741177E-2},{"$f":"(1+'Curves without VA'!Q101)*(1+K101)/(1+'Curves without VA'!E101)-1","v":2.787711325012765E-2},{"$f":"(1+'Curves without VA'!R101)*(1+L101)/(1+'Curves without VA'!F101)-1","v":2.1630003230786565E-2},{"$f":"(1+'Curves without VA'!S101)*(1+M101)/(1+'Curves without VA'!G101)-1","v":2.8505499450367067E-2}]
[89,{"$f":"($A102*LN(1+'Curves without VA'!B102)-IF(ISNUMBER($A101),$A101*LN(1+'Curves without VA'!B101),0)+($A102<=B$2)*LN(1+B$5/10000)+IF(ISNUMBER($A101),$A101*B101))/$A102","v":3.2923279331886601E-2},{"$f":"($A102*LN(1+'Curves without VA'!C102)-IF(ISNUMBER($A101),$A101*LN(1+'Curves without VA'!C101),0)+($A102<=C$2)*LN(1+C$5/10000)+IF(ISNUMBER($A101),$A101*C101))/$A102","v":3.4506102077219665E-2},{"$f":"($A102*LN(1+'Curves without VA'!D102)-IF(ISNUMBER($A101),$A101*LN(1+'Curves without VA'!D101),0)+($A102<=D$2)*LN(1+D$5/10000)+IF(ISNUMBER($A101),$A101*D101))/$A102","v":3.1741502926367592E-2},{"$f":"($A102*LN(1+'Curves without VA'!E102)-IF(ISNUMBER($A101),$A101*LN(1+'Curves without VA'!E101),0)+($A102<=E$2)*LN(1+E$5/10000)+IF(ISNUMBER($A101),$A101*E101))/$A102","v":3.7537684980934183E-2},{"$f":"($A102*LN(1+'Curves without VA'!F102)-IF(ISNUMBER($A101),$A101*LN(1+'Curves without VA'!F101),0)+($A102<=F$2)*LN(1+F$5/10000)+IF(ISNUMBER($A101),$A101*F101))/$A102","v":4.0525734424035023E-2},{"$f":"($A102*LN(1+'Curves without VA'!G102)-IF(ISNUMBER($A101),$A101*LN(1+'Curves without VA'!G101),0)+($A102<=G$2)*LN(1+G$5/10000)+IF(ISNUMBER($A101),$A101*G101))/$A102","v":3.8802708102249096E-2},3.3576071017394682E-2,3.6806601531482963E-2,3.3005896248842204E-2,3.9558107006037346E-2,4.2047992194182759E-2,4.1111745133848521E-2,{"$f":"(1+'Curves without VA'!H102)*(1+H102)/(1+'Curves without VA'!B102)-1","v":3.9223837833964659E-2},{"$f":"(1+'Curves without VA'!I102)*(1+I102)/(1+'Curves without VA'!C102)-1","v":4.4871891762157112E-2},{"$f":"(1+'Curves without VA'!J102)*(1+J102)/(1+'Curves without VA'!D102)-1","v":3.9603663583706927E-2},{"$f":"(1+'Curves without VA'!K102)*(1+K102)/(1+'Curves without VA'!E102)-1","v":4.6831583116733411E-2},{"$f":"(1+'Curves without VA'!L102)*(1+L102)/(1+'Curves without VA'!F102)-1","v":5.3218240714946408E-2},{"$f":"(1+'Curves without VA'!M102)*(1+M102)/(1+'Curves without VA'!G102)-1","v":4.9332981532651754E-2},{"$f":"(1+'Curves without VA'!N102)*(1+H102)/(1+'Curves without VA'!B102)-1","v":2.5477142979446032E-2},{"$f":"(1+'Curves without VA'!O102)*(1+I102)/(1+'Curves without VA'!C102)-1","v":2.9838143886928625E-2},{"$f":"(1+'Curves without VA'!P102)*(1+J102)/(1+'Curves without VA'!D102)-1","v":2.3356912095491955E-2},{"$f":"(1+'Curves without VA'!Q102)*(1+K102)/(1+'Curves without VA'!E102)-1","v":2.7917682154285695E-2},{"$f":"(1+'Curves without VA'!R102)*(1+L102)/(1+'Curves without VA'!F102)-1","v":2.1736437320783564E-2},{"$f":"(1+'Curves without VA'!S102)*(1+M102)/(1+'Curves without VA'!G102)-1","v":2.8539107688652754E-2}]
[90,{"$f":"($A103*LN(1+'Curves without VA'!B103)-IF(ISNUMBER($A102),$A102*LN(1+'Curves without VA'!B102),0)+($A103<=B$2)*LN(1+B$5/10000)+IF(ISNUMBER($A102),$A102*B102))/$A103","v":3.2918210501594651E-2},{"$f":"($A103*LN(1+'Curves without VA'!C103)-IF(ISNUMBER($A102),$A102*LN(1+'Curves without VA'!C102),0)+($A103<=C$2)*LN(1+C$5/10000)+IF(ISNUMBER($A102),$A102*C102))/$A103","v":3.4483446823593951E-2},{"$f":"($A103*LN(1+'Curves without VA'!D103)-IF(ISNUMBER($A102),$A102*LN(1+'Curves without VA'!D102),0)+($A103<=D$2)*LN(1+D$5/10000)+IF(ISNUMBER($A102),$A102*D102))/$A103","v":3.1738816702394576E-2},{"$f":"($A103*LN(1+'Curves without VA'!E103)-IF(ISNUMBER($A102),$A102*LN(1+'Curves without VA'!E102),0)+($A103<=E$2)*LN(1+E$5/10000)+IF(ISNUMBER($A102),$A102*E102))/$A103","v":3.7481342626725762E-2},{"$f":"($A103*LN(1+'Curves without VA'!F103)-IF(ISNUMBER($A102),$A102*LN(1+'Curves without VA'!F102),0)+($A103<=F$2)*LN(1+F$5/10000)+IF(ISNUMBER($A102),$A102*F102))/$A103","v":4.0436163251429104E-2},{"$f":"($A103*LN(1+'Curves without VA'!G103)-IF(ISNUMBER($A102),$A102*LN(1+'Curves without VA'!G102),0)+($A103<=G$2)*LN(1+G$5/10000)+IF(ISNUMBER($A102),$A102*G102))/$A103","v":3.8732309935581834E-2},3.356967271281408E-2,3.6764279361560348E-2,3.2994844947767943E-2,3.9485212110362378E-2,4.1947979401646407E-2,4.1021504356869798E-2,{"$f":"(1+'Curves without VA'!H103)*(1+H103)/(1+'Curves without VA'!B103)-1","v":3.9171274113430243E-2},{"$f":"(1+'Curves without VA'!I103)*(1+I103)/(1+'Curves without VA'!C103)-1","v":4.4756226400527455E-2},{"$f":"(1+'Curves without VA'!J103)*(1+J103)/(1+'Curves without VA'!D103)-1","v":3.9535970349626526E-2},{"$f":"(1+'Curves without VA'!K103)*(1+K103)/(1+'Curves without VA'!E103)-1","v":4.6694140381952742E-2},{"$f":"(1+'Curves without VA'!L103)*(1+L103)/(1+'Curves without VA'!F103)-1","v":5.301143934553032E-2},{"$f":"(1+'Curves without VA'!M103)*(1+M103)/(1+'Curves without VA'!G103)-1","v":4.9167509421334188E-2},{"$f":"(1+'Curves without VA'!N103)*(1+H103)/(1+'Curves without VA'!B103)-1","v":2.5543761490932182E-2},{"$f":"(1+'Curves without VA'!O103)*(1+I103)/(1+'Curves without VA'!C103)-1","v":2.9856598489151898E-2},{"$f":"(1+'Curves without VA'!P103)*(1+J103)/(1+'Curves without VA'!D103)-1","v":2.3435861294230698E-2},{"$f":"(1+'Curves without VA'!Q103)*(1+K103)/(1+'Curves without VA'!E103)-1","v":2.7957357969262908E-2},{"$f":"(1+'Curves without VA'!R103)*(1+L103)/(1+'Curves without VA'!F103)-1","v":2.1840922663435069E-2},{"$f":"(1+'Curves without VA'!S103)*(1+M103)/(1+'Curves without VA'!G103)-1","v":2.8571969057296531E-2}]
[91,{"$f":"($A104*LN(1+'Curves without VA'!B104)-IF(ISNUMBER($A103),$A103*LN(1+'Curves without VA'!B103),0)+($A104<=B$2)*LN(1+B$5/10000)+IF(ISNUMBER($A103),$A103*B103))/$A104","v":3.2913253194966414E-2},{"$f":"($A104*LN(1+'Curves without VA'!C104)-IF(ISNUMBER($A103),$A103*LN(1+'Curves without VA'!C103),0)+($A104<=C$2)*LN(1+C$5/10000)+IF(ISNUMBER($A103),$A103*C103))/$A104","v":3.4461289557325851E-2},{"$f":"($A104*LN(1+'Curves without VA'!D104)-IF(ISNUMBER($A103),$A103*LN(1+'Curves without VA'!D103),0)+($A104<=D$2)*LN(1+D$5/10000)+IF(ISNUMBER($A103),$A103*D103))/$A104","v":3.1736188284967971E-2},{"$f":"($A104*LN(1+'Curves without VA'!E104)-IF(ISNUMBER($A103),$A103*LN(1+'Curves without VA'!E103),0)+($A104<=E$2)*LN(1+E$5/10000)+IF(ISNUMBER($A103),$A103*E103))/$A104","v":3.7426238928920531E-2},{"$f":"($A104*LN(1+'Curves without VA'!F104)-IF(ISNUMBER($A103),$A103*LN(1+'Curves without VA'!F103),0)+($A104<=F$2)*LN(1+F$5/10000)+IF(ISNUMBER($A103),$A103*F103))/$A104","v":4.0348563951236149E-2},{"$f":"($A104*LN(1+'Curves without VA'!G104)-IF(ISNUMBER($A103),$A103*LN(1+'Curves without VA'!G103),0)+($A104<=G$2)*LN(1+G$5/10000)+IF(ISNUMBER($A103),$A103*G103))/$A104","v":3.8663459344272642E-2},3.3563414630879862E-2,3.6722883831215469E-2,3.2984023181178435E-2,3.9413903517379723E-2,4.1850075646050033E-2,4.0933229865329768E-2,{"$f":"(1+'Curves without VA'!H104)*(1+H104)/(1+'Curves without VA'!B104)-1","v":3.9119863916525999E-2},{"$f":"(1+'Curves without VA'!I104)*(1+I104)/(1+'Curves without VA'!C104)-1","v":4.4643100351011045E-2},{"$f":"(1+'Curves without VA'!J104)*(1+J104)/(1+'Curves without VA'!D104)-1","v":3.9469735879700485E-2},{"$f":"(1+'Curves without VA'!K104)*(1+K104)/(1+'Curves without VA'!E104)-1","v":4.6559696760473335E-2},{"$f":"(1+'Curves without VA'!L104)*(1+L104)/(1+'Curves without VA'!F104)-1","v":5.2808910394943842E-2},{"$f":"(1+'Curves without VA'!M104)*(1+M104)/(1+'Curves without VA'!G104)-1","v":4.9005647630537164E-2},{"$f":"(1+'Curves without VA'!N104)*(1+H104)/(1+'Curves without VA'!B104)-1","v":2.5608931227980358E-2},{"$f":"(1+'Curves without VA'!O104)*(1+I104)/(1+'Curves without VA'!C104)-1","v":2.9874647377590824E-2},{"$f":"(1+'Curves without VA'!P104)*(1+J104)/(1+'Curves without VA'!D104)-1","v":2.3513096257527843E-2},{"$f":"(1+'Curves without VA'!Q104)*(1+K104)/(1+'Curves without VA'!E104)-1","v":2.7996169377675573E-2},{"$f":"(1+'Curves without VA'!R104)*(1+L104)/(1+'Curves without VA'!F104)-1","v":2.1943481471718984E-2},{"$f":"(1+'Curves without VA'!S104)*(1+M104)/(1+'Curves without VA'!G104)-1","v":2.8604108255134708E-2}]
[92,{"$f":"($A105*LN(1+'Curves without VA'!B105)-IF(ISNUMBER($A104),$A104*LN(1+'Curves without VA'!B104),0)+($A105<=B$2)*LN(1+B$5/10000)+IF(ISNUMBER($A104),$A104*B104))/$A105","v":3.2908403762914554E-2},{"$f":"($A105*LN(1+'Curves without VA'!C105)-IF(ISNUMBER($A104),$A104*LN(1+'Curves without VA'!C104),0)+($A105<=C$2)*LN(1+C$5/10000)+IF(ISNUMBER($A104),$A104*C104))/$A105","v":3.4439614032516455E-2},{"$f":"($A105*LN(1+'Curves without VA'!D105)-IF(ISNUMBER($A104),$A104*LN(1+'Curves without VA'!D104),0)+($A105<=D$2)*LN(1+D$5/10000)+IF(ISNUMBER($A104),$A104*D104))/$A105","v":3.1733615915961813E-2},{"$f":"($A105*LN(1+'Curves without VA'!E105)-IF(ISNUMBER($A104),$A104*LN(1+'Curves without VA'!E104),0)+($A105<=E$2)*LN(1+E$5/10000)+IF(ISNUMBER($A104),$A104*E104))/$A105","v":3.7372333459157164E-2},{"$f":"($A105*LN(1+'Curves without VA'!F105)-IF(ISNUMBER($A104),$A104*LN(1+'Curves without VA'!F104),0)+($A105<=F$2)*LN(1+F$5/10000)+IF(ISNUMBER($A104),$A104*F104))/$A105","v":4.0262871885812027E-2},{"$f":"($A105*LN(1+'Curves without VA'!G105)-IF(ISNUMBER($A104),$A104*LN(1+'Curves without VA'!G104),0)+($A105<=G$2)*LN(1+G$5/10000)+IF(ISNUMBER($A104),$A104*G104))/$A105","v":3.8596105826516361E-2},3.3557292242988312E-2,3.6682385205204726E-2,3.2973424848370403E-2,3.9344131479606581E-2,4.1754222011452846E-2,4.0846859836453309E-2,{"$f":"(1+'Curves without VA'!H105)*(1+H105)/(1+'Curves without VA'!B105)-1","v":3.9069569988368524E-2},{"$f":"(1+'Curves without VA'!I105)*(1+I105)/(1+'Curves without VA'!C105)-1","v":4.4532431976687548E-2},{"$f":"(1+'Curves without VA'!J105)*(1+J105)/(1+'Curves without VA'!D105)-1","v":3.94049159008798E-2},{"$f":"(1+'Curves without VA'!K105)*(1+K105)/(1+'Curves without VA'!E105)-1","v":4.6428157928641189E-2},{"$f":"(1+'Curves without VA'!L105)*(1+L105)/(1+'Curves without VA'!F105)-1","v":5.2610545579861112E-2},{"$f":"(1+'Curves without VA'!M105)*(1+M105)/(1+'Curves without VA'!G105)-1","v":4.8847282960581717E-2},{"$f":"(1+'Curves without VA'!N105)*(1+H105)/(1+'Curves without VA'!B105)-1","v":2.5672698148281992E-2},{"$f":"(1+'Curves without VA'!O105)*(1+I105)/(1+'Curves without VA'!C105)-1","v":2.9892303816838162E-2},{"$f":"(1+'Curves without VA'!P105)*(1+J105)/(1+'Curves without VA'!D105)-1","v":2.3588671150339691E-2},{"$f":"(1+'Curves without VA'!Q105)*(1+K105)/(1+'Curves without VA'!E105)-1","v":2.803414389027914E-2},{"$f":"(1+'Curves without VA'!R105)*(1+L105)/(1+'Curves without VA'!F105)-1","v":2.2044139294355336E-2},{"$f":"(1+'Curves without VA'!S105)*(1+M105)/(1+'Curves without VA'!G105)-1","v":2.8635548897160357E-2}]
[93,{"$f":"($A106*LN(1+'Curves without VA'!B106)-IF(ISNUMBER($A105),$A105*LN(1+'Curves without VA'!B105),0)+($A106<=B$2)*LN(1+B$5/10000)+IF(ISNUMBER($A105),$A105*B105))/$A106","v":3.2903658714583423E-2},{"$f":"($A106*LN(1+'Curves without VA'!C106)-IF(ISNUMBER($A105),$A105*LN(1+'Curves without VA'!C105),0)+($A106<=C$2)*LN(1+C$5/10000)+IF(ISNUMBER($A105),$A105*C105))/$A106","v":3.4418404702754687E-2},{"$f":"($A106*LN(1+'Curves without VA'!D106)-IF(ISNUMBER($A105),$A105*LN(1+'Curves without VA'!D105),0)+($A106<=D$2)*LN(1+D$5/10000)+IF(ISNUMBER($A105),$A105*D105))/$A106","v":3.1731097899794419E-2},{"$f":"($A106*LN(1+'Curves without VA'!E106)-IF(ISNUMBER($A105),$A105*LN(1+'Curves without VA'!E105),0)+($A106<=E$2)*LN(1+E$5/10000)+IF(ISNUMBER($A105),$A105*E105))/$A106","v":3.7319587531782258E-2},{"$f":"($A106*LN(1+'Curves without VA'!F106)-IF(ISNUMBER($A105),$A105*LN(1+'Curves without VA'!F105),0)+($A106<=F$2)*LN(1+F$5/10000)+IF(ISNUMBER($A105),$A105*F105))/$A106","v":4.0179025232399017E-2},{"$f":"($A106*LN(1+'Curves without VA'!G106)-IF(ISNUMBER($A105),$A105*LN(1+'Curves without VA'!G105),0)+($A106<=G$2)*LN(1+G$5/10000)+IF(ISNUMBER($A105),$A105*G105))/$A106","v":3.8530201056481597E-2},3.3551301210718476E-2,3.6642754974323566E-2,3.2963043968156525E-2,3.9275848175284844E-2,4.1660361080203767E-2,4.0762334854795412E-2,{"$f":"(1+'Curves without VA'!H106)*(1+H106)/(1+'Curves without VA'!B106)-1","v":3.9020356634274389E-2},{"$f":"(1+'Curves without VA'!I106)*(1+I106)/(1+'Curves without VA'!C106)-1","v":4.4424143007148365E-2},{"$f":"(1+'Curves without VA'!J106)*(1+J106)/(1+'Curves without VA'!D106)-1","v":3.9341467696003996E-2},{"$f":"(1+'Curves without VA'!K106)*(1+K106)/(1+'Curves without VA'!E106)-1","v":4.6299433226676401E-2},{"$f":"(1+'Curves without VA'!L106)*(1+L106)/(1+'Curves without VA'!F106)-1","v":5.2416237987410907E-2},{"$f":"(1+'Curves without VA'!M106)*(1+M106)/(1+'Curves without VA'!G106)-1","v":4.8692306563035359E-2},{"$f":"(1+'Curves without VA'!N106)*(1+H106)/(1+'Curves without VA'!B106)-1","v":2.5735106356956639E-2},{"$f":"(1+'Curves without VA'!O106)*(1+I106)/(1+'Curves without VA'!C106)-1","v":2.9909580496759292E-2},{"$f":"(1+'Curves without VA'!P106)*(1+J106)/(1+'Curves without VA'!D106)-1","v":2.3662637974910528E-2},{"$f":"(1+'Curves without VA'!Q106)*(1+K106)/(1+'Curves without VA'!E106)-1","v":2.8071307901336828E-2},{"$f":"(1+'Curves without VA'!R106)*(1+L106)/(1+'Curves without VA'!F106)-1","v":2.2142924394790375E-2},{"$f":"(1+'Curves without VA'!S106)*(1+M106)/(1+'Curves without VA'!G106)-1","v":2.8666313573898261E-2}]
[94,{"$f":"($A107*LN(1+'Curves without VA'!B107)-IF(ISNUMBER($A106),$A106*LN(1+'Curves without VA'!B106),0)+($A107<=B$2)*LN(1+B$5/10000)+IF(ISNUMBER($A106),$A106*B106))/$A107","v":3.2899014708801862E-2},{"$f":"($A107*LN(1+'Curves without VA'!C107)-IF(ISNUMBER($A106),$A106*LN(1+'Curves without VA'!C106),0)+($A107<=C$2)*LN(1+C$5/10000)+IF(ISNUMBER($A106),$A106*C106))/$A107","v":3.4397646683835124E-2},{"$f":"($A107*LN(1+'Curves without VA'!D107)-IF(ISNUMBER($A106),$A106*LN(1+'Curves without VA'!D106),0)+($A107<=D$2)*LN(1+D$5/10000)+IF(ISNUMBER($A106),$A106*D106))/$A107","v":3.1728632601450112E-2},{"$f":"($A107*LN(1+'Curves without VA'!E107)-IF(ISNUMBER($A106),$A106*LN(1+'Curves without VA'!E106),0)+($A107<=E$2)*LN(1+E$5/10000)+IF(ISNUMBER($A106),$A106*E106))/$A107","v":3.7267964110754885E-2},{"$f":"($A107*LN(1+'Curves without VA'!F107)-IF(ISNUMBER($A106),$A106*LN(1+'Curves without VA'!F106),0)+($A107<=F$2)*LN(1+F$5/10000)+IF(ISNUMBER($A106),$A106*F106))/$A107","v":4.009696482981593E-2},{"$f":"($A107*LN(1+'Curves without VA'!G107)-IF(ISNUMBER($A106),$A106*LN(1+'Curves without VA'!G106),0)+($A107<=G$2)*LN(1+G$5/10000)+IF(ISNUMBER($A106),$A106*G106))/$A107","v":3.8465698768170249E-2},3.3545437376191201E-2,3.6603965795763305E-2,3.2952874687245393E-2,3.920900762837265E-2,4.1568436960830235E-2,4.0679597810703072E-2,{"$f":"(1+'Curves without VA'!H107)*(1+H107)/(1+'Curves without VA'!B107)-1","v":3.8972189641295563E-2},{"$f":"(1+'Curves without VA'!I107)*(1+I107)/(1+'Curves without VA'!C107)-1","v":4.4318158375242778E-2},{"$f":"(1+'Curves without VA'!J107)*(1+J107)/(1+'Curves without VA'!D107)-1","v":3.9279350057283002E-2},{"$f":"(1+'Curves without VA'!K107)*(1+K107)/(1+'Curves without VA'!E107)-1","v":4.6173435505618476E-2},{"$f":"(1+'Curves without VA'!L107)*(1+L107)/(1+'Curves without VA'!F107)-1","v":5.2225882345040109E-2},{"$f":"(1+'Curves without VA'!M107)*(1+M107)/(1+'Curves without VA'!G107)-1","v":4.854061376453056E-2},{"$f":"(1+'Curves without VA'!N107)*(1+H107)/(1+'Curves without VA'!B107)-1","v":2.5796198192603592E-2},{"$f":"(1+'Curves without VA'!O107)*(1+I107)/(1+'Curves without VA'!C107)-1","v":2.992648956351851E-2},{"$f":"(1+'Curves without VA'!P107)*(1+J107)/(1+'Curves without VA'!D107)-1","v":2.3735046669038251E-2},{"$f":"(1+'Curves without VA'!Q107)*(1+K107)/(1+'Curves without VA'!E107)-1","v":2.8107686741231541E-2},{"$f":"(1+'Curves without VA'!R107)*(1+L107)/(1+'Curves without VA'!F107)-1","v":2.2239867215213538E-2},{"$f":"(1+'Curves without VA'!S107)*(1+M107)/(1+'Curves without VA'!G107)-1","v":2.8696423906869661E-2}]
[95,{"$f":"($A108*LN(1+'Curves without VA'!B108)-IF(ISNUMBER($A107),$A107*LN(1+'Curves without VA'!B107),0)+($A108<=B$2)*LN(1+B$5/10000)+IF(ISNUMBER($A107),$A107*B107))/$A108","v":3.2894468546087186E-2},{"$f":"($A108*LN(1+'Curves without VA'!C108)-IF(ISNUMBER($A107),$A107*LN(1+'Curves without VA'!C107),0)+($A108<=C$2)*LN(1+C$5/10000)+IF(ISNUMBER($A107),$A107*C107))/$A108","v":3.4377325718836574E-2},{"$f":"($A108*LN(1+'Curves without VA'!D108)-IF(ISNUMBER($A107),$A107*LN(1+'Curves without VA'!D107),0)+($A108<=D$2)*LN(1+D$5/10000)+IF(ISNUMBER($A107),$A107*D107))/$A108","v":3.1726218444484415E-2},{"$f":"($A108*LN(1+'Curves without VA'!E108)-IF(ISNUMBER($A107),$A107*LN(1+'Curves without VA'!E107),0)+($A108<=E$2)*LN(1+E$5/10000)+IF(ISNUMBER($A107),$A107*E107))/$A108","v":3.7217427722473648E-2},{"$f":"($A108*LN(1+'Curves without VA'!F108)-IF(ISNUMBER($A107),$A107*LN(1+'Curves without VA'!F107),0)+($A108<=F$2)*LN(1+F$5/10000)+IF(ISNUMBER($A107),$A107*F107))/$A108","v":4.0016634035196869E-2},{"$f":"($A108*LN(1+'Curves without VA'!G108)-IF(ISNUMBER($A107),$A107*LN(1+'Curves without VA'!G107),0)+($A108<=G$2)*LN(1+G$5/10000)+IF(ISNUMBER($A107),$A107*G107))/$A108","v":3.8402554646652994E-2},3.35396967529904E-2,3.6565991436654954E-2,3.2942911286570453E-2,3.9143565631260202E-2,4.147839530302555E-2,4.0598593802431804E-2,{"$f":"(1+'Curves without VA'!H108)*(1+H108)/(1+'Curves without VA'!B108)-1","v":3.8925036204242147E-2},{"$f":"(1+'Curves without VA'!I108)*(1+I108)/(1+'Curves without VA'!C108)-1","v":4.4214406062459632E-2},{"$f":"(1+'Curves without VA'!J108)*(1+J108)/(1+'Curves without VA'!D108)-1","v":3.9218523238960579E-2},{"$f":"(1+'Curves without VA'!K108)*(1+K108)/(1+'Curves without VA'!E108)-1","v":4.6050080979560759E-2},{"$f":"(1+'Curves without VA'!L108)*(1+L108)/(1+'Curves without VA'!F108)-1","v":5.2039375237741936E-2},{"$f":"(1+'Curves without VA'!M108)*(1+M108)/(1+'Curves without VA'!G108)-1","v":4.8392103895922522E-2},{"$f":"(1+'Curves without VA'!N108)*(1+H108)/(1+'Curves without VA'!B108)-1","v":2.585601430919926E-2},{"$f":"(1+'Curves without VA'!O108)*(1+I108)/(1+'Curves without VA'!C108)-1","v":2.9943042648596041E-2},{"$f":"(1+'Curves without VA'!P108)*(1+J108)/(1+'Curves without VA'!D108)-1","v":2.3805945199837808E-2},{"$f":"(1+'Curves without VA'!Q108)*(1+K108)/(1+'Curves without VA'!E108)-1","v":2.8143304726454765E-2},{"$f":"(1+'Curves without VA'!R108)*(1+L108)/(1+'Curves without VA'!F108)-1","v":2.2334999914676246E-2},{"$f":"(1+'Curves without VA'!S108)*(1+M108)/(1+'Curves without VA'!G108)-1","v":2.872590060045499E-2}]
[96,{"$f":"($A109*LN(1+'Curves without VA'!B109)-IF(ISNUMBER($A108),$A108*LN(1+'Curves without VA'!B108),0)+($A109<=B$2)*LN(1+B$5/10000)+IF(ISNUMBER($A108),$A108*B108))/$A109","v":3.2890017161161217E-2},{"$f":"($A109*LN(1+'Curves without VA'!C109)-IF(ISNUMBER($A108),$A108*LN(1+'Curves without VA'!C108),0)+($A109<=C$2)*LN(1+C$5/10000)+IF(ISNUMBER($A108),$A108*C108))/$A109","v":3.4357428145392298E-2},{"$f":"($A109*LN(1+'Curves without VA'!D109)-IF(ISNUMBER($A108),$A108*LN(1+'Curves without VA'!D108),0)+($A109<=D$2)*LN(1+D$5/10000)+IF(ISNUMBER($A108),$A108*D108))/$A109","v":3.1723853909033685E-2},{"$f":"($A109*LN(1+'Curves without VA'!E109)-IF(ISNUMBER($A108),$A108*LN(1+'Curves without VA'!E108),0)+($A109<=E$2)*LN(1+E$5/10000)+IF(ISNUMBER($A108),$A108*E108))/$A109","v":3.716794437408736E-2},{"$f":"($A109*LN(1+'Curves without VA'!F109)-IF(ISNUMBER($A108),$A108*LN(1+'Curves without VA'!F108),0)+($A109<=F$2)*LN(1+F$5/10000)+IF(ISNUMBER($A108),$A108*F108))/$A109","v":3.9937978590014196E-2},{"$f":"($A109*LN(1+'Curves without VA'!G109)-IF(ISNUMBER($A108),$A108*LN(1+'Curves without VA'!G108),0)+($A109<=G$2)*LN(1+G$5/10000)+IF(ISNUMBER($A108),$A108*G108))/$A109","v":3.8340726226139835E-2},3.3534075517606121E-2,3.6528806720627527E-2,3.2933148185877448E-2,3.9079479670250272E-2,4.1390183301827754E-2,4.0519270041931676E-2,{"$f":"(1+'Curves without VA'!H109)*(1+H109)/(1+'Curves without VA'!B109)-1","v":3.8878864855902862E-2},{"$f":"(1+'Curves without VA'!I109)*(1+I109)/(1+'Curves without VA'!C109)-1","v":4.4112816952497358E-2},{"$f":"(1+'Curves without VA'!J109)*(1+J109)/(1+'Curves without VA'!D109)-1","v":3.9158948909612024E-2},{"$f":"(1+'Curves without VA'!K109)*(1+K109)/(1+'Curves without VA'!E109)-1","v":4.5929289083244118E-2},{"$f":"(1+'Curves without VA'!L109)*(1+L109)/(1+'Curves without VA'!F109)-1","v":5.1856615280167162E-2},{"$f":"(1+'Curves without VA'!M109)*(1+M109)/(1+'Curves without VA'!G109)-1","v":4.8246680126990293E-2},{"$f":"(1+'Curves without VA'!N109)*(1+H109)/(1+'Curves without VA'!B109)-1","v":2.5914593754000625E-2},{"$f":"(1+'Curves without VA'!O109)*(1+I109)/(1+'Curves without VA'!C109)-1","v":2.9959250895950973E-2},{"$f":"(1+'Curves without VA'!P109)*(1+J109)/(1+'Curves without VA'!D109)-1","v":2.3875379653163442E-2},{"$f":"(1+'Curves without VA'!Q109)*(1+K109)/(1+'Curves without VA'!E109)-1","v":2.8178185207079043E-2},{"$f":"(1+'Curves without VA'!R109)*(1+L109)/(1+'Curves without VA'!F109)-1","v":2.2428355971765956E-2},{"$f":"(1+'Curves without VA'!S109)*(1+M109)/(1+'Curves without VA'!G109)-1","v":2.8754763490417501E-2}]
[97,{"$f":"($A110*LN(1+'Curves without VA'!B110)-IF(ISNUMBER($A109),$A109*LN(1+'Curves without VA'!B109),0)+($A110<=B$2)*LN(1+B$5/10000)+IF(ISNUMBER($A109),$A109*B109))/$A110","v":3.2885657615941546E-2},{"$f":"($A110*LN(1+'Curves without VA'!C110)-IF(ISNUMBER($A109),$A109*LN(1+'Curves without VA'!C109),0)+($A110<=C$2)*LN(1+C$5/10000)+IF(ISNUMBER($A109),$A109*C109))/$A110","v":3.4337940864988377E-2},{"$f":"($A110*LN(1+'Curves without VA'!D110)-IF(ISNUMBER($A109),$A109*LN(1+'Curves without VA'!D109),0)+($A110<=D$2)*LN(1+D$5/10000)+IF(ISNUMBER($A109),$A109*D109))/$A110","v":3.1721537529836301E-2},{"$f":"($A110*LN(1+'Curves without VA'!E110)-IF(ISNUMBER($A109),$A109*LN(1+'Curves without VA'!E109),0)+($A110<=E$2)*LN(1+E$5/10000)+IF(ISNUMBER($A109),$A109*E109))/$A110","v":3.7119481476890627E-2},{"$f":"($A110*LN(1+'Curves without VA'!F110)-IF(ISNUMBER($A109),$A109*LN(1+'Curves without VA'!F109),0)+($A110<=F$2)*LN(1+F$5/10000)+IF(ISNUMBER($A109),$A109*F109))/$A110","v":3.9860946494676822E-2},{"$f":"($A110*LN(1+'Curves without VA'!G110)-IF(ISNUMBER($A109),$A109*LN(1+'Curves without VA'!G109),0)+($A110<=G$2)*LN(1+G$5/10000)+IF(ISNUMBER($A109),$A109*G109))/$A110","v":3.8280172794385871E-2},3.352857000136944E-2,3.649238747721939E-2,3.2923579946833925E-2,3.9016708853820692E-2,4.1303749692790825E-2,4.0441575764296633E-2,{"$f":"(1+'Curves without VA'!H110)*(1+H110)/(1+'Curves without VA'!B110)-1","v":3.8833645401212369E-2},{"$f":"(1+'Curves without VA'!I110)*(1+I110)/(1+'Curves without VA'!C110)-1","v":4.4013324692582456E-2},{"$f":"(1+'Curves without VA'!J110)*(1+J110)/(1+'Curves without VA'!D110)-1","v":3.9100590104444111E-2},{"$f":"(1+'Curves without VA'!K110)*(1+K110)/(1+'Curves without VA'!E110)-1","v":4.5810982335027672E-2},{"$f":"(1+'Curves without VA'!L110)*(1+L110)/(1+'Curves without VA'!F110)-1","v":5.1677503250155521E-2},{"$f":"(1+'Curves without VA'!M110)*(1+M110)/(1+'Curves without VA'!G110)-1","v":4.8104249306824887E-2},{"$f":"(1+'Curves without VA'!N110)*(1+H110)/(1+'Curves without VA'!B110)-1","v":2.5971974041633095E-2},{"$f":"(1+'Curves without VA'!O110)*(1+I110)/(1+'Curves without VA'!C110)-1","v":2.9975124987468682E-2},{"$f":"(1+'Curves without VA'!P110)*(1+J110)/(1+'Curves without VA'!D110)-1","v":2.3943394318842293E-2},{"$f":"(1+'Curves without VA'!Q110)*(1+K110)/(1+'Curves without VA'!E110)-1","v":2.821235061184435E-2},{"$f":"(1+'Curves without VA'!R110)*(1+L110)/(1+'Curves without VA'!F110)-1","v":2.2519969843513232E-2},{"$f":"(1+'Curves without VA'!S110)*(1+M110)/(1+'Curves without VA'!G110)-1","v":2.8783031589352026E-2}]
[98,{"$f":"($A111*LN(1+'Curves without VA'!B111)-IF(ISNUMBER($A110),$A110*LN(1+'Curves without VA'!B110),0)+($A111<=B$2)*LN(1+B$5/10000)+IF(ISNUMBER($A110),$A110*B110))/$A111","v":3.2881387092969526E-2},{"$f":"($A111*LN(1+'Curves without VA'!C111)-IF(ISNUMBER($A110),$A110*LN(1+'Curves without VA'!C110),0)+($A111<=C$2)*LN(1+C$5/10000)+IF(ISNUMBER($A110),$A110*C110))/$A111","v":3.4318851314149537E-2},{"$f":"($A111*LN(1+'Curves without VA'!D111)-IF(ISNUMBER($A110),$A110*LN(1+'Curves without VA'!D110),0)+($A111<=D$2)*LN(1+D$5/10000)+IF(ISNUMBER($A110),$A110*D110))/$A111","v":3.1719267894279424E-2},{"$f":"($A111*LN(1+'Curves without VA'!E111)-IF(ISNUMBER($A110),$A110*LN(1+'Curves without VA'!E110),0)+($A111<=E$2)*LN(1+E$5/10000)+IF(ISNUMBER($A110),$A110*E110))/$A111","v":3.7072007774439315E-2},{"$f":"($A111*LN(1+'Curves without VA'!F111)-IF(ISNUMBER($A110),$A110*LN(1+'Curves without VA'!F110),0)+($A111<=F$2)*LN(1+F$5/10000)+IF(ISNUMBER($A110),$A110*F110))/$A111","v":3.9785487891065001E-2},{"$f":"($A111*LN(1+'Curves without VA'!G111)-IF(ISNUMBER($A110),$A110*LN(1+'Curves without VA'!G110),0)+($A111<=G$2)*LN(1+G$5/10000)+IF(ISNUMBER($A110),$A110*G110))/$A111","v":3.82208553029805E-2},3.3523176682845657E-2,3.6456710493979694E-2,3.2914201274888644E-2,3.8955213843657743E-2,4.1219044739699839E-2,4.0365462140837804E-2,{"$f":"(1+'Curves without VA'!H111)*(1+H111)/(1+'Curves without VA'!B111)-1","v":3.8789348855118089E-2},{"$f":"(1+'Curves without VA'!I111)*(1+I111)/(1+'Curves without VA'!C111)-1","v":4.3915865562117018E-2},{"$f":"(1+'Curves without VA'!J111)*(1+J111)/(1+'Curves without VA'!D111)-1","v":3.9043411177900111E-2},{"$f":"(1+'Curves without VA'!K111)*(1+K111)/(1+'Curves without VA'!E111)-1","v":4.5695086205209012E-2},{"$f":"(1+'Curves without VA'!L111)*(1+L111)/(1+'Curves without VA'!F111)-1","v":5.1501942189341454E-2},{"$f":"(1+'Curves without VA'!M111)*(1+M111)/(1+'Curves without VA'!G111)-1","v":4.7964721809965694E-2},{"$f":"(1+'Curves without VA'!N111)*(1+H111)/(1+'Curves without VA'!B111)-1","v":2.6028191224530595E-2},{"$f":"(1+'Curves without VA'!O111)*(1+I111)/(1+'Curves without VA'!C111)-1","v":2.9990675166812197E-2},{"$f":"(1+'Curves without VA'!P111)*(1+J111)/(1+'Curves without VA'!D111)-1","v":2.4010031771884988E-2},{"$f":"(1+'Curves without VA'!Q111)*(1+K111)/(1+'Curves without VA'!E111)-1","v":2.8245822490963413E-2},{"$f":"(1+'Curves without VA'!R111)*(1+L111)/(1+'Curves without VA'!F111)-1","v":2.2609876673255203E-2},{"$f":"(1+'Curves without VA'!S111)*(1+M111)/(1+'Curves without VA'!G111)-1","v":2.8810723129274018E-2}]
[99,{"$f":"($A112*LN(1+'Curves without VA'!B112)-IF(ISNUMBER($A111),$A111*LN(1+'Curves without VA'!B111),0)+($A112<=B$2)*LN(1+B$5/10000)+IF(ISNUMBER($A111),$A111*B111))/$A112","v":3.2877202889245713E-2},{"$f":"($A112*LN(1+'Curves without VA'!C112)-IF(ISNUMBER($A111),$A111*LN(1+'Curves without VA'!C111),0)+($A112<=C$2)*LN(1+C$5/10000)+IF(ISNUMBER($A111),$A111*C111))/$A112","v":3.4300147437374848E-2},{"$f":"($A112*LN(1+'Curves without VA'!D112)-IF(ISNUMBER($A111),$A111*LN(1+'Curves without VA'!D111),0)+($A112<=D$2)*LN(1+D$5/10000)+IF(ISNUMBER($A111),$A111*D111))/$A112","v":3.1717043640477789E-2},{"$f":"($A112*LN(1+'Curves without VA'!E112)-IF(ISNUMBER($A111),$A111*LN(1+'Curves without VA'!E111),0)+($A112<=E$2)*LN(1+E$5/10000)+IF(ISNUMBER($A111),$A111*E111))/$A112","v":3.7025493275046784E-2},{"$f":"($A112*LN(1+'Curves without VA'!F112)-IF(ISNUMBER($A111),$A111*LN(1+'Curves without VA'!F111),0)+($A112<=F$2)*LN(1+F$5/10000)+IF(ISNUMBER($A111),$A111*F111))/$A112","v":3.9711554952412242E-2},{"$f":"($A112*LN(1+'Curves without VA'!G112)-IF(ISNUMBER($A111),$A111*LN(1+'Curves without VA'!G111),0)+($A112<=G$2)*LN(1+G$5/10000)+IF(ISNUMBER($A111),$A111*G111))/$A112","v":3.8162736283097617E-2},3.3517892180659592E-2,3.6421753471119089E-2,3.2905007020080479E-2,3.8894956788432689E-2,4.1136020216155922E-2,4.0290882195723077E-2,{"$f":"(1+'Curves without VA'!H112)*(1+H112)/(1+'Curves without VA'!B112)-1","v":3.8745947383920898E-2},{"$f":"(1+'Curves without VA'!I112)*(1+I112)/(1+'Curves without VA'!C112)-1","v":4.3820378348265132E-2},{"$f":"(1+'Curves without VA'!J112)*(1+J112)/(1+'Curves without VA'!D112)-1","v":3.8987377756829256E-2},{"$f":"(1+'Curves without VA'!K112)*(1+K112)/(1+'Curves without VA'!E112)-1","v":4.5581528989629305E-2},{"$f":"(1+'Curves without VA'!L112)*(1+L112)/(1+'Curves without VA'!F112)-1","v":5.1329837475726725E-2},{"$f":"(1+'Curves without VA'!M112)*(1+M112)/(1+'Curves without VA'!G112)-1","v":4.7828011388299618E-2},{"$f":"(1+'Curves without VA'!N112)*(1+H112)/(1+'Curves without VA'!B112)-1","v":2.6083279959897343E-2},{"$f":"(1+'Curves without VA'!O112)*(1+I112)/(1+'Curves without VA'!C112)-1","v":3.0005911261802076E-2},{"$f":"(1+'Curves without VA'!P112)*(1+J112)/(1+'Curves without VA'!D112)-1","v":2.407533294983466E-2},{"$f":"(1+'Curves without VA'!Q112)*(1+K112)/(1+'Curves without VA'!E112)-1","v":2.827862155676697E-2},{"$f":"(1+'Curves without VA'!R112)*(1+L112)/(1+'Curves without VA'!F112)-1","v":2.269811204110761E-2},{"$f":"(1+'Curves without VA'!S112)*(1+M112)/(1+'Curves without VA'!G112)-1","v":2.8837855601565154E-2}]
[100,{"$f":"($A113*LN(1+'Curves without VA'!B113)-IF(ISNUMBER($A112),$A112*LN(1+'Curves without VA'!B112),0)+($A113<=B$2)*LN(1+B$5/10000)+IF(ISNUMBER($A112),$A112*B112))/$A113","v":3.2873102410443111E-2},{"$f":"($A113*LN(1+'Curves without VA'!C113)-IF(ISNUMBER($A112),$A112*LN(1+'Curves without VA'!C112),0)+($A113<=C$2)*LN(1+C$5/10000)+IF(ISNUMBER($A112),$A112*C112))/$A113","v":3.4281817661702241E-2},{"$f":"($A113*LN(1+'Curves without VA'!D113)-IF(ISNUMBER($A112),$A112*LN(1+'Curves without VA'!D112),0)+($A113<=D$2)*LN(1+D$5/10000)+IF(ISNUMBER($A112),$A112*D112))/$A113","v":3.1714863455392185E-2},{"$f":"($A113*LN(1+'Curves without VA'!E113)-IF(ISNUMBER($A112),$A112*LN(1+'Curves without VA'!E112),0)+($A113<=E$2)*LN(1+E$5/10000)+IF(ISNUMBER($A112),$A112*E112))/$A113","v":3.6979909188352388E-2},{"$f":"($A113*LN(1+'Curves without VA'!F113)-IF(ISNUMBER($A112),$A112*LN(1+'Curves without VA'!F112),0)+($A113<=F$2)*LN(1+F$5/10000)+IF(ISNUMBER($A112),$A112*F112))/$A113","v":3.9639101779995925E-2},{"$f":"($A113*LN(1+'Curves without VA'!G113)-IF(ISNUMBER($A112),$A112*LN(1+'Curves without VA'!G112),0)+($A113<=G$2)*LN(1+G$5/10000)+IF(ISNUMBER($A112),$A112*G112))/$A113","v":3.8105779766322866E-2},3.3512713246723003E-2,3.6387494978562085E-2,3.2895992176966482E-2,3.8835901260279249E-2,4.1054629382174523E-2,4.0217790726112312E-2,{"$f":"(1+'Curves without VA'!H113)*(1+H113)/(1+'Curves without VA'!B113)-1","v":3.8703414249877666E-2},{"$f":"(1+'Curves without VA'!I113)*(1+I113)/(1+'Curves without VA'!C113)-1","v":4.3726804228091387E-2},{"$f":"(1+'Curves without VA'!J113)*(1+J113)/(1+'Curves without VA'!D113)-1","v":3.8932456694402262E-2},{"$f":"(1+'Curves without VA'!K113)*(1+K113)/(1+'Curves without VA'!E113)-1","v":4.5470241688483126E-2},{"$f":"(1+'Curves without VA'!L113)*(1+L113)/(1+'Curves without VA'!F113)-1","v":5.1161096872464951E-2},{"$f":"(1+'Curves without VA'!M113)*(1+M113)/(1+'Curves without VA'!G113)-1","v":4.7694035028694071E-2},{"$f":"(1+'Curves without VA'!N113)*(1+H113)/(1+'Curves without VA'!B113)-1","v":2.6137273573348718E-2},{"$f":"(1+'Curves without VA'!O113)*(1+I113)/(1+'Curves without VA'!C113)-1","v":3.0020842705426265E-2},{"$f":"(1+'Curves without VA'!P113)*(1+J113)/(1+'Curves without VA'!D113)-1","v":2.4139337226414037E-2},{"$f":"(1+'Curves without VA'!Q113)*(1+K113)/(1+'Curves without VA'!E113)-1","v":2.8310767722286245E-2},{"$f":"(1+'Curves without VA'!R113)*(1+L113)/(1+'Curves without VA'!F113)-1","v":2.278471175150143E-2},{"$f":"(1+'Curves without VA'!S113)*(1+M113)/(1+'Curves without VA'!G113)-1","v":2.8864445794467564E-2}]
[101,{"$f":"($A114*LN(1+'Curves without VA'!B114)-IF(ISNUMBER($A113),$A113*LN(1+'Curves without VA'!B113),0)+($A114<=B$2)*LN(1+B$5/10000)+IF(ISNUMBER($A113),$A113*B113))/$A114","v":3.2869083165470277E-2},{"$f":"($A114*LN(1+'Curves without VA'!C114)-IF(ISNUMBER($A113),$A113*LN(1+'Curves without VA'!C113),0)+($A114<=C$2)*LN(1+C$5/10000)+IF(ISNUMBER($A113),$A113*C113))/$A114","v":3.426385087278716E-2},{"$f":"($A114*LN(1+'Curves without VA'!D114)-IF(ISNUMBER($A113),$A113*LN(1+'Curves without VA'!D113),0)+($A114<=D$2)*LN(1+D$5/10000)+IF(ISNUMBER($A113),$A113*D113))/$A114","v":3.1712726072992227E-2},{"$f":"($A114*LN(1+'Curves without VA'!E114)-IF(ISNUMBER($A113),$A113*LN(1+'Curves without VA'!E113),0)+($A114<=E$2)*LN(1+E$5/10000)+IF(ISNUMBER($A113),$A113*E113))/$A114","v":3.6935227865680008E-2},{"$f":"($A114*LN(1+'Curves without VA'!F114)-IF(ISNUMBER($A113),$A113*LN(1+'Curves without VA'!F113),0)+($A114<=F$2)*LN(1+F$5/10000)+IF(ISNUMBER($A113),$A113*F113))/$A114","v":3.9568084306145758E-2},{"$f":"($A114*LN(1+'Curves without VA'!G114)-IF(ISNUMBER($A113),$A113*LN(1+'Curves without VA'!G113),0)+($A114<=G$2)*LN(1+G$5/10000)+IF(ISNUMBER($A113),$A113*G113))/$A114","v":3.8049951210205005E-2},3.3507636759841031E-2,3.6353914415271582E-2,3.2887151883812971E-2,3.8778012193916522E-2,4.0974826956772459E-2,4.0146144225700509E-2,{"$f":"(1+'Curves without VA'!H114)*(1+H114)/(1+'Curves without VA'!B114)-1","v":3.86617237588609E-2},{"$f":"(1+'Curves without VA'!I114)*(1+I114)/(1+'Curves without VA'!C114)-1","v":4.3635086656902189E-2},{"$f":"(1+'Curves without VA'!J114)*(1+J114)/(1+'Curves without VA'!D114)-1","v":3.8878616024951684E-2},{"$f":"(1+'Curves without VA'!K114)*(1+K114)/(1+'Curves without VA'!E114)-1","v":4.5361157890208004E-2},{"$f":"(1+'Curves without VA'!L114)*(1+L114)/(1+'Curves without VA'!F114)-1","v":5.0995630556521565E-2},{"$f":"(1+'Curves without VA'!M114)*(1+M114)/(1+'Curves without VA'!G114)-1","v":4.7562712816290986E-2},{"$f":"(1+'Curves without VA'!N114)*(1+H114)/(1+'Curves without VA'!B114)-1","v":2.6190204119396654E-2},{"$f":"(1+'Curves without VA'!O114)*(1+I114)/(1+'Curves without VA'!C114)-1","v":3.0035478555579198E-2},{"$f":"(1+'Curves without VA'!P114)*(1+J114)/(1+'Curves without VA'!D114)-1","v":2.420208248163136E-2},{"$f":"(1+'Curves without VA'!Q114)*(1+K114)/(1+'Curves without VA'!E114)-1","v":2.8342280137885867E-2},{"$f":"(1+'Curves without VA'!R114)*(1+L114)/(1+'Curves without VA'!F114)-1","v":2.2869711652945934E-2},{"$f":"(1+'Curves without VA'!S114)*(1+M114)/(1+'Curves without VA'!G114)-1","v":2.8890509828300992E-2}]
[102,{"$f":"($A115*LN(1+'Curves without VA'!B115)-IF(ISNUMBER($A114),$A114*LN(1+'Curves without VA'!B114),0)+($A115<=B$2)*LN(1+B$5/10000)+IF(ISNUMBER($A114),$A114*B114))/$A115","v":3.2865142761359836E-2},{"$f":"($A115*LN(1+'Curves without VA'!C115)-IF(ISNUMBER($A114),$A114*LN(1+'Curves without VA'!C114),0)+($A115<=C$2)*LN(1+C$5/10000)+IF(ISNUMBER($A114),$A114*C114))/$A115","v":3.4246236392392618E-2},{"$f":"($A115*LN(1+'Curves without VA'!D115)-IF(ISNUMBER($A114),$A114*LN(1+'Curves without VA'!D114),0)+($A115<=D$2)*LN(1+D$5/10000)+IF(ISNUMBER($A114),$A114*D114))/$A115","v":3.1710630272466303E-2},{"$f":"($A115*LN(1+'Curves without VA'!E115)-IF(ISNUMBER($A114),$A114*LN(1+'Curves without VA'!E114),0)+($A115<=E$2)*LN(1+E$5/10000)+IF(ISNUMBER($A114),$A114*E114))/$A115","v":3.6891422743920078E-2},{"$f":"($A115*LN(1+'Curves without VA'!F115)-IF(ISNUMBER($A114),$A114*LN(1+'Curves without VA'!F114),0)+($A115<=F$2)*LN(1+F$5/10000)+IF(ISNUMBER($A114),$A114*F114))/$A115","v":3.9498460203116502E-2},{"$f":"($A115*LN(1+'Curves without VA'!G115)-IF(ISNUMBER($A114),$A114*LN(1+'Curves without VA'!G114),0)+($A115<=G$2)*LN(1+G$5/10000)+IF(ISNUMBER($A114),$A114*G114))/$A115","v":3.7995217428204851E-2},3.35026597196737E-2,3.6320991970715699E-2,3.2878481421183103E-2,3.8721255828351397E-2,4.0896569087377488E-2,4.0075900811575638E-2,{"$f":"(1+'Curves without VA'!H115)*(1+H115)/(1+'Curves without VA'!B115)-1","v":3.8620851210902529E-2},{"$f":"(1+'Curves without VA'!I115)*(1+I115)/(1+'Curves without VA'!C115)-1","v":4.3545171262438842E-2},{"$f":"(1+'Curves without VA'!J115)*(1+J115)/(1+'Curves without VA'!D115)-1","v":3.882582491985298E-2},{"$f":"(1+'Curves without VA'!K115)*(1+K115)/(1+'Curves without VA'!E115)-1","v":4.5254213660337994E-2},{"$f":"(1+'Curves without VA'!L115)*(1+L115)/(1+'Curves without VA'!F115)-1","v":5.0833351130377569E-2},{"$f":"(1+'Curves without VA'!M115)*(1+M115)/(1+'Curves without VA'!G115)-1","v":4.7433967803368393E-2},{"$f":"(1+'Curves without VA'!N115)*(1+H115)/(1+'Curves without VA'!B115)-1","v":2.6242102438926773E-2},{"$f":"(1+'Curves without VA'!O115)*(1+I115)/(1+'Curves without VA'!C115)-1","v":3.00498275136174E-2},{"$f":"(1+'Curves without VA'!P115)*(1+J115)/(1+'Curves without VA'!D115)-1","v":2.4263605168508562E-2},{"$f":"(1+'Curves without VA'!Q115)*(1+K115)/(1+'Curves without VA'!E115)-1","v":2.8373177226038271E-2},{"$f":"(1+'Curves without VA'!R115)*(1+L115)/(1+'Curves without VA'!F115)-1","v":2.2953147485781589E-2},{"$f":"(1+'Curves without VA'!S115)*(1+M115)/(1+'Curves without VA'!G115)-1","v":2.8916063188561658E-2}]
[103,{"$f":"($A116*LN(1+'Curves without VA'!B116)-IF(ISNUMBER($A115),$A115*LN(1+'Curves without VA'!B115),0)+($A116<=B$2)*LN(1+B$5/10000)+IF(ISNUMBER($A115),$A115*B115))/$A116","v":3.2861278898461008E-2},{"$f":"($A116*LN(1+'Curves without VA'!C116)-IF(ISNUMBER($A115),$A115*LN(1+'Curves without VA'!C115),0)+($A116<=C$2)*LN(1+C$5/10000)+IF(ISNUMBER($A115),$A115*C115))/$A116","v":3.42289639571925E-2},{"$f":"($A116*LN(1+'Curves without VA'!D116)-IF(ISNUMBER($A115),$A115*LN(1+'Curves without VA'!D115),0)+($A116<=D$2)*LN(1+D$5/10000)+IF(ISNUMBER($A115),$A115*D115))/$A116","v":3.1708574876483271E-2},{"$f":"($A116*LN(1+'Curves without VA'!E116)-IF(ISNUMBER($A115),$A115*LN(1+'Curves without VA'!E115),0)+($A116<=E$2)*LN(1+E$5/10000)+IF(ISNUMBER($A115),$A115*E115))/$A116","v":3.6848468292698826E-2},{"$f":"($A116*LN(1+'Curves without VA'!F116)-IF(ISNUMBER($A115),$A115*LN(1+'Curves without VA'!F115),0)+($A116<=F$2)*LN(1+F$5/10000)+IF(ISNUMBER($A115),$A115*F115))/$A116","v":3.9430188797409768E-2},{"$f":"($A116*LN(1+'Curves without VA'!G116)-IF(ISNUMBER($A115),$A115*LN(1+'Curves without VA'!G115),0)+($A116<=G$2)*LN(1+G$5/10000)+IF(ISNUMBER($A115),$A115*G115))/$A116","v":3.7941546523737983E-2},3.3497779241030923E-2,3.6288708588360752E-2,3.2869976210022855E-2,3.8665599651092064E-2,4.0819813316774312E-2,4.0007020154285922E-2,{"$f":"(1+'Curves without VA'!H116)*(1+H116)/(1+'Curves without VA'!B116)-1","v":3.8580772853430201E-2},{"$f":"(1+'Curves without VA'!I116)*(1+I116)/(1+'Curves without VA'!C116)-1","v":4.3457005744606869E-2},{"$f":"(1+'Curves without VA'!J116)*(1+J116)/(1+'Curves without VA'!D116)-1","v":3.877405364454467E-2},{"$f":"(1+'Curves without VA'!K116)*(1+K116)/(1+'Curves without VA'!E116)-1","v":4.5149347435166742E-2},{"$f":"(1+'Curves without VA'!L116)*(1+L116)/(1+'Curves without VA'!F116)-1","v":5.067417361951998E-2},{"$f":"(1+'Curves without VA'!M116)*(1+M116)/(1+'Curves without VA'!G116)-1","v":4.730772588364851E-2},{"$f":"(1+'Curves without VA'!N116)*(1+H116)/(1+'Curves without VA'!B116)-1","v":2.6292998213818919E-2},{"$f":"(1+'Curves without VA'!O116)*(1+I116)/(1+'Curves without VA'!C116)-1","v":3.0063897941820183E-2},{"$f":"(1+'Curves without VA'!P116)*(1+J116)/(1+'Curves without VA'!D116)-1","v":2.4323940376575814E-2},{"$f":"(1+'Curves without VA'!Q116)*(1+K116)/(1+'Curves without VA'!E116)-1","v":2.8403476714340181E-2},{"$f":"(1+'Curves without VA'!R116)*(1+L116)/(1+'Curves without VA'!F116)-1","v":2.3035054754243056E-2},{"$f":"(1+'Curves without VA'!S116)*(1+M116)/(1+'Curves without VA'!G116)-1","v":2.8941120757058458E-2}]
[104,{"$f":"($A117*LN(1+'Curves without VA'!B117)-IF(ISNUMBER($A116),$A116*LN(1+'Curves without VA'!B116),0)+($A117<=B$2)*LN(1+B$5/10000)+IF(ISNUMBER($A116),$A116*B116))/$A117","v":3.2857489365912915E-2},{"$f":"($A117*LN(1+'Curves without VA'!C117)-IF(ISNUMBER($A116),$A116*LN(1+'Curves without VA'!C116),0)+($A117<=C$2)*LN(1+C$5/10000)+IF(ISNUMBER($A116),$A116*C116))/$A117","v":3.4212023698801941E-2},{"$f":"($A117*LN(1+'Curves without VA'!D117)-IF(ISNUMBER($A116),$A116*LN(1+'Curves without VA'!D116),0)+($A117<=D$2)*LN(1+D$5/10000)+IF(ISNUMBER($A116),$A116*D116))/$A117","v":3.1706558749508826E-2},{"$f":"($A117*LN(1+'Curves without VA'!E117)-IF(ISNUMBER($A116),$A116*LN(1+'Curves without VA'!E116),0)+($A117<=E$2)*LN(1+E$5/10000)+IF(ISNUMBER($A116),$A116*E116))/$A117","v":3.6806339964606645E-2},{"$f":"($A117*LN(1+'Curves without VA'!F117)-IF(ISNUMBER($A116),$A116*LN(1+'Curves without VA'!F116),0)+($A117<=F$2)*LN(1+F$5/10000)+IF(ISNUMBER($A116),$A116*F116))/$A117","v":3.9363230989165561E-2},{"$f":"($A117*LN(1+'Curves without VA'!G117)-IF(ISNUMBER($A116),$A116*LN(1+'Curves without VA'!G116),0)+($A117<=G$2)*LN(1+G$5/10000)+IF(ISNUMBER($A116),$A116*G116))/$A117","v":3.7888907828039636E-2},3.3492992548477485E-2,3.6257045931073151E-2,3.2861631809342207E-2,3.8611012344791806E-2,4.0744518548189834E-2,3.9939463411013953E-2,{"$f":"(1+'Curves without VA'!H117)*(1+H117)/(1+'Curves without VA'!B117)-1","v":3.8541465837046429E-2},{"$f":"(1+'Curves without VA'!I117)*(1+I117)/(1+'Curves without VA'!C117)-1","v":4.3370539780432704E-2},{"$f":"(1+'Curves without VA'!J117)*(1+J117)/(1+'Curves without VA'!D117)-1","v":3.8723273516756196E-2},{"$f":"(1+'Curves without VA'!K117)*(1+K117)/(1+'Curves without VA'!E117)-1","v":4.5046499920083916E-2},{"$f":"(1+'Curves without VA'!L117)*(1+L117)/(1+'Curves without VA'!F117)-1","v":5.0518015458072885E-2},{"$f":"(1+'Curves without VA'!M117)*(1+M117)/(1+'Curves without VA'!G117)-1","v":4.7183915671917154E-2},{"$f":"(1+'Curves without VA'!N117)*(1+H117)/(1+'Curves without VA'!B117)-1","v":2.6342920018850746E-2},{"$f":"(1+'Curves without VA'!O117)*(1+I117)/(1+'Curves without VA'!C117)-1","v":3.0077697879821397E-2},{"$f":"(1+'Curves without VA'!P117)*(1+J117)/(1+'Curves without VA'!D117)-1","v":2.4383121892289417E-2},{"$f":"(1+'Curves without VA'!Q117)*(1+K117)/(1+'Curves without VA'!E117)-1","v":2.8433195666862421E-2},{"$f":"(1+'Curves without VA'!R117)*(1+L117)/(1+'Curves without VA'!F117)-1","v":2.3115468619593571E-2},{"$f":"(1+'Curves without VA'!S117)*(1+M117)/(1+'Curves without VA'!G117)-1","v":2.8965696841214639E-2}]
[105,{"$f":"($A118*LN(1+'Curves without VA'!B118)-IF(ISNUMBER($A117),$A117*LN(1+'Curves without VA'!B117),0)+($A118<=B$2)*LN(1+B$5/10000)+IF(ISNUMBER($A117),$A117*B117))/$A118","v":3.2853772037381511E-2},{"$f":"($A118*LN(1+'Curves without VA'!C118)-IF(ISNUMBER($A117),$A117*LN(1+'Curves without VA'!C117),0)+($A118<=C$2)*LN(1+C$5/10000)+IF(ISNUMBER($A117),$A117*C117))/$A118","v":3.4195406124948952E-2},{"$f":"($A118*LN(1+'Curves without VA'!D118)-IF(ISNUMBER($A117),$A117*LN(1+'Curves without VA'!D117),0)+($A118<=D$2)*LN(1+D$5/10000)+IF(ISNUMBER($A117),$A117*D117))/$A118","v":3.1704580796173214E-2},{"$f":"($A118*LN(1+'Curves without VA'!E118)-IF(ISNUMBER($A117),$A117*LN(1+'Curves without VA'!E117),0)+($A118<=E$2)*LN(1+E$5/10000)+IF(ISNUMBER($A117),$A117*E117))/$A118","v":3.6765014148285584E-2},{"$f":"($A118*LN(1+'Curves without VA'!F118)-IF(ISNUMBER($A117),$A117*LN(1+'Curves without VA'!F117),0)+($A118<=F$2)*LN(1+F$5/10000)+IF(ISNUMBER($A117),$A117*F117))/$A118","v":3.9297549176269472E-2},{"$f":"($A118*LN(1+'Curves without VA'!G118)-IF(ISNUMBER($A117),$A117*LN(1+'Curves without VA'!G117),0)+($A118<=G$2)*LN(1+G$5/10000)+IF(ISNUMBER($A117),$A117*G117))/$A118","v":3.7837271841590796E-2},3.3488296971234899E-2,3.6225986348324968E-2,3.2853443913572589E-2,3.8557463736246689E-2,4.0670645009034834E-2,3.987319316174287E-2,{"$f":"(1+'Curves without VA'!H118)*(1+H118)/(1+'Curves without VA'!B118)-1","v":3.8502908173693395E-2},{"$f":"(1+'Curves without VA'!I118)*(1+I118)/(1+'Curves without VA'!C118)-1","v":4.3285724933954661E-2},{"$f":"(1+'Curves without VA'!J118)*(1+J118)/(1+'Curves without VA'!D118)-1","v":3.8673456866001432E-2},{"$f":"(1+'Curves without VA'!K118)*(1+K118)/(1+'Curves without VA'!E118)-1","v":4.4945613992411593E-2},{"$f":"(1+'Curves without VA'!L118)*(1+L118)/(1+'Curves without VA'!F118)-1","v":5.0364796464618111E-2},{"$f":"(1+'Curves without VA'!M118)*(1+M118)/(1+'Curves without VA'!G118)-1","v":4.7062468388795686E-2},{"$f":"(1+'Curves without VA'!N118)*(1+H118)/(1+'Curves without VA'!B118)-1","v":2.6391895371021823E-2},{"$f":"(1+'Curves without VA'!O118)*(1+I118)/(1+'Curves without VA'!C118)-1","v":3.0091235060093258E-2},{"$f":"(1+'Curves without VA'!P118)*(1+J118)/(1+'Curves without VA'!D118)-1","v":2.4441182256517147E-2},{"$f":"(1+'Curves without VA'!Q118)*(1+K118)/(1+'Curves without VA'!E118)-1","v":2.8462350513913881E-2},{"$f":"(1+'Curves without VA'!R118)*(1+L118)/(1+'Curves without VA'!F118)-1","v":2.3194423811531806E-2},{"$f":"(1+'Curves without VA'!S118)*(1+M118)/(1+'Curves without VA'!G118)-1","v":2.8989805201664165E-2}]
[106,{"$f":"($A119*LN(1+'Curves without VA'!B119)-IF(ISNUMBER($A118),$A118*LN(1+'Curves without VA'!B118),0)+($A119<=B$2)*LN(1+B$5/10000)+IF(ISNUMBER($A118),$A118*B118))/$A119","v":3.2850124867040927E-2},{"$f":"($A119*LN(1+'Curves without VA'!C119)-IF(ISNUMBER($A118),$A118*LN(1+'Curves without VA'!C118),0)+($A119<=C$2)*LN(1+C$5/10000)+IF(ISNUMBER($A118),$A118*C118))/$A119","v":3.4179102101716076E-2},{"$f":"($A119*LN(1+'Curves without VA'!D119)-IF(ISNUMBER($A118),$A118*LN(1+'Curves without VA'!D118),0)+($A119<=D$2)*LN(1+D$5/10000)+IF(ISNUMBER($A118),$A118*D118))/$A119","v":3.1702639959696688E-2},{"$f":"($A119*LN(1+'Curves without VA'!E119)-IF(ISNUMBER($A118),$A118*LN(1+'Curves without VA'!E118),0)+($A119<=E$2)*LN(1+E$5/10000)+IF(ISNUMBER($A118),$A118*E118))/$A119","v":3.6724468124181023E-2},{"$f":"($A119*LN(1+'Curves without VA'!F119)-IF(ISNUMBER($A118),$A118*LN(1+'Curves without VA'!F118),0)+($A119<=F$2)*LN(1+F$5/10000)+IF(ISNUMBER($A118),$A118*F118))/$A119","v":3.923310718285633E-2},{"$f":"($A119*LN(1+'Curves without VA'!G119)-IF(ISNUMBER($A118),$A118*LN(1+'Curves without VA'!G118),0)+($A119<=G$2)*LN(1+G$5/10000)+IF(ISNUMBER($A118),$A118*G118))/$A119","v":3.7786610178870153E-2},3.348368993835682E-2,3.6195512845103917E-2,3.2845408349666982E-2,3.8504924747660763E-2,4.0598154213734583E-2,3.9808173348306441E-2,{"$f":"(1+'Curves without VA'!H119)*(1+H119)/(1+'Curves without VA'!B119)-1","v":3.8465078697061506E-2},{"$f":"(1+'Curves without VA'!I119)*(1+I119)/(1+'Curves without VA'!C119)-1","v":4.3202514570782169E-2},{"$f":"(1+'Curves without VA'!J119)*(1+J119)/(1+'Curves without VA'!D119)-1","v":3.8624576994363613E-2},{"$f":"(1+'Curves without VA'!K119)*(1+K119)/(1+'Curves without VA'!E119)-1","v":4.4846634608591618E-2},{"$f":"(1+'Curves without VA'!L119)*(1+L119)/(1+'Curves without VA'!F119)-1","v":5.0214438809945028E-2},{"$f":"(1+'Curves without VA'!M119)*(1+M119)/(1+'Curves without VA'!G119)-1","v":4.6943317750519409E-2},{"$f":"(1+'Curves without VA'!N119)*(1+H119)/(1+'Curves without VA'!B119)-1","v":2.6439950776431465E-2},{"$f":"(1+'Curves without VA'!O119)*(1+I119)/(1+'Curves without VA'!C119)-1","v":3.0104516922537572E-2},{"$f":"(1+'Curves without VA'!P119)*(1+J119)/(1+'Curves without VA'!D119)-1","v":2.4498152819232288E-2},{"$f":"(1+'Curves without VA'!Q119)*(1+K119)/(1+'Curves without VA'!E119)-1","v":2.8490957080312684E-2},{"$f":"(1+'Curves without VA'!R119)*(1+L119)/(1+'Curves without VA'!F119)-1","v":2.327195455540032E-2},{"$f":"(1+'Curves without VA'!S119)*(1+M119)/(1+'Curves without VA'!G119)-1","v":2.9013459078265802E-2}]
[107,{"$f":"($A120*LN(1+'Curves without VA'!B120)-IF(ISNUMBER($A119),$A119*LN(1+'Curves without VA'!B119),0)+($A120<=B$2)*LN(1+B$5/10000)+IF(ISNUMBER($A119),$A119*B119))/$A120","v":3.2846545885783875E-2},{"$f":"($A120*LN(1+'Curves without VA'!C120)-IF(ISNUMBER($A119),$A119*LN(1+'Curves without VA'!C119),0)+($A120<=C$2)*LN(1+C$5/10000)+IF(ISNUMBER($A119),$A119*C119))/$A120","v":3.4163102836778904E-2},{"$f":"($A120*LN(1+'Curves without VA'!D120)-IF(ISNUMBER($A119),$A119*LN(1+'Curves without VA'!D119),0)+($A120<=D$2)*LN(1+D$5/10000)+IF(ISNUMBER($A119),$A119*D119))/$A120","v":3.170073522036896E-2},{"$f":"($A120*LN(1+'Curves without VA'!E120)-IF(ISNUMBER($A119),$A119*LN(1+'Curves without VA'!E119),0)+($A120<=E$2)*LN(1+E$5/10000)+IF(ISNUMBER($A119),$A119*E119))/$A120","v":3.6684680022785639E-2},{"$f":"($A120*LN(1+'Curves without VA'!F120)-IF(ISNUMBER($A119),$A119*LN(1+'Curves without VA'!F119),0)+($A120<=F$2)*LN(1+F$5/10000)+IF(ISNUMBER($A119),$A119*F119))/$A120","v":3.9169870191908984E-2},{"$f":"($A120*LN(1+'Curves without VA'!G120)-IF(ISNUMBER($A119),$A119*LN(1+'Curves without VA'!G119),0)+($A120<=G$2)*LN(1+G$5/10000)+IF(ISNUMBER($A119),$A119*G119))/$A120","v":3.7736895516215813E-2},3.3479168974162699E-2,3.6165609052428493E-2,3.283752107400284E-2,3.8453367350095746E-2,4.0527008926017016E-2,3.9744369216207387E-2,{"$f":"(1+'Curves without VA'!H120)*(1+H120)/(1+'Curves without VA'!B120)-1","v":3.8427957025101156E-2},{"$f":"(1+'Curves without VA'!I120)*(1+I120)/(1+'Curves without VA'!C120)-1","v":4.3120863777053486E-2},{"$f":"(1+'Curves without VA'!J120)*(1+J120)/(1+'Curves without VA'!D120)-1","v":3.8576608138595869E-2},{"$f":"(1+'Curves without VA'!K120)*(1+K120)/(1+'Curves without VA'!E120)-1","v":4.4749508715552944E-2},{"$f":"(1+'Curves without VA'!L120)*(1+L120)/(1+'Curves without VA'!F120)-1","v":5.0066866978250468E-2},{"$f":"(1+'Curves without VA'!M120)*(1+M120)/(1+'Curves without VA'!G120)-1","v":4.6826399863540535E-2},{"$f":"(1+'Curves without VA'!N120)*(1+H120)/(1+'Curves without VA'!B120)-1","v":2.6487111774829097E-2},{"$f":"(1+'Curves without VA'!O120)*(1+I120)/(1+'Curves without VA'!C120)-1","v":3.0117550628249168E-2},{"$f":"(1+'Curves without VA'!P120)*(1+J120)/(1+'Curves without VA'!D120)-1","v":2.4554063791548009E-2},{"$f":"(1+'Curves without VA'!Q120)*(1+K120)/(1+'Curves without VA'!E120)-1","v":2.8519030612231822E-2},{"$f":"(1+'Curves without VA'!R120)*(1+L120)/(1+'Curves without VA'!F120)-1","v":2.3348094513059303E-2},{"$f":"(1+'Curves without VA'!S120)*(1+M120)/(1+'Curves without VA'!G120)-1","v":2.9036671214624166E-2}]
[108,{"$f":"($A121*LN(1+'Curves without VA'!B121)-IF(ISNUMBER($A120),$A120*LN(1+'Curves without VA'!B120),0)+($A121<=B$2)*LN(1+B$5/10000)+IF(ISNUMBER($A120),$A120*B120))/$A121","v":3.2843033197644929E-2},{"$f":"($A121*LN(1+'Curves without VA'!C121)-IF(ISNUMBER($A120),$A120*LN(1+'Curves without VA'!C120),0)+($A121<=C$2)*LN(1+C$5/10000)+IF(ISNUMBER($A120),$A120*C120))/$A121","v":3.4147399863576559E-2},{"$f":"($A121*LN(1+'Curves without VA'!D121)-IF(ISNUMBER($A120),$A120*LN(1+'Curves without VA'!D120),0)+($A121<=D$2)*LN(1+D$5/10000)+IF(ISNUMBER($A120),$A120*D120))/$A121","v":3.1698865594085614E-2},{"$f":"($A121*LN(1+'Curves without VA'!E121)-IF(ISNUMBER($A120),$A120*LN(1+'Curves without VA'!E120),0)+($A121<=E$2)*LN(1+E$5/10000)+IF(ISNUMBER($A120),$A120*E120))/$A121","v":3.6645628785210417E-2},{"$f":"($A121*LN(1+'Curves without VA'!F121)-IF(ISNUMBER($A120),$A120*LN(1+'Curves without VA'!F120),0)+($A121<=F$2)*LN(1+F$5/10000)+IF(ISNUMBER($A120),$A120*F120))/$A121","v":3.910780468167991E-2},{"$f":"($A121*LN(1+'Curves without VA'!G121)-IF(ISNUMBER($A120),$A120*LN(1+'Curves without VA'!G120),0)+($A121<=G$2)*LN(1+G$5/10000)+IF(ISNUMBER($A120),$A120*G120))/$A121","v":3.7688101542590405E-2},3.3474731693916571E-2,3.6136259199381238E-2,3.2829778169137347E-2,3.8402764519022803E-2,4.0457173120962198E-2,3.9681747259095568E-2,{"$f":"(1+'Curves without VA'!H121)*(1+H121)/(1+'Curves without VA'!B121)-1","v":3.8391523524530013E-2},{"$f":"(1+'Curves without VA'!I121)*(1+I121)/(1+'Curves without VA'!C121)-1","v":4.3040729282558088E-2},{"$f":"(1+'Curves without VA'!J121)*(1+J121)/(1+'Curves without VA'!D121)-1","v":3.8529525433538492E-2},{"$f":"(1+'Curves without VA'!K121)*(1+K121)/(1+'Curves without VA'!E121)-1","v":4.465418516609998E-2},{"$f":"(1+'Curves without VA'!L121)*(1+L121)/(1+'Curves without VA'!F121)-1","v":4.9922007723068651E-2},{"$f":"(1+'Curves without VA'!M121)*(1+M121)/(1+'Curves without VA'!G121)-1","v":4.6711653123790553E-2},{"$f":"(1+'Curves without VA'!N121)*(1+H121)/(1+'Curves without VA'!B121)-1","v":2.653340298196416E-2},{"$f":"(1+'Curves without VA'!O121)*(1+I121)/(1+'Curves without VA'!C121)-1","v":3.0130343072504173E-2},{"$f":"(1+'Curves without VA'!P121)*(1+J121)/(1+'Curves without VA'!D121)-1","v":2.4608944295225754E-2},{"$f":"(1+'Curves without VA'!Q121)*(1+K121)/(1+'Curves without VA'!E121)-1","v":2.8546585802707192E-2},{"$f":"(1+'Curves without VA'!R121)*(1+L121)/(1+'Curves without VA'!F121)-1","v":2.3422876735548215E-2},{"$f":"(1+'Curves without VA'!S121)*(1+M121)/(1+'Curves without VA'!G121)-1","v":2.9059453881236985E-2}]
[109,{"$f":"($A122*LN(1+'Curves without VA'!B122)-IF(ISNUMBER($A121),$A121*LN(1+'Curves without VA'!B121),0)+($A122<=B$2)*LN(1+B$5/10000)+IF(ISNUMBER($A121),$A121*B121))/$A122","v":3.283958497642419E-2},{"$f":"($A122*LN(1+'Curves without VA'!C122)-IF(ISNUMBER($A121),$A121*LN(1+'Curves without VA'!C121),0)+($A122<=C$2)*LN(1+C$5/10000)+IF(ISNUMBER($A121),$A121*C121))/$A122","v":3.4131985026356754E-2},{"$f":"($A122*LN(1+'Curves without VA'!D122)-IF(ISNUMBER($A121),$A121*LN(1+'Curves without VA'!D121),0)+($A122<=D$2)*LN(1+D$5/10000)+IF(ISNUMBER($A121),$A121*D121))/$A122","v":3.1697030130935937E-2},{"$f":"($A122*LN(1+'Curves without VA'!E122)-IF(ISNUMBER($A121),$A121*LN(1+'Curves without VA'!E121),0)+($A122<=E$2)*LN(1+E$5/10000)+IF(ISNUMBER($A121),$A121*E121))/$A122","v":3.660729412593617E-2},{"$f":"($A122*LN(1+'Curves without VA'!F122)-IF(ISNUMBER($A121),$A121*LN(1+'Curves without VA'!F121),0)+($A122<=F$2)*LN(1+F$5/10000)+IF(ISNUMBER($A121),$A121*F121))/$A122","v":3.9046878365682325E-2},{"$f":"($A122*LN(1+'Curves without VA'!G122)-IF(ISNUMBER($A121),$A121*LN(1+'Curves without VA'!G121),0)+($A122<=G$2)*LN(1+G$5/10000)+IF(ISNUMBER($A121),$A121*G121))/$A122","v":3.7640202913064962E-2},3.3470375799733221E-2,3.6107448086573957E-2,3.2822175840457435E-2,3.8353090191886929E-2,4.0388611947076436E-2,3.9620275165790808E-2,{"$f":"(1+'Curves without VA'!H122)*(1+H122)/(1+'Curves without VA'!B122)-1","v":3.835575927719459E-2},{"$f":"(1+'Curves without VA'!I122)*(1+I122)/(1+'Curves without VA'!C122)-1","v":4.2962069387784574E-2},{"$f":"(1+'Curves without VA'!J122)*(1+J122)/(1+'Curves without VA'!D122)-1","v":3.8483304876858027E-2},{"$f":"(1+'Curves without VA'!K122)*(1+K122)/(1+'Curves without VA'!E122)-1","v":4.4560614638149421E-2},{"$f":"(1+'Curves without VA'!L122)*(1+L122)/(1+'Curves without VA'!F122)-1","v":4.9779790019057746E-2},{"$f":"(1+'Curves without VA'!M122)*(1+M122)/(1+'Curves without VA'!G122)-1","v":4.6599018120430102E-2},{"$f":"(1+'Curves without VA'!N122)*(1+H122)/(1+'Curves without VA'!B122)-1","v":2.6578848129844346E-2},{"$f":"(1+'Curves without VA'!O122)*(1+I122)/(1+'Curves without VA'!C122)-1","v":3.0142900897025093E-2},{"$f":"(1+'Curves without VA'!P122)*(1+J122)/(1+'Curves without VA'!D122)-1","v":2.4662822409786456E-2},{"$f":"(1+'Curves without VA'!Q122)*(1+K122)/(1+'Curves without VA'!E122)-1","v":2.8573636815862224E-2},{"$f":"(1+'Curves without VA'!R122)*(1+L122)/(1+'Curves without VA'!F122)-1","v":2.349633362590775E-2},{"$f":"(1+'Curves without VA'!S122)*(1+M122)/(1+'Curves without VA'!G122)-1","v":2.9081818897341627E-2}]
[110,{"$f":"($A123*LN(1+'Curves without VA'!B123)-IF(ISNUMBER($A122),$A122*LN(1+'Curves without VA'!B122),0)+($A123<=B$2)*LN(1+B$5/10000)+IF(ISNUMBER($A122),$A122*B122))/$A123","v":3.2836199462495032E-2},{"$f":"($A123*LN(1+'Curves without VA'!C123)-IF(ISNUMBER($A122),$A122*LN(1+'Curves without VA'!C122),0)+($A123<=C$2)*LN(1+C$5/10000)+IF(ISNUMBER($A122),$A122*C122))/$A123","v":3.4116850466036082E-2},{"$f":"($A123*LN(1+'Curves without VA'!D123)-IF(ISNUMBER($A122),$A122*LN(1+'Curves without VA'!D122),0)+($A123<=D$2)*LN(1+D$5/10000)+IF(ISNUMBER($A122),$A122*D122))/$A123","v":3.1695227913849072E-2},{"$f":"($A123*LN(1+'Curves without VA'!E123)-IF(ISNUMBER($A122),$A122*LN(1+'Curves without VA'!E122),0)+($A123<=E$2)*LN(1+E$5/10000)+IF(ISNUMBER($A122),$A122*E122))/$A123","v":3.6569656497600307E-2},{"$f":"($A123*LN(1+'Curves without VA'!F123)-IF(ISNUMBER($A122),$A122*LN(1+'Curves without VA'!F122),0)+($A123<=F$2)*LN(1+F$5/10000)+IF(ISNUMBER($A122),$A122*F122))/$A123","v":3.8987060136014134E-2},{"$f":"($A123*LN(1+'Curves without VA'!G123)-IF(ISNUMBER($A122),$A122*LN(1+'Curves without VA'!G122),0)+($A123<=G$2)*LN(1+G$5/10000)+IF(ISNUMBER($A122),$A122*G122))/$A123","v":3.759317520484607E-2},3.3466099076700395E-2,3.607916106096587E-2,3.2814710412760739E-2,3.8304319227607131E-2,4.0321291688596217E-2,3.9559921769745987E-2,{"$f":"(1+'Curves without VA'!H123)*(1+H123)/(1+'Curves without VA'!B123)-1","v":3.8320646048201068E-2},{"$f":"(1+'Curves without VA'!I123)*(1+I123)/(1+'Curves without VA'!C123)-1","v":4.2884843894681834E-2},{"$f":"(1+'Curves without VA'!J123)*(1+J123)/(1+'Curves without VA'!D123)-1","v":3.8437923295084442E-2},{"$f":"(1+'Curves without VA'!K123)*(1+K123)/(1+'Curves without VA'!E123)-1","v":4.4468749557669884E-2},{"$f":"(1+'Curves without VA'!L123)*(1+L123)/(1+'Curves without VA'!F123)-1","v":4.9640145010572789E-2},{"$f":"(1+'Curves without VA'!M123)*(1+M123)/(1+'Curves without VA'!G123)-1","v":4.6488437543909411E-2},{"$f":"(1+'Curves without VA'!N123)*(1+H123)/(1+'Curves without VA'!B123)-1","v":2.6623470105013203E-2},{"$f":"(1+'Curves without VA'!O123)*(1+I123)/(1+'Curves without VA'!C123)-1","v":3.0155230501569319E-2},{"$f":"(1+'Curves without VA'!P123)*(1+J123)/(1+'Curves without VA'!D123)-1","v":2.4715725217332229E-2},{"$f":"(1+'Curves without VA'!Q123)*(1+K123)/(1+'Curves without VA'!E123)-1","v":2.8600197309940123E-2},{"$f":"(1+'Curves without VA'!R123)*(1+L123)/(1+'Curves without VA'!F123)-1","v":2.3568496910735037E-2},{"$f":"(1+'Curves without VA'!S123)*(1+M123)/(1+'Curves without VA'!G123)-1","v":2.9103777651562357E-2}]
[111,{"$f":"($A124*LN(1+'Curves without VA'!B124)-IF(ISNUMBER($A123),$A123*LN(1+'Curves without VA'!B123),0)+($A124<=B$2)*LN(1+B$5/10000)+IF(ISNUMBER($A123),$A123*B123))/$A124","v":3.283287495979046E-2},{"$f":"($A124*LN(1+'Curves without VA'!C124)-IF(ISNUMBER($A123),$A123*LN(1+'Curves without VA'!C123),0)+($A124<=C$2)*LN(1+C$5/10000)+IF(ISNUMBER($A123),$A123*C123))/$A124","v":3.4101988606826936E-2},{"$f":"($A124*LN(1+'Curves without VA'!D124)-IF(ISNUMBER($A123),$A123*LN(1+'Curves without VA'!D123),0)+($A124<=D$2)*LN(1+D$5/10000)+IF(ISNUMBER($A123),$A123*D123))/$A124","v":3.1693458057288612E-2},{"$f":"($A124*LN(1+'Curves without VA'!E124)-IF(ISNUMBER($A123),$A123*LN(1+'Curves without VA'!E123),0)+($A124<=E$2)*LN(1+E$5/10000)+IF(ISNUMBER($A123),$A123*E123))/$A124","v":3.6532697057695553E-2},{"$f":"($A124*LN(1+'Curves without VA'!F124)-IF(ISNUMBER($A123),$A123*LN(1+'Curves without VA'!F123),0)+($A124<=F$2)*LN(1+F$5/10000)+IF(ISNUMBER($A123),$A123*F123))/$A124","v":3.8928320009801808E-2},{"$f":"($A124*LN(1+'Curves without VA'!G124)-IF(ISNUMBER($A123),$A123*LN(1+'Curves without VA'!G123),0)+($A124<=G$2)*LN(1+G$5/10000)+IF(ISNUMBER($A123),$A123*G123))/$A124","v":3.7546994875686829E-2},3.3461899389202854E-2,3.6051383991958952E-2,3.280737832679792E-2,3.8256427367924228E-2,4.0255179728204471E-2,3.9500657000838713E-2,{"$f":"(1+'Curves without VA'!H124)*(1+H124)/(1+'Curves without VA'!B124)-1","v":3.8286166255691034E-2},{"$f":"(1+'Curves without VA'!I124)*(1+I124)/(1+'Curves without VA'!C124)-1","v":4.2809014040924742E-2},{"$f":"(1+'Curves without VA'!J124)*(1+J124)/(1+'Curves without VA'!D124)-1","v":3.8393358310943482E-2},{"$f":"(1+'Curves without VA'!K124)*(1+K124)/(1+'Curves without VA'!E124)-1","v":4.4378544025150513E-2},{"$f":"(1+'Curves without VA'!L124)*(1+L124)/(1+'Curves without VA'!F124)-1","v":4.9503005957845403E-2},{"$f":"(1+'Curves without VA'!M124)*(1+M124)/(1+'Curves without VA'!G124)-1","v":4.6379856098164529E-2},{"$f":"(1+'Curves without VA'!N124)*(1+H124)/(1+'Curves without VA'!B124)-1","v":2.6667290984946357E-2},{"$f":"(1+'Curves without VA'!O124)*(1+I124)/(1+'Curves without VA'!C124)-1","v":3.0167338054883697E-2},{"$f":"(1+'Curves without VA'!P124)*(1+J124)/(1+'Curves without VA'!D124)-1","v":2.4767678845209806E-2},{"$f":"(1+'Curves without VA'!Q124)*(1+K124)/(1+'Curves without VA'!E124)-1","v":2.8626280459182807E-2},{"$f":"(1+'Curves without VA'!R124)*(1+L124)/(1+'Curves without VA'!F124)-1","v":2.3639397619231062E-2},{"$f":"(1+'Curves without VA'!S124)*(1+M124)/(1+'Curves without VA'!G124)-1","v":2.9125341121415849E-2}]
[112,{"$f":"($A125*LN(1+'Curves without VA'!B125)-IF(ISNUMBER($A124),$A124*LN(1+'Curves without VA'!B124),0)+($A125<=B$2)*LN(1+B$5/10000)+IF(ISNUMBER($A124),$A124*B124))/$A125","v":3.2829609832947908E-2},{"$f":"($A125*LN(1+'Curves without VA'!C125)-IF(ISNUMBER($A124),$A124*LN(1+'Curves without VA'!C124),0)+($A125<=C$2)*LN(1+C$5/10000)+IF(ISNUMBER($A124),$A124*C124))/$A125","v":3.4087392143581766E-2},{"$f":"($A125*LN(1+'Curves without VA'!D125)-IF(ISNUMBER($A124),$A124*LN(1+'Curves without VA'!D124),0)+($A125<=D$2)*LN(1+D$5/10000)+IF(ISNUMBER($A124),$A124*D124))/$A125","v":3.1691719706002E-2},{"$f":"($A125*LN(1+'Curves without VA'!E125)-IF(ISNUMBER($A124),$A124*LN(1+'Curves without VA'!E124),0)+($A125<=E$2)*LN(1+E$5/10000)+IF(ISNUMBER($A124),$A124*E124))/$A125","v":3.6496397637057289E-2},{"$f":"($A125*LN(1+'Curves without VA'!F125)-IF(ISNUMBER($A124),$A124*LN(1+'Curves without VA'!F124),0)+($A125<=F$2)*LN(1+F$5/10000)+IF(ISNUMBER($A124),$A124*F124))/$A125","v":3.887062907855976E-2},{"$f":"($A125*LN(1+'Curves without VA'!G125)-IF(ISNUMBER($A124),$A124*LN(1+'Curves without VA'!G124),0)+($A125<=G$2)*LN(1+G$5/10000)+IF(ISNUMBER($A124),$A124*G124))/$A125","v":3.7501639224530849E-2},3.3457774677436047E-2,3.6024103248696981E-2,3.2800176135801884E-2,3.8209391200519249E-2,4.0190244510298179E-2,3.9442451839394321E-2,{"$f":"(1+'Curves without VA'!H125)*(1+H125)/(1+'Curves without VA'!B125)-1","v":3.825230294218307E-2},{"$f":"(1+'Curves without VA'!I125)*(1+I125)/(1+'Curves without VA'!C125)-1","v":4.2734542437487866E-2},{"$f":"(1+'Curves without VA'!J125)*(1+J125)/(1+'Curves without VA'!D125)-1","v":3.8349588311946459E-2},{"$f":"(1+'Curves without VA'!K125)*(1+K125)/(1+'Curves without VA'!E125)-1","v":4.4289953745450417E-2},{"$f":"(1+'Curves without VA'!L125)*(1+L125)/(1+'Curves without VA'!F125)-1","v":4.936830818146043E-2},{"$f":"(1+'Curves without VA'!M125)*(1+M125)/(1+'Curves without VA'!G125)-1","v":4.6273220416781724E-2},{"$f":"(1+'Curves without VA'!N125)*(1+H125)/(1+'Curves without VA'!B125)-1","v":2.6710332072670484E-2},{"$f":"(1+'Curves without VA'!O125)*(1+I125)/(1+'Curves without VA'!C125)-1","v":3.017922950506513E-2},{"$f":"(1+'Curves without VA'!P125)*(1+J125)/(1+'Curves without VA'!D125)-1","v":2.4818708506609166E-2},{"$f":"(1+'Curves without VA'!Q125)*(1+K125)/(1+'Curves without VA'!E125)-1","v":2.8651898974634715E-2},{"$f":"(1+'Curves without VA'!R125)*(1+L125)/(1+'Curves without VA'!F125)-1","v":2.3709066068659634E-2},{"$f":"(1+'Curves without VA'!S125)*(1+M125)/(1+'Curves without VA'!G125)-1","v":2.9146519891768863E-2}]
[113,{"$f":"($A126*LN(1+'Curves without VA'!B126)-IF(ISNUMBER($A125),$A125*LN(1+'Curves without VA'!B125),0)+($A126<=B$2)*LN(1+B$5/10000)+IF(ISNUMBER($A125),$A125*B125))/$A126","v":3.2826402504611635E-2},{"$f":"($A126*LN(1+'Curves without VA'!C126)-IF(ISNUMBER($A125),$A125*LN(1+'Curves without VA'!C125),0)+($A126<=C$2)*LN(1+C$5/10000)+IF(ISNUMBER($A125),$A125*C125))/$A126","v":3.407305402980966E-2},{"$f":"($A126*LN(1+'Curves without VA'!D126)-IF(ISNUMBER($A125),$A125*LN(1+'Curves without VA'!D125),0)+($A126<=D$2)*LN(1+D$5/10000)+IF(ISNUMBER($A125),$A125*D125))/$A126","v":3.1690012033818993E-2},{"$f":"($A126*LN(1+'Curves without VA'!E126)-IF(ISNUMBER($A125),$A125*LN(1+'Curves without VA'!E125),0)+($A126<=E$2)*LN(1+E$5/10000)+IF(ISNUMBER($A125),$A125*E125))/$A126","v":3.6460740710028236E-2},{"$f":"($A126*LN(1+'Curves without VA'!F126)-IF(ISNUMBER($A125),$A125*LN(1+'Curves without VA'!F125),0)+($A126<=F$2)*LN(1+F$5/10000)+IF(ISNUMBER($A125),$A125*F125))/$A126","v":3.8813959460283036E-2},{"$f":"($A126*LN(1+'Curves without VA'!G126)-IF(ISNUMBER($A125),$A125*LN(1+'Curves without VA'!G125),0)+($A126<=G$2)*LN(1+G$5/10000)+IF(ISNUMBER($A125),$A125*G125))/$A126","v":3.745708635424988E-2},3.3453722954102094E-2,3.5997305678507008E-2,3.2793100502024553E-2,3.8163188123824243E-2,4.012645550492433E-2,3.9385278272330959E-2,{"$f":"(1+'Curves without VA'!H126)*(1+H126)/(1+'Curves without VA'!B126)-1","v":3.8219039747378281E-2},{"$f":"(1+'Curves without VA'!I126)*(1+I126)/(1+'Curves without VA'!C126)-1","v":4.2661393009354232E-2},{"$f":"(1+'Curves without VA'!J126)*(1+J126)/(1+'Curves without VA'!D126)-1","v":3.8306592420218388E-2},{"$f":"(1+'Curves without VA'!K126)*(1+K126)/(1+'Curves without VA'!E126)-1","v":4.420293596088154E-2},{"$f":"(1+'Curves without VA'!L126)*(1+L126)/(1+'Curves without VA'!F126)-1","v":4.9235989005696812E-2},{"$f":"(1+'Curves without VA'!M126)*(1+M126)/(1+'Curves without VA'!G126)-1","v":4.6168478982960393E-2},{"$f":"(1+'Curves without VA'!N126)*(1+H126)/(1+'Curves without VA'!B126)-1","v":2.6752613929693192E-2},{"$f":"(1+'Curves without VA'!O126)*(1+I126)/(1+'Curves without VA'!C126)-1","v":3.019091058936918E-2},{"$f":"(1+'Curves without VA'!P126)*(1+J126)/(1+'Curves without VA'!D126)-1","v":2.4868838539211735E-2},{"$f":"(1+'Curves without VA'!Q126)*(1+K126)/(1+'Curves without VA'!E126)-1","v":2.8677065123923873E-2},{"$f":"(1+'Curves without VA'!R126)*(1+L126)/(1+'Curves without VA'!F126)-1","v":2.3777531855276868E-2},{"$f":"(1+'Curves without VA'!S126)*(1+M126)/(1+'Curves without VA'!G126)-1","v":2.9167324172298725E-2}]
[114,{"$f":"($A127*LN(1+'Curves without VA'!B127)-IF(ISNUMBER($A126),$A126*LN(1+'Curves without VA'!B126),0)+($A127<=B$2)*LN(1+B$5/10000)+IF(ISNUMBER($A126),$A126*B126))/$A127","v":3.2823251452874652E-2},{"$f":"($A127*LN(1+'Curves without VA'!C127)-IF(ISNUMBER($A126),$A126*LN(1+'Curves without VA'!C126),0)+($A127<=C$2)*LN(1+C$5/10000)+IF(ISNUMBER($A126),$A126*C126))/$A127","v":3.4058967466324933E-2},{"$f":"($A127*LN(1+'Curves without VA'!D127)-IF(ISNUMBER($A126),$A126*LN(1+'Curves without VA'!D126),0)+($A127<=D$2)*LN(1+D$5/10000)+IF(ISNUMBER($A126),$A126*D126))/$A127","v":3.1688334242499339E-2},{"$f":"($A127*LN(1+'Curves without VA'!E127)-IF(ISNUMBER($A126),$A126*LN(1+'Curves without VA'!E126),0)+($A127<=E$2)*LN(1+E$5/10000)+IF(ISNUMBER($A126),$A126*E126))/$A127","v":3.642570936619869E-2},{"$f":"($A127*LN(1+'Curves without VA'!F127)-IF(ISNUMBER($A126),$A126*LN(1+'Curves without VA'!F126),0)+($A127<=F$2)*LN(1+F$5/10000)+IF(ISNUMBER($A126),$A126*F126))/$A127","v":3.8758284254098281E-2},{"$f":"($A127*LN(1+'Curves without VA'!G127)-IF(ISNUMBER($A126),$A126*LN(1+'Curves without VA'!G126),0)+($A127<=G$2)*LN(1+G$5/10000)+IF(ISNUMBER($A126),$A126*G126))/$A127","v":3.7413315136348227E-2},3.3449742301271179E-2,3.5970978586414626E-2,3.2786148193299169E-2,3.8117796313447805E-2,4.006378317247572E-2,3.9329109251337702E-2,{"$f":"(1+'Curves without VA'!H127)*(1+H127)/(1+'Curves without VA'!B127)-1","v":3.8186360882351389E-2},{"$f":"(1+'Curves without VA'!I127)*(1+I127)/(1+'Curves without VA'!C127)-1","v":4.258953093917528E-2},{"$f":"(1+'Curves without VA'!J127)*(1+J127)/(1+'Curves without VA'!D127)-1","v":3.8264350463528274E-2},{"$f":"(1+'Curves without VA'!K127)*(1+K127)/(1+'Curves without VA'!E127)-1","v":4.4117449387372165E-2},{"$f":"(1+'Curves without VA'!L127)*(1+L127)/(1+'Curves without VA'!F127)-1","v":4.9105987701249854E-2},{"$f":"(1+'Curves without VA'!M127)*(1+M127)/(1+'Curves without VA'!G127)-1","v":4.6065582053111509E-2},{"$f":"(1+'Curves without VA'!N127)*(1+H127)/(1+'Curves without VA'!B127)-1","v":2.679415640733307E-2},{"$f":"(1+'Curves without VA'!O127)*(1+I127)/(1+'Curves without VA'!C127)-1","v":3.0202386843493967E-2},{"$f":"(1+'Curves without VA'!P127)*(1+J127)/(1+'Curves without VA'!D127)-1","v":2.4918092441984285E-2},{"$f":"(1+'Curves without VA'!Q127)*(1+K127)/(1+'Curves without VA'!E127)-1","v":2.8701790750071732E-2},{"$f":"(1+'Curves without VA'!R127)*(1+L127)/(1+'Curves without VA'!F127)-1","v":2.384482384990827E-2},{"$f":"(1+'Curves without VA'!S127)*(1+M127)/(1+'Curves without VA'!G127)-1","v":2.9187763814027434E-2}]
[115,{"$f":"($A128*LN(1+'Curves without VA'!B128)-IF(ISNUMBER($A127),$A127*LN(1+'Curves without VA'!B127),0)+($A128<=B$2)*LN(1+B$5/10000)+IF(ISNUMBER($A127),$A127*B127))/$A128","v":3.2820155208859093E-2},{"$f":"($A128*LN(1+'Curves without VA'!C128)-IF(ISNUMBER($A127),$A127*LN(1+'Curves without VA'!C127),0)+($A128<=C$2)*LN(1+C$5/10000)+IF(ISNUMBER($A127),$A127*C127))/$A128","v":3.4045125890488741E-2},{"$f":"($A128*LN(1+'Curves without VA'!D128)-IF(ISNUMBER($A127),$A127*LN(1+'Curves without VA'!D127),0)+($A128<=D$2)*LN(1+D$5/10000)+IF(ISNUMBER($A127),$A127*D127))/$A128","v":3.1686685560626739E-2},{"$f":"($A128*LN(1+'Curves without VA'!E128)-IF(ISNUMBER($A127),$A127*LN(1+'Curves without VA'!E127),0)+($A128<=E$2)*LN(1+E$5/10000)+IF(ISNUMBER($A127),$A127*E127))/$A128","v":3.6391287283623966E-2},{"$f":"($A128*LN(1+'Curves without VA'!F128)-IF(ISNUMBER($A127),$A127*LN(1+'Curves without VA'!F127),0)+($A128<=F$2)*LN(1+F$5/10000)+IF(ISNUMBER($A127),$A127*F127))/$A128","v":3.8703577497315123E-2},{"$f":"($A128*LN(1+'Curves without VA'!G128)-IF(ISNUMBER($A127),$A127*LN(1+'Curves without VA'!G127),0)+($A128<=G$2)*LN(1+G$5/10000)+IF(ISNUMBER($A127),$A127*G127))/$A128","v":3.7370305177511283E-2},3.3445830867404158E-2,3.5945109715676438E-2,3.2779316079645016E-2,3.8073194690142476E-2,4.0002198929220745E-2,3.9273918652983797E-2,{"$f":"(1+'Curves without VA'!H128)*(1+H128)/(1+'Curves without VA'!B128)-1","v":3.8154251105044334E-2},{"$f":"(1+'Curves without VA'!I128)*(1+I128)/(1+'Curves without VA'!C128)-1","v":4.251892261372614E-2},{"$f":"(1+'Curves without VA'!J128)*(1+J128)/(1+'Curves without VA'!D128)-1","v":3.8222842947497337E-2},{"$f":"(1+'Curves without VA'!K128)*(1+K128)/(1+'Curves without VA'!E128)-1","v":4.4033454153573182E-2},{"$f":"(1+'Curves without VA'!L128)*(1+L128)/(1+'Curves without VA'!F128)-1","v":4.8978245427724776E-2},{"$f":"(1+'Curves without VA'!M128)*(1+M128)/(1+'Curves without VA'!G128)-1","v":4.5964481583925076E-2},{"$f":"(1+'Curves without VA'!N128)*(1+H128)/(1+'Curves without VA'!B128)-1","v":2.6834978676534282E-2},{"$f":"(1+'Curves without VA'!O128)*(1+I128)/(1+'Curves without VA'!C128)-1","v":3.0213663610377361E-2},{"$f":"(1+'Curves without VA'!P128)*(1+J128)/(1+'Curves without VA'!D128)-1","v":2.496649291021491E-2},{"$f":"(1+'Curves without VA'!Q128)*(1+K128)/(1+'Curves without VA'!E128)-1","v":2.8726087289387525E-2},{"$f":"(1+'Curves without VA'!R128)*(1+L128)/(1+'Curves without VA'!F128)-1","v":2.3910970197466686E-2},{"$f":"(1+'Curves without VA'!S128)*(1+M128)/(1+'Curves without VA'!G128)-1","v":2.9207848324981356E-2}]
[116,{"$f":"($A129*LN(1+'Curves without VA'!B129)-IF(ISNUMBER($A128),$A128*LN(1+'Curves without VA'!B128),0)+($A129<=B$2)*LN(1+B$5/10000)+IF(ISNUMBER($A128),$A128*B128))/$A129","v":3.2817112354419149E-2},{"$f":"($A129*LN(1+'Curves without VA'!C129)-IF(ISNUMBER($A128),$A128*LN(1+'Curves without VA'!C128),0)+($A129<=C$2)*LN(1+C$5/10000)+IF(ISNUMBER($A128),$A128*C128))/$A129","v":3.403152296600688E-2},{"$f":"($A129*LN(1+'Curves without VA'!D129)-IF(ISNUMBER($A128),$A128*LN(1+'Curves without VA'!D128),0)+($A129<=D$2)*LN(1+D$5/10000)+IF(ISNUMBER($A128),$A128*D128))/$A129","v":3.1685065242551838E-2},{"$f":"($A129*LN(1+'Curves without VA'!E129)-IF(ISNUMBER($A128),$A128*LN(1+'Curves without VA'!E128),0)+($A129<=E$2)*LN(1+E$5/10000)+IF(ISNUMBER($A128),$A128*E128))/$A129","v":3.6357458703431517E-2},{"$f":"($A129*LN(1+'Curves without VA'!F129)-IF(ISNUMBER($A128),$A128*LN(1+'Curves without VA'!F128),0)+($A129<=F$2)*LN(1+F$5/10000)+IF(ISNUMBER($A128),$A128*F128))/$A129","v":3.864981412472928E-2},{"$f":"($A129*LN(1+'Curves without VA'!G129)-IF(ISNUMBER($A128),$A128*LN(1+'Curves without VA'!G128),0)+($A129<=G$2)*LN(1+G$5/10000)+IF(ISNUMBER($A128),$A128*G128))/$A129","v":3.732803678788868E-2},3.3441986864525042E-2,3.5919687229272856E-2,3.2772601129921197E-2,3.8029362889243856E-2,3.9941675113717157E-2,3.9219681240674653E-2,{"$f":"(1+'Curves without VA'!H129)*(1+H129)/(1+'Curves without VA'!B129)-1","v":3.8122695696995113E-2},{"$f":"(1+'Curves without VA'!I129)*(1+I129)/(1+'Curves without VA'!C129)-1","v":4.2449535573003239E-2},{"$f":"(1+'Curves without VA'!J129)*(1+J129)/(1+'Curves without VA'!D129)-1","v":3.8182051028931685E-2},{"$f":"(1+'Curves without VA'!K129)*(1+K129)/(1+'Curves without VA'!E129)-1","v":4.3950911742769438E-2},{"$f":"(1+'Curves without VA'!L129)*(1+L129)/(1+'Curves without VA'!F129)-1","v":4.8852705176267941E-2},{"$f":"(1+'Curves without VA'!M129)*(1+M129)/(1+'Curves without VA'!G129)-1","v":4.5865131162760475E-2},{"$f":"(1+'Curves without VA'!N129)*(1+H129)/(1+'Curves without VA'!B129)-1","v":2.6875099256246537E-2},{"$f":"(1+'Curves without VA'!O129)*(1+I129)/(1+'Curves without VA'!C129)-1","v":3.0224746048534756E-2},{"$f":"(1+'Curves without VA'!P129)*(1+J129)/(1+'Curves without VA'!D129)-1","v":2.5014061868874116E-2},{"$f":"(1+'Curves without VA'!Q129)*(1+K129)/(1+'Curves without VA'!E129)-1","v":2.8749965788494647E-2},{"$f":"(1+'Curves without VA'!R129)*(1+L129)/(1+'Curves without VA'!F129)-1","v":2.3975998319785141E-2},{"$f":"(1+'Curves without VA'!S129)*(1+M129)/(1+'Curves without VA'!G129)-1","v":2.9227586885036017E-2}]
[117,{"$f":"($A130*LN(1+'Curves without VA'!B130)-IF(ISNUMBER($A129),$A129*LN(1+'Curves without VA'!B129),0)+($A130<=B$2)*LN(1+B$5/10000)+IF(ISNUMBER($A129),$A129*B129))/$A130","v":3.2814121519965538E-2},{"$f":"($A130*LN(1+'Curves without VA'!C130)-IF(ISNUMBER($A129),$A129*LN(1+'Curves without VA'!C129),0)+($A130<=C$2)*LN(1+C$5/10000)+IF(ISNUMBER($A129),$A129*C129))/$A130","v":3.4018152573253004E-2},{"$f":"($A130*LN(1+'Curves without VA'!D130)-IF(ISNUMBER($A129),$A129*LN(1+'Curves without VA'!D129),0)+($A130<=D$2)*LN(1+D$5/10000)+IF(ISNUMBER($A129),$A129*D129))/$A130","v":3.1683472567374485E-2},{"$f":"($A130*LN(1+'Curves without VA'!E130)-IF(ISNUMBER($A129),$A129*LN(1+'Curves without VA'!E129),0)+($A130<=E$2)*LN(1+E$5/10000)+IF(ISNUMBER($A129),$A129*E129))/$A130","v":3.632420840573157E-2},{"$f":"($A130*LN(1+'Curves without VA'!F130)-IF(ISNUMBER($A129),$A129*LN(1+'Curves without VA'!F129),0)+($A130<=F$2)*LN(1+F$5/10000)+IF(ISNUMBER($A129),$A129*F129))/$A130","v":3.8596969930039401E-2},{"$f":"($A130*LN(1+'Curves without VA'!G130)-IF(ISNUMBER($A129),$A129*LN(1+'Curves without VA'!G129),0)+($A130<=G$2)*LN(1+G$5/10000)+IF(ISNUMBER($A129),$A129*G129))/$A130","v":3.7286490951005336E-2},3.3438208565534477E-2,3.5894699692310406E-2,3.2766000408545493E-2,3.7986281231509711E-2,3.9882184954154409E-2,3.9166372628361534E-2,{"$f":"(1+'Curves without VA'!H130)*(1+H130)/(1+'Curves without VA'!B130)-1","v":3.8091680441221687E-2},{"$f":"(1+'Curves without VA'!I130)*(1+I130)/(1+'Curves without VA'!C130)-1","v":4.2381338461815465E-2},{"$f":"(1+'Curves without VA'!J130)*(1+J130)/(1+'Curves without VA'!D130)-1","v":3.8141956490268303E-2},{"$f":"(1+'Curves without VA'!K130)*(1+K130)/(1+'Curves without VA'!E130)-1","v":4.3869784937466072E-2},{"$f":"(1+'Curves without VA'!L130)*(1+L130)/(1+'Curves without VA'!F130)-1","v":4.8729311712610857E-2},{"$f":"(1+'Curves without VA'!M130)*(1+M130)/(1+'Curves without VA'!G130)-1","v":4.57674859412045E-2},{"$f":"(1+'Curves without VA'!N130)*(1+H130)/(1+'Curves without VA'!B130)-1","v":2.6914536040443027E-2},{"$f":"(1+'Curves without VA'!O130)*(1+I130)/(1+'Curves without VA'!C130)-1","v":3.0235639139966741E-2},{"$f":"(1+'Curves without VA'!P130)*(1+J130)/(1+'Curves without VA'!D130)-1","v":2.5060820504399173E-2},{"$f":"(1+'Curves without VA'!Q130)*(1+K130)/(1+'Curves without VA'!E130)-1","v":2.8773436920533468E-2},{"$f":"(1+'Curves without VA'!R130)*(1+L130)/(1+'Curves without VA'!F130)-1","v":2.4039934921230799E-2},{"$f":"(1+'Curves without VA'!S130)*(1+M130)/(1+'Curves without VA'!G130)-1","v":2.9246988359990844E-2}]
[118,{"$f":"($A131*LN(1+'Curves without VA'!B131)-IF(ISNUMBER($A130),$A130*LN(1+'Curves without VA'!B130),0)+($A131<=B$2)*LN(1+B$5/10000)+IF(ISNUMBER($A130),$A130*B130))/$A131","v":3.281118138240089E-2},{"$f":"($A131*LN(1+'Curves without VA'!C131)-IF(ISNUMBER($A130),$A130*LN(1+'Curves without VA'!C130),0)+($A131<=C$2)*LN(1+C$5/10000)+IF(ISNUMBER($A130),$A130*C130))/$A131","v":3.40050088000831E-2},{"$f":"($A131*LN(1+'Curves without VA'!D131)-IF(ISNUMBER($A130),$A130*LN(1+'Curves without VA'!D130),0)+($A131<=D$2)*LN(1+D$5/10000)+IF(ISNUMBER($A130),$A130*D130))/$A131","v":3.1681906837974588E-2},{"$f":"($A131*LN(1+'Curves without VA'!E131)-IF(ISNUMBER($A130),$A130*LN(1+'Curves without VA'!E130),0)+($A131<=E$2)*LN(1+E$5/10000)+IF(ISNUMBER($A130),$A130*E130))/$A131","v":3.629152168675754E-2},{"$f":"($A131*LN(1+'Curves without VA'!F131)-IF(ISNUMBER($A130),$A130*LN(1+'Curves without VA'!F130),0)+($A131<=F$2)*LN(1+F$5/10000)+IF(ISNUMBER($A130),$A130*F130))/$A131","v":3.8545021529248207E-2},{"$f":"($A131*LN(1+'Curves without VA'!G131)-IF(ISNUMBER($A130),$A130*LN(1+'Curves without VA'!G130),0)+($A131<=G$2)*LN(1+G$5/10000)+IF(ISNUMBER($A130),$A130*G130))/$A131","v":3.7245649295206899E-2},3.3434494301657569E-2,3.587013605528111E-2,3.2759511072280256E-2,3.7943930695298E-2,3.9823702536650796E-2,3.9113969245926139E-2,{"$f":"(1+'Curves without VA'!H131)*(1+H131)/(1+'Curves without VA'!B131)-1","v":3.8061191601204136E-2},{"$f":"(1+'Curves without VA'!I131)*(1+I131)/(1+'Curves without VA'!C131)-1","v":4.2314300983740782E-2},{"$f":"(1+'Curves without VA'!J131)*(1+J131)/(1+'Curves without VA'!D131)-1","v":3.8102541715068439E-2},{"$f":"(1+'Curves without VA'!K131)*(1+K131)/(1+'Curves without VA'!E131)-1","v":4.3790037766520795E-2},{"$f":"(1+'Curves without VA'!L131)*(1+L131)/(1+'Curves without VA'!F131)-1","v":4.8608011520774763E-2},{"$f":"(1+'Curves without VA'!M131)*(1+M131)/(1+'Curves without VA'!G131)-1","v":4.5671502571647871E-2},{"$f":"(1+'Curves without VA'!N131)*(1+H131)/(1+'Curves without VA'!B131)-1","v":2.6953306323846293E-2},{"$f":"(1+'Curves without VA'!O131)*(1+I131)/(1+'Curves without VA'!C131)-1","v":3.0246347697660658E-2},{"$f":"(1+'Curves without VA'!P131)*(1+J131)/(1+'Curves without VA'!D131)-1","v":2.5106789294967458E-2},{"$f":"(1+'Curves without VA'!Q131)*(1+K131)/(1+'Curves without VA'!E131)-1","v":2.8796511000586555E-2},{"$f":"(1+'Curves without VA'!R131)*(1+L131)/(1+'Curves without VA'!F131)-1","v":2.4102805996635723E-2},{"$f":"(1+'Curves without VA'!S131)*(1+M131)/(1+'Curves without VA'!G131)-1","v":2.9266061314924041E-2}]
[119,{"$f":"($A132*LN(1+'Curves without VA'!B132)-IF(ISNUMBER($A131),$A131*LN(1+'Curves without VA'!B131),0)+($A132<=B$2)*LN(1+B$5/10000)+IF(ISNUMBER($A131),$A131*B131))/$A132","v":3.2808290663158567E-2},{"$f":"($A132*LN(1+'Curves without VA'!C132)-IF(ISNUMBER($A131),$A131*LN(1+'Curves without VA'!C131),0)+($A132<=C$2)*LN(1+C$5/10000)+IF(ISNUMBER($A131),$A131*C131))/$A132","v":3.3992085933113349E-2},{"$f":"($A132*LN(1+'Curves without VA'!D132)-IF(ISNUMBER($A131),$A131*LN(1+'Curves without VA'!D131),0)+($A132<=D$2)*LN(1+D$5/10000)+IF(ISNUMBER($A131),$A131*D131))/$A132","v":3.1680367380078546E-2},{"$f":"($A132*LN(1+'Curves without VA'!E132)-IF(ISNUMBER($A131),$A131*LN(1+'Curves without VA'!E131),0)+($A132<=E$2)*LN(1+E$5/10000)+IF(ISNUMBER($A131),$A131*E131))/$A132","v":3.6259384337159258E-2},{"$f":"($A132*LN(1+'Curves without VA'!F132)-IF(ISNUMBER($A131),$A131*LN(1+'Curves without VA'!F131),0)+($A132<=F$2)*LN(1+F$5/10000)+IF(ISNUMBER($A131),$A131*F131))/$A132","v":3.8493946325931581E-2},{"$f":"($A132*LN(1+'Curves without VA'!G132)-IF(ISNUMBER($A131),$A131*LN(1+'Curves without VA'!G131),0)+($A132<=G$2)*LN(1+G$5/10000)+IF(ISNUMBER($A131),$A131*G131))/$A132","v":3.7205494066546038E-2},3.3430842460015597E-2,3.584598563813457E-2,3.2753130367096039E-2,3.7902292890015676E-2,3.976620277451981E-2,3.906244830615635E-2,{"$f":"(1+'Curves without VA'!H132)*(1+H132)/(1+'Curves without VA'!B132)-1","v":3.8031215900899307E-2},{"$f":"(1+'Curves without VA'!I132)*(1+I132)/(1+'Curves without VA'!C132)-1","v":4.2248393857310607E-2},{"$f":"(1+'Curves without VA'!J132)*(1+J132)/(1+'Curves without VA'!D132)-1","v":3.8063789664548375E-2},{"$f":"(1+'Curves without VA'!K132)*(1+K132)/(1+'Curves without VA'!E132)-1","v":4.3711635454702469E-2},{"$f":"(1+'Curves without VA'!L132)*(1+L132)/(1+'Curves without VA'!F132)-1","v":4.8488752747622987E-2},{"$f":"(1+'Curves without VA'!M132)*(1+M132)/(1+'Curves without VA'!G132)-1","v":4.5577139146748769E-2},{"$f":"(1+'Curves without VA'!N132)*(1+H132)/(1+'Curves without VA'!B132)-1","v":2.6991426826435516E-2},{"$f":"(1+'Curves without VA'!O132)*(1+I132)/(1+'Curves without VA'!C132)-1","v":3.0256876372713126E-2},{"$f":"(1+'Curves without VA'!P132)*(1+J132)/(1+'Curves without VA'!D132)-1","v":2.5151988039350703E-2},{"$f":"(1+'Curves without VA'!Q132)*(1+K132)/(1+'Curves without VA'!E132)-1","v":2.8819198000364921E-2},{"$f":"(1+'Curves without VA'!R132)*(1+L132)/(1+'Curves without VA'!F132)-1","v":2.4164636841133236E-2},{"$f":"(1+'Curves without VA'!S132)*(1+M132)/(1+'Curves without VA'!G132)-1","v":2.928481402686467E-2}]
[120,{"$f":"($A133*LN(1+'Curves without VA'!B133)-IF(ISNUMBER($A132),$A132*LN(1+'Curves without VA'!B132),0)+($A133<=B$2)*LN(1+B$5/10000)+IF(ISNUMBER($A132),$A132*B132))/$A133","v":3.2805448126341751E-2},{"$f":"($A133*LN(1+'Curves without VA'!C133)-IF(ISNUMBER($A132),$A132*LN(1+'Curves without VA'!C132),0)+($A133<=C$2)*LN(1+C$5/10000)+IF(ISNUMBER($A132),$A132*C132))/$A133","v":3.3979378449435903E-2},{"$f":"($A133*LN(1+'Curves without VA'!D133)-IF(ISNUMBER($A132),$A132*LN(1+'Curves without VA'!D132),0)+($A133<=D$2)*LN(1+D$5/10000)+IF(ISNUMBER($A132),$A132*D132))/$A133","v":3.1678853541369019E-2},{"$f":"($A133*LN(1+'Curves without VA'!E133)-IF(ISNUMBER($A132),$A132*LN(1+'Curves without VA'!E132),0)+($A133<=E$2)*LN(1+E$5/10000)+IF(ISNUMBER($A132),$A132*E132))/$A133","v":3.6227782621384819E-2},{"$f":"($A133*LN(1+'Curves without VA'!F133)-IF(ISNUMBER($A132),$A132*LN(1+'Curves without VA'!F132),0)+($A133<=F$2)*LN(1+F$5/10000)+IF(ISNUMBER($A132),$A132*F132))/$A133","v":3.8443722478262159E-2},{"$f":"($A133*LN(1+'Curves without VA'!G133)-IF(ISNUMBER($A132),$A132*LN(1+'Curves without VA'!G132),0)+($A133<=G$2)*LN(1+G$5/10000)+IF(ISNUMBER($A132),$A132*G132))/$A133","v":3.7166008103026775E-2},3.3427251481319198E-2,3.5822238115116756E-2,3.2746855625113147E-2,3.7861350030781615E-2,3.9709661378518835E-2,3.9011787773237439E-2,{"$f":"(1+'Curves without VA'!H133)*(1+H133)/(1+'Curves without VA'!B133)-1","v":3.8001740505734682E-2},{"$f":"(1+'Curves without VA'!I133)*(1+I133)/(1+'Curves without VA'!C133)-1","v":4.2183588774309166E-2},{"$f":"(1+'Curves without VA'!J133)*(1+J133)/(1+'Curves without VA'!D133)-1","v":3.80256838550872E-2},{"$f":"(1+'Curves without VA'!K133)*(1+K133)/(1+'Curves without VA'!E133)-1","v":4.3634544374562489E-2},{"$f":"(1+'Curves without VA'!L133)*(1+L133)/(1+'Curves without VA'!F133)-1","v":4.8371485148424265E-2},{"$f":"(1+'Curves without VA'!M133)*(1+M133)/(1+'Curves without VA'!G133)-1","v":4.5484355141639732E-2},{"$f":"(1+'Curves without VA'!N133)*(1+H133)/(1+'Curves without VA'!B133)-1","v":2.7028913716792946E-2},{"$f":"(1+'Curves without VA'!O133)*(1+I133)/(1+'Curves without VA'!C133)-1","v":3.0267229661089967E-2},{"$f":"(1+'Curves without VA'!P133)*(1+J133)/(1+'Curves without VA'!D133)-1","v":2.5196435884411228E-2},{"$f":"(1+'Curves without VA'!Q133)*(1+K133)/(1+'Curves without VA'!E133)-1","v":2.8841507562199054E-2},{"$f":"(1+'Curves without VA'!R133)*(1+L133)/(1+'Curves without VA'!F133)-1","v":2.4225452061557906E-2},{"$f":"(1+'Curves without VA'!S133)*(1+M133)/(1+'Curves without VA'!G133)-1","v":2.9303254496831688E-2}]
[121,{"$f":"($A134*LN(1+'Curves without VA'!B134)-IF(ISNUMBER($A133),$A133*LN(1+'Curves without VA'!B133),0)+($A134<=B$2)*LN(1+B$5/10000)+IF(ISNUMBER($A133),$A133*B133))/$A134","v":3.2802652576955513E-2},{"$f":"($A134*LN(1+'Curves without VA'!C134)-IF(ISNUMBER($A133),$A133*LN(1+'Curves without VA'!C133),0)+($A134<=C$2)*LN(1+C$5/10000)+IF(ISNUMBER($A133),$A133*C133))/$A134","v":3.396688100874419E-2},{"$f":"($A134*LN(1+'Curves without VA'!D134)-IF(ISNUMBER($A133),$A133*LN(1+'Curves without VA'!D133),0)+($A134<=D$2)*LN(1+D$5/10000)+IF(ISNUMBER($A133),$A133*D133))/$A134","v":3.1677364690631281E-2},{"$f":"($A134*LN(1+'Curves without VA'!E134)-IF(ISNUMBER($A133),$A133*LN(1+'Curves without VA'!E133),0)+($A134<=E$2)*LN(1+E$5/10000)+IF(ISNUMBER($A133),$A133*E133))/$A134","v":3.6196703258086438E-2},{"$f":"($A134*LN(1+'Curves without VA'!F134)-IF(ISNUMBER($A133),$A133*LN(1+'Curves without VA'!F133),0)+($A134<=F$2)*LN(1+F$5/10000)+IF(ISNUMBER($A133),$A133*F133))/$A134","v":3.8394328867685082E-2},{"$f":"($A134*LN(1+'Curves without VA'!G134)-IF(ISNUMBER($A133),$A133*LN(1+'Curves without VA'!G133),0)+($A134<=G$2)*LN(1+G$5/10000)+IF(ISNUMBER($A133),$A133*G133))/$A134","v":3.7127174810128102E-2},3.3423719857672118E-2,3.5798883500337553E-2,3.2740684261628461E-2,3.7821084914241299E-2,3.9654054828079044E-2,3.8961966332686115E-2,{"$f":"(1+'Curves without VA'!H134)*(1+H134)/(1+'Curves without VA'!B134)-1","v":3.7972753004519744E-2},{"$f":"(1+'Curves without VA'!I134)*(1+I134)/(1+'Curves without VA'!C134)-1","v":4.2119858360071705E-2},{"$f":"(1+'Curves without VA'!J134)*(1+J134)/(1+'Curves without VA'!D134)-1","v":3.7988208336687146E-2},{"$f":"(1+'Curves without VA'!K134)*(1+K134)/(1+'Curves without VA'!E134)-1","v":4.355873200049909E-2},{"$f":"(1+'Curves without VA'!L134)*(1+L134)/(1+'Curves without VA'!F134)-1","v":4.8256160033547824E-2},{"$f":"(1+'Curves without VA'!M134)*(1+M134)/(1+'Curves without VA'!G134)-1","v":4.5393111358757787E-2},{"$f":"(1+'Curves without VA'!N134)*(1+H134)/(1+'Curves without VA'!B134)-1","v":2.7065782634350999E-2},{"$f":"(1+'Curves without VA'!O134)*(1+I134)/(1+'Curves without VA'!C134)-1","v":3.0277411910056395E-2},{"$f":"(1+'Curves without VA'!P134)*(1+J134)/(1+'Curves without VA'!D134)-1","v":2.5240151351315854E-2},{"$f":"(1+'Curves without VA'!Q134)*(1+K134)/(1+'Curves without VA'!E134)-1","v":2.8863449012362929E-2},{"$f":"(1+'Curves without VA'!R134)*(1+L134)/(1+'Curves without VA'!F134)-1","v":2.4285275589105426E-2},{"$f":"(1+'Curves without VA'!S134)*(1+M134)/(1+'Curves without VA'!G134)-1","v":2.9321390461266583E-2}]
[122,{"$f":"($A135*LN(1+'Curves without VA'!B135)-IF(ISNUMBER($A134),$A134*LN(1+'Curves without VA'!B134),0)+($A135<=B$2)*LN(1+B$5/10000)+IF(ISNUMBER($A134),$A134*B134))/$A135","v":3.2799902859224954E-2},{"$f":"($A135*LN(1+'Curves without VA'!C135)-IF(ISNUMBER($A134),$A134*LN(1+'Curves without VA'!C134),0)+($A135<=C$2)*LN(1+C$5/10000)+IF(ISNUMBER($A134),$A134*C134))/$A135","v":3.3954588445847075E-2},{"$f":"($A135*LN(1+'Curves without VA'!D135)-IF(ISNUMBER($A134),$A134*LN(1+'Curves without VA'!D134),0)+($A135<=D$2)*LN(1+D$5/10000)+IF(ISNUMBER($A134),$A134*D134))/$A135","v":3.1675900216935553E-2},{"$f":"($A135*LN(1+'Curves without VA'!E135)-IF(ISNUMBER($A134),$A134*LN(1+'Curves without VA'!E134),0)+($A135<=E$2)*LN(1+E$5/10000)+IF(ISNUMBER($A134),$A134*E134))/$A135","v":3.616613340149083E-2},{"$f":"($A135*LN(1+'Curves without VA'!F135)-IF(ISNUMBER($A134),$A134*LN(1+'Curves without VA'!F134),0)+($A135<=F$2)*LN(1+F$5/10000)+IF(ISNUMBER($A134),$A134*F134))/$A135","v":3.8345745069148181E-2},{"$f":"($A135*LN(1+'Curves without VA'!G135)-IF(ISNUMBER($A134),$A134*LN(1+'Curves without VA'!G134),0)+($A135<=G$2)*LN(1+G$5/10000)+IF(ISNUMBER($A134),$A134*G134))/$A135","v":3.70889781375323E-2},3.3420246130481557E-2,3.5775912134023091E-2,3.2734613772226862E-2,3.7781480895483277E-2,3.9599360343509415E-2,3.8912963362655928E-2,{"$f":"(1+'Curves without VA'!H135)*(1+H135)/(1+'Curves without VA'!B135)-1","v":3.7944241392234401E-2},{"$f":"(1+'Curves without VA'!I135)*(1+I135)/(1+'Curves without VA'!C135)-1","v":4.205717613567117E-2},{"$f":"(1+'Curves without VA'!J135)*(1+J135)/(1+'Curves without VA'!D135)-1","v":3.7951347672347646E-2},{"$f":"(1+'Curves without VA'!K135)*(1+K135)/(1+'Curves without VA'!E135)-1","v":4.3484166864921736E-2},{"$f":"(1+'Curves without VA'!L135)*(1+L135)/(1+'Curves without VA'!F135)-1","v":4.8142730216392815E-2},{"$f":"(1+'Curves without VA'!M135)*(1+M135)/(1+'Curves without VA'!G135)-1","v":4.5303369875163479E-2},{"$f":"(1+'Curves without VA'!N135)*(1+H135)/(1+'Curves without VA'!B135)-1","v":2.7102048710599069E-2},{"$f":"(1+'Curves without VA'!O135)*(1+I135)/(1+'Curves without VA'!C135)-1","v":3.0287427324280136E-2},{"$f":"(1+'Curves without VA'!P135)*(1+J135)/(1+'Curves without VA'!D135)-1","v":2.5283152360533689E-2},{"$f":"(1+'Curves without VA'!Q135)*(1+K135)/(1+'Curves without VA'!E135)-1","v":2.8885031373777403E-2},{"$f":"(1+'Curves without VA'!R135)*(1+L135)/(1+'Curves without VA'!F135)-1","v":2.4344130692988797E-2},{"$f":"(1+'Curves without VA'!S135)*(1+M135)/(1+'Curves without VA'!G135)-1","v":2.9339229402904676E-2}]
[123,{"$f":"($A136*LN(1+'Curves without VA'!B136)-IF(ISNUMBER($A135),$A135*LN(1+'Curves without VA'!B135),0)+($A136<=B$2)*LN(1+B$5/10000)+IF(ISNUMBER($A135),$A135*B135))/$A136","v":3.2797197854996983E-2},{"$f":"($A136*LN(1+'Curves without VA'!C136)-IF(ISNUMBER($A135),$A135*LN(1+'Curves without VA'!C135),0)+($A136<=C$2)*LN(1+C$5/10000)+IF(ISNUMBER($A135),$A135*C135))/$A136","v":3.3942495763547645E-2},{"$f":"($A136*LN(1+'Curves without VA'!D136)-IF(ISNUMBER($A135),$A135*LN(1+'Curves without VA'!D135),0)+($A136<=D$2)*LN(1+D$5/10000)+IF(ISNUMBER($A135),$A135*D135))/$A136","v":3.1674459528855427E-2},{"$f":"($A136*LN(1+'Curves without VA'!E136)-IF(ISNUMBER($A135),$A135*LN(1+'Curves without VA'!E135),0)+($A136<=E$2)*LN(1+E$5/10000)+IF(ISNUMBER($A135),$A135*E135))/$A136","v":3.6136060623681611E-2},{"$f":"($A136*LN(1+'Curves without VA'!F136)-IF(ISNUMBER($A135),$A135*LN(1+'Curves without VA'!F135),0)+($A136<=F$2)*LN(1+F$5/10000)+IF(ISNUMBER($A135),$A135*F135))/$A136","v":3.8297951322798313E-2},{"$f":"($A136*LN(1+'Curves without VA'!G136)-IF(ISNUMBER($A135),$A135*LN(1+'Curves without VA'!G135),0)+($A136<=G$2)*LN(1+G$5/10000)+IF(ISNUMBER($A135),$A135*G135))/$A136","v":3.7051402556990687E-2},3.3416828888468419E-2,3.5753314669420666E-2,3.2728641729979469E-2,3.774252186599858E-2,3.9545555859170189E-2,3.8864758906549168E-2,{"$f":"(1+'Curves without VA'!H136)*(1+H136)/(1+'Curves without VA'!B136)-1","v":3.7916194053637442E-2},{"$f":"(1+'Curves without VA'!I136)*(1+I136)/(1+'Curves without VA'!C136)-1","v":4.1995516481898587E-2},{"$f":"(1+'Curves without VA'!J136)*(1+J136)/(1+'Curves without VA'!D136)-1","v":3.7915086918308472E-2},{"$f":"(1+'Curves without VA'!K136)*(1+K136)/(1+'Curves without VA'!E136)-1","v":4.3410818516399496E-2},{"$f":"(1+'Curves without VA'!L136)*(1+L136)/(1+'Curves without VA'!F136)-1","v":4.8031149962626252E-2},{"$f":"(1+'Curves without VA'!M136)*(1+M136)/(1+'Curves without VA'!G136)-1","v":4.5215093992242439E-2},{"$f":"(1+'Curves without VA'!N136)*(1+H136)/(1+'Curves without VA'!B136)-1","v":2.7137726589303579E-2},{"$f":"(1+'Curves without VA'!O136)*(1+I136)/(1+'Curves without VA'!C136)-1","v":3.0297279971643443E-2},{"$f":"(1+'Curves without VA'!P136)*(1+J136)/(1+'Curves without VA'!D136)-1","v":2.5325456255673284E-2},{"$f":"(1+'Curves without VA'!Q136)*(1+K136)/(1+'Curves without VA'!E136)-1","v":2.8906263378111419E-2},{"$f":"(1+'Curves without VA'!R136)*(1+L136)/(1+'Curves without VA'!F136)-1","v":2.4402039994873892E-2},{"$f":"(1+'Curves without VA'!S136)*(1+M136)/(1+'Curves without VA'!G136)-1","v":2.9356778561109964E-2}]
[124,{"$f":"($A137*LN(1+'Curves without VA'!B137)-IF(ISNUMBER($A136),$A136*LN(1+'Curves without VA'!B136),0)+($A137<=B$2)*LN(1+B$5/10000)+IF(ISNUMBER($A136),$A136*B136))/$A137","v":3.2794536482220249E-2},{"$f":"($A137*LN(1+'Curves without VA'!C137)-IF(ISNUMBER($A136),$A136*LN(1+'Curves without VA'!C136),0)+($A137<=C$2)*LN(1+C$5/10000)+IF(ISNUMBER($A136),$A136*C136))/$A137","v":3.3930598125867302E-2},{"$f":"($A137*LN(1+'Curves without VA'!D137)-IF(ISNUMBER($A136),$A136*LN(1+'Curves without VA'!D136),0)+($A137<=D$2)*LN(1+D$5/10000)+IF(ISNUMBER($A136),$A136*D136))/$A137","v":3.1673042053718591E-2},{"$f":"($A137*LN(1+'Curves without VA'!E137)-IF(ISNUMBER($A136),$A136*LN(1+'Curves without VA'!E136),0)+($A137<=E$2)*LN(1+E$5/10000)+IF(ISNUMBER($A136),$A136*E136))/$A137","v":3.6106472897737302E-2},{"$f":"($A137*LN(1+'Curves without VA'!F137)-IF(ISNUMBER($A136),$A136*LN(1+'Curves without VA'!F136),0)+($A137<=F$2)*LN(1+F$5/10000)+IF(ISNUMBER($A136),$A136*F136))/$A137","v":3.825092850705894E-2},{"$f":"($A137*LN(1+'Curves without VA'!G137)-IF(ISNUMBER($A136),$A136*LN(1+'Curves without VA'!G136),0)+($A137<=G$2)*LN(1+G$5/10000)+IF(ISNUMBER($A136),$A136*G136))/$A137","v":3.7014433041261993E-2},3.3413466765772837E-2,3.5731082060318498E-2,3.2722765782730701E-2,3.7704192232637102E-2,3.9492619997596456E-2,3.8817333646867569E-2,{"$f":"(1+'Curves without VA'!H137)*(1+H137)/(1+'Curves without VA'!B137)-1","v":3.7888599747655016E-2},{"$f":"(1+'Curves without VA'!I137)*(1+I137)/(1+'Curves without VA'!C137)-1","v":4.1934854604937177E-2},{"$f":"(1+'Curves without VA'!J137)*(1+J137)/(1+'Curves without VA'!D137)-1","v":3.7879411605139079E-2},{"$f":"(1+'Curves without VA'!K137)*(1+K137)/(1+'Curves without VA'!E137)-1","v":4.333865747971144E-2},{"$f":"(1+'Curves without VA'!L137)*(1+L137)/(1+'Curves without VA'!F137)-1","v":4.7921374940779415E-2},{"$f":"(1+'Curves without VA'!M137)*(1+M137)/(1+'Curves without VA'!G137)-1","v":4.5128248187661368E-2},{"$f":"(1+'Curves without VA'!N137)*(1+H137)/(1+'Curves without VA'!B137)-1","v":2.7172830445789664E-2},{"$f":"(1+'Curves without VA'!O137)*(1+I137)/(1+'Curves without VA'!C137)-1","v":3.0306973788766012E-2},{"$f":"(1+'Curves without VA'!P137)*(1+J137)/(1+'Curves without VA'!D137)-1","v":2.5367079826226657E-2},{"$f":"(1+'Curves without VA'!Q137)*(1+K137)/(1+'Curves without VA'!E137)-1","v":2.8927153477328993E-2},{"$f":"(1+'Curves without VA'!R137)*(1+L137)/(1+'Curves without VA'!F137)-1","v":2.4459025483891894E-2},{"$f":"(1+'Curves without VA'!S137)*(1+M137)/(1+'Curves without VA'!G137)-1","v":2.9374044941705701E-2}]
[125,{"$f":"($A138*LN(1+'Curves without VA'!B138)-IF(ISNUMBER($A137),$A137*LN(1+'Curves without VA'!B137),0)+($A138<=B$2)*LN(1+B$5/10000)+IF(ISNUMBER($A137),$A137*B137))/$A138","v":3.2791917693497021E-2},{"$f":"($A138*LN(1+'Curves without VA'!C138)-IF(ISNUMBER($A137),$A137*LN(1+'Curves without VA'!C137),0)+($A138<=C$2)*LN(1+C$5/10000)+IF(ISNUMBER($A137),$A137*C137))/$A138","v":3.3918890851595287E-2},{"$f":"($A138*LN(1+'Curves without VA'!D138)-IF(ISNUMBER($A137),$A137*LN(1+'Curves without VA'!D137),0)+($A138<=D$2)*LN(1+D$5/10000)+IF(ISNUMBER($A137),$A137*D137))/$A138","v":3.1671647236890282E-2},{"$f":"($A138*LN(1+'Curves without VA'!E138)-IF(ISNUMBER($A137),$A137*LN(1+'Curves without VA'!E137),0)+($A138<=E$2)*LN(1+E$5/10000)+IF(ISNUMBER($A137),$A137*E137))/$A138","v":3.6077358581684128E-2},{"$f":"($A138*LN(1+'Curves without VA'!F138)-IF(ISNUMBER($A137),$A137*LN(1+'Curves without VA'!F137),0)+($A138<=F$2)*LN(1+F$5/10000)+IF(ISNUMBER($A137),$A137*F137))/$A138","v":3.8204658113009708E-2},{"$f":"($A138*LN(1+'Curves without VA'!G138)-IF(ISNUMBER($A137),$A137*LN(1+'Curves without VA'!G137),0)+($A138<=G$2)*LN(1+G$5/10000)+IF(ISNUMBER($A137),$A137*G137))/$A138","v":3.6978055044060334E-2},3.341015844014894E-2,3.5709205549149692E-2,3.2716983650471709E-2,3.7666476897509904E-2,3.9440532044557219E-2,3.8770668880247383E-2,{"$f":"(1+'Curves without VA'!H138)*(1+H138)/(1+'Curves without VA'!B138)-1","v":3.7861447592507869E-2},{"$f":"(1+'Curves without VA'!I138)*(1+I138)/(1+'Curves without VA'!C138)-1","v":4.1875166503639427E-2},{"$f":"(1+'Curves without VA'!J138)*(1+J138)/(1+'Curves without VA'!D138)-1","v":3.7844307719629322E-2},{"$f":"(1+'Curves without VA'!K138)*(1+K138)/(1+'Curves without VA'!E138)-1","v":4.3267655217690271E-2},{"$f":"(1+'Curves without VA'!L138)*(1+L138)/(1+'Curves without VA'!F138)-1","v":4.7813362174247587E-2},{"$f":"(1+'Curves without VA'!M138)*(1+M138)/(1+'Curves without VA'!G138)-1","v":4.5042798069487633E-2},{"$f":"(1+'Curves without VA'!N138)*(1+H138)/(1+'Curves without VA'!B138)-1","v":2.7207374005335794E-2},{"$f":"(1+'Curves without VA'!O138)*(1+I138)/(1+'Curves without VA'!C138)-1","v":3.0316512586266109E-2},{"$f":"(1+'Curves without VA'!P138)*(1+J138)/(1+'Curves without VA'!D138)-1","v":2.5408039329270382E-2},{"$f":"(1+'Curves without VA'!Q138)*(1+K138)/(1+'Curves without VA'!E138)-1","v":2.8947709854694859E-2},{"$f":"(1+'Curves without VA'!R138)*(1+L138)/(1+'Curves without VA'!F138)-1","v":2.4515108532076502E-2},{"$f":"(1+'Curves without VA'!S138)*(1+M138)/(1+'Curves without VA'!G138)-1","v":2.9391035326336468E-2}]
[126,{"$f":"($A139*LN(1+'Curves without VA'!B139)-IF(ISNUMBER($A138),$A138*LN(1+'Curves without VA'!B138),0)+($A139<=B$2)*LN(1+B$5/10000)+IF(ISNUMBER($A138),$A138*B138))/$A139","v":3.278934047470531E-2},{"$f":"($A139*LN(1+'Curves without VA'!C139)-IF(ISNUMBER($A138),$A138*LN(1+'Curves without VA'!C138),0)+($A139<=C$2)*LN(1+C$5/10000)+IF(ISNUMBER($A138),$A138*C138))/$A139","v":3.3907369408144497E-2},{"$f":"($A139*LN(1+'Curves without VA'!D139)-IF(ISNUMBER($A138),$A138*LN(1+'Curves without VA'!D138),0)+($A139<=D$2)*LN(1+D$5/10000)+IF(ISNUMBER($A138),$A138*D138))/$A139","v":3.1670274541087555E-2},{"$f":"($A139*LN(1+'Curves without VA'!E139)-IF(ISNUMBER($A138),$A138*LN(1+'Curves without VA'!E138),0)+($A139<=E$2)*LN(1+E$5/10000)+IF(ISNUMBER($A138),$A138*E138))/$A139","v":3.6048706403209049E-2},{"$f":"($A139*LN(1+'Curves without VA'!F139)-IF(ISNUMBER($A138),$A138*LN(1+'Curves without VA'!F138),0)+($A139<=F$2)*LN(1+F$5/10000)+IF(ISNUMBER($A138),$A138*F138))/$A139","v":3.8159122219995435E-2},{"$f":"($A139*LN(1+'Curves without VA'!G139)-IF(ISNUMBER($A138),$A138*LN(1+'Curves without VA'!G138),0)+($A139<=G$2)*LN(1+G$5/10000)+IF(ISNUMBER($A138),$A138*G138))/$A139","v":3.694225448096336E-2},3.3406902631244018E-2,3.5687676655648648E-2,3.2711293122802632E-2,3.7629361238792569E-2,3.9389271925030833E-2,3.8724746493614015E-2,{"$f":"(1+'Curves without VA'!H139)*(1+H139)/(1+'Curves without VA'!B139)-1","v":3.7834727051531791E-2},{"$f":"(1+'Curves without VA'!I139)*(1+I139)/(1+'Curves without VA'!C139)-1","v":4.1816428938331818E-2},{"$f":"(1+'Curves without VA'!J139)*(1+J139)/(1+'Curves without VA'!D139)-1","v":3.7809761687451093E-2},{"$f":"(1+'Curves without VA'!K139)*(1+K139)/(1+'Curves without VA'!E139)-1","v":4.3197784094789915E-2},{"$f":"(1+'Curves without VA'!L139)*(1+L139)/(1+'Curves without VA'!F139)-1","v":4.7707069994713525E-2},{"$f":"(1+'Curves without VA'!M139)*(1+M139)/(1+'Curves without VA'!G139)-1","v":4.4958710332350105E-2},{"$f":"(1+'Curves without VA'!N139)*(1+H139)/(1+'Curves without VA'!B139)-1","v":2.7241370560725509E-2},{"$f":"(1+'Curves without VA'!O139)*(1+I139)/(1+'Curves without VA'!C139)-1","v":3.032590005376834E-2},{"$f":"(1+'Curves without VA'!P139)*(1+J139)/(1+'Curves without VA'!D139)-1","v":2.5448350510177686E-2},{"$f":"(1+'Curves without VA'!Q139)*(1+K139)/(1+'Curves without VA'!E139)-1","v":2.8967940435276507E-2},{"$f":"(1+'Curves without VA'!R139)*(1+L139)/(1+'Curves without VA'!F139)-1","v":2.4570309910073806E-2},{"$f":"(1+'Curves without VA'!S139)*(1+M139)/(1+'Curves without VA'!G139)-1","v":2.9407756281373709E-2}]
[127,{"$f":"($A140*LN(1+'Curves without VA'!B140)-IF(ISNUMBER($A139),$A139*LN(1+'Curves without VA'!B139),0)+($A140<=B$2)*LN(1+B$5/10000)+IF(ISNUMBER($A139),$A139*B139))/$A140","v":3.2786803843686277E-2},{"$f":"($A140*LN(1+'Curves without VA'!C140)-IF(ISNUMBER($A139),$A139*LN(1+'Curves without VA'!C139),0)+($A140<=C$2)*LN(1+C$5/10000)+IF(ISNUMBER($A139),$A139*C139))/$A140","v":3.3896029405700266E-2},{"$f":"($A140*LN(1+'Curves without VA'!D140)-IF(ISNUMBER($A139),$A139*LN(1+'Curves without VA'!D139),0)+($A140<=D$2)*LN(1+D$5/10000)+IF(ISNUMBER($A139),$A139*D139))/$A140","v":3.1668923445722114E-2},{"$f":"($A140*LN(1+'Curves without VA'!E140)-IF(ISNUMBER($A139),$A139*LN(1+'Curves without VA'!E139),0)+($A140<=E$2)*LN(1+E$5/10000)+IF(ISNUMBER($A139),$A139*E139))/$A140","v":3.6020505445099923E-2},{"$f":"($A140*LN(1+'Curves without VA'!F140)-IF(ISNUMBER($A139),$A139*LN(1+'Curves without VA'!F139),0)+($A140<=F$2)*LN(1+F$5/10000)+IF(ISNUMBER($A139),$A139*F139))/$A140","v":3.8114303472395812E-2},{"$f":"($A140*LN(1+'Curves without VA'!G140)-IF(ISNUMBER($A139),$A139*LN(1+'Curves without VA'!G139),0)+($A140<=G$2)*LN(1+G$5/10000)+IF(ISNUMBER($A139),$A139*G139))/$A140","v":3.6907017711218321E-2},3.3403698098958268E-2,3.5666487166030825E-2,3.2705692056479441E-2,3.7592831092386092E-2,3.9338820180071732E-2,3.8679548941408015E-2,{"$f":"(1+'Curves without VA'!H140)*(1+H140)/(1+'Curves without VA'!B140)-1","v":3.7808427919664656E-2},{"$f":"(1+'Curves without VA'!I140)*(1+I140)/(1+'Curves without VA'!C140)-1","v":4.1758619401052854E-2},{"$f":"(1+'Curves without VA'!J140)*(1+J140)/(1+'Curves without VA'!D140)-1","v":3.7775760356556498E-2},{"$f":"(1+'Curves without VA'!K140)*(1+K140)/(1+'Curves without VA'!E140)-1","v":4.3129017342277809E-2},{"$f":"(1+'Curves without VA'!L140)*(1+L140)/(1+'Curves without VA'!F140)-1","v":4.7602457997005576E-2},{"$f":"(1+'Curves without VA'!M140)*(1+M140)/(1+'Curves without VA'!G140)-1","v":4.4875952715560219E-2},{"$f":"(1+'Curves without VA'!N140)*(1+H140)/(1+'Curves without VA'!B140)-1","v":2.7274832988999131E-2},{"$f":"(1+'Curves without VA'!O140)*(1+I140)/(1+'Curves without VA'!C140)-1","v":3.0335139764672503E-2},{"$f":"(1+'Curves without VA'!P140)*(1+J140)/(1+'Curves without VA'!D140)-1","v":2.5488028622392411E-2},{"$f":"(1+'Curves without VA'!Q140)*(1+K140)/(1+'Curves without VA'!E140)-1","v":2.8987852895966171E-2},{"$f":"(1+'Curves without VA'!R140)*(1+L140)/(1+'Curves without VA'!F140)-1","v":2.4624649803014487E-2},{"$f":"(1+'Curves without VA'!S140)*(1+M140)/(1+'Curves without VA'!G140)-1","v":2.9424214166407392E-2}]
[128,{"$f":"($A141*LN(1+'Curves without VA'!B141)-IF(ISNUMBER($A140),$A140*LN(1+'Curves without VA'!B140),0)+($A141<=B$2)*LN(1+B$5/10000)+IF(ISNUMBER($A140),$A140*B140))/$A141","v":3.2784306848993645E-2},{"$f":"($A141*LN(1+'Curves without VA'!C141)-IF(ISNUMBER($A140),$A140*LN(1+'Curves without VA'!C140),0)+($A141<=C$2)*LN(1+C$5/10000)+IF(ISNUMBER($A140),$A140*C140))/$A141","v":3.3884866591640403E-2},{"$f":"($A141*LN(1+'Curves without VA'!D141)-IF(ISNUMBER($A140),$A140*LN(1+'Curves without VA'!D140),0)+($A141<=D$2)*LN(1+D$5/10000)+IF(ISNUMBER($A140),$A140*D140))/$A141","v":3.1667593446272277E-2},{"$f":"($A141*LN(1+'Curves without VA'!E141)-IF(ISNUMBER($A140),$A140*LN(1+'Curves without VA'!E140),0)+($A141<=E$2)*LN(1+E$5/10000)+IF(ISNUMBER($A140),$A140*E140))/$A141","v":3.599274513136743E-2},{"$f":"($A141*LN(1+'Curves without VA'!F141)-IF(ISNUMBER($A140),$A140*LN(1+'Curves without VA'!F140),0)+($A141<=F$2)*LN(1+F$5/10000)+IF(ISNUMBER($A140),$A140*F140))/$A141","v":3.8070185057491802E-2},{"$f":"($A141*LN(1+'Curves without VA'!G141)-IF(ISNUMBER($A140),$A140*LN(1+'Curves without VA'!G140),0)+($A141<=G$2)*LN(1+G$5/10000)+IF(ISNUMBER($A140),$A140*G140))/$A141","v":3.6872331520406768E-2},3.3400543641881164E-2,3.5645629122668998E-2,3.2700178373046951E-2,3.7556872734393121E-2,3.9289157944547348E-2,3.8635059223824708E-2,{"$f":"(1+'Curves without VA'!H141)*(1+H141)/(1+'Curves without VA'!B141)-1","v":3.7782540310550949E-2},{"$f":"(1+'Curves without VA'!I141)*(1+I141)/(1+'Curves without VA'!C141)-1","v":4.1701716087163554E-2},{"$f":"(1+'Curves without VA'!J141)*(1+J141)/(1+'Curves without VA'!D141)-1","v":3.7742290981285453E-2},{"$f":"(1+'Curves without VA'!K141)*(1+K141)/(1+'Curves without VA'!E141)-1","v":4.3061329024981276E-2},{"$f":"(1+'Curves without VA'!L141)*(1+L141)/(1+'Curves without VA'!F141)-1","v":4.7499486995392637E-2},{"$f":"(1+'Curves without VA'!M141)*(1+M141)/(1+'Curves without VA'!G141)-1","v":4.4794493963085991E-2},{"$f":"(1+'Curves without VA'!N141)*(1+H141)/(1+'Curves without VA'!B141)-1","v":2.7307773767447419E-2},{"$f":"(1+'Curves without VA'!O141)*(1+I141)/(1+'Curves without VA'!C141)-1","v":3.0344235180701284E-2},{"$f":"(1+'Curves without VA'!P141)*(1+J141)/(1+'Curves without VA'!D141)-1","v":2.5527088446310353E-2},{"$f":"(1+'Curves without VA'!Q141)*(1+K141)/(1+'Curves without VA'!E141)-1","v":2.9007454675047617E-2},{"$f":"(1+'Curves without VA'!R141)*(1+L141)/(1+'Curves without VA'!F141)-1","v":2.4678147826437513E-2},{"$f":"(1+'Curves without VA'!S141)*(1+M141)/(1+'Curves without VA'!G141)-1","v":2.9440415142330201E-2}]
[129,{"$f":"($A142*LN(1+'Curves without VA'!B142)-IF(ISNUMBER($A141),$A141*LN(1+'Curves without VA'!B141),0)+($A142<=B$2)*LN(1+B$5/10000)+IF(ISNUMBER($A141),$A141*B141))/$A142","v":3.27818485687007E-2},{"$f":"($A142*LN(1+'Curves without VA'!C142)-IF(ISNUMBER($A141),$A141*LN(1+'Curves without VA'!C141),0)+($A142<=C$2)*LN(1+C$5/10000)+IF(ISNUMBER($A141),$A141*C141))/$A142","v":3.3873876845217185E-2},{"$f":"($A142*LN(1+'Curves without VA'!D142)-IF(ISNUMBER($A141),$A141*LN(1+'Curves without VA'!D141),0)+($A142<=D$2)*LN(1+D$5/10000)+IF(ISNUMBER($A141),$A141*D141))/$A142","v":3.1666284053680126E-2},{"$f":"($A142*LN(1+'Curves without VA'!E142)-IF(ISNUMBER($A141),$A141*LN(1+'Curves without VA'!E141),0)+($A142<=E$2)*LN(1+E$5/10000)+IF(ISNUMBER($A141),$A141*E141))/$A142","v":3.5965415214012413E-2},{"$f":"($A142*LN(1+'Curves without VA'!F142)-IF(ISNUMBER($A141),$A141*LN(1+'Curves without VA'!F141),0)+($A142<=F$2)*LN(1+F$5/10000)+IF(ISNUMBER($A141),$A141*F141))/$A142","v":3.8026750684366506E-2},{"$f":"($A142*LN(1+'Curves without VA'!G142)-IF(ISNUMBER($A141),$A141*LN(1+'Curves without VA'!G141),0)+($A142<=G$2)*LN(1+G$5/10000)+IF(ISNUMBER($A141),$A141*G141))/$A142","v":3.6838183103911772E-2},3.3397438095797982E-2,3.5625094814240477E-2,3.2694750056555533E-2,3.7521472864369798E-2,3.9240266925720801E-2,3.8591260866020605E-2,{"$f":"(1+'Curves without VA'!H142)*(1+H142)/(1+'Curves without VA'!B142)-1","v":3.7757054644245391E-2},{"$f":"(1+'Curves without VA'!I142)*(1+I142)/(1+'Curves without VA'!C142)-1","v":4.1645697868249343E-2},{"$f":"(1+'Curves without VA'!J142)*(1+J142)/(1+'Curves without VA'!D142)-1","v":3.7709341207144087E-2},{"$f":"(1+'Curves without VA'!K142)*(1+K142)/(1+'Curves without VA'!E142)-1","v":4.2994694009508061E-2},{"$f":"(1+'Curves without VA'!L142)*(1+L142)/(1+'Curves without VA'!F142)-1","v":4.7398118981312631E-2},{"$f":"(1+'Curves without VA'!M142)*(1+M142)/(1+'Curves without VA'!G142)-1","v":4.4714303785297504E-2},{"$f":"(1+'Curves without VA'!N142)*(1+H142)/(1+'Curves without VA'!B142)-1","v":2.7340204988884453E-2},{"$f":"(1+'Curves without VA'!O142)*(1+I142)/(1+'Curves without VA'!C142)-1","v":3.0353189656232127E-2},{"$f":"(1+'Curves without VA'!P142)*(1+J142)/(1+'Curves without VA'!D142)-1","v":2.5565544307317278E-2},{"$f":"(1+'Curves without VA'!Q142)*(1+K142)/(1+'Curves without VA'!E142)-1","v":2.902675298132773E-2},{"$f":"(1+'Curves without VA'!R142)*(1+L142)/(1+'Curves without VA'!F142)-1","v":2.4730823042192984E-2},{"$f":"(1+'Curves without VA'!S142)*(1+M142)/(1+'Curves without VA'!G142)-1","v":2.9456365179050037E-2}]
[130,{"$f":"($A143*LN(1+'Curves without VA'!B143)-IF(ISNUMBER($A142),$A142*LN(1+'Curves without VA'!B142),0)+($A143<=B$2)*LN(1+B$5/10000)+IF(ISNUMBER($A142),$A142*B142))/$A143","v":3.2779428109263403E-2},{"$f":"($A143*LN(1+'Curves without VA'!C143)-IF(ISNUMBER($A142),$A142*LN(1+'Curves without VA'!C142),0)+($A143<=C$2)*LN(1+C$5/10000)+IF(ISNUMBER($A142),$A142*C142))/$A143","v":3.3863056172484467E-2},{"$f":"($A143*LN(1+'Curves without VA'!D143)-IF(ISNUMBER($A142),$A142*LN(1+'Curves without VA'!D142),0)+($A143<=D$2)*LN(1+D$5/10000)+IF(ISNUMBER($A142),$A142*D142))/$A143","v":3.1664994793776477E-2},{"$f":"($A143*LN(1+'Curves without VA'!E143)-IF(ISNUMBER($A142),$A142*LN(1+'Curves without VA'!E142),0)+($A143<=E$2)*LN(1+E$5/10000)+IF(ISNUMBER($A142),$A142*E142))/$A143","v":3.5938505760405713E-2},{"$f":"($A143*LN(1+'Curves without VA'!F143)-IF(ISNUMBER($A142),$A142*LN(1+'Curves without VA'!F142),0)+($A143<=F$2)*LN(1+F$5/10000)+IF(ISNUMBER($A142),$A142*F142))/$A143","v":3.7983984563786488E-2},{"$f":"($A143*LN(1+'Curves without VA'!G143)-IF(ISNUMBER($A142),$A142*LN(1+'Curves without VA'!G142),0)+($A143<=G$2)*LN(1+G$5/10000)+IF(ISNUMBER($A142),$A142*G142))/$A143","v":3.6804560051152152E-2},3.3394380332266715E-2,3.5604876766319515E-2,3.2689405151359097E-2,3.7486618589316789E-2,3.9192129382650265E-2,3.8548137898240187E-2,{"$f":"(1+'Curves without VA'!H143)*(1+H143)/(1+'Curves without VA'!B143)-1","v":3.773196163547099E-2},{"$f":"(1+'Curves without VA'!I143)*(1+I143)/(1+'Curves without VA'!C143)-1","v":4.1590544266250307E-2},{"$f":"(1+'Curves without VA'!J143)*(1+J143)/(1+'Curves without VA'!D143)-1","v":3.7676899056232616E-2},{"$f":"(1+'Curves without VA'!K143)*(1+K143)/(1+'Curves without VA'!E143)-1","v":4.2929087933874621E-2},{"$f":"(1+'Curves without VA'!L143)*(1+L143)/(1+'Curves without VA'!F143)-1","v":4.7298317082513419E-2},{"$f":"(1+'Curves without VA'!M143)*(1+M143)/(1+'Curves without VA'!G143)-1","v":4.463535282239639E-2},{"$f":"(1+'Curves without VA'!N143)*(1+H143)/(1+'Curves without VA'!B143)-1","v":2.7372138376236865E-2},{"$f":"(1+'Curves without VA'!O143)*(1+I143)/(1+'Curves without VA'!C143)-1","v":3.0362006442431477E-2},{"$f":"(1+'Curves without VA'!P143)*(1+J143)/(1+'Curves without VA'!D143)-1","v":2.5603410093019585E-2},{"$f":"(1+'Curves without VA'!Q143)*(1+K143)/(1+'Curves without VA'!E143)-1","v":2.9045754802862644E-2},{"$f":"(1+'Curves without VA'!R143)*(1+L143)/(1+'Curves without VA'!F143)-1","v":2.4782693974236158E-2},{"$f":"(1+'Curves without VA'!S143)*(1+M143)/(1+'Curves without VA'!G143)-1","v":2.9472070062841249E-2}]
[131,{"$f":"($A144*LN(1+'Curves without VA'!B144)-IF(ISNUMBER($A143),$A143*LN(1+'Curves without VA'!B143),0)+($A144<=B$2)*LN(1+B$5/10000)+IF(ISNUMBER($A143),$A143*B143))/$A144","v":3.2777044604435354E-2},{"$f":"($A144*LN(1+'Curves without VA'!C144)-IF(ISNUMBER($A143),$A143*LN(1+'Curves without VA'!C143),0)+($A144<=C$2)*LN(1+C$5/10000)+IF(ISNUMBER($A143),$A143*C143))/$A144","v":3.3852400701456703E-2},{"$f":"($A144*LN(1+'Curves without VA'!D144)-IF(ISNUMBER($A143),$A143*LN(1+'Curves without VA'!D143),0)+($A144<=D$2)*LN(1+D$5/10000)+IF(ISNUMBER($A143),$A143*D143))/$A144","v":3.1663725206728742E-2},{"$f":"($A144*LN(1+'Curves without VA'!E144)-IF(ISNUMBER($A143),$A143*LN(1+'Curves without VA'!E143),0)+($A144<=E$2)*LN(1+E$5/10000)+IF(ISNUMBER($A143),$A143*E143))/$A144","v":3.5912007141246857E-2},{"$f":"($A144*LN(1+'Curves without VA'!F144)-IF(ISNUMBER($A143),$A143*LN(1+'Curves without VA'!F143),0)+($A144<=F$2)*LN(1+F$5/10000)+IF(ISNUMBER($A143),$A143*F143))/$A144","v":3.7941871389010902E-2},{"$f":"($A144*LN(1+'Curves without VA'!G144)-IF(ISNUMBER($A143),$A143*LN(1+'Curves without VA'!G143),0)+($A144<=G$2)*LN(1+G$5/10000)+IF(ISNUMBER($A143),$A143*G143))/$A144","v":3.6771450330537206E-2},3.3391369257256942E-2,3.5584967732394279E-2,3.2684141759993679E-2,3.7452297408371527E-2,3.9144728106383475E-2,3.8505674836815107E-2,{"$f":"(1+'Curves without VA'!H144)*(1+H144)/(1+'Curves without VA'!B144)-1","v":3.7707252282416448E-2},{"$f":"(1+'Curves without VA'!I144)*(1+I144)/(1+'Curves without VA'!C144)-1","v":4.1536235428760282E-2},{"$f":"(1+'Curves without VA'!J144)*(1+J144)/(1+'Curves without VA'!D144)-1","v":3.7644952913288732E-2},{"$f":"(1+'Curves without VA'!K144)*(1+K144)/(1+'Curves without VA'!E144)-1","v":4.2864487178466248E-2},{"$f":"(1+'Curves without VA'!L144)*(1+L144)/(1+'Curves without VA'!F144)-1","v":4.7200045523592582E-2},{"$f":"(1+'Curves without VA'!M144)*(1+M144)/(1+'Curves without VA'!G144)-1","v":4.4557612609444019E-2},{"$f":"(1+'Curves without VA'!N144)*(1+H144)/(1+'Curves without VA'!B144)-1","v":2.7403585296483124E-2},{"$f":"(1+'Curves without VA'!O144)*(1+I144)/(1+'Curves without VA'!C144)-1","v":3.0370688691196746E-2},{"$f":"(1+'Curves without VA'!P144)*(1+J144)/(1+'Curves without VA'!D144)-1","v":2.5640699269712686E-2},{"$f":"(1+'Curves without VA'!Q144)*(1+K144)/(1+'Curves without VA'!E144)-1","v":2.906446691528819E-2},{"$f":"(1+'Curves without VA'!R144)*(1+L144)/(1+'Curves without VA'!F144)-1","v":2.483377862426539E-2},{"$f":"(1+'Curves without VA'!S144)*(1+M144)/(1+'Curves without VA'!G144)-1","v":2.948753540335991E-2}]
[132,{"$f":"($A145*LN(1+'Curves without VA'!B145)-IF(ISNUMBER($A144),$A144*LN(1+'Curves without VA'!B144),0)+($A145<=B$2)*LN(1+B$5/10000)+IF(ISNUMBER($A144),$A144*B144))/$A145","v":3.2774697214233012E-2},{"$f":"($A145*LN(1+'Curves without VA'!C145)-IF(ISNUMBER($A144),$A144*LN(1+'Curves without VA'!C144),0)+($A145<=C$2)*LN(1+C$5/10000)+IF(ISNUMBER($A144),$A144*C144))/$A145","v":3.3841906677488036E-2},{"$f":"($A145*LN(1+'Curves without VA'!D145)-IF(ISNUMBER($A144),$A144*LN(1+'Curves without VA'!D144),0)+($A145<=D$2)*LN(1+D$5/10000)+IF(ISNUMBER($A144),$A144*D144))/$A145","v":3.1662474846511884E-2},{"$f":"($A145*LN(1+'Curves without VA'!E145)-IF(ISNUMBER($A144),$A144*LN(1+'Curves without VA'!E144),0)+($A145<=E$2)*LN(1+E$5/10000)+IF(ISNUMBER($A144),$A144*E144))/$A145","v":3.5885910019069447E-2},{"$f":"($A145*LN(1+'Curves without VA'!F145)-IF(ISNUMBER($A144),$A144*LN(1+'Curves without VA'!F144),0)+($A145<=F$2)*LN(1+F$5/10000)+IF(ISNUMBER($A144),$A144*F144))/$A145","v":3.7900396317474473E-2},{"$f":"($A145*LN(1+'Curves without VA'!G145)-IF(ISNUMBER($A144),$A144*LN(1+'Curves without VA'!G144),0)+($A145<=G$2)*LN(1+G$5/10000)+IF(ISNUMBER($A144),$A144*G144))/$A145","v":3.6738842275107597E-2},3.3388403809852418E-2,3.5565360685284819E-2,3.2678958041131967E-2,3.7418497198170586E-2,3.9098046400918962E-2,3.8463856665996721E-2,{"$f":"(1+'Curves without VA'!H145)*(1+H145)/(1+'Curves without VA'!B145)-1","v":3.7682917856028952E-2},{"$f":"(1+'Curves without VA'!I145)*(1+I145)/(1+'Curves without VA'!C145)-1","v":4.1482752105427512E-2},{"$f":"(1+'Curves without VA'!J145)*(1+J145)/(1+'Curves without VA'!D145)-1","v":3.7613491512317632E-2},{"$f":"(1+'Curves without VA'!K145)*(1+K145)/(1+'Curves without VA'!E145)-1","v":4.2800868838269945E-2},{"$f":"(1+'Curves without VA'!L145)*(1+L145)/(1+'Curves without VA'!F145)-1","v":4.7103269587911001E-2},{"$f":"(1+'Curves without VA'!M145)*(1+M145)/(1+'Curves without VA'!G145)-1","v":4.4481055542920256E-2},{"$f":"(1+'Curves without VA'!N145)*(1+H145)/(1+'Curves without VA'!B145)-1","v":2.7434556773975549E-2},{"$f":"(1+'Curves without VA'!O145)*(1+I145)/(1+'Curves without VA'!C145)-1","v":3.0379239458921736E-2},{"$f":"(1+'Curves without VA'!P145)*(1+J145)/(1+'Curves without VA'!D145)-1","v":2.5677424898122192E-2},{"$f":"(1+'Curves without VA'!Q145)*(1+K145)/(1+'Curves without VA'!E145)-1","v":2.9082895889786631E-2},{"$f":"(1+'Curves without VA'!R145)*(1+L145)/(1+'Curves without VA'!F145)-1","v":2.4884094487151787E-2},{"$f":"(1+'Curves without VA'!S145)*(1+M145)/(1+'Curves without VA'!G145)-1","v":2.9502766640339351E-2}]
[133,{"$f":"($A146*LN(1+'Curves without VA'!B146)-IF(ISNUMBER($A145),$A145*LN(1+'Curves without VA'!B145),0)+($A146<=B$2)*LN(1+B$5/10000)+IF(ISNUMBER($A145),$A145*B145))/$A146","v":3.2772385123945695E-2},{"$f":"($A146*LN(1+'Curves without VA'!C146)-IF(ISNUMBER($A145),$A145*LN(1+'Curves without VA'!C145),0)+($A146<=C$2)*LN(1+C$5/10000)+IF(ISNUMBER($A145),$A145*C145))/$A146","v":3.3831570458860927E-2},{"$f":"($A146*LN(1+'Curves without VA'!D146)-IF(ISNUMBER($A145),$A145*LN(1+'Curves without VA'!D145),0)+($A146<=D$2)*LN(1+D$5/10000)+IF(ISNUMBER($A145),$A145*D145))/$A146","v":3.1661243280403623E-2},{"$f":"($A146*LN(1+'Curves without VA'!E146)-IF(ISNUMBER($A145),$A145*LN(1+'Curves without VA'!E145),0)+($A146<=E$2)*LN(1+E$5/10000)+IF(ISNUMBER($A145),$A145*E145))/$A146","v":3.5860205337265909E-2},{"$f":"($A146*LN(1+'Curves without VA'!F146)-IF(ISNUMBER($A145),$A145*LN(1+'Curves without VA'!F145),0)+($A146<=F$2)*LN(1+F$5/10000)+IF(ISNUMBER($A145),$A145*F145))/$A146","v":3.7859544953303917E-2},{"$f":"($A146*LN(1+'Curves without VA'!G146)-IF(ISNUMBER($A145),$A145*LN(1+'Curves without VA'!G145),0)+($A146<=G$2)*LN(1+G$5/10000)+IF(ISNUMBER($A145),$A145*G145))/$A146","v":3.6706724568822617E-2},3.3385482961010293E-2,3.5546048808942299E-2,3.2673852207616871E-2,3.7385206198847332E-2,3.9052068064905354E-2,3.8422668820579764E-2,{"$f":"(1+'Curves without VA'!H146)*(1+H146)/(1+'Curves without VA'!B146)-1","v":3.7658949889794124E-2},{"$f":"(1+'Curves without VA'!I146)*(1+I146)/(1+'Curves without VA'!C146)-1","v":4.1430075625406459E-2},{"$f":"(1+'Curves without VA'!J146)*(1+J146)/(1+'Curves without VA'!D146)-1","v":3.7582503923791144E-2},{"$f":"(1+'Curves without VA'!K146)*(1+K146)/(1+'Curves without VA'!E146)-1","v":4.2738210696318779E-2},{"$f":"(1+'Curves without VA'!L146)*(1+L146)/(1+'Curves without VA'!F146)-1","v":4.7007955580848915E-2},{"$f":"(1+'Curves without VA'!M146)*(1+M146)/(1+'Curves without VA'!G146)-1","v":4.4405654848731935E-2},{"$f":"(1+'Curves without VA'!N146)*(1+H146)/(1+'Curves without VA'!B146)-1","v":2.7465063503179898E-2},{"$f":"(1+'Curves without VA'!O146)*(1+I146)/(1+'Curves without VA'!C146)-1","v":3.038766171008711E-2},{"$f":"(1+'Curves without VA'!P146)*(1+J146)/(1+'Curves without VA'!D146)-1","v":2.5713599648457652E-2},{"$f":"(1+'Curves without VA'!Q146)*(1+K146)/(1+'Curves without VA'!E146)-1","v":2.9101048100698135E-2},{"$f":"(1+'Curves without VA'!R146)*(1+L146)/(1+'Curves without VA'!F146)-1","v":2.4933658566114403E-2},{"$f":"(1+'Curves without VA'!S146)*(1+M146)/(1+'Curves without VA'!G146)-1","v":2.9517769049982601E-2}]
[134,{"$f":"($A147*LN(1+'Curves without VA'!B147)-IF(ISNUMBER($A146),$A146*LN(1+'Curves without VA'!B146),0)+($A147<=B$2)*LN(1+B$5/10000)+IF(ISNUMBER($A146),$A146*B146))/$A147","v":3.2770107543192838E-2},{"$f":"($A147*LN(1+'Curves without VA'!C147)-IF(ISNUMBER($A146),$A146*LN(1+'Curves without VA'!C146),0)+($A147<=C$2)*LN(1+C$5/10000)+IF(ISNUMBER($A146),$A146*C146))/$A147","v":3.3821388512571493E-2},{"$f":"($A147*LN(1+'Curves without VA'!D147)-IF(ISNUMBER($A146),$A146*LN(1+'Curves without VA'!D146),0)+($A147<=D$2)*LN(1+D$5/10000)+IF(ISNUMBER($A146),$A146*D146))/$A147","v":3.1660030088497951E-2},{"$f":"($A147*LN(1+'Curves without VA'!E147)-IF(ISNUMBER($A146),$A146*LN(1+'Curves without VA'!E146),0)+($A147<=E$2)*LN(1+E$5/10000)+IF(ISNUMBER($A146),$A146*E146))/$A147","v":3.5834884309604763E-2},{"$f":"($A147*LN(1+'Curves without VA'!F147)-IF(ISNUMBER($A146),$A146*LN(1+'Curves without VA'!F146),0)+($A147<=F$2)*LN(1+F$5/10000)+IF(ISNUMBER($A146),$A146*F146))/$A147","v":3.7819303330618413E-2},{"$f":"($A147*LN(1+'Curves without VA'!G147)-IF(ISNUMBER($A146),$A146*LN(1+'Curves without VA'!G146),0)+($A147<=G$2)*LN(1+G$5/10000)+IF(ISNUMBER($A146),$A146*G146))/$A147","v":3.6675086233463286E-2},3.3382605712375391E-2,3.5527025490609487E-2,3.26688225245646E-2,3.735241300063441E-2,3.9006777374057666E-2,3.838209716927854E-2,{"$f":"(1+'Curves without VA'!H147)*(1+H147)/(1+'Curves without VA'!B147)-1","v":3.7635340169962284E-2},{"$f":"(1+'Curves without VA'!I147)*(1+I147)/(1+'Curves without VA'!C147)-1","v":4.1378187875805272E-2},{"$f":"(1+'Curves without VA'!J147)*(1+J147)/(1+'Curves without VA'!D147)-1","v":3.7551979542380876E-2},{"$f":"(1+'Curves without VA'!K147)*(1+K147)/(1+'Curves without VA'!E147)-1","v":4.2676491198282207E-2},{"$f":"(1+'Curves without VA'!L147)*(1+L147)/(1+'Curves without VA'!F147)-1","v":4.6914070794376261E-2},{"$f":"(1+'Curves without VA'!M147)*(1+M147)/(1+'Curves without VA'!G147)-1","v":4.4331384551604902E-2},{"$f":"(1+'Curves without VA'!N147)*(1+H147)/(1+'Curves without VA'!B147)-1","v":2.7495115860851405E-2},{"$f":"(1+'Curves without VA'!O147)*(1+I147)/(1+'Curves without VA'!C147)-1","v":3.0395958320693417E-2},{"$f":"(1+'Curves without VA'!P147)*(1+J147)/(1+'Curves without VA'!D147)-1","v":2.574923581480637E-2},{"$f":"(1+'Curves without VA'!Q147)*(1+K147)/(1+'Curves without VA'!E147)-1","v":2.9118929732798726E-2},{"$f":"(1+'Curves without VA'!R147)*(1+L147)/(1+'Curves without VA'!F147)-1","v":2.4982487387614771E-2},{"$f":"(1+'Curves without VA'!S147)*(1+M147)/(1+'Curves without VA'!G147)-1","v":2.953254775106573E-2}]
[135,{"$f":"($A148*LN(1+'Curves without VA'!B148)-IF(ISNUMBER($A147),$A147*LN(1+'Curves without VA'!B147),0)+($A148<=B$2)*LN(1+B$5/10000)+IF(ISNUMBER($A147),$A147*B147))/$A148","v":3.2767863705020821E-2},{"$f":"($A148*LN(1+'Curves without VA'!C148)-IF(ISNUMBER($A147),$A147*LN(1+'Curves without VA'!C147),0)+($A148<=C$2)*LN(1+C$5/10000)+IF(ISNUMBER($A147),$A147*C147))/$A148","v":3.3811357410302265E-2},{"$f":"($A148*LN(1+'Curves without VA'!D148)-IF(ISNUMBER($A147),$A147*LN(1+'Curves without VA'!D147),0)+($A148<=D$2)*LN(1+D$5/10000)+IF(ISNUMBER($A147),$A147*D147))/$A148","v":3.1658834863242842E-2},{"$f":"($A148*LN(1+'Curves without VA'!E148)-IF(ISNUMBER($A147),$A147*LN(1+'Curves without VA'!E147),0)+($A148<=E$2)*LN(1+E$5/10000)+IF(ISNUMBER($A147),$A147*E147))/$A148","v":3.5809938410213793E-2},{"$f":"($A148*LN(1+'Curves without VA'!F148)-IF(ISNUMBER($A147),$A147*LN(1+'Curves without VA'!F147),0)+($A148<=F$2)*LN(1+F$5/10000)+IF(ISNUMBER($A147),$A147*F147))/$A148","v":3.7779657897577798E-2},{"$f":"($A148*LN(1+'Curves without VA'!G148)-IF(ISNUMBER($A147),$A147*LN(1+'Curves without VA'!G147),0)+($A148<=G$2)*LN(1+G$5/10000)+IF(ISNUMBER($A147),$A147*G147))/$A148","v":3.6643916616117718E-2},3.3379771095147337E-2,3.5508284313327199E-2,3.2663867307542338E-2,3.7320106531044672E-2,3.8962159064259927E-2,3.8342127998820308E-2,{"$f":"(1+'Curves without VA'!H148)*(1+H148)/(1+'Curves without VA'!B148)-1","v":3.7612080726211472E-2},{"$f":"(1+'Curves without VA'!I148)*(1+I148)/(1+'Curves without VA'!C148)-1","v":4.1327071281080707E-2},{"$f":"(1+'Curves without VA'!J148)*(1+J148)/(1+'Curves without VA'!D148)-1","v":3.7521908075204502E-2},{"$f":"(1+'Curves without VA'!K148)*(1+K148)/(1+'Curves without VA'!E148)-1","v":4.261568942815841E-2},{"$f":"(1+'Curves without VA'!L148)*(1+L148)/(1+'Curves without VA'!F148)-1","v":4.6821583472904438E-2},{"$f":"(1+'Curves without VA'!M148)*(1+M148)/(1+'Curves without VA'!G148)-1","v":4.4258219445789448E-2},{"$f":"(1+'Curves without VA'!N148)*(1+H148)/(1+'Curves without VA'!B148)-1","v":2.7524723917688121E-2},{"$f":"(1+'Curves without VA'!O148)*(1+I148)/(1+'Curves without VA'!C148)-1","v":3.0404132081541135E-2},{"$f":"(1+'Curves without VA'!P148)*(1+J148)/(1+'Curves without VA'!D148)-1","v":2.5784345328907943E-2},{"$f":"(1+'Curves without VA'!Q148)*(1+K148)/(1+'Curves without VA'!E148)-1","v":2.9136546788262274E-2},{"$f":"(1+'Curves without VA'!R148)*(1+L148)/(1+'Curves without VA'!F148)-1","v":2.5030597015942568E-2},{"$f":"(1+'Curves without VA'!S148)*(1+M148)/(1+'Curves without VA'!G148)-1","v":2.9547107710772513E-2}]
[136,{"$f":"($A149*LN(1+'Curves without VA'!B149)-IF(ISNUMBER($A148),$A148*LN(1+'Curves without VA'!B148),0)+($A149<=B$2)*LN(1+B$5/10000)+IF(ISNUMBER($A148),$A148*B148))/$A149","v":3.2765652865041531E-2},{"$f":"($A149*LN(1+'Curves without VA'!C149)-IF(ISNUMBER($A148),$A148*LN(1+'Curves without VA'!C148),0)+($A149<=C$2)*LN(1+C$5/10000)+IF(ISNUMBER($A148),$A148*C148))/$A149","v":3.3801473824573207E-2},{"$f":"($A149*LN(1+'Curves without VA'!D149)-IF(ISNUMBER($A148),$A148*LN(1+'Curves without VA'!D148),0)+($A149<=D$2)*LN(1+D$5/10000)+IF(ISNUMBER($A148),$A148*D148))/$A149","v":3.165765720899362E-2},{"$f":"($A149*LN(1+'Curves without VA'!E149)-IF(ISNUMBER($A148),$A148*LN(1+'Curves without VA'!E148),0)+($A149<=E$2)*LN(1+E$5/10000)+IF(ISNUMBER($A148),$A148*E148))/$A149","v":3.5785359364004225E-2},{"$f":"($A149*LN(1+'Curves without VA'!F149)-IF(ISNUMBER($A148),$A148*LN(1+'Curves without VA'!F148),0)+($A149<=F$2)*LN(1+F$5/10000)+IF(ISNUMBER($A148),$A148*F148))/$A149","v":3.7740595501134351E-2},{"$f":"($A149*LN(1+'Curves without VA'!G149)-IF(ISNUMBER($A148),$A148*LN(1+'Curves without VA'!G148),0)+($A149<=G$2)*LN(1+G$5/10000)+IF(ISNUMBER($A148),$A148*G148))/$A149","v":3.6613205377217746E-2},3.3376978168997207E-2,3.548981904876447E-2,3.2658984920812317E-2,3.7288276042599877E-2,3.891819831533061E-2,3.8302747998721687E-2,{"$f":"(1+'Curves without VA'!H149)*(1+H149)/(1+'Curves without VA'!B149)-1","v":3.7589163822713934E-2},{"$f":"(1+'Curves without VA'!I149)*(1+I149)/(1+'Curves without VA'!C149)-1","v":4.1276708783331451E-2},{"$f":"(1+'Curves without VA'!J149)*(1+J149)/(1+'Curves without VA'!D149)-1","v":3.7492279530566108E-2},{"$f":"(1+'Curves without VA'!K149)*(1+K149)/(1+'Curves without VA'!E149)-1","v":4.2555785085004461E-2},{"$f":"(1+'Curves without VA'!L149)*(1+L149)/(1+'Curves without VA'!F149)-1","v":4.6730462780383508E-2},{"$f":"(1+'Curves without VA'!M149)*(1+M149)/(1+'Curves without VA'!G149)-1","v":4.4186135067025178E-2},{"$f":"(1+'Curves without VA'!N149)*(1+H149)/(1+'Curves without VA'!B149)-1","v":2.7553897449477116E-2},{"$f":"(1+'Curves without VA'!O149)*(1+I149)/(1+'Curves without VA'!C149)-1","v":3.0412185701361949E-2},{"$f":"(1+'Curves without VA'!P149)*(1+J149)/(1+'Curves without VA'!D149)-1","v":2.5818939773332827E-2},{"$f":"(1+'Curves without VA'!Q149)*(1+K149)/(1+'Curves without VA'!E149)-1","v":2.9153905093323607E-2},{"$f":"(1+'Curves without VA'!R149)*(1+L149)/(1+'Curves without VA'!F149)-1","v":2.5078003067471322E-2},{"$f":"(1+'Curves without VA'!S149)*(1+M149)/(1+'Curves without VA'!G149)-1","v":2.9561453750269306E-2}]
[137,{"$f":"($A150*LN(1+'Curves without VA'!B150)-IF(ISNUMBER($A149),$A149*LN(1+'Curves without VA'!B149),0)+($A150<=B$2)*LN(1+B$5/10000)+IF(ISNUMBER($A149),$A149*B149))/$A150","v":3.2763474300607699E-2},{"$f":"($A150*LN(1+'Curves without VA'!C150)-IF(ISNUMBER($A149),$A149*LN(1+'Curves without VA'!C149),0)+($A150<=C$2)*LN(1+C$5/10000)+IF(ISNUMBER($A149),$A149*C149))/$A150","v":3.3791734525060825E-2},{"$f":"($A150*LN(1+'Curves without VA'!D150)-IF(ISNUMBER($A149),$A149*LN(1+'Curves without VA'!D149),0)+($A150<=D$2)*LN(1+D$5/10000)+IF(ISNUMBER($A149),$A149*D149))/$A150","v":3.1656496741587221E-2},{"$f":"($A150*LN(1+'Curves without VA'!E150)-IF(ISNUMBER($A149),$A149*LN(1+'Curves without VA'!E149),0)+($A150<=E$2)*LN(1+E$5/10000)+IF(ISNUMBER($A149),$A149*E149))/$A150","v":3.5761139137517321E-2},{"$f":"($A150*LN(1+'Curves without VA'!F150)-IF(ISNUMBER($A149),$A149*LN(1+'Curves without VA'!F149),0)+($A150<=F$2)*LN(1+F$5/10000)+IF(ISNUMBER($A149),$A149*F149))/$A150","v":3.7702103372458586E-2},{"$f":"($A150*LN(1+'Curves without VA'!G150)-IF(ISNUMBER($A149),$A149*LN(1+'Curves without VA'!G149),0)+($A150<=G$2)*LN(1+G$5/10000)+IF(ISNUMBER($A149),$A149*G149))/$A150","v":3.6582942479101703E-2},3.3374226021030795E-2,3.5471623650361606E-2,3.2654173775642947E-2,3.7256911101080536E-2,3.8874880735425332E-2,3.8263944246712533E-2,{"$f":"(1+'Curves without VA'!H150)*(1+H150)/(1+'Curves without VA'!B150)-1","v":3.7566581949594946E-2},{"$f":"(1+'Curves without VA'!I150)*(1+I150)/(1+'Curves without VA'!C150)-1","v":4.1227083823444977E-2},{"$f":"(1+'Curves without VA'!J150)*(1+J150)/(1+'Curves without VA'!D150)-1","v":3.7463084207161712E-2},{"$f":"(1+'Curves without VA'!K150)*(1+K150)/(1+'Curves without VA'!E150)-1","v":4.2496758460659922E-2},{"$f":"(1+'Curves without VA'!L150)*(1+L150)/(1+'Curves without VA'!F150)-1","v":4.6640678768607557E-2},{"$f":"(1+'Curves without VA'!M150)*(1+M150)/(1+'Curves without VA'!G150)-1","v":4.4115107665693154E-2},{"$f":"(1+'Curves without VA'!N150)*(1+H150)/(1+'Curves without VA'!B150)-1","v":2.7582645947761497E-2},{"$f":"(1+'Curves without VA'!O150)*(1+I150)/(1+'Curves without VA'!C150)-1","v":3.0420121809819012E-2},{"$f":"(1+'Curves without VA'!P150)*(1+J150)/(1+'Curves without VA'!D150)-1","v":2.5853030394095589E-2},{"$f":"(1+'Curves without VA'!Q150)*(1+K150)/(1+'Curves without VA'!E150)-1","v":2.9171010304645639E-2},{"$f":"(1+'Curves without VA'!R150)*(1+L150)/(1+'Curves without VA'!F150)-1","v":2.5124720724566396E-2},{"$f":"(1+'Curves without VA'!S150)*(1+M150)/(1+'Curves without VA'!G150)-1","v":2.957559055003478E-2}]
[138,{"$f":"($A151*LN(1+'Curves without VA'!B151)-IF(ISNUMBER($A150),$A150*LN(1+'Curves without VA'!B150),0)+($A151<=B$2)*LN(1+B$5/10000)+IF(ISNUMBER($A150),$A150*B150))/$A151","v":3.2761327310024312E-2},{"$f":"($A151*LN(1+'Curves without VA'!C151)-IF(ISNUMBER($A150),$A150*LN(1+'Curves without VA'!C150),0)+($A151<=C$2)*LN(1+C$5/10000)+IF(ISNUMBER($A150),$A150*C150))/$A151","v":3.3782136375078001E-2},{"$f":"($A151*LN(1+'Curves without VA'!D151)-IF(ISNUMBER($A150),$A150*LN(1+'Curves without VA'!D150),0)+($A151<=D$2)*LN(1+D$5/10000)+IF(ISNUMBER($A150),$A150*D150))/$A151","v":3.1655353087933304E-2},{"$f":"($A151*LN(1+'Curves without VA'!E151)-IF(ISNUMBER($A150),$A150*LN(1+'Curves without VA'!E150),0)+($A151<=E$2)*LN(1+E$5/10000)+IF(ISNUMBER($A150),$A150*E150))/$A151","v":3.5737269930165995E-2},{"$f":"($A151*LN(1+'Curves without VA'!F151)-IF(ISNUMBER($A150),$A150*LN(1+'Curves without VA'!F150),0)+($A151<=F$2)*LN(1+F$5/10000)+IF(ISNUMBER($A150),$A150*F150))/$A151","v":3.7664169112997081E-2},{"$f":"($A151*LN(1+'Curves without VA'!G151)-IF(ISNUMBER($A150),$A150*LN(1+'Curves without VA'!G150),0)+($A151<=G$2)*LN(1+G$5/10000)+IF(ISNUMBER($A150),$A150*G150))/$A151","v":3.6553118175072001E-2},3.3371513764797411E-2,3.5453692246765867E-2,3.2649432328685446E-2,3.722600157427669E-2,3.8832192346052397E-2,3.8225704194780663E-2,{"$f":"(1+'Curves without VA'!H151)*(1+H151)/(1+'Curves without VA'!B151)-1","v":3.7544327814760026E-2},{"$f":"(1+'Curves without VA'!I151)*(1+I151)/(1+'Curves without VA'!C151)-1","v":4.1178180323056424E-2},{"$f":"(1+'Curves without VA'!J151)*(1+J151)/(1+'Curves without VA'!D151)-1","v":3.7434312683735094E-2},{"$f":"(1+'Curves without VA'!K151)*(1+K151)/(1+'Curves without VA'!E151)-1","v":4.2438590418420352E-2},{"$f":"(1+'Curves without VA'!L151)*(1+L151)/(1+'Curves without VA'!F151)-1","v":4.6552202346693994E-2},{"$f":"(1+'Curves without VA'!M151)*(1+M151)/(1+'Curves without VA'!G151)-1","v":4.4045114181111789E-2},{"$f":"(1+'Curves without VA'!N151)*(1+H151)/(1+'Curves without VA'!B151)-1","v":2.7610978630056682E-2},{"$f":"(1+'Curves without VA'!O151)*(1+I151)/(1+'Curves without VA'!C151)-1","v":3.0427942960369547E-2},{"$f":"(1+'Curves without VA'!P151)*(1+J151)/(1+'Curves without VA'!D151)-1","v":2.5886628112735455E-2},{"$f":"(1+'Curves without VA'!Q151)*(1+K151)/(1+'Curves without VA'!E151)-1","v":2.9187867915426491E-2},{"$f":"(1+'Curves without VA'!R151)*(1+L151)/(1+'Curves without VA'!F151)-1","v":2.5170764749142149E-2},{"$f":"(1+'Curves without VA'!S151)*(1+M151)/(1+'Curves without VA'!G151)-1","v":2.9589522654959621E-2}]
[139,{"$f":"($A152*LN(1+'Curves without VA'!B152)-IF(ISNUMBER($A151),$A151*LN(1+'Curves without VA'!B151),0)+($A152<=B$2)*LN(1+B$5/10000)+IF(ISNUMBER($A151),$A151*B151))/$A152","v":3.2759211211794335E-2},{"$f":"($A152*LN(1+'Curves without VA'!C152)-IF(ISNUMBER($A151),$A151*LN(1+'Curves without VA'!C151),0)+($A152<=C$2)*LN(1+C$5/10000)+IF(ISNUMBER($A151),$A151*C151))/$A152","v":3.3772676328205145E-2},{"$f":"($A152*LN(1+'Curves without VA'!D152)-IF(ISNUMBER($A151),$A151*LN(1+'Curves without VA'!D151),0)+($A152<=D$2)*LN(1+D$5/10000)+IF(ISNUMBER($A151),$A151*D151))/$A152","v":3.1654225885622479E-2},{"$f":"($A152*LN(1+'Curves without VA'!E152)-IF(ISNUMBER($A151),$A151*LN(1+'Curves without VA'!E151),0)+($A152<=E$2)*LN(1+E$5/10000)+IF(ISNUMBER($A151),$A151*E151))/$A152","v":3.571374416585682E-2},{"$f":"($A152*LN(1+'Curves without VA'!F152)-IF(ISNUMBER($A151),$A151*LN(1+'Curves without VA'!F151),0)+($A152<=F$2)*LN(1+F$5/10000)+IF(ISNUMBER($A151),$A151*F151))/$A152","v":3.7626780681138013E-2},{"$f":"($A152*LN(1+'Curves without VA'!G152)-IF(ISNUMBER($A151),$A151*LN(1+'Curves without VA'!G151),0)+($A152<=G$2)*LN(1+G$5/10000)+IF(ISNUMBER($A151),$A151*G151))/$A152","v":3.6523722998928983E-2},3.3368840539340194E-2,3.5436019135550056E-2,3.264475908041109E-2,3.7195537621209196E-2,3.8790119567677639E-2,3.8188015655804097E-2,{"$f":"(1+'Curves without VA'!H152)*(1+H152)/(1+'Curves without VA'!B152)-1","v":3.7522394336071629E-2},{"$f":"(1+'Curves without VA'!I152)*(1+I152)/(1+'Curves without VA'!C152)-1","v":4.1129982667279741E-2},{"$f":"(1+'Curves without VA'!J152)*(1+J152)/(1+'Curves without VA'!D152)-1","v":3.740595580915862E-2},{"$f":"(1+'Curves without VA'!K152)*(1+K152)/(1+'Curves without VA'!E152)-1","v":4.2381262372605422E-2},{"$f":"(1+'Curves without VA'!L152)*(1+L152)/(1+'Curves without VA'!F152)-1","v":4.646500525169861E-2},{"$f":"(1+'Curves without VA'!M152)*(1+M152)/(1+'Curves without VA'!G152)-1","v":4.3976132216909436E-2},{"$f":"(1+'Curves without VA'!N152)*(1+H152)/(1+'Curves without VA'!B152)-1","v":2.7638904449627688E-2},{"$f":"(1+'Curves without VA'!O152)*(1+I152)/(1+'Curves without VA'!C152)-1","v":3.0435651633007765E-2},{"$f":"(1+'Curves without VA'!P152)*(1+J152)/(1+'Curves without VA'!D152)-1","v":2.5919743537881512E-2},{"$f":"(1+'Curves without VA'!Q152)*(1+K152)/(1+'Curves without VA'!E152)-1","v":2.9204483261237479E-2},{"$f":"(1+'Curves without VA'!R152)*(1+L152)/(1+'Curves without VA'!F152)-1","v":2.5216149495848938E-2},{"$f":"(1+'Curves without VA'!S152)*(1+M152)/(1+'Curves without VA'!G152)-1","v":2.9603254479223073E-2}]
[140,{"$f":"($A153*LN(1+'Curves without VA'!B153)-IF(ISNUMBER($A152),$A152*LN(1+'Curves without VA'!B152),0)+($A153<=B$2)*LN(1+B$5/10000)+IF(ISNUMBER($A152),$A152*B152))/$A153","v":3.275712534389727E-2},{"$f":"($A153*LN(1+'Curves without VA'!C153)-IF(ISNUMBER($A152),$A152*LN(1+'Curves without VA'!C152),0)+($A153<=C$2)*LN(1+C$5/10000)+IF(ISNUMBER($A152),$A152*C152))/$A153","v":3.3763351425065667E-2},{"$f":"($A153*LN(1+'Curves without VA'!D153)-IF(ISNUMBER($A152),$A152*LN(1+'Curves without VA'!D152),0)+($A153<=D$2)*LN(1+D$5/10000)+IF(ISNUMBER($A152),$A152*D152))/$A153","v":3.1653114782550652E-2},{"$f":"($A153*LN(1+'Curves without VA'!E153)-IF(ISNUMBER($A152),$A152*LN(1+'Curves without VA'!E152),0)+($A153<=E$2)*LN(1+E$5/10000)+IF(ISNUMBER($A152),$A152*E152))/$A153","v":3.5690554484971077E-2},{"$f":"($A153*LN(1+'Curves without VA'!F153)-IF(ISNUMBER($A152),$A152*LN(1+'Curves without VA'!F152),0)+($A153<=F$2)*LN(1+F$5/10000)+IF(ISNUMBER($A152),$A152*F152))/$A153","v":3.7589926379445783E-2},{"$f":"($A153*LN(1+'Curves without VA'!G153)-IF(ISNUMBER($A152),$A152*LN(1+'Curves without VA'!G152),0)+($A153<=G$2)*LN(1+G$5/10000)+IF(ISNUMBER($A152),$A152*G152))/$A153","v":3.6494747754949937E-2},3.3366205508288393E-2,3.5418598777195331E-2,3.2640152573607972E-2,3.7165509681805542E-2,3.8748649205893493E-2,3.8150866790744642E-2,{"$f":"(1+'Curves without VA'!H153)*(1+H153)/(1+'Curves without VA'!B153)-1","v":3.7500774633859146E-2},{"$f":"(1+'Curves without VA'!I153)*(1+I153)/(1+'Curves without VA'!C153)-1","v":4.1082475688174469E-2},{"$f":"(1+'Curves without VA'!J153)*(1+J153)/(1+'Curves without VA'!D153)-1","v":3.7378004692922406E-2},{"$f":"(1+'Curves without VA'!K153)*(1+K153)/(1+'Curves without VA'!E153)-1","v":4.2324756268988351E-2},{"$f":"(1+'Curves without VA'!L153)*(1+L153)/(1+'Curves without VA'!F153)-1","v":4.6379060020326879E-2},{"$f":"(1+'Curves without VA'!M153)*(1+M153)/(1+'Curves without VA'!G153)-1","v":4.3908140017433928E-2},{"$f":"(1+'Curves without VA'!N153)*(1+H153)/(1+'Curves without VA'!B153)-1","v":2.7666432104857419E-2},{"$f":"(1+'Curves without VA'!O153)*(1+I153)/(1+'Curves without VA'!C153)-1","v":3.044325023689054E-2},{"$f":"(1+'Curves without VA'!P153)*(1+J153)/(1+'Curves without VA'!D153)-1","v":2.5952386976333397E-2},{"$f":"(1+'Curves without VA'!Q153)*(1+K153)/(1+'Curves without VA'!E153)-1","v":2.9220861525618869E-2},{"$f":"(1+'Curves without VA'!R153)*(1+L153)/(1+'Curves without VA'!F153)-1","v":2.5260888924897973E-2},{"$f":"(1+'Curves without VA'!S153)*(1+M153)/(1+'Curves without VA'!G153)-1","v":2.9616790310961427E-2}]
[141,{"$f":"($A154*LN(1+'Curves without VA'!B154)-IF(ISNUMBER($A153),$A153*LN(1+'Curves without VA'!B153),0)+($A154<=B$2)*LN(1+B$5/10000)+IF(ISNUMBER($A153),$A153*B153))/$A154","v":3.2755069063097726E-2},{"$f":"($A154*LN(1+'Curves without VA'!C154)-IF(ISNUMBER($A153),$A153*LN(1+'Curves without VA'!C153),0)+($A154<=C$2)*LN(1+C$5/10000)+IF(ISNUMBER($A153),$A153*C153))/$A154","v":3.3754158790239436E-2},{"$f":"($A154*LN(1+'Curves without VA'!D154)-IF(ISNUMBER($A153),$A153*LN(1+'Curves without VA'!D153),0)+($A154<=D$2)*LN(1+D$5/10000)+IF(ISNUMBER($A153),$A153*D153))/$A154","v":3.165201943655814E-2},{"$f":"($A154*LN(1+'Curves without VA'!E154)-IF(ISNUMBER($A153),$A153*LN(1+'Curves without VA'!E153),0)+($A154<=E$2)*LN(1+E$5/10000)+IF(ISNUMBER($A153),$A153*E153))/$A154","v":3.5667693736686143E-2},{"$f":"($A154*LN(1+'Curves without VA'!F154)-IF(ISNUMBER($A153),$A153*LN(1+'Curves without VA'!F153),0)+($A154<=F$2)*LN(1+F$5/10000)+IF(ISNUMBER($A153),$A153*F153))/$A154","v":3.7553594842444596E-2},{"$f":"($A154*LN(1+'Curves without VA'!G154)-IF(ISNUMBER($A153),$A153*LN(1+'Curves without VA'!G153),0)+($A154<=G$2)*LN(1+G$5/10000)+IF(ISNUMBER($A153),$A153*G153))/$A154","v":3.6466183508296508E-2},3.3363607858985844E-2,3.5401425789330032E-2,3.2635611391936381E-2,3.7135908467003542E-2,3.8707768438132062E-2,3.8114246096375481E-2,{"$f":"(1+'Curves without VA'!H154)*(1+H154)/(1+'Curves without VA'!B154)-1","v":3.7479462023746635E-2},{"$f":"(1+'Curves without VA'!I154)*(1+I154)/(1+'Curves without VA'!C154)-1","v":4.1035644648908187E-2},{"$f":"(1+'Curves without VA'!J154)*(1+J154)/(1+'Curves without VA'!D154)-1","v":3.7350450696013393E-2},{"$f":"(1+'Curves without VA'!K154)*(1+K154)/(1+'Curves without VA'!E154)-1","v":4.2269054566040465E-2},{"$f":"(1+'Curves without VA'!L154)*(1+L154)/(1+'Curves without VA'!F154)-1","v":4.6294339961707509E-2},{"$f":"(1+'Curves without VA'!M154)*(1+M154)/(1+'Curves without VA'!G154)-1","v":4.3841116445144435E-2},{"$f":"(1+'Curves without VA'!N154)*(1+H154)/(1+'Curves without VA'!B154)-1","v":2.7693570048223259E-2},{"$f":"(1+'Curves without VA'!O154)*(1+I154)/(1+'Curves without VA'!C154)-1","v":3.0450741112849178E-2},{"$f":"(1+'Curves without VA'!P154)*(1+J154)/(1+'Curves without VA'!D154)-1","v":2.5984568443679468E-2},{"$f":"(1+'Curves without VA'!Q154)*(1+K154)/(1+'Curves without VA'!E154)-1","v":2.923700774543958E-2},{"$f":"(1+'Curves without VA'!R154)*(1+L154)/(1+'Curves without VA'!F154)-1","v":2.5304996614510245E-2},{"$f":"(1+'Curves without VA'!S154)*(1+M154)/(1+'Curves without VA'!G154)-1","v":2.9630134316737999E-2}]
[142,{"$f":"($A155*LN(1+'Curves without VA'!B155)-IF(ISNUMBER($A154),$A154*LN(1+'Curves without VA'!B154),0)+($A155<=B$2)*LN(1+B$5/10000)+IF(ISNUMBER($A154),$A154*B154))/$A155","v":3.2753041744282889E-2},{"$f":"($A155*LN(1+'Curves without VA'!C155)-IF(ISNUMBER($A154),$A154*LN(1+'Curves without VA'!C154),0)+($A155<=C$2)*LN(1+C$5/10000)+IF(ISNUMBER($A154),$A154*C154))/$A155","v":3.3745095629307012E-2},{"$f":"($A155*LN(1+'Curves without VA'!D155)-IF(ISNUMBER($A154),$A154*LN(1+'Curves without VA'!D154),0)+($A155<=D$2)*LN(1+D$5/10000)+IF(ISNUMBER($A154),$A154*D154))/$A155","v":3.1650939515085082E-2},{"$f":"($A155*LN(1+'Curves without VA'!E155)-IF(ISNUMBER($A154),$A154*LN(1+'Curves without VA'!E154),0)+($A155<=E$2)*LN(1+E$5/10000)+IF(ISNUMBER($A154),$A154*E154))/$A155","v":3.56451549716231E-2},{"$f":"($A155*LN(1+'Curves without VA'!F155)-IF(ISNUMBER($A154),$A154*LN(1+'Curves without VA'!F154),0)+($A155<=F$2)*LN(1+F$5/10000)+IF(ISNUMBER($A154),$A154*F154))/$A155","v":3.7517775024916329E-2},{"$f":"($A155*LN(1+'Curves without VA'!G155)-IF(ISNUMBER($A154),$A154*LN(1+'Curves without VA'!G154),0)+($A155<=G$2)*LN(1+G$5/10000)+IF(ISNUMBER($A154),$A154*G154))/$A155","v":3.6438021575827526E-2},3.3361046801659189E-2,3.5384494941208988E-2,3.2631134158538799E-2,3.7106724949266923E-2,3.8667464800898221E-2,3.8078142393519032E-2,{"$f":"(1+'Curves without VA'!H155)*(1+H155)/(1+'Curves without VA'!B155)-1","v":3.7458450009785427E-2},{"$f":"(1+'Curves without VA'!I155)*(1+I155)/(1+'Curves without VA'!C155)-1","v":4.0989475228585759E-2},{"$f":"(1+'Curves without VA'!J155)*(1+J155)/(1+'Curves without VA'!D155)-1","v":3.7323285422166341E-2},{"$f":"(1+'Curves without VA'!K155)*(1+K155)/(1+'Curves without VA'!E155)-1","v":4.2214140216956464E-2},{"$f":"(1+'Curves without VA'!L155)*(1+L155)/(1+'Curves without VA'!F155)-1","v":4.621081913118763E-2},{"$f":"(1+'Curves without VA'!M155)*(1+M155)/(1+'Curves without VA'!G155)-1","v":4.3775040958938582E-2},{"$f":"(1+'Curves without VA'!N155)*(1+H155)/(1+'Curves without VA'!B155)-1","v":2.7720326494896641E-2},{"$f":"(1+'Curves without VA'!O155)*(1+I155)/(1+'Curves without VA'!C155)-1","v":3.0458126535794383E-2},{"$f":"(1+'Curves without VA'!P155)*(1+J155)/(1+'Curves without VA'!D155)-1","v":2.6016297674471334E-2},{"$f":"(1+'Curves without VA'!Q155)*(1+K155)/(1+'Curves without VA'!E155)-1","v":2.9252926816034197E-2},{"$f":"(1+'Curves without VA'!R155)*(1+L155)/(1+'Curves without VA'!F155)-1","v":2.5348485772999751E-2},{"$f":"(1+'Curves without VA'!S155)*(1+M155)/(1+'Curves without VA'!G155)-1","v":2.9643290545824597E-2}]
[143,{"$f":"($A156*LN(1+'Curves without VA'!B156)-IF(ISNUMBER($A155),$A155*LN(1+'Curves without VA'!B155),0)+($A156<=B$2)*LN(1+B$5/10000)+IF(ISNUMBER($A155),$A155*B155))/$A156","v":3.2751042779829272E-2},{"$f":"($A156*LN(1+'Curves without VA'!C156)-IF(ISNUMBER($A155),$A155*LN(1+'Curves without VA'!C155),0)+($A156<=C$2)*LN(1+C$5/10000)+IF(ISNUMBER($A155),$A155*C155))/$A156","v":3.3736159226015312E-2},{"$f":"($A156*LN(1+'Curves without VA'!D156)-IF(ISNUMBER($A155),$A155*LN(1+'Curves without VA'!D155),0)+($A156<=D$2)*LN(1+D$5/10000)+IF(ISNUMBER($A155),$A155*D155))/$A156","v":3.1649874694839014E-2},{"$f":"($A156*LN(1+'Curves without VA'!E156)-IF(ISNUMBER($A155),$A155*LN(1+'Curves without VA'!E155),0)+($A156<=E$2)*LN(1+E$5/10000)+IF(ISNUMBER($A155),$A155*E155))/$A156","v":3.5622931434800727E-2},{"$f":"($A156*LN(1+'Curves without VA'!F156)-IF(ISNUMBER($A155),$A155*LN(1+'Curves without VA'!F155),0)+($A156<=F$2)*LN(1+F$5/10000)+IF(ISNUMBER($A155),$A155*F155))/$A156","v":3.7482456190692563E-2},{"$f":"($A156*LN(1+'Curves without VA'!G156)-IF(ISNUMBER($A155),$A155*LN(1+'Curves without VA'!G155),0)+($A156<=G$2)*LN(1+G$5/10000)+IF(ISNUMBER($A155),$A155*G155))/$A156","v":3.6410253517297438E-2},3.3358521568617183E-2,3.5367801148422418E-2,3.2626719534702531E-2,3.7077950353490596E-2,3.8627726177502097E-2,3.8042544815769741E-2,{"$f":"(1+'Curves without VA'!H156)*(1+H156)/(1+'Curves without VA'!B156)-1","v":3.7437732277865621E-2},{"$f":"(1+'Curves without VA'!I156)*(1+I156)/(1+'Curves without VA'!C156)-1","v":4.0943953507710962E-2},{"$f":"(1+'Curves without VA'!J156)*(1+J156)/(1+'Curves without VA'!D156)-1","v":3.7296500709468994E-2},{"$f":"(1+'Curves without VA'!K156)*(1+K156)/(1+'Curves without VA'!E156)-1","v":4.2159996652419984E-2},{"$f":"(1+'Curves without VA'!L156)*(1+L156)/(1+'Curves without VA'!F156)-1","v":4.6128472305116075E-2},{"$f":"(1+'Curves without VA'!M156)*(1+M156)/(1+'Curves without VA'!G156)-1","v":4.3709893593377069E-2},{"$f":"(1+'Curves without VA'!N156)*(1+H156)/(1+'Curves without VA'!B156)-1","v":2.774670943098978E-2},{"$f":"(1+'Curves without VA'!O156)*(1+I156)/(1+'Curves without VA'!C156)-1","v":3.0465408717023745E-2},{"$f":"(1+'Curves without VA'!P156)*(1+J156)/(1+'Curves without VA'!D156)-1","v":2.6047584131981161E-2},{"$f":"(1+'Curves without VA'!Q156)*(1+K156)/(1+'Curves without VA'!E156)-1","v":2.9268623496125912E-2},{"$f":"(1+'Curves without VA'!R156)*(1+L156)/(1+'Curves without VA'!F156)-1","v":2.5391369250484352E-2},{"$f":"(1+'Curves without VA'!S156)*(1+M156)/(1+'Curves without VA'!G156)-1","v":2.9656262934300015E-2}]
[144,{"$f":"($A157*LN(1+'Curves without VA'!B157)-IF(ISNUMBER($A156),$A156*LN(1+'Curves without VA'!B156),0)+($A157<=B$2)*LN(1+B$5/10000)+IF(ISNUMBER($A156),$A156*B156))/$A157","v":3.2749071578995308E-2},{"$f":"($A157*LN(1+'Curves without VA'!C157)-IF(ISNUMBER($A156),$A156*LN(1+'Curves without VA'!C156),0)+($A157<=C$2)*LN(1+C$5/10000)+IF(ISNUMBER($A156),$A156*C156))/$A157","v":3.3727346939565576E-2},{"$f":"($A157*LN(1+'Curves without VA'!D157)-IF(ISNUMBER($A156),$A156*LN(1+'Curves without VA'!D156),0)+($A157<=D$2)*LN(1+D$5/10000)+IF(ISNUMBER($A156),$A156*D156))/$A157","v":3.1648824661476727E-2},{"$f":"($A157*LN(1+'Curves without VA'!E157)-IF(ISNUMBER($A156),$A156*LN(1+'Curves without VA'!E156),0)+($A157<=E$2)*LN(1+E$5/10000)+IF(ISNUMBER($A156),$A156*E156))/$A157","v":3.5601016558885853E-2},{"$f":"($A157*LN(1+'Curves without VA'!F157)-IF(ISNUMBER($A156),$A156*LN(1+'Curves without VA'!F156),0)+($A157<=F$2)*LN(1+F$5/10000)+IF(ISNUMBER($A156),$A156*F156))/$A157","v":3.7447627901914381E-2},{"$f":"($A157*LN(1+'Curves without VA'!G157)-IF(ISNUMBER($A156),$A156*LN(1+'Curves without VA'!G156),0)+($A157<=G$2)*LN(1+G$5/10000)+IF(ISNUMBER($A156),$A156*G156))/$A157","v":3.6382871126920908E-2},3.3356031413486864E-2,3.5351339467824205E-2,3.2622366218575172E-2,3.7049576148278973E-2,3.8588540786272718E-2,3.8007442798678515E-2,{"$f":"(1+'Curves without VA'!H157)*(1+H157)/(1+'Curves without VA'!B157)-1","v":3.7417302689408682E-2},{"$f":"(1+'Curves without VA'!I157)*(1+I157)/(1+'Curves without VA'!C157)-1","v":4.0899065954249192E-2},{"$f":"(1+'Curves without VA'!J157)*(1+J157)/(1+'Curves without VA'!D157)-1","v":3.7270088622308295E-2},{"$f":"(1+'Curves without VA'!K157)*(1+K157)/(1+'Curves without VA'!E157)-1","v":4.210660776407793E-2},{"$f":"(1+'Curves without VA'!L157)*(1+L157)/(1+'Curves without VA'!F157)-1","v":4.6047274956577899E-2},{"$f":"(1+'Curves without VA'!M157)*(1+M157)/(1+'Curves without VA'!G157)-1","v":4.3645654938756051E-2},{"$f":"(1+'Curves without VA'!N157)*(1+H157)/(1+'Curves without VA'!B157)-1","v":2.7772726621460908E-2},{"$f":"(1+'Curves without VA'!O157)*(1+I157)/(1+'Curves without VA'!C157)-1","v":3.0472589806428863E-2},{"$f":"(1+'Curves without VA'!P157)*(1+J157)/(1+'Curves without VA'!D157)-1","v":2.6078437017556411E-2},{"$f":"(1+'Curves without VA'!Q157)*(1+K157)/(1+'Curves without VA'!E157)-1","v":2.9284102412545199E-2},{"$f":"(1+'Curves without VA'!R157)*(1+L157)/(1+'Curves without VA'!F157)-1","v":2.5433659550236687E-2},{"$f":"(1+'Curves without VA'!S157)*(1+M157)/(1+'Curves without VA'!G157)-1","v":2.9669055308980008E-2}]
[145,{"$f":"($A158*LN(1+'Curves without VA'!B158)-IF(ISNUMBER($A157),$A157*LN(1+'Curves without VA'!B157),0)+($A158<=B$2)*LN(1+B$5/10000)+IF(ISNUMBER($A157),$A157*B157))/$A158","v":3.274712756733808E-2},{"$f":"($A158*LN(1+'Curves without VA'!C158)-IF(ISNUMBER($A157),$A157*LN(1+'Curves without VA'!C157),0)+($A158<=C$2)*LN(1+C$5/10000)+IF(ISNUMBER($A157),$A157*C157))/$A158","v":3.3718656202009555E-2},{"$f":"($A158*LN(1+'Curves without VA'!D158)-IF(ISNUMBER($A157),$A157*LN(1+'Curves without VA'!D157),0)+($A158<=D$2)*LN(1+D$5/10000)+IF(ISNUMBER($A157),$A157*D157))/$A158","v":3.1647789109299183E-2},{"$f":"($A158*LN(1+'Curves without VA'!E158)-IF(ISNUMBER($A157),$A157*LN(1+'Curves without VA'!E157),0)+($A158<=E$2)*LN(1+E$5/10000)+IF(ISNUMBER($A157),$A157*E157))/$A158","v":3.5579403957721016E-2},{"$f":"($A158*LN(1+'Curves without VA'!F158)-IF(ISNUMBER($A157),$A157*LN(1+'Curves without VA'!F157),0)+($A158<=F$2)*LN(1+F$5/10000)+IF(ISNUMBER($A157),$A157*F157))/$A158","v":3.7413280008736054E-2},{"$f":"($A158*LN(1+'Curves without VA'!G158)-IF(ISNUMBER($A157),$A157*LN(1+'Curves without VA'!G157),0)+($A158<=G$2)*LN(1+G$5/10000)+IF(ISNUMBER($A157),$A157*G157))/$A158","v":3.6355866425286668E-2},3.3353575610477915E-2,3.5335105092669572E-2,3.2618072943926935E-2,3.7021594037580208E-2,3.8549897169228409E-2,3.7972826069380572E-2,{"$f":"(1+'Curves without VA'!H158)*(1+H158)/(1+'Curves without VA'!B158)-1","v":3.7397155275317839E-2},{"$f":"(1+'Curves without VA'!I158)*(1+I158)/(1+'Curves without VA'!C158)-1","v":4.0854799410267706E-2},{"$f":"(1+'Curves without VA'!J158)*(1+J158)/(1+'Curves without VA'!D158)-1","v":3.7244041443636799E-2},{"$f":"(1+'Curves without VA'!K158)*(1+K158)/(1+'Curves without VA'!E158)-1","v":4.2053957888687599E-2},{"$f":"(1+'Curves without VA'!L158)*(1+L158)/(1+'Curves without VA'!F158)-1","v":4.5967203232044396E-2},{"$f":"(1+'Curves without VA'!M158)*(1+M158)/(1+'Curves without VA'!G158)-1","v":4.358230612199776E-2},{"$f":"(1+'Curves without VA'!N158)*(1+H158)/(1+'Curves without VA'!B158)-1","v":2.7798385617699095E-2},{"$f":"(1+'Curves without VA'!O158)*(1+I158)/(1+'Curves without VA'!C158)-1","v":3.0479671894613869E-2},{"$f":"(1+'Curves without VA'!P158)*(1+J158)/(1+'Curves without VA'!D158)-1","v":2.6108865279591775E-2},{"$f":"(1+'Curves without VA'!Q158)*(1+K158)/(1+'Curves without VA'!E158)-1","v":2.9299368064761522E-2},{"$f":"(1+'Curves without VA'!R158)*(1+L158)/(1+'Curves without VA'!F158)-1","v":2.5475368839674495E-2},{"$f":"(1+'Curves without VA'!S158)*(1+M158)/(1+'Curves without VA'!G158)-1","v":2.9681671391186937E-2}]
[146,{"$f":"($A159*LN(1+'Curves without VA'!B159)-IF(ISNUMBER($A158),$A158*LN(1+'Curves without VA'!B158),0)+($A159<=B$2)*LN(1+B$5/10000)+IF(ISNUMBER($A158),$A158*B158))/$A159","v":3.2745210186154811E-2},{"$f":"($A159*LN(1+'Curves without VA'!C159)-IF(ISNUMBER($A158),$A158*LN(1+'Curves without VA'!C158),0)+($A159<=C$2)*LN(1+C$5/10000)+IF(ISNUMBER($A158),$A158*C158))/$A159","v":3.3710084515755259E-2},{"$f":"($A159*LN(1+'Curves without VA'!D159)-IF(ISNUMBER($A158),$A158*LN(1+'Curves without VA'!D158),0)+($A159<=D$2)*LN(1+D$5/10000)+IF(ISNUMBER($A158),$A158*D158))/$A159","v":3.1646767740958516E-2},{"$f":"($A159*LN(1+'Curves without VA'!E159)-IF(ISNUMBER($A158),$A158*LN(1+'Curves without VA'!E158),0)+($A159<=E$2)*LN(1+E$5/10000)+IF(ISNUMBER($A158),$A158*E158))/$A159","v":3.5558087420119115E-2},{"$f":"($A159*LN(1+'Curves without VA'!F159)-IF(ISNUMBER($A158),$A158*LN(1+'Curves without VA'!F158),0)+($A159<=F$2)*LN(1+F$5/10000)+IF(ISNUMBER($A158),$A158*F158))/$A159","v":3.7379402639455862E-2},{"$f":"($A159*LN(1+'Curves without VA'!G159)-IF(ISNUMBER($A158),$A158*LN(1+'Curves without VA'!G158),0)+($A159<=G$2)*LN(1+G$5/10000)+IF(ISNUMBER($A158),$A158*G158))/$A159","v":3.6329231651605551E-2},3.3351153453679894E-2,3.5319093347949249E-2,3.2613838478962931E-2,3.6993995952658176E-2,3.8511784181189279E-2,3.7938684636641185E-2,{"$f":"(1+'Curves without VA'!H159)*(1+H159)/(1+'Curves without VA'!B159)-1","v":3.7377284230175167E-2},{"$f":"(1+'Curves without VA'!I159)*(1+I159)/(1+'Curves without VA'!C159)-1","v":4.0811141079116764E-2},{"$f":"(1+'Curves without VA'!J159)*(1+J159)/(1+'Curves without VA'!D159)-1","v":3.7218351667553717E-2},{"$f":"(1+'Curves without VA'!K159)*(1+K159)/(1+'Curves without VA'!E159)-1","v":4.2002031792910621E-2},{"$f":"(1+'Curves without VA'!L159)*(1+L159)/(1+'Curves without VA'!F159)-1","v":4.5888233928903066E-2},{"$f":"(1+'Curves without VA'!M159)*(1+M159)/(1+'Curves without VA'!G159)-1","v":4.3519828788306514E-2},{"$f":"(1+'Curves without VA'!N159)*(1+H159)/(1+'Curves without VA'!B159)-1","v":2.7823693764798429E-2},{"$f":"(1+'Curves without VA'!O159)*(1+I159)/(1+'Curves without VA'!C159)-1","v":3.0486657014925589E-2},{"$f":"(1+'Curves without VA'!P159)*(1+J159)/(1+'Curves without VA'!D159)-1","v":2.6138877622140955E-2},{"$f":"(1+'Curves without VA'!Q159)*(1+K159)/(1+'Curves without VA'!E159)-1","v":2.9314424829220975E-2},{"$f":"(1+'Curves without VA'!R159)*(1+L159)/(1+'Curves without VA'!F159)-1","v":2.5516508960993001E-2},{"$f":"(1+'Curves without VA'!S159)*(1+M159)/(1+'Curves without VA'!G159)-1","v":2.969411480035733E-2}]
[147,{"$f":"($A160*LN(1+'Curves without VA'!B160)-IF(ISNUMBER($A159),$A159*LN(1+'Curves without VA'!B159),0)+($A160<=B$2)*LN(1+B$5/10000)+IF(ISNUMBER($A159),$A159*B159))/$A160","v":3.2743318891948384E-2},{"$f":"($A160*LN(1+'Curves without VA'!C160)-IF(ISNUMBER($A159),$A159*LN(1+'Curves without VA'!C159),0)+($A160<=C$2)*LN(1+C$5/10000)+IF(ISNUMBER($A159),$A159*C159))/$A160","v":3.3701629451173984E-2},{"$f":"($A160*LN(1+'Curves without VA'!D160)-IF(ISNUMBER($A159),$A159*LN(1+'Curves without VA'!D159),0)+($A160<=D$2)*LN(1+D$5/10000)+IF(ISNUMBER($A159),$A159*D159))/$A160","v":3.164576026717545E-2},{"$f":"($A160*LN(1+'Curves without VA'!E160)-IF(ISNUMBER($A159),$A159*LN(1+'Curves without VA'!E159),0)+($A160<=E$2)*LN(1+E$5/10000)+IF(ISNUMBER($A159),$A159*E159))/$A160","v":3.5537060903911365E-2},{"$f":"($A160*LN(1+'Curves without VA'!F160)-IF(ISNUMBER($A159),$A159*LN(1+'Curves without VA'!F159),0)+($A160<=F$2)*LN(1+F$5/10000)+IF(ISNUMBER($A159),$A159*F159))/$A160","v":3.7345986191047127E-2},{"$f":"($A160*LN(1+'Curves without VA'!G160)-IF(ISNUMBER($A159),$A159*LN(1+'Curves without VA'!G159),0)+($A160<=G$2)*LN(1+G$5/10000)+IF(ISNUMBER($A159),$A159*G159))/$A160","v":3.6302959256272312E-2},3.3348764256385888E-2,3.5303299685915501E-2,3.2609661625177422E-2,3.6966774044388195E-2,3.8474190979311151E-2,3.7905008781305094E-2,{"$f":"(1+'Curves without VA'!H160)*(1+H160)/(1+'Curves without VA'!B160)-1","v":3.7357683906673156E-2},{"$f":"(1+'Curves without VA'!I160)*(1+I160)/(1+'Curves without VA'!C160)-1","v":4.0768078513137906E-2},{"$f":"(1+'Curves without VA'!J160)*(1+J160)/(1+'Curves without VA'!D160)-1","v":3.7193011992176617E-2},{"$f":"(1+'Curves without VA'!K160)*(1+K160)/(1+'Curves without VA'!E160)-1","v":4.1950814658714863E-2},{"$f":"(1+'Curves without VA'!L160)*(1+L160)/(1+'Curves without VA'!F160)-1","v":4.5810344473837139E-2},{"$f":"(1+'Curves without VA'!M160)*(1+M160)/(1+'Curves without VA'!G160)-1","v":4.3458205083575896E-2},{"$f":"(1+'Curves without VA'!N160)*(1+H160)/(1+'Curves without VA'!B160)-1","v":2.7848658208537991E-2},{"$f":"(1+'Curves without VA'!O160)*(1+I160)/(1+'Curves without VA'!C160)-1","v":3.0493547145400202E-2},{"$f":"(1+'Curves without VA'!P160)*(1+J160)/(1+'Curves without VA'!D160)-1","v":2.6168482513179159E-2},{"$f":"(1+'Curves without VA'!Q160)*(1+K160)/(1+'Curves without VA'!E160)-1","v":2.9329276963518058E-2},{"$f":"(1+'Curves without VA'!R160)*(1+L160)/(1+'Curves without VA'!F160)-1","v":2.5557091441456903E-2},{"$f":"(1+'Curves without VA'!S160)*(1+M160)/(1+'Curves without VA'!G160)-1","v":2.9706389057508664E-2}]
[148,{"$f":"($A161*LN(1+'Curves without VA'!B161)-IF(ISNUMBER($A160),$A160*LN(1+'Curves without VA'!B160),0)+($A161<=B$2)*LN(1+B$5/10000)+IF(ISNUMBER($A160),$A160*B160))/$A161","v":3.2741453155912238E-2},{"$f":"($A161*LN(1+'Curves without VA'!C161)-IF(ISNUMBER($A160),$A160*LN(1+'Curves without VA'!C160),0)+($A161<=C$2)*LN(1+C$5/10000)+IF(ISNUMBER($A160),$A160*C160))/$A161","v":3.3693288644303154E-2},{"$f":"($A161*LN(1+'Curves without VA'!D161)-IF(ISNUMBER($A160),$A160*LN(1+'Curves without VA'!D160),0)+($A161<=D$2)*LN(1+D$5/10000)+IF(ISNUMBER($A160),$A160*D160))/$A161","v":3.1644766406470397E-2},{"$f":"($A161*LN(1+'Curves without VA'!E161)-IF(ISNUMBER($A160),$A160*LN(1+'Curves without VA'!E160),0)+($A161<=E$2)*LN(1+E$5/10000)+IF(ISNUMBER($A160),$A160*E160))/$A161","v":3.5516318530236894E-2},{"$f":"($A161*LN(1+'Curves without VA'!F161)-IF(ISNUMBER($A160),$A160*LN(1+'Curves without VA'!F160),0)+($A161<=F$2)*LN(1+F$5/10000)+IF(ISNUMBER($A160),$A160*F160))/$A161","v":3.7313021320075974E-2},{"$f":"($A161*LN(1+'Curves without VA'!G161)-IF(ISNUMBER($A160),$A160*LN(1+'Curves without VA'!G160),0)+($A161<=G$2)*LN(1+G$5/10000)+IF(ISNUMBER($A160),$A160*G160))/$A161","v":3.627704189373035E-2},3.3346407350445251E-2,3.52877196817869E-2,3.2605541216255141E-2,3.6939920675862492E-2,3.843710701302494E-2,3.7871789047128512E-2,{"$f":"(1+'Curves without VA'!H161)*(1+H161)/(1+'Curves without VA'!B161)-1","v":3.7338348810277866E-2},{"$f":"(1+'Curves without VA'!I161)*(1+I161)/(1+'Curves without VA'!C161)-1","v":4.0725599601864726E-2},{"$f":"(1+'Curves without VA'!J161)*(1+J161)/(1+'Curves without VA'!D161)-1","v":3.7168015312797342E-2},{"$f":"(1+'Curves without VA'!K161)*(1+K161)/(1+'Curves without VA'!E161)-1","v":4.1900292069367628E-2},{"$f":"(1+'Curves without VA'!L161)*(1+L161)/(1+'Curves without VA'!F161)-1","v":4.5733512902019768E-2},{"$f":"(1+'Curves without VA'!M161)*(1+M161)/(1+'Curves without VA'!G161)-1","v":4.3397417637493829E-2},{"$f":"(1+'Curves without VA'!N161)*(1+H161)/(1+'Curves without VA'!B161)-1","v":2.7873285902086042E-2},{"$f":"(1+'Curves without VA'!O161)*(1+I161)/(1+'Curves without VA'!C161)-1","v":3.0500344210633523E-2},{"$f":"(1+'Curves without VA'!P161)*(1+J161)/(1+'Curves without VA'!D161)-1","v":2.6197688192531876E-2},{"$f":"(1+'Curves without VA'!Q161)*(1+K161)/(1+'Curves without VA'!E161)-1","v":2.9343928610392478E-2},{"$f":"(1+'Curves without VA'!R161)*(1+L161)/(1+'Curves without VA'!F161)-1","v":2.559712750334997E-2},{"$f":"(1+'Curves without VA'!S161)*(1+M161)/(1+'Curves without VA'!G161)-1","v":2.9718497588564707E-2}]
[149,{"$f":"($A162*LN(1+'Curves without VA'!B162)-IF(ISNUMBER($A161),$A161*LN(1+'Curves without VA'!B161),0)+($A162<=B$2)*LN(1+B$5/10000)+IF(ISNUMBER($A161),$A161*B161))/$A162","v":3.2739612463438109E-2},{"$f":"($A162*LN(1+'Curves without VA'!C162)-IF(ISNUMBER($A161),$A161*LN(1+'Curves without VA'!C161),0)+($A162<=C$2)*LN(1+C$5/10000)+IF(ISNUMBER($A161),$A161*C161))/$A162","v":3.368505979464357E-2},{"$f":"($A162*LN(1+'Curves without VA'!D162)-IF(ISNUMBER($A161),$A161*LN(1+'Curves without VA'!D161),0)+($A162<=D$2)*LN(1+D$5/10000)+IF(ISNUMBER($A161),$A161*D161))/$A162","v":3.1643785884902666E-2},{"$f":"($A162*LN(1+'Curves without VA'!E162)-IF(ISNUMBER($A161),$A161*LN(1+'Curves without VA'!E161),0)+($A162<=E$2)*LN(1+E$5/10000)+IF(ISNUMBER($A161),$A161*E161))/$A162","v":3.549585457806121E-2},{"$f":"($A162*LN(1+'Curves without VA'!F162)-IF(ISNUMBER($A161),$A161*LN(1+'Curves without VA'!F161),0)+($A162<=F$2)*LN(1+F$5/10000)+IF(ISNUMBER($A161),$A161*F161))/$A162","v":3.728049893398535E-2},{"$f":"($A162*LN(1+'Curves without VA'!G162)-IF(ISNUMBER($A161),$A161*LN(1+'Curves without VA'!G161),0)+($A162<=G$2)*LN(1+G$5/10000)+IF(ISNUMBER($A161),$A161*G161))/$A162","v":3.6251472415625312E-2},3.3344082085640991E-2,3.5272349029625616E-2,3.2601476117011696E-2,3.6913428415287886E-2,3.8400522014361949E-2,3.7839016231974387E-2,{"$f":"(1+'Curves without VA'!H162)*(1+H162)/(1+'Curves without VA'!B162)-1","v":3.7319273594098368E-2},{"$f":"(1+'Curves without VA'!I162)*(1+I162)/(1+'Curves without VA'!C162)-1","v":4.068369256069948E-2},{"$f":"(1+'Curves without VA'!J162)*(1+J162)/(1+'Curves without VA'!D162)-1","v":3.7143354715309052E-2},{"$f":"(1+'Curves without VA'!K162)*(1+K162)/(1+'Curves without VA'!E162)-1","v":4.1850449995984862E-2},{"$f":"(1+'Curves without VA'!L162)*(1+L162)/(1+'Curves without VA'!F162)-1","v":4.5657717837089828E-2},{"$f":"(1+'Curves without VA'!M162)*(1+M162)/(1+'Curves without VA'!G162)-1","v":4.3337449547321327E-2},{"$f":"(1+'Curves without VA'!N162)*(1+H162)/(1+'Curves without VA'!B162)-1","v":2.7897583612431331E-2},{"$f":"(1+'Curves without VA'!O162)*(1+I162)/(1+'Curves without VA'!C162)-1","v":3.0507050083572684E-2},{"$f":"(1+'Curves without VA'!P162)*(1+J162)/(1+'Curves without VA'!D162)-1","v":2.6226502679493002E-2},{"$f":"(1+'Curves without VA'!Q162)*(1+K162)/(1+'Curves without VA'!E162)-1","v":2.9358383801571408E-2},{"$f":"(1+'Curves without VA'!R162)*(1+L162)/(1+'Curves without VA'!F162)-1","v":2.5636628073591572E-2},{"$f":"(1+'Curves without VA'!S162)*(1+M162)/(1+'Curves without VA'!G162)-1","v":2.9730443727541189E-2}]
[150,{"$f":"($A163*LN(1+'Curves without VA'!B163)-IF(ISNUMBER($A162),$A162*LN(1+'Curves without VA'!B162),0)+($A163<=B$2)*LN(1+B$5/10000)+IF(ISNUMBER($A162),$A162*B162))/$A163","v":3.2737796313641487E-2},{"$f":"($A163*LN(1+'Curves without VA'!C163)-IF(ISNUMBER($A162),$A162*LN(1+'Curves without VA'!C162),0)+($A163<=C$2)*LN(1+C$5/10000)+IF(ISNUMBER($A162),$A162*C162))/$A163","v":3.3676940663043733E-2},{"$f":"($A163*LN(1+'Curves without VA'!D163)-IF(ISNUMBER($A162),$A162*LN(1+'Curves without VA'!D162),0)+($A163<=D$2)*LN(1+D$5/10000)+IF(ISNUMBER($A162),$A162*D162))/$A163","v":3.1642818435821729E-2},{"$f":"($A163*LN(1+'Curves without VA'!E163)-IF(ISNUMBER($A162),$A162*LN(1+'Curves without VA'!E162),0)+($A163<=E$2)*LN(1+E$5/10000)+IF(ISNUMBER($A162),$A162*E162))/$A163","v":3.5475663478915571E-2},{"$f":"($A163*LN(1+'Curves without VA'!F163)-IF(ISNUMBER($A162),$A162*LN(1+'Curves without VA'!F162),0)+($A163<=F$2)*LN(1+F$5/10000)+IF(ISNUMBER($A162),$A162*F162))/$A163","v":3.7248410182726427E-2},{"$f":"($A163*LN(1+'Curves without VA'!G163)-IF(ISNUMBER($A162),$A162*LN(1+'Curves without VA'!G162),0)+($A163<=G$2)*LN(1+G$5/10000)+IF(ISNUMBER($A162),$A162*G162))/$A163","v":3.6226243864229304E-2},3.3341787829092251E-2,3.5257183538379921E-2,3.2597465222375721E-2,3.6887290029167019E-2,3.8364425988652417E-2,3.780668137935983E-2,{"$f":"(1+'Curves without VA'!H163)*(1+H163)/(1+'Curves without VA'!B163)-1","v":3.7300453053967342E-2},{"$f":"(1+'Curves without VA'!I163)*(1+I163)/(1+'Curves without VA'!C163)-1","v":4.0642345920039791E-2},{"$f":"(1+'Curves without VA'!J163)*(1+J163)/(1+'Curves without VA'!D163)-1","v":3.7119023469890156E-2},{"$f":"(1+'Curves without VA'!K163)*(1+K163)/(1+'Curves without VA'!E163)-1","v":4.1801274784612819E-2},{"$f":"(1+'Curves without VA'!L163)*(1+L163)/(1+'Curves without VA'!F163)-1","v":4.5582938471884882E-2},{"$f":"(1+'Curves without VA'!M163)*(1+M163)/(1+'Curves without VA'!G163)-1","v":4.3278284362317843E-2},{"$f":"(1+'Curves without VA'!N163)*(1+H163)/(1+'Curves without VA'!B163)-1","v":2.7921557926563256E-2},{"$f":"(1+'Curves without VA'!O163)*(1+I163)/(1+'Curves without VA'!C163)-1","v":3.051366658723742E-2},{"$f":"(1+'Curves without VA'!P163)*(1+J163)/(1+'Curves without VA'!D163)-1","v":2.6254933780138323E-2},{"$f":"(1+'Curves without VA'!Q163)*(1+K163)/(1+'Curves without VA'!E163)-1","v":2.9372646461456764E-2},{"$f":"(1+'Curves without VA'!R163)*(1+L163)/(1+'Curves without VA'!F163)-1","v":2.5675603793035018E-2},{"$f":"(1+'Curves without VA'!S163)*(1+M163)/(1+'Curves without VA'!G163)-1","v":2.974223071961335E-2}]