{"text_format":"1","workbook":"xlsx","n_sheets":5,"sheets":["Instructions","Scenario Data","RCS and Scaling Factors","Curves without VA","Curves with VA"],"not_rendered":{"charts":2,"images":0,"macros":1,"external_links":0,"defined_names":33,"comments":0,"pivot_tables":0},"unopened":[],"bounds":{"document_bytes":16777216,"sheet_cells":100000,"rows_first":2000,"rows_last":500,"rows_between":2000,"halvings":0,"cell_chars":16384,"cell_head_chars":4096},"cells_cut":0,"cells_raw":0,"read":"whole","date_system":"1900"}

{"sheet":"Instructions","index":0,"n_rows":18,"n_cols":2,"rows_kept":18,"cut":false,"hidden":false,"merged":[[9,1,10,18]]}
[]
[]
[]
[]
[]
[]
[null,"This workbook sets out amended risk-free interest rate term structures:"]
[]
[null,"Worksheet \"Scenario Data\""]
[null,"Risk-free interest rate term structures based on the new alternative extrapolation method both with and without volatility adjustment, including shocked interest rate curves for the new interest rate risk submodule. "]
[]
[]
[null,"Worksheet \"RCS and Scaling Factors\""]
[null,"Risk-corrected currency spreads and scaling factors for the calculation of the volatility adjustment."]
[]
[null,"Inputs are provided for integer term maturities."]
[]
[null,"Undertakings shall apply appropriate interpolation techniques for discounting inter-annual cash flows."]

{"sheet":"Scenario Data","index":1,"n_rows":162,"n_cols":22,"rows_kept":162,"cut":false,"hidden":false,"merged":[[2,9,2,10],[6,9,6,10],[5,9,5,10],[4,9,4,10],[3,9,3,10]]}
[]
[]
[null,null,null,null,null,null,null,null,null,"EUR"]
[null,null,null,null,null,null,null,null,null,{"$f":"VLOOKUP($J$3,'RCS and Scaling Factors'!$B$2:$D$11,2,FALSE)*10000","v":35.47}]
[null,null,null,null,null,null,null,null,null,{"$f":"VLOOKUP($J$3,'RCS and Scaling Factors'!$B$2:$D$11,3,FALSE)*10000","v":30.149499999999996}]
[null,null,null,null,null,null,null,null,null,1]
[null,null,null,null,null,null,null,null,null,{"$f":"$J$5*$J$6","v":30.149499999999996}]
[]
[]
["Curve","without VA","without VA","without VA",null,"with VA","with VA","with VA"]
["Scenario","Baseline","Up","Down",null,"Baseline","Up","Down"]
["Methodology","Alternative Extrapolation Method RFR","New Regime - Shock","New Regime - Shock",null,"Alternative Extrapolation Method RFR","New Regime - Shock","New Regime - Shock"]
[1,{"$f":"_xlfn.XLOOKUP($A13,INDIRECT(\"'Curves \"&B$10&\"'!$A$14:$A$163\"),_xlfn.XLOOKUP(B$11&$J$3,INDIRECT(\"'Curves \"&B$10&\"'!$11:$11\")&INDIRECT(\"'Curves \"&B$10&\"'!$12:$12\"),INDIRECT(\"'Curves \"&B$10&\"'!$14:$163\"),,0,1),,0,1)","v":2.0760000000000112E-2},{"$f":"_xlfn.XLOOKUP($A13,INDIRECT(\"'Curves \"&C$10&\"'!$A$14:$A$163\"),_xlfn.XLOOKUP(C$11&$J$3,INDIRECT(\"'Curves \"&C$10&\"'!$11:$11\")&INDIRECT(\"'Curves \"&C$10&\"'!$12:$12\"),INDIRECT(\"'Curves \"&C$10&\"'!$14:$163\"),,0,1),,0,1)","v":5.4823600000000194E-2},{"$f":"_xlfn.XLOOKUP($A13,INDIRECT(\"'Curves \"&D$10&\"'!$A$14:$A$163\"),_xlfn.XLOOKUP(D$11&$J$3,INDIRECT(\"'Curves \"&D$10&\"'!$11:$11\")&INDIRECT(\"'Curves \"&D$10&\"'!$12:$12\"),INDIRECT(\"'Curves \"&D$10&\"'!$14:$163\"),,0,1),,0,1)","v":-2.8807999999999057E-3},null,{"$f":"_xlfn.XLOOKUP($A13,INDIRECT(\"'Curves \"&F$10&\"'!$A$14:$A$163\"),_xlfn.XLOOKUP(F$11&$J$3,INDIRECT(\"'Curves \"&F$10&\"'!$11:$11\")&INDIRECT(\"'Curves \"&F$10&\"'!$12:$12\"),INDIRECT(\"'Curves \"&F$10&\"'!$14:$163\"),,0,1),,0,1)","v":2.3837540362000142E-2},{"$f":"_xlfn.XLOOKUP($A13,INDIRECT(\"'Curves \"&G$10&\"'!$A$14:$A$163\"),_xlfn.XLOOKUP(G$11&$J$3,INDIRECT(\"'Curves \"&G$10&\"'!$11:$11\")&INDIRECT(\"'Curves \"&G$10&\"'!$12:$12\"),INDIRECT(\"'Curves \"&G$10&\"'!$14:$163\"),,0,1),,0,1)","v":5.8003840412820251E-2},{"$f":"_xlfn.XLOOKUP($A13,INDIRECT(\"'Curves \"&H$10&\"'!$A$14:$A$163\"),_xlfn.XLOOKUP(H$11&$J$3,INDIRECT(\"'Curves \"&H$10&\"'!$11:$11\")&INDIRECT(\"'Curves \"&H$10&\"'!$12:$12\"),INDIRECT(\"'Curves \"&H$10&\"'!$14:$163\"),,0,1),,0,1)","v":1.2546453204009822E-4},null,null,null,null,null,null,null,null,null,null,null,null,"Czech Republic",1]
[2,{"$f":"_xlfn.XLOOKUP($A14,INDIRECT(\"'Curves \"&B$10&\"'!$A$14:$A$163\"),_xlfn.XLOOKUP(B$11&$J$3,INDIRECT(\"'Curves \"&B$10&\"'!$11:$11\")&INDIRECT(\"'Curves \"&B$10&\"'!$12:$12\"),INDIRECT(\"'Curves \"&B$10&\"'!$14:$163\"),,0,1),,0,1)","v":2.1629304559586338E-2},{"$f":"_xlfn.XLOOKUP($A14,INDIRECT(\"'Curves \"&C$10&\"'!$A$14:$A$163\"),_xlfn.XLOOKUP(C$11&$J$3,INDIRECT(\"'Curves \"&C$10&\"'!$11:$11\")&INDIRECT(\"'Curves \"&C$10&\"'!$12:$12\"),INDIRECT(\"'Curves \"&C$10&\"'!$14:$163\"),,0,1),,0,1)","v":5.1692835976167029E-2},{"$f":"_xlfn.XLOOKUP($A14,INDIRECT(\"'Curves \"&D$10&\"'!$A$14:$A$163\"),_xlfn.XLOOKUP(D$11&$J$3,INDIRECT(\"'Curves \"&D$10&\"'!$11:$11\")&INDIRECT(\"'Curves \"&D$10&\"'!$12:$12\"),INDIRECT(\"'Curves \"&D$10&\"'!$14:$163\"),,0,1),,0,1)","v":6.9835923419736545E-4},null,{"$f":"_xlfn.XLOOKUP($A14,INDIRECT(\"'Curves \"&F$10&\"'!$A$14:$A$163\"),_xlfn.XLOOKUP(F$11&$J$3,INDIRECT(\"'Curves \"&F$10&\"'!$11:$11\")&INDIRECT(\"'Curves \"&F$10&\"'!$12:$12\"),INDIRECT(\"'Curves \"&F$10&\"'!$14:$163\"),,0,1),,0,1)","v":2.4709465831368238E-2},{"$f":"_xlfn.XLOOKUP($A14,INDIRECT(\"'Curves \"&G$10&\"'!$A$14:$A$163\"),_xlfn.XLOOKUP(G$11&$J$3,INDIRECT(\"'Curves \"&G$10&\"'!$11:$11\")&INDIRECT(\"'Curves \"&G$10&\"'!$12:$12\"),INDIRECT(\"'Curves \"&G$10&\"'!$14:$163\"),,0,1),,0,1)","v":5.4863637291993284E-2},{"$f":"_xlfn.XLOOKUP($A14,INDIRECT(\"'Curves \"&H$10&\"'!$A$14:$A$163\"),_xlfn.XLOOKUP(H$11&$J$3,INDIRECT(\"'Curves \"&H$10&\"'!$11:$11\")&INDIRECT(\"'Curves \"&H$10&\"'!$12:$12\"),INDIRECT(\"'Curves \"&H$10&\"'!$14:$163\"),,0,1),,0,1)","v":3.7154147523703607E-3},null,null,null,null,null,null,null,null,null,null,null,null,"Hungary",2]
[3,{"$f":"_xlfn.XLOOKUP($A15,INDIRECT(\"'Curves \"&B$10&\"'!$A$14:$A$163\"),_xlfn.XLOOKUP(B$11&$J$3,INDIRECT(\"'Curves \"&B$10&\"'!$11:$11\")&INDIRECT(\"'Curves \"&B$10&\"'!$12:$12\"),INDIRECT(\"'Curves \"&B$10&\"'!$14:$163\"),,0,1),,0,1)","v":2.2828593829980814E-2},{"$f":"_xlfn.XLOOKUP($A15,INDIRECT(\"'Curves \"&C$10&\"'!$A$14:$A$163\"),_xlfn.XLOOKUP(C$11&$J$3,INDIRECT(\"'Curves \"&C$10&\"'!$11:$11\")&INDIRECT(\"'Curves \"&C$10&\"'!$12:$12\"),INDIRECT(\"'Curves \"&C$10&\"'!$14:$163\"),,0,1),,0,1)","v":5.1214604806671504E-2},{"$f":"_xlfn.XLOOKUP($A15,INDIRECT(\"'Curves \"&D$10&\"'!$A$14:$A$163\"),_xlfn.XLOOKUP(D$11&$J$3,INDIRECT(\"'Curves \"&D$10&\"'!$11:$11\")&INDIRECT(\"'Curves \"&D$10&\"'!$12:$12\"),INDIRECT(\"'Curves \"&D$10&\"'!$14:$163\"),,0,1),,0,1)","v":4.484012544789362E-3},null,{"$f":"_xlfn.XLOOKUP($A15,INDIRECT(\"'Curves \"&F$10&\"'!$A$14:$A$163\"),_xlfn.XLOOKUP(F$11&$J$3,INDIRECT(\"'Curves \"&F$10&\"'!$11:$11\")&INDIRECT(\"'Curves \"&F$10&\"'!$12:$12\"),INDIRECT(\"'Curves \"&F$10&\"'!$14:$163\"),,0,1),,0,1)","v":2.59123708989486E-2},{"$f":"_xlfn.XLOOKUP($A15,INDIRECT(\"'Curves \"&G$10&\"'!$A$14:$A$163\"),_xlfn.XLOOKUP(G$11&$J$3,INDIRECT(\"'Curves \"&G$10&\"'!$11:$11\")&INDIRECT(\"'Curves \"&G$10&\"'!$12:$12\"),INDIRECT(\"'Curves \"&G$10&\"'!$14:$163\"),,0,1),,0,1)","v":5.4383964279433483E-2},{"$f":"_xlfn.XLOOKUP($A15,INDIRECT(\"'Curves \"&H$10&\"'!$A$14:$A$163\"),_xlfn.XLOOKUP(H$11&$J$3,INDIRECT(\"'Curves \"&H$10&\"'!$11:$11\")&INDIRECT(\"'Curves \"&H$10&\"'!$12:$12\"),INDIRECT(\"'Curves \"&H$10&\"'!$14:$163\"),,0,1),,0,1)","v":7.5124816184113374E-3},null,null,null,null,null,null,null,null,null,null,null,null,"Poland",3]
[4,{"$f":"_xlfn.XLOOKUP($A16,INDIRECT(\"'Curves \"&B$10&\"'!$A$14:$A$163\"),_xlfn.XLOOKUP(B$11&$J$3,INDIRECT(\"'Curves \"&B$10&\"'!$11:$11\")&INDIRECT(\"'Curves \"&B$10&\"'!$12:$12\"),INDIRECT(\"'Curves \"&B$10&\"'!$14:$163\"),,0,1),,0,1)","v":2.3862928330017574E-2},{"$f":"_xlfn.XLOOKUP($A16,INDIRECT(\"'Curves \"&C$10&\"'!$A$14:$A$163\"),_xlfn.XLOOKUP(C$11&$J$3,INDIRECT(\"'Curves \"&C$10&\"'!$11:$11\")&INDIRECT(\"'Curves \"&C$10&\"'!$12:$12\"),INDIRECT(\"'Curves \"&C$10&\"'!$14:$163\"),,0,1),,0,1)","v":5.0939875361825759E-2},{"$f":"_xlfn.XLOOKUP($A16,INDIRECT(\"'Curves \"&D$10&\"'!$A$14:$A$163\"),_xlfn.XLOOKUP(D$11&$J$3,INDIRECT(\"'Curves \"&D$10&\"'!$11:$11\")&INDIRECT(\"'Curves \"&D$10&\"'!$12:$12\"),INDIRECT(\"'Curves \"&D$10&\"'!$14:$163\"),,0,1),,0,1)","v":6.9177569980105602E-3},null,{"$f":"_xlfn.XLOOKUP($A16,INDIRECT(\"'Curves \"&F$10&\"'!$A$14:$A$163\"),_xlfn.XLOOKUP(F$11&$J$3,INDIRECT(\"'Curves \"&F$10&\"'!$11:$11\")&INDIRECT(\"'Curves \"&F$10&\"'!$12:$12\"),INDIRECT(\"'Curves \"&F$10&\"'!$14:$163\"),,0,1),,0,1)","v":2.6949823865786149E-2},{"$f":"_xlfn.XLOOKUP($A16,INDIRECT(\"'Curves \"&G$10&\"'!$A$14:$A$163\"),_xlfn.XLOOKUP(G$11&$J$3,INDIRECT(\"'Curves \"&G$10&\"'!$11:$11\")&INDIRECT(\"'Curves \"&G$10&\"'!$12:$12\"),INDIRECT(\"'Curves \"&G$10&\"'!$14:$163\"),,0,1),,0,1)","v":5.4108406539047804E-2},{"$f":"_xlfn.XLOOKUP($A16,INDIRECT(\"'Curves \"&H$10&\"'!$A$14:$A$163\"),_xlfn.XLOOKUP(H$11&$J$3,INDIRECT(\"'Curves \"&H$10&\"'!$11:$11\")&INDIRECT(\"'Curves \"&H$10&\"'!$12:$12\"),INDIRECT(\"'Curves \"&H$10&\"'!$14:$163\"),,0,1),,0,1)","v":9.953563689471645E-3},null,null,null,null,null,null,null,null,null,null,null,null,"Romania",4]
[5,{"$f":"_xlfn.XLOOKUP($A17,INDIRECT(\"'Curves \"&B$10&\"'!$A$14:$A$163\"),_xlfn.XLOOKUP(B$11&$J$3,INDIRECT(\"'Curves \"&B$10&\"'!$11:$11\")&INDIRECT(\"'Curves \"&B$10&\"'!$12:$12\"),INDIRECT(\"'Curves \"&B$10&\"'!$14:$163\"),,0,1),,0,1)","v":2.478759707331557E-2},{"$f":"_xlfn.XLOOKUP($A17,INDIRECT(\"'Curves \"&C$10&\"'!$A$14:$A$163\"),_xlfn.XLOOKUP(C$11&$J$3,INDIRECT(\"'Curves \"&C$10&\"'!$11:$11\")&INDIRECT(\"'Curves \"&C$10&\"'!$12:$12\"),INDIRECT(\"'Curves \"&C$10&\"'!$14:$163\"),,0,1),,0,1)","v":5.1742015756307547E-2},{"$f":"_xlfn.XLOOKUP($A17,INDIRECT(\"'Curves \"&D$10&\"'!$A$14:$A$163\"),_xlfn.XLOOKUP(D$11&$J$3,INDIRECT(\"'Curves \"&D$10&\"'!$11:$11\")&INDIRECT(\"'Curves \"&D$10&\"'!$12:$12\"),INDIRECT(\"'Curves \"&D$10&\"'!$14:$163\"),,0,1),,0,1)","v":7.7725582439893692E-3},null,{"$f":"_xlfn.XLOOKUP($A17,INDIRECT(\"'Curves \"&F$10&\"'!$A$14:$A$163\"),_xlfn.XLOOKUP(F$11&$J$3,INDIRECT(\"'Curves \"&F$10&\"'!$11:$11\")&INDIRECT(\"'Curves \"&F$10&\"'!$12:$12\"),INDIRECT(\"'Curves \"&F$10&\"'!$14:$163\"),,0,1),,0,1)","v":2.7877280439111862E-2},{"$f":"_xlfn.XLOOKUP($A17,INDIRECT(\"'Curves \"&G$10&\"'!$A$14:$A$163\"),_xlfn.XLOOKUP(G$11&$J$3,INDIRECT(\"'Curves \"&G$10&\"'!$11:$11\")&INDIRECT(\"'Curves \"&G$10&\"'!$12:$12\"),INDIRECT(\"'Curves \"&G$10&\"'!$14:$163\"),,0,1),,0,1)","v":5.4912965346712195E-2},{"$f":"_xlfn.XLOOKUP($A17,INDIRECT(\"'Curves \"&H$10&\"'!$A$14:$A$163\"),_xlfn.XLOOKUP(H$11&$J$3,INDIRECT(\"'Curves \"&H$10&\"'!$11:$11\")&INDIRECT(\"'Curves \"&H$10&\"'!$12:$12\"),INDIRECT(\"'Curves \"&H$10&\"'!$14:$163\"),,0,1),,0,1)","v":1.0810942118467226E-2},null,null,null,null,null,null,null,null,null,null,null,null,"Switzerland",5]
[6,{"$f":"_xlfn.XLOOKUP($A18,INDIRECT(\"'Curves \"&B$10&\"'!$A$14:$A$163\"),_xlfn.XLOOKUP(B$11&$J$3,INDIRECT(\"'Curves \"&B$10&\"'!$11:$11\")&INDIRECT(\"'Curves \"&B$10&\"'!$12:$12\"),INDIRECT(\"'Curves \"&B$10&\"'!$14:$163\"),,0,1),,0,1)","v":2.5648686706935209E-2},{"$f":"_xlfn.XLOOKUP($A18,INDIRECT(\"'Curves \"&C$10&\"'!$A$14:$A$163\"),_xlfn.XLOOKUP(C$11&$J$3,INDIRECT(\"'Curves \"&C$10&\"'!$11:$11\")&INDIRECT(\"'Curves \"&C$10&\"'!$12:$12\"),INDIRECT(\"'Curves \"&C$10&\"'!$14:$163\"),,0,1),,0,1)","v":5.0564648256778533E-2},{"$f":"_xlfn.XLOOKUP($A18,INDIRECT(\"'Curves \"&D$10&\"'!$A$14:$A$163\"),_xlfn.XLOOKUP(D$11&$J$3,INDIRECT(\"'Curves \"&D$10&\"'!$11:$11\")&INDIRECT(\"'Curves \"&D$10&\"'!$12:$12\"),INDIRECT(\"'Curves \"&D$10&\"'!$14:$163\"),,0,1),,0,1)","v":9.2021857582997857E-3},null,{"$f":"_xlfn.XLOOKUP($A18,INDIRECT(\"'Curves \"&F$10&\"'!$A$14:$A$163\"),_xlfn.XLOOKUP(F$11&$J$3,INDIRECT(\"'Curves \"&F$10&\"'!$11:$11\")&INDIRECT(\"'Curves \"&F$10&\"'!$12:$12\"),INDIRECT(\"'Curves \"&F$10&\"'!$14:$163\"),,0,1),,0,1)","v":2.8740966214922281E-2},{"$f":"_xlfn.XLOOKUP($A18,INDIRECT(\"'Curves \"&G$10&\"'!$A$14:$A$163\"),_xlfn.XLOOKUP(G$11&$J$3,INDIRECT(\"'Curves \"&G$10&\"'!$11:$11\")&INDIRECT(\"'Curves \"&G$10&\"'!$12:$12\"),INDIRECT(\"'Curves \"&G$10&\"'!$14:$163\"),,0,1),,0,1)","v":5.3732048143040334E-2},{"$f":"_xlfn.XLOOKUP($A18,INDIRECT(\"'Curves \"&H$10&\"'!$A$14:$A$163\"),_xlfn.XLOOKUP(H$11&$J$3,INDIRECT(\"'Curves \"&H$10&\"'!$11:$11\")&INDIRECT(\"'Curves \"&H$10&\"'!$12:$12\"),INDIRECT(\"'Curves \"&H$10&\"'!$14:$163\"),,0,1),,0,1)","v":1.2244879888251736E-2},null,null,null,null,null,null,null,null,null,null,null,null,"United States",6]
[7,{"$f":"_xlfn.XLOOKUP($A19,INDIRECT(\"'Curves \"&B$10&\"'!$A$14:$A$163\"),_xlfn.XLOOKUP(B$11&$J$3,INDIRECT(\"'Curves \"&B$10&\"'!$11:$11\")&INDIRECT(\"'Curves \"&B$10&\"'!$12:$12\"),INDIRECT(\"'Curves \"&B$10&\"'!$14:$163\"),,0,1),,0,1)","v":2.6510389019120062E-2},{"$f":"_xlfn.XLOOKUP($A19,INDIRECT(\"'Curves \"&C$10&\"'!$A$14:$A$163\"),_xlfn.XLOOKUP(C$11&$J$3,INDIRECT(\"'Curves \"&C$10&\"'!$11:$11\")&INDIRECT(\"'Curves \"&C$10&\"'!$12:$12\"),INDIRECT(\"'Curves \"&C$10&\"'!$14:$163\"),,0,1),,0,1)","v":4.9319232956194448E-2},{"$f":"_xlfn.XLOOKUP($A19,INDIRECT(\"'Curves \"&D$10&\"'!$A$14:$A$163\"),_xlfn.XLOOKUP(D$11&$J$3,INDIRECT(\"'Curves \"&D$10&\"'!$11:$11\")&INDIRECT(\"'Curves \"&D$10&\"'!$12:$12\"),INDIRECT(\"'Curves \"&D$10&\"'!$14:$163\"),,0,1),,0,1)","v":1.0401545082045605E-2},null,{"$f":"_xlfn.XLOOKUP($A19,INDIRECT(\"'Curves \"&F$10&\"'!$A$14:$A$163\"),_xlfn.XLOOKUP(F$11&$J$3,INDIRECT(\"'Curves \"&F$10&\"'!$11:$11\")&INDIRECT(\"'Curves \"&F$10&\"'!$12:$12\"),INDIRECT(\"'Curves \"&F$10&\"'!$14:$163\"),,0,1),,0,1)","v":2.9605266516493423E-2},{"$f":"_xlfn.XLOOKUP($A19,INDIRECT(\"'Curves \"&G$10&\"'!$A$14:$A$163\"),_xlfn.XLOOKUP(G$11&$J$3,INDIRECT(\"'Curves \"&G$10&\"'!$11:$11\")&INDIRECT(\"'Curves \"&G$10&\"'!$12:$12\"),INDIRECT(\"'Curves \"&G$10&\"'!$14:$163\"),,0,1),,0,1)","v":5.2482877977595876E-2},{"$f":"_xlfn.XLOOKUP($A19,INDIRECT(\"'Curves \"&H$10&\"'!$A$14:$A$163\"),_xlfn.XLOOKUP(H$11&$J$3,INDIRECT(\"'Curves \"&H$10&\"'!$11:$11\")&INDIRECT(\"'Curves \"&H$10&\"'!$12:$12\"),INDIRECT(\"'Curves \"&H$10&\"'!$14:$163\"),,0,1),,0,1)","v":1.3447855220390936E-2}]
[8,{"$f":"_xlfn.XLOOKUP($A20,INDIRECT(\"'Curves \"&B$10&\"'!$A$14:$A$163\"),_xlfn.XLOOKUP(B$11&$J$3,INDIRECT(\"'Curves \"&B$10&\"'!$11:$11\")&INDIRECT(\"'Curves \"&B$10&\"'!$12:$12\"),INDIRECT(\"'Curves \"&B$10&\"'!$14:$163\"),,0,1),,0,1)","v":2.7239909807460716E-2},{"$f":"_xlfn.XLOOKUP($A20,INDIRECT(\"'Curves \"&C$10&\"'!$A$14:$A$163\"),_xlfn.XLOOKUP(C$11&$J$3,INDIRECT(\"'Curves \"&C$10&\"'!$11:$11\")&INDIRECT(\"'Curves \"&C$10&\"'!$12:$12\"),INDIRECT(\"'Curves \"&C$10&\"'!$14:$163\"),,0,1),,0,1)","v":4.8401479141997328E-2},{"$f":"_xlfn.XLOOKUP($A20,INDIRECT(\"'Curves \"&D$10&\"'!$A$14:$A$163\"),_xlfn.XLOOKUP(D$11&$J$3,INDIRECT(\"'Curves \"&D$10&\"'!$11:$11\")&INDIRECT(\"'Curves \"&D$10&\"'!$12:$12\"),INDIRECT(\"'Curves \"&D$10&\"'!$14:$163\"),,0,1),,0,1)","v":1.068874408062559E-2},null,{"$f":"_xlfn.XLOOKUP($A20,INDIRECT(\"'Curves \"&F$10&\"'!$A$14:$A$163\"),_xlfn.XLOOKUP(F$11&$J$3,INDIRECT(\"'Curves \"&F$10&\"'!$11:$11\")&INDIRECT(\"'Curves \"&F$10&\"'!$12:$12\"),INDIRECT(\"'Curves \"&F$10&\"'!$14:$163\"),,0,1),,0,1)","v":3.0336986773534802E-2},{"$f":"_xlfn.XLOOKUP($A20,INDIRECT(\"'Curves \"&G$10&\"'!$A$14:$A$163\"),_xlfn.XLOOKUP(G$11&$J$3,INDIRECT(\"'Curves \"&G$10&\"'!$11:$11\")&INDIRECT(\"'Curves \"&G$10&\"'!$12:$12\"),INDIRECT(\"'Curves \"&G$10&\"'!$14:$163\"),,0,1),,0,1)","v":5.1562357181536456E-2},{"$f":"_xlfn.XLOOKUP($A20,INDIRECT(\"'Curves \"&H$10&\"'!$A$14:$A$163\"),_xlfn.XLOOKUP(H$11&$J$3,INDIRECT(\"'Curves \"&H$10&\"'!$11:$11\")&INDIRECT(\"'Curves \"&H$10&\"'!$12:$12\"),INDIRECT(\"'Curves \"&H$10&\"'!$14:$163\"),,0,1),,0,1)","v":1.373592010959146E-2}]
[9,{"$f":"_xlfn.XLOOKUP($A21,INDIRECT(\"'Curves \"&B$10&\"'!$A$14:$A$163\"),_xlfn.XLOOKUP(B$11&$J$3,INDIRECT(\"'Curves \"&B$10&\"'!$11:$11\")&INDIRECT(\"'Curves \"&B$10&\"'!$12:$12\"),INDIRECT(\"'Curves \"&B$10&\"'!$14:$163\"),,0,1),,0,1)","v":2.7925215671903869E-2},{"$f":"_xlfn.XLOOKUP($A21,INDIRECT(\"'Curves \"&C$10&\"'!$A$14:$A$163\"),_xlfn.XLOOKUP(C$11&$J$3,INDIRECT(\"'Curves \"&C$10&\"'!$11:$11\")&INDIRECT(\"'Curves \"&C$10&\"'!$12:$12\"),INDIRECT(\"'Curves \"&C$10&\"'!$14:$163\"),,0,1),,0,1)","v":4.8061284686913286E-2},{"$f":"_xlfn.XLOOKUP($A21,INDIRECT(\"'Curves \"&D$10&\"'!$A$14:$A$163\"),_xlfn.XLOOKUP(D$11&$J$3,INDIRECT(\"'Curves \"&D$10&\"'!$11:$11\")&INDIRECT(\"'Curves \"&D$10&\"'!$12:$12\"),INDIRECT(\"'Curves \"&D$10&\"'!$14:$163\"),,0,1),,0,1)","v":1.0934381559861261E-2},null,{"$f":"_xlfn.XLOOKUP($A21,INDIRECT(\"'Curves \"&F$10&\"'!$A$14:$A$163\"),_xlfn.XLOOKUP(F$11&$J$3,INDIRECT(\"'Curves \"&F$10&\"'!$11:$11\")&INDIRECT(\"'Curves \"&F$10&\"'!$12:$12\"),INDIRECT(\"'Curves \"&F$10&\"'!$14:$163\"),,0,1),,0,1)","v":3.1024358800894047E-2},{"$f":"_xlfn.XLOOKUP($A21,INDIRECT(\"'Curves \"&G$10&\"'!$A$14:$A$163\"),_xlfn.XLOOKUP(G$11&$J$3,INDIRECT(\"'Curves \"&G$10&\"'!$11:$11\")&INDIRECT(\"'Curves \"&G$10&\"'!$12:$12\"),INDIRECT(\"'Curves \"&G$10&\"'!$14:$163\"),,0,1),,0,1)","v":5.1221137057180233E-2},{"$f":"_xlfn.XLOOKUP($A21,INDIRECT(\"'Curves \"&H$10&\"'!$A$14:$A$163\"),_xlfn.XLOOKUP(H$11&$J$3,INDIRECT(\"'Curves \"&H$10&\"'!$11:$11\")&INDIRECT(\"'Curves \"&H$10&\"'!$12:$12\"),INDIRECT(\"'Curves \"&H$10&\"'!$14:$163\"),,0,1),,0,1)","v":1.3982298173545349E-2}]
[10,{"$f":"_xlfn.XLOOKUP($A22,INDIRECT(\"'Curves \"&B$10&\"'!$A$14:$A$163\"),_xlfn.XLOOKUP(B$11&$J$3,INDIRECT(\"'Curves \"&B$10&\"'!$11:$11\")&INDIRECT(\"'Curves \"&B$10&\"'!$12:$12\"),INDIRECT(\"'Curves \"&B$10&\"'!$14:$163\"),,0,1),,0,1)","v":2.8630841555192132E-2},{"$f":"_xlfn.XLOOKUP($A22,INDIRECT(\"'Curves \"&C$10&\"'!$A$14:$A$163\"),_xlfn.XLOOKUP(C$11&$J$3,INDIRECT(\"'Curves \"&C$10&\"'!$11:$11\")&INDIRECT(\"'Curves \"&C$10&\"'!$12:$12\"),INDIRECT(\"'Curves \"&C$10&\"'!$14:$163\"),,0,1),,0,1)","v":4.7720094021749704E-2},{"$f":"_xlfn.XLOOKUP($A22,INDIRECT(\"'Curves \"&D$10&\"'!$A$14:$A$163\"),_xlfn.XLOOKUP(D$11&$J$3,INDIRECT(\"'Curves \"&D$10&\"'!$11:$11\")&INDIRECT(\"'Curves \"&D$10&\"'!$12:$12\"),INDIRECT(\"'Curves \"&D$10&\"'!$14:$163\"),,0,1),,0,1)","v":1.1078504933115241E-2},null,{"$f":"_xlfn.XLOOKUP($A22,INDIRECT(\"'Curves \"&F$10&\"'!$A$14:$A$163\"),_xlfn.XLOOKUP(F$11&$J$3,INDIRECT(\"'Curves \"&F$10&\"'!$11:$11\")&INDIRECT(\"'Curves \"&F$10&\"'!$12:$12\"),INDIRECT(\"'Curves \"&F$10&\"'!$14:$163\"),,0,1),,0,1)","v":3.173211211093907E-2},{"$f":"_xlfn.XLOOKUP($A22,INDIRECT(\"'Curves \"&G$10&\"'!$A$14:$A$163\"),_xlfn.XLOOKUP(G$11&$J$3,INDIRECT(\"'Curves \"&G$10&\"'!$11:$11\")&INDIRECT(\"'Curves \"&G$10&\"'!$12:$12\"),INDIRECT(\"'Curves \"&G$10&\"'!$14:$163\"),,0,1),,0,1)","v":5.0878917719220818E-2},{"$f":"_xlfn.XLOOKUP($A22,INDIRECT(\"'Curves \"&H$10&\"'!$A$14:$A$163\"),_xlfn.XLOOKUP(H$11&$J$3,INDIRECT(\"'Curves \"&H$10&\"'!$11:$11\")&INDIRECT(\"'Curves \"&H$10&\"'!$12:$12\"),INDIRECT(\"'Curves \"&H$10&\"'!$14:$163\"),,0,1),,0,1)","v":1.4126856071563498E-2}]
[11,{"$f":"_xlfn.XLOOKUP($A23,INDIRECT(\"'Curves \"&B$10&\"'!$A$14:$A$163\"),_xlfn.XLOOKUP(B$11&$J$3,INDIRECT(\"'Curves \"&B$10&\"'!$11:$11\")&INDIRECT(\"'Curves \"&B$10&\"'!$12:$12\"),INDIRECT(\"'Curves \"&B$10&\"'!$14:$163\"),,0,1),,0,1)","v":2.9208174098932504E-2},{"$f":"_xlfn.XLOOKUP($A23,INDIRECT(\"'Curves \"&C$10&\"'!$A$14:$A$163\"),_xlfn.XLOOKUP(C$11&$J$3,INDIRECT(\"'Curves \"&C$10&\"'!$11:$11\")&INDIRECT(\"'Curves \"&C$10&\"'!$12:$12\"),INDIRECT(\"'Curves \"&C$10&\"'!$14:$163\"),,0,1),,0,1)","v":4.8470626328612099E-2},{"$f":"_xlfn.XLOOKUP($A23,INDIRECT(\"'Curves \"&D$10&\"'!$A$14:$A$163\"),_xlfn.XLOOKUP(D$11&$J$3,INDIRECT(\"'Curves \"&D$10&\"'!$11:$11\")&INDIRECT(\"'Curves \"&D$10&\"'!$12:$12\"),INDIRECT(\"'Curves \"&D$10&\"'!$14:$163\"),,0,1),,0,1)","v":1.1232822718370228E-2},null,{"$f":"_xlfn.XLOOKUP($A23,INDIRECT(\"'Curves \"&F$10&\"'!$A$14:$A$163\"),_xlfn.XLOOKUP(F$11&$J$3,INDIRECT(\"'Curves \"&F$10&\"'!$11:$11\")&INDIRECT(\"'Curves \"&F$10&\"'!$12:$12\"),INDIRECT(\"'Curves \"&F$10&\"'!$14:$163\"),,0,1),,0,1)","v":3.2311185283432131E-2},{"$f":"_xlfn.XLOOKUP($A23,INDIRECT(\"'Curves \"&G$10&\"'!$A$14:$A$163\"),_xlfn.XLOOKUP(G$11&$J$3,INDIRECT(\"'Curves \"&G$10&\"'!$11:$11\")&INDIRECT(\"'Curves \"&G$10&\"'!$12:$12\"),INDIRECT(\"'Curves \"&G$10&\"'!$14:$163\"),,0,1),,0,1)","v":5.1631712843461575E-2},{"$f":"_xlfn.XLOOKUP($A23,INDIRECT(\"'Curves \"&H$10&\"'!$A$14:$A$163\"),_xlfn.XLOOKUP(H$11&$J$3,INDIRECT(\"'Curves \"&H$10&\"'!$11:$11\")&INDIRECT(\"'Curves \"&H$10&\"'!$12:$12\"),INDIRECT(\"'Curves \"&H$10&\"'!$14:$163\"),,0,1),,0,1)","v":1.4281639117224909E-2}]
[12,{"$f":"_xlfn.XLOOKUP($A24,INDIRECT(\"'Curves \"&B$10&\"'!$A$14:$A$163\"),_xlfn.XLOOKUP(B$11&$J$3,INDIRECT(\"'Curves \"&B$10&\"'!$11:$11\")&INDIRECT(\"'Curves \"&B$10&\"'!$12:$12\"),INDIRECT(\"'Curves \"&B$10&\"'!$14:$163\"),,0,1),,0,1)","v":2.9747890947353195E-2},{"$f":"_xlfn.XLOOKUP($A24,INDIRECT(\"'Curves \"&C$10&\"'!$A$14:$A$163\"),_xlfn.XLOOKUP(C$11&$J$3,INDIRECT(\"'Curves \"&C$10&\"'!$11:$11\")&INDIRECT(\"'Curves \"&C$10&\"'!$12:$12\"),INDIRECT(\"'Curves \"&C$10&\"'!$14:$163\"),,0,1),,0,1)","v":4.9172258231559018E-2},{"$f":"_xlfn.XLOOKUP($A24,INDIRECT(\"'Curves \"&D$10&\"'!$A$14:$A$163\"),_xlfn.XLOOKUP(D$11&$J$3,INDIRECT(\"'Curves \"&D$10&\"'!$11:$11\")&INDIRECT(\"'Curves \"&D$10&\"'!$12:$12\"),INDIRECT(\"'Curves \"&D$10&\"'!$14:$163\"),,0,1),,0,1)","v":1.1253776749464928E-2},null,{"$f":"_xlfn.XLOOKUP($A24,INDIRECT(\"'Curves \"&F$10&\"'!$A$14:$A$163\"),_xlfn.XLOOKUP(F$11&$J$3,INDIRECT(\"'Curves \"&F$10&\"'!$11:$11\")&INDIRECT(\"'Curves \"&F$10&\"'!$12:$12\"),INDIRECT(\"'Curves \"&F$10&\"'!$14:$163\"),,0,1),,0,1)","v":3.2852529351165005E-2},{"$f":"_xlfn.XLOOKUP($A24,INDIRECT(\"'Curves \"&G$10&\"'!$A$14:$A$163\"),_xlfn.XLOOKUP(G$11&$J$3,INDIRECT(\"'Curves \"&G$10&\"'!$11:$11\")&INDIRECT(\"'Curves \"&G$10&\"'!$12:$12\"),INDIRECT(\"'Curves \"&G$10&\"'!$14:$163\"),,0,1),,0,1)","v":5.2335460131514466E-2},{"$f":"_xlfn.XLOOKUP($A24,INDIRECT(\"'Curves \"&H$10&\"'!$A$14:$A$163\"),_xlfn.XLOOKUP(H$11&$J$3,INDIRECT(\"'Curves \"&H$10&\"'!$11:$11\")&INDIRECT(\"'Curves \"&H$10&\"'!$12:$12\"),INDIRECT(\"'Curves \"&H$10&\"'!$14:$163\"),,0,1),,0,1)","v":1.4302656323675667E-2}]
[13,{"$f":"_xlfn.XLOOKUP($A25,INDIRECT(\"'Curves \"&B$10&\"'!$A$14:$A$163\"),_xlfn.XLOOKUP(B$11&$J$3,INDIRECT(\"'Curves \"&B$10&\"'!$11:$11\")&INDIRECT(\"'Curves \"&B$10&\"'!$12:$12\"),INDIRECT(\"'Curves \"&B$10&\"'!$14:$163\"),,0,1),,0,1)","v":3.0333302128107809E-2},{"$f":"_xlfn.XLOOKUP($A25,INDIRECT(\"'Curves \"&C$10&\"'!$A$14:$A$163\"),_xlfn.XLOOKUP(C$11&$J$3,INDIRECT(\"'Curves \"&C$10&\"'!$11:$11\")&INDIRECT(\"'Curves \"&C$10&\"'!$12:$12\"),INDIRECT(\"'Curves \"&C$10&\"'!$14:$163\"),,0,1),,0,1)","v":4.9933292766540127E-2},{"$f":"_xlfn.XLOOKUP($A25,INDIRECT(\"'Curves \"&D$10&\"'!$A$14:$A$163\"),_xlfn.XLOOKUP(D$11&$J$3,INDIRECT(\"'Curves \"&D$10&\"'!$11:$11\")&INDIRECT(\"'Curves \"&D$10&\"'!$12:$12\"),INDIRECT(\"'Curves \"&D$10&\"'!$14:$163\"),,0,1),,0,1)","v":1.1389982213021455E-2},null,{"$f":"_xlfn.XLOOKUP($A25,INDIRECT(\"'Curves \"&F$10&\"'!$A$14:$A$163\"),_xlfn.XLOOKUP(F$11&$J$3,INDIRECT(\"'Curves \"&F$10&\"'!$11:$11\")&INDIRECT(\"'Curves \"&F$10&\"'!$12:$12\"),INDIRECT(\"'Curves \"&F$10&\"'!$14:$163\"),,0,1),,0,1)","v":3.3439705517358975E-2},{"$f":"_xlfn.XLOOKUP($A25,INDIRECT(\"'Curves \"&G$10&\"'!$A$14:$A$163\"),_xlfn.XLOOKUP(G$11&$J$3,INDIRECT(\"'Curves \"&G$10&\"'!$11:$11\")&INDIRECT(\"'Curves \"&G$10&\"'!$12:$12\"),INDIRECT(\"'Curves \"&G$10&\"'!$14:$163\"),,0,1),,0,1)","v":5.3098789147566716E-2},{"$f":"_xlfn.XLOOKUP($A25,INDIRECT(\"'Curves \"&H$10&\"'!$A$14:$A$163\"),_xlfn.XLOOKUP(H$11&$J$3,INDIRECT(\"'Curves \"&H$10&\"'!$11:$11\")&INDIRECT(\"'Curves \"&H$10&\"'!$12:$12\"),INDIRECT(\"'Curves \"&H$10&\"'!$14:$163\"),,0,1),,0,1)","v":1.4439272439894735E-2}]
[14,{"$f":"_xlfn.XLOOKUP($A26,INDIRECT(\"'Curves \"&B$10&\"'!$A$14:$A$163\"),_xlfn.XLOOKUP(B$11&$J$3,INDIRECT(\"'Curves \"&B$10&\"'!$11:$11\")&INDIRECT(\"'Curves \"&B$10&\"'!$12:$12\"),INDIRECT(\"'Curves \"&B$10&\"'!$14:$163\"),,0,1),,0,1)","v":3.0729932558340334E-2},{"$f":"_xlfn.XLOOKUP($A26,INDIRECT(\"'Curves \"&C$10&\"'!$A$14:$A$163\"),_xlfn.XLOOKUP(C$11&$J$3,INDIRECT(\"'Curves \"&C$10&\"'!$11:$11\")&INDIRECT(\"'Curves \"&C$10&\"'!$12:$12\"),INDIRECT(\"'Curves \"&C$10&\"'!$14:$163\"),,0,1),,0,1)","v":4.9841613000259022E-2},{"$f":"_xlfn.XLOOKUP($A26,INDIRECT(\"'Curves \"&D$10&\"'!$A$14:$A$163\"),_xlfn.XLOOKUP(D$11&$J$3,INDIRECT(\"'Curves \"&D$10&\"'!$11:$11\")&INDIRECT(\"'Curves \"&D$10&\"'!$12:$12\"),INDIRECT(\"'Curves \"&D$10&\"'!$14:$163\"),,0,1),,0,1)","v":1.1408762232670622E-2},null,{"$f":"_xlfn.XLOOKUP($A26,INDIRECT(\"'Curves \"&F$10&\"'!$A$14:$A$163\"),_xlfn.XLOOKUP(F$11&$J$3,INDIRECT(\"'Curves \"&F$10&\"'!$11:$11\")&INDIRECT(\"'Curves \"&F$10&\"'!$12:$12\"),INDIRECT(\"'Curves \"&F$10&\"'!$14:$163\"),,0,1),,0,1)","v":3.3837531768507123E-2},{"$f":"_xlfn.XLOOKUP($A26,INDIRECT(\"'Curves \"&G$10&\"'!$A$14:$A$163\"),_xlfn.XLOOKUP(G$11&$J$3,INDIRECT(\"'Curves \"&G$10&\"'!$11:$11\")&INDIRECT(\"'Curves \"&G$10&\"'!$12:$12\"),INDIRECT(\"'Curves \"&G$10&\"'!$14:$163\"),,0,1),,0,1)","v":5.3006832971374207E-2},{"$f":"_xlfn.XLOOKUP($A26,INDIRECT(\"'Curves \"&H$10&\"'!$A$14:$A$163\"),_xlfn.XLOOKUP(H$11&$J$3,INDIRECT(\"'Curves \"&H$10&\"'!$11:$11\")&INDIRECT(\"'Curves \"&H$10&\"'!$12:$12\"),INDIRECT(\"'Curves \"&H$10&\"'!$14:$163\"),,0,1),,0,1)","v":1.4458109080364157E-2}]
[15,{"$f":"_xlfn.XLOOKUP($A27,INDIRECT(\"'Curves \"&B$10&\"'!$A$14:$A$163\"),_xlfn.XLOOKUP(B$11&$J$3,INDIRECT(\"'Curves \"&B$10&\"'!$11:$11\")&INDIRECT(\"'Curves \"&B$10&\"'!$12:$12\"),INDIRECT(\"'Curves \"&B$10&\"'!$14:$163\"),,0,1),,0,1)","v":3.1073802433713382E-2},{"$f":"_xlfn.XLOOKUP($A27,INDIRECT(\"'Curves \"&C$10&\"'!$A$14:$A$163\"),_xlfn.XLOOKUP(C$11&$J$3,INDIRECT(\"'Curves \"&C$10&\"'!$11:$11\")&INDIRECT(\"'Curves \"&C$10&\"'!$12:$12\"),INDIRECT(\"'Curves \"&C$10&\"'!$14:$163\"),,0,1),,0,1)","v":4.9574467115153231E-2},{"$f":"_xlfn.XLOOKUP($A27,INDIRECT(\"'Curves \"&D$10&\"'!$A$14:$A$163\"),_xlfn.XLOOKUP(D$11&$J$3,INDIRECT(\"'Curves \"&D$10&\"'!$11:$11\")&INDIRECT(\"'Curves \"&D$10&\"'!$12:$12\"),INDIRECT(\"'Curves \"&D$10&\"'!$14:$163\"),,0,1),,0,1)","v":1.1390591338542366E-2},null,{"$f":"_xlfn.XLOOKUP($A27,INDIRECT(\"'Curves \"&F$10&\"'!$A$14:$A$163\"),_xlfn.XLOOKUP(F$11&$J$3,INDIRECT(\"'Curves \"&F$10&\"'!$11:$11\")&INDIRECT(\"'Curves \"&F$10&\"'!$12:$12\"),INDIRECT(\"'Curves \"&F$10&\"'!$14:$163\"),,0,1),,0,1)","v":3.418243839436097E-2},{"$f":"_xlfn.XLOOKUP($A27,INDIRECT(\"'Curves \"&G$10&\"'!$A$14:$A$163\"),_xlfn.XLOOKUP(G$11&$J$3,INDIRECT(\"'Curves \"&G$10&\"'!$11:$11\")&INDIRECT(\"'Curves \"&G$10&\"'!$12:$12\"),INDIRECT(\"'Curves \"&G$10&\"'!$14:$163\"),,0,1),,0,1)","v":5.2738881654782244E-2},{"$f":"_xlfn.XLOOKUP($A27,INDIRECT(\"'Curves \"&H$10&\"'!$A$14:$A$163\"),_xlfn.XLOOKUP(H$11&$J$3,INDIRECT(\"'Curves \"&H$10&\"'!$11:$11\")&INDIRECT(\"'Curves \"&H$10&\"'!$12:$12\"),INDIRECT(\"'Curves \"&H$10&\"'!$14:$163\"),,0,1),,0,1)","v":1.4439883401898612E-2}]
[16,{"$f":"_xlfn.XLOOKUP($A28,INDIRECT(\"'Curves \"&B$10&\"'!$A$14:$A$163\"),_xlfn.XLOOKUP(B$11&$J$3,INDIRECT(\"'Curves \"&B$10&\"'!$11:$11\")&INDIRECT(\"'Curves \"&B$10&\"'!$12:$12\"),INDIRECT(\"'Curves \"&B$10&\"'!$14:$163\"),,0,1),,0,1)","v":3.1327928807661554E-2},{"$f":"_xlfn.XLOOKUP($A28,INDIRECT(\"'Curves \"&C$10&\"'!$A$14:$A$163\"),_xlfn.XLOOKUP(C$11&$J$3,INDIRECT(\"'Curves \"&C$10&\"'!$11:$11\")&INDIRECT(\"'Curves \"&C$10&\"'!$12:$12\"),INDIRECT(\"'Curves \"&C$10&\"'!$14:$163\"),,0,1),,0,1)","v":4.9899748873806882E-2},{"$f":"_xlfn.XLOOKUP($A28,INDIRECT(\"'Curves \"&D$10&\"'!$A$14:$A$163\"),_xlfn.XLOOKUP(D$11&$J$3,INDIRECT(\"'Curves \"&D$10&\"'!$11:$11\")&INDIRECT(\"'Curves \"&D$10&\"'!$12:$12\"),INDIRECT(\"'Curves \"&D$10&\"'!$14:$163\"),,0,1),,0,1)","v":1.1003802268060525E-2},null,{"$f":"_xlfn.XLOOKUP($A28,INDIRECT(\"'Curves \"&F$10&\"'!$A$14:$A$163\"),_xlfn.XLOOKUP(F$11&$J$3,INDIRECT(\"'Curves \"&F$10&\"'!$11:$11\")&INDIRECT(\"'Curves \"&F$10&\"'!$12:$12\"),INDIRECT(\"'Curves \"&F$10&\"'!$14:$163\"),,0,1),,0,1)","v":3.4437330946620381E-2},{"$f":"_xlfn.XLOOKUP($A28,INDIRECT(\"'Curves \"&G$10&\"'!$A$14:$A$163\"),_xlfn.XLOOKUP(G$11&$J$3,INDIRECT(\"'Curves \"&G$10&\"'!$11:$11\")&INDIRECT(\"'Curves \"&G$10&\"'!$12:$12\"),INDIRECT(\"'Curves \"&G$10&\"'!$14:$163\"),,0,1),,0,1)","v":5.306514412167429E-2},{"$f":"_xlfn.XLOOKUP($A28,INDIRECT(\"'Curves \"&H$10&\"'!$A$14:$A$163\"),_xlfn.XLOOKUP(H$11&$J$3,INDIRECT(\"'Curves \"&H$10&\"'!$11:$11\")&INDIRECT(\"'Curves \"&H$10&\"'!$12:$12\"),INDIRECT(\"'Curves \"&H$10&\"'!$14:$163\"),,0,1),,0,1)","v":1.4051928181708639E-2}]
[17,{"$f":"_xlfn.XLOOKUP($A29,INDIRECT(\"'Curves \"&B$10&\"'!$A$14:$A$163\"),_xlfn.XLOOKUP(B$11&$J$3,INDIRECT(\"'Curves \"&B$10&\"'!$11:$11\")&INDIRECT(\"'Curves \"&B$10&\"'!$12:$12\"),INDIRECT(\"'Curves \"&B$10&\"'!$14:$163\"),,0,1),,0,1)","v":3.1552209974986534E-2},{"$f":"_xlfn.XLOOKUP($A29,INDIRECT(\"'Curves \"&C$10&\"'!$A$14:$A$163\"),_xlfn.XLOOKUP(C$11&$J$3,INDIRECT(\"'Curves \"&C$10&\"'!$11:$11\")&INDIRECT(\"'Curves \"&C$10&\"'!$12:$12\"),INDIRECT(\"'Curves \"&C$10&\"'!$14:$163\"),,0,1),,0,1)","v":4.9571306668233062E-2},{"$f":"_xlfn.XLOOKUP($A29,INDIRECT(\"'Curves \"&D$10&\"'!$A$14:$A$163\"),_xlfn.XLOOKUP(D$11&$J$3,INDIRECT(\"'Curves \"&D$10&\"'!$11:$11\")&INDIRECT(\"'Curves \"&D$10&\"'!$12:$12\"),INDIRECT(\"'Curves \"&D$10&\"'!$14:$163\"),,0,1),,0,1)","v":1.0907149186992982E-2},null,{"$f":"_xlfn.XLOOKUP($A29,INDIRECT(\"'Curves \"&F$10&\"'!$A$14:$A$163\"),_xlfn.XLOOKUP(F$11&$J$3,INDIRECT(\"'Curves \"&F$10&\"'!$11:$11\")&INDIRECT(\"'Curves \"&F$10&\"'!$12:$12\"),INDIRECT(\"'Curves \"&F$10&\"'!$14:$163\"),,0,1),,0,1)","v":3.4662288310450595E-2},{"$f":"_xlfn.XLOOKUP($A29,INDIRECT(\"'Curves \"&G$10&\"'!$A$14:$A$163\"),_xlfn.XLOOKUP(G$11&$J$3,INDIRECT(\"'Curves \"&G$10&\"'!$11:$11\")&INDIRECT(\"'Curves \"&G$10&\"'!$12:$12\"),INDIRECT(\"'Curves \"&G$10&\"'!$14:$163\"),,0,1),,0,1)","v":5.2735711679272379E-2},{"$f":"_xlfn.XLOOKUP($A29,INDIRECT(\"'Curves \"&H$10&\"'!$A$14:$A$163\"),_xlfn.XLOOKUP(H$11&$J$3,INDIRECT(\"'Curves \"&H$10&\"'!$11:$11\")&INDIRECT(\"'Curves \"&H$10&\"'!$12:$12\"),INDIRECT(\"'Curves \"&H$10&\"'!$14:$163\"),,0,1),,0,1)","v":1.3954983696434331E-2}]
[18,{"$f":"_xlfn.XLOOKUP($A30,INDIRECT(\"'Curves \"&B$10&\"'!$A$14:$A$163\"),_xlfn.XLOOKUP(B$11&$J$3,INDIRECT(\"'Curves \"&B$10&\"'!$11:$11\")&INDIRECT(\"'Curves \"&B$10&\"'!$12:$12\"),INDIRECT(\"'Curves \"&B$10&\"'!$14:$163\"),,0,1),,0,1)","v":3.1751611958396708E-2},{"$f":"_xlfn.XLOOKUP($A30,INDIRECT(\"'Curves \"&C$10&\"'!$A$14:$A$163\"),_xlfn.XLOOKUP(C$11&$J$3,INDIRECT(\"'Curves \"&C$10&\"'!$11:$11\")&INDIRECT(\"'Curves \"&C$10&\"'!$12:$12\"),INDIRECT(\"'Curves \"&C$10&\"'!$14:$163\"),,0,1),,0,1)","v":4.9107031067579854E-2},{"$f":"_xlfn.XLOOKUP($A30,INDIRECT(\"'Curves \"&D$10&\"'!$A$14:$A$163\"),_xlfn.XLOOKUP(D$11&$J$3,INDIRECT(\"'Curves \"&D$10&\"'!$11:$11\")&INDIRECT(\"'Curves \"&D$10&\"'!$12:$12\"),INDIRECT(\"'Curves \"&D$10&\"'!$14:$163\"),,0,1),,0,1)","v":1.0793322098782365E-2},null,{"$f":"_xlfn.XLOOKUP($A30,INDIRECT(\"'Curves \"&F$10&\"'!$A$14:$A$163\"),_xlfn.XLOOKUP(F$11&$J$3,INDIRECT(\"'Curves \"&F$10&\"'!$11:$11\")&INDIRECT(\"'Curves \"&F$10&\"'!$12:$12\"),INDIRECT(\"'Curves \"&F$10&\"'!$14:$163\"),,0,1),,0,1)","v":3.4862291480870722E-2},{"$f":"_xlfn.XLOOKUP($A30,INDIRECT(\"'Curves \"&G$10&\"'!$A$14:$A$163\"),_xlfn.XLOOKUP(G$11&$J$3,INDIRECT(\"'Curves \"&G$10&\"'!$11:$11\")&INDIRECT(\"'Curves \"&G$10&\"'!$12:$12\"),INDIRECT(\"'Curves \"&G$10&\"'!$14:$163\"),,0,1),,0,1)","v":5.2270036310896995E-2},{"$f":"_xlfn.XLOOKUP($A30,INDIRECT(\"'Curves \"&H$10&\"'!$A$14:$A$163\"),_xlfn.XLOOKUP(H$11&$J$3,INDIRECT(\"'Curves \"&H$10&\"'!$11:$11\")&INDIRECT(\"'Curves \"&H$10&\"'!$12:$12\"),INDIRECT(\"'Curves \"&H$10&\"'!$14:$163\"),,0,1),,0,1)","v":1.3840813425244125E-2}]
[19,{"$f":"_xlfn.XLOOKUP($A31,INDIRECT(\"'Curves \"&B$10&\"'!$A$14:$A$163\"),_xlfn.XLOOKUP(B$11&$J$3,INDIRECT(\"'Curves \"&B$10&\"'!$11:$11\")&INDIRECT(\"'Curves \"&B$10&\"'!$12:$12\"),INDIRECT(\"'Curves \"&B$10&\"'!$14:$163\"),,0,1),,0,1)","v":3.1930056931590345E-2},{"$f":"_xlfn.XLOOKUP($A31,INDIRECT(\"'Curves \"&C$10&\"'!$A$14:$A$163\"),_xlfn.XLOOKUP(C$11&$J$3,INDIRECT(\"'Curves \"&C$10&\"'!$11:$11\")&INDIRECT(\"'Curves \"&C$10&\"'!$12:$12\"),INDIRECT(\"'Curves \"&C$10&\"'!$14:$163\"),,0,1),,0,1)","v":4.9331871733804045E-2},{"$f":"_xlfn.XLOOKUP($A31,INDIRECT(\"'Curves \"&D$10&\"'!$A$14:$A$163\"),_xlfn.XLOOKUP(D$11&$J$3,INDIRECT(\"'Curves \"&D$10&\"'!$11:$11\")&INDIRECT(\"'Curves \"&D$10&\"'!$12:$12\"),INDIRECT(\"'Curves \"&D$10&\"'!$14:$163\"),,0,1),,0,1)","v":1.1084329035111029E-2},null,{"$f":"_xlfn.XLOOKUP($A31,INDIRECT(\"'Curves \"&F$10&\"'!$A$14:$A$163\"),_xlfn.XLOOKUP(F$11&$J$3,INDIRECT(\"'Curves \"&F$10&\"'!$11:$11\")&INDIRECT(\"'Curves \"&F$10&\"'!$12:$12\"),INDIRECT(\"'Curves \"&F$10&\"'!$14:$163\"),,0,1),,0,1)","v":3.5041274456736327E-2},{"$f":"_xlfn.XLOOKUP($A31,INDIRECT(\"'Curves \"&G$10&\"'!$A$14:$A$163\"),_xlfn.XLOOKUP(G$11&$J$3,INDIRECT(\"'Curves \"&G$10&\"'!$11:$11\")&INDIRECT(\"'Curves \"&G$10&\"'!$12:$12\"),INDIRECT(\"'Curves \"&G$10&\"'!$14:$163\"),,0,1),,0,1)","v":5.2495554860487958E-2},{"$f":"_xlfn.XLOOKUP($A31,INDIRECT(\"'Curves \"&H$10&\"'!$A$14:$A$163\"),_xlfn.XLOOKUP(H$11&$J$3,INDIRECT(\"'Curves \"&H$10&\"'!$11:$11\")&INDIRECT(\"'Curves \"&H$10&\"'!$12:$12\"),INDIRECT(\"'Curves \"&H$10&\"'!$14:$163\"),,0,1),,0,1)","v":1.4132697732935462E-2}]
[20,{"$f":"_xlfn.XLOOKUP($A32,INDIRECT(\"'Curves \"&B$10&\"'!$A$14:$A$163\"),_xlfn.XLOOKUP(B$11&$J$3,INDIRECT(\"'Curves \"&B$10&\"'!$11:$11\")&INDIRECT(\"'Curves \"&B$10&\"'!$12:$12\"),INDIRECT(\"'Curves \"&B$10&\"'!$14:$163\"),,0,1),,0,1)","v":3.2090683794894659E-2},{"$f":"_xlfn.XLOOKUP($A32,INDIRECT(\"'Curves \"&C$10&\"'!$A$14:$A$163\"),_xlfn.XLOOKUP(C$11&$J$3,INDIRECT(\"'Curves \"&C$10&\"'!$11:$11\")&INDIRECT(\"'Curves \"&C$10&\"'!$12:$12\"),INDIRECT(\"'Curves \"&C$10&\"'!$14:$163\"),,0,1),,0,1)","v":4.8913354743618243E-2},{"$f":"_xlfn.XLOOKUP($A32,INDIRECT(\"'Curves \"&D$10&\"'!$A$14:$A$163\"),_xlfn.XLOOKUP(D$11&$J$3,INDIRECT(\"'Curves \"&D$10&\"'!$11:$11\")&INDIRECT(\"'Curves \"&D$10&\"'!$12:$12\"),INDIRECT(\"'Curves \"&D$10&\"'!$14:$163\"),,0,1),,0,1)","v":1.1045341897447436E-2},null,{"$f":"_xlfn.XLOOKUP($A32,INDIRECT(\"'Curves \"&F$10&\"'!$A$14:$A$163\"),_xlfn.XLOOKUP(F$11&$J$3,INDIRECT(\"'Curves \"&F$10&\"'!$11:$11\")&INDIRECT(\"'Curves \"&F$10&\"'!$12:$12\"),INDIRECT(\"'Curves \"&F$10&\"'!$14:$163\"),,0,1),,0,1)","v":3.5202385602002062E-2},{"$f":"_xlfn.XLOOKUP($A32,INDIRECT(\"'Curves \"&G$10&\"'!$A$14:$A$163\"),_xlfn.XLOOKUP(G$11&$J$3,INDIRECT(\"'Curves \"&G$10&\"'!$11:$11\")&INDIRECT(\"'Curves \"&G$10&\"'!$12:$12\"),INDIRECT(\"'Curves \"&G$10&\"'!$14:$163\"),,0,1),,0,1)","v":5.2075776062502355E-2},{"$f":"_xlfn.XLOOKUP($A32,INDIRECT(\"'Curves \"&H$10&\"'!$A$14:$A$163\"),_xlfn.XLOOKUP(H$11&$J$3,INDIRECT(\"'Curves \"&H$10&\"'!$11:$11\")&INDIRECT(\"'Curves \"&H$10&\"'!$12:$12\"),INDIRECT(\"'Curves \"&H$10&\"'!$14:$163\"),,0,1),,0,1)","v":1.4093593051001108E-2}]
[21,{"$f":"_xlfn.XLOOKUP($A33,INDIRECT(\"'Curves \"&B$10&\"'!$A$14:$A$163\"),_xlfn.XLOOKUP(B$11&$J$3,INDIRECT(\"'Curves \"&B$10&\"'!$11:$11\")&INDIRECT(\"'Curves \"&B$10&\"'!$12:$12\"),INDIRECT(\"'Curves \"&B$10&\"'!$14:$163\"),,0,1),,0,1)","v":3.2123705321590812E-2},{"$f":"_xlfn.XLOOKUP($A33,INDIRECT(\"'Curves \"&C$10&\"'!$A$14:$A$163\"),_xlfn.XLOOKUP(C$11&$J$3,INDIRECT(\"'Curves \"&C$10&\"'!$11:$11\")&INDIRECT(\"'Curves \"&C$10&\"'!$12:$12\"),INDIRECT(\"'Curves \"&C$10&\"'!$14:$163\"),,0,1),,0,1)","v":4.853209861909713E-2},{"$f":"_xlfn.XLOOKUP($A33,INDIRECT(\"'Curves \"&D$10&\"'!$A$14:$A$163\"),_xlfn.XLOOKUP(D$11&$J$3,INDIRECT(\"'Curves \"&D$10&\"'!$11:$11\")&INDIRECT(\"'Curves \"&D$10&\"'!$12:$12\"),INDIRECT(\"'Curves \"&D$10&\"'!$14:$163\"),,0,1),,0,1)","v":1.105712173740736E-2},null,{"$f":"_xlfn.XLOOKUP($A33,INDIRECT(\"'Curves \"&F$10&\"'!$A$14:$A$163\"),_xlfn.XLOOKUP(F$11&$J$3,INDIRECT(\"'Curves \"&F$10&\"'!$11:$11\")&INDIRECT(\"'Curves \"&F$10&\"'!$12:$12\"),INDIRECT(\"'Curves \"&F$10&\"'!$14:$163\"),,0,1),,0,1)","v":3.5133483488925199E-2},{"$f":"_xlfn.XLOOKUP($A33,INDIRECT(\"'Curves \"&G$10&\"'!$A$14:$A$163\"),_xlfn.XLOOKUP(G$11&$J$3,INDIRECT(\"'Curves \"&G$10&\"'!$11:$11\")&INDIRECT(\"'Curves \"&G$10&\"'!$12:$12\"),INDIRECT(\"'Curves \"&G$10&\"'!$14:$163\"),,0,1),,0,1)","v":5.1589725337582104E-2},{"$f":"_xlfn.XLOOKUP($A33,INDIRECT(\"'Curves \"&H$10&\"'!$A$14:$A$163\"),_xlfn.XLOOKUP(H$11&$J$3,INDIRECT(\"'Curves \"&H$10&\"'!$11:$11\")&INDIRECT(\"'Curves \"&H$10&\"'!$12:$12\"),INDIRECT(\"'Curves \"&H$10&\"'!$14:$163\"),,0,1),,0,1)","v":1.4005467594830456E-2}]
[22,{"$f":"_xlfn.XLOOKUP($A34,INDIRECT(\"'Curves \"&B$10&\"'!$A$14:$A$163\"),_xlfn.XLOOKUP(B$11&$J$3,INDIRECT(\"'Curves \"&B$10&\"'!$11:$11\")&INDIRECT(\"'Curves \"&B$10&\"'!$12:$12\"),INDIRECT(\"'Curves \"&B$10&\"'!$14:$163\"),,0,1),,0,1)","v":3.2154746104094523E-2},{"$f":"_xlfn.XLOOKUP($A34,INDIRECT(\"'Curves \"&C$10&\"'!$A$14:$A$163\"),_xlfn.XLOOKUP(C$11&$J$3,INDIRECT(\"'Curves \"&C$10&\"'!$11:$11\")&INDIRECT(\"'Curves \"&C$10&\"'!$12:$12\"),INDIRECT(\"'Curves \"&C$10&\"'!$14:$163\"),,0,1),,0,1)","v":4.8154842061208791E-2},{"$f":"_xlfn.XLOOKUP($A34,INDIRECT(\"'Curves \"&D$10&\"'!$A$14:$A$163\"),_xlfn.XLOOKUP(D$11&$J$3,INDIRECT(\"'Curves \"&D$10&\"'!$11:$11\")&INDIRECT(\"'Curves \"&D$10&\"'!$12:$12\"),INDIRECT(\"'Curves \"&D$10&\"'!$14:$163\"),,0,1),,0,1)","v":1.1162548362092073E-2},null,{"$f":"_xlfn.XLOOKUP($A34,INDIRECT(\"'Curves \"&F$10&\"'!$A$14:$A$163\"),_xlfn.XLOOKUP(F$11&$J$3,INDIRECT(\"'Curves \"&F$10&\"'!$11:$11\")&INDIRECT(\"'Curves \"&F$10&\"'!$12:$12\"),INDIRECT(\"'Curves \"&F$10&\"'!$14:$163\"),,0,1),,0,1)","v":3.5067261893461987E-2},{"$f":"_xlfn.XLOOKUP($A34,INDIRECT(\"'Curves \"&G$10&\"'!$A$14:$A$163\"),_xlfn.XLOOKUP(G$11&$J$3,INDIRECT(\"'Curves \"&G$10&\"'!$11:$11\")&INDIRECT(\"'Curves \"&G$10&\"'!$12:$12\"),INDIRECT(\"'Curves \"&G$10&\"'!$14:$163\"),,0,1),,0,1)","v":5.1112506634983124E-2},{"$f":"_xlfn.XLOOKUP($A34,INDIRECT(\"'Curves \"&H$10&\"'!$A$14:$A$163\"),_xlfn.XLOOKUP(H$11&$J$3,INDIRECT(\"'Curves \"&H$10&\"'!$11:$11\")&INDIRECT(\"'Curves \"&H$10&\"'!$12:$12\"),INDIRECT(\"'Curves \"&H$10&\"'!$14:$163\"),,0,1),,0,1)","v":1.4015828743582981E-2}]
[23,{"$f":"_xlfn.XLOOKUP($A35,INDIRECT(\"'Curves \"&B$10&\"'!$A$14:$A$163\"),_xlfn.XLOOKUP(B$11&$J$3,INDIRECT(\"'Curves \"&B$10&\"'!$11:$11\")&INDIRECT(\"'Curves \"&B$10&\"'!$12:$12\"),INDIRECT(\"'Curves \"&B$10&\"'!$14:$163\"),,0,1),,0,1)","v":3.218396280436564E-2},{"$f":"_xlfn.XLOOKUP($A35,INDIRECT(\"'Curves \"&C$10&\"'!$A$14:$A$163\"),_xlfn.XLOOKUP(C$11&$J$3,INDIRECT(\"'Curves \"&C$10&\"'!$11:$11\")&INDIRECT(\"'Curves \"&C$10&\"'!$12:$12\"),INDIRECT(\"'Curves \"&C$10&\"'!$14:$163\"),,0,1),,0,1)","v":4.7784143146940572E-2},{"$f":"_xlfn.XLOOKUP($A35,INDIRECT(\"'Curves \"&D$10&\"'!$A$14:$A$163\"),_xlfn.XLOOKUP(D$11&$J$3,INDIRECT(\"'Curves \"&D$10&\"'!$11:$11\")&INDIRECT(\"'Curves \"&D$10&\"'!$12:$12\"),INDIRECT(\"'Curves \"&D$10&\"'!$14:$163\"),,0,1),,0,1)","v":1.1339993882017341E-2},null,{"$f":"_xlfn.XLOOKUP($A35,INDIRECT(\"'Curves \"&F$10&\"'!$A$14:$A$163\"),_xlfn.XLOOKUP(F$11&$J$3,INDIRECT(\"'Curves \"&F$10&\"'!$11:$11\")&INDIRECT(\"'Curves \"&F$10&\"'!$12:$12\"),INDIRECT(\"'Curves \"&F$10&\"'!$14:$163\"),,0,1),,0,1)","v":3.5003728692156288E-2},{"$f":"_xlfn.XLOOKUP($A35,INDIRECT(\"'Curves \"&G$10&\"'!$A$14:$A$163\"),_xlfn.XLOOKUP(G$11&$J$3,INDIRECT(\"'Curves \"&G$10&\"'!$11:$11\")&INDIRECT(\"'Curves \"&G$10&\"'!$12:$12\"),INDIRECT(\"'Curves \"&G$10&\"'!$14:$163\"),,0,1),,0,1)","v":5.0646526298667283E-2},{"$f":"_xlfn.XLOOKUP($A35,INDIRECT(\"'Curves \"&H$10&\"'!$A$14:$A$163\"),_xlfn.XLOOKUP(H$11&$J$3,INDIRECT(\"'Curves \"&H$10&\"'!$11:$11\")&INDIRECT(\"'Curves \"&H$10&\"'!$12:$12\"),INDIRECT(\"'Curves \"&H$10&\"'!$14:$163\"),,0,1),,0,1)","v":1.4102817291866687E-2}]
[24,{"$f":"_xlfn.XLOOKUP($A36,INDIRECT(\"'Curves \"&B$10&\"'!$A$14:$A$163\"),_xlfn.XLOOKUP(B$11&$J$3,INDIRECT(\"'Curves \"&B$10&\"'!$11:$11\")&INDIRECT(\"'Curves \"&B$10&\"'!$12:$12\"),INDIRECT(\"'Curves \"&B$10&\"'!$14:$163\"),,0,1),,0,1)","v":3.2211496120299721E-2},{"$f":"_xlfn.XLOOKUP($A36,INDIRECT(\"'Curves \"&C$10&\"'!$A$14:$A$163\"),_xlfn.XLOOKUP(C$11&$J$3,INDIRECT(\"'Curves \"&C$10&\"'!$11:$11\")&INDIRECT(\"'Curves \"&C$10&\"'!$12:$12\"),INDIRECT(\"'Curves \"&C$10&\"'!$14:$163\"),,0,1),,0,1)","v":4.7421823589770762E-2},{"$f":"_xlfn.XLOOKUP($A36,INDIRECT(\"'Curves \"&D$10&\"'!$A$14:$A$163\"),_xlfn.XLOOKUP(D$11&$J$3,INDIRECT(\"'Curves \"&D$10&\"'!$11:$11\")&INDIRECT(\"'Curves \"&D$10&\"'!$12:$12\"),INDIRECT(\"'Curves \"&D$10&\"'!$14:$163\"),,0,1),,0,1)","v":1.1572386972180215E-2},null,{"$f":"_xlfn.XLOOKUP($A36,INDIRECT(\"'Curves \"&F$10&\"'!$A$14:$A$163\"),_xlfn.XLOOKUP(F$11&$J$3,INDIRECT(\"'Curves \"&F$10&\"'!$11:$11\")&INDIRECT(\"'Curves \"&F$10&\"'!$12:$12\"),INDIRECT(\"'Curves \"&F$10&\"'!$14:$163\"),,0,1),,0,1)","v":3.4942854706097037E-2},{"$f":"_xlfn.XLOOKUP($A36,INDIRECT(\"'Curves \"&G$10&\"'!$A$14:$A$163\"),_xlfn.XLOOKUP(G$11&$J$3,INDIRECT(\"'Curves \"&G$10&\"'!$11:$11\")&INDIRECT(\"'Curves \"&G$10&\"'!$12:$12\"),INDIRECT(\"'Curves \"&G$10&\"'!$14:$163\"),,0,1),,0,1)","v":5.0193430572996967E-2},{"$f":"_xlfn.XLOOKUP($A36,INDIRECT(\"'Curves \"&H$10&\"'!$A$14:$A$163\"),_xlfn.XLOOKUP(H$11&$J$3,INDIRECT(\"'Curves \"&H$10&\"'!$11:$11\")&INDIRECT(\"'Curves \"&H$10&\"'!$12:$12\"),INDIRECT(\"'Curves \"&H$10&\"'!$14:$163\"),,0,1),,0,1)","v":1.4249131936460158E-2}]
[25,{"$f":"_xlfn.XLOOKUP($A37,INDIRECT(\"'Curves \"&B$10&\"'!$A$14:$A$163\"),_xlfn.XLOOKUP(B$11&$J$3,INDIRECT(\"'Curves \"&B$10&\"'!$11:$11\")&INDIRECT(\"'Curves \"&B$10&\"'!$12:$12\"),INDIRECT(\"'Curves \"&B$10&\"'!$14:$163\"),,0,1),,0,1)","v":3.2237472964663061E-2},{"$f":"_xlfn.XLOOKUP($A37,INDIRECT(\"'Curves \"&C$10&\"'!$A$14:$A$163\"),_xlfn.XLOOKUP(C$11&$J$3,INDIRECT(\"'Curves \"&C$10&\"'!$11:$11\")&INDIRECT(\"'Curves \"&C$10&\"'!$12:$12\"),INDIRECT(\"'Curves \"&C$10&\"'!$14:$163\"),,0,1),,0,1)","v":4.7069147260415889E-2},{"$f":"_xlfn.XLOOKUP($A37,INDIRECT(\"'Curves \"&D$10&\"'!$A$14:$A$163\"),_xlfn.XLOOKUP(D$11&$J$3,INDIRECT(\"'Curves \"&D$10&\"'!$11:$11\")&INDIRECT(\"'Curves \"&D$10&\"'!$12:$12\"),INDIRECT(\"'Curves \"&D$10&\"'!$14:$163\"),,0,1),,0,1)","v":1.1846200662535944E-2},null,{"$f":"_xlfn.XLOOKUP($A37,INDIRECT(\"'Curves \"&F$10&\"'!$A$14:$A$163\"),_xlfn.XLOOKUP(F$11&$J$3,INDIRECT(\"'Curves \"&F$10&\"'!$11:$11\")&INDIRECT(\"'Curves \"&F$10&\"'!$12:$12\"),INDIRECT(\"'Curves \"&F$10&\"'!$14:$163\"),,0,1),,0,1)","v":3.4884584693367415E-2},{"$f":"_xlfn.XLOOKUP($A37,INDIRECT(\"'Curves \"&G$10&\"'!$A$14:$A$163\"),_xlfn.XLOOKUP(G$11&$J$3,INDIRECT(\"'Curves \"&G$10&\"'!$11:$11\")&INDIRECT(\"'Curves \"&G$10&\"'!$12:$12\"),INDIRECT(\"'Curves \"&G$10&\"'!$14:$163\"),,0,1),,0,1)","v":4.9754293937485317E-2},{"$f":"_xlfn.XLOOKUP($A37,INDIRECT(\"'Curves \"&H$10&\"'!$A$14:$A$163\"),_xlfn.XLOOKUP(H$11&$J$3,INDIRECT(\"'Curves \"&H$10&\"'!$11:$11\")&INDIRECT(\"'Curves \"&H$10&\"'!$12:$12\"),INDIRECT(\"'Curves \"&H$10&\"'!$14:$163\"),,0,1),,0,1)","v":1.4441020183790121E-2}]
[26,{"$f":"_xlfn.XLOOKUP($A38,INDIRECT(\"'Curves \"&B$10&\"'!$A$14:$A$163\"),_xlfn.XLOOKUP(B$11&$J$3,INDIRECT(\"'Curves \"&B$10&\"'!$11:$11\")&INDIRECT(\"'Curves \"&B$10&\"'!$12:$12\"),INDIRECT(\"'Curves \"&B$10&\"'!$14:$163\"),,0,1),,0,1)","v":3.2262008242638807E-2},{"$f":"_xlfn.XLOOKUP($A38,INDIRECT(\"'Curves \"&C$10&\"'!$A$14:$A$163\"),_xlfn.XLOOKUP(C$11&$J$3,INDIRECT(\"'Curves \"&C$10&\"'!$11:$11\")&INDIRECT(\"'Curves \"&C$10&\"'!$12:$12\"),INDIRECT(\"'Curves \"&C$10&\"'!$14:$163\"),,0,1),,0,1)","v":4.6726954377938945E-2},{"$f":"_xlfn.XLOOKUP($A38,INDIRECT(\"'Curves \"&D$10&\"'!$A$14:$A$163\"),_xlfn.XLOOKUP(D$11&$J$3,INDIRECT(\"'Curves \"&D$10&\"'!$11:$11\")&INDIRECT(\"'Curves \"&D$10&\"'!$12:$12\"),INDIRECT(\"'Curves \"&D$10&\"'!$14:$163\"),,0,1),,0,1)","v":1.215068579037526E-2},null,{"$f":"_xlfn.XLOOKUP($A38,INDIRECT(\"'Curves \"&F$10&\"'!$A$14:$A$163\"),_xlfn.XLOOKUP(F$11&$J$3,INDIRECT(\"'Curves \"&F$10&\"'!$11:$11\")&INDIRECT(\"'Curves \"&F$10&\"'!$12:$12\"),INDIRECT(\"'Curves \"&F$10&\"'!$14:$163\"),,0,1),,0,1)","v":3.4828845445132428E-2},{"$f":"_xlfn.XLOOKUP($A38,INDIRECT(\"'Curves \"&G$10&\"'!$A$14:$A$163\"),_xlfn.XLOOKUP(G$11&$J$3,INDIRECT(\"'Curves \"&G$10&\"'!$11:$11\")&INDIRECT(\"'Curves \"&G$10&\"'!$12:$12\"),INDIRECT(\"'Curves \"&G$10&\"'!$14:$163\"),,0,1),,0,1)","v":4.9329760318578275E-2},{"$f":"_xlfn.XLOOKUP($A38,INDIRECT(\"'Curves \"&H$10&\"'!$A$14:$A$163\"),_xlfn.XLOOKUP(H$11&$J$3,INDIRECT(\"'Curves \"&H$10&\"'!$11:$11\")&INDIRECT(\"'Curves \"&H$10&\"'!$12:$12\"),INDIRECT(\"'Curves \"&H$10&\"'!$14:$163\"),,0,1),,0,1)","v":1.4667513896099216E-2}]
[27,{"$f":"_xlfn.XLOOKUP($A39,INDIRECT(\"'Curves \"&B$10&\"'!$A$14:$A$163\"),_xlfn.XLOOKUP(B$11&$J$3,INDIRECT(\"'Curves \"&B$10&\"'!$11:$11\")&INDIRECT(\"'Curves \"&B$10&\"'!$12:$12\"),INDIRECT(\"'Curves \"&B$10&\"'!$14:$163\"),,0,1),,0,1)","v":3.2285206321883919E-2},{"$f":"_xlfn.XLOOKUP($A39,INDIRECT(\"'Curves \"&C$10&\"'!$A$14:$A$163\"),_xlfn.XLOOKUP(C$11&$J$3,INDIRECT(\"'Curves \"&C$10&\"'!$11:$11\")&INDIRECT(\"'Curves \"&C$10&\"'!$12:$12\"),INDIRECT(\"'Curves \"&C$10&\"'!$14:$163\"),,0,1),,0,1)","v":4.6395763168110893E-2},{"$f":"_xlfn.XLOOKUP($A39,INDIRECT(\"'Curves \"&D$10&\"'!$A$14:$A$163\"),_xlfn.XLOOKUP(D$11&$J$3,INDIRECT(\"'Curves \"&D$10&\"'!$11:$11\")&INDIRECT(\"'Curves \"&D$10&\"'!$12:$12\"),INDIRECT(\"'Curves \"&D$10&\"'!$14:$163\"),,0,1),,0,1)","v":1.2477284574325065E-2},null,{"$f":"_xlfn.XLOOKUP($A39,INDIRECT(\"'Curves \"&F$10&\"'!$A$14:$A$163\"),_xlfn.XLOOKUP(F$11&$J$3,INDIRECT(\"'Curves \"&F$10&\"'!$11:$11\")&INDIRECT(\"'Curves \"&F$10&\"'!$12:$12\"),INDIRECT(\"'Curves \"&F$10&\"'!$14:$163\"),,0,1),,0,1)","v":3.4775551772449287E-2},{"$f":"_xlfn.XLOOKUP($A39,INDIRECT(\"'Curves \"&G$10&\"'!$A$14:$A$163\"),_xlfn.XLOOKUP(G$11&$J$3,INDIRECT(\"'Curves \"&G$10&\"'!$11:$11\")&INDIRECT(\"'Curves \"&G$10&\"'!$12:$12\"),INDIRECT(\"'Curves \"&G$10&\"'!$14:$163\"),,0,1),,0,1)","v":4.8920149754625664E-2},{"$f":"_xlfn.XLOOKUP($A39,INDIRECT(\"'Curves \"&H$10&\"'!$A$14:$A$163\"),_xlfn.XLOOKUP(H$11&$J$3,INDIRECT(\"'Curves \"&H$10&\"'!$11:$11\")&INDIRECT(\"'Curves \"&H$10&\"'!$12:$12\"),INDIRECT(\"'Curves \"&H$10&\"'!$14:$163\"),,0,1),,0,1)","v":1.4919844231287005E-2}]
[28,{"$f":"_xlfn.XLOOKUP($A40,INDIRECT(\"'Curves \"&B$10&\"'!$A$14:$A$163\"),_xlfn.XLOOKUP(B$11&$J$3,INDIRECT(\"'Curves \"&B$10&\"'!$11:$11\")&INDIRECT(\"'Curves \"&B$10&\"'!$12:$12\"),INDIRECT(\"'Curves \"&B$10&\"'!$14:$163\"),,0,1),,0,1)","v":3.2307162263198297E-2},{"$f":"_xlfn.XLOOKUP($A40,INDIRECT(\"'Curves \"&C$10&\"'!$A$14:$A$163\"),_xlfn.XLOOKUP(C$11&$J$3,INDIRECT(\"'Curves \"&C$10&\"'!$11:$11\")&INDIRECT(\"'Curves \"&C$10&\"'!$12:$12\"),INDIRECT(\"'Curves \"&C$10&\"'!$14:$163\"),,0,1),,0,1)","v":4.6075847389895896E-2},{"$f":"_xlfn.XLOOKUP($A40,INDIRECT(\"'Curves \"&D$10&\"'!$A$14:$A$163\"),_xlfn.XLOOKUP(D$11&$J$3,INDIRECT(\"'Curves \"&D$10&\"'!$11:$11\")&INDIRECT(\"'Curves \"&D$10&\"'!$12:$12\"),INDIRECT(\"'Curves \"&D$10&\"'!$14:$163\"),,0,1),,0,1)","v":1.2819177888735434E-2},null,{"$f":"_xlfn.XLOOKUP($A40,INDIRECT(\"'Curves \"&F$10&\"'!$A$14:$A$163\"),_xlfn.XLOOKUP(F$11&$J$3,INDIRECT(\"'Curves \"&F$10&\"'!$11:$11\")&INDIRECT(\"'Curves \"&F$10&\"'!$12:$12\"),INDIRECT(\"'Curves \"&F$10&\"'!$14:$163\"),,0,1),,0,1)","v":3.4724610942371115E-2},{"$f":"_xlfn.XLOOKUP($A40,INDIRECT(\"'Curves \"&G$10&\"'!$A$14:$A$163\"),_xlfn.XLOOKUP(G$11&$J$3,INDIRECT(\"'Curves \"&G$10&\"'!$11:$11\")&INDIRECT(\"'Curves \"&G$10&\"'!$12:$12\"),INDIRECT(\"'Curves \"&G$10&\"'!$14:$163\"),,0,1),,0,1)","v":4.8525539466082845E-2},{"$f":"_xlfn.XLOOKUP($A40,INDIRECT(\"'Curves \"&H$10&\"'!$A$14:$A$163\"),_xlfn.XLOOKUP(H$11&$J$3,INDIRECT(\"'Curves \"&H$10&\"'!$11:$11\")&INDIRECT(\"'Curves \"&H$10&\"'!$12:$12\"),INDIRECT(\"'Curves \"&H$10&\"'!$14:$163\"),,0,1),,0,1)","v":1.5190989761531215E-2}]
[29,{"$f":"_xlfn.XLOOKUP($A41,INDIRECT(\"'Curves \"&B$10&\"'!$A$14:$A$163\"),_xlfn.XLOOKUP(B$11&$J$3,INDIRECT(\"'Curves \"&B$10&\"'!$11:$11\")&INDIRECT(\"'Curves \"&B$10&\"'!$12:$12\"),INDIRECT(\"'Curves \"&B$10&\"'!$14:$163\"),,0,1),,0,1)","v":3.2327962861988357E-2},{"$f":"_xlfn.XLOOKUP($A41,INDIRECT(\"'Curves \"&C$10&\"'!$A$14:$A$163\"),_xlfn.XLOOKUP(C$11&$J$3,INDIRECT(\"'Curves \"&C$10&\"'!$11:$11\")&INDIRECT(\"'Curves \"&C$10&\"'!$12:$12\"),INDIRECT(\"'Curves \"&C$10&\"'!$14:$163\"),,0,1),,0,1)","v":4.5767295789437279E-2},{"$f":"_xlfn.XLOOKUP($A41,INDIRECT(\"'Curves \"&D$10&\"'!$A$14:$A$163\"),_xlfn.XLOOKUP(D$11&$J$3,INDIRECT(\"'Curves \"&D$10&\"'!$11:$11\")&INDIRECT(\"'Curves \"&D$10&\"'!$12:$12\"),INDIRECT(\"'Curves \"&D$10&\"'!$14:$163\"),,0,1),,0,1)","v":1.3170932894098764E-2},null,{"$f":"_xlfn.XLOOKUP($A41,INDIRECT(\"'Curves \"&F$10&\"'!$A$14:$A$163\"),_xlfn.XLOOKUP(F$11&$J$3,INDIRECT(\"'Curves \"&F$10&\"'!$11:$11\")&INDIRECT(\"'Curves \"&F$10&\"'!$12:$12\"),INDIRECT(\"'Curves \"&F$10&\"'!$14:$163\"),,0,1),,0,1)","v":3.4675925964674059E-2},{"$f":"_xlfn.XLOOKUP($A41,INDIRECT(\"'Curves \"&G$10&\"'!$A$14:$A$163\"),_xlfn.XLOOKUP(G$11&$J$3,INDIRECT(\"'Curves \"&G$10&\"'!$11:$11\")&INDIRECT(\"'Curves \"&G$10&\"'!$12:$12\"),INDIRECT(\"'Curves \"&G$10&\"'!$14:$163\"),,0,1),,0,1)","v":4.8145825784596585E-2},{"$f":"_xlfn.XLOOKUP($A41,INDIRECT(\"'Curves \"&H$10&\"'!$A$14:$A$163\"),_xlfn.XLOOKUP(H$11&$J$3,INDIRECT(\"'Curves \"&H$10&\"'!$11:$11\")&INDIRECT(\"'Curves \"&H$10&\"'!$12:$12\"),INDIRECT(\"'Curves \"&H$10&\"'!$14:$163\"),,0,1),,0,1)","v":1.5475324572644222E-2}]
[30,{"$f":"_xlfn.XLOOKUP($A42,INDIRECT(\"'Curves \"&B$10&\"'!$A$14:$A$163\"),_xlfn.XLOOKUP(B$11&$J$3,INDIRECT(\"'Curves \"&B$10&\"'!$11:$11\")&INDIRECT(\"'Curves \"&B$10&\"'!$12:$12\"),INDIRECT(\"'Curves \"&B$10&\"'!$14:$163\"),,0,1),,0,1)","v":3.234768753809969E-2},{"$f":"_xlfn.XLOOKUP($A42,INDIRECT(\"'Curves \"&C$10&\"'!$A$14:$A$163\"),_xlfn.XLOOKUP(C$11&$J$3,INDIRECT(\"'Curves \"&C$10&\"'!$11:$11\")&INDIRECT(\"'Curves \"&C$10&\"'!$12:$12\"),INDIRECT(\"'Curves \"&C$10&\"'!$14:$163\"),,0,1),,0,1)","v":4.5470057903105765E-2},{"$f":"_xlfn.XLOOKUP($A42,INDIRECT(\"'Curves \"&D$10&\"'!$A$14:$A$163\"),_xlfn.XLOOKUP(D$11&$J$3,INDIRECT(\"'Curves \"&D$10&\"'!$11:$11\")&INDIRECT(\"'Curves \"&D$10&\"'!$12:$12\"),INDIRECT(\"'Curves \"&D$10&\"'!$14:$163\"),,0,1),,0,1)","v":1.3528226762786755E-2},null,{"$f":"_xlfn.XLOOKUP($A42,INDIRECT(\"'Curves \"&F$10&\"'!$A$14:$A$163\"),_xlfn.XLOOKUP(F$11&$J$3,INDIRECT(\"'Curves \"&F$10&\"'!$11:$11\")&INDIRECT(\"'Curves \"&F$10&\"'!$12:$12\"),INDIRECT(\"'Curves \"&F$10&\"'!$14:$163\"),,0,1),,0,1)","v":3.4629398020789015E-2},{"$f":"_xlfn.XLOOKUP($A42,INDIRECT(\"'Curves \"&G$10&\"'!$A$14:$A$163\"),_xlfn.XLOOKUP(G$11&$J$3,INDIRECT(\"'Curves \"&G$10&\"'!$11:$11\")&INDIRECT(\"'Curves \"&G$10&\"'!$12:$12\"),INDIRECT(\"'Curves \"&G$10&\"'!$14:$163\"),,0,1),,0,1)","v":4.7780771647371489E-2},{"$f":"_xlfn.XLOOKUP($A42,INDIRECT(\"'Curves \"&H$10&\"'!$A$14:$A$163\"),_xlfn.XLOOKUP(H$11&$J$3,INDIRECT(\"'Curves \"&H$10&\"'!$11:$11\")&INDIRECT(\"'Curves \"&H$10&\"'!$12:$12\"),INDIRECT(\"'Curves \"&H$10&\"'!$14:$163\"),,0,1),,0,1)","v":1.5768342188454021E-2}]
[31,{"$f":"_xlfn.XLOOKUP($A43,INDIRECT(\"'Curves \"&B$10&\"'!$A$14:$A$163\"),_xlfn.XLOOKUP(B$11&$J$3,INDIRECT(\"'Curves \"&B$10&\"'!$11:$11\")&INDIRECT(\"'Curves \"&B$10&\"'!$12:$12\"),INDIRECT(\"'Curves \"&B$10&\"'!$14:$163\"),,0,1),,0,1)","v":3.2366409102550842E-2},{"$f":"_xlfn.XLOOKUP($A43,INDIRECT(\"'Curves \"&C$10&\"'!$A$14:$A$163\"),_xlfn.XLOOKUP(C$11&$J$3,INDIRECT(\"'Curves \"&C$10&\"'!$11:$11\")&INDIRECT(\"'Curves \"&C$10&\"'!$12:$12\"),INDIRECT(\"'Curves \"&C$10&\"'!$14:$163\"),,0,1),,0,1)","v":4.5183979470370561E-2},{"$f":"_xlfn.XLOOKUP($A43,INDIRECT(\"'Curves \"&D$10&\"'!$A$14:$A$163\"),_xlfn.XLOOKUP(D$11&$J$3,INDIRECT(\"'Curves \"&D$10&\"'!$11:$11\")&INDIRECT(\"'Curves \"&D$10&\"'!$12:$12\"),INDIRECT(\"'Curves \"&D$10&\"'!$14:$163\"),,0,1),,0,1)","v":1.3887628639509986E-2},null,{"$f":"_xlfn.XLOOKUP($A43,INDIRECT(\"'Curves \"&F$10&\"'!$A$14:$A$163\"),_xlfn.XLOOKUP(F$11&$J$3,INDIRECT(\"'Curves \"&F$10&\"'!$11:$11\")&INDIRECT(\"'Curves \"&F$10&\"'!$12:$12\"),INDIRECT(\"'Curves \"&F$10&\"'!$14:$163\"),,0,1),,0,1)","v":3.4584928248905467E-2},{"$f":"_xlfn.XLOOKUP($A43,INDIRECT(\"'Curves \"&G$10&\"'!$A$14:$A$163\"),_xlfn.XLOOKUP(G$11&$J$3,INDIRECT(\"'Curves \"&G$10&\"'!$11:$11\")&INDIRECT(\"'Curves \"&G$10&\"'!$12:$12\"),INDIRECT(\"'Curves \"&G$10&\"'!$14:$163\"),,0,1),,0,1)","v":4.7430043125167298E-2},{"$f":"_xlfn.XLOOKUP($A43,INDIRECT(\"'Curves \"&H$10&\"'!$A$14:$A$163\"),_xlfn.XLOOKUP(H$11&$J$3,INDIRECT(\"'Curves \"&H$10&\"'!$11:$11\")&INDIRECT(\"'Curves \"&H$10&\"'!$12:$12\"),INDIRECT(\"'Curves \"&H$10&\"'!$14:$163\"),,0,1),,0,1)","v":1.6066437535805056E-2}]
[32,{"$f":"_xlfn.XLOOKUP($A44,INDIRECT(\"'Curves \"&B$10&\"'!$A$14:$A$163\"),_xlfn.XLOOKUP(B$11&$J$3,INDIRECT(\"'Curves \"&B$10&\"'!$11:$11\")&INDIRECT(\"'Curves \"&B$10&\"'!$12:$12\"),INDIRECT(\"'Curves \"&B$10&\"'!$14:$163\"),,0,1),,0,1)","v":3.2384194423146218E-2},{"$f":"_xlfn.XLOOKUP($A44,INDIRECT(\"'Curves \"&C$10&\"'!$A$14:$A$163\"),_xlfn.XLOOKUP(C$11&$J$3,INDIRECT(\"'Curves \"&C$10&\"'!$11:$11\")&INDIRECT(\"'Curves \"&C$10&\"'!$12:$12\"),INDIRECT(\"'Curves \"&C$10&\"'!$14:$163\"),,0,1),,0,1)","v":4.490882988449596E-2},{"$f":"_xlfn.XLOOKUP($A44,INDIRECT(\"'Curves \"&D$10&\"'!$A$14:$A$163\"),_xlfn.XLOOKUP(D$11&$J$3,INDIRECT(\"'Curves \"&D$10&\"'!$11:$11\")&INDIRECT(\"'Curves \"&D$10&\"'!$12:$12\"),INDIRECT(\"'Curves \"&D$10&\"'!$14:$163\"),,0,1),,0,1)","v":1.4246426544733071E-2},null,{"$f":"_xlfn.XLOOKUP($A44,INDIRECT(\"'Curves \"&F$10&\"'!$A$14:$A$163\"),_xlfn.XLOOKUP(F$11&$J$3,INDIRECT(\"'Curves \"&F$10&\"'!$11:$11\")&INDIRECT(\"'Curves \"&F$10&\"'!$12:$12\"),INDIRECT(\"'Curves \"&F$10&\"'!$14:$163\"),,0,1),,0,1)","v":3.454241904367028E-2},{"$f":"_xlfn.XLOOKUP($A44,INDIRECT(\"'Curves \"&G$10&\"'!$A$14:$A$163\"),_xlfn.XLOOKUP(G$11&$J$3,INDIRECT(\"'Curves \"&G$10&\"'!$11:$11\")&INDIRECT(\"'Curves \"&G$10&\"'!$12:$12\"),INDIRECT(\"'Curves \"&G$10&\"'!$14:$163\"),,0,1),,0,1)","v":4.7093237564351798E-2},{"$f":"_xlfn.XLOOKUP($A44,INDIRECT(\"'Curves \"&H$10&\"'!$A$14:$A$163\"),_xlfn.XLOOKUP(H$11&$J$3,INDIRECT(\"'Curves \"&H$10&\"'!$11:$11\")&INDIRECT(\"'Curves \"&H$10&\"'!$12:$12\"),INDIRECT(\"'Curves \"&H$10&\"'!$14:$163\"),,0,1),,0,1)","v":1.6366733714168857E-2}]
[33,{"$f":"_xlfn.XLOOKUP($A45,INDIRECT(\"'Curves \"&B$10&\"'!$A$14:$A$163\"),_xlfn.XLOOKUP(B$11&$J$3,INDIRECT(\"'Curves \"&B$10&\"'!$11:$11\")&INDIRECT(\"'Curves \"&B$10&\"'!$12:$12\"),INDIRECT(\"'Curves \"&B$10&\"'!$14:$163\"),,0,1),,0,1)","v":3.2401105006113484E-2},{"$f":"_xlfn.XLOOKUP($A45,INDIRECT(\"'Curves \"&C$10&\"'!$A$14:$A$163\"),_xlfn.XLOOKUP(C$11&$J$3,INDIRECT(\"'Curves \"&C$10&\"'!$11:$11\")&INDIRECT(\"'Curves \"&C$10&\"'!$12:$12\"),INDIRECT(\"'Curves \"&C$10&\"'!$14:$163\"),,0,1),,0,1)","v":4.4644323504965167E-2},{"$f":"_xlfn.XLOOKUP($A45,INDIRECT(\"'Curves \"&D$10&\"'!$A$14:$A$163\"),_xlfn.XLOOKUP(D$11&$J$3,INDIRECT(\"'Curves \"&D$10&\"'!$11:$11\")&INDIRECT(\"'Curves \"&D$10&\"'!$12:$12\"),INDIRECT(\"'Curves \"&D$10&\"'!$14:$163\"),,0,1),,0,1)","v":1.4602489230489901E-2},null,{"$f":"_xlfn.XLOOKUP($A45,INDIRECT(\"'Curves \"&F$10&\"'!$A$14:$A$163\"),_xlfn.XLOOKUP(F$11&$J$3,INDIRECT(\"'Curves \"&F$10&\"'!$11:$11\")&INDIRECT(\"'Curves \"&F$10&\"'!$12:$12\"),INDIRECT(\"'Curves \"&F$10&\"'!$14:$163\"),,0,1),,0,1)","v":3.450177498871243E-2},{"$f":"_xlfn.XLOOKUP($A45,INDIRECT(\"'Curves \"&G$10&\"'!$A$14:$A$163\"),_xlfn.XLOOKUP(G$11&$J$3,INDIRECT(\"'Curves \"&G$10&\"'!$11:$11\")&INDIRECT(\"'Curves \"&G$10&\"'!$12:$12\"),INDIRECT(\"'Curves \"&G$10&\"'!$14:$163\"),,0,1),,0,1)","v":4.6769905279566482E-2},{"$f":"_xlfn.XLOOKUP($A45,INDIRECT(\"'Curves \"&H$10&\"'!$A$14:$A$163\"),_xlfn.XLOOKUP(H$11&$J$3,INDIRECT(\"'Curves \"&H$10&\"'!$11:$11\")&INDIRECT(\"'Curves \"&H$10&\"'!$12:$12\"),INDIRECT(\"'Curves \"&H$10&\"'!$14:$163\"),,0,1),,0,1)","v":1.6666943620418095E-2}]
[34,{"$f":"_xlfn.XLOOKUP($A46,INDIRECT(\"'Curves \"&B$10&\"'!$A$14:$A$163\"),_xlfn.XLOOKUP(B$11&$J$3,INDIRECT(\"'Curves \"&B$10&\"'!$11:$11\")&INDIRECT(\"'Curves \"&B$10&\"'!$12:$12\"),INDIRECT(\"'Curves \"&B$10&\"'!$14:$163\"),,0,1),,0,1)","v":3.2417197507316198E-2},{"$f":"_xlfn.XLOOKUP($A46,INDIRECT(\"'Curves \"&C$10&\"'!$A$14:$A$163\"),_xlfn.XLOOKUP(C$11&$J$3,INDIRECT(\"'Curves \"&C$10&\"'!$11:$11\")&INDIRECT(\"'Curves \"&C$10&\"'!$12:$12\"),INDIRECT(\"'Curves \"&C$10&\"'!$14:$163\"),,0,1),,0,1)","v":4.4390136212749232E-2},{"$f":"_xlfn.XLOOKUP($A46,INDIRECT(\"'Curves \"&D$10&\"'!$A$14:$A$163\"),_xlfn.XLOOKUP(D$11&$J$3,INDIRECT(\"'Curves \"&D$10&\"'!$11:$11\")&INDIRECT(\"'Curves \"&D$10&\"'!$12:$12\"),INDIRECT(\"'Curves \"&D$10&\"'!$14:$163\"),,0,1),,0,1)","v":1.495415541020817E-2},null,{"$f":"_xlfn.XLOOKUP($A46,INDIRECT(\"'Curves \"&F$10&\"'!$A$14:$A$163\"),_xlfn.XLOOKUP(F$11&$J$3,INDIRECT(\"'Curves \"&F$10&\"'!$11:$11\")&INDIRECT(\"'Curves \"&F$10&\"'!$12:$12\"),INDIRECT(\"'Curves \"&F$10&\"'!$14:$163\"),,0,1),,0,1)","v":3.4462903510859233E-2},{"$f":"_xlfn.XLOOKUP($A46,INDIRECT(\"'Curves \"&G$10&\"'!$A$14:$A$163\"),_xlfn.XLOOKUP(G$11&$J$3,INDIRECT(\"'Curves \"&G$10&\"'!$11:$11\")&INDIRECT(\"'Curves \"&G$10&\"'!$12:$12\"),INDIRECT(\"'Curves \"&G$10&\"'!$14:$163\"),,0,1),,0,1)","v":4.6459566261812801E-2},{"$f":"_xlfn.XLOOKUP($A46,INDIRECT(\"'Curves \"&H$10&\"'!$A$14:$A$163\"),_xlfn.XLOOKUP(H$11&$J$3,INDIRECT(\"'Curves \"&H$10&\"'!$11:$11\")&INDIRECT(\"'Curves \"&H$10&\"'!$12:$12\"),INDIRECT(\"'Curves \"&H$10&\"'!$14:$163\"),,0,1),,0,1)","v":1.6965258880836664E-2}]
[35,{"$f":"_xlfn.XLOOKUP($A47,INDIRECT(\"'Curves \"&B$10&\"'!$A$14:$A$163\"),_xlfn.XLOOKUP(B$11&$J$3,INDIRECT(\"'Curves \"&B$10&\"'!$11:$11\")&INDIRECT(\"'Curves \"&B$10&\"'!$12:$12\"),INDIRECT(\"'Curves \"&B$10&\"'!$14:$163\"),,0,1),,0,1)","v":3.2432524183866773E-2},{"$f":"_xlfn.XLOOKUP($A47,INDIRECT(\"'Curves \"&C$10&\"'!$A$14:$A$163\"),_xlfn.XLOOKUP(C$11&$J$3,INDIRECT(\"'Curves \"&C$10&\"'!$11:$11\")&INDIRECT(\"'Curves \"&C$10&\"'!$12:$12\"),INDIRECT(\"'Curves \"&C$10&\"'!$14:$163\"),,0,1),,0,1)","v":4.4145918261937034E-2},{"$f":"_xlfn.XLOOKUP($A47,INDIRECT(\"'Curves \"&D$10&\"'!$A$14:$A$163\"),_xlfn.XLOOKUP(D$11&$J$3,INDIRECT(\"'Curves \"&D$10&\"'!$11:$11\")&INDIRECT(\"'Curves \"&D$10&\"'!$12:$12\"),INDIRECT(\"'Curves \"&D$10&\"'!$14:$163\"),,0,1),,0,1)","v":1.5300144565099982E-2},null,{"$f":"_xlfn.XLOOKUP($A47,INDIRECT(\"'Curves \"&F$10&\"'!$A$14:$A$163\"),_xlfn.XLOOKUP(F$11&$J$3,INDIRECT(\"'Curves \"&F$10&\"'!$11:$11\")&INDIRECT(\"'Curves \"&F$10&\"'!$12:$12\"),INDIRECT(\"'Curves \"&F$10&\"'!$14:$163\"),,0,1),,0,1)","v":3.4425715323247008E-2},{"$f":"_xlfn.XLOOKUP($A47,INDIRECT(\"'Curves \"&G$10&\"'!$A$14:$A$163\"),_xlfn.XLOOKUP(G$11&$J$3,INDIRECT(\"'Curves \"&G$10&\"'!$11:$11\")&INDIRECT(\"'Curves \"&G$10&\"'!$12:$12\"),INDIRECT(\"'Curves \"&G$10&\"'!$14:$163\"),,0,1),,0,1)","v":4.6161723017937861E-2},{"$f":"_xlfn.XLOOKUP($A47,INDIRECT(\"'Curves \"&H$10&\"'!$A$14:$A$163\"),_xlfn.XLOOKUP(H$11&$J$3,INDIRECT(\"'Curves \"&H$10&\"'!$11:$11\")&INDIRECT(\"'Curves \"&H$10&\"'!$12:$12\"),INDIRECT(\"'Curves \"&H$10&\"'!$14:$163\"),,0,1),,0,1)","v":1.7260260315578035E-2}]
[36,{"$f":"_xlfn.XLOOKUP($A48,INDIRECT(\"'Curves \"&B$10&\"'!$A$14:$A$163\"),_xlfn.XLOOKUP(B$11&$J$3,INDIRECT(\"'Curves \"&B$10&\"'!$11:$11\")&INDIRECT(\"'Curves \"&B$10&\"'!$12:$12\"),INDIRECT(\"'Curves \"&B$10&\"'!$14:$163\"),,0,1),,0,1)","v":3.2447133294892794E-2},{"$f":"_xlfn.XLOOKUP($A48,INDIRECT(\"'Curves \"&C$10&\"'!$A$14:$A$163\"),_xlfn.XLOOKUP(C$11&$J$3,INDIRECT(\"'Curves \"&C$10&\"'!$11:$11\")&INDIRECT(\"'Curves \"&C$10&\"'!$12:$12\"),INDIRECT(\"'Curves \"&C$10&\"'!$14:$163\"),,0,1),,0,1)","v":4.3911304236688542E-2},{"$f":"_xlfn.XLOOKUP($A48,INDIRECT(\"'Curves \"&D$10&\"'!$A$14:$A$163\"),_xlfn.XLOOKUP(D$11&$J$3,INDIRECT(\"'Curves \"&D$10&\"'!$11:$11\")&INDIRECT(\"'Curves \"&D$10&\"'!$12:$12\"),INDIRECT(\"'Curves \"&D$10&\"'!$14:$163\"),,0,1),,0,1)","v":1.5639484857305819E-2},null,{"$f":"_xlfn.XLOOKUP($A48,INDIRECT(\"'Curves \"&F$10&\"'!$A$14:$A$163\"),_xlfn.XLOOKUP(F$11&$J$3,INDIRECT(\"'Curves \"&F$10&\"'!$11:$11\")&INDIRECT(\"'Curves \"&F$10&\"'!$12:$12\"),INDIRECT(\"'Curves \"&F$10&\"'!$14:$163\"),,0,1),,0,1)","v":3.4390124708421954E-2},{"$f":"_xlfn.XLOOKUP($A48,INDIRECT(\"'Curves \"&G$10&\"'!$A$14:$A$163\"),_xlfn.XLOOKUP(G$11&$J$3,INDIRECT(\"'Curves \"&G$10&\"'!$11:$11\")&INDIRECT(\"'Curves \"&G$10&\"'!$12:$12\"),INDIRECT(\"'Curves \"&G$10&\"'!$14:$163\"),,0,1),,0,1)","v":4.5875870397228846E-2},{"$f":"_xlfn.XLOOKUP($A48,INDIRECT(\"'Curves \"&H$10&\"'!$A$14:$A$163\"),_xlfn.XLOOKUP(H$11&$J$3,INDIRECT(\"'Curves \"&H$10&\"'!$11:$11\")&INDIRECT(\"'Curves \"&H$10&\"'!$12:$12\"),INDIRECT(\"'Curves \"&H$10&\"'!$14:$163\"),,0,1),,0,1)","v":1.7550845482639854E-2}]
[37,{"$f":"_xlfn.XLOOKUP($A49,INDIRECT(\"'Curves \"&B$10&\"'!$A$14:$A$163\"),_xlfn.XLOOKUP(B$11&$J$3,INDIRECT(\"'Curves \"&B$10&\"'!$11:$11\")&INDIRECT(\"'Curves \"&B$10&\"'!$12:$12\"),INDIRECT(\"'Curves \"&B$10&\"'!$14:$163\"),,0,1),,0,1)","v":3.2461069458604275E-2},{"$f":"_xlfn.XLOOKUP($A49,INDIRECT(\"'Curves \"&C$10&\"'!$A$14:$A$163\"),_xlfn.XLOOKUP(C$11&$J$3,INDIRECT(\"'Curves \"&C$10&\"'!$11:$11\")&INDIRECT(\"'Curves \"&C$10&\"'!$12:$12\"),INDIRECT(\"'Curves \"&C$10&\"'!$14:$163\"),,0,1),,0,1)","v":4.3685920738459005E-2},{"$f":"_xlfn.XLOOKUP($A49,INDIRECT(\"'Curves \"&D$10&\"'!$A$14:$A$163\"),_xlfn.XLOOKUP(D$11&$J$3,INDIRECT(\"'Curves \"&D$10&\"'!$11:$11\")&INDIRECT(\"'Curves \"&D$10&\"'!$12:$12\"),INDIRECT(\"'Curves \"&D$10&\"'!$14:$163\"),,0,1),,0,1)","v":1.5971454678630259E-2},null,{"$f":"_xlfn.XLOOKUP($A49,INDIRECT(\"'Curves \"&F$10&\"'!$A$14:$A$163\"),_xlfn.XLOOKUP(F$11&$J$3,INDIRECT(\"'Curves \"&F$10&\"'!$11:$11\")&INDIRECT(\"'Curves \"&F$10&\"'!$12:$12\"),INDIRECT(\"'Curves \"&F$10&\"'!$14:$163\"),,0,1),,0,1)","v":3.4356049680458911E-2},{"$f":"_xlfn.XLOOKUP($A49,INDIRECT(\"'Curves \"&G$10&\"'!$A$14:$A$163\"),_xlfn.XLOOKUP(G$11&$J$3,INDIRECT(\"'Curves \"&G$10&\"'!$11:$11\")&INDIRECT(\"'Curves \"&G$10&\"'!$12:$12\"),INDIRECT(\"'Curves \"&G$10&\"'!$14:$163\"),,0,1),,0,1)","v":4.5601503065126892E-2},{"$f":"_xlfn.XLOOKUP($A49,INDIRECT(\"'Curves \"&H$10&\"'!$A$14:$A$163\"),_xlfn.XLOOKUP(H$11&$J$3,INDIRECT(\"'Curves \"&H$10&\"'!$11:$11\")&INDIRECT(\"'Curves \"&H$10&\"'!$12:$12\"),INDIRECT(\"'Curves \"&H$10&\"'!$14:$163\"),,0,1),,0,1)","v":1.7836169842752048E-2}]
[38,{"$f":"_xlfn.XLOOKUP($A50,INDIRECT(\"'Curves \"&B$10&\"'!$A$14:$A$163\"),_xlfn.XLOOKUP(B$11&$J$3,INDIRECT(\"'Curves \"&B$10&\"'!$11:$11\")&INDIRECT(\"'Curves \"&B$10&\"'!$12:$12\"),INDIRECT(\"'Curves \"&B$10&\"'!$14:$163\"),,0,1),,0,1)","v":3.247437397155295E-2},{"$f":"_xlfn.XLOOKUP($A50,INDIRECT(\"'Curves \"&C$10&\"'!$A$14:$A$163\"),_xlfn.XLOOKUP(C$11&$J$3,INDIRECT(\"'Curves \"&C$10&\"'!$11:$11\")&INDIRECT(\"'Curves \"&C$10&\"'!$12:$12\"),INDIRECT(\"'Curves \"&C$10&\"'!$14:$163\"),,0,1),,0,1)","v":4.3469392288924213E-2},{"$f":"_xlfn.XLOOKUP($A50,INDIRECT(\"'Curves \"&D$10&\"'!$A$14:$A$163\"),_xlfn.XLOOKUP(D$11&$J$3,INDIRECT(\"'Curves \"&D$10&\"'!$11:$11\")&INDIRECT(\"'Curves \"&D$10&\"'!$12:$12\"),INDIRECT(\"'Curves \"&D$10&\"'!$14:$163\"),,0,1),,0,1)","v":1.6295535121171545E-2},null,{"$f":"_xlfn.XLOOKUP($A50,INDIRECT(\"'Curves \"&F$10&\"'!$A$14:$A$163\"),_xlfn.XLOOKUP(F$11&$J$3,INDIRECT(\"'Curves \"&F$10&\"'!$11:$11\")&INDIRECT(\"'Curves \"&F$10&\"'!$12:$12\"),INDIRECT(\"'Curves \"&F$10&\"'!$14:$163\"),,0,1),,0,1)","v":3.4323412056012748E-2},{"$f":"_xlfn.XLOOKUP($A50,INDIRECT(\"'Curves \"&G$10&\"'!$A$14:$A$163\"),_xlfn.XLOOKUP(G$11&$J$3,INDIRECT(\"'Curves \"&G$10&\"'!$11:$11\")&INDIRECT(\"'Curves \"&G$10&\"'!$12:$12\"),INDIRECT(\"'Curves \"&G$10&\"'!$14:$163\"),,0,1),,0,1)","v":4.5338121135809484E-2},{"$f":"_xlfn.XLOOKUP($A50,INDIRECT(\"'Curves \"&H$10&\"'!$A$14:$A$163\"),_xlfn.XLOOKUP(H$11&$J$3,INDIRECT(\"'Curves \"&H$10&\"'!$11:$11\")&INDIRECT(\"'Curves \"&H$10&\"'!$12:$12\"),INDIRECT(\"'Curves \"&H$10&\"'!$14:$163\"),,0,1),,0,1)","v":1.8115598840793945E-2}]
[39,{"$f":"_xlfn.XLOOKUP($A51,INDIRECT(\"'Curves \"&B$10&\"'!$A$14:$A$163\"),_xlfn.XLOOKUP(B$11&$J$3,INDIRECT(\"'Curves \"&B$10&\"'!$11:$11\")&INDIRECT(\"'Curves \"&B$10&\"'!$12:$12\"),INDIRECT(\"'Curves \"&B$10&\"'!$14:$163\"),,0,1),,0,1)","v":3.2487085094986545E-2},{"$f":"_xlfn.XLOOKUP($A51,INDIRECT(\"'Curves \"&C$10&\"'!$A$14:$A$163\"),_xlfn.XLOOKUP(C$11&$J$3,INDIRECT(\"'Curves \"&C$10&\"'!$11:$11\")&INDIRECT(\"'Curves \"&C$10&\"'!$12:$12\"),INDIRECT(\"'Curves \"&C$10&\"'!$14:$163\"),,0,1),,0,1)","v":4.3261345827524389E-2},{"$f":"_xlfn.XLOOKUP($A51,INDIRECT(\"'Curves \"&D$10&\"'!$A$14:$A$163\"),_xlfn.XLOOKUP(D$11&$J$3,INDIRECT(\"'Curves \"&D$10&\"'!$11:$11\")&INDIRECT(\"'Curves \"&D$10&\"'!$12:$12\"),INDIRECT(\"'Curves \"&D$10&\"'!$14:$163\"),,0,1),,0,1)","v":1.6611371235184302E-2},null,{"$f":"_xlfn.XLOOKUP($A51,INDIRECT(\"'Curves \"&F$10&\"'!$A$14:$A$163\"),_xlfn.XLOOKUP(F$11&$J$3,INDIRECT(\"'Curves \"&F$10&\"'!$11:$11\")&INDIRECT(\"'Curves \"&F$10&\"'!$12:$12\"),INDIRECT(\"'Curves \"&F$10&\"'!$14:$163\"),,0,1),,0,1)","v":3.4292137457313743E-2},{"$f":"_xlfn.XLOOKUP($A51,INDIRECT(\"'Curves \"&G$10&\"'!$A$14:$A$163\"),_xlfn.XLOOKUP(G$11&$J$3,INDIRECT(\"'Curves \"&G$10&\"'!$11:$11\")&INDIRECT(\"'Curves \"&G$10&\"'!$12:$12\"),INDIRECT(\"'Curves \"&G$10&\"'!$14:$163\"),,0,1),,0,1)","v":4.5085234362301829E-2},{"$f":"_xlfn.XLOOKUP($A51,INDIRECT(\"'Curves \"&H$10&\"'!$A$14:$A$163\"),_xlfn.XLOOKUP(H$11&$J$3,INDIRECT(\"'Curves \"&H$10&\"'!$11:$11\")&INDIRECT(\"'Curves \"&H$10&\"'!$12:$12\"),INDIRECT(\"'Curves \"&H$10&\"'!$14:$163\"),,0,1),,0,1)","v":1.838866877595513E-2}]
[40,{"$f":"_xlfn.XLOOKUP($A52,INDIRECT(\"'Curves \"&B$10&\"'!$A$14:$A$163\"),_xlfn.XLOOKUP(B$11&$J$3,INDIRECT(\"'Curves \"&B$10&\"'!$11:$11\")&INDIRECT(\"'Curves \"&B$10&\"'!$12:$12\"),INDIRECT(\"'Curves \"&B$10&\"'!$14:$163\"),,0,1),,0,1)","v":3.2499238312410528E-2},{"$f":"_xlfn.XLOOKUP($A52,INDIRECT(\"'Curves \"&C$10&\"'!$A$14:$A$163\"),_xlfn.XLOOKUP(C$11&$J$3,INDIRECT(\"'Curves \"&C$10&\"'!$11:$11\")&INDIRECT(\"'Curves \"&C$10&\"'!$12:$12\"),INDIRECT(\"'Curves \"&C$10&\"'!$14:$163\"),,0,1),,0,1)","v":4.3061414100711071E-2},{"$f":"_xlfn.XLOOKUP($A52,INDIRECT(\"'Curves \"&D$10&\"'!$A$14:$A$163\"),_xlfn.XLOOKUP(D$11&$J$3,INDIRECT(\"'Curves \"&D$10&\"'!$11:$11\")&INDIRECT(\"'Curves \"&D$10&\"'!$12:$12\"),INDIRECT(\"'Curves \"&D$10&\"'!$14:$163\"),,0,1),,0,1)","v":1.6918740385366782E-2},null,{"$f":"_xlfn.XLOOKUP($A52,INDIRECT(\"'Curves \"&F$10&\"'!$A$14:$A$163\"),_xlfn.XLOOKUP(F$11&$J$3,INDIRECT(\"'Curves \"&F$10&\"'!$11:$11\")&INDIRECT(\"'Curves \"&F$10&\"'!$12:$12\"),INDIRECT(\"'Curves \"&F$10&\"'!$14:$163\"),,0,1),,0,1)","v":3.4262155264823235E-2},{"$f":"_xlfn.XLOOKUP($A52,INDIRECT(\"'Curves \"&G$10&\"'!$A$14:$A$163\"),_xlfn.XLOOKUP(G$11&$J$3,INDIRECT(\"'Curves \"&G$10&\"'!$11:$11\")&INDIRECT(\"'Curves \"&G$10&\"'!$12:$12\"),INDIRECT(\"'Curves \"&G$10&\"'!$14:$163\"),,0,1),,0,1)","v":4.4842365195969069E-2},{"$f":"_xlfn.XLOOKUP($A52,INDIRECT(\"'Curves \"&H$10&\"'!$A$14:$A$163\"),_xlfn.XLOOKUP(H$11&$J$3,INDIRECT(\"'Curves \"&H$10&\"'!$11:$11\")&INDIRECT(\"'Curves \"&H$10&\"'!$12:$12\"),INDIRECT(\"'Curves \"&H$10&\"'!$14:$163\"),,0,1),,0,1)","v":1.8655054776825164E-2}]
[41,{"$f":"_xlfn.XLOOKUP($A53,INDIRECT(\"'Curves \"&B$10&\"'!$A$14:$A$163\"),_xlfn.XLOOKUP(B$11&$J$3,INDIRECT(\"'Curves \"&B$10&\"'!$11:$11\")&INDIRECT(\"'Curves \"&B$10&\"'!$12:$12\"),INDIRECT(\"'Curves \"&B$10&\"'!$14:$163\"),,0,1),,0,1)","v":3.2510866561835217E-2},{"$f":"_xlfn.XLOOKUP($A53,INDIRECT(\"'Curves \"&C$10&\"'!$A$14:$A$163\"),_xlfn.XLOOKUP(C$11&$J$3,INDIRECT(\"'Curves \"&C$10&\"'!$11:$11\")&INDIRECT(\"'Curves \"&C$10&\"'!$12:$12\"),INDIRECT(\"'Curves \"&C$10&\"'!$14:$163\"),,0,1),,0,1)","v":4.2869238176734381E-2},{"$f":"_xlfn.XLOOKUP($A53,INDIRECT(\"'Curves \"&D$10&\"'!$A$14:$A$163\"),_xlfn.XLOOKUP(D$11&$J$3,INDIRECT(\"'Curves \"&D$10&\"'!$11:$11\")&INDIRECT(\"'Curves \"&D$10&\"'!$12:$12\"),INDIRECT(\"'Curves \"&D$10&\"'!$14:$163\"),,0,1),,0,1)","v":1.7217526362422131E-2},null,{"$f":"_xlfn.XLOOKUP($A53,INDIRECT(\"'Curves \"&F$10&\"'!$A$14:$A$163\"),_xlfn.XLOOKUP(F$11&$J$3,INDIRECT(\"'Curves \"&F$10&\"'!$11:$11\")&INDIRECT(\"'Curves \"&F$10&\"'!$12:$12\"),INDIRECT(\"'Curves \"&F$10&\"'!$14:$163\"),,0,1),,0,1)","v":3.4233398533231707E-2},{"$f":"_xlfn.XLOOKUP($A53,INDIRECT(\"'Curves \"&G$10&\"'!$A$14:$A$163\"),_xlfn.XLOOKUP(G$11&$J$3,INDIRECT(\"'Curves \"&G$10&\"'!$11:$11\")&INDIRECT(\"'Curves \"&G$10&\"'!$12:$12\"),INDIRECT(\"'Curves \"&G$10&\"'!$14:$163\"),,0,1),,0,1)","v":4.4609050960232821E-2},{"$f":"_xlfn.XLOOKUP($A53,INDIRECT(\"'Curves \"&H$10&\"'!$A$14:$A$163\"),_xlfn.XLOOKUP(H$11&$J$3,INDIRECT(\"'Curves \"&H$10&\"'!$11:$11\")&INDIRECT(\"'Curves \"&H$10&\"'!$12:$12\"),INDIRECT(\"'Curves \"&H$10&\"'!$14:$163\"),,0,1),,0,1)","v":1.8914544541861478E-2}]
[42,{"$f":"_xlfn.XLOOKUP($A54,INDIRECT(\"'Curves \"&B$10&\"'!$A$14:$A$163\"),_xlfn.XLOOKUP(B$11&$J$3,INDIRECT(\"'Curves \"&B$10&\"'!$11:$11\")&INDIRECT(\"'Curves \"&B$10&\"'!$12:$12\"),INDIRECT(\"'Curves \"&B$10&\"'!$14:$163\"),,0,1),,0,1)","v":3.2522000445671884E-2},{"$f":"_xlfn.XLOOKUP($A54,INDIRECT(\"'Curves \"&C$10&\"'!$A$14:$A$163\"),_xlfn.XLOOKUP(C$11&$J$3,INDIRECT(\"'Curves \"&C$10&\"'!$11:$11\")&INDIRECT(\"'Curves \"&C$10&\"'!$12:$12\"),INDIRECT(\"'Curves \"&C$10&\"'!$14:$163\"),,0,1),,0,1)","v":4.2684469270654057E-2},{"$f":"_xlfn.XLOOKUP($A54,INDIRECT(\"'Curves \"&D$10&\"'!$A$14:$A$163\"),_xlfn.XLOOKUP(D$11&$J$3,INDIRECT(\"'Curves \"&D$10&\"'!$11:$11\")&INDIRECT(\"'Curves \"&D$10&\"'!$12:$12\"),INDIRECT(\"'Curves \"&D$10&\"'!$14:$163\"),,0,1),,0,1)","v":1.7507698176400188E-2},null,{"$f":"_xlfn.XLOOKUP($A54,INDIRECT(\"'Curves \"&F$10&\"'!$A$14:$A$163\"),_xlfn.XLOOKUP(F$11&$J$3,INDIRECT(\"'Curves \"&F$10&\"'!$11:$11\")&INDIRECT(\"'Curves \"&F$10&\"'!$12:$12\"),INDIRECT(\"'Curves \"&F$10&\"'!$14:$163\"),,0,1),,0,1)","v":3.4205803881343311E-2},{"$f":"_xlfn.XLOOKUP($A54,INDIRECT(\"'Curves \"&G$10&\"'!$A$14:$A$163\"),_xlfn.XLOOKUP(G$11&$J$3,INDIRECT(\"'Curves \"&G$10&\"'!$11:$11\")&INDIRECT(\"'Curves \"&G$10&\"'!$12:$12\"),INDIRECT(\"'Curves \"&G$10&\"'!$14:$163\"),,0,1),,0,1)","v":4.4384845331330025E-2},{"$f":"_xlfn.XLOOKUP($A54,INDIRECT(\"'Curves \"&H$10&\"'!$A$14:$A$163\"),_xlfn.XLOOKUP(H$11&$J$3,INDIRECT(\"'Curves \"&H$10&\"'!$11:$11\")&INDIRECT(\"'Curves \"&H$10&\"'!$12:$12\"),INDIRECT(\"'Curves \"&H$10&\"'!$14:$163\"),,0,1),,0,1)","v":1.9167016774233492E-2}]
[43,{"$f":"_xlfn.XLOOKUP($A55,INDIRECT(\"'Curves \"&B$10&\"'!$A$14:$A$163\"),_xlfn.XLOOKUP(B$11&$J$3,INDIRECT(\"'Curves \"&B$10&\"'!$11:$11\")&INDIRECT(\"'Curves \"&B$10&\"'!$12:$12\"),INDIRECT(\"'Curves \"&B$10&\"'!$14:$163\"),,0,1),,0,1)","v":3.253266842081004E-2},{"$f":"_xlfn.XLOOKUP($A55,INDIRECT(\"'Curves \"&C$10&\"'!$A$14:$A$163\"),_xlfn.XLOOKUP(C$11&$J$3,INDIRECT(\"'Curves \"&C$10&\"'!$11:$11\")&INDIRECT(\"'Curves \"&C$10&\"'!$12:$12\"),INDIRECT(\"'Curves \"&C$10&\"'!$14:$163\"),,0,1),,0,1)","v":4.2506770025878993E-2},{"$f":"_xlfn.XLOOKUP($A55,INDIRECT(\"'Curves \"&D$10&\"'!$A$14:$A$163\"),_xlfn.XLOOKUP(D$11&$J$3,INDIRECT(\"'Curves \"&D$10&\"'!$11:$11\")&INDIRECT(\"'Curves \"&D$10&\"'!$12:$12\"),INDIRECT(\"'Curves \"&D$10&\"'!$14:$163\"),,0,1),,0,1)","v":1.7789292669960544E-2},null,{"$f":"_xlfn.XLOOKUP($A55,INDIRECT(\"'Curves \"&F$10&\"'!$A$14:$A$163\"),_xlfn.XLOOKUP(F$11&$J$3,INDIRECT(\"'Curves \"&F$10&\"'!$11:$11\")&INDIRECT(\"'Curves \"&F$10&\"'!$12:$12\"),INDIRECT(\"'Curves \"&F$10&\"'!$14:$163\"),,0,1),,0,1)","v":3.4179311363985887E-2},{"$f":"_xlfn.XLOOKUP($A55,INDIRECT(\"'Curves \"&G$10&\"'!$A$14:$A$163\"),_xlfn.XLOOKUP(G$11&$J$3,INDIRECT(\"'Curves \"&G$10&\"'!$11:$11\")&INDIRECT(\"'Curves \"&G$10&\"'!$12:$12\"),INDIRECT(\"'Curves \"&G$10&\"'!$14:$163\"),,0,1),,0,1)","v":4.4169319278390073E-2},{"$f":"_xlfn.XLOOKUP($A55,INDIRECT(\"'Curves \"&H$10&\"'!$A$14:$A$163\"),_xlfn.XLOOKUP(H$11&$J$3,INDIRECT(\"'Curves \"&H$10&\"'!$11:$11\")&INDIRECT(\"'Curves \"&H$10&\"'!$12:$12\"),INDIRECT(\"'Curves \"&H$10&\"'!$14:$163\"),,0,1),,0,1)","v":1.9412423450876348E-2}]
[44,{"$f":"_xlfn.XLOOKUP($A56,INDIRECT(\"'Curves \"&B$10&\"'!$A$14:$A$163\"),_xlfn.XLOOKUP(B$11&$J$3,INDIRECT(\"'Curves \"&B$10&\"'!$11:$11\")&INDIRECT(\"'Curves \"&B$10&\"'!$12:$12\"),INDIRECT(\"'Curves \"&B$10&\"'!$14:$163\"),,0,1),,0,1)","v":3.2542896971071711E-2},{"$f":"_xlfn.XLOOKUP($A56,INDIRECT(\"'Curves \"&C$10&\"'!$A$14:$A$163\"),_xlfn.XLOOKUP(C$11&$J$3,INDIRECT(\"'Curves \"&C$10&\"'!$11:$11\")&INDIRECT(\"'Curves \"&C$10&\"'!$12:$12\"),INDIRECT(\"'Curves \"&C$10&\"'!$14:$163\"),,0,1),,0,1)","v":4.2335815368420127E-2},{"$f":"_xlfn.XLOOKUP($A56,INDIRECT(\"'Curves \"&D$10&\"'!$A$14:$A$163\"),_xlfn.XLOOKUP(D$11&$J$3,INDIRECT(\"'Curves \"&D$10&\"'!$11:$11\")&INDIRECT(\"'Curves \"&D$10&\"'!$12:$12\"),INDIRECT(\"'Curves \"&D$10&\"'!$14:$163\"),,0,1),,0,1)","v":1.8062400256712685E-2},null,{"$f":"_xlfn.XLOOKUP($A56,INDIRECT(\"'Curves \"&F$10&\"'!$A$14:$A$163\"),_xlfn.XLOOKUP(F$11&$J$3,INDIRECT(\"'Curves \"&F$10&\"'!$11:$11\")&INDIRECT(\"'Curves \"&F$10&\"'!$12:$12\"),INDIRECT(\"'Curves \"&F$10&\"'!$14:$163\"),,0,1),,0,1)","v":3.4153864332206574E-2},{"$f":"_xlfn.XLOOKUP($A56,INDIRECT(\"'Curves \"&G$10&\"'!$A$14:$A$163\"),_xlfn.XLOOKUP(G$11&$J$3,INDIRECT(\"'Curves \"&G$10&\"'!$11:$11\")&INDIRECT(\"'Curves \"&G$10&\"'!$12:$12\"),INDIRECT(\"'Curves \"&G$10&\"'!$14:$163\"),,0,1),,0,1)","v":4.3962061583300072E-2},{"$f":"_xlfn.XLOOKUP($A56,INDIRECT(\"'Curves \"&H$10&\"'!$A$14:$A$163\"),_xlfn.XLOOKUP(H$11&$J$3,INDIRECT(\"'Curves \"&H$10&\"'!$11:$11\")&INDIRECT(\"'Curves \"&H$10&\"'!$12:$12\"),INDIRECT(\"'Curves \"&H$10&\"'!$14:$163\"),,0,1),,0,1)","v":1.9650775231954132E-2}]
[45,{"$f":"_xlfn.XLOOKUP($A57,INDIRECT(\"'Curves \"&B$10&\"'!$A$14:$A$163\"),_xlfn.XLOOKUP(B$11&$J$3,INDIRECT(\"'Curves \"&B$10&\"'!$11:$11\")&INDIRECT(\"'Curves \"&B$10&\"'!$12:$12\"),INDIRECT(\"'Curves \"&B$10&\"'!$14:$163\"),,0,1),,0,1)","v":3.2552710763935178E-2},{"$f":"_xlfn.XLOOKUP($A57,INDIRECT(\"'Curves \"&C$10&\"'!$A$14:$A$163\"),_xlfn.XLOOKUP(C$11&$J$3,INDIRECT(\"'Curves \"&C$10&\"'!$11:$11\")&INDIRECT(\"'Curves \"&C$10&\"'!$12:$12\"),INDIRECT(\"'Curves \"&C$10&\"'!$14:$163\"),,0,1),,0,1)","v":4.2171293026312506E-2},{"$f":"_xlfn.XLOOKUP($A57,INDIRECT(\"'Curves \"&D$10&\"'!$A$14:$A$163\"),_xlfn.XLOOKUP(D$11&$J$3,INDIRECT(\"'Curves \"&D$10&\"'!$11:$11\")&INDIRECT(\"'Curves \"&D$10&\"'!$12:$12\"),INDIRECT(\"'Curves \"&D$10&\"'!$14:$163\"),,0,1),,0,1)","v":1.8327153222262638E-2},null,{"$f":"_xlfn.XLOOKUP($A57,INDIRECT(\"'Curves \"&F$10&\"'!$A$14:$A$163\"),_xlfn.XLOOKUP(F$11&$J$3,INDIRECT(\"'Curves \"&F$10&\"'!$11:$11\")&INDIRECT(\"'Curves \"&F$10&\"'!$12:$12\"),INDIRECT(\"'Curves \"&F$10&\"'!$14:$163\"),,0,1),,0,1)","v":3.4129409286547396E-2},{"$f":"_xlfn.XLOOKUP($A57,INDIRECT(\"'Curves \"&G$10&\"'!$A$14:$A$163\"),_xlfn.XLOOKUP(G$11&$J$3,INDIRECT(\"'Curves \"&G$10&\"'!$11:$11\")&INDIRECT(\"'Curves \"&G$10&\"'!$12:$12\"),INDIRECT(\"'Curves \"&G$10&\"'!$14:$163\"),,0,1),,0,1)","v":4.3762679035853402E-2},{"$f":"_xlfn.XLOOKUP($A57,INDIRECT(\"'Curves \"&H$10&\"'!$A$14:$A$163\"),_xlfn.XLOOKUP(H$11&$J$3,INDIRECT(\"'Curves \"&H$10&\"'!$11:$11\")&INDIRECT(\"'Curves \"&H$10&\"'!$12:$12\"),INDIRECT(\"'Curves \"&H$10&\"'!$14:$163\"),,0,1),,0,1)","v":1.9882129448932639E-2}]
[46,{"$f":"_xlfn.XLOOKUP($A58,INDIRECT(\"'Curves \"&B$10&\"'!$A$14:$A$163\"),_xlfn.XLOOKUP(B$11&$J$3,INDIRECT(\"'Curves \"&B$10&\"'!$11:$11\")&INDIRECT(\"'Curves \"&B$10&\"'!$12:$12\"),INDIRECT(\"'Curves \"&B$10&\"'!$14:$163\"),,0,1),,0,1)","v":3.2562132793183318E-2},{"$f":"_xlfn.XLOOKUP($A58,INDIRECT(\"'Curves \"&C$10&\"'!$A$14:$A$163\"),_xlfn.XLOOKUP(C$11&$J$3,INDIRECT(\"'Curves \"&C$10&\"'!$11:$11\")&INDIRECT(\"'Curves \"&C$10&\"'!$12:$12\"),INDIRECT(\"'Curves \"&C$10&\"'!$14:$163\"),,0,1),,0,1)","v":4.2012903787901568E-2},{"$f":"_xlfn.XLOOKUP($A58,INDIRECT(\"'Curves \"&D$10&\"'!$A$14:$A$163\"),_xlfn.XLOOKUP(D$11&$J$3,INDIRECT(\"'Curves \"&D$10&\"'!$11:$11\")&INDIRECT(\"'Curves \"&D$10&\"'!$12:$12\"),INDIRECT(\"'Curves \"&D$10&\"'!$14:$163\"),,0,1),,0,1)","v":1.8583716131194583E-2},null,{"$f":"_xlfn.XLOOKUP($A58,INDIRECT(\"'Curves \"&F$10&\"'!$A$14:$A$163\"),_xlfn.XLOOKUP(F$11&$J$3,INDIRECT(\"'Curves \"&F$10&\"'!$11:$11\")&INDIRECT(\"'Curves \"&F$10&\"'!$12:$12\"),INDIRECT(\"'Curves \"&F$10&\"'!$14:$163\"),,0,1),,0,1)","v":3.4105895727067903E-2},{"$f":"_xlfn.XLOOKUP($A58,INDIRECT(\"'Curves \"&G$10&\"'!$A$14:$A$163\"),_xlfn.XLOOKUP(G$11&$J$3,INDIRECT(\"'Curves \"&G$10&\"'!$11:$11\")&INDIRECT(\"'Curves \"&G$10&\"'!$12:$12\"),INDIRECT(\"'Curves \"&G$10&\"'!$14:$163\"),,0,1),,0,1)","v":4.3570796379939214E-2},{"$f":"_xlfn.XLOOKUP($A58,INDIRECT(\"'Curves \"&H$10&\"'!$A$14:$A$163\"),_xlfn.XLOOKUP(H$11&$J$3,INDIRECT(\"'Curves \"&H$10&\"'!$11:$11\")&INDIRECT(\"'Curves \"&H$10&\"'!$12:$12\"),INDIRECT(\"'Curves \"&H$10&\"'!$14:$163\"),,0,1),,0,1)","v":2.0106580214703129E-2}]
[47,{"$f":"_xlfn.XLOOKUP($A59,INDIRECT(\"'Curves \"&B$10&\"'!$A$14:$A$163\"),_xlfn.XLOOKUP(B$11&$J$3,INDIRECT(\"'Curves \"&B$10&\"'!$11:$11\")&INDIRECT(\"'Curves \"&B$10&\"'!$12:$12\"),INDIRECT(\"'Curves \"&B$10&\"'!$14:$163\"),,0,1),,0,1)","v":3.2571184508925155E-2},{"$f":"_xlfn.XLOOKUP($A59,INDIRECT(\"'Curves \"&C$10&\"'!$A$14:$A$163\"),_xlfn.XLOOKUP(C$11&$J$3,INDIRECT(\"'Curves \"&C$10&\"'!$11:$11\")&INDIRECT(\"'Curves \"&C$10&\"'!$12:$12\"),INDIRECT(\"'Curves \"&C$10&\"'!$14:$163\"),,0,1),,0,1)","v":4.186036155778794E-2},{"$f":"_xlfn.XLOOKUP($A59,INDIRECT(\"'Curves \"&D$10&\"'!$A$14:$A$163\"),_xlfn.XLOOKUP(D$11&$J$3,INDIRECT(\"'Curves \"&D$10&\"'!$11:$11\")&INDIRECT(\"'Curves \"&D$10&\"'!$12:$12\"),INDIRECT(\"'Curves \"&D$10&\"'!$14:$163\"),,0,1),,0,1)","v":1.8832277967770317E-2},null,{"$f":"_xlfn.XLOOKUP($A59,INDIRECT(\"'Curves \"&F$10&\"'!$A$14:$A$163\"),_xlfn.XLOOKUP(F$11&$J$3,INDIRECT(\"'Curves \"&F$10&\"'!$11:$11\")&INDIRECT(\"'Curves \"&F$10&\"'!$12:$12\"),INDIRECT(\"'Curves \"&F$10&\"'!$14:$163\"),,0,1),,0,1)","v":3.4083276002881968E-2},{"$f":"_xlfn.XLOOKUP($A59,INDIRECT(\"'Curves \"&G$10&\"'!$A$14:$A$163\"),_xlfn.XLOOKUP(G$11&$J$3,INDIRECT(\"'Curves \"&G$10&\"'!$11:$11\")&INDIRECT(\"'Curves \"&G$10&\"'!$12:$12\"),INDIRECT(\"'Curves \"&G$10&\"'!$14:$163\"),,0,1),,0,1)","v":4.3386056070899404E-2},{"$f":"_xlfn.XLOOKUP($A59,INDIRECT(\"'Curves \"&H$10&\"'!$A$14:$A$163\"),_xlfn.XLOOKUP(H$11&$J$3,INDIRECT(\"'Curves \"&H$10&\"'!$11:$11\")&INDIRECT(\"'Curves \"&H$10&\"'!$12:$12\"),INDIRECT(\"'Curves \"&H$10&\"'!$14:$163\"),,0,1),,0,1)","v":2.0324250283476841E-2}]
[48,{"$f":"_xlfn.XLOOKUP($A60,INDIRECT(\"'Curves \"&B$10&\"'!$A$14:$A$163\"),_xlfn.XLOOKUP(B$11&$J$3,INDIRECT(\"'Curves \"&B$10&\"'!$11:$11\")&INDIRECT(\"'Curves \"&B$10&\"'!$12:$12\"),INDIRECT(\"'Curves \"&B$10&\"'!$14:$163\"),,0,1),,0,1)","v":3.2579885936261599E-2},{"$f":"_xlfn.XLOOKUP($A60,INDIRECT(\"'Curves \"&C$10&\"'!$A$14:$A$163\"),_xlfn.XLOOKUP(C$11&$J$3,INDIRECT(\"'Curves \"&C$10&\"'!$11:$11\")&INDIRECT(\"'Curves \"&C$10&\"'!$12:$12\"),INDIRECT(\"'Curves \"&C$10&\"'!$14:$163\"),,0,1),,0,1)","v":4.171339325737411E-2},{"$f":"_xlfn.XLOOKUP($A60,INDIRECT(\"'Curves \"&D$10&\"'!$A$14:$A$163\"),_xlfn.XLOOKUP(D$11&$J$3,INDIRECT(\"'Curves \"&D$10&\"'!$11:$11\")&INDIRECT(\"'Curves \"&D$10&\"'!$12:$12\"),INDIRECT(\"'Curves \"&D$10&\"'!$14:$163\"),,0,1),,0,1)","v":1.9073045706107017E-2},null,{"$f":"_xlfn.XLOOKUP($A60,INDIRECT(\"'Curves \"&F$10&\"'!$A$14:$A$163\"),_xlfn.XLOOKUP(F$11&$J$3,INDIRECT(\"'Curves \"&F$10&\"'!$11:$11\")&INDIRECT(\"'Curves \"&F$10&\"'!$12:$12\"),INDIRECT(\"'Curves \"&F$10&\"'!$14:$163\"),,0,1),,0,1)","v":3.406150516328621E-2},{"$f":"_xlfn.XLOOKUP($A60,INDIRECT(\"'Curves \"&G$10&\"'!$A$14:$A$163\"),_xlfn.XLOOKUP(G$11&$J$3,INDIRECT(\"'Curves \"&G$10&\"'!$11:$11\")&INDIRECT(\"'Curves \"&G$10&\"'!$12:$12\"),INDIRECT(\"'Curves \"&G$10&\"'!$14:$163\"),,0,1),,0,1)","v":4.3208117891778475E-2},{"$f":"_xlfn.XLOOKUP($A60,INDIRECT(\"'Curves \"&H$10&\"'!$A$14:$A$163\"),_xlfn.XLOOKUP(H$11&$J$3,INDIRECT(\"'Curves \"&H$10&\"'!$11:$11\")&INDIRECT(\"'Curves \"&H$10&\"'!$12:$12\"),INDIRECT(\"'Curves \"&H$10&\"'!$14:$163\"),,0,1),,0,1)","v":2.0535284355944539E-2}]
[49,{"$f":"_xlfn.XLOOKUP($A61,INDIRECT(\"'Curves \"&B$10&\"'!$A$14:$A$163\"),_xlfn.XLOOKUP(B$11&$J$3,INDIRECT(\"'Curves \"&B$10&\"'!$11:$11\")&INDIRECT(\"'Curves \"&B$10&\"'!$12:$12\"),INDIRECT(\"'Curves \"&B$10&\"'!$14:$163\"),,0,1),,0,1)","v":3.2588255783718489E-2},{"$f":"_xlfn.XLOOKUP($A61,INDIRECT(\"'Curves \"&C$10&\"'!$A$14:$A$163\"),_xlfn.XLOOKUP(C$11&$J$3,INDIRECT(\"'Curves \"&C$10&\"'!$11:$11\")&INDIRECT(\"'Curves \"&C$10&\"'!$12:$12\"),INDIRECT(\"'Curves \"&C$10&\"'!$14:$163\"),,0,1),,0,1)","v":4.1571738607487196E-2},{"$f":"_xlfn.XLOOKUP($A61,INDIRECT(\"'Curves \"&D$10&\"'!$A$14:$A$163\"),_xlfn.XLOOKUP(D$11&$J$3,INDIRECT(\"'Curves \"&D$10&\"'!$11:$11\")&INDIRECT(\"'Curves \"&D$10&\"'!$12:$12\"),INDIRECT(\"'Curves \"&D$10&\"'!$14:$163\"),,0,1),,0,1)","v":1.930623906048079E-2},null,{"$f":"_xlfn.XLOOKUP($A61,INDIRECT(\"'Curves \"&F$10&\"'!$A$14:$A$163\"),_xlfn.XLOOKUP(F$11&$J$3,INDIRECT(\"'Curves \"&F$10&\"'!$11:$11\")&INDIRECT(\"'Curves \"&F$10&\"'!$12:$12\"),INDIRECT(\"'Curves \"&F$10&\"'!$14:$163\"),,0,1),,0,1)","v":3.4040540812010134E-2},{"$f":"_xlfn.XLOOKUP($A61,INDIRECT(\"'Curves \"&G$10&\"'!$A$14:$A$163\"),_xlfn.XLOOKUP(G$11&$J$3,INDIRECT(\"'Curves \"&G$10&\"'!$11:$11\")&INDIRECT(\"'Curves \"&G$10&\"'!$12:$12\"),INDIRECT(\"'Curves \"&G$10&\"'!$14:$163\"),,0,1),,0,1)","v":4.3036658466297117E-2},{"$f":"_xlfn.XLOOKUP($A61,INDIRECT(\"'Curves \"&H$10&\"'!$A$14:$A$163\"),_xlfn.XLOOKUP(H$11&$J$3,INDIRECT(\"'Curves \"&H$10&\"'!$11:$11\")&INDIRECT(\"'Curves \"&H$10&\"'!$12:$12\"),INDIRECT(\"'Curves \"&H$10&\"'!$14:$163\"),,0,1),,0,1)","v":2.0739843579939743E-2}]
[50,{"$f":"_xlfn.XLOOKUP($A62,INDIRECT(\"'Curves \"&B$10&\"'!$A$14:$A$163\"),_xlfn.XLOOKUP(B$11&$J$3,INDIRECT(\"'Curves \"&B$10&\"'!$11:$11\")&INDIRECT(\"'Curves \"&B$10&\"'!$12:$12\"),INDIRECT(\"'Curves \"&B$10&\"'!$14:$163\"),,0,1),,0,1)","v":3.2596311542440803E-2},{"$f":"_xlfn.XLOOKUP($A62,INDIRECT(\"'Curves \"&C$10&\"'!$A$14:$A$163\"),_xlfn.XLOOKUP(C$11&$J$3,INDIRECT(\"'Curves \"&C$10&\"'!$11:$11\")&INDIRECT(\"'Curves \"&C$10&\"'!$12:$12\"),INDIRECT(\"'Curves \"&C$10&\"'!$14:$163\"),,0,1),,0,1)","v":4.1435149822979467E-2},{"$f":"_xlfn.XLOOKUP($A62,INDIRECT(\"'Curves \"&D$10&\"'!$A$14:$A$163\"),_xlfn.XLOOKUP(D$11&$J$3,INDIRECT(\"'Curves \"&D$10&\"'!$11:$11\")&INDIRECT(\"'Curves \"&D$10&\"'!$12:$12\"),INDIRECT(\"'Curves \"&D$10&\"'!$14:$163\"),,0,1),,0,1)","v":1.9532086210866995E-2},null,{"$f":"_xlfn.XLOOKUP($A62,INDIRECT(\"'Curves \"&F$10&\"'!$A$14:$A$163\"),_xlfn.XLOOKUP(F$11&$J$3,INDIRECT(\"'Curves \"&F$10&\"'!$11:$11\")&INDIRECT(\"'Curves \"&F$10&\"'!$12:$12\"),INDIRECT(\"'Curves \"&F$10&\"'!$14:$163\"),,0,1),,0,1)","v":3.402034296569667E-2},{"$f":"_xlfn.XLOOKUP($A62,INDIRECT(\"'Curves \"&G$10&\"'!$A$14:$A$163\"),_xlfn.XLOOKUP(G$11&$J$3,INDIRECT(\"'Curves \"&G$10&\"'!$11:$11\")&INDIRECT(\"'Curves \"&G$10&\"'!$12:$12\"),INDIRECT(\"'Curves \"&G$10&\"'!$14:$163\"),,0,1),,0,1)","v":4.2871370698507993E-2},{"$f":"_xlfn.XLOOKUP($A62,INDIRECT(\"'Curves \"&H$10&\"'!$A$14:$A$163\"),_xlfn.XLOOKUP(H$11&$J$3,INDIRECT(\"'Curves \"&H$10&\"'!$11:$11\")&INDIRECT(\"'Curves \"&H$10&\"'!$12:$12\"),INDIRECT(\"'Curves \"&H$10&\"'!$14:$163\"),,0,1),,0,1)","v":2.093810104120597E-2}]
[51,{"$f":"_xlfn.XLOOKUP($A63,INDIRECT(\"'Curves \"&B$10&\"'!$A$14:$A$163\"),_xlfn.XLOOKUP(B$11&$J$3,INDIRECT(\"'Curves \"&B$10&\"'!$11:$11\")&INDIRECT(\"'Curves \"&B$10&\"'!$12:$12\"),INDIRECT(\"'Curves \"&B$10&\"'!$14:$163\"),,0,1),,0,1)","v":3.2604069577032213E-2},{"$f":"_xlfn.XLOOKUP($A63,INDIRECT(\"'Curves \"&C$10&\"'!$A$14:$A$163\"),_xlfn.XLOOKUP(C$11&$J$3,INDIRECT(\"'Curves \"&C$10&\"'!$11:$11\")&INDIRECT(\"'Curves \"&C$10&\"'!$12:$12\"),INDIRECT(\"'Curves \"&C$10&\"'!$14:$163\"),,0,1),,0,1)","v":4.1303391243135756E-2},{"$f":"_xlfn.XLOOKUP($A63,INDIRECT(\"'Curves \"&D$10&\"'!$A$14:$A$163\"),_xlfn.XLOOKUP(D$11&$J$3,INDIRECT(\"'Curves \"&D$10&\"'!$11:$11\")&INDIRECT(\"'Curves \"&D$10&\"'!$12:$12\"),INDIRECT(\"'Curves \"&D$10&\"'!$14:$163\"),,0,1),,0,1)","v":1.9750820334975883E-2},null,{"$f":"_xlfn.XLOOKUP($A63,INDIRECT(\"'Curves \"&F$10&\"'!$A$14:$A$163\"),_xlfn.XLOOKUP(F$11&$J$3,INDIRECT(\"'Curves \"&F$10&\"'!$11:$11\")&INDIRECT(\"'Curves \"&F$10&\"'!$12:$12\"),INDIRECT(\"'Curves \"&F$10&\"'!$14:$163\"),,0,1),,0,1)","v":3.4000873917387375E-2},{"$f":"_xlfn.XLOOKUP($A63,INDIRECT(\"'Curves \"&G$10&\"'!$A$14:$A$163\"),_xlfn.XLOOKUP(G$11&$J$3,INDIRECT(\"'Curves \"&G$10&\"'!$11:$11\")&INDIRECT(\"'Curves \"&G$10&\"'!$12:$12\"),INDIRECT(\"'Curves \"&G$10&\"'!$14:$163\"),,0,1),,0,1)","v":4.2711963162778366E-2},{"$f":"_xlfn.XLOOKUP($A63,INDIRECT(\"'Curves \"&H$10&\"'!$A$14:$A$163\"),_xlfn.XLOOKUP(H$11&$J$3,INDIRECT(\"'Curves \"&H$10&\"'!$11:$11\")&INDIRECT(\"'Curves \"&H$10&\"'!$12:$12\"),INDIRECT(\"'Curves \"&H$10&\"'!$14:$163\"),,0,1),,0,1)","v":2.1130238074931196E-2}]
[52,{"$f":"_xlfn.XLOOKUP($A64,INDIRECT(\"'Curves \"&B$10&\"'!$A$14:$A$163\"),_xlfn.XLOOKUP(B$11&$J$3,INDIRECT(\"'Curves \"&B$10&\"'!$11:$11\")&INDIRECT(\"'Curves \"&B$10&\"'!$12:$12\"),INDIRECT(\"'Curves \"&B$10&\"'!$14:$163\"),,0,1),,0,1)","v":3.2611545208822701E-2},{"$f":"_xlfn.XLOOKUP($A64,INDIRECT(\"'Curves \"&C$10&\"'!$A$14:$A$163\"),_xlfn.XLOOKUP(C$11&$J$3,INDIRECT(\"'Curves \"&C$10&\"'!$11:$11\")&INDIRECT(\"'Curves \"&C$10&\"'!$12:$12\"),INDIRECT(\"'Curves \"&C$10&\"'!$14:$163\"),,0,1),,0,1)","v":4.1176238916832864E-2},{"$f":"_xlfn.XLOOKUP($A64,INDIRECT(\"'Curves \"&D$10&\"'!$A$14:$A$163\"),_xlfn.XLOOKUP(D$11&$J$3,INDIRECT(\"'Curves \"&D$10&\"'!$11:$11\")&INDIRECT(\"'Curves \"&D$10&\"'!$12:$12\"),INDIRECT(\"'Curves \"&D$10&\"'!$14:$163\"),,0,1),,0,1)","v":1.996267680753383E-2},null,{"$f":"_xlfn.XLOOKUP($A64,INDIRECT(\"'Curves \"&F$10&\"'!$A$14:$A$163\"),_xlfn.XLOOKUP(F$11&$J$3,INDIRECT(\"'Curves \"&F$10&\"'!$11:$11\")&INDIRECT(\"'Curves \"&F$10&\"'!$12:$12\"),INDIRECT(\"'Curves \"&F$10&\"'!$14:$163\"),,0,1),,0,1)","v":3.3982098105529657E-2},{"$f":"_xlfn.XLOOKUP($A64,INDIRECT(\"'Curves \"&G$10&\"'!$A$14:$A$163\"),_xlfn.XLOOKUP(G$11&$J$3,INDIRECT(\"'Curves \"&G$10&\"'!$11:$11\")&INDIRECT(\"'Curves \"&G$10&\"'!$12:$12\"),INDIRECT(\"'Curves \"&G$10&\"'!$14:$163\"),,0,1),,0,1)","v":4.2558159462706247E-2},{"$f":"_xlfn.XLOOKUP($A64,INDIRECT(\"'Curves \"&H$10&\"'!$A$14:$A$163\"),_xlfn.XLOOKUP(H$11&$J$3,INDIRECT(\"'Curves \"&H$10&\"'!$11:$11\")&INDIRECT(\"'Curves \"&H$10&\"'!$12:$12\"),INDIRECT(\"'Curves \"&H$10&\"'!$14:$163\"),,0,1),,0,1)","v":2.1316441258180996E-2}]
[53,{"$f":"_xlfn.XLOOKUP($A65,INDIRECT(\"'Curves \"&B$10&\"'!$A$14:$A$163\"),_xlfn.XLOOKUP(B$11&$J$3,INDIRECT(\"'Curves \"&B$10&\"'!$11:$11\")&INDIRECT(\"'Curves \"&B$10&\"'!$12:$12\"),INDIRECT(\"'Curves \"&B$10&\"'!$14:$163\"),,0,1),,0,1)","v":3.2618752792272776E-2},{"$f":"_xlfn.XLOOKUP($A65,INDIRECT(\"'Curves \"&C$10&\"'!$A$14:$A$163\"),_xlfn.XLOOKUP(C$11&$J$3,INDIRECT(\"'Curves \"&C$10&\"'!$11:$11\")&INDIRECT(\"'Curves \"&C$10&\"'!$12:$12\"),INDIRECT(\"'Curves \"&C$10&\"'!$14:$163\"),,0,1),,0,1)","v":4.1053480157477118E-2},{"$f":"_xlfn.XLOOKUP($A65,INDIRECT(\"'Curves \"&D$10&\"'!$A$14:$A$163\"),_xlfn.XLOOKUP(D$11&$J$3,INDIRECT(\"'Curves \"&D$10&\"'!$11:$11\")&INDIRECT(\"'Curves \"&D$10&\"'!$12:$12\"),INDIRECT(\"'Curves \"&D$10&\"'!$14:$163\"),,0,1),,0,1)","v":2.016789095166982E-2},null,{"$f":"_xlfn.XLOOKUP($A65,INDIRECT(\"'Curves \"&F$10&\"'!$A$14:$A$163\"),_xlfn.XLOOKUP(F$11&$J$3,INDIRECT(\"'Curves \"&F$10&\"'!$11:$11\")&INDIRECT(\"'Curves \"&F$10&\"'!$12:$12\"),INDIRECT(\"'Curves \"&F$10&\"'!$14:$163\"),,0,1),,0,1)","v":3.3963981988822889E-2},{"$f":"_xlfn.XLOOKUP($A65,INDIRECT(\"'Curves \"&G$10&\"'!$A$14:$A$163\"),_xlfn.XLOOKUP(G$11&$J$3,INDIRECT(\"'Curves \"&G$10&\"'!$11:$11\")&INDIRECT(\"'Curves \"&G$10&\"'!$12:$12\"),INDIRECT(\"'Curves \"&G$10&\"'!$14:$163\"),,0,1),,0,1)","v":4.2409697573528415E-2},{"$f":"_xlfn.XLOOKUP($A65,INDIRECT(\"'Curves \"&H$10&\"'!$A$14:$A$163\"),_xlfn.XLOOKUP(H$11&$J$3,INDIRECT(\"'Curves \"&H$10&\"'!$11:$11\")&INDIRECT(\"'Curves \"&H$10&\"'!$12:$12\"),INDIRECT(\"'Curves \"&H$10&\"'!$14:$163\"),,0,1),,0,1)","v":2.1496899967417438E-2}]
[54,{"$f":"_xlfn.XLOOKUP($A66,INDIRECT(\"'Curves \"&B$10&\"'!$A$14:$A$163\"),_xlfn.XLOOKUP(B$11&$J$3,INDIRECT(\"'Curves \"&B$10&\"'!$11:$11\")&INDIRECT(\"'Curves \"&B$10&\"'!$12:$12\"),INDIRECT(\"'Curves \"&B$10&\"'!$14:$163\"),,0,1),,0,1)","v":3.2625705785134684E-2},{"$f":"_xlfn.XLOOKUP($A66,INDIRECT(\"'Curves \"&C$10&\"'!$A$14:$A$163\"),_xlfn.XLOOKUP(C$11&$J$3,INDIRECT(\"'Curves \"&C$10&\"'!$11:$11\")&INDIRECT(\"'Curves \"&C$10&\"'!$12:$12\"),INDIRECT(\"'Curves \"&C$10&\"'!$14:$163\"),,0,1),,0,1)","v":4.0934913079585744E-2},{"$f":"_xlfn.XLOOKUP($A66,INDIRECT(\"'Curves \"&D$10&\"'!$A$14:$A$163\"),_xlfn.XLOOKUP(D$11&$J$3,INDIRECT(\"'Curves \"&D$10&\"'!$11:$11\")&INDIRECT(\"'Curves \"&D$10&\"'!$12:$12\"),INDIRECT(\"'Curves \"&D$10&\"'!$14:$163\"),,0,1),,0,1)","v":2.0366696247064331E-2},null,{"$f":"_xlfn.XLOOKUP($A66,INDIRECT(\"'Curves \"&F$10&\"'!$A$14:$A$163\"),_xlfn.XLOOKUP(F$11&$J$3,INDIRECT(\"'Curves \"&F$10&\"'!$11:$11\")&INDIRECT(\"'Curves \"&F$10&\"'!$12:$12\"),INDIRECT(\"'Curves \"&F$10&\"'!$14:$163\"),,0,1),,0,1)","v":3.39464939270675E-2},{"$f":"_xlfn.XLOOKUP($A66,INDIRECT(\"'Curves \"&G$10&\"'!$A$14:$A$163\"),_xlfn.XLOOKUP(G$11&$J$3,INDIRECT(\"'Curves \"&G$10&\"'!$11:$11\")&INDIRECT(\"'Curves \"&G$10&\"'!$12:$12\"),INDIRECT(\"'Curves \"&G$10&\"'!$14:$163\"),,0,1),,0,1)","v":4.2266329179356354E-2},{"$f":"_xlfn.XLOOKUP($A66,INDIRECT(\"'Curves \"&H$10&\"'!$A$14:$A$163\"),_xlfn.XLOOKUP(H$11&$J$3,INDIRECT(\"'Curves \"&H$10&\"'!$11:$11\")&INDIRECT(\"'Curves \"&H$10&\"'!$12:$12\"),INDIRECT(\"'Curves \"&H$10&\"'!$14:$163\"),,0,1),,0,1)","v":2.1671804405108519E-2}]
[55,{"$f":"_xlfn.XLOOKUP($A67,INDIRECT(\"'Curves \"&B$10&\"'!$A$14:$A$163\"),_xlfn.XLOOKUP(B$11&$J$3,INDIRECT(\"'Curves \"&B$10&\"'!$11:$11\")&INDIRECT(\"'Curves \"&B$10&\"'!$12:$12\"),INDIRECT(\"'Curves \"&B$10&\"'!$14:$163\"),,0,1),,0,1)","v":3.26324168129426E-2},{"$f":"_xlfn.XLOOKUP($A67,INDIRECT(\"'Curves \"&C$10&\"'!$A$14:$A$163\"),_xlfn.XLOOKUP(C$11&$J$3,INDIRECT(\"'Curves \"&C$10&\"'!$11:$11\")&INDIRECT(\"'Curves \"&C$10&\"'!$12:$12\"),INDIRECT(\"'Curves \"&C$10&\"'!$14:$163\"),,0,1),,0,1)","v":4.0820346126324125E-2},{"$f":"_xlfn.XLOOKUP($A67,INDIRECT(\"'Curves \"&D$10&\"'!$A$14:$A$163\"),_xlfn.XLOOKUP(D$11&$J$3,INDIRECT(\"'Curves \"&D$10&\"'!$11:$11\")&INDIRECT(\"'Curves \"&D$10&\"'!$12:$12\"),INDIRECT(\"'Curves \"&D$10&\"'!$14:$163\"),,0,1),,0,1)","v":2.0559322915778111E-2},null,{"$f":"_xlfn.XLOOKUP($A67,INDIRECT(\"'Curves \"&F$10&\"'!$A$14:$A$163\"),_xlfn.XLOOKUP(F$11&$J$3,INDIRECT(\"'Curves \"&F$10&\"'!$11:$11\")&INDIRECT(\"'Curves \"&F$10&\"'!$12:$12\"),INDIRECT(\"'Curves \"&F$10&\"'!$14:$163\"),,0,1),,0,1)","v":3.3929604068060781E-2},{"$f":"_xlfn.XLOOKUP($A67,INDIRECT(\"'Curves \"&G$10&\"'!$A$14:$A$163\"),_xlfn.XLOOKUP(G$11&$J$3,INDIRECT(\"'Curves \"&G$10&\"'!$11:$11\")&INDIRECT(\"'Curves \"&G$10&\"'!$12:$12\"),INDIRECT(\"'Curves \"&G$10&\"'!$14:$163\"),,0,1),,0,1)","v":4.2127819013946466E-2},{"$f":"_xlfn.XLOOKUP($A67,INDIRECT(\"'Curves \"&H$10&\"'!$A$14:$A$163\"),_xlfn.XLOOKUP(H$11&$J$3,INDIRECT(\"'Curves \"&H$10&\"'!$11:$11\")&INDIRECT(\"'Curves \"&H$10&\"'!$12:$12\"),INDIRECT(\"'Curves \"&H$10&\"'!$14:$163\"),,0,1),,0,1)","v":2.1841344015662179E-2}]
[56,{"$f":"_xlfn.XLOOKUP($A68,INDIRECT(\"'Curves \"&B$10&\"'!$A$14:$A$163\"),_xlfn.XLOOKUP(B$11&$J$3,INDIRECT(\"'Curves \"&B$10&\"'!$11:$11\")&INDIRECT(\"'Curves \"&B$10&\"'!$12:$12\"),INDIRECT(\"'Curves \"&B$10&\"'!$14:$163\"),,0,1),,0,1)","v":3.2638897728333394E-2},{"$f":"_xlfn.XLOOKUP($A68,INDIRECT(\"'Curves \"&C$10&\"'!$A$14:$A$163\"),_xlfn.XLOOKUP(C$11&$J$3,INDIRECT(\"'Curves \"&C$10&\"'!$11:$11\")&INDIRECT(\"'Curves \"&C$10&\"'!$12:$12\"),INDIRECT(\"'Curves \"&C$10&\"'!$14:$163\"),,0,1),,0,1)","v":4.0709597595272484E-2},{"$f":"_xlfn.XLOOKUP($A68,INDIRECT(\"'Curves \"&D$10&\"'!$A$14:$A$163\"),_xlfn.XLOOKUP(D$11&$J$3,INDIRECT(\"'Curves \"&D$10&\"'!$11:$11\")&INDIRECT(\"'Curves \"&D$10&\"'!$12:$12\"),INDIRECT(\"'Curves \"&D$10&\"'!$14:$163\"),,0,1),,0,1)","v":2.0745996820098256E-2},null,{"$f":"_xlfn.XLOOKUP($A68,INDIRECT(\"'Curves \"&F$10&\"'!$A$14:$A$163\"),_xlfn.XLOOKUP(F$11&$J$3,INDIRECT(\"'Curves \"&F$10&\"'!$11:$11\")&INDIRECT(\"'Curves \"&F$10&\"'!$12:$12\"),INDIRECT(\"'Curves \"&F$10&\"'!$14:$163\"),,0,1),,0,1)","v":3.3913284240497221E-2},{"$f":"_xlfn.XLOOKUP($A68,INDIRECT(\"'Curves \"&G$10&\"'!$A$14:$A$163\"),_xlfn.XLOOKUP(G$11&$J$3,INDIRECT(\"'Curves \"&G$10&\"'!$11:$11\")&INDIRECT(\"'Curves \"&G$10&\"'!$12:$12\"),INDIRECT(\"'Curves \"&G$10&\"'!$14:$163\"),,0,1),,0,1)","v":4.1993944211667023E-2},{"$f":"_xlfn.XLOOKUP($A68,INDIRECT(\"'Curves \"&H$10&\"'!$A$14:$A$163\"),_xlfn.XLOOKUP(H$11&$J$3,INDIRECT(\"'Curves \"&H$10&\"'!$11:$11\")&INDIRECT(\"'Curves \"&H$10&\"'!$12:$12\"),INDIRECT(\"'Curves \"&H$10&\"'!$14:$163\"),,0,1),,0,1)","v":2.2005706224377253E-2}]
[57,{"$f":"_xlfn.XLOOKUP($A69,INDIRECT(\"'Curves \"&B$10&\"'!$A$14:$A$163\"),_xlfn.XLOOKUP(B$11&$J$3,INDIRECT(\"'Curves \"&B$10&\"'!$11:$11\")&INDIRECT(\"'Curves \"&B$10&\"'!$12:$12\"),INDIRECT(\"'Curves \"&B$10&\"'!$14:$163\"),,0,1),,0,1)","v":3.2645159665656287E-2},{"$f":"_xlfn.XLOOKUP($A69,INDIRECT(\"'Curves \"&C$10&\"'!$A$14:$A$163\"),_xlfn.XLOOKUP(C$11&$J$3,INDIRECT(\"'Curves \"&C$10&\"'!$11:$11\")&INDIRECT(\"'Curves \"&C$10&\"'!$12:$12\"),INDIRECT(\"'Curves \"&C$10&\"'!$14:$163\"),,0,1),,0,1)","v":4.0602495168028385E-2},{"$f":"_xlfn.XLOOKUP($A69,INDIRECT(\"'Curves \"&D$10&\"'!$A$14:$A$163\"),_xlfn.XLOOKUP(D$11&$J$3,INDIRECT(\"'Curves \"&D$10&\"'!$11:$11\")&INDIRECT(\"'Curves \"&D$10&\"'!$12:$12\"),INDIRECT(\"'Curves \"&D$10&\"'!$14:$163\"),,0,1),,0,1)","v":2.0926938617819246E-2},null,{"$f":"_xlfn.XLOOKUP($A69,INDIRECT(\"'Curves \"&F$10&\"'!$A$14:$A$163\"),_xlfn.XLOOKUP(F$11&$J$3,INDIRECT(\"'Curves \"&F$10&\"'!$11:$11\")&INDIRECT(\"'Curves \"&F$10&\"'!$12:$12\"),INDIRECT(\"'Curves \"&F$10&\"'!$14:$163\"),,0,1),,0,1)","v":3.3897507852759468E-2},{"$f":"_xlfn.XLOOKUP($A69,INDIRECT(\"'Curves \"&G$10&\"'!$A$14:$A$163\"),_xlfn.XLOOKUP(G$11&$J$3,INDIRECT(\"'Curves \"&G$10&\"'!$11:$11\")&INDIRECT(\"'Curves \"&G$10&\"'!$12:$12\"),INDIRECT(\"'Curves \"&G$10&\"'!$14:$163\"),,0,1),,0,1)","v":4.1864493673633651E-2},{"$f":"_xlfn.XLOOKUP($A69,INDIRECT(\"'Curves \"&H$10&\"'!$A$14:$A$163\"),_xlfn.XLOOKUP(H$11&$J$3,INDIRECT(\"'Curves \"&H$10&\"'!$11:$11\")&INDIRECT(\"'Curves \"&H$10&\"'!$12:$12\"),INDIRECT(\"'Curves \"&H$10&\"'!$14:$163\"),,0,1),,0,1)","v":2.2165075444177562E-2}]
[58,{"$f":"_xlfn.XLOOKUP($A70,INDIRECT(\"'Curves \"&B$10&\"'!$A$14:$A$163\"),_xlfn.XLOOKUP(B$11&$J$3,INDIRECT(\"'Curves \"&B$10&\"'!$11:$11\")&INDIRECT(\"'Curves \"&B$10&\"'!$12:$12\"),INDIRECT(\"'Curves \"&B$10&\"'!$14:$163\"),,0,1),,0,1)","v":3.2651213091282605E-2},{"$f":"_xlfn.XLOOKUP($A70,INDIRECT(\"'Curves \"&C$10&\"'!$A$14:$A$163\"),_xlfn.XLOOKUP(C$11&$J$3,INDIRECT(\"'Curves \"&C$10&\"'!$11:$11\")&INDIRECT(\"'Curves \"&C$10&\"'!$12:$12\"),INDIRECT(\"'Curves \"&C$10&\"'!$14:$163\"),,0,1),,0,1)","v":4.0498875447931626E-2},{"$f":"_xlfn.XLOOKUP($A70,INDIRECT(\"'Curves \"&D$10&\"'!$A$14:$A$163\"),_xlfn.XLOOKUP(D$11&$J$3,INDIRECT(\"'Curves \"&D$10&\"'!$11:$11\")&INDIRECT(\"'Curves \"&D$10&\"'!$12:$12\"),INDIRECT(\"'Curves \"&D$10&\"'!$14:$163\"),,0,1),,0,1)","v":2.1102363129549273E-2},null,{"$f":"_xlfn.XLOOKUP($A70,INDIRECT(\"'Curves \"&F$10&\"'!$A$14:$A$163\"),_xlfn.XLOOKUP(F$11&$J$3,INDIRECT(\"'Curves \"&F$10&\"'!$11:$11\")&INDIRECT(\"'Curves \"&F$10&\"'!$12:$12\"),INDIRECT(\"'Curves \"&F$10&\"'!$14:$163\"),,0,1),,0,1)","v":3.3882249797444697E-2},{"$f":"_xlfn.XLOOKUP($A70,INDIRECT(\"'Curves \"&G$10&\"'!$A$14:$A$163\"),_xlfn.XLOOKUP(G$11&$J$3,INDIRECT(\"'Curves \"&G$10&\"'!$11:$11\")&INDIRECT(\"'Curves \"&G$10&\"'!$12:$12\"),INDIRECT(\"'Curves \"&G$10&\"'!$14:$163\"),,0,1),,0,1)","v":4.1739267452665096E-2},{"$f":"_xlfn.XLOOKUP($A70,INDIRECT(\"'Curves \"&H$10&\"'!$A$14:$A$163\"),_xlfn.XLOOKUP(H$11&$J$3,INDIRECT(\"'Curves \"&H$10&\"'!$11:$11\")&INDIRECT(\"'Curves \"&H$10&\"'!$12:$12\"),INDIRECT(\"'Curves \"&H$10&\"'!$14:$163\"),,0,1),,0,1)","v":2.231963230410261E-2}]
[59,{"$f":"_xlfn.XLOOKUP($A71,INDIRECT(\"'Curves \"&B$10&\"'!$A$14:$A$163\"),_xlfn.XLOOKUP(B$11&$J$3,INDIRECT(\"'Curves \"&B$10&\"'!$11:$11\")&INDIRECT(\"'Curves \"&B$10&\"'!$12:$12\"),INDIRECT(\"'Curves \"&B$10&\"'!$14:$163\"),,0,1),,0,1)","v":3.2657067849988008E-2},{"$f":"_xlfn.XLOOKUP($A71,INDIRECT(\"'Curves \"&C$10&\"'!$A$14:$A$163\"),_xlfn.XLOOKUP(C$11&$J$3,INDIRECT(\"'Curves \"&C$10&\"'!$11:$11\")&INDIRECT(\"'Curves \"&C$10&\"'!$12:$12\"),INDIRECT(\"'Curves \"&C$10&\"'!$14:$163\"),,0,1),,0,1)","v":4.0398583509120733E-2},{"$f":"_xlfn.XLOOKUP($A71,INDIRECT(\"'Curves \"&D$10&\"'!$A$14:$A$163\"),_xlfn.XLOOKUP(D$11&$J$3,INDIRECT(\"'Curves \"&D$10&\"'!$11:$11\")&INDIRECT(\"'Curves \"&D$10&\"'!$12:$12\"),INDIRECT(\"'Curves \"&D$10&\"'!$14:$163\"),,0,1),,0,1)","v":2.1272478880241641E-2},null,{"$f":"_xlfn.XLOOKUP($A71,INDIRECT(\"'Curves \"&F$10&\"'!$A$14:$A$163\"),_xlfn.XLOOKUP(F$11&$J$3,INDIRECT(\"'Curves \"&F$10&\"'!$11:$11\")&INDIRECT(\"'Curves \"&F$10&\"'!$12:$12\"),INDIRECT(\"'Curves \"&F$10&\"'!$14:$163\"),,0,1),,0,1)","v":3.3867486361425447E-2},{"$f":"_xlfn.XLOOKUP($A71,INDIRECT(\"'Curves \"&G$10&\"'!$A$14:$A$163\"),_xlfn.XLOOKUP(G$11&$J$3,INDIRECT(\"'Curves \"&G$10&\"'!$11:$11\")&INDIRECT(\"'Curves \"&G$10&\"'!$12:$12\"),INDIRECT(\"'Curves \"&G$10&\"'!$14:$163\"),,0,1),,0,1)","v":4.1618076159642747E-2},{"$f":"_xlfn.XLOOKUP($A71,INDIRECT(\"'Curves \"&H$10&\"'!$A$14:$A$163\"),_xlfn.XLOOKUP(H$11&$J$3,INDIRECT(\"'Curves \"&H$10&\"'!$11:$11\")&INDIRECT(\"'Curves \"&H$10&\"'!$12:$12\"),INDIRECT(\"'Curves \"&H$10&\"'!$14:$163\"),,0,1),,0,1)","v":2.2469553061152281E-2}]
[60,{"$f":"_xlfn.XLOOKUP($A72,INDIRECT(\"'Curves \"&B$10&\"'!$A$14:$A$163\"),_xlfn.XLOOKUP(B$11&$J$3,INDIRECT(\"'Curves \"&B$10&\"'!$11:$11\")&INDIRECT(\"'Curves \"&B$10&\"'!$12:$12\"),INDIRECT(\"'Curves \"&B$10&\"'!$14:$163\"),,0,1),,0,1)","v":3.266273320774471E-2},{"$f":"_xlfn.XLOOKUP($A72,INDIRECT(\"'Curves \"&C$10&\"'!$A$14:$A$163\"),_xlfn.XLOOKUP(C$11&$J$3,INDIRECT(\"'Curves \"&C$10&\"'!$11:$11\")&INDIRECT(\"'Curves \"&C$10&\"'!$12:$12\"),INDIRECT(\"'Curves \"&C$10&\"'!$14:$163\"),,0,1),,0,1)","v":4.0301472459274068E-2},{"$f":"_xlfn.XLOOKUP($A72,INDIRECT(\"'Curves \"&D$10&\"'!$A$14:$A$163\"),_xlfn.XLOOKUP(D$11&$J$3,INDIRECT(\"'Curves \"&D$10&\"'!$11:$11\")&INDIRECT(\"'Curves \"&D$10&\"'!$12:$12\"),INDIRECT(\"'Curves \"&D$10&\"'!$14:$163\"),,0,1),,0,1)","v":2.1437487783469988E-2},null,{"$f":"_xlfn.XLOOKUP($A72,INDIRECT(\"'Curves \"&F$10&\"'!$A$14:$A$163\"),_xlfn.XLOOKUP(F$11&$J$3,INDIRECT(\"'Curves \"&F$10&\"'!$11:$11\")&INDIRECT(\"'Curves \"&F$10&\"'!$12:$12\"),INDIRECT(\"'Curves \"&F$10&\"'!$14:$163\"),,0,1),,0,1)","v":3.3853195141233527E-2},{"$f":"_xlfn.XLOOKUP($A72,INDIRECT(\"'Curves \"&G$10&\"'!$A$14:$A$163\"),_xlfn.XLOOKUP(G$11&$J$3,INDIRECT(\"'Curves \"&G$10&\"'!$11:$11\")&INDIRECT(\"'Curves \"&G$10&\"'!$12:$12\"),INDIRECT(\"'Curves \"&G$10&\"'!$14:$163\"),,0,1),,0,1)","v":4.1500740393024538E-2},{"$f":"_xlfn.XLOOKUP($A72,INDIRECT(\"'Curves \"&H$10&\"'!$A$14:$A$163\"),_xlfn.XLOOKUP(H$11&$J$3,INDIRECT(\"'Curves \"&H$10&\"'!$11:$11\")&INDIRECT(\"'Curves \"&H$10&\"'!$12:$12\"),INDIRECT(\"'Curves \"&H$10&\"'!$14:$163\"),,0,1),,0,1)","v":2.2615009163434507E-2}]
[61,{"$f":"_xlfn.XLOOKUP($A73,INDIRECT(\"'Curves \"&B$10&\"'!$A$14:$A$163\"),_xlfn.XLOOKUP(B$11&$J$3,INDIRECT(\"'Curves \"&B$10&\"'!$11:$11\")&INDIRECT(\"'Curves \"&B$10&\"'!$12:$12\"),INDIRECT(\"'Curves \"&B$10&\"'!$14:$163\"),,0,1),,0,1)","v":3.2668217891225426E-2},{"$f":"_xlfn.XLOOKUP($A73,INDIRECT(\"'Curves \"&C$10&\"'!$A$14:$A$163\"),_xlfn.XLOOKUP(C$11&$J$3,INDIRECT(\"'Curves \"&C$10&\"'!$11:$11\")&INDIRECT(\"'Curves \"&C$10&\"'!$12:$12\"),INDIRECT(\"'Curves \"&C$10&\"'!$14:$163\"),,0,1),,0,1)","v":4.0207403017701759E-2},{"$f":"_xlfn.XLOOKUP($A73,INDIRECT(\"'Curves \"&D$10&\"'!$A$14:$A$163\"),_xlfn.XLOOKUP(D$11&$J$3,INDIRECT(\"'Curves \"&D$10&\"'!$11:$11\")&INDIRECT(\"'Curves \"&D$10&\"'!$12:$12\"),INDIRECT(\"'Curves \"&D$10&\"'!$14:$163\"),,0,1),,0,1)","v":2.1597584942226522E-2},null,{"$f":"_xlfn.XLOOKUP($A73,INDIRECT(\"'Curves \"&F$10&\"'!$A$14:$A$163\"),_xlfn.XLOOKUP(F$11&$J$3,INDIRECT(\"'Curves \"&F$10&\"'!$11:$11\")&INDIRECT(\"'Curves \"&F$10&\"'!$12:$12\"),INDIRECT(\"'Curves \"&F$10&\"'!$14:$163\"),,0,1),,0,1)","v":3.3839354963526525E-2},{"$f":"_xlfn.XLOOKUP($A73,INDIRECT(\"'Curves \"&G$10&\"'!$A$14:$A$163\"),_xlfn.XLOOKUP(G$11&$J$3,INDIRECT(\"'Curves \"&G$10&\"'!$11:$11\")&INDIRECT(\"'Curves \"&G$10&\"'!$12:$12\"),INDIRECT(\"'Curves \"&G$10&\"'!$14:$163\"),,0,1),,0,1)","v":4.1387090192585463E-2},{"$f":"_xlfn.XLOOKUP($A73,INDIRECT(\"'Curves \"&H$10&\"'!$A$14:$A$163\"),_xlfn.XLOOKUP(H$11&$J$3,INDIRECT(\"'Curves \"&H$10&\"'!$11:$11\")&INDIRECT(\"'Curves \"&H$10&\"'!$12:$12\"),INDIRECT(\"'Curves \"&H$10&\"'!$14:$163\"),,0,1),,0,1)","v":2.2756166937847766E-2}]
[62,{"$f":"_xlfn.XLOOKUP($A74,INDIRECT(\"'Curves \"&B$10&\"'!$A$14:$A$163\"),_xlfn.XLOOKUP(B$11&$J$3,INDIRECT(\"'Curves \"&B$10&\"'!$11:$11\")&INDIRECT(\"'Curves \"&B$10&\"'!$12:$12\"),INDIRECT(\"'Curves \"&B$10&\"'!$14:$163\"),,0,1),,0,1)","v":3.2673530124299299E-2},{"$f":"_xlfn.XLOOKUP($A74,INDIRECT(\"'Curves \"&C$10&\"'!$A$14:$A$163\"),_xlfn.XLOOKUP(C$11&$J$3,INDIRECT(\"'Curves \"&C$10&\"'!$11:$11\")&INDIRECT(\"'Curves \"&C$10&\"'!$12:$12\"),INDIRECT(\"'Curves \"&C$10&\"'!$14:$163\"),,0,1),,0,1)","v":4.0116243109902028E-2},{"$f":"_xlfn.XLOOKUP($A74,INDIRECT(\"'Curves \"&D$10&\"'!$A$14:$A$163\"),_xlfn.XLOOKUP(D$11&$J$3,INDIRECT(\"'Curves \"&D$10&\"'!$11:$11\")&INDIRECT(\"'Curves \"&D$10&\"'!$12:$12\"),INDIRECT(\"'Curves \"&D$10&\"'!$14:$163\"),,0,1),,0,1)","v":2.1752958544402734E-2},null,{"$f":"_xlfn.XLOOKUP($A74,INDIRECT(\"'Curves \"&F$10&\"'!$A$14:$A$163\"),_xlfn.XLOOKUP(F$11&$J$3,INDIRECT(\"'Curves \"&F$10&\"'!$11:$11\")&INDIRECT(\"'Curves \"&F$10&\"'!$12:$12\"),INDIRECT(\"'Curves \"&F$10&\"'!$14:$163\"),,0,1),,0,1)","v":3.3825945810400437E-2},{"$f":"_xlfn.XLOOKUP($A74,INDIRECT(\"'Curves \"&G$10&\"'!$A$14:$A$163\"),_xlfn.XLOOKUP(G$11&$J$3,INDIRECT(\"'Curves \"&G$10&\"'!$11:$11\")&INDIRECT(\"'Curves \"&G$10&\"'!$12:$12\"),INDIRECT(\"'Curves \"&G$10&\"'!$14:$163\"),,0,1),,0,1)","v":4.1276964517939163E-2},{"$f":"_xlfn.XLOOKUP($A74,INDIRECT(\"'Curves \"&H$10&\"'!$A$14:$A$163\"),_xlfn.XLOOKUP(H$11&$J$3,INDIRECT(\"'Curves \"&H$10&\"'!$11:$11\")&INDIRECT(\"'Curves \"&H$10&\"'!$12:$12\"),INDIRECT(\"'Curves \"&H$10&\"'!$14:$163\"),,0,1),,0,1)","v":2.2893187379942948E-2}]
[63,{"$f":"_xlfn.XLOOKUP($A75,INDIRECT(\"'Curves \"&B$10&\"'!$A$14:$A$163\"),_xlfn.XLOOKUP(B$11&$J$3,INDIRECT(\"'Curves \"&B$10&\"'!$11:$11\")&INDIRECT(\"'Curves \"&B$10&\"'!$12:$12\"),INDIRECT(\"'Curves \"&B$10&\"'!$14:$163\"),,0,1),,0,1)","v":3.2678677661767352E-2},{"$f":"_xlfn.XLOOKUP($A75,INDIRECT(\"'Curves \"&C$10&\"'!$A$14:$A$163\"),_xlfn.XLOOKUP(C$11&$J$3,INDIRECT(\"'Curves \"&C$10&\"'!$11:$11\")&INDIRECT(\"'Curves \"&C$10&\"'!$12:$12\"),INDIRECT(\"'Curves \"&C$10&\"'!$14:$163\"),,0,1),,0,1)","v":4.0027867479266677E-2},{"$f":"_xlfn.XLOOKUP($A75,INDIRECT(\"'Curves \"&D$10&\"'!$A$14:$A$163\"),_xlfn.XLOOKUP(D$11&$J$3,INDIRECT(\"'Curves \"&D$10&\"'!$11:$11\")&INDIRECT(\"'Curves \"&D$10&\"'!$12:$12\"),INDIRECT(\"'Curves \"&D$10&\"'!$14:$163\"),,0,1),,0,1)","v":2.1903789834763598E-2},null,{"$f":"_xlfn.XLOOKUP($A75,INDIRECT(\"'Curves \"&F$10&\"'!$A$14:$A$163\"),_xlfn.XLOOKUP(F$11&$J$3,INDIRECT(\"'Curves \"&F$10&\"'!$11:$11\")&INDIRECT(\"'Curves \"&F$10&\"'!$12:$12\"),INDIRECT(\"'Curves \"&F$10&\"'!$14:$163\"),,0,1),,0,1)","v":3.3812948749299077E-2},{"$f":"_xlfn.XLOOKUP($A75,INDIRECT(\"'Curves \"&G$10&\"'!$A$14:$A$163\"),_xlfn.XLOOKUP(G$11&$J$3,INDIRECT(\"'Curves \"&G$10&\"'!$11:$11\")&INDIRECT(\"'Curves \"&G$10&\"'!$12:$12\"),INDIRECT(\"'Curves \"&G$10&\"'!$14:$163\"),,0,1),,0,1)","v":4.1170210751987346E-2},{"$f":"_xlfn.XLOOKUP($A75,INDIRECT(\"'Curves \"&H$10&\"'!$A$14:$A$163\"),_xlfn.XLOOKUP(H$11&$J$3,INDIRECT(\"'Curves \"&H$10&\"'!$11:$11\")&INDIRECT(\"'Curves \"&H$10&\"'!$12:$12\"),INDIRECT(\"'Curves \"&H$10&\"'!$14:$163\"),,0,1),,0,1)","v":2.3026226027281105E-2}]
[64,{"$f":"_xlfn.XLOOKUP($A76,INDIRECT(\"'Curves \"&B$10&\"'!$A$14:$A$163\"),_xlfn.XLOOKUP(B$11&$J$3,INDIRECT(\"'Curves \"&B$10&\"'!$11:$11\")&INDIRECT(\"'Curves \"&B$10&\"'!$12:$12\"),INDIRECT(\"'Curves \"&B$10&\"'!$14:$163\"),,0,1),,0,1)","v":3.2683667820569529E-2},{"$f":"_xlfn.XLOOKUP($A76,INDIRECT(\"'Curves \"&C$10&\"'!$A$14:$A$163\"),_xlfn.XLOOKUP(C$11&$J$3,INDIRECT(\"'Curves \"&C$10&\"'!$11:$11\")&INDIRECT(\"'Curves \"&C$10&\"'!$12:$12\"),INDIRECT(\"'Curves \"&C$10&\"'!$14:$163\"),,0,1),,0,1)","v":3.9942157316267046E-2},{"$f":"_xlfn.XLOOKUP($A76,INDIRECT(\"'Curves \"&D$10&\"'!$A$14:$A$163\"),_xlfn.XLOOKUP(D$11&$J$3,INDIRECT(\"'Curves \"&D$10&\"'!$11:$11\")&INDIRECT(\"'Curves \"&D$10&\"'!$12:$12\"),INDIRECT(\"'Curves \"&D$10&\"'!$14:$163\"),,0,1),,0,1)","v":2.2050253148283572E-2},null,{"$f":"_xlfn.XLOOKUP($A76,INDIRECT(\"'Curves \"&F$10&\"'!$A$14:$A$163\"),_xlfn.XLOOKUP(F$11&$J$3,INDIRECT(\"'Curves \"&F$10&\"'!$11:$11\")&INDIRECT(\"'Curves \"&F$10&\"'!$12:$12\"),INDIRECT(\"'Curves \"&F$10&\"'!$14:$163\"),,0,1),,0,1)","v":3.3800345867277093E-2},{"$f":"_xlfn.XLOOKUP($A76,INDIRECT(\"'Curves \"&G$10&\"'!$A$14:$A$163\"),_xlfn.XLOOKUP(G$11&$J$3,INDIRECT(\"'Curves \"&G$10&\"'!$11:$11\")&INDIRECT(\"'Curves \"&G$10&\"'!$12:$12\"),INDIRECT(\"'Curves \"&G$10&\"'!$14:$163\"),,0,1),,0,1)","v":4.1066684229112971E-2},{"$f":"_xlfn.XLOOKUP($A76,INDIRECT(\"'Curves \"&H$10&\"'!$A$14:$A$163\"),_xlfn.XLOOKUP(H$11&$J$3,INDIRECT(\"'Curves \"&H$10&\"'!$11:$11\")&INDIRECT(\"'Curves \"&H$10&\"'!$12:$12\"),INDIRECT(\"'Curves \"&H$10&\"'!$14:$163\"),,0,1),,0,1)","v":2.3155432900696438E-2}]
[65,{"$f":"_xlfn.XLOOKUP($A77,INDIRECT(\"'Curves \"&B$10&\"'!$A$14:$A$163\"),_xlfn.XLOOKUP(B$11&$J$3,INDIRECT(\"'Curves \"&B$10&\"'!$11:$11\")&INDIRECT(\"'Curves \"&B$10&\"'!$12:$12\"),INDIRECT(\"'Curves \"&B$10&\"'!$14:$163\"),,0,1),,0,1)","v":3.2688507508667586E-2},{"$f":"_xlfn.XLOOKUP($A77,INDIRECT(\"'Curves \"&C$10&\"'!$A$14:$A$163\"),_xlfn.XLOOKUP(C$11&$J$3,INDIRECT(\"'Curves \"&C$10&\"'!$11:$11\")&INDIRECT(\"'Curves \"&C$10&\"'!$12:$12\"),INDIRECT(\"'Curves \"&C$10&\"'!$14:$163\"),,0,1),,0,1)","v":3.9858999905191483E-2},{"$f":"_xlfn.XLOOKUP($A77,INDIRECT(\"'Curves \"&D$10&\"'!$A$14:$A$163\"),_xlfn.XLOOKUP(D$11&$J$3,INDIRECT(\"'Curves \"&D$10&\"'!$11:$11\")&INDIRECT(\"'Curves \"&D$10&\"'!$12:$12\"),INDIRECT(\"'Curves \"&D$10&\"'!$14:$163\"),,0,1),,0,1)","v":2.2192515992256467E-2},null,{"$f":"_xlfn.XLOOKUP($A77,INDIRECT(\"'Curves \"&F$10&\"'!$A$14:$A$163\"),_xlfn.XLOOKUP(F$11&$J$3,INDIRECT(\"'Curves \"&F$10&\"'!$11:$11\")&INDIRECT(\"'Curves \"&F$10&\"'!$12:$12\"),INDIRECT(\"'Curves \"&F$10&\"'!$14:$163\"),,0,1),,0,1)","v":3.3788120209375494E-2},{"$f":"_xlfn.XLOOKUP($A77,INDIRECT(\"'Curves \"&G$10&\"'!$A$14:$A$163\"),_xlfn.XLOOKUP(G$11&$J$3,INDIRECT(\"'Curves \"&G$10&\"'!$11:$11\")&INDIRECT(\"'Curves \"&G$10&\"'!$12:$12\"),INDIRECT(\"'Curves \"&G$10&\"'!$14:$163\"),,0,1),,0,1)","v":4.0966247787710852E-2},{"$f":"_xlfn.XLOOKUP($A77,INDIRECT(\"'Curves \"&H$10&\"'!$A$14:$A$163\"),_xlfn.XLOOKUP(H$11&$J$3,INDIRECT(\"'Curves \"&H$10&\"'!$11:$11\")&INDIRECT(\"'Curves \"&H$10&\"'!$12:$12\"),INDIRECT(\"'Curves \"&H$10&\"'!$14:$163\"),,0,1),,0,1)","v":2.32809525004396E-2}]
[66,{"$f":"_xlfn.XLOOKUP($A78,INDIRECT(\"'Curves \"&B$10&\"'!$A$14:$A$163\"),_xlfn.XLOOKUP(B$11&$J$3,INDIRECT(\"'Curves \"&B$10&\"'!$11:$11\")&INDIRECT(\"'Curves \"&B$10&\"'!$12:$12\"),INDIRECT(\"'Curves \"&B$10&\"'!$14:$163\"),,0,1),,0,1)","v":3.2693203251793923E-2},{"$f":"_xlfn.XLOOKUP($A78,INDIRECT(\"'Curves \"&C$10&\"'!$A$14:$A$163\"),_xlfn.XLOOKUP(C$11&$J$3,INDIRECT(\"'Curves \"&C$10&\"'!$11:$11\")&INDIRECT(\"'Curves \"&C$10&\"'!$12:$12\"),INDIRECT(\"'Curves \"&C$10&\"'!$14:$163\"),,0,1),,0,1)","v":3.9778288288290886E-2},{"$f":"_xlfn.XLOOKUP($A78,INDIRECT(\"'Curves \"&D$10&\"'!$A$14:$A$163\"),_xlfn.XLOOKUP(D$11&$J$3,INDIRECT(\"'Curves \"&D$10&\"'!$11:$11\")&INDIRECT(\"'Curves \"&D$10&\"'!$12:$12\"),INDIRECT(\"'Curves \"&D$10&\"'!$14:$163\"),,0,1),,0,1)","v":2.2330739166729563E-2},null,{"$f":"_xlfn.XLOOKUP($A78,INDIRECT(\"'Curves \"&F$10&\"'!$A$14:$A$163\"),_xlfn.XLOOKUP(F$11&$J$3,INDIRECT(\"'Curves \"&F$10&\"'!$11:$11\")&INDIRECT(\"'Curves \"&F$10&\"'!$12:$12\"),INDIRECT(\"'Curves \"&F$10&\"'!$14:$163\"),,0,1),,0,1)","v":3.3776255720872728E-2},{"$f":"_xlfn.XLOOKUP($A78,INDIRECT(\"'Curves \"&G$10&\"'!$A$14:$A$163\"),_xlfn.XLOOKUP(G$11&$J$3,INDIRECT(\"'Curves \"&G$10&\"'!$11:$11\")&INDIRECT(\"'Curves \"&G$10&\"'!$12:$12\"),INDIRECT(\"'Curves \"&G$10&\"'!$14:$163\"),,0,1),,0,1)","v":4.0868771346452837E-2},{"$f":"_xlfn.XLOOKUP($A78,INDIRECT(\"'Curves \"&H$10&\"'!$A$14:$A$163\"),_xlfn.XLOOKUP(H$11&$J$3,INDIRECT(\"'Curves \"&H$10&\"'!$11:$11\")&INDIRECT(\"'Curves \"&H$10&\"'!$12:$12\"),INDIRECT(\"'Curves \"&H$10&\"'!$14:$163\"),,0,1),,0,1)","v":2.3402923846345125E-2}]
[67,{"$f":"_xlfn.XLOOKUP($A79,INDIRECT(\"'Curves \"&B$10&\"'!$A$14:$A$163\"),_xlfn.XLOOKUP(B$11&$J$3,INDIRECT(\"'Curves \"&B$10&\"'!$11:$11\")&INDIRECT(\"'Curves \"&B$10&\"'!$12:$12\"),INDIRECT(\"'Curves \"&B$10&\"'!$14:$163\"),,0,1),,0,1)","v":3.269776121824064E-2},{"$f":"_xlfn.XLOOKUP($A79,INDIRECT(\"'Curves \"&C$10&\"'!$A$14:$A$163\"),_xlfn.XLOOKUP(C$11&$J$3,INDIRECT(\"'Curves \"&C$10&\"'!$11:$11\")&INDIRECT(\"'Curves \"&C$10&\"'!$12:$12\"),INDIRECT(\"'Curves \"&C$10&\"'!$14:$163\"),,0,1),,0,1)","v":3.9699920947028566E-2},{"$f":"_xlfn.XLOOKUP($A79,INDIRECT(\"'Curves \"&D$10&\"'!$A$14:$A$163\"),_xlfn.XLOOKUP(D$11&$J$3,INDIRECT(\"'Curves \"&D$10&\"'!$11:$11\")&INDIRECT(\"'Curves \"&D$10&\"'!$12:$12\"),INDIRECT(\"'Curves \"&D$10&\"'!$14:$163\"),,0,1),,0,1)","v":2.2465076914590432E-2},null,{"$f":"_xlfn.XLOOKUP($A79,INDIRECT(\"'Curves \"&F$10&\"'!$A$14:$A$163\"),_xlfn.XLOOKUP(F$11&$J$3,INDIRECT(\"'Curves \"&F$10&\"'!$11:$11\")&INDIRECT(\"'Curves \"&F$10&\"'!$12:$12\"),INDIRECT(\"'Curves \"&F$10&\"'!$14:$163\"),,0,1),,0,1)","v":3.3764737193186178E-2},{"$f":"_xlfn.XLOOKUP($A79,INDIRECT(\"'Curves \"&G$10&\"'!$A$14:$A$163\"),_xlfn.XLOOKUP(G$11&$J$3,INDIRECT(\"'Curves \"&G$10&\"'!$11:$11\")&INDIRECT(\"'Curves \"&G$10&\"'!$12:$12\"),INDIRECT(\"'Curves \"&G$10&\"'!$14:$163\"),,0,1),,0,1)","v":4.0774131503556355E-2},{"$f":"_xlfn.XLOOKUP($A79,INDIRECT(\"'Curves \"&H$10&\"'!$A$14:$A$163\"),_xlfn.XLOOKUP(H$11&$J$3,INDIRECT(\"'Curves \"&H$10&\"'!$11:$11\")&INDIRECT(\"'Curves \"&H$10&\"'!$12:$12\"),INDIRECT(\"'Curves \"&H$10&\"'!$14:$163\"),,0,1),,0,1)","v":2.3521480552961771E-2}]
[68,{"$f":"_xlfn.XLOOKUP($A80,INDIRECT(\"'Curves \"&B$10&\"'!$A$14:$A$163\"),_xlfn.XLOOKUP(B$11&$J$3,INDIRECT(\"'Curves \"&B$10&\"'!$11:$11\")&INDIRECT(\"'Curves \"&B$10&\"'!$12:$12\"),INDIRECT(\"'Curves \"&B$10&\"'!$14:$163\"),,0,1),,0,1)","v":3.2702187241843372E-2},{"$f":"_xlfn.XLOOKUP($A80,INDIRECT(\"'Curves \"&C$10&\"'!$A$14:$A$163\"),_xlfn.XLOOKUP(C$11&$J$3,INDIRECT(\"'Curves \"&C$10&\"'!$11:$11\")&INDIRECT(\"'Curves \"&C$10&\"'!$12:$12\"),INDIRECT(\"'Curves \"&C$10&\"'!$14:$163\"),,0,1),,0,1)","v":3.9623801500010769E-2},{"$f":"_xlfn.XLOOKUP($A80,INDIRECT(\"'Curves \"&D$10&\"'!$A$14:$A$163\"),_xlfn.XLOOKUP(D$11&$J$3,INDIRECT(\"'Curves \"&D$10&\"'!$11:$11\")&INDIRECT(\"'Curves \"&D$10&\"'!$12:$12\"),INDIRECT(\"'Curves \"&D$10&\"'!$14:$163\"),,0,1),,0,1)","v":2.2595677094137123E-2},null,{"$f":"_xlfn.XLOOKUP($A80,INDIRECT(\"'Curves \"&F$10&\"'!$A$14:$A$163\"),_xlfn.XLOOKUP(F$11&$J$3,INDIRECT(\"'Curves \"&F$10&\"'!$11:$11\")&INDIRECT(\"'Curves \"&F$10&\"'!$12:$12\"),INDIRECT(\"'Curves \"&F$10&\"'!$14:$163\"),,0,1),,0,1)","v":3.3753550213202477E-2},{"$f":"_xlfn.XLOOKUP($A80,INDIRECT(\"'Curves \"&G$10&\"'!$A$14:$A$163\"),_xlfn.XLOOKUP(G$11&$J$3,INDIRECT(\"'Curves \"&G$10&\"'!$11:$11\")&INDIRECT(\"'Curves \"&G$10&\"'!$12:$12\"),INDIRECT(\"'Curves \"&G$10&\"'!$14:$163\"),,0,1),,0,1)","v":4.0682211158229675E-2},{"$f":"_xlfn.XLOOKUP($A80,INDIRECT(\"'Curves \"&H$10&\"'!$A$14:$A$163\"),_xlfn.XLOOKUP(H$11&$J$3,INDIRECT(\"'Curves \"&H$10&\"'!$11:$11\")&INDIRECT(\"'Curves \"&H$10&\"'!$12:$12\"),INDIRECT(\"'Curves \"&H$10&\"'!$14:$163\"),,0,1),,0,1)","v":2.3636750932123585E-2}]
[69,{"$f":"_xlfn.XLOOKUP($A81,INDIRECT(\"'Curves \"&B$10&\"'!$A$14:$A$163\"),_xlfn.XLOOKUP(B$11&$J$3,INDIRECT(\"'Curves \"&B$10&\"'!$11:$11\")&INDIRECT(\"'Curves \"&B$10&\"'!$12:$12\"),INDIRECT(\"'Curves \"&B$10&\"'!$14:$163\"),,0,1),,0,1)","v":3.2706486843306015E-2},{"$f":"_xlfn.XLOOKUP($A81,INDIRECT(\"'Curves \"&C$10&\"'!$A$14:$A$163\"),_xlfn.XLOOKUP(C$11&$J$3,INDIRECT(\"'Curves \"&C$10&\"'!$11:$11\")&INDIRECT(\"'Curves \"&C$10&\"'!$12:$12\"),INDIRECT(\"'Curves \"&C$10&\"'!$14:$163\"),,0,1),,0,1)","v":3.9549838417088035E-2},{"$f":"_xlfn.XLOOKUP($A81,INDIRECT(\"'Curves \"&D$10&\"'!$A$14:$A$163\"),_xlfn.XLOOKUP(D$11&$J$3,INDIRECT(\"'Curves \"&D$10&\"'!$11:$11\")&INDIRECT(\"'Curves \"&D$10&\"'!$12:$12\"),INDIRECT(\"'Curves \"&D$10&\"'!$14:$163\"),,0,1),,0,1)","v":2.2722681368206654E-2},null,{"$f":"_xlfn.XLOOKUP($A81,INDIRECT(\"'Curves \"&F$10&\"'!$A$14:$A$163\"),_xlfn.XLOOKUP(F$11&$J$3,INDIRECT(\"'Curves \"&F$10&\"'!$11:$11\")&INDIRECT(\"'Curves \"&F$10&\"'!$12:$12\"),INDIRECT(\"'Curves \"&F$10&\"'!$14:$163\"),,0,1),,0,1)","v":3.3742681115827233E-2},{"$f":"_xlfn.XLOOKUP($A81,INDIRECT(\"'Curves \"&G$10&\"'!$A$14:$A$163\"),_xlfn.XLOOKUP(G$11&$J$3,INDIRECT(\"'Curves \"&G$10&\"'!$11:$11\")&INDIRECT(\"'Curves \"&G$10&\"'!$12:$12\"),INDIRECT(\"'Curves \"&G$10&\"'!$14:$163\"),,0,1),,0,1)","v":4.0592899153407025E-2},{"$f":"_xlfn.XLOOKUP($A81,INDIRECT(\"'Curves \"&H$10&\"'!$A$14:$A$163\"),_xlfn.XLOOKUP(H$11&$J$3,INDIRECT(\"'Curves \"&H$10&\"'!$11:$11\")&INDIRECT(\"'Curves \"&H$10&\"'!$12:$12\"),INDIRECT(\"'Curves \"&H$10&\"'!$14:$163\"),,0,1),,0,1)","v":2.3748858116694471E-2}]
[70,{"$f":"_xlfn.XLOOKUP($A82,INDIRECT(\"'Curves \"&B$10&\"'!$A$14:$A$163\"),_xlfn.XLOOKUP(B$11&$J$3,INDIRECT(\"'Curves \"&B$10&\"'!$11:$11\")&INDIRECT(\"'Curves \"&B$10&\"'!$12:$12\"),INDIRECT(\"'Curves \"&B$10&\"'!$14:$163\"),,0,1),,0,1)","v":3.2710665249995774E-2},{"$f":"_xlfn.XLOOKUP($A82,INDIRECT(\"'Curves \"&C$10&\"'!$A$14:$A$163\"),_xlfn.XLOOKUP(C$11&$J$3,INDIRECT(\"'Curves \"&C$10&\"'!$11:$11\")&INDIRECT(\"'Curves \"&C$10&\"'!$12:$12\"),INDIRECT(\"'Curves \"&C$10&\"'!$14:$163\"),,0,1),,0,1)","v":3.9477944749049199E-2},{"$f":"_xlfn.XLOOKUP($A82,INDIRECT(\"'Curves \"&D$10&\"'!$A$14:$A$163\"),_xlfn.XLOOKUP(D$11&$J$3,INDIRECT(\"'Curves \"&D$10&\"'!$11:$11\")&INDIRECT(\"'Curves \"&D$10&\"'!$12:$12\"),INDIRECT(\"'Curves \"&D$10&\"'!$14:$163\"),,0,1),,0,1)","v":2.284622540498793E-2},null,{"$f":"_xlfn.XLOOKUP($A82,INDIRECT(\"'Curves \"&F$10&\"'!$A$14:$A$163\"),_xlfn.XLOOKUP(F$11&$J$3,INDIRECT(\"'Curves \"&F$10&\"'!$11:$11\")&INDIRECT(\"'Curves \"&F$10&\"'!$12:$12\"),INDIRECT(\"'Curves \"&F$10&\"'!$14:$163\"),,0,1),,0,1)","v":3.373211693955569E-2},{"$f":"_xlfn.XLOOKUP($A82,INDIRECT(\"'Curves \"&G$10&\"'!$A$14:$A$163\"),_xlfn.XLOOKUP(G$11&$J$3,INDIRECT(\"'Curves \"&G$10&\"'!$11:$11\")&INDIRECT(\"'Curves \"&G$10&\"'!$12:$12\"),INDIRECT(\"'Curves \"&G$10&\"'!$14:$163\"),,0,1),,0,1)","v":4.050608993884186E-2},{"$f":"_xlfn.XLOOKUP($A82,INDIRECT(\"'Curves \"&H$10&\"'!$A$14:$A$163\"),_xlfn.XLOOKUP(H$11&$J$3,INDIRECT(\"'Curves \"&H$10&\"'!$11:$11\")&INDIRECT(\"'Curves \"&H$10&\"'!$12:$12\"),INDIRECT(\"'Curves \"&H$10&\"'!$14:$163\"),,0,1),,0,1)","v":2.3857920200303084E-2}]
[71,{"$f":"_xlfn.XLOOKUP($A83,INDIRECT(\"'Curves \"&B$10&\"'!$A$14:$A$163\"),_xlfn.XLOOKUP(B$11&$J$3,INDIRECT(\"'Curves \"&B$10&\"'!$11:$11\")&INDIRECT(\"'Curves \"&B$10&\"'!$12:$12\"),INDIRECT(\"'Curves \"&B$10&\"'!$14:$163\"),,0,1),,0,1)","v":3.2714727414329348E-2},{"$f":"_xlfn.XLOOKUP($A83,INDIRECT(\"'Curves \"&C$10&\"'!$A$14:$A$163\"),_xlfn.XLOOKUP(C$11&$J$3,INDIRECT(\"'Curves \"&C$10&\"'!$11:$11\")&INDIRECT(\"'Curves \"&C$10&\"'!$12:$12\"),INDIRECT(\"'Curves \"&C$10&\"'!$14:$163\"),,0,1),,0,1)","v":3.9408037872290302E-2},{"$f":"_xlfn.XLOOKUP($A83,INDIRECT(\"'Curves \"&D$10&\"'!$A$14:$A$163\"),_xlfn.XLOOKUP(D$11&$J$3,INDIRECT(\"'Curves \"&D$10&\"'!$11:$11\")&INDIRECT(\"'Curves \"&D$10&\"'!$12:$12\"),INDIRECT(\"'Curves \"&D$10&\"'!$14:$163\"),,0,1),,0,1)","v":2.296643908652074E-2},null,{"$f":"_xlfn.XLOOKUP($A83,INDIRECT(\"'Curves \"&F$10&\"'!$A$14:$A$163\"),_xlfn.XLOOKUP(F$11&$J$3,INDIRECT(\"'Curves \"&F$10&\"'!$11:$11\")&INDIRECT(\"'Curves \"&F$10&\"'!$12:$12\"),INDIRECT(\"'Curves \"&F$10&\"'!$14:$163\"),,0,1),,0,1)","v":3.3721845384871107E-2},{"$f":"_xlfn.XLOOKUP($A83,INDIRECT(\"'Curves \"&G$10&\"'!$A$14:$A$163\"),_xlfn.XLOOKUP(G$11&$J$3,INDIRECT(\"'Curves \"&G$10&\"'!$11:$11\")&INDIRECT(\"'Curves \"&G$10&\"'!$12:$12\"),INDIRECT(\"'Curves \"&G$10&\"'!$14:$163\"),,0,1),,0,1)","v":4.0421683253612395E-2},{"$f":"_xlfn.XLOOKUP($A83,INDIRECT(\"'Curves \"&H$10&\"'!$A$14:$A$163\"),_xlfn.XLOOKUP(H$11&$J$3,INDIRECT(\"'Curves \"&H$10&\"'!$11:$11\")&INDIRECT(\"'Curves \"&H$10&\"'!$12:$12\"),INDIRECT(\"'Curves \"&H$10&\"'!$14:$163\"),,0,1),,0,1)","v":2.3964050388767477E-2}]
[72,{"$f":"_xlfn.XLOOKUP($A84,INDIRECT(\"'Curves \"&B$10&\"'!$A$14:$A$163\"),_xlfn.XLOOKUP(B$11&$J$3,INDIRECT(\"'Curves \"&B$10&\"'!$11:$11\")&INDIRECT(\"'Curves \"&B$10&\"'!$12:$12\"),INDIRECT(\"'Curves \"&B$10&\"'!$14:$163\"),,0,1),,0,1)","v":3.2718678030860371E-2},{"$f":"_xlfn.XLOOKUP($A84,INDIRECT(\"'Curves \"&C$10&\"'!$A$14:$A$163\"),_xlfn.XLOOKUP(C$11&$J$3,INDIRECT(\"'Curves \"&C$10&\"'!$11:$11\")&INDIRECT(\"'Curves \"&C$10&\"'!$12:$12\"),INDIRECT(\"'Curves \"&C$10&\"'!$14:$163\"),,0,1),,0,1)","v":3.9340039247814484E-2},{"$f":"_xlfn.XLOOKUP($A84,INDIRECT(\"'Curves \"&D$10&\"'!$A$14:$A$163\"),_xlfn.XLOOKUP(D$11&$J$3,INDIRECT(\"'Curves \"&D$10&\"'!$11:$11\")&INDIRECT(\"'Curves \"&D$10&\"'!$12:$12\"),INDIRECT(\"'Curves \"&D$10&\"'!$14:$163\"),,0,1),,0,1)","v":2.3083446721618106E-2},null,{"$f":"_xlfn.XLOOKUP($A84,INDIRECT(\"'Curves \"&F$10&\"'!$A$14:$A$163\"),_xlfn.XLOOKUP(F$11&$J$3,INDIRECT(\"'Curves \"&F$10&\"'!$11:$11\")&INDIRECT(\"'Curves \"&F$10&\"'!$12:$12\"),INDIRECT(\"'Curves \"&F$10&\"'!$14:$163\"),,0,1),,0,1)","v":3.3711854775294814E-2},{"$f":"_xlfn.XLOOKUP($A84,INDIRECT(\"'Curves \"&G$10&\"'!$A$14:$A$163\"),_xlfn.XLOOKUP(G$11&$J$3,INDIRECT(\"'Curves \"&G$10&\"'!$11:$11\")&INDIRECT(\"'Curves \"&G$10&\"'!$12:$12\"),INDIRECT(\"'Curves \"&G$10&\"'!$14:$163\"),,0,1),,0,1)","v":4.0339583827088132E-2},{"$f":"_xlfn.XLOOKUP($A84,INDIRECT(\"'Curves \"&H$10&\"'!$A$14:$A$163\"),_xlfn.XLOOKUP(H$11&$J$3,INDIRECT(\"'Curves \"&H$10&\"'!$11:$11\")&INDIRECT(\"'Curves \"&H$10&\"'!$12:$12\"),INDIRECT(\"'Curves \"&H$10&\"'!$14:$163\"),,0,1),,0,1)","v":2.4067357159683667E-2}]
[73,{"$f":"_xlfn.XLOOKUP($A85,INDIRECT(\"'Curves \"&B$10&\"'!$A$14:$A$163\"),_xlfn.XLOOKUP(B$11&$J$3,INDIRECT(\"'Curves \"&B$10&\"'!$11:$11\")&INDIRECT(\"'Curves \"&B$10&\"'!$12:$12\"),INDIRECT(\"'Curves \"&B$10&\"'!$14:$163\"),,0,1),,0,1)","v":3.2722521552168704E-2},{"$f":"_xlfn.XLOOKUP($A85,INDIRECT(\"'Curves \"&C$10&\"'!$A$14:$A$163\"),_xlfn.XLOOKUP(C$11&$J$3,INDIRECT(\"'Curves \"&C$10&\"'!$11:$11\")&INDIRECT(\"'Curves \"&C$10&\"'!$12:$12\"),INDIRECT(\"'Curves \"&C$10&\"'!$14:$163\"),,0,1),,0,1)","v":3.9273874193907155E-2},{"$f":"_xlfn.XLOOKUP($A85,INDIRECT(\"'Curves \"&D$10&\"'!$A$14:$A$163\"),_xlfn.XLOOKUP(D$11&$J$3,INDIRECT(\"'Curves \"&D$10&\"'!$11:$11\")&INDIRECT(\"'Curves \"&D$10&\"'!$12:$12\"),INDIRECT(\"'Curves \"&D$10&\"'!$14:$163\"),,0,1),,0,1)","v":2.3197367260562984E-2},null,{"$f":"_xlfn.XLOOKUP($A85,INDIRECT(\"'Curves \"&F$10&\"'!$A$14:$A$163\"),_xlfn.XLOOKUP(F$11&$J$3,INDIRECT(\"'Curves \"&F$10&\"'!$11:$11\")&INDIRECT(\"'Curves \"&F$10&\"'!$12:$12\"),INDIRECT(\"'Curves \"&F$10&\"'!$14:$163\"),,0,1),,0,1)","v":3.3702134020914265E-2},{"$f":"_xlfn.XLOOKUP($A85,INDIRECT(\"'Curves \"&G$10&\"'!$A$14:$A$163\"),_xlfn.XLOOKUP(G$11&$J$3,INDIRECT(\"'Curves \"&G$10&\"'!$11:$11\")&INDIRECT(\"'Curves \"&G$10&\"'!$12:$12\"),INDIRECT(\"'Curves \"&G$10&\"'!$14:$163\"),,0,1),,0,1)","v":4.0259701097412393E-2},{"$f":"_xlfn.XLOOKUP($A85,INDIRECT(\"'Curves \"&H$10&\"'!$A$14:$A$163\"),_xlfn.XLOOKUP(H$11&$J$3,INDIRECT(\"'Curves \"&H$10&\"'!$11:$11\")&INDIRECT(\"'Curves \"&H$10&\"'!$12:$12\"),INDIRECT(\"'Curves \"&H$10&\"'!$14:$163\"),,0,1),,0,1)","v":2.4167944427263777E-2}]
[74,{"$f":"_xlfn.XLOOKUP($A86,INDIRECT(\"'Curves \"&B$10&\"'!$A$14:$A$163\"),_xlfn.XLOOKUP(B$11&$J$3,INDIRECT(\"'Curves \"&B$10&\"'!$11:$11\")&INDIRECT(\"'Curves \"&B$10&\"'!$12:$12\"),INDIRECT(\"'Curves \"&B$10&\"'!$14:$163\"),,0,1),,0,1)","v":3.2726262203642609E-2},{"$f":"_xlfn.XLOOKUP($A86,INDIRECT(\"'Curves \"&C$10&\"'!$A$14:$A$163\"),_xlfn.XLOOKUP(C$11&$J$3,INDIRECT(\"'Curves \"&C$10&\"'!$11:$11\")&INDIRECT(\"'Curves \"&C$10&\"'!$12:$12\"),INDIRECT(\"'Curves \"&C$10&\"'!$14:$163\"),,0,1),,0,1)","v":3.9209471671821428E-2},{"$f":"_xlfn.XLOOKUP($A86,INDIRECT(\"'Curves \"&D$10&\"'!$A$14:$A$163\"),_xlfn.XLOOKUP(D$11&$J$3,INDIRECT(\"'Curves \"&D$10&\"'!$11:$11\")&INDIRECT(\"'Curves \"&D$10&\"'!$12:$12\"),INDIRECT(\"'Curves \"&D$10&\"'!$14:$163\"),,0,1),,0,1)","v":2.3308314509441708E-2},null,{"$f":"_xlfn.XLOOKUP($A86,INDIRECT(\"'Curves \"&F$10&\"'!$A$14:$A$163\"),_xlfn.XLOOKUP(F$11&$J$3,INDIRECT(\"'Curves \"&F$10&\"'!$11:$11\")&INDIRECT(\"'Curves \"&F$10&\"'!$12:$12\"),INDIRECT(\"'Curves \"&F$10&\"'!$14:$163\"),,0,1),,0,1)","v":3.3692672584230365E-2},{"$f":"_xlfn.XLOOKUP($A86,INDIRECT(\"'Curves \"&G$10&\"'!$A$14:$A$163\"),_xlfn.XLOOKUP(G$11&$J$3,INDIRECT(\"'Curves \"&G$10&\"'!$11:$11\")&INDIRECT(\"'Curves \"&G$10&\"'!$12:$12\"),INDIRECT(\"'Curves \"&G$10&\"'!$14:$163\"),,0,1),,0,1)","v":4.0181948946569568E-2},{"$f":"_xlfn.XLOOKUP($A86,INDIRECT(\"'Curves \"&H$10&\"'!$A$14:$A$163\"),_xlfn.XLOOKUP(H$11&$J$3,INDIRECT(\"'Curves \"&H$10&\"'!$11:$11\")&INDIRECT(\"'Curves \"&H$10&\"'!$12:$12\"),INDIRECT(\"'Curves \"&H$10&\"'!$14:$163\"),,0,1),,0,1)","v":2.4265911710052768E-2}]
[75,{"$f":"_xlfn.XLOOKUP($A87,INDIRECT(\"'Curves \"&B$10&\"'!$A$14:$A$163\"),_xlfn.XLOOKUP(B$11&$J$3,INDIRECT(\"'Curves \"&B$10&\"'!$11:$11\")&INDIRECT(\"'Curves \"&B$10&\"'!$12:$12\"),INDIRECT(\"'Curves \"&B$10&\"'!$14:$163\"),,0,1),,0,1)","v":3.272990399724085E-2},{"$f":"_xlfn.XLOOKUP($A87,INDIRECT(\"'Curves \"&C$10&\"'!$A$14:$A$163\"),_xlfn.XLOOKUP(C$11&$J$3,INDIRECT(\"'Curves \"&C$10&\"'!$11:$11\")&INDIRECT(\"'Curves \"&C$10&\"'!$12:$12\"),INDIRECT(\"'Curves \"&C$10&\"'!$14:$163\"),,0,1),,0,1)","v":3.9146764083823893E-2},{"$f":"_xlfn.XLOOKUP($A87,INDIRECT(\"'Curves \"&D$10&\"'!$A$14:$A$163\"),_xlfn.XLOOKUP(D$11&$J$3,INDIRECT(\"'Curves \"&D$10&\"'!$11:$11\")&INDIRECT(\"'Curves \"&D$10&\"'!$12:$12\"),INDIRECT(\"'Curves \"&D$10&\"'!$14:$163\"),,0,1),,0,1)","v":2.3416397342409967E-2},null,{"$f":"_xlfn.XLOOKUP($A87,INDIRECT(\"'Curves \"&F$10&\"'!$A$14:$A$163\"),_xlfn.XLOOKUP(F$11&$J$3,INDIRECT(\"'Curves \"&F$10&\"'!$11:$11\")&INDIRECT(\"'Curves \"&F$10&\"'!$12:$12\"),INDIRECT(\"'Curves \"&F$10&\"'!$14:$163\"),,0,1),,0,1)","v":3.3683460448174385E-2},{"$f":"_xlfn.XLOOKUP($A87,INDIRECT(\"'Curves \"&G$10&\"'!$A$14:$A$163\"),_xlfn.XLOOKUP(G$11&$J$3,INDIRECT(\"'Curves \"&G$10&\"'!$11:$11\")&INDIRECT(\"'Curves \"&G$10&\"'!$12:$12\"),INDIRECT(\"'Curves \"&G$10&\"'!$14:$163\"),,0,1),,0,1)","v":4.0106245451143163E-2},{"$f":"_xlfn.XLOOKUP($A87,INDIRECT(\"'Curves \"&H$10&\"'!$A$14:$A$163\"),_xlfn.XLOOKUP(H$11&$J$3,INDIRECT(\"'Curves \"&H$10&\"'!$11:$11\")&INDIRECT(\"'Curves \"&H$10&\"'!$12:$12\"),INDIRECT(\"'Curves \"&H$10&\"'!$14:$163\"),,0,1),,0,1)","v":2.4361354299596849E-2}]
[76,{"$f":"_xlfn.XLOOKUP($A88,INDIRECT(\"'Curves \"&B$10&\"'!$A$14:$A$163\"),_xlfn.XLOOKUP(B$11&$J$3,INDIRECT(\"'Curves \"&B$10&\"'!$11:$11\")&INDIRECT(\"'Curves \"&B$10&\"'!$12:$12\"),INDIRECT(\"'Curves \"&B$10&\"'!$14:$163\"),,0,1),,0,1)","v":3.2733450744308223E-2},{"$f":"_xlfn.XLOOKUP($A88,INDIRECT(\"'Curves \"&C$10&\"'!$A$14:$A$163\"),_xlfn.XLOOKUP(C$11&$J$3,INDIRECT(\"'Curves \"&C$10&\"'!$11:$11\")&INDIRECT(\"'Curves \"&C$10&\"'!$12:$12\"),INDIRECT(\"'Curves \"&C$10&\"'!$14:$163\"),,0,1),,0,1)","v":3.9085687082953013E-2},{"$f":"_xlfn.XLOOKUP($A88,INDIRECT(\"'Curves \"&D$10&\"'!$A$14:$A$163\"),_xlfn.XLOOKUP(D$11&$J$3,INDIRECT(\"'Curves \"&D$10&\"'!$11:$11\")&INDIRECT(\"'Curves \"&D$10&\"'!$12:$12\"),INDIRECT(\"'Curves \"&D$10&\"'!$14:$163\"),,0,1),,0,1)","v":2.3521719910537531E-2},null,{"$f":"_xlfn.XLOOKUP($A88,INDIRECT(\"'Curves \"&F$10&\"'!$A$14:$A$163\"),_xlfn.XLOOKUP(F$11&$J$3,INDIRECT(\"'Curves \"&F$10&\"'!$11:$11\")&INDIRECT(\"'Curves \"&F$10&\"'!$12:$12\"),INDIRECT(\"'Curves \"&F$10&\"'!$14:$163\"),,0,1),,0,1)","v":3.3674488086150811E-2},{"$f":"_xlfn.XLOOKUP($A88,INDIRECT(\"'Curves \"&G$10&\"'!$A$14:$A$163\"),_xlfn.XLOOKUP(G$11&$J$3,INDIRECT(\"'Curves \"&G$10&\"'!$11:$11\")&INDIRECT(\"'Curves \"&G$10&\"'!$12:$12\"),INDIRECT(\"'Curves \"&G$10&\"'!$14:$163\"),,0,1),,0,1)","v":4.0032512647879326E-2},{"$f":"_xlfn.XLOOKUP($A88,INDIRECT(\"'Curves \"&H$10&\"'!$A$14:$A$163\"),_xlfn.XLOOKUP(H$11&$J$3,INDIRECT(\"'Curves \"&H$10&\"'!$11:$11\")&INDIRECT(\"'Curves \"&H$10&\"'!$12:$12\"),INDIRECT(\"'Curves \"&H$10&\"'!$14:$163\"),,0,1),,0,1)","v":2.4454363428503045E-2}]
[77,{"$f":"_xlfn.XLOOKUP($A89,INDIRECT(\"'Curves \"&B$10&\"'!$A$14:$A$163\"),_xlfn.XLOOKUP(B$11&$J$3,INDIRECT(\"'Curves \"&B$10&\"'!$11:$11\")&INDIRECT(\"'Curves \"&B$10&\"'!$12:$12\"),INDIRECT(\"'Curves \"&B$10&\"'!$14:$163\"),,0,1),,0,1)","v":3.2736906067521332E-2},{"$f":"_xlfn.XLOOKUP($A89,INDIRECT(\"'Curves \"&C$10&\"'!$A$14:$A$163\"),_xlfn.XLOOKUP(C$11&$J$3,INDIRECT(\"'Curves \"&C$10&\"'!$11:$11\")&INDIRECT(\"'Curves \"&C$10&\"'!$12:$12\"),INDIRECT(\"'Curves \"&C$10&\"'!$14:$163\"),,0,1),,0,1)","v":3.9026179393863103E-2},{"$f":"_xlfn.XLOOKUP($A89,INDIRECT(\"'Curves \"&D$10&\"'!$A$14:$A$163\"),_xlfn.XLOOKUP(D$11&$J$3,INDIRECT(\"'Curves \"&D$10&\"'!$11:$11\")&INDIRECT(\"'Curves \"&D$10&\"'!$12:$12\"),INDIRECT(\"'Curves \"&D$10&\"'!$14:$163\"),,0,1),,0,1)","v":2.3624381846183651E-2},null,{"$f":"_xlfn.XLOOKUP($A89,INDIRECT(\"'Curves \"&F$10&\"'!$A$14:$A$163\"),_xlfn.XLOOKUP(F$11&$J$3,INDIRECT(\"'Curves \"&F$10&\"'!$11:$11\")&INDIRECT(\"'Curves \"&F$10&\"'!$12:$12\"),INDIRECT(\"'Curves \"&F$10&\"'!$14:$163\"),,0,1),,0,1)","v":3.3665746433972243E-2},{"$f":"_xlfn.XLOOKUP($A89,INDIRECT(\"'Curves \"&G$10&\"'!$A$14:$A$163\"),_xlfn.XLOOKUP(G$11&$J$3,INDIRECT(\"'Curves \"&G$10&\"'!$11:$11\")&INDIRECT(\"'Curves \"&G$10&\"'!$12:$12\"),INDIRECT(\"'Curves \"&G$10&\"'!$14:$163\"),,0,1),,0,1)","v":3.9960676313214316E-2},{"$f":"_xlfn.XLOOKUP($A89,INDIRECT(\"'Curves \"&H$10&\"'!$A$14:$A$163\"),_xlfn.XLOOKUP(H$11&$J$3,INDIRECT(\"'Curves \"&H$10&\"'!$11:$11\")&INDIRECT(\"'Curves \"&H$10&\"'!$12:$12\"),INDIRECT(\"'Curves \"&H$10&\"'!$14:$163\"),,0,1),,0,1)","v":2.4545026436646245E-2}]
[78,{"$f":"_xlfn.XLOOKUP($A90,INDIRECT(\"'Curves \"&B$10&\"'!$A$14:$A$163\"),_xlfn.XLOOKUP(B$11&$J$3,INDIRECT(\"'Curves \"&B$10&\"'!$11:$11\")&INDIRECT(\"'Curves \"&B$10&\"'!$12:$12\"),INDIRECT(\"'Curves \"&B$10&\"'!$14:$163\"),,0,1),,0,1)","v":3.2740273412023901E-2},{"$f":"_xlfn.XLOOKUP($A90,INDIRECT(\"'Curves \"&C$10&\"'!$A$14:$A$163\"),_xlfn.XLOOKUP(C$11&$J$3,INDIRECT(\"'Curves \"&C$10&\"'!$11:$11\")&INDIRECT(\"'Curves \"&C$10&\"'!$12:$12\"),INDIRECT(\"'Curves \"&C$10&\"'!$14:$163\"),,0,1),,0,1)","v":3.8968182644146143E-2},{"$f":"_xlfn.XLOOKUP($A90,INDIRECT(\"'Curves \"&D$10&\"'!$A$14:$A$163\"),_xlfn.XLOOKUP(D$11&$J$3,INDIRECT(\"'Curves \"&D$10&\"'!$11:$11\")&INDIRECT(\"'Curves \"&D$10&\"'!$12:$12\"),INDIRECT(\"'Curves \"&D$10&\"'!$14:$163\"),,0,1),,0,1)","v":2.3724478462094911E-2},null,{"$f":"_xlfn.XLOOKUP($A90,INDIRECT(\"'Curves \"&F$10&\"'!$A$14:$A$163\"),_xlfn.XLOOKUP(F$11&$J$3,INDIRECT(\"'Curves \"&F$10&\"'!$11:$11\")&INDIRECT(\"'Curves \"&F$10&\"'!$12:$12\"),INDIRECT(\"'Curves \"&F$10&\"'!$14:$163\"),,0,1),,0,1)","v":3.3657226863566869E-2},{"$f":"_xlfn.XLOOKUP($A90,INDIRECT(\"'Curves \"&G$10&\"'!$A$14:$A$163\"),_xlfn.XLOOKUP(G$11&$J$3,INDIRECT(\"'Curves \"&G$10&\"'!$11:$11\")&INDIRECT(\"'Curves \"&G$10&\"'!$12:$12\"),INDIRECT(\"'Curves \"&G$10&\"'!$14:$163\"),,0,1),,0,1)","v":3.9890665755965893E-2},{"$f":"_xlfn.XLOOKUP($A90,INDIRECT(\"'Curves \"&H$10&\"'!$A$14:$A$163\"),_xlfn.XLOOKUP(H$11&$J$3,INDIRECT(\"'Curves \"&H$10&\"'!$11:$11\")&INDIRECT(\"'Curves \"&H$10&\"'!$12:$12\"),INDIRECT(\"'Curves \"&H$10&\"'!$14:$163\"),,0,1),,0,1)","v":2.4633426934544289E-2}]
[79,{"$f":"_xlfn.XLOOKUP($A91,INDIRECT(\"'Curves \"&B$10&\"'!$A$14:$A$163\"),_xlfn.XLOOKUP(B$11&$J$3,INDIRECT(\"'Curves \"&B$10&\"'!$11:$11\")&INDIRECT(\"'Curves \"&B$10&\"'!$12:$12\"),INDIRECT(\"'Curves \"&B$10&\"'!$14:$163\"),,0,1),,0,1)","v":3.2743556055816248E-2},{"$f":"_xlfn.XLOOKUP($A91,INDIRECT(\"'Curves \"&C$10&\"'!$A$14:$A$163\"),_xlfn.XLOOKUP(C$11&$J$3,INDIRECT(\"'Curves \"&C$10&\"'!$11:$11\")&INDIRECT(\"'Curves \"&C$10&\"'!$12:$12\"),INDIRECT(\"'Curves \"&C$10&\"'!$14:$163\"),,0,1),,0,1)","v":3.8911641205542136E-2},{"$f":"_xlfn.XLOOKUP($A91,INDIRECT(\"'Curves \"&D$10&\"'!$A$14:$A$163\"),_xlfn.XLOOKUP(D$11&$J$3,INDIRECT(\"'Curves \"&D$10&\"'!$11:$11\")&INDIRECT(\"'Curves \"&D$10&\"'!$12:$12\"),INDIRECT(\"'Curves \"&D$10&\"'!$14:$163\"),,0,1),,0,1)","v":2.3822100944627778E-2},null,{"$f":"_xlfn.XLOOKUP($A91,INDIRECT(\"'Curves \"&F$10&\"'!$A$14:$A$163\"),_xlfn.XLOOKUP(F$11&$J$3,INDIRECT(\"'Curves \"&F$10&\"'!$11:$11\")&INDIRECT(\"'Curves \"&F$10&\"'!$12:$12\"),INDIRECT(\"'Curves \"&F$10&\"'!$14:$163\"),,0,1),,0,1)","v":3.3648921158335066E-2},{"$f":"_xlfn.XLOOKUP($A91,INDIRECT(\"'Curves \"&G$10&\"'!$A$14:$A$163\"),_xlfn.XLOOKUP(G$11&$J$3,INDIRECT(\"'Curves \"&G$10&\"'!$11:$11\")&INDIRECT(\"'Curves \"&G$10&\"'!$12:$12\"),INDIRECT(\"'Curves \"&G$10&\"'!$14:$163\"),,0,1),,0,1)","v":3.9822413622404573E-2},{"$f":"_xlfn.XLOOKUP($A91,INDIRECT(\"'Curves \"&H$10&\"'!$A$14:$A$163\"),_xlfn.XLOOKUP(H$11&$J$3,INDIRECT(\"'Curves \"&H$10&\"'!$11:$11\")&INDIRECT(\"'Curves \"&H$10&\"'!$12:$12\"),INDIRECT(\"'Curves \"&H$10&\"'!$14:$163\"),,0,1),,0,1)","v":2.4719644963128173E-2}]
[80,{"$f":"_xlfn.XLOOKUP($A92,INDIRECT(\"'Curves \"&B$10&\"'!$A$14:$A$163\"),_xlfn.XLOOKUP(B$11&$J$3,INDIRECT(\"'Curves \"&B$10&\"'!$11:$11\")&INDIRECT(\"'Curves \"&B$10&\"'!$12:$12\"),INDIRECT(\"'Curves \"&B$10&\"'!$14:$163\"),,0,1),,0,1)","v":3.2746757119452852E-2},{"$f":"_xlfn.XLOOKUP($A92,INDIRECT(\"'Curves \"&C$10&\"'!$A$14:$A$163\"),_xlfn.XLOOKUP(C$11&$J$3,INDIRECT(\"'Curves \"&C$10&\"'!$11:$11\")&INDIRECT(\"'Curves \"&C$10&\"'!$12:$12\"),INDIRECT(\"'Curves \"&C$10&\"'!$14:$163\"),,0,1),,0,1)","v":3.885650204447777E-2},{"$f":"_xlfn.XLOOKUP($A92,INDIRECT(\"'Curves \"&D$10&\"'!$A$14:$A$163\"),_xlfn.XLOOKUP(D$11&$J$3,INDIRECT(\"'Curves \"&D$10&\"'!$11:$11\")&INDIRECT(\"'Curves \"&D$10&\"'!$12:$12\"),INDIRECT(\"'Curves \"&D$10&\"'!$14:$163\"),,0,1),,0,1)","v":2.3917336540661083E-2},null,{"$f":"_xlfn.XLOOKUP($A92,INDIRECT(\"'Curves \"&F$10&\"'!$A$14:$A$163\"),_xlfn.XLOOKUP(F$11&$J$3,INDIRECT(\"'Curves \"&F$10&\"'!$11:$11\")&INDIRECT(\"'Curves \"&F$10&\"'!$12:$12\"),INDIRECT(\"'Curves \"&F$10&\"'!$14:$163\"),,0,1),,0,1)","v":3.3640821490050987E-2},{"$f":"_xlfn.XLOOKUP($A92,INDIRECT(\"'Curves \"&G$10&\"'!$A$14:$A$163\"),_xlfn.XLOOKUP(G$11&$J$3,INDIRECT(\"'Curves \"&G$10&\"'!$11:$11\")&INDIRECT(\"'Curves \"&G$10&\"'!$12:$12\"),INDIRECT(\"'Curves \"&G$10&\"'!$14:$163\"),,0,1),,0,1)","v":3.9755855712973354E-2},{"$f":"_xlfn.XLOOKUP($A92,INDIRECT(\"'Curves \"&H$10&\"'!$A$14:$A$163\"),_xlfn.XLOOKUP(H$11&$J$3,INDIRECT(\"'Curves \"&H$10&\"'!$11:$11\")&INDIRECT(\"'Curves \"&H$10&\"'!$12:$12\"),INDIRECT(\"'Curves \"&H$10&\"'!$14:$163\"),,0,1),,0,1)","v":2.4803757149322481E-2}]
[81,{"$f":"_xlfn.XLOOKUP($A93,INDIRECT(\"'Curves \"&B$10&\"'!$A$14:$A$163\"),_xlfn.XLOOKUP(B$11&$J$3,INDIRECT(\"'Curves \"&B$10&\"'!$11:$11\")&INDIRECT(\"'Curves \"&B$10&\"'!$12:$12\"),INDIRECT(\"'Curves \"&B$10&\"'!$14:$163\"),,0,1),,0,1)","v":3.2749879575098007E-2},{"$f":"_xlfn.XLOOKUP($A93,INDIRECT(\"'Curves \"&C$10&\"'!$A$14:$A$163\"),_xlfn.XLOOKUP(C$11&$J$3,INDIRECT(\"'Curves \"&C$10&\"'!$11:$11\")&INDIRECT(\"'Curves \"&C$10&\"'!$12:$12\"),INDIRECT(\"'Curves \"&C$10&\"'!$14:$163\"),,0,1),,0,1)","v":3.8802714581389175E-2},{"$f":"_xlfn.XLOOKUP($A93,INDIRECT(\"'Curves \"&D$10&\"'!$A$14:$A$163\"),_xlfn.XLOOKUP(D$11&$J$3,INDIRECT(\"'Curves \"&D$10&\"'!$11:$11\")&INDIRECT(\"'Curves \"&D$10&\"'!$12:$12\"),INDIRECT(\"'Curves \"&D$10&\"'!$14:$163\"),,0,1),,0,1)","v":2.4010268737911789E-2},null,{"$f":"_xlfn.XLOOKUP($A93,INDIRECT(\"'Curves \"&F$10&\"'!$A$14:$A$163\"),_xlfn.XLOOKUP(F$11&$J$3,INDIRECT(\"'Curves \"&F$10&\"'!$11:$11\")&INDIRECT(\"'Curves \"&F$10&\"'!$12:$12\"),INDIRECT(\"'Curves \"&F$10&\"'!$14:$163\"),,0,1),,0,1)","v":3.3632920397205446E-2},{"$f":"_xlfn.XLOOKUP($A93,INDIRECT(\"'Curves \"&G$10&\"'!$A$14:$A$163\"),_xlfn.XLOOKUP(G$11&$J$3,INDIRECT(\"'Curves \"&G$10&\"'!$11:$11\")&INDIRECT(\"'Curves \"&G$10&\"'!$12:$12\"),INDIRECT(\"'Curves \"&G$10&\"'!$14:$163\"),,0,1),,0,1)","v":3.9690930809958225E-2},{"$f":"_xlfn.XLOOKUP($A93,INDIRECT(\"'Curves \"&H$10&\"'!$A$14:$A$163\"),_xlfn.XLOOKUP(H$11&$J$3,INDIRECT(\"'Curves \"&H$10&\"'!$11:$11\")&INDIRECT(\"'Curves \"&H$10&\"'!$12:$12\"),INDIRECT(\"'Curves \"&H$10&\"'!$14:$163\"),,0,1),,0,1)","v":2.4885836857004406E-2}]
[82,{"$f":"_xlfn.XLOOKUP($A94,INDIRECT(\"'Curves \"&B$10&\"'!$A$14:$A$163\"),_xlfn.XLOOKUP(B$11&$J$3,INDIRECT(\"'Curves \"&B$10&\"'!$11:$11\")&INDIRECT(\"'Curves \"&B$10&\"'!$12:$12\"),INDIRECT(\"'Curves \"&B$10&\"'!$14:$163\"),,0,1),,0,1)","v":3.2752926254986603E-2},{"$f":"_xlfn.XLOOKUP($A94,INDIRECT(\"'Curves \"&C$10&\"'!$A$14:$A$163\"),_xlfn.XLOOKUP(C$11&$J$3,INDIRECT(\"'Curves \"&C$10&\"'!$11:$11\")&INDIRECT(\"'Curves \"&C$10&\"'!$12:$12\"),INDIRECT(\"'Curves \"&C$10&\"'!$14:$163\"),,0,1),,0,1)","v":3.8750230558322274E-2},{"$f":"_xlfn.XLOOKUP($A94,INDIRECT(\"'Curves \"&D$10&\"'!$A$14:$A$163\"),_xlfn.XLOOKUP(D$11&$J$3,INDIRECT(\"'Curves \"&D$10&\"'!$11:$11\")&INDIRECT(\"'Curves \"&D$10&\"'!$12:$12\"),INDIRECT(\"'Curves \"&D$10&\"'!$14:$163\"),,0,1),,0,1)","v":2.4100977438472393E-2},null,{"$f":"_xlfn.XLOOKUP($A94,INDIRECT(\"'Curves \"&F$10&\"'!$A$14:$A$163\"),_xlfn.XLOOKUP(F$11&$J$3,INDIRECT(\"'Curves \"&F$10&\"'!$11:$11\")&INDIRECT(\"'Curves \"&F$10&\"'!$12:$12\"),INDIRECT(\"'Curves \"&F$10&\"'!$14:$163\"),,0,1),,0,1)","v":3.3625210764694158E-2},{"$f":"_xlfn.XLOOKUP($A94,INDIRECT(\"'Curves \"&G$10&\"'!$A$14:$A$163\"),_xlfn.XLOOKUP(G$11&$J$3,INDIRECT(\"'Curves \"&G$10&\"'!$11:$11\")&INDIRECT(\"'Curves \"&G$10&\"'!$12:$12\"),INDIRECT(\"'Curves \"&G$10&\"'!$14:$163\"),,0,1),,0,1)","v":3.9627580515448013E-2},{"$f":"_xlfn.XLOOKUP($A94,INDIRECT(\"'Curves \"&H$10&\"'!$A$14:$A$163\"),_xlfn.XLOOKUP(H$11&$J$3,INDIRECT(\"'Curves \"&H$10&\"'!$11:$11\")&INDIRECT(\"'Curves \"&H$10&\"'!$12:$12\"),INDIRECT(\"'Curves \"&H$10&\"'!$14:$163\"),,0,1),,0,1)","v":2.4965954333028506E-2}]
[83,{"$f":"_xlfn.XLOOKUP($A95,INDIRECT(\"'Curves \"&B$10&\"'!$A$14:$A$163\"),_xlfn.XLOOKUP(B$11&$J$3,INDIRECT(\"'Curves \"&B$10&\"'!$11:$11\")&INDIRECT(\"'Curves \"&B$10&\"'!$12:$12\"),INDIRECT(\"'Curves \"&B$10&\"'!$14:$163\"),,0,1),,0,1)","v":3.2755899859335136E-2},{"$f":"_xlfn.XLOOKUP($A95,INDIRECT(\"'Curves \"&C$10&\"'!$A$14:$A$163\"),_xlfn.XLOOKUP(C$11&$J$3,INDIRECT(\"'Curves \"&C$10&\"'!$11:$11\")&INDIRECT(\"'Curves \"&C$10&\"'!$12:$12\"),INDIRECT(\"'Curves \"&C$10&\"'!$14:$163\"),,0,1),,0,1)","v":3.8699003914312469E-2},{"$f":"_xlfn.XLOOKUP($A95,INDIRECT(\"'Curves \"&D$10&\"'!$A$14:$A$163\"),_xlfn.XLOOKUP(D$11&$J$3,INDIRECT(\"'Curves \"&D$10&\"'!$11:$11\")&INDIRECT(\"'Curves \"&D$10&\"'!$12:$12\"),INDIRECT(\"'Curves \"&D$10&\"'!$14:$163\"),,0,1),,0,1)","v":2.4189539125484938E-2},null,{"$f":"_xlfn.XLOOKUP($A95,INDIRECT(\"'Curves \"&F$10&\"'!$A$14:$A$163\"),_xlfn.XLOOKUP(F$11&$J$3,INDIRECT(\"'Curves \"&F$10&\"'!$11:$11\")&INDIRECT(\"'Curves \"&F$10&\"'!$12:$12\"),INDIRECT(\"'Curves \"&F$10&\"'!$14:$163\"),,0,1),,0,1)","v":3.3617685804762987E-2},{"$f":"_xlfn.XLOOKUP($A95,INDIRECT(\"'Curves \"&G$10&\"'!$A$14:$A$163\"),_xlfn.XLOOKUP(G$11&$J$3,INDIRECT(\"'Curves \"&G$10&\"'!$11:$11\")&INDIRECT(\"'Curves \"&G$10&\"'!$12:$12\"),INDIRECT(\"'Curves \"&G$10&\"'!$14:$163\"),,0,1),,0,1)","v":3.9565749098944281E-2},{"$f":"_xlfn.XLOOKUP($A95,INDIRECT(\"'Curves \"&H$10&\"'!$A$14:$A$163\"),_xlfn.XLOOKUP(H$11&$J$3,INDIRECT(\"'Curves \"&H$10&\"'!$11:$11\")&INDIRECT(\"'Curves \"&H$10&\"'!$12:$12\"),INDIRECT(\"'Curves \"&H$10&\"'!$14:$163\"),,0,1),,0,1)","v":2.5044176848099564E-2}]
[84,{"$f":"_xlfn.XLOOKUP($A96,INDIRECT(\"'Curves \"&B$10&\"'!$A$14:$A$163\"),_xlfn.XLOOKUP(B$11&$J$3,INDIRECT(\"'Curves \"&B$10&\"'!$11:$11\")&INDIRECT(\"'Curves \"&B$10&\"'!$12:$12\"),INDIRECT(\"'Curves \"&B$10&\"'!$14:$163\"),,0,1),,0,1)","v":3.2758802963739786E-2},{"$f":"_xlfn.XLOOKUP($A96,INDIRECT(\"'Curves \"&C$10&\"'!$A$14:$A$163\"),_xlfn.XLOOKUP(C$11&$J$3,INDIRECT(\"'Curves \"&C$10&\"'!$11:$11\")&INDIRECT(\"'Curves \"&C$10&\"'!$12:$12\"),INDIRECT(\"'Curves \"&C$10&\"'!$14:$163\"),,0,1),,0,1)","v":3.86489906680898E-2},{"$f":"_xlfn.XLOOKUP($A96,INDIRECT(\"'Curves \"&D$10&\"'!$A$14:$A$163\"),_xlfn.XLOOKUP(D$11&$J$3,INDIRECT(\"'Curves \"&D$10&\"'!$11:$11\")&INDIRECT(\"'Curves \"&D$10&\"'!$12:$12\"),INDIRECT(\"'Curves \"&D$10&\"'!$14:$163\"),,0,1),,0,1)","v":2.4276027022945845E-2},null,{"$f":"_xlfn.XLOOKUP($A96,INDIRECT(\"'Curves \"&F$10&\"'!$A$14:$A$163\"),_xlfn.XLOOKUP(F$11&$J$3,INDIRECT(\"'Curves \"&F$10&\"'!$11:$11\")&INDIRECT(\"'Curves \"&F$10&\"'!$12:$12\"),INDIRECT(\"'Curves \"&F$10&\"'!$14:$163\"),,0,1),,0,1)","v":3.3610339039129133E-2},{"$f":"_xlfn.XLOOKUP($A96,INDIRECT(\"'Curves \"&G$10&\"'!$A$14:$A$163\"),_xlfn.XLOOKUP(G$11&$J$3,INDIRECT(\"'Curves \"&G$10&\"'!$11:$11\")&INDIRECT(\"'Curves \"&G$10&\"'!$12:$12\"),INDIRECT(\"'Curves \"&G$10&\"'!$14:$163\"),,0,1),,0,1)","v":3.9505383354051515E-2},{"$f":"_xlfn.XLOOKUP($A96,INDIRECT(\"'Curves \"&H$10&\"'!$A$14:$A$163\"),_xlfn.XLOOKUP(H$11&$J$3,INDIRECT(\"'Curves \"&H$10&\"'!$11:$11\")&INDIRECT(\"'Curves \"&H$10&\"'!$12:$12\"),INDIRECT(\"'Curves \"&H$10&\"'!$14:$163\"),,0,1),,0,1)","v":2.512056883238234E-2}]
[85,{"$f":"_xlfn.XLOOKUP($A97,INDIRECT(\"'Curves \"&B$10&\"'!$A$14:$A$163\"),_xlfn.XLOOKUP(B$11&$J$3,INDIRECT(\"'Curves \"&B$10&\"'!$11:$11\")&INDIRECT(\"'Curves \"&B$10&\"'!$12:$12\"),INDIRECT(\"'Curves \"&B$10&\"'!$14:$163\"),,0,1),,0,1)","v":3.2761638026099327E-2},{"$f":"_xlfn.XLOOKUP($A97,INDIRECT(\"'Curves \"&C$10&\"'!$A$14:$A$163\"),_xlfn.XLOOKUP(C$11&$J$3,INDIRECT(\"'Curves \"&C$10&\"'!$11:$11\")&INDIRECT(\"'Curves \"&C$10&\"'!$12:$12\"),INDIRECT(\"'Curves \"&C$10&\"'!$14:$163\"),,0,1),,0,1)","v":3.8600148807660606E-2},{"$f":"_xlfn.XLOOKUP($A97,INDIRECT(\"'Curves \"&D$10&\"'!$A$14:$A$163\"),_xlfn.XLOOKUP(D$11&$J$3,INDIRECT(\"'Curves \"&D$10&\"'!$11:$11\")&INDIRECT(\"'Curves \"&D$10&\"'!$12:$12\"),INDIRECT(\"'Curves \"&D$10&\"'!$14:$163\"),,0,1),,0,1)","v":2.4360511248687544E-2},null,{"$f":"_xlfn.XLOOKUP($A97,INDIRECT(\"'Curves \"&F$10&\"'!$A$14:$A$163\"),_xlfn.XLOOKUP(F$11&$J$3,INDIRECT(\"'Curves \"&F$10&\"'!$11:$11\")&INDIRECT(\"'Curves \"&F$10&\"'!$12:$12\"),INDIRECT(\"'Curves \"&F$10&\"'!$14:$163\"),,0,1),,0,1)","v":3.3603164282196341E-2},{"$f":"_xlfn.XLOOKUP($A97,INDIRECT(\"'Curves \"&G$10&\"'!$A$14:$A$163\"),_xlfn.XLOOKUP(G$11&$J$3,INDIRECT(\"'Curves \"&G$10&\"'!$11:$11\")&INDIRECT(\"'Curves \"&G$10&\"'!$12:$12\"),INDIRECT(\"'Curves \"&G$10&\"'!$14:$163\"),,0,1),,0,1)","v":3.9446432463663195E-2},{"$f":"_xlfn.XLOOKUP($A97,INDIRECT(\"'Curves \"&H$10&\"'!$A$14:$A$163\"),_xlfn.XLOOKUP(H$11&$J$3,INDIRECT(\"'Curves \"&H$10&\"'!$11:$11\")&INDIRECT(\"'Curves \"&H$10&\"'!$12:$12\"),INDIRECT(\"'Curves \"&H$10&\"'!$14:$163\"),,0,1),,0,1)","v":2.5195192005780909E-2}]
[86,{"$f":"_xlfn.XLOOKUP($A98,INDIRECT(\"'Curves \"&B$10&\"'!$A$14:$A$163\"),_xlfn.XLOOKUP(B$11&$J$3,INDIRECT(\"'Curves \"&B$10&\"'!$11:$11\")&INDIRECT(\"'Curves \"&B$10&\"'!$12:$12\"),INDIRECT(\"'Curves \"&B$10&\"'!$14:$163\"),,0,1),,0,1)","v":3.2764407393099049E-2},{"$f":"_xlfn.XLOOKUP($A98,INDIRECT(\"'Curves \"&C$10&\"'!$A$14:$A$163\"),_xlfn.XLOOKUP(C$11&$J$3,INDIRECT(\"'Curves \"&C$10&\"'!$11:$11\")&INDIRECT(\"'Curves \"&C$10&\"'!$12:$12\"),INDIRECT(\"'Curves \"&C$10&\"'!$14:$163\"),,0,1),,0,1)","v":3.8552438186358451E-2},{"$f":"_xlfn.XLOOKUP($A98,INDIRECT(\"'Curves \"&D$10&\"'!$A$14:$A$163\"),_xlfn.XLOOKUP(D$11&$J$3,INDIRECT(\"'Curves \"&D$10&\"'!$11:$11\")&INDIRECT(\"'Curves \"&D$10&\"'!$12:$12\"),INDIRECT(\"'Curves \"&D$10&\"'!$14:$163\"),,0,1),,0,1)","v":2.4443058960640585E-2},null,{"$f":"_xlfn.XLOOKUP($A98,INDIRECT(\"'Curves \"&F$10&\"'!$A$14:$A$163\"),_xlfn.XLOOKUP(F$11&$J$3,INDIRECT(\"'Curves \"&F$10&\"'!$11:$11\")&INDIRECT(\"'Curves \"&F$10&\"'!$12:$12\"),INDIRECT(\"'Curves \"&F$10&\"'!$14:$163\"),,0,1),,0,1)","v":3.3596155625296387E-2},{"$f":"_xlfn.XLOOKUP($A98,INDIRECT(\"'Curves \"&G$10&\"'!$A$14:$A$163\"),_xlfn.XLOOKUP(G$11&$J$3,INDIRECT(\"'Curves \"&G$10&\"'!$11:$11\")&INDIRECT(\"'Curves \"&G$10&\"'!$12:$12\"),INDIRECT(\"'Curves \"&G$10&\"'!$14:$163\"),,0,1),,0,1)","v":3.938884787313901E-2},{"$f":"_xlfn.XLOOKUP($A98,INDIRECT(\"'Curves \"&H$10&\"'!$A$14:$A$163\"),_xlfn.XLOOKUP(H$11&$J$3,INDIRECT(\"'Curves \"&H$10&\"'!$11:$11\")&INDIRECT(\"'Curves \"&H$10&\"'!$12:$12\"),INDIRECT(\"'Curves \"&H$10&\"'!$14:$163\"),,0,1),,0,1)","v":2.5268105502889382E-2}]
[87,{"$f":"_xlfn.XLOOKUP($A99,INDIRECT(\"'Curves \"&B$10&\"'!$A$14:$A$163\"),_xlfn.XLOOKUP(B$11&$J$3,INDIRECT(\"'Curves \"&B$10&\"'!$11:$11\")&INDIRECT(\"'Curves \"&B$10&\"'!$12:$12\"),INDIRECT(\"'Curves \"&B$10&\"'!$14:$163\"),,0,1),,0,1)","v":3.2767113306281015E-2},{"$f":"_xlfn.XLOOKUP($A99,INDIRECT(\"'Curves \"&C$10&\"'!$A$14:$A$163\"),_xlfn.XLOOKUP(C$11&$J$3,INDIRECT(\"'Curves \"&C$10&\"'!$11:$11\")&INDIRECT(\"'Curves \"&C$10&\"'!$12:$12\"),INDIRECT(\"'Curves \"&C$10&\"'!$14:$163\"),,0,1),,0,1)","v":3.8505820424966641E-2},{"$f":"_xlfn.XLOOKUP($A99,INDIRECT(\"'Curves \"&D$10&\"'!$A$14:$A$163\"),_xlfn.XLOOKUP(D$11&$J$3,INDIRECT(\"'Curves \"&D$10&\"'!$11:$11\")&INDIRECT(\"'Curves \"&D$10&\"'!$12:$12\"),INDIRECT(\"'Curves \"&D$10&\"'!$14:$163\"),,0,1),,0,1)","v":2.4523734496508798E-2},null,{"$f":"_xlfn.XLOOKUP($A99,INDIRECT(\"'Curves \"&F$10&\"'!$A$14:$A$163\"),_xlfn.XLOOKUP(F$11&$J$3,INDIRECT(\"'Curves \"&F$10&\"'!$11:$11\")&INDIRECT(\"'Curves \"&F$10&\"'!$12:$12\"),INDIRECT(\"'Curves \"&F$10&\"'!$14:$163\"),,0,1),,0,1)","v":3.3589307421887593E-2},{"$f":"_xlfn.XLOOKUP($A99,INDIRECT(\"'Curves \"&G$10&\"'!$A$14:$A$163\"),_xlfn.XLOOKUP(G$11&$J$3,INDIRECT(\"'Curves \"&G$10&\"'!$11:$11\")&INDIRECT(\"'Curves \"&G$10&\"'!$12:$12\"),INDIRECT(\"'Curves \"&G$10&\"'!$14:$163\"),,0,1),,0,1)","v":3.9332583170967661E-2},{"$f":"_xlfn.XLOOKUP($A99,INDIRECT(\"'Curves \"&H$10&\"'!$A$14:$A$163\"),_xlfn.XLOOKUP(H$11&$J$3,INDIRECT(\"'Curves \"&H$10&\"'!$11:$11\")&INDIRECT(\"'Curves \"&H$10&\"'!$12:$12\"),INDIRECT(\"'Curves \"&H$10&\"'!$14:$163\"),,0,1),,0,1)","v":2.5339365992660623E-2}]
[88,{"$f":"_xlfn.XLOOKUP($A100,INDIRECT(\"'Curves \"&B$10&\"'!$A$14:$A$163\"),_xlfn.XLOOKUP(B$11&$J$3,INDIRECT(\"'Curves \"&B$10&\"'!$11:$11\")&INDIRECT(\"'Curves \"&B$10&\"'!$12:$12\"),INDIRECT(\"'Curves \"&B$10&\"'!$14:$163\"),,0,1),,0,1)","v":3.2769757907737729E-2},{"$f":"_xlfn.XLOOKUP($A100,INDIRECT(\"'Curves \"&C$10&\"'!$A$14:$A$163\"),_xlfn.XLOOKUP(C$11&$J$3,INDIRECT(\"'Curves \"&C$10&\"'!$11:$11\")&INDIRECT(\"'Curves \"&C$10&\"'!$12:$12\"),INDIRECT(\"'Curves \"&C$10&\"'!$14:$163\"),,0,1),,0,1)","v":3.846025881954529E-2},{"$f":"_xlfn.XLOOKUP($A100,INDIRECT(\"'Curves \"&D$10&\"'!$A$14:$A$163\"),_xlfn.XLOOKUP(D$11&$J$3,INDIRECT(\"'Curves \"&D$10&\"'!$11:$11\")&INDIRECT(\"'Curves \"&D$10&\"'!$12:$12\"),INDIRECT(\"'Curves \"&D$10&\"'!$14:$163\"),,0,1),,0,1)","v":2.4602599507024037E-2},null,{"$f":"_xlfn.XLOOKUP($A100,INDIRECT(\"'Curves \"&F$10&\"'!$A$14:$A$163\"),_xlfn.XLOOKUP(F$11&$J$3,INDIRECT(\"'Curves \"&F$10&\"'!$11:$11\")&INDIRECT(\"'Curves \"&F$10&\"'!$12:$12\"),INDIRECT(\"'Curves \"&F$10&\"'!$14:$163\"),,0,1),,0,1)","v":3.358261427364595E-2},{"$f":"_xlfn.XLOOKUP($A100,INDIRECT(\"'Curves \"&G$10&\"'!$A$14:$A$163\"),_xlfn.XLOOKUP(G$11&$J$3,INDIRECT(\"'Curves \"&G$10&\"'!$11:$11\")&INDIRECT(\"'Curves \"&G$10&\"'!$12:$12\"),INDIRECT(\"'Curves \"&G$10&\"'!$14:$163\"),,0,1),,0,1)","v":3.9277593976448255E-2},{"$f":"_xlfn.XLOOKUP($A100,INDIRECT(\"'Curves \"&H$10&\"'!$A$14:$A$163\"),_xlfn.XLOOKUP(H$11&$J$3,INDIRECT(\"'Curves \"&H$10&\"'!$11:$11\")&INDIRECT(\"'Curves \"&H$10&\"'!$12:$12\"),INDIRECT(\"'Curves \"&H$10&\"'!$14:$163\"),,0,1),,0,1)","v":2.5409027792862471E-2}]
[89,{"$f":"_xlfn.XLOOKUP($A101,INDIRECT(\"'Curves \"&B$10&\"'!$A$14:$A$163\"),_xlfn.XLOOKUP(B$11&$J$3,INDIRECT(\"'Curves \"&B$10&\"'!$11:$11\")&INDIRECT(\"'Curves \"&B$10&\"'!$12:$12\"),INDIRECT(\"'Curves \"&B$10&\"'!$14:$163\"),,0,1),,0,1)","v":3.2772343245446534E-2},{"$f":"_xlfn.XLOOKUP($A101,INDIRECT(\"'Curves \"&C$10&\"'!$A$14:$A$163\"),_xlfn.XLOOKUP(C$11&$J$3,INDIRECT(\"'Curves \"&C$10&\"'!$11:$11\")&INDIRECT(\"'Curves \"&C$10&\"'!$12:$12\"),INDIRECT(\"'Curves \"&C$10&\"'!$14:$163\"),,0,1),,0,1)","v":3.8415718254613651E-2},{"$f":"_xlfn.XLOOKUP($A101,INDIRECT(\"'Curves \"&D$10&\"'!$A$14:$A$163\"),_xlfn.XLOOKUP(D$11&$J$3,INDIRECT(\"'Curves \"&D$10&\"'!$11:$11\")&INDIRECT(\"'Curves \"&D$10&\"'!$12:$12\"),INDIRECT(\"'Curves \"&D$10&\"'!$14:$163\"),,0,1),,0,1)","v":2.4679713082970789E-2},null,{"$f":"_xlfn.XLOOKUP($A101,INDIRECT(\"'Curves \"&F$10&\"'!$A$14:$A$163\"),_xlfn.XLOOKUP(F$11&$J$3,INDIRECT(\"'Curves \"&F$10&\"'!$11:$11\")&INDIRECT(\"'Curves \"&F$10&\"'!$12:$12\"),INDIRECT(\"'Curves \"&F$10&\"'!$14:$163\"),,0,1),,0,1)","v":3.3576071017394682E-2},{"$f":"_xlfn.XLOOKUP($A101,INDIRECT(\"'Curves \"&G$10&\"'!$A$14:$A$163\"),_xlfn.XLOOKUP(G$11&$J$3,INDIRECT(\"'Curves \"&G$10&\"'!$11:$11\")&INDIRECT(\"'Curves \"&G$10&\"'!$12:$12\"),INDIRECT(\"'Curves \"&G$10&\"'!$14:$163\"),,0,1),,0,1)","v":3.9223837833964659E-2},{"$f":"_xlfn.XLOOKUP($A101,INDIRECT(\"'Curves \"&H$10&\"'!$A$14:$A$163\"),_xlfn.XLOOKUP(H$11&$J$3,INDIRECT(\"'Curves \"&H$10&\"'!$11:$11\")&INDIRECT(\"'Curves \"&H$10&\"'!$12:$12\"),INDIRECT(\"'Curves \"&H$10&\"'!$14:$163\"),,0,1),,0,1)","v":2.5477142979446032E-2}]
[90,{"$f":"_xlfn.XLOOKUP($A102,INDIRECT(\"'Curves \"&B$10&\"'!$A$14:$A$163\"),_xlfn.XLOOKUP(B$11&$J$3,INDIRECT(\"'Curves \"&B$10&\"'!$11:$11\")&INDIRECT(\"'Curves \"&B$10&\"'!$12:$12\"),INDIRECT(\"'Curves \"&B$10&\"'!$14:$163\"),,0,1),,0,1)","v":3.2774871278277606E-2},{"$f":"_xlfn.XLOOKUP($A102,INDIRECT(\"'Curves \"&C$10&\"'!$A$14:$A$163\"),_xlfn.XLOOKUP(C$11&$J$3,INDIRECT(\"'Curves \"&C$10&\"'!$11:$11\")&INDIRECT(\"'Curves \"&C$10&\"'!$12:$12\"),INDIRECT(\"'Curves \"&C$10&\"'!$14:$163\"),,0,1),,0,1)","v":3.8372165121361546E-2},{"$f":"_xlfn.XLOOKUP($A102,INDIRECT(\"'Curves \"&D$10&\"'!$A$14:$A$163\"),_xlfn.XLOOKUP(D$11&$J$3,INDIRECT(\"'Curves \"&D$10&\"'!$11:$11\")&INDIRECT(\"'Curves \"&D$10&\"'!$12:$12\"),INDIRECT(\"'Curves \"&D$10&\"'!$14:$163\"),,0,1),,0,1)","v":2.4755131876178282E-2},null,{"$f":"_xlfn.XLOOKUP($A102,INDIRECT(\"'Curves \"&F$10&\"'!$A$14:$A$163\"),_xlfn.XLOOKUP(F$11&$J$3,INDIRECT(\"'Curves \"&F$10&\"'!$11:$11\")&INDIRECT(\"'Curves \"&F$10&\"'!$12:$12\"),INDIRECT(\"'Curves \"&F$10&\"'!$14:$163\"),,0,1),,0,1)","v":3.356967271281408E-2},{"$f":"_xlfn.XLOOKUP($A102,INDIRECT(\"'Curves \"&G$10&\"'!$A$14:$A$163\"),_xlfn.XLOOKUP(G$11&$J$3,INDIRECT(\"'Curves \"&G$10&\"'!$11:$11\")&INDIRECT(\"'Curves \"&G$10&\"'!$12:$12\"),INDIRECT(\"'Curves \"&G$10&\"'!$14:$163\"),,0,1),,0,1)","v":3.9171274113430243E-2},{"$f":"_xlfn.XLOOKUP($A102,INDIRECT(\"'Curves \"&H$10&\"'!$A$14:$A$163\"),_xlfn.XLOOKUP(H$11&$J$3,INDIRECT(\"'Curves \"&H$10&\"'!$11:$11\")&INDIRECT(\"'Curves \"&H$10&\"'!$12:$12\"),INDIRECT(\"'Curves \"&H$10&\"'!$14:$163\"),,0,1),,0,1)","v":2.5543761490932182E-2}]
[91,{"$f":"_xlfn.XLOOKUP($A103,INDIRECT(\"'Curves \"&B$10&\"'!$A$14:$A$163\"),_xlfn.XLOOKUP(B$11&$J$3,INDIRECT(\"'Curves \"&B$10&\"'!$11:$11\")&INDIRECT(\"'Curves \"&B$10&\"'!$12:$12\"),INDIRECT(\"'Curves \"&B$10&\"'!$14:$163\"),,0,1),,0,1)","v":3.2777343880692866E-2},{"$f":"_xlfn.XLOOKUP($A103,INDIRECT(\"'Curves \"&C$10&\"'!$A$14:$A$163\"),_xlfn.XLOOKUP(C$11&$J$3,INDIRECT(\"'Curves \"&C$10&\"'!$11:$11\")&INDIRECT(\"'Curves \"&C$10&\"'!$12:$12\"),INDIRECT(\"'Curves \"&C$10&\"'!$14:$163\"),,0,1),,0,1)","v":3.8329567240579232E-2},{"$f":"_xlfn.XLOOKUP($A103,INDIRECT(\"'Curves \"&D$10&\"'!$A$14:$A$163\"),_xlfn.XLOOKUP(D$11&$J$3,INDIRECT(\"'Curves \"&D$10&\"'!$11:$11\")&INDIRECT(\"'Curves \"&D$10&\"'!$12:$12\"),INDIRECT(\"'Curves \"&D$10&\"'!$14:$163\"),,0,1),,0,1)","v":2.4828910214701017E-2},null,{"$f":"_xlfn.XLOOKUP($A103,INDIRECT(\"'Curves \"&F$10&\"'!$A$14:$A$163\"),_xlfn.XLOOKUP(F$11&$J$3,INDIRECT(\"'Curves \"&F$10&\"'!$11:$11\")&INDIRECT(\"'Curves \"&F$10&\"'!$12:$12\"),INDIRECT(\"'Curves \"&F$10&\"'!$14:$163\"),,0,1),,0,1)","v":3.3563414630879862E-2},{"$f":"_xlfn.XLOOKUP($A103,INDIRECT(\"'Curves \"&G$10&\"'!$A$14:$A$163\"),_xlfn.XLOOKUP(G$11&$J$3,INDIRECT(\"'Curves \"&G$10&\"'!$11:$11\")&INDIRECT(\"'Curves \"&G$10&\"'!$12:$12\"),INDIRECT(\"'Curves \"&G$10&\"'!$14:$163\"),,0,1),,0,1)","v":3.9119863916525999E-2},{"$f":"_xlfn.XLOOKUP($A103,INDIRECT(\"'Curves \"&H$10&\"'!$A$14:$A$163\"),_xlfn.XLOOKUP(H$11&$J$3,INDIRECT(\"'Curves \"&H$10&\"'!$11:$11\")&INDIRECT(\"'Curves \"&H$10&\"'!$12:$12\"),INDIRECT(\"'Curves \"&H$10&\"'!$14:$163\"),,0,1),,0,1)","v":2.5608931227980358E-2}]
[92,{"$f":"_xlfn.XLOOKUP($A104,INDIRECT(\"'Curves \"&B$10&\"'!$A$14:$A$163\"),_xlfn.XLOOKUP(B$11&$J$3,INDIRECT(\"'Curves \"&B$10&\"'!$11:$11\")&INDIRECT(\"'Curves \"&B$10&\"'!$12:$12\"),INDIRECT(\"'Curves \"&B$10&\"'!$14:$163\"),,0,1),,0,1)","v":3.2779762847159555E-2},{"$f":"_xlfn.XLOOKUP($A104,INDIRECT(\"'Curves \"&C$10&\"'!$A$14:$A$163\"),_xlfn.XLOOKUP(C$11&$J$3,INDIRECT(\"'Curves \"&C$10&\"'!$11:$11\")&INDIRECT(\"'Curves \"&C$10&\"'!$12:$12\"),INDIRECT(\"'Curves \"&C$10&\"'!$14:$163\"),,0,1),,0,1)","v":3.8287893790018845E-2},{"$f":"_xlfn.XLOOKUP($A104,INDIRECT(\"'Curves \"&D$10&\"'!$A$14:$A$163\"),_xlfn.XLOOKUP(D$11&$J$3,INDIRECT(\"'Curves \"&D$10&\"'!$11:$11\")&INDIRECT(\"'Curves \"&D$10&\"'!$12:$12\"),INDIRECT(\"'Curves \"&D$10&\"'!$14:$163\"),,0,1),,0,1)","v":2.4901100212401106E-2},null,{"$f":"_xlfn.XLOOKUP($A104,INDIRECT(\"'Curves \"&F$10&\"'!$A$14:$A$163\"),_xlfn.XLOOKUP(F$11&$J$3,INDIRECT(\"'Curves \"&F$10&\"'!$11:$11\")&INDIRECT(\"'Curves \"&F$10&\"'!$12:$12\"),INDIRECT(\"'Curves \"&F$10&\"'!$14:$163\"),,0,1),,0,1)","v":3.3557292242988312E-2},{"$f":"_xlfn.XLOOKUP($A104,INDIRECT(\"'Curves \"&G$10&\"'!$A$14:$A$163\"),_xlfn.XLOOKUP(G$11&$J$3,INDIRECT(\"'Curves \"&G$10&\"'!$11:$11\")&INDIRECT(\"'Curves \"&G$10&\"'!$12:$12\"),INDIRECT(\"'Curves \"&G$10&\"'!$14:$163\"),,0,1),,0,1)","v":3.9069569988368524E-2},{"$f":"_xlfn.XLOOKUP($A104,INDIRECT(\"'Curves \"&H$10&\"'!$A$14:$A$163\"),_xlfn.XLOOKUP(H$11&$J$3,INDIRECT(\"'Curves \"&H$10&\"'!$11:$11\")&INDIRECT(\"'Curves \"&H$10&\"'!$12:$12\"),INDIRECT(\"'Curves \"&H$10&\"'!$14:$163\"),,0,1),,0,1)","v":2.5672698148281992E-2}]
[93,{"$f":"_xlfn.XLOOKUP($A105,INDIRECT(\"'Curves \"&B$10&\"'!$A$14:$A$163\"),_xlfn.XLOOKUP(B$11&$J$3,INDIRECT(\"'Curves \"&B$10&\"'!$11:$11\")&INDIRECT(\"'Curves \"&B$10&\"'!$12:$12\"),INDIRECT(\"'Curves \"&B$10&\"'!$14:$163\"),,0,1),,0,1)","v":3.2782129896295364E-2},{"$f":"_xlfn.XLOOKUP($A105,INDIRECT(\"'Curves \"&C$10&\"'!$A$14:$A$163\"),_xlfn.XLOOKUP(C$11&$J$3,INDIRECT(\"'Curves \"&C$10&\"'!$11:$11\")&INDIRECT(\"'Curves \"&C$10&\"'!$12:$12\"),INDIRECT(\"'Curves \"&C$10&\"'!$14:$163\"),,0,1),,0,1)","v":3.8247115235914508E-2},{"$f":"_xlfn.XLOOKUP($A105,INDIRECT(\"'Curves \"&D$10&\"'!$A$14:$A$163\"),_xlfn.XLOOKUP(D$11&$J$3,INDIRECT(\"'Curves \"&D$10&\"'!$11:$11\")&INDIRECT(\"'Curves \"&D$10&\"'!$12:$12\"),INDIRECT(\"'Curves \"&D$10&\"'!$14:$163\"),,0,1),,0,1)","v":2.4971751873166248E-2},null,{"$f":"_xlfn.XLOOKUP($A105,INDIRECT(\"'Curves \"&F$10&\"'!$A$14:$A$163\"),_xlfn.XLOOKUP(F$11&$J$3,INDIRECT(\"'Curves \"&F$10&\"'!$11:$11\")&INDIRECT(\"'Curves \"&F$10&\"'!$12:$12\"),INDIRECT(\"'Curves \"&F$10&\"'!$14:$163\"),,0,1),,0,1)","v":3.3551301210718476E-2},{"$f":"_xlfn.XLOOKUP($A105,INDIRECT(\"'Curves \"&G$10&\"'!$A$14:$A$163\"),_xlfn.XLOOKUP(G$11&$J$3,INDIRECT(\"'Curves \"&G$10&\"'!$11:$11\")&INDIRECT(\"'Curves \"&G$10&\"'!$12:$12\"),INDIRECT(\"'Curves \"&G$10&\"'!$14:$163\"),,0,1),,0,1)","v":3.9020356634274389E-2},{"$f":"_xlfn.XLOOKUP($A105,INDIRECT(\"'Curves \"&H$10&\"'!$A$14:$A$163\"),_xlfn.XLOOKUP(H$11&$J$3,INDIRECT(\"'Curves \"&H$10&\"'!$11:$11\")&INDIRECT(\"'Curves \"&H$10&\"'!$12:$12\"),INDIRECT(\"'Curves \"&H$10&\"'!$14:$163\"),,0,1),,0,1)","v":2.5735106356956639E-2}]
[94,{"$f":"_xlfn.XLOOKUP($A106,INDIRECT(\"'Curves \"&B$10&\"'!$A$14:$A$163\"),_xlfn.XLOOKUP(B$11&$J$3,INDIRECT(\"'Curves \"&B$10&\"'!$11:$11\")&INDIRECT(\"'Curves \"&B$10&\"'!$12:$12\"),INDIRECT(\"'Curves \"&B$10&\"'!$14:$163\"),,0,1),,0,1)","v":3.2784446674767542E-2},{"$f":"_xlfn.XLOOKUP($A106,INDIRECT(\"'Curves \"&C$10&\"'!$A$14:$A$163\"),_xlfn.XLOOKUP(C$11&$J$3,INDIRECT(\"'Curves \"&C$10&\"'!$11:$11\")&INDIRECT(\"'Curves \"&C$10&\"'!$12:$12\"),INDIRECT(\"'Curves \"&C$10&\"'!$14:$163\"),,0,1),,0,1)","v":3.8207203268406209E-2},{"$f":"_xlfn.XLOOKUP($A106,INDIRECT(\"'Curves \"&D$10&\"'!$A$14:$A$163\"),_xlfn.XLOOKUP(D$11&$J$3,INDIRECT(\"'Curves \"&D$10&\"'!$11:$11\")&INDIRECT(\"'Curves \"&D$10&\"'!$12:$12\"),INDIRECT(\"'Curves \"&D$10&\"'!$14:$163\"),,0,1),,0,1)","v":2.504091318998003E-2},null,{"$f":"_xlfn.XLOOKUP($A106,INDIRECT(\"'Curves \"&F$10&\"'!$A$14:$A$163\"),_xlfn.XLOOKUP(F$11&$J$3,INDIRECT(\"'Curves \"&F$10&\"'!$11:$11\")&INDIRECT(\"'Curves \"&F$10&\"'!$12:$12\"),INDIRECT(\"'Curves \"&F$10&\"'!$14:$163\"),,0,1),,0,1)","v":3.3545437376191201E-2},{"$f":"_xlfn.XLOOKUP($A106,INDIRECT(\"'Curves \"&G$10&\"'!$A$14:$A$163\"),_xlfn.XLOOKUP(G$11&$J$3,INDIRECT(\"'Curves \"&G$10&\"'!$11:$11\")&INDIRECT(\"'Curves \"&G$10&\"'!$12:$12\"),INDIRECT(\"'Curves \"&G$10&\"'!$14:$163\"),,0,1),,0,1)","v":3.8972189641295563E-2},{"$f":"_xlfn.XLOOKUP($A106,INDIRECT(\"'Curves \"&H$10&\"'!$A$14:$A$163\"),_xlfn.XLOOKUP(H$11&$J$3,INDIRECT(\"'Curves \"&H$10&\"'!$11:$11\")&INDIRECT(\"'Curves \"&H$10&\"'!$12:$12\"),INDIRECT(\"'Curves \"&H$10&\"'!$14:$163\"),,0,1),,0,1)","v":2.5796198192603592E-2}]
[95,{"$f":"_xlfn.XLOOKUP($A107,INDIRECT(\"'Curves \"&B$10&\"'!$A$14:$A$163\"),_xlfn.XLOOKUP(B$11&$J$3,INDIRECT(\"'Curves \"&B$10&\"'!$11:$11\")&INDIRECT(\"'Curves \"&B$10&\"'!$12:$12\"),INDIRECT(\"'Curves \"&B$10&\"'!$14:$163\"),,0,1),,0,1)","v":3.2786714760957736E-2},{"$f":"_xlfn.XLOOKUP($A107,INDIRECT(\"'Curves \"&C$10&\"'!$A$14:$A$163\"),_xlfn.XLOOKUP(C$11&$J$3,INDIRECT(\"'Curves \"&C$10&\"'!$11:$11\")&INDIRECT(\"'Curves \"&C$10&\"'!$12:$12\"),INDIRECT(\"'Curves \"&C$10&\"'!$14:$163\"),,0,1),,0,1)","v":3.8168130740628747E-2},{"$f":"_xlfn.XLOOKUP($A107,INDIRECT(\"'Curves \"&D$10&\"'!$A$14:$A$163\"),_xlfn.XLOOKUP(D$11&$J$3,INDIRECT(\"'Curves \"&D$10&\"'!$11:$11\")&INDIRECT(\"'Curves \"&D$10&\"'!$12:$12\"),INDIRECT(\"'Curves \"&D$10&\"'!$14:$163\"),,0,1),,0,1)","v":2.5108630239075946E-2},null,{"$f":"_xlfn.XLOOKUP($A107,INDIRECT(\"'Curves \"&F$10&\"'!$A$14:$A$163\"),_xlfn.XLOOKUP(F$11&$J$3,INDIRECT(\"'Curves \"&F$10&\"'!$11:$11\")&INDIRECT(\"'Curves \"&F$10&\"'!$12:$12\"),INDIRECT(\"'Curves \"&F$10&\"'!$14:$163\"),,0,1),,0,1)","v":3.35396967529904E-2},{"$f":"_xlfn.XLOOKUP($A107,INDIRECT(\"'Curves \"&G$10&\"'!$A$14:$A$163\"),_xlfn.XLOOKUP(G$11&$J$3,INDIRECT(\"'Curves \"&G$10&\"'!$11:$11\")&INDIRECT(\"'Curves \"&G$10&\"'!$12:$12\"),INDIRECT(\"'Curves \"&G$10&\"'!$14:$163\"),,0,1),,0,1)","v":3.8925036204242147E-2},{"$f":"_xlfn.XLOOKUP($A107,INDIRECT(\"'Curves \"&H$10&\"'!$A$14:$A$163\"),_xlfn.XLOOKUP(H$11&$J$3,INDIRECT(\"'Curves \"&H$10&\"'!$11:$11\")&INDIRECT(\"'Curves \"&H$10&\"'!$12:$12\"),INDIRECT(\"'Curves \"&H$10&\"'!$14:$163\"),,0,1),,0,1)","v":2.585601430919926E-2}]
[96,{"$f":"_xlfn.XLOOKUP($A108,INDIRECT(\"'Curves \"&B$10&\"'!$A$14:$A$163\"),_xlfn.XLOOKUP(B$11&$J$3,INDIRECT(\"'Curves \"&B$10&\"'!$11:$11\")&INDIRECT(\"'Curves \"&B$10&\"'!$12:$12\"),INDIRECT(\"'Curves \"&B$10&\"'!$14:$163\"),,0,1),,0,1)","v":3.2788935668410346E-2},{"$f":"_xlfn.XLOOKUP($A108,INDIRECT(\"'Curves \"&C$10&\"'!$A$14:$A$163\"),_xlfn.XLOOKUP(C$11&$J$3,INDIRECT(\"'Curves \"&C$10&\"'!$11:$11\")&INDIRECT(\"'Curves \"&C$10&\"'!$12:$12\"),INDIRECT(\"'Curves \"&C$10&\"'!$14:$163\"),,0,1),,0,1)","v":3.8129871611240151E-2},{"$f":"_xlfn.XLOOKUP($A108,INDIRECT(\"'Curves \"&D$10&\"'!$A$14:$A$163\"),_xlfn.XLOOKUP(D$11&$J$3,INDIRECT(\"'Curves \"&D$10&\"'!$11:$11\")&INDIRECT(\"'Curves \"&D$10&\"'!$12:$12\"),INDIRECT(\"'Curves \"&D$10&\"'!$14:$163\"),,0,1),,0,1)","v":2.5174947269394066E-2},null,{"$f":"_xlfn.XLOOKUP($A108,INDIRECT(\"'Curves \"&F$10&\"'!$A$14:$A$163\"),_xlfn.XLOOKUP(F$11&$J$3,INDIRECT(\"'Curves \"&F$10&\"'!$11:$11\")&INDIRECT(\"'Curves \"&F$10&\"'!$12:$12\"),INDIRECT(\"'Curves \"&F$10&\"'!$14:$163\"),,0,1),,0,1)","v":3.3534075517606121E-2},{"$f":"_xlfn.XLOOKUP($A108,INDIRECT(\"'Curves \"&G$10&\"'!$A$14:$A$163\"),_xlfn.XLOOKUP(G$11&$J$3,INDIRECT(\"'Curves \"&G$10&\"'!$11:$11\")&INDIRECT(\"'Curves \"&G$10&\"'!$12:$12\"),INDIRECT(\"'Curves \"&G$10&\"'!$14:$163\"),,0,1),,0,1)","v":3.8878864855902862E-2},{"$f":"_xlfn.XLOOKUP($A108,INDIRECT(\"'Curves \"&H$10&\"'!$A$14:$A$163\"),_xlfn.XLOOKUP(H$11&$J$3,INDIRECT(\"'Curves \"&H$10&\"'!$11:$11\")&INDIRECT(\"'Curves \"&H$10&\"'!$12:$12\"),INDIRECT(\"'Curves \"&H$10&\"'!$14:$163\"),,0,1),,0,1)","v":2.5914593754000625E-2}]
[97,{"$f":"_xlfn.XLOOKUP($A109,INDIRECT(\"'Curves \"&B$10&\"'!$A$14:$A$163\"),_xlfn.XLOOKUP(B$11&$J$3,INDIRECT(\"'Curves \"&B$10&\"'!$11:$11\")&INDIRECT(\"'Curves \"&B$10&\"'!$12:$12\"),INDIRECT(\"'Curves \"&B$10&\"'!$14:$163\"),,0,1),,0,1)","v":3.2791110849080374E-2},{"$f":"_xlfn.XLOOKUP($A109,INDIRECT(\"'Curves \"&C$10&\"'!$A$14:$A$163\"),_xlfn.XLOOKUP(C$11&$J$3,INDIRECT(\"'Curves \"&C$10&\"'!$11:$11\")&INDIRECT(\"'Curves \"&C$10&\"'!$12:$12\"),INDIRECT(\"'Curves \"&C$10&\"'!$14:$163\"),,0,1),,0,1)","v":3.8092400890181732E-2},{"$f":"_xlfn.XLOOKUP($A109,INDIRECT(\"'Curves \"&D$10&\"'!$A$14:$A$163\"),_xlfn.XLOOKUP(D$11&$J$3,INDIRECT(\"'Curves \"&D$10&\"'!$11:$11\")&INDIRECT(\"'Curves \"&D$10&\"'!$12:$12\"),INDIRECT(\"'Curves \"&D$10&\"'!$14:$163\"),,0,1),,0,1)","v":2.5239906787557942E-2},null,{"$f":"_xlfn.XLOOKUP($A109,INDIRECT(\"'Curves \"&F$10&\"'!$A$14:$A$163\"),_xlfn.XLOOKUP(F$11&$J$3,INDIRECT(\"'Curves \"&F$10&\"'!$11:$11\")&INDIRECT(\"'Curves \"&F$10&\"'!$12:$12\"),INDIRECT(\"'Curves \"&F$10&\"'!$14:$163\"),,0,1),,0,1)","v":3.352857000136944E-2},{"$f":"_xlfn.XLOOKUP($A109,INDIRECT(\"'Curves \"&G$10&\"'!$A$14:$A$163\"),_xlfn.XLOOKUP(G$11&$J$3,INDIRECT(\"'Curves \"&G$10&\"'!$11:$11\")&INDIRECT(\"'Curves \"&G$10&\"'!$12:$12\"),INDIRECT(\"'Curves \"&G$10&\"'!$14:$163\"),,0,1),,0,1)","v":3.8833645401212369E-2},{"$f":"_xlfn.XLOOKUP($A109,INDIRECT(\"'Curves \"&H$10&\"'!$A$14:$A$163\"),_xlfn.XLOOKUP(H$11&$J$3,INDIRECT(\"'Curves \"&H$10&\"'!$11:$11\")&INDIRECT(\"'Curves \"&H$10&\"'!$12:$12\"),INDIRECT(\"'Curves \"&H$10&\"'!$14:$163\"),,0,1),,0,1)","v":2.5971974041633095E-2}]
[98,{"$f":"_xlfn.XLOOKUP($A110,INDIRECT(\"'Curves \"&B$10&\"'!$A$14:$A$163\"),_xlfn.XLOOKUP(B$11&$J$3,INDIRECT(\"'Curves \"&B$10&\"'!$11:$11\")&INDIRECT(\"'Curves \"&B$10&\"'!$12:$12\"),INDIRECT(\"'Curves \"&B$10&\"'!$14:$163\"),,0,1),,0,1)","v":3.2793241696390307E-2},{"$f":"_xlfn.XLOOKUP($A110,INDIRECT(\"'Curves \"&C$10&\"'!$A$14:$A$163\"),_xlfn.XLOOKUP(C$11&$J$3,INDIRECT(\"'Curves \"&C$10&\"'!$11:$11\")&INDIRECT(\"'Curves \"&C$10&\"'!$12:$12\"),INDIRECT(\"'Curves \"&C$10&\"'!$14:$163\"),,0,1),,0,1)","v":3.8055694587469935E-2},{"$f":"_xlfn.XLOOKUP($A110,INDIRECT(\"'Curves \"&D$10&\"'!$A$14:$A$163\"),_xlfn.XLOOKUP(D$11&$J$3,INDIRECT(\"'Curves \"&D$10&\"'!$11:$11\")&INDIRECT(\"'Curves \"&D$10&\"'!$12:$12\"),INDIRECT(\"'Curves \"&D$10&\"'!$14:$163\"),,0,1),,0,1)","v":2.5303549638583833E-2},null,{"$f":"_xlfn.XLOOKUP($A110,INDIRECT(\"'Curves \"&F$10&\"'!$A$14:$A$163\"),_xlfn.XLOOKUP(F$11&$J$3,INDIRECT(\"'Curves \"&F$10&\"'!$11:$11\")&INDIRECT(\"'Curves \"&F$10&\"'!$12:$12\"),INDIRECT(\"'Curves \"&F$10&\"'!$14:$163\"),,0,1),,0,1)","v":3.3523176682845657E-2},{"$f":"_xlfn.XLOOKUP($A110,INDIRECT(\"'Curves \"&G$10&\"'!$A$14:$A$163\"),_xlfn.XLOOKUP(G$11&$J$3,INDIRECT(\"'Curves \"&G$10&\"'!$11:$11\")&INDIRECT(\"'Curves \"&G$10&\"'!$12:$12\"),INDIRECT(\"'Curves \"&G$10&\"'!$14:$163\"),,0,1),,0,1)","v":3.8789348855118089E-2},{"$f":"_xlfn.XLOOKUP($A110,INDIRECT(\"'Curves \"&H$10&\"'!$A$14:$A$163\"),_xlfn.XLOOKUP(H$11&$J$3,INDIRECT(\"'Curves \"&H$10&\"'!$11:$11\")&INDIRECT(\"'Curves \"&H$10&\"'!$12:$12\"),INDIRECT(\"'Curves \"&H$10&\"'!$14:$163\"),,0,1),,0,1)","v":2.6028191224530595E-2}]
[99,{"$f":"_xlfn.XLOOKUP($A111,INDIRECT(\"'Curves \"&B$10&\"'!$A$14:$A$163\"),_xlfn.XLOOKUP(B$11&$J$3,INDIRECT(\"'Curves \"&B$10&\"'!$11:$11\")&INDIRECT(\"'Curves \"&B$10&\"'!$12:$12\"),INDIRECT(\"'Curves \"&B$10&\"'!$14:$163\"),,0,1),,0,1)","v":3.2795329548111152E-2},{"$f":"_xlfn.XLOOKUP($A111,INDIRECT(\"'Curves \"&C$10&\"'!$A$14:$A$163\"),_xlfn.XLOOKUP(C$11&$J$3,INDIRECT(\"'Curves \"&C$10&\"'!$11:$11\")&INDIRECT(\"'Curves \"&C$10&\"'!$12:$12\"),INDIRECT(\"'Curves \"&C$10&\"'!$14:$163\"),,0,1),,0,1)","v":3.8019729664838131E-2},{"$f":"_xlfn.XLOOKUP($A111,INDIRECT(\"'Curves \"&D$10&\"'!$A$14:$A$163\"),_xlfn.XLOOKUP(D$11&$J$3,INDIRECT(\"'Curves \"&D$10&\"'!$11:$11\")&INDIRECT(\"'Curves \"&D$10&\"'!$12:$12\"),INDIRECT(\"'Curves \"&D$10&\"'!$14:$163\"),,0,1),,0,1)","v":2.5365915082529389E-2},null,{"$f":"_xlfn.XLOOKUP($A111,INDIRECT(\"'Curves \"&F$10&\"'!$A$14:$A$163\"),_xlfn.XLOOKUP(F$11&$J$3,INDIRECT(\"'Curves \"&F$10&\"'!$11:$11\")&INDIRECT(\"'Curves \"&F$10&\"'!$12:$12\"),INDIRECT(\"'Curves \"&F$10&\"'!$14:$163\"),,0,1),,0,1)","v":3.3517892180659592E-2},{"$f":"_xlfn.XLOOKUP($A111,INDIRECT(\"'Curves \"&G$10&\"'!$A$14:$A$163\"),_xlfn.XLOOKUP(G$11&$J$3,INDIRECT(\"'Curves \"&G$10&\"'!$11:$11\")&INDIRECT(\"'Curves \"&G$10&\"'!$12:$12\"),INDIRECT(\"'Curves \"&G$10&\"'!$14:$163\"),,0,1),,0,1)","v":3.8745947383920898E-2},{"$f":"_xlfn.XLOOKUP($A111,INDIRECT(\"'Curves \"&H$10&\"'!$A$14:$A$163\"),_xlfn.XLOOKUP(H$11&$J$3,INDIRECT(\"'Curves \"&H$10&\"'!$11:$11\")&INDIRECT(\"'Curves \"&H$10&\"'!$12:$12\"),INDIRECT(\"'Curves \"&H$10&\"'!$14:$163\"),,0,1),,0,1)","v":2.6083279959897343E-2}]
[100,{"$f":"_xlfn.XLOOKUP($A112,INDIRECT(\"'Curves \"&B$10&\"'!$A$14:$A$163\"),_xlfn.XLOOKUP(B$11&$J$3,INDIRECT(\"'Curves \"&B$10&\"'!$11:$11\")&INDIRECT(\"'Curves \"&B$10&\"'!$12:$12\"),INDIRECT(\"'Curves \"&B$10&\"'!$14:$163\"),,0,1),,0,1)","v":3.2797375689078923E-2},{"$f":"_xlfn.XLOOKUP($A112,INDIRECT(\"'Curves \"&C$10&\"'!$A$14:$A$163\"),_xlfn.XLOOKUP(C$11&$J$3,INDIRECT(\"'Curves \"&C$10&\"'!$11:$11\")&INDIRECT(\"'Curves \"&C$10&\"'!$12:$12\"),INDIRECT(\"'Curves \"&C$10&\"'!$14:$163\"),,0,1),,0,1)","v":3.7984483990053386E-2},{"$f":"_xlfn.XLOOKUP($A112,INDIRECT(\"'Curves \"&D$10&\"'!$A$14:$A$163\"),_xlfn.XLOOKUP(D$11&$J$3,INDIRECT(\"'Curves \"&D$10&\"'!$11:$11\")&INDIRECT(\"'Curves \"&D$10&\"'!$12:$12\"),INDIRECT(\"'Curves \"&D$10&\"'!$14:$163\"),,0,1),,0,1)","v":2.5427040867280315E-2},null,{"$f":"_xlfn.XLOOKUP($A112,INDIRECT(\"'Curves \"&F$10&\"'!$A$14:$A$163\"),_xlfn.XLOOKUP(F$11&$J$3,INDIRECT(\"'Curves \"&F$10&\"'!$11:$11\")&INDIRECT(\"'Curves \"&F$10&\"'!$12:$12\"),INDIRECT(\"'Curves \"&F$10&\"'!$14:$163\"),,0,1),,0,1)","v":3.3512713246723003E-2},{"$f":"_xlfn.XLOOKUP($A112,INDIRECT(\"'Curves \"&G$10&\"'!$A$14:$A$163\"),_xlfn.XLOOKUP(G$11&$J$3,INDIRECT(\"'Curves \"&G$10&\"'!$11:$11\")&INDIRECT(\"'Curves \"&G$10&\"'!$12:$12\"),INDIRECT(\"'Curves \"&G$10&\"'!$14:$163\"),,0,1),,0,1)","v":3.8703414249877666E-2},{"$f":"_xlfn.XLOOKUP($A112,INDIRECT(\"'Curves \"&H$10&\"'!$A$14:$A$163\"),_xlfn.XLOOKUP(H$11&$J$3,INDIRECT(\"'Curves \"&H$10&\"'!$11:$11\")&INDIRECT(\"'Curves \"&H$10&\"'!$12:$12\"),INDIRECT(\"'Curves \"&H$10&\"'!$14:$163\"),,0,1),,0,1)","v":2.6137273573348718E-2}]
[101,{"$f":"_xlfn.XLOOKUP($A113,INDIRECT(\"'Curves \"&B$10&\"'!$A$14:$A$163\"),_xlfn.XLOOKUP(B$11&$J$3,INDIRECT(\"'Curves \"&B$10&\"'!$11:$11\")&INDIRECT(\"'Curves \"&B$10&\"'!$12:$12\"),INDIRECT(\"'Curves \"&B$10&\"'!$14:$163\"),,0,1),,0,1)","v":3.279938135375593E-2},{"$f":"_xlfn.XLOOKUP($A113,INDIRECT(\"'Curves \"&C$10&\"'!$A$14:$A$163\"),_xlfn.XLOOKUP(C$11&$J$3,INDIRECT(\"'Curves \"&C$10&\"'!$11:$11\")&INDIRECT(\"'Curves \"&C$10&\"'!$12:$12\"),INDIRECT(\"'Curves \"&C$10&\"'!$14:$163\"),,0,1),,0,1)","v":3.7949936293746322E-2},{"$f":"_xlfn.XLOOKUP($A113,INDIRECT(\"'Curves \"&D$10&\"'!$A$14:$A$163\"),_xlfn.XLOOKUP(D$11&$J$3,INDIRECT(\"'Curves \"&D$10&\"'!$11:$11\")&INDIRECT(\"'Curves \"&D$10&\"'!$12:$12\"),INDIRECT(\"'Curves \"&D$10&\"'!$14:$163\"),,0,1),,0,1)","v":2.5486963297666643E-2},null,{"$f":"_xlfn.XLOOKUP($A113,INDIRECT(\"'Curves \"&F$10&\"'!$A$14:$A$163\"),_xlfn.XLOOKUP(F$11&$J$3,INDIRECT(\"'Curves \"&F$10&\"'!$11:$11\")&INDIRECT(\"'Curves \"&F$10&\"'!$12:$12\"),INDIRECT(\"'Curves \"&F$10&\"'!$14:$163\"),,0,1),,0,1)","v":3.3507636759841031E-2},{"$f":"_xlfn.XLOOKUP($A113,INDIRECT(\"'Curves \"&G$10&\"'!$A$14:$A$163\"),_xlfn.XLOOKUP(G$11&$J$3,INDIRECT(\"'Curves \"&G$10&\"'!$11:$11\")&INDIRECT(\"'Curves \"&G$10&\"'!$12:$12\"),INDIRECT(\"'Curves \"&G$10&\"'!$14:$163\"),,0,1),,0,1)","v":3.86617237588609E-2},{"$f":"_xlfn.XLOOKUP($A113,INDIRECT(\"'Curves \"&H$10&\"'!$A$14:$A$163\"),_xlfn.XLOOKUP(H$11&$J$3,INDIRECT(\"'Curves \"&H$10&\"'!$11:$11\")&INDIRECT(\"'Curves \"&H$10&\"'!$12:$12\"),INDIRECT(\"'Curves \"&H$10&\"'!$14:$163\"),,0,1),,0,1)","v":2.6190204119396654E-2}]
[102,{"$f":"_xlfn.XLOOKUP($A114,INDIRECT(\"'Curves \"&B$10&\"'!$A$14:$A$163\"),_xlfn.XLOOKUP(B$11&$J$3,INDIRECT(\"'Curves \"&B$10&\"'!$11:$11\")&INDIRECT(\"'Curves \"&B$10&\"'!$12:$12\"),INDIRECT(\"'Curves \"&B$10&\"'!$14:$163\"),,0,1),,0,1)","v":3.280134772864729E-2},{"$f":"_xlfn.XLOOKUP($A114,INDIRECT(\"'Curves \"&C$10&\"'!$A$14:$A$163\"),_xlfn.XLOOKUP(C$11&$J$3,INDIRECT(\"'Curves \"&C$10&\"'!$11:$11\")&INDIRECT(\"'Curves \"&C$10&\"'!$12:$12\"),INDIRECT(\"'Curves \"&C$10&\"'!$14:$163\"),,0,1),,0,1)","v":3.7916066128605985E-2},{"$f":"_xlfn.XLOOKUP($A114,INDIRECT(\"'Curves \"&D$10&\"'!$A$14:$A$163\"),_xlfn.XLOOKUP(D$11&$J$3,INDIRECT(\"'Curves \"&D$10&\"'!$11:$11\")&INDIRECT(\"'Curves \"&D$10&\"'!$12:$12\"),INDIRECT(\"'Curves \"&D$10&\"'!$14:$163\"),,0,1),,0,1)","v":2.5545717301096671E-2},null,{"$f":"_xlfn.XLOOKUP($A114,INDIRECT(\"'Curves \"&F$10&\"'!$A$14:$A$163\"),_xlfn.XLOOKUP(F$11&$J$3,INDIRECT(\"'Curves \"&F$10&\"'!$11:$11\")&INDIRECT(\"'Curves \"&F$10&\"'!$12:$12\"),INDIRECT(\"'Curves \"&F$10&\"'!$14:$163\"),,0,1),,0,1)","v":3.35026597196737E-2},{"$f":"_xlfn.XLOOKUP($A114,INDIRECT(\"'Curves \"&G$10&\"'!$A$14:$A$163\"),_xlfn.XLOOKUP(G$11&$J$3,INDIRECT(\"'Curves \"&G$10&\"'!$11:$11\")&INDIRECT(\"'Curves \"&G$10&\"'!$12:$12\"),INDIRECT(\"'Curves \"&G$10&\"'!$14:$163\"),,0,1),,0,1)","v":3.8620851210902529E-2},{"$f":"_xlfn.XLOOKUP($A114,INDIRECT(\"'Curves \"&H$10&\"'!$A$14:$A$163\"),_xlfn.XLOOKUP(H$11&$J$3,INDIRECT(\"'Curves \"&H$10&\"'!$11:$11\")&INDIRECT(\"'Curves \"&H$10&\"'!$12:$12\"),INDIRECT(\"'Curves \"&H$10&\"'!$14:$163\"),,0,1),,0,1)","v":2.6242102438926773E-2}]
[103,{"$f":"_xlfn.XLOOKUP($A115,INDIRECT(\"'Curves \"&B$10&\"'!$A$14:$A$163\"),_xlfn.XLOOKUP(B$11&$J$3,INDIRECT(\"'Curves \"&B$10&\"'!$11:$11\")&INDIRECT(\"'Curves \"&B$10&\"'!$12:$12\"),INDIRECT(\"'Curves \"&B$10&\"'!$14:$163\"),,0,1),,0,1)","v":3.28032759545831E-2},{"$f":"_xlfn.XLOOKUP($A115,INDIRECT(\"'Curves \"&C$10&\"'!$A$14:$A$163\"),_xlfn.XLOOKUP(C$11&$J$3,INDIRECT(\"'Curves \"&C$10&\"'!$11:$11\")&INDIRECT(\"'Curves \"&C$10&\"'!$12:$12\"),INDIRECT(\"'Curves \"&C$10&\"'!$14:$163\"),,0,1),,0,1)","v":3.7882853830790486E-2},{"$f":"_xlfn.XLOOKUP($A115,INDIRECT(\"'Curves \"&D$10&\"'!$A$14:$A$163\"),_xlfn.XLOOKUP(D$11&$J$3,INDIRECT(\"'Curves \"&D$10&\"'!$11:$11\")&INDIRECT(\"'Curves \"&D$10&\"'!$12:$12\"),INDIRECT(\"'Curves \"&D$10&\"'!$14:$163\"),,0,1),,0,1)","v":2.5603336489880446E-2},null,{"$f":"_xlfn.XLOOKUP($A115,INDIRECT(\"'Curves \"&F$10&\"'!$A$14:$A$163\"),_xlfn.XLOOKUP(F$11&$J$3,INDIRECT(\"'Curves \"&F$10&\"'!$11:$11\")&INDIRECT(\"'Curves \"&F$10&\"'!$12:$12\"),INDIRECT(\"'Curves \"&F$10&\"'!$14:$163\"),,0,1),,0,1)","v":3.3497779241030923E-2},{"$f":"_xlfn.XLOOKUP($A115,INDIRECT(\"'Curves \"&G$10&\"'!$A$14:$A$163\"),_xlfn.XLOOKUP(G$11&$J$3,INDIRECT(\"'Curves \"&G$10&\"'!$11:$11\")&INDIRECT(\"'Curves \"&G$10&\"'!$12:$12\"),INDIRECT(\"'Curves \"&G$10&\"'!$14:$163\"),,0,1),,0,1)","v":3.8580772853430201E-2},{"$f":"_xlfn.XLOOKUP($A115,INDIRECT(\"'Curves \"&H$10&\"'!$A$14:$A$163\"),_xlfn.XLOOKUP(H$11&$J$3,INDIRECT(\"'Curves \"&H$10&\"'!$11:$11\")&INDIRECT(\"'Curves \"&H$10&\"'!$12:$12\"),INDIRECT(\"'Curves \"&H$10&\"'!$14:$163\"),,0,1),,0,1)","v":2.6292998213818919E-2}]
[104,{"$f":"_xlfn.XLOOKUP($A116,INDIRECT(\"'Curves \"&B$10&\"'!$A$14:$A$163\"),_xlfn.XLOOKUP(B$11&$J$3,INDIRECT(\"'Curves \"&B$10&\"'!$11:$11\")&INDIRECT(\"'Curves \"&B$10&\"'!$12:$12\"),INDIRECT(\"'Curves \"&B$10&\"'!$14:$163\"),,0,1),,0,1)","v":3.2805167128872492E-2},{"$f":"_xlfn.XLOOKUP($A116,INDIRECT(\"'Curves \"&C$10&\"'!$A$14:$A$163\"),_xlfn.XLOOKUP(C$11&$J$3,INDIRECT(\"'Curves \"&C$10&\"'!$11:$11\")&INDIRECT(\"'Curves \"&C$10&\"'!$12:$12\"),INDIRECT(\"'Curves \"&C$10&\"'!$14:$163\"),,0,1),,0,1)","v":3.78502804834282E-2},{"$f":"_xlfn.XLOOKUP($A116,INDIRECT(\"'Curves \"&D$10&\"'!$A$14:$A$163\"),_xlfn.XLOOKUP(D$11&$J$3,INDIRECT(\"'Curves \"&D$10&\"'!$11:$11\")&INDIRECT(\"'Curves \"&D$10&\"'!$12:$12\"),INDIRECT(\"'Curves \"&D$10&\"'!$14:$163\"),,0,1),,0,1)","v":2.5659853220420192E-2},null,{"$f":"_xlfn.XLOOKUP($A116,INDIRECT(\"'Curves \"&F$10&\"'!$A$14:$A$163\"),_xlfn.XLOOKUP(F$11&$J$3,INDIRECT(\"'Curves \"&F$10&\"'!$11:$11\")&INDIRECT(\"'Curves \"&F$10&\"'!$12:$12\"),INDIRECT(\"'Curves \"&F$10&\"'!$14:$163\"),,0,1),,0,1)","v":3.3492992548477485E-2},{"$f":"_xlfn.XLOOKUP($A116,INDIRECT(\"'Curves \"&G$10&\"'!$A$14:$A$163\"),_xlfn.XLOOKUP(G$11&$J$3,INDIRECT(\"'Curves \"&G$10&\"'!$11:$11\")&INDIRECT(\"'Curves \"&G$10&\"'!$12:$12\"),INDIRECT(\"'Curves \"&G$10&\"'!$14:$163\"),,0,1),,0,1)","v":3.8541465837046429E-2},{"$f":"_xlfn.XLOOKUP($A116,INDIRECT(\"'Curves \"&H$10&\"'!$A$14:$A$163\"),_xlfn.XLOOKUP(H$11&$J$3,INDIRECT(\"'Curves \"&H$10&\"'!$11:$11\")&INDIRECT(\"'Curves \"&H$10&\"'!$12:$12\"),INDIRECT(\"'Curves \"&H$10&\"'!$14:$163\"),,0,1),,0,1)","v":2.6342920018850746E-2}]
[105,{"$f":"_xlfn.XLOOKUP($A117,INDIRECT(\"'Curves \"&B$10&\"'!$A$14:$A$163\"),_xlfn.XLOOKUP(B$11&$J$3,INDIRECT(\"'Curves \"&B$10&\"'!$11:$11\")&INDIRECT(\"'Curves \"&B$10&\"'!$12:$12\"),INDIRECT(\"'Curves \"&B$10&\"'!$14:$163\"),,0,1),,0,1)","v":3.2807022307339784E-2},{"$f":"_xlfn.XLOOKUP($A117,INDIRECT(\"'Curves \"&C$10&\"'!$A$14:$A$163\"),_xlfn.XLOOKUP(C$11&$J$3,INDIRECT(\"'Curves \"&C$10&\"'!$11:$11\")&INDIRECT(\"'Curves \"&C$10&\"'!$12:$12\"),INDIRECT(\"'Curves \"&C$10&\"'!$14:$163\"),,0,1),,0,1)","v":3.7818327882079616E-2},{"$f":"_xlfn.XLOOKUP($A117,INDIRECT(\"'Curves \"&D$10&\"'!$A$14:$A$163\"),_xlfn.XLOOKUP(D$11&$J$3,INDIRECT(\"'Curves \"&D$10&\"'!$11:$11\")&INDIRECT(\"'Curves \"&D$10&\"'!$12:$12\"),INDIRECT(\"'Curves \"&D$10&\"'!$14:$163\"),,0,1),,0,1)","v":2.5715298649421126E-2},null,{"$f":"_xlfn.XLOOKUP($A117,INDIRECT(\"'Curves \"&F$10&\"'!$A$14:$A$163\"),_xlfn.XLOOKUP(F$11&$J$3,INDIRECT(\"'Curves \"&F$10&\"'!$11:$11\")&INDIRECT(\"'Curves \"&F$10&\"'!$12:$12\"),INDIRECT(\"'Curves \"&F$10&\"'!$14:$163\"),,0,1),,0,1)","v":3.3488296971234899E-2},{"$f":"_xlfn.XLOOKUP($A117,INDIRECT(\"'Curves \"&G$10&\"'!$A$14:$A$163\"),_xlfn.XLOOKUP(G$11&$J$3,INDIRECT(\"'Curves \"&G$10&\"'!$11:$11\")&INDIRECT(\"'Curves \"&G$10&\"'!$12:$12\"),INDIRECT(\"'Curves \"&G$10&\"'!$14:$163\"),,0,1),,0,1)","v":3.8502908173693395E-2},{"$f":"_xlfn.XLOOKUP($A117,INDIRECT(\"'Curves \"&H$10&\"'!$A$14:$A$163\"),_xlfn.XLOOKUP(H$11&$J$3,INDIRECT(\"'Curves \"&H$10&\"'!$11:$11\")&INDIRECT(\"'Curves \"&H$10&\"'!$12:$12\"),INDIRECT(\"'Curves \"&H$10&\"'!$14:$163\"),,0,1),,0,1)","v":2.6391895371021823E-2}]
[106,{"$f":"_xlfn.XLOOKUP($A118,INDIRECT(\"'Curves \"&B$10&\"'!$A$14:$A$163\"),_xlfn.XLOOKUP(B$11&$J$3,INDIRECT(\"'Curves \"&B$10&\"'!$11:$11\")&INDIRECT(\"'Curves \"&B$10&\"'!$12:$12\"),INDIRECT(\"'Curves \"&B$10&\"'!$14:$163\"),,0,1),,0,1)","v":3.2808842506248492E-2},{"$f":"_xlfn.XLOOKUP($A118,INDIRECT(\"'Curves \"&C$10&\"'!$A$14:$A$163\"),_xlfn.XLOOKUP(C$11&$J$3,INDIRECT(\"'Curves \"&C$10&\"'!$11:$11\")&INDIRECT(\"'Curves \"&C$10&\"'!$12:$12\"),INDIRECT(\"'Curves \"&C$10&\"'!$14:$163\"),,0,1),,0,1)","v":3.7786978502045487E-2},{"$f":"_xlfn.XLOOKUP($A118,INDIRECT(\"'Curves \"&D$10&\"'!$A$14:$A$163\"),_xlfn.XLOOKUP(D$11&$J$3,INDIRECT(\"'Curves \"&D$10&\"'!$11:$11\")&INDIRECT(\"'Curves \"&D$10&\"'!$12:$12\"),INDIRECT(\"'Curves \"&D$10&\"'!$14:$163\"),,0,1),,0,1)","v":2.5769702787286963E-2},null,{"$f":"_xlfn.XLOOKUP($A118,INDIRECT(\"'Curves \"&F$10&\"'!$A$14:$A$163\"),_xlfn.XLOOKUP(F$11&$J$3,INDIRECT(\"'Curves \"&F$10&\"'!$11:$11\")&INDIRECT(\"'Curves \"&F$10&\"'!$12:$12\"),INDIRECT(\"'Curves \"&F$10&\"'!$14:$163\"),,0,1),,0,1)","v":3.348368993835682E-2},{"$f":"_xlfn.XLOOKUP($A118,INDIRECT(\"'Curves \"&G$10&\"'!$A$14:$A$163\"),_xlfn.XLOOKUP(G$11&$J$3,INDIRECT(\"'Curves \"&G$10&\"'!$11:$11\")&INDIRECT(\"'Curves \"&G$10&\"'!$12:$12\"),INDIRECT(\"'Curves \"&G$10&\"'!$14:$163\"),,0,1),,0,1)","v":3.8465078697061506E-2},{"$f":"_xlfn.XLOOKUP($A118,INDIRECT(\"'Curves \"&H$10&\"'!$A$14:$A$163\"),_xlfn.XLOOKUP(H$11&$J$3,INDIRECT(\"'Curves \"&H$10&\"'!$11:$11\")&INDIRECT(\"'Curves \"&H$10&\"'!$12:$12\"),INDIRECT(\"'Curves \"&H$10&\"'!$14:$163\"),,0,1),,0,1)","v":2.6439950776431465E-2}]
[107,{"$f":"_xlfn.XLOOKUP($A119,INDIRECT(\"'Curves \"&B$10&\"'!$A$14:$A$163\"),_xlfn.XLOOKUP(B$11&$J$3,INDIRECT(\"'Curves \"&B$10&\"'!$11:$11\")&INDIRECT(\"'Curves \"&B$10&\"'!$12:$12\"),INDIRECT(\"'Curves \"&B$10&\"'!$14:$163\"),,0,1),,0,1)","v":3.2810628704121436E-2},{"$f":"_xlfn.XLOOKUP($A119,INDIRECT(\"'Curves \"&C$10&\"'!$A$14:$A$163\"),_xlfn.XLOOKUP(C$11&$J$3,INDIRECT(\"'Curves \"&C$10&\"'!$11:$11\")&INDIRECT(\"'Curves \"&C$10&\"'!$12:$12\"),INDIRECT(\"'Curves \"&C$10&\"'!$14:$163\"),,0,1),,0,1)","v":3.7756215467410259E-2},{"$f":"_xlfn.XLOOKUP($A119,INDIRECT(\"'Curves \"&D$10&\"'!$A$14:$A$163\"),_xlfn.XLOOKUP(D$11&$J$3,INDIRECT(\"'Curves \"&D$10&\"'!$11:$11\")&INDIRECT(\"'Curves \"&D$10&\"'!$12:$12\"),INDIRECT(\"'Curves \"&D$10&\"'!$14:$163\"),,0,1),,0,1)","v":2.582309454884002E-2},null,{"$f":"_xlfn.XLOOKUP($A119,INDIRECT(\"'Curves \"&F$10&\"'!$A$14:$A$163\"),_xlfn.XLOOKUP(F$11&$J$3,INDIRECT(\"'Curves \"&F$10&\"'!$11:$11\")&INDIRECT(\"'Curves \"&F$10&\"'!$12:$12\"),INDIRECT(\"'Curves \"&F$10&\"'!$14:$163\"),,0,1),,0,1)","v":3.3479168974162699E-2},{"$f":"_xlfn.XLOOKUP($A119,INDIRECT(\"'Curves \"&G$10&\"'!$A$14:$A$163\"),_xlfn.XLOOKUP(G$11&$J$3,INDIRECT(\"'Curves \"&G$10&\"'!$11:$11\")&INDIRECT(\"'Curves \"&G$10&\"'!$12:$12\"),INDIRECT(\"'Curves \"&G$10&\"'!$14:$163\"),,0,1),,0,1)","v":3.8427957025101156E-2},{"$f":"_xlfn.XLOOKUP($A119,INDIRECT(\"'Curves \"&H$10&\"'!$A$14:$A$163\"),_xlfn.XLOOKUP(H$11&$J$3,INDIRECT(\"'Curves \"&H$10&\"'!$11:$11\")&INDIRECT(\"'Curves \"&H$10&\"'!$12:$12\"),INDIRECT(\"'Curves \"&H$10&\"'!$14:$163\"),,0,1),,0,1)","v":2.6487111774829097E-2}]
[108,{"$f":"_xlfn.XLOOKUP($A120,INDIRECT(\"'Curves \"&B$10&\"'!$A$14:$A$163\"),_xlfn.XLOOKUP(B$11&$J$3,INDIRECT(\"'Curves \"&B$10&\"'!$11:$11\")&INDIRECT(\"'Curves \"&B$10&\"'!$12:$12\"),INDIRECT(\"'Curves \"&B$10&\"'!$14:$163\"),,0,1),,0,1)","v":3.2812381843462024E-2},{"$f":"_xlfn.XLOOKUP($A120,INDIRECT(\"'Curves \"&C$10&\"'!$A$14:$A$163\"),_xlfn.XLOOKUP(C$11&$J$3,INDIRECT(\"'Curves \"&C$10&\"'!$11:$11\")&INDIRECT(\"'Curves \"&C$10&\"'!$12:$12\"),INDIRECT(\"'Curves \"&C$10&\"'!$14:$163\"),,0,1),,0,1)","v":3.7726022521721303E-2},{"$f":"_xlfn.XLOOKUP($A120,INDIRECT(\"'Curves \"&D$10&\"'!$A$14:$A$163\"),_xlfn.XLOOKUP(D$11&$J$3,INDIRECT(\"'Curves \"&D$10&\"'!$11:$11\")&INDIRECT(\"'Curves \"&D$10&\"'!$12:$12\"),INDIRECT(\"'Curves \"&D$10&\"'!$14:$163\"),,0,1),,0,1)","v":2.5875501801509326E-2},null,{"$f":"_xlfn.XLOOKUP($A120,INDIRECT(\"'Curves \"&F$10&\"'!$A$14:$A$163\"),_xlfn.XLOOKUP(F$11&$J$3,INDIRECT(\"'Curves \"&F$10&\"'!$11:$11\")&INDIRECT(\"'Curves \"&F$10&\"'!$12:$12\"),INDIRECT(\"'Curves \"&F$10&\"'!$14:$163\"),,0,1),,0,1)","v":3.3474731693916571E-2},{"$f":"_xlfn.XLOOKUP($A120,INDIRECT(\"'Curves \"&G$10&\"'!$A$14:$A$163\"),_xlfn.XLOOKUP(G$11&$J$3,INDIRECT(\"'Curves \"&G$10&\"'!$11:$11\")&INDIRECT(\"'Curves \"&G$10&\"'!$12:$12\"),INDIRECT(\"'Curves \"&G$10&\"'!$14:$163\"),,0,1),,0,1)","v":3.8391523524530013E-2},{"$f":"_xlfn.XLOOKUP($A120,INDIRECT(\"'Curves \"&H$10&\"'!$A$14:$A$163\"),_xlfn.XLOOKUP(H$11&$J$3,INDIRECT(\"'Curves \"&H$10&\"'!$11:$11\")&INDIRECT(\"'Curves \"&H$10&\"'!$12:$12\"),INDIRECT(\"'Curves \"&H$10&\"'!$14:$163\"),,0,1),,0,1)","v":2.653340298196416E-2}]
[109,{"$f":"_xlfn.XLOOKUP($A121,INDIRECT(\"'Curves \"&B$10&\"'!$A$14:$A$163\"),_xlfn.XLOOKUP(B$11&$J$3,INDIRECT(\"'Curves \"&B$10&\"'!$11:$11\")&INDIRECT(\"'Curves \"&B$10&\"'!$12:$12\"),INDIRECT(\"'Curves \"&B$10&\"'!$14:$163\"),,0,1),,0,1)","v":3.2814102832384506E-2},{"$f":"_xlfn.XLOOKUP($A121,INDIRECT(\"'Curves \"&C$10&\"'!$A$14:$A$163\"),_xlfn.XLOOKUP(C$11&$J$3,INDIRECT(\"'Curves \"&C$10&\"'!$11:$11\")&INDIRECT(\"'Curves \"&C$10&\"'!$12:$12\"),INDIRECT(\"'Curves \"&C$10&\"'!$14:$163\"),,0,1),,0,1)","v":3.7696384000204031E-2},{"$f":"_xlfn.XLOOKUP($A121,INDIRECT(\"'Curves \"&D$10&\"'!$A$14:$A$163\"),_xlfn.XLOOKUP(D$11&$J$3,INDIRECT(\"'Curves \"&D$10&\"'!$11:$11\")&INDIRECT(\"'Curves \"&D$10&\"'!$12:$12\"),INDIRECT(\"'Curves \"&D$10&\"'!$14:$163\"),,0,1),,0,1)","v":2.5926951411122889E-2},null,{"$f":"_xlfn.XLOOKUP($A121,INDIRECT(\"'Curves \"&F$10&\"'!$A$14:$A$163\"),_xlfn.XLOOKUP(F$11&$J$3,INDIRECT(\"'Curves \"&F$10&\"'!$11:$11\")&INDIRECT(\"'Curves \"&F$10&\"'!$12:$12\"),INDIRECT(\"'Curves \"&F$10&\"'!$14:$163\"),,0,1),,0,1)","v":3.3470375799733221E-2},{"$f":"_xlfn.XLOOKUP($A121,INDIRECT(\"'Curves \"&G$10&\"'!$A$14:$A$163\"),_xlfn.XLOOKUP(G$11&$J$3,INDIRECT(\"'Curves \"&G$10&\"'!$11:$11\")&INDIRECT(\"'Curves \"&G$10&\"'!$12:$12\"),INDIRECT(\"'Curves \"&G$10&\"'!$14:$163\"),,0,1),,0,1)","v":3.835575927719459E-2},{"$f":"_xlfn.XLOOKUP($A121,INDIRECT(\"'Curves \"&H$10&\"'!$A$14:$A$163\"),_xlfn.XLOOKUP(H$11&$J$3,INDIRECT(\"'Curves \"&H$10&\"'!$11:$11\")&INDIRECT(\"'Curves \"&H$10&\"'!$12:$12\"),INDIRECT(\"'Curves \"&H$10&\"'!$14:$163\"),,0,1),,0,1)","v":2.6578848129844346E-2}]
[110,{"$f":"_xlfn.XLOOKUP($A122,INDIRECT(\"'Curves \"&B$10&\"'!$A$14:$A$163\"),_xlfn.XLOOKUP(B$11&$J$3,INDIRECT(\"'Curves \"&B$10&\"'!$11:$11\")&INDIRECT(\"'Curves \"&B$10&\"'!$12:$12\"),INDIRECT(\"'Curves \"&B$10&\"'!$14:$163\"),,0,1),,0,1)","v":3.2815792546155187E-2},{"$f":"_xlfn.XLOOKUP($A122,INDIRECT(\"'Curves \"&C$10&\"'!$A$14:$A$163\"),_xlfn.XLOOKUP(C$11&$J$3,INDIRECT(\"'Curves \"&C$10&\"'!$11:$11\")&INDIRECT(\"'Curves \"&C$10&\"'!$12:$12\"),INDIRECT(\"'Curves \"&C$10&\"'!$14:$163\"),,0,1),,0,1)","v":3.7667284803426515E-2},{"$f":"_xlfn.XLOOKUP($A122,INDIRECT(\"'Curves \"&D$10&\"'!$A$14:$A$163\"),_xlfn.XLOOKUP(D$11&$J$3,INDIRECT(\"'Curves \"&D$10&\"'!$11:$11\")&INDIRECT(\"'Curves \"&D$10&\"'!$12:$12\"),INDIRECT(\"'Curves \"&D$10&\"'!$14:$163\"),,0,1),,0,1)","v":2.5977469285424881E-2},null,{"$f":"_xlfn.XLOOKUP($A122,INDIRECT(\"'Curves \"&F$10&\"'!$A$14:$A$163\"),_xlfn.XLOOKUP(F$11&$J$3,INDIRECT(\"'Curves \"&F$10&\"'!$11:$11\")&INDIRECT(\"'Curves \"&F$10&\"'!$12:$12\"),INDIRECT(\"'Curves \"&F$10&\"'!$14:$163\"),,0,1),,0,1)","v":3.3466099076700395E-2},{"$f":"_xlfn.XLOOKUP($A122,INDIRECT(\"'Curves \"&G$10&\"'!$A$14:$A$163\"),_xlfn.XLOOKUP(G$11&$J$3,INDIRECT(\"'Curves \"&G$10&\"'!$11:$11\")&INDIRECT(\"'Curves \"&G$10&\"'!$12:$12\"),INDIRECT(\"'Curves \"&G$10&\"'!$14:$163\"),,0,1),,0,1)","v":3.8320646048201068E-2},{"$f":"_xlfn.XLOOKUP($A122,INDIRECT(\"'Curves \"&H$10&\"'!$A$14:$A$163\"),_xlfn.XLOOKUP(H$11&$J$3,INDIRECT(\"'Curves \"&H$10&\"'!$11:$11\")&INDIRECT(\"'Curves \"&H$10&\"'!$12:$12\"),INDIRECT(\"'Curves \"&H$10&\"'!$14:$163\"),,0,1),,0,1)","v":2.6623470105013203E-2}]
[111,{"$f":"_xlfn.XLOOKUP($A123,INDIRECT(\"'Curves \"&B$10&\"'!$A$14:$A$163\"),_xlfn.XLOOKUP(B$11&$J$3,INDIRECT(\"'Curves \"&B$10&\"'!$11:$11\")&INDIRECT(\"'Curves \"&B$10&\"'!$12:$12\"),INDIRECT(\"'Curves \"&B$10&\"'!$14:$163\"),,0,1),,0,1)","v":3.2817451828656585E-2},{"$f":"_xlfn.XLOOKUP($A123,INDIRECT(\"'Curves \"&C$10&\"'!$A$14:$A$163\"),_xlfn.XLOOKUP(C$11&$J$3,INDIRECT(\"'Curves \"&C$10&\"'!$11:$11\")&INDIRECT(\"'Curves \"&C$10&\"'!$12:$12\"),INDIRECT(\"'Curves \"&C$10&\"'!$14:$163\"),,0,1),,0,1)","v":3.76387103723268E-2},{"$f":"_xlfn.XLOOKUP($A123,INDIRECT(\"'Curves \"&D$10&\"'!$A$14:$A$163\"),_xlfn.XLOOKUP(D$11&$J$3,INDIRECT(\"'Curves \"&D$10&\"'!$11:$11\")&INDIRECT(\"'Curves \"&D$10&\"'!$12:$12\"),INDIRECT(\"'Curves \"&D$10&\"'!$14:$163\"),,0,1),,0,1)","v":2.6027080415442994E-2},null,{"$f":"_xlfn.XLOOKUP($A123,INDIRECT(\"'Curves \"&F$10&\"'!$A$14:$A$163\"),_xlfn.XLOOKUP(F$11&$J$3,INDIRECT(\"'Curves \"&F$10&\"'!$11:$11\")&INDIRECT(\"'Curves \"&F$10&\"'!$12:$12\"),INDIRECT(\"'Curves \"&F$10&\"'!$14:$163\"),,0,1),,0,1)","v":3.3461899389202854E-2},{"$f":"_xlfn.XLOOKUP($A123,INDIRECT(\"'Curves \"&G$10&\"'!$A$14:$A$163\"),_xlfn.XLOOKUP(G$11&$J$3,INDIRECT(\"'Curves \"&G$10&\"'!$11:$11\")&INDIRECT(\"'Curves \"&G$10&\"'!$12:$12\"),INDIRECT(\"'Curves \"&G$10&\"'!$14:$163\"),,0,1),,0,1)","v":3.8286166255691034E-2},{"$f":"_xlfn.XLOOKUP($A123,INDIRECT(\"'Curves \"&H$10&\"'!$A$14:$A$163\"),_xlfn.XLOOKUP(H$11&$J$3,INDIRECT(\"'Curves \"&H$10&\"'!$11:$11\")&INDIRECT(\"'Curves \"&H$10&\"'!$12:$12\"),INDIRECT(\"'Curves \"&H$10&\"'!$14:$163\"),,0,1),,0,1)","v":2.6667290984946357E-2}]
[112,{"$f":"_xlfn.XLOOKUP($A124,INDIRECT(\"'Curves \"&B$10&\"'!$A$14:$A$163\"),_xlfn.XLOOKUP(B$11&$J$3,INDIRECT(\"'Curves \"&B$10&\"'!$11:$11\")&INDIRECT(\"'Curves \"&B$10&\"'!$12:$12\"),INDIRECT(\"'Curves \"&B$10&\"'!$14:$163\"),,0,1),,0,1)","v":3.2819081493770108E-2},{"$f":"_xlfn.XLOOKUP($A124,INDIRECT(\"'Curves \"&C$10&\"'!$A$14:$A$163\"),_xlfn.XLOOKUP(C$11&$J$3,INDIRECT(\"'Curves \"&C$10&\"'!$11:$11\")&INDIRECT(\"'Curves \"&C$10&\"'!$12:$12\"),INDIRECT(\"'Curves \"&C$10&\"'!$14:$163\"),,0,1),,0,1)","v":3.7610646664526737E-2},{"$f":"_xlfn.XLOOKUP($A124,INDIRECT(\"'Curves \"&D$10&\"'!$A$14:$A$163\"),_xlfn.XLOOKUP(D$11&$J$3,INDIRECT(\"'Curves \"&D$10&\"'!$11:$11\")&INDIRECT(\"'Curves \"&D$10&\"'!$12:$12\"),INDIRECT(\"'Curves \"&D$10&\"'!$14:$163\"),,0,1),,0,1)","v":2.6075808914819421E-2},null,{"$f":"_xlfn.XLOOKUP($A124,INDIRECT(\"'Curves \"&F$10&\"'!$A$14:$A$163\"),_xlfn.XLOOKUP(F$11&$J$3,INDIRECT(\"'Curves \"&F$10&\"'!$11:$11\")&INDIRECT(\"'Curves \"&F$10&\"'!$12:$12\"),INDIRECT(\"'Curves \"&F$10&\"'!$14:$163\"),,0,1),,0,1)","v":3.3457774677436047E-2},{"$f":"_xlfn.XLOOKUP($A124,INDIRECT(\"'Curves \"&G$10&\"'!$A$14:$A$163\"),_xlfn.XLOOKUP(G$11&$J$3,INDIRECT(\"'Curves \"&G$10&\"'!$11:$11\")&INDIRECT(\"'Curves \"&G$10&\"'!$12:$12\"),INDIRECT(\"'Curves \"&G$10&\"'!$14:$163\"),,0,1),,0,1)","v":3.825230294218307E-2},{"$f":"_xlfn.XLOOKUP($A124,INDIRECT(\"'Curves \"&H$10&\"'!$A$14:$A$163\"),_xlfn.XLOOKUP(H$11&$J$3,INDIRECT(\"'Curves \"&H$10&\"'!$11:$11\")&INDIRECT(\"'Curves \"&H$10&\"'!$12:$12\"),INDIRECT(\"'Curves \"&H$10&\"'!$14:$163\"),,0,1),,0,1)","v":2.6710332072670484E-2}]
[113,{"$f":"_xlfn.XLOOKUP($A125,INDIRECT(\"'Curves \"&B$10&\"'!$A$14:$A$163\"),_xlfn.XLOOKUP(B$11&$J$3,INDIRECT(\"'Curves \"&B$10&\"'!$11:$11\")&INDIRECT(\"'Curves \"&B$10&\"'!$12:$12\"),INDIRECT(\"'Curves \"&B$10&\"'!$14:$163\"),,0,1),,0,1)","v":3.2820682326691442E-2},{"$f":"_xlfn.XLOOKUP($A125,INDIRECT(\"'Curves \"&C$10&\"'!$A$14:$A$163\"),_xlfn.XLOOKUP(C$11&$J$3,INDIRECT(\"'Curves \"&C$10&\"'!$11:$11\")&INDIRECT(\"'Curves \"&C$10&\"'!$12:$12\"),INDIRECT(\"'Curves \"&C$10&\"'!$14:$163\"),,0,1),,0,1)","v":3.7583080131854629E-2},{"$f":"_xlfn.XLOOKUP($A125,INDIRECT(\"'Curves \"&D$10&\"'!$A$14:$A$163\"),_xlfn.XLOOKUP(D$11&$J$3,INDIRECT(\"'Curves \"&D$10&\"'!$11:$11\")&INDIRECT(\"'Curves \"&D$10&\"'!$12:$12\"),INDIRECT(\"'Curves \"&D$10&\"'!$14:$163\"),,0,1),,0,1)","v":2.6123678057209609E-2},null,{"$f":"_xlfn.XLOOKUP($A125,INDIRECT(\"'Curves \"&F$10&\"'!$A$14:$A$163\"),_xlfn.XLOOKUP(F$11&$J$3,INDIRECT(\"'Curves \"&F$10&\"'!$11:$11\")&INDIRECT(\"'Curves \"&F$10&\"'!$12:$12\"),INDIRECT(\"'Curves \"&F$10&\"'!$14:$163\"),,0,1),,0,1)","v":3.3453722954102094E-2},{"$f":"_xlfn.XLOOKUP($A125,INDIRECT(\"'Curves \"&G$10&\"'!$A$14:$A$163\"),_xlfn.XLOOKUP(G$11&$J$3,INDIRECT(\"'Curves \"&G$10&\"'!$11:$11\")&INDIRECT(\"'Curves \"&G$10&\"'!$12:$12\"),INDIRECT(\"'Curves \"&G$10&\"'!$14:$163\"),,0,1),,0,1)","v":3.8219039747378281E-2},{"$f":"_xlfn.XLOOKUP($A125,INDIRECT(\"'Curves \"&H$10&\"'!$A$14:$A$163\"),_xlfn.XLOOKUP(H$11&$J$3,INDIRECT(\"'Curves \"&H$10&\"'!$11:$11\")&INDIRECT(\"'Curves \"&H$10&\"'!$12:$12\"),INDIRECT(\"'Curves \"&H$10&\"'!$14:$163\"),,0,1),,0,1)","v":2.6752613929693192E-2}]
[114,{"$f":"_xlfn.XLOOKUP($A126,INDIRECT(\"'Curves \"&B$10&\"'!$A$14:$A$163\"),_xlfn.XLOOKUP(B$11&$J$3,INDIRECT(\"'Curves \"&B$10&\"'!$11:$11\")&INDIRECT(\"'Curves \"&B$10&\"'!$12:$12\"),INDIRECT(\"'Curves \"&B$10&\"'!$14:$163\"),,0,1),,0,1)","v":3.2822255085174223E-2},{"$f":"_xlfn.XLOOKUP($A126,INDIRECT(\"'Curves \"&C$10&\"'!$A$14:$A$163\"),_xlfn.XLOOKUP(C$11&$J$3,INDIRECT(\"'Curves \"&C$10&\"'!$11:$11\")&INDIRECT(\"'Curves \"&C$10&\"'!$12:$12\"),INDIRECT(\"'Curves \"&C$10&\"'!$14:$163\"),,0,1),,0,1)","v":3.7555997699010302E-2},{"$f":"_xlfn.XLOOKUP($A126,INDIRECT(\"'Curves \"&D$10&\"'!$A$14:$A$163\"),_xlfn.XLOOKUP(D$11&$J$3,INDIRECT(\"'Curves \"&D$10&\"'!$11:$11\")&INDIRECT(\"'Curves \"&D$10&\"'!$12:$12\"),INDIRECT(\"'Curves \"&D$10&\"'!$14:$163\"),,0,1),,0,1)","v":2.6170710311856915E-2},null,{"$f":"_xlfn.XLOOKUP($A126,INDIRECT(\"'Curves \"&F$10&\"'!$A$14:$A$163\"),_xlfn.XLOOKUP(F$11&$J$3,INDIRECT(\"'Curves \"&F$10&\"'!$11:$11\")&INDIRECT(\"'Curves \"&F$10&\"'!$12:$12\"),INDIRECT(\"'Curves \"&F$10&\"'!$14:$163\"),,0,1),,0,1)","v":3.3449742301271179E-2},{"$f":"_xlfn.XLOOKUP($A126,INDIRECT(\"'Curves \"&G$10&\"'!$A$14:$A$163\"),_xlfn.XLOOKUP(G$11&$J$3,INDIRECT(\"'Curves \"&G$10&\"'!$11:$11\")&INDIRECT(\"'Curves \"&G$10&\"'!$12:$12\"),INDIRECT(\"'Curves \"&G$10&\"'!$14:$163\"),,0,1),,0,1)","v":3.8186360882351389E-2},{"$f":"_xlfn.XLOOKUP($A126,INDIRECT(\"'Curves \"&H$10&\"'!$A$14:$A$163\"),_xlfn.XLOOKUP(H$11&$J$3,INDIRECT(\"'Curves \"&H$10&\"'!$11:$11\")&INDIRECT(\"'Curves \"&H$10&\"'!$12:$12\"),INDIRECT(\"'Curves \"&H$10&\"'!$14:$163\"),,0,1),,0,1)","v":2.679415640733307E-2}]
[115,{"$f":"_xlfn.XLOOKUP($A127,INDIRECT(\"'Curves \"&B$10&\"'!$A$14:$A$163\"),_xlfn.XLOOKUP(B$11&$J$3,INDIRECT(\"'Curves \"&B$10&\"'!$11:$11\")&INDIRECT(\"'Curves \"&B$10&\"'!$12:$12\"),INDIRECT(\"'Curves \"&B$10&\"'!$14:$163\"),,0,1),,0,1)","v":3.2823800500713984E-2},{"$f":"_xlfn.XLOOKUP($A127,INDIRECT(\"'Curves \"&C$10&\"'!$A$14:$A$163\"),_xlfn.XLOOKUP(C$11&$J$3,INDIRECT(\"'Curves \"&C$10&\"'!$11:$11\")&INDIRECT(\"'Curves \"&C$10&\"'!$12:$12\"),INDIRECT(\"'Curves \"&C$10&\"'!$14:$163\"),,0,1),,0,1)","v":3.7529386743306192E-2},{"$f":"_xlfn.XLOOKUP($A127,INDIRECT(\"'Curves \"&D$10&\"'!$A$14:$A$163\"),_xlfn.XLOOKUP(D$11&$J$3,INDIRECT(\"'Curves \"&D$10&\"'!$11:$11\")&INDIRECT(\"'Curves \"&D$10&\"'!$12:$12\"),INDIRECT(\"'Curves \"&D$10&\"'!$14:$163\"),,0,1),,0,1)","v":2.6216927377434862E-2},null,{"$f":"_xlfn.XLOOKUP($A127,INDIRECT(\"'Curves \"&F$10&\"'!$A$14:$A$163\"),_xlfn.XLOOKUP(F$11&$J$3,INDIRECT(\"'Curves \"&F$10&\"'!$11:$11\")&INDIRECT(\"'Curves \"&F$10&\"'!$12:$12\"),INDIRECT(\"'Curves \"&F$10&\"'!$14:$163\"),,0,1),,0,1)","v":3.3445830867404158E-2},{"$f":"_xlfn.XLOOKUP($A127,INDIRECT(\"'Curves \"&G$10&\"'!$A$14:$A$163\"),_xlfn.XLOOKUP(G$11&$J$3,INDIRECT(\"'Curves \"&G$10&\"'!$11:$11\")&INDIRECT(\"'Curves \"&G$10&\"'!$12:$12\"),INDIRECT(\"'Curves \"&G$10&\"'!$14:$163\"),,0,1),,0,1)","v":3.8154251105044334E-2},{"$f":"_xlfn.XLOOKUP($A127,INDIRECT(\"'Curves \"&H$10&\"'!$A$14:$A$163\"),_xlfn.XLOOKUP(H$11&$J$3,INDIRECT(\"'Curves \"&H$10&\"'!$11:$11\")&INDIRECT(\"'Curves \"&H$10&\"'!$12:$12\"),INDIRECT(\"'Curves \"&H$10&\"'!$14:$163\"),,0,1),,0,1)","v":2.6834978676534282E-2}]
[116,{"$f":"_xlfn.XLOOKUP($A128,INDIRECT(\"'Curves \"&B$10&\"'!$A$14:$A$163\"),_xlfn.XLOOKUP(B$11&$J$3,INDIRECT(\"'Curves \"&B$10&\"'!$11:$11\")&INDIRECT(\"'Curves \"&B$10&\"'!$12:$12\"),INDIRECT(\"'Curves \"&B$10&\"'!$14:$163\"),,0,1),,0,1)","v":3.2825319279668141E-2},{"$f":"_xlfn.XLOOKUP($A128,INDIRECT(\"'Curves \"&C$10&\"'!$A$14:$A$163\"),_xlfn.XLOOKUP(C$11&$J$3,INDIRECT(\"'Curves \"&C$10&\"'!$11:$11\")&INDIRECT(\"'Curves \"&C$10&\"'!$12:$12\"),INDIRECT(\"'Curves \"&C$10&\"'!$14:$163\"),,0,1),,0,1)","v":3.750323507542408E-2},{"$f":"_xlfn.XLOOKUP($A128,INDIRECT(\"'Curves \"&D$10&\"'!$A$14:$A$163\"),_xlfn.XLOOKUP(D$11&$J$3,INDIRECT(\"'Curves \"&D$10&\"'!$11:$11\")&INDIRECT(\"'Curves \"&D$10&\"'!$12:$12\"),INDIRECT(\"'Curves \"&D$10&\"'!$14:$163\"),,0,1),,0,1)","v":2.6262350214252272E-2},null,{"$f":"_xlfn.XLOOKUP($A128,INDIRECT(\"'Curves \"&F$10&\"'!$A$14:$A$163\"),_xlfn.XLOOKUP(F$11&$J$3,INDIRECT(\"'Curves \"&F$10&\"'!$11:$11\")&INDIRECT(\"'Curves \"&F$10&\"'!$12:$12\"),INDIRECT(\"'Curves \"&F$10&\"'!$14:$163\"),,0,1),,0,1)","v":3.3441986864525042E-2},{"$f":"_xlfn.XLOOKUP($A128,INDIRECT(\"'Curves \"&G$10&\"'!$A$14:$A$163\"),_xlfn.XLOOKUP(G$11&$J$3,INDIRECT(\"'Curves \"&G$10&\"'!$11:$11\")&INDIRECT(\"'Curves \"&G$10&\"'!$12:$12\"),INDIRECT(\"'Curves \"&G$10&\"'!$14:$163\"),,0,1),,0,1)","v":3.8122695696995113E-2},{"$f":"_xlfn.XLOOKUP($A128,INDIRECT(\"'Curves \"&H$10&\"'!$A$14:$A$163\"),_xlfn.XLOOKUP(H$11&$J$3,INDIRECT(\"'Curves \"&H$10&\"'!$11:$11\")&INDIRECT(\"'Curves \"&H$10&\"'!$12:$12\"),INDIRECT(\"'Curves \"&H$10&\"'!$14:$163\"),,0,1),,0,1)","v":2.6875099256246537E-2}]
[117,{"$f":"_xlfn.XLOOKUP($A129,INDIRECT(\"'Curves \"&B$10&\"'!$A$14:$A$163\"),_xlfn.XLOOKUP(B$11&$J$3,INDIRECT(\"'Curves \"&B$10&\"'!$11:$11\")&INDIRECT(\"'Curves \"&B$10&\"'!$12:$12\"),INDIRECT(\"'Curves \"&B$10&\"'!$14:$163\"),,0,1),,0,1)","v":3.2826812104322478E-2},{"$f":"_xlfn.XLOOKUP($A129,INDIRECT(\"'Curves \"&C$10&\"'!$A$14:$A$163\"),_xlfn.XLOOKUP(C$11&$J$3,INDIRECT(\"'Curves \"&C$10&\"'!$11:$11\")&INDIRECT(\"'Curves \"&C$10&\"'!$12:$12\"),INDIRECT(\"'Curves \"&C$10&\"'!$14:$163\"),,0,1),,0,1)","v":3.7477530921129709E-2},{"$f":"_xlfn.XLOOKUP($A129,INDIRECT(\"'Curves \"&D$10&\"'!$A$14:$A$163\"),_xlfn.XLOOKUP(D$11&$J$3,INDIRECT(\"'Curves \"&D$10&\"'!$11:$11\")&INDIRECT(\"'Curves \"&D$10&\"'!$12:$12\"),INDIRECT(\"'Curves \"&D$10&\"'!$14:$163\"),,0,1),,0,1)","v":2.6306999074905635E-2},null,{"$f":"_xlfn.XLOOKUP($A129,INDIRECT(\"'Curves \"&F$10&\"'!$A$14:$A$163\"),_xlfn.XLOOKUP(F$11&$J$3,INDIRECT(\"'Curves \"&F$10&\"'!$11:$11\")&INDIRECT(\"'Curves \"&F$10&\"'!$12:$12\"),INDIRECT(\"'Curves \"&F$10&\"'!$14:$163\"),,0,1),,0,1)","v":3.3438208565534477E-2},{"$f":"_xlfn.XLOOKUP($A129,INDIRECT(\"'Curves \"&G$10&\"'!$A$14:$A$163\"),_xlfn.XLOOKUP(G$11&$J$3,INDIRECT(\"'Curves \"&G$10&\"'!$11:$11\")&INDIRECT(\"'Curves \"&G$10&\"'!$12:$12\"),INDIRECT(\"'Curves \"&G$10&\"'!$14:$163\"),,0,1),,0,1)","v":3.8091680441221687E-2},{"$f":"_xlfn.XLOOKUP($A129,INDIRECT(\"'Curves \"&H$10&\"'!$A$14:$A$163\"),_xlfn.XLOOKUP(H$11&$J$3,INDIRECT(\"'Curves \"&H$10&\"'!$11:$11\")&INDIRECT(\"'Curves \"&H$10&\"'!$12:$12\"),INDIRECT(\"'Curves \"&H$10&\"'!$14:$163\"),,0,1),,0,1)","v":2.6914536040443027E-2}]
[118,{"$f":"_xlfn.XLOOKUP($A130,INDIRECT(\"'Curves \"&B$10&\"'!$A$14:$A$163\"),_xlfn.XLOOKUP(B$11&$J$3,INDIRECT(\"'Curves \"&B$10&\"'!$11:$11\")&INDIRECT(\"'Curves \"&B$10&\"'!$12:$12\"),INDIRECT(\"'Curves \"&B$10&\"'!$14:$163\"),,0,1),,0,1)","v":3.2828279633903668E-2},{"$f":"_xlfn.XLOOKUP($A130,INDIRECT(\"'Curves \"&C$10&\"'!$A$14:$A$163\"),_xlfn.XLOOKUP(C$11&$J$3,INDIRECT(\"'Curves \"&C$10&\"'!$11:$11\")&INDIRECT(\"'Curves \"&C$10&\"'!$12:$12\"),INDIRECT(\"'Curves \"&C$10&\"'!$14:$163\"),,0,1),,0,1)","v":3.745226290388981E-2},{"$f":"_xlfn.XLOOKUP($A130,INDIRECT(\"'Curves \"&D$10&\"'!$A$14:$A$163\"),_xlfn.XLOOKUP(D$11&$J$3,INDIRECT(\"'Curves \"&D$10&\"'!$11:$11\")&INDIRECT(\"'Curves \"&D$10&\"'!$12:$12\"),INDIRECT(\"'Curves \"&D$10&\"'!$14:$163\"),,0,1),,0,1)","v":2.6350893533461761E-2},null,{"$f":"_xlfn.XLOOKUP($A130,INDIRECT(\"'Curves \"&F$10&\"'!$A$14:$A$163\"),_xlfn.XLOOKUP(F$11&$J$3,INDIRECT(\"'Curves \"&F$10&\"'!$11:$11\")&INDIRECT(\"'Curves \"&F$10&\"'!$12:$12\"),INDIRECT(\"'Curves \"&F$10&\"'!$14:$163\"),,0,1),,0,1)","v":3.3434494301657569E-2},{"$f":"_xlfn.XLOOKUP($A130,INDIRECT(\"'Curves \"&G$10&\"'!$A$14:$A$163\"),_xlfn.XLOOKUP(G$11&$J$3,INDIRECT(\"'Curves \"&G$10&\"'!$11:$11\")&INDIRECT(\"'Curves \"&G$10&\"'!$12:$12\"),INDIRECT(\"'Curves \"&G$10&\"'!$14:$163\"),,0,1),,0,1)","v":3.8061191601204136E-2},{"$f":"_xlfn.XLOOKUP($A130,INDIRECT(\"'Curves \"&H$10&\"'!$A$14:$A$163\"),_xlfn.XLOOKUP(H$11&$J$3,INDIRECT(\"'Curves \"&H$10&\"'!$11:$11\")&INDIRECT(\"'Curves \"&H$10&\"'!$12:$12\"),INDIRECT(\"'Curves \"&H$10&\"'!$14:$163\"),,0,1),,0,1)","v":2.6953306323846293E-2}]
[119,{"$f":"_xlfn.XLOOKUP($A131,INDIRECT(\"'Curves \"&B$10&\"'!$A$14:$A$163\"),_xlfn.XLOOKUP(B$11&$J$3,INDIRECT(\"'Curves \"&B$10&\"'!$11:$11\")&INDIRECT(\"'Curves \"&B$10&\"'!$12:$12\"),INDIRECT(\"'Curves \"&B$10&\"'!$14:$163\"),,0,1),,0,1)","v":3.282972250554006E-2},{"$f":"_xlfn.XLOOKUP($A131,INDIRECT(\"'Curves \"&C$10&\"'!$A$14:$A$163\"),_xlfn.XLOOKUP(C$11&$J$3,INDIRECT(\"'Curves \"&C$10&\"'!$11:$11\")&INDIRECT(\"'Curves \"&C$10&\"'!$12:$12\"),INDIRECT(\"'Curves \"&C$10&\"'!$14:$163\"),,0,1),,0,1)","v":3.7427420028346203E-2},{"$f":"_xlfn.XLOOKUP($A131,INDIRECT(\"'Curves \"&D$10&\"'!$A$14:$A$163\"),_xlfn.XLOOKUP(D$11&$J$3,INDIRECT(\"'Curves \"&D$10&\"'!$11:$11\")&INDIRECT(\"'Curves \"&D$10&\"'!$12:$12\"),INDIRECT(\"'Curves \"&D$10&\"'!$14:$163\"),,0,1),,0,1)","v":2.6394052513248667E-2},null,{"$f":"_xlfn.XLOOKUP($A131,INDIRECT(\"'Curves \"&F$10&\"'!$A$14:$A$163\"),_xlfn.XLOOKUP(F$11&$J$3,INDIRECT(\"'Curves \"&F$10&\"'!$11:$11\")&INDIRECT(\"'Curves \"&F$10&\"'!$12:$12\"),INDIRECT(\"'Curves \"&F$10&\"'!$14:$163\"),,0,1),,0,1)","v":3.3430842460015597E-2},{"$f":"_xlfn.XLOOKUP($A131,INDIRECT(\"'Curves \"&G$10&\"'!$A$14:$A$163\"),_xlfn.XLOOKUP(G$11&$J$3,INDIRECT(\"'Curves \"&G$10&\"'!$11:$11\")&INDIRECT(\"'Curves \"&G$10&\"'!$12:$12\"),INDIRECT(\"'Curves \"&G$10&\"'!$14:$163\"),,0,1),,0,1)","v":3.8031215900899307E-2},{"$f":"_xlfn.XLOOKUP($A131,INDIRECT(\"'Curves \"&H$10&\"'!$A$14:$A$163\"),_xlfn.XLOOKUP(H$11&$J$3,INDIRECT(\"'Curves \"&H$10&\"'!$11:$11\")&INDIRECT(\"'Curves \"&H$10&\"'!$12:$12\"),INDIRECT(\"'Curves \"&H$10&\"'!$14:$163\"),,0,1),,0,1)","v":2.6991426826435516E-2}]
[120,{"$f":"_xlfn.XLOOKUP($A132,INDIRECT(\"'Curves \"&B$10&\"'!$A$14:$A$163\"),_xlfn.XLOOKUP(B$11&$J$3,INDIRECT(\"'Curves \"&B$10&\"'!$11:$11\")&INDIRECT(\"'Curves \"&B$10&\"'!$12:$12\"),INDIRECT(\"'Curves \"&B$10&\"'!$14:$163\"),,0,1),,0,1)","v":3.2831141335176728E-2},{"$f":"_xlfn.XLOOKUP($A132,INDIRECT(\"'Curves \"&C$10&\"'!$A$14:$A$163\"),_xlfn.XLOOKUP(C$11&$J$3,INDIRECT(\"'Curves \"&C$10&\"'!$11:$11\")&INDIRECT(\"'Curves \"&C$10&\"'!$12:$12\"),INDIRECT(\"'Curves \"&C$10&\"'!$14:$163\"),,0,1),,0,1)","v":3.74029916645926E-2},{"$f":"_xlfn.XLOOKUP($A132,INDIRECT(\"'Curves \"&D$10&\"'!$A$14:$A$163\"),_xlfn.XLOOKUP(D$11&$J$3,INDIRECT(\"'Curves \"&D$10&\"'!$11:$11\")&INDIRECT(\"'Curves \"&D$10&\"'!$12:$12\"),INDIRECT(\"'Curves \"&D$10&\"'!$14:$163\"),,0,1),,0,1)","v":2.6436494313326842E-2},null,{"$f":"_xlfn.XLOOKUP($A132,INDIRECT(\"'Curves \"&F$10&\"'!$A$14:$A$163\"),_xlfn.XLOOKUP(F$11&$J$3,INDIRECT(\"'Curves \"&F$10&\"'!$11:$11\")&INDIRECT(\"'Curves \"&F$10&\"'!$12:$12\"),INDIRECT(\"'Curves \"&F$10&\"'!$14:$163\"),,0,1),,0,1)","v":3.3427251481319198E-2},{"$f":"_xlfn.XLOOKUP($A132,INDIRECT(\"'Curves \"&G$10&\"'!$A$14:$A$163\"),_xlfn.XLOOKUP(G$11&$J$3,INDIRECT(\"'Curves \"&G$10&\"'!$11:$11\")&INDIRECT(\"'Curves \"&G$10&\"'!$12:$12\"),INDIRECT(\"'Curves \"&G$10&\"'!$14:$163\"),,0,1),,0,1)","v":3.8001740505734682E-2},{"$f":"_xlfn.XLOOKUP($A132,INDIRECT(\"'Curves \"&H$10&\"'!$A$14:$A$163\"),_xlfn.XLOOKUP(H$11&$J$3,INDIRECT(\"'Curves \"&H$10&\"'!$11:$11\")&INDIRECT(\"'Curves \"&H$10&\"'!$12:$12\"),INDIRECT(\"'Curves \"&H$10&\"'!$14:$163\"),,0,1),,0,1)","v":2.7028913716792946E-2}]
[121,{"$f":"_xlfn.XLOOKUP($A133,INDIRECT(\"'Curves \"&B$10&\"'!$A$14:$A$163\"),_xlfn.XLOOKUP(B$11&$J$3,INDIRECT(\"'Curves \"&B$10&\"'!$11:$11\")&INDIRECT(\"'Curves \"&B$10&\"'!$12:$12\"),INDIRECT(\"'Curves \"&B$10&\"'!$14:$163\"),,0,1),,0,1)","v":3.2832536718445882E-2},{"$f":"_xlfn.XLOOKUP($A133,INDIRECT(\"'Curves \"&C$10&\"'!$A$14:$A$163\"),_xlfn.XLOOKUP(C$11&$J$3,INDIRECT(\"'Curves \"&C$10&\"'!$11:$11\")&INDIRECT(\"'Curves \"&C$10&\"'!$12:$12\"),INDIRECT(\"'Curves \"&C$10&\"'!$14:$163\"),,0,1),,0,1)","v":3.7378967533215679E-2},{"$f":"_xlfn.XLOOKUP($A133,INDIRECT(\"'Curves \"&D$10&\"'!$A$14:$A$163\"),_xlfn.XLOOKUP(D$11&$J$3,INDIRECT(\"'Curves \"&D$10&\"'!$11:$11\")&INDIRECT(\"'Curves \"&D$10&\"'!$12:$12\"),INDIRECT(\"'Curves \"&D$10&\"'!$14:$163\"),,0,1),,0,1)","v":2.6478236633710184E-2},null,{"$f":"_xlfn.XLOOKUP($A133,INDIRECT(\"'Curves \"&F$10&\"'!$A$14:$A$163\"),_xlfn.XLOOKUP(F$11&$J$3,INDIRECT(\"'Curves \"&F$10&\"'!$11:$11\")&INDIRECT(\"'Curves \"&F$10&\"'!$12:$12\"),INDIRECT(\"'Curves \"&F$10&\"'!$14:$163\"),,0,1),,0,1)","v":3.3423719857672118E-2},{"$f":"_xlfn.XLOOKUP($A133,INDIRECT(\"'Curves \"&G$10&\"'!$A$14:$A$163\"),_xlfn.XLOOKUP(G$11&$J$3,INDIRECT(\"'Curves \"&G$10&\"'!$11:$11\")&INDIRECT(\"'Curves \"&G$10&\"'!$12:$12\"),INDIRECT(\"'Curves \"&G$10&\"'!$14:$163\"),,0,1),,0,1)","v":3.7972753004519744E-2},{"$f":"_xlfn.XLOOKUP($A133,INDIRECT(\"'Curves \"&H$10&\"'!$A$14:$A$163\"),_xlfn.XLOOKUP(H$11&$J$3,INDIRECT(\"'Curves \"&H$10&\"'!$11:$11\")&INDIRECT(\"'Curves \"&H$10&\"'!$12:$12\"),INDIRECT(\"'Curves \"&H$10&\"'!$14:$163\"),,0,1),,0,1)","v":2.7065782634350999E-2}]
[122,{"$f":"_xlfn.XLOOKUP($A134,INDIRECT(\"'Curves \"&B$10&\"'!$A$14:$A$163\"),_xlfn.XLOOKUP(B$11&$J$3,INDIRECT(\"'Curves \"&B$10&\"'!$11:$11\")&INDIRECT(\"'Curves \"&B$10&\"'!$12:$12\"),INDIRECT(\"'Curves \"&B$10&\"'!$14:$163\"),,0,1),,0,1)","v":3.2833909231493541E-2},{"$f":"_xlfn.XLOOKUP($A134,INDIRECT(\"'Curves \"&C$10&\"'!$A$14:$A$163\"),_xlfn.XLOOKUP(C$11&$J$3,INDIRECT(\"'Curves \"&C$10&\"'!$11:$11\")&INDIRECT(\"'Curves \"&C$10&\"'!$12:$12\"),INDIRECT(\"'Curves \"&C$10&\"'!$14:$163\"),,0,1),,0,1)","v":3.7355337691054702E-2},{"$f":"_xlfn.XLOOKUP($A134,INDIRECT(\"'Curves \"&D$10&\"'!$A$14:$A$163\"),_xlfn.XLOOKUP(D$11&$J$3,INDIRECT(\"'Curves \"&D$10&\"'!$11:$11\")&INDIRECT(\"'Curves \"&D$10&\"'!$12:$12\"),INDIRECT(\"'Curves \"&D$10&\"'!$14:$163\"),,0,1),,0,1)","v":2.6519296599402997E-2},null,{"$f":"_xlfn.XLOOKUP($A134,INDIRECT(\"'Curves \"&F$10&\"'!$A$14:$A$163\"),_xlfn.XLOOKUP(F$11&$J$3,INDIRECT(\"'Curves \"&F$10&\"'!$11:$11\")&INDIRECT(\"'Curves \"&F$10&\"'!$12:$12\"),INDIRECT(\"'Curves \"&F$10&\"'!$14:$163\"),,0,1),,0,1)","v":3.3420246130481557E-2},{"$f":"_xlfn.XLOOKUP($A134,INDIRECT(\"'Curves \"&G$10&\"'!$A$14:$A$163\"),_xlfn.XLOOKUP(G$11&$J$3,INDIRECT(\"'Curves \"&G$10&\"'!$11:$11\")&INDIRECT(\"'Curves \"&G$10&\"'!$12:$12\"),INDIRECT(\"'Curves \"&G$10&\"'!$14:$163\"),,0,1),,0,1)","v":3.7944241392234401E-2},{"$f":"_xlfn.XLOOKUP($A134,INDIRECT(\"'Curves \"&H$10&\"'!$A$14:$A$163\"),_xlfn.XLOOKUP(H$11&$J$3,INDIRECT(\"'Curves \"&H$10&\"'!$11:$11\")&INDIRECT(\"'Curves \"&H$10&\"'!$12:$12\"),INDIRECT(\"'Curves \"&H$10&\"'!$14:$163\"),,0,1),,0,1)","v":2.7102048710599069E-2}]
[123,{"$f":"_xlfn.XLOOKUP($A135,INDIRECT(\"'Curves \"&B$10&\"'!$A$14:$A$163\"),_xlfn.XLOOKUP(B$11&$J$3,INDIRECT(\"'Curves \"&B$10&\"'!$11:$11\")&INDIRECT(\"'Curves \"&B$10&\"'!$12:$12\"),INDIRECT(\"'Curves \"&B$10&\"'!$14:$163\"),,0,1),,0,1)","v":3.2835259431767572E-2},{"$f":"_xlfn.XLOOKUP($A135,INDIRECT(\"'Curves \"&C$10&\"'!$A$14:$A$163\"),_xlfn.XLOOKUP(C$11&$J$3,INDIRECT(\"'Curves \"&C$10&\"'!$11:$11\")&INDIRECT(\"'Curves \"&C$10&\"'!$12:$12\"),INDIRECT(\"'Curves \"&C$10&\"'!$14:$163\"),,0,1),,0,1)","v":3.7332092517642579E-2},{"$f":"_xlfn.XLOOKUP($A135,INDIRECT(\"'Curves \"&D$10&\"'!$A$14:$A$163\"),_xlfn.XLOOKUP(D$11&$J$3,INDIRECT(\"'Curves \"&D$10&\"'!$11:$11\")&INDIRECT(\"'Curves \"&D$10&\"'!$12:$12\"),INDIRECT(\"'Curves \"&D$10&\"'!$14:$163\"),,0,1),,0,1)","v":2.6559690783314327E-2},null,{"$f":"_xlfn.XLOOKUP($A135,INDIRECT(\"'Curves \"&F$10&\"'!$A$14:$A$163\"),_xlfn.XLOOKUP(F$11&$J$3,INDIRECT(\"'Curves \"&F$10&\"'!$11:$11\")&INDIRECT(\"'Curves \"&F$10&\"'!$12:$12\"),INDIRECT(\"'Curves \"&F$10&\"'!$14:$163\"),,0,1),,0,1)","v":3.3416828888468419E-2},{"$f":"_xlfn.XLOOKUP($A135,INDIRECT(\"'Curves \"&G$10&\"'!$A$14:$A$163\"),_xlfn.XLOOKUP(G$11&$J$3,INDIRECT(\"'Curves \"&G$10&\"'!$11:$11\")&INDIRECT(\"'Curves \"&G$10&\"'!$12:$12\"),INDIRECT(\"'Curves \"&G$10&\"'!$14:$163\"),,0,1),,0,1)","v":3.7916194053637442E-2},{"$f":"_xlfn.XLOOKUP($A135,INDIRECT(\"'Curves \"&H$10&\"'!$A$14:$A$163\"),_xlfn.XLOOKUP(H$11&$J$3,INDIRECT(\"'Curves \"&H$10&\"'!$11:$11\")&INDIRECT(\"'Curves \"&H$10&\"'!$12:$12\"),INDIRECT(\"'Curves \"&H$10&\"'!$14:$163\"),,0,1),,0,1)","v":2.7137726589303579E-2}]
[124,{"$f":"_xlfn.XLOOKUP($A136,INDIRECT(\"'Curves \"&B$10&\"'!$A$14:$A$163\"),_xlfn.XLOOKUP(B$11&$J$3,INDIRECT(\"'Curves \"&B$10&\"'!$11:$11\")&INDIRECT(\"'Curves \"&B$10&\"'!$12:$12\"),INDIRECT(\"'Curves \"&B$10&\"'!$14:$163\"),,0,1),,0,1)","v":3.2836587858768418E-2},{"$f":"_xlfn.XLOOKUP($A136,INDIRECT(\"'Curves \"&C$10&\"'!$A$14:$A$163\"),_xlfn.XLOOKUP(C$11&$J$3,INDIRECT(\"'Curves \"&C$10&\"'!$11:$11\")&INDIRECT(\"'Curves \"&C$10&\"'!$12:$12\"),INDIRECT(\"'Curves \"&C$10&\"'!$14:$163\"),,0,1),,0,1)","v":3.7309222702290423E-2},{"$f":"_xlfn.XLOOKUP($A136,INDIRECT(\"'Curves \"&D$10&\"'!$A$14:$A$163\"),_xlfn.XLOOKUP(D$11&$J$3,INDIRECT(\"'Curves \"&D$10&\"'!$11:$11\")&INDIRECT(\"'Curves \"&D$10&\"'!$12:$12\"),INDIRECT(\"'Curves \"&D$10&\"'!$14:$163\"),,0,1),,0,1)","v":2.6599435228107149E-2},null,{"$f":"_xlfn.XLOOKUP($A136,INDIRECT(\"'Curves \"&F$10&\"'!$A$14:$A$163\"),_xlfn.XLOOKUP(F$11&$J$3,INDIRECT(\"'Curves \"&F$10&\"'!$11:$11\")&INDIRECT(\"'Curves \"&F$10&\"'!$12:$12\"),INDIRECT(\"'Curves \"&F$10&\"'!$14:$163\"),,0,1),,0,1)","v":3.3413466765772837E-2},{"$f":"_xlfn.XLOOKUP($A136,INDIRECT(\"'Curves \"&G$10&\"'!$A$14:$A$163\"),_xlfn.XLOOKUP(G$11&$J$3,INDIRECT(\"'Curves \"&G$10&\"'!$11:$11\")&INDIRECT(\"'Curves \"&G$10&\"'!$12:$12\"),INDIRECT(\"'Curves \"&G$10&\"'!$14:$163\"),,0,1),,0,1)","v":3.7888599747655016E-2},{"$f":"_xlfn.XLOOKUP($A136,INDIRECT(\"'Curves \"&H$10&\"'!$A$14:$A$163\"),_xlfn.XLOOKUP(H$11&$J$3,INDIRECT(\"'Curves \"&H$10&\"'!$11:$11\")&INDIRECT(\"'Curves \"&H$10&\"'!$12:$12\"),INDIRECT(\"'Curves \"&H$10&\"'!$14:$163\"),,0,1),,0,1)","v":2.7172830445789664E-2}]
[125,{"$f":"_xlfn.XLOOKUP($A137,INDIRECT(\"'Curves \"&B$10&\"'!$A$14:$A$163\"),_xlfn.XLOOKUP(B$11&$J$3,INDIRECT(\"'Curves \"&B$10&\"'!$11:$11\")&INDIRECT(\"'Curves \"&B$10&\"'!$12:$12\"),INDIRECT(\"'Curves \"&B$10&\"'!$14:$163\"),,0,1),,0,1)","v":3.2837895034762754E-2},{"$f":"_xlfn.XLOOKUP($A137,INDIRECT(\"'Curves \"&C$10&\"'!$A$14:$A$163\"),_xlfn.XLOOKUP(C$11&$J$3,INDIRECT(\"'Curves \"&C$10&\"'!$11:$11\")&INDIRECT(\"'Curves \"&C$10&\"'!$12:$12\"),INDIRECT(\"'Curves \"&C$10&\"'!$14:$163\"),,0,1),,0,1)","v":3.7286719231781396E-2},{"$f":"_xlfn.XLOOKUP($A137,INDIRECT(\"'Curves \"&D$10&\"'!$A$14:$A$163\"),_xlfn.XLOOKUP(D$11&$J$3,INDIRECT(\"'Curves \"&D$10&\"'!$11:$11\")&INDIRECT(\"'Curves \"&D$10&\"'!$12:$12\"),INDIRECT(\"'Curves \"&D$10&\"'!$14:$163\"),,0,1),,0,1)","v":2.6638545467039476E-2},null,{"$f":"_xlfn.XLOOKUP($A137,INDIRECT(\"'Curves \"&F$10&\"'!$A$14:$A$163\"),_xlfn.XLOOKUP(F$11&$J$3,INDIRECT(\"'Curves \"&F$10&\"'!$11:$11\")&INDIRECT(\"'Curves \"&F$10&\"'!$12:$12\"),INDIRECT(\"'Curves \"&F$10&\"'!$14:$163\"),,0,1),,0,1)","v":3.341015844014894E-2},{"$f":"_xlfn.XLOOKUP($A137,INDIRECT(\"'Curves \"&G$10&\"'!$A$14:$A$163\"),_xlfn.XLOOKUP(G$11&$J$3,INDIRECT(\"'Curves \"&G$10&\"'!$11:$11\")&INDIRECT(\"'Curves \"&G$10&\"'!$12:$12\"),INDIRECT(\"'Curves \"&G$10&\"'!$14:$163\"),,0,1),,0,1)","v":3.7861447592507869E-2},{"$f":"_xlfn.XLOOKUP($A137,INDIRECT(\"'Curves \"&H$10&\"'!$A$14:$A$163\"),_xlfn.XLOOKUP(H$11&$J$3,INDIRECT(\"'Curves \"&H$10&\"'!$11:$11\")&INDIRECT(\"'Curves \"&H$10&\"'!$12:$12\"),INDIRECT(\"'Curves \"&H$10&\"'!$14:$163\"),,0,1),,0,1)","v":2.7207374005335794E-2}]
[126,{"$f":"_xlfn.XLOOKUP($A138,INDIRECT(\"'Curves \"&B$10&\"'!$A$14:$A$163\"),_xlfn.XLOOKUP(B$11&$J$3,INDIRECT(\"'Curves \"&B$10&\"'!$11:$11\")&INDIRECT(\"'Curves \"&B$10&\"'!$12:$12\"),INDIRECT(\"'Curves \"&B$10&\"'!$14:$163\"),,0,1),,0,1)","v":3.2839181465464495E-2},{"$f":"_xlfn.XLOOKUP($A138,INDIRECT(\"'Curves \"&C$10&\"'!$A$14:$A$163\"),_xlfn.XLOOKUP(C$11&$J$3,INDIRECT(\"'Curves \"&C$10&\"'!$11:$11\")&INDIRECT(\"'Curves \"&C$10&\"'!$12:$12\"),INDIRECT(\"'Curves \"&C$10&\"'!$14:$163\"),,0,1),,0,1)","v":3.7264573378638977E-2},{"$f":"_xlfn.XLOOKUP($A138,INDIRECT(\"'Curves \"&D$10&\"'!$A$14:$A$163\"),_xlfn.XLOOKUP(D$11&$J$3,INDIRECT(\"'Curves \"&D$10&\"'!$11:$11\")&INDIRECT(\"'Curves \"&D$10&\"'!$12:$12\"),INDIRECT(\"'Curves \"&D$10&\"'!$14:$163\"),,0,1),,0,1)","v":2.6677036543847121E-2},null,{"$f":"_xlfn.XLOOKUP($A138,INDIRECT(\"'Curves \"&F$10&\"'!$A$14:$A$163\"),_xlfn.XLOOKUP(F$11&$J$3,INDIRECT(\"'Curves \"&F$10&\"'!$11:$11\")&INDIRECT(\"'Curves \"&F$10&\"'!$12:$12\"),INDIRECT(\"'Curves \"&F$10&\"'!$14:$163\"),,0,1),,0,1)","v":3.3406902631244018E-2},{"$f":"_xlfn.XLOOKUP($A138,INDIRECT(\"'Curves \"&G$10&\"'!$A$14:$A$163\"),_xlfn.XLOOKUP(G$11&$J$3,INDIRECT(\"'Curves \"&G$10&\"'!$11:$11\")&INDIRECT(\"'Curves \"&G$10&\"'!$12:$12\"),INDIRECT(\"'Curves \"&G$10&\"'!$14:$163\"),,0,1),,0,1)","v":3.7834727051531791E-2},{"$f":"_xlfn.XLOOKUP($A138,INDIRECT(\"'Curves \"&H$10&\"'!$A$14:$A$163\"),_xlfn.XLOOKUP(H$11&$J$3,INDIRECT(\"'Curves \"&H$10&\"'!$11:$11\")&INDIRECT(\"'Curves \"&H$10&\"'!$12:$12\"),INDIRECT(\"'Curves \"&H$10&\"'!$14:$163\"),,0,1),,0,1)","v":2.7241370560725509E-2}]
[127,{"$f":"_xlfn.XLOOKUP($A139,INDIRECT(\"'Curves \"&B$10&\"'!$A$14:$A$163\"),_xlfn.XLOOKUP(B$11&$J$3,INDIRECT(\"'Curves \"&B$10&\"'!$11:$11\")&INDIRECT(\"'Curves \"&B$10&\"'!$12:$12\"),INDIRECT(\"'Curves \"&B$10&\"'!$14:$163\"),,0,1),,0,1)","v":3.2840447640683834E-2},{"$f":"_xlfn.XLOOKUP($A139,INDIRECT(\"'Curves \"&C$10&\"'!$A$14:$A$163\"),_xlfn.XLOOKUP(C$11&$J$3,INDIRECT(\"'Curves \"&C$10&\"'!$11:$11\")&INDIRECT(\"'Curves \"&C$10&\"'!$12:$12\"),INDIRECT(\"'Curves \"&C$10&\"'!$14:$163\"),,0,1),,0,1)","v":3.7242776689944801E-2},{"$f":"_xlfn.XLOOKUP($A139,INDIRECT(\"'Curves \"&D$10&\"'!$A$14:$A$163\"),_xlfn.XLOOKUP(D$11&$J$3,INDIRECT(\"'Curves \"&D$10&\"'!$11:$11\")&INDIRECT(\"'Curves \"&D$10&\"'!$12:$12\"),INDIRECT(\"'Curves \"&D$10&\"'!$14:$163\"),,0,1),,0,1)","v":2.671492303171985E-2},null,{"$f":"_xlfn.XLOOKUP($A139,INDIRECT(\"'Curves \"&F$10&\"'!$A$14:$A$163\"),_xlfn.XLOOKUP(F$11&$J$3,INDIRECT(\"'Curves \"&F$10&\"'!$11:$11\")&INDIRECT(\"'Curves \"&F$10&\"'!$12:$12\"),INDIRECT(\"'Curves \"&F$10&\"'!$14:$163\"),,0,1),,0,1)","v":3.3403698098958268E-2},{"$f":"_xlfn.XLOOKUP($A139,INDIRECT(\"'Curves \"&G$10&\"'!$A$14:$A$163\"),_xlfn.XLOOKUP(G$11&$J$3,INDIRECT(\"'Curves \"&G$10&\"'!$11:$11\")&INDIRECT(\"'Curves \"&G$10&\"'!$12:$12\"),INDIRECT(\"'Curves \"&G$10&\"'!$14:$163\"),,0,1),,0,1)","v":3.7808427919664656E-2},{"$f":"_xlfn.XLOOKUP($A139,INDIRECT(\"'Curves \"&H$10&\"'!$A$14:$A$163\"),_xlfn.XLOOKUP(H$11&$J$3,INDIRECT(\"'Curves \"&H$10&\"'!$11:$11\")&INDIRECT(\"'Curves \"&H$10&\"'!$12:$12\"),INDIRECT(\"'Curves \"&H$10&\"'!$14:$163\"),,0,1),,0,1)","v":2.7274832988999131E-2}]
[128,{"$f":"_xlfn.XLOOKUP($A140,INDIRECT(\"'Curves \"&B$10&\"'!$A$14:$A$163\"),_xlfn.XLOOKUP(B$11&$J$3,INDIRECT(\"'Curves \"&B$10&\"'!$11:$11\")&INDIRECT(\"'Curves \"&B$10&\"'!$12:$12\"),INDIRECT(\"'Curves \"&B$10&\"'!$14:$163\"),,0,1),,0,1)","v":3.28416940349463E-2},{"$f":"_xlfn.XLOOKUP($A140,INDIRECT(\"'Curves \"&C$10&\"'!$A$14:$A$163\"),_xlfn.XLOOKUP(C$11&$J$3,INDIRECT(\"'Curves \"&C$10&\"'!$11:$11\")&INDIRECT(\"'Curves \"&C$10&\"'!$12:$12\"),INDIRECT(\"'Curves \"&C$10&\"'!$14:$163\"),,0,1),,0,1)","v":3.7221320976668748E-2},{"$f":"_xlfn.XLOOKUP($A140,INDIRECT(\"'Curves \"&D$10&\"'!$A$14:$A$163\"),_xlfn.XLOOKUP(D$11&$J$3,INDIRECT(\"'Curves \"&D$10&\"'!$11:$11\")&INDIRECT(\"'Curves \"&D$10&\"'!$12:$12\"),INDIRECT(\"'Curves \"&D$10&\"'!$14:$163\"),,0,1),,0,1)","v":2.6752219051414672E-2},null,{"$f":"_xlfn.XLOOKUP($A140,INDIRECT(\"'Curves \"&F$10&\"'!$A$14:$A$163\"),_xlfn.XLOOKUP(F$11&$J$3,INDIRECT(\"'Curves \"&F$10&\"'!$11:$11\")&INDIRECT(\"'Curves \"&F$10&\"'!$12:$12\"),INDIRECT(\"'Curves \"&F$10&\"'!$14:$163\"),,0,1),,0,1)","v":3.3400543641881164E-2},{"$f":"_xlfn.XLOOKUP($A140,INDIRECT(\"'Curves \"&G$10&\"'!$A$14:$A$163\"),_xlfn.XLOOKUP(G$11&$J$3,INDIRECT(\"'Curves \"&G$10&\"'!$11:$11\")&INDIRECT(\"'Curves \"&G$10&\"'!$12:$12\"),INDIRECT(\"'Curves \"&G$10&\"'!$14:$163\"),,0,1),,0,1)","v":3.7782540310550949E-2},{"$f":"_xlfn.XLOOKUP($A140,INDIRECT(\"'Curves \"&H$10&\"'!$A$14:$A$163\"),_xlfn.XLOOKUP(H$11&$J$3,INDIRECT(\"'Curves \"&H$10&\"'!$11:$11\")&INDIRECT(\"'Curves \"&H$10&\"'!$12:$12\"),INDIRECT(\"'Curves \"&H$10&\"'!$14:$163\"),,0,1),,0,1)","v":2.7307773767447419E-2}]
[129,{"$f":"_xlfn.XLOOKUP($A141,INDIRECT(\"'Curves \"&B$10&\"'!$A$14:$A$163\"),_xlfn.XLOOKUP(B$11&$J$3,INDIRECT(\"'Curves \"&B$10&\"'!$11:$11\")&INDIRECT(\"'Curves \"&B$10&\"'!$12:$12\"),INDIRECT(\"'Curves \"&B$10&\"'!$14:$163\"),,0,1),,0,1)","v":3.2842921108082512E-2},{"$f":"_xlfn.XLOOKUP($A141,INDIRECT(\"'Curves \"&C$10&\"'!$A$14:$A$163\"),_xlfn.XLOOKUP(C$11&$J$3,INDIRECT(\"'Curves \"&C$10&\"'!$11:$11\")&INDIRECT(\"'Curves \"&C$10&\"'!$12:$12\"),INDIRECT(\"'Curves \"&C$10&\"'!$14:$163\"),,0,1),,0,1)","v":3.7200198303491971E-2},{"$f":"_xlfn.XLOOKUP($A141,INDIRECT(\"'Curves \"&D$10&\"'!$A$14:$A$163\"),_xlfn.XLOOKUP(D$11&$J$3,INDIRECT(\"'Curves \"&D$10&\"'!$11:$11\")&INDIRECT(\"'Curves \"&D$10&\"'!$12:$12\"),INDIRECT(\"'Curves \"&D$10&\"'!$14:$163\"),,0,1),,0,1)","v":2.6788938288553554E-2},null,{"$f":"_xlfn.XLOOKUP($A141,INDIRECT(\"'Curves \"&F$10&\"'!$A$14:$A$163\"),_xlfn.XLOOKUP(F$11&$J$3,INDIRECT(\"'Curves \"&F$10&\"'!$11:$11\")&INDIRECT(\"'Curves \"&F$10&\"'!$12:$12\"),INDIRECT(\"'Curves \"&F$10&\"'!$14:$163\"),,0,1),,0,1)","v":3.3397438095797982E-2},{"$f":"_xlfn.XLOOKUP($A141,INDIRECT(\"'Curves \"&G$10&\"'!$A$14:$A$163\"),_xlfn.XLOOKUP(G$11&$J$3,INDIRECT(\"'Curves \"&G$10&\"'!$11:$11\")&INDIRECT(\"'Curves \"&G$10&\"'!$12:$12\"),INDIRECT(\"'Curves \"&G$10&\"'!$14:$163\"),,0,1),,0,1)","v":3.7757054644245391E-2},{"$f":"_xlfn.XLOOKUP($A141,INDIRECT(\"'Curves \"&H$10&\"'!$A$14:$A$163\"),_xlfn.XLOOKUP(H$11&$J$3,INDIRECT(\"'Curves \"&H$10&\"'!$11:$11\")&INDIRECT(\"'Curves \"&H$10&\"'!$12:$12\"),INDIRECT(\"'Curves \"&H$10&\"'!$14:$163\"),,0,1),,0,1)","v":2.7340204988884453E-2}]
[130,{"$f":"_xlfn.XLOOKUP($A142,INDIRECT(\"'Curves \"&B$10&\"'!$A$14:$A$163\"),_xlfn.XLOOKUP(B$11&$J$3,INDIRECT(\"'Curves \"&B$10&\"'!$11:$11\")&INDIRECT(\"'Curves \"&B$10&\"'!$12:$12\"),INDIRECT(\"'Curves \"&B$10&\"'!$14:$163\"),,0,1),,0,1)","v":3.2844129305791725E-2},{"$f":"_xlfn.XLOOKUP($A142,INDIRECT(\"'Curves \"&C$10&\"'!$A$14:$A$163\"),_xlfn.XLOOKUP(C$11&$J$3,INDIRECT(\"'Curves \"&C$10&\"'!$11:$11\")&INDIRECT(\"'Curves \"&C$10&\"'!$12:$12\"),INDIRECT(\"'Curves \"&C$10&\"'!$14:$163\"),,0,1),,0,1)","v":3.7179400979091115E-2},{"$f":"_xlfn.XLOOKUP($A142,INDIRECT(\"'Curves \"&D$10&\"'!$A$14:$A$163\"),_xlfn.XLOOKUP(D$11&$J$3,INDIRECT(\"'Curves \"&D$10&\"'!$11:$11\")&INDIRECT(\"'Curves \"&D$10&\"'!$12:$12\"),INDIRECT(\"'Curves \"&D$10&\"'!$14:$163\"),,0,1),,0,1)","v":2.6825094010143546E-2},null,{"$f":"_xlfn.XLOOKUP($A142,INDIRECT(\"'Curves \"&F$10&\"'!$A$14:$A$163\"),_xlfn.XLOOKUP(F$11&$J$3,INDIRECT(\"'Curves \"&F$10&\"'!$11:$11\")&INDIRECT(\"'Curves \"&F$10&\"'!$12:$12\"),INDIRECT(\"'Curves \"&F$10&\"'!$14:$163\"),,0,1),,0,1)","v":3.3394380332266715E-2},{"$f":"_xlfn.XLOOKUP($A142,INDIRECT(\"'Curves \"&G$10&\"'!$A$14:$A$163\"),_xlfn.XLOOKUP(G$11&$J$3,INDIRECT(\"'Curves \"&G$10&\"'!$11:$11\")&INDIRECT(\"'Curves \"&G$10&\"'!$12:$12\"),INDIRECT(\"'Curves \"&G$10&\"'!$14:$163\"),,0,1),,0,1)","v":3.773196163547099E-2},{"$f":"_xlfn.XLOOKUP($A142,INDIRECT(\"'Curves \"&H$10&\"'!$A$14:$A$163\"),_xlfn.XLOOKUP(H$11&$J$3,INDIRECT(\"'Curves \"&H$10&\"'!$11:$11\")&INDIRECT(\"'Curves \"&H$10&\"'!$12:$12\"),INDIRECT(\"'Curves \"&H$10&\"'!$14:$163\"),,0,1),,0,1)","v":2.7372138376236865E-2}]
[131,{"$f":"_xlfn.XLOOKUP($A143,INDIRECT(\"'Curves \"&B$10&\"'!$A$14:$A$163\"),_xlfn.XLOOKUP(B$11&$J$3,INDIRECT(\"'Curves \"&B$10&\"'!$11:$11\")&INDIRECT(\"'Curves \"&B$10&\"'!$12:$12\"),INDIRECT(\"'Curves \"&B$10&\"'!$14:$163\"),,0,1),,0,1)","v":3.2845319060179401E-2},{"$f":"_xlfn.XLOOKUP($A143,INDIRECT(\"'Curves \"&C$10&\"'!$A$14:$A$163\"),_xlfn.XLOOKUP(C$11&$J$3,INDIRECT(\"'Curves \"&C$10&\"'!$11:$11\")&INDIRECT(\"'Curves \"&C$10&\"'!$12:$12\"),INDIRECT(\"'Curves \"&C$10&\"'!$14:$163\"),,0,1),,0,1)","v":3.7158921546864621E-2},{"$f":"_xlfn.XLOOKUP($A143,INDIRECT(\"'Curves \"&D$10&\"'!$A$14:$A$163\"),_xlfn.XLOOKUP(D$11&$J$3,INDIRECT(\"'Curves \"&D$10&\"'!$11:$11\")&INDIRECT(\"'Curves \"&D$10&\"'!$12:$12\"),INDIRECT(\"'Curves \"&D$10&\"'!$14:$163\"),,0,1),,0,1)","v":2.6860699080361039E-2},null,{"$f":"_xlfn.XLOOKUP($A143,INDIRECT(\"'Curves \"&F$10&\"'!$A$14:$A$163\"),_xlfn.XLOOKUP(F$11&$J$3,INDIRECT(\"'Curves \"&F$10&\"'!$11:$11\")&INDIRECT(\"'Curves \"&F$10&\"'!$12:$12\"),INDIRECT(\"'Curves \"&F$10&\"'!$14:$163\"),,0,1),,0,1)","v":3.3391369257256942E-2},{"$f":"_xlfn.XLOOKUP($A143,INDIRECT(\"'Curves \"&G$10&\"'!$A$14:$A$163\"),_xlfn.XLOOKUP(G$11&$J$3,INDIRECT(\"'Curves \"&G$10&\"'!$11:$11\")&INDIRECT(\"'Curves \"&G$10&\"'!$12:$12\"),INDIRECT(\"'Curves \"&G$10&\"'!$14:$163\"),,0,1),,0,1)","v":3.7707252282416448E-2},{"$f":"_xlfn.XLOOKUP($A143,INDIRECT(\"'Curves \"&H$10&\"'!$A$14:$A$163\"),_xlfn.XLOOKUP(H$11&$J$3,INDIRECT(\"'Curves \"&H$10&\"'!$11:$11\")&INDIRECT(\"'Curves \"&H$10&\"'!$12:$12\"),INDIRECT(\"'Curves \"&H$10&\"'!$14:$163\"),,0,1),,0,1)","v":2.7403585296483124E-2}]
[132,{"$f":"_xlfn.XLOOKUP($A144,INDIRECT(\"'Curves \"&B$10&\"'!$A$14:$A$163\"),_xlfn.XLOOKUP(B$11&$J$3,INDIRECT(\"'Curves \"&B$10&\"'!$11:$11\")&INDIRECT(\"'Curves \"&B$10&\"'!$12:$12\"),INDIRECT(\"'Curves \"&B$10&\"'!$14:$163\"),,0,1),,0,1)","v":3.2846490790271243E-2},{"$f":"_xlfn.XLOOKUP($A144,INDIRECT(\"'Curves \"&C$10&\"'!$A$14:$A$163\"),_xlfn.XLOOKUP(C$11&$J$3,INDIRECT(\"'Curves \"&C$10&\"'!$11:$11\")&INDIRECT(\"'Curves \"&C$10&\"'!$12:$12\"),INDIRECT(\"'Curves \"&C$10&\"'!$14:$163\"),,0,1),,0,1)","v":3.713875277607448E-2},{"$f":"_xlfn.XLOOKUP($A144,INDIRECT(\"'Curves \"&D$10&\"'!$A$14:$A$163\"),_xlfn.XLOOKUP(D$11&$J$3,INDIRECT(\"'Curves \"&D$10&\"'!$11:$11\")&INDIRECT(\"'Curves \"&D$10&\"'!$12:$12\"),INDIRECT(\"'Curves \"&D$10&\"'!$14:$163\"),,0,1),,0,1)","v":2.6895765975636143E-2},null,{"$f":"_xlfn.XLOOKUP($A144,INDIRECT(\"'Curves \"&F$10&\"'!$A$14:$A$163\"),_xlfn.XLOOKUP(F$11&$J$3,INDIRECT(\"'Curves \"&F$10&\"'!$11:$11\")&INDIRECT(\"'Curves \"&F$10&\"'!$12:$12\"),INDIRECT(\"'Curves \"&F$10&\"'!$14:$163\"),,0,1),,0,1)","v":3.3388403809852418E-2},{"$f":"_xlfn.XLOOKUP($A144,INDIRECT(\"'Curves \"&G$10&\"'!$A$14:$A$163\"),_xlfn.XLOOKUP(G$11&$J$3,INDIRECT(\"'Curves \"&G$10&\"'!$11:$11\")&INDIRECT(\"'Curves \"&G$10&\"'!$12:$12\"),INDIRECT(\"'Curves \"&G$10&\"'!$14:$163\"),,0,1),,0,1)","v":3.7682917856028952E-2},{"$f":"_xlfn.XLOOKUP($A144,INDIRECT(\"'Curves \"&H$10&\"'!$A$14:$A$163\"),_xlfn.XLOOKUP(H$11&$J$3,INDIRECT(\"'Curves \"&H$10&\"'!$11:$11\")&INDIRECT(\"'Curves \"&H$10&\"'!$12:$12\"),INDIRECT(\"'Curves \"&H$10&\"'!$14:$163\"),,0,1),,0,1)","v":2.7434556773975549E-2}]
[133,{"$f":"_xlfn.XLOOKUP($A145,INDIRECT(\"'Curves \"&B$10&\"'!$A$14:$A$163\"),_xlfn.XLOOKUP(B$11&$J$3,INDIRECT(\"'Curves \"&B$10&\"'!$11:$11\")&INDIRECT(\"'Curves \"&B$10&\"'!$12:$12\"),INDIRECT(\"'Curves \"&B$10&\"'!$14:$163\"),,0,1),,0,1)","v":3.2847644902502138E-2},{"$f":"_xlfn.XLOOKUP($A145,INDIRECT(\"'Curves \"&C$10&\"'!$A$14:$A$163\"),_xlfn.XLOOKUP(C$11&$J$3,INDIRECT(\"'Curves \"&C$10&\"'!$11:$11\")&INDIRECT(\"'Curves \"&C$10&\"'!$12:$12\"),INDIRECT(\"'Curves \"&C$10&\"'!$14:$163\"),,0,1),,0,1)","v":3.7118887653383226E-2},{"$f":"_xlfn.XLOOKUP($A145,INDIRECT(\"'Curves \"&D$10&\"'!$A$14:$A$163\"),_xlfn.XLOOKUP(D$11&$J$3,INDIRECT(\"'Curves \"&D$10&\"'!$11:$11\")&INDIRECT(\"'Curves \"&D$10&\"'!$12:$12\"),INDIRECT(\"'Curves \"&D$10&\"'!$14:$163\"),,0,1),,0,1)","v":2.69303067990736E-2},null,{"$f":"_xlfn.XLOOKUP($A145,INDIRECT(\"'Curves \"&F$10&\"'!$A$14:$A$163\"),_xlfn.XLOOKUP(F$11&$J$3,INDIRECT(\"'Curves \"&F$10&\"'!$11:$11\")&INDIRECT(\"'Curves \"&F$10&\"'!$12:$12\"),INDIRECT(\"'Curves \"&F$10&\"'!$14:$163\"),,0,1),,0,1)","v":3.3385482961010293E-2},{"$f":"_xlfn.XLOOKUP($A145,INDIRECT(\"'Curves \"&G$10&\"'!$A$14:$A$163\"),_xlfn.XLOOKUP(G$11&$J$3,INDIRECT(\"'Curves \"&G$10&\"'!$11:$11\")&INDIRECT(\"'Curves \"&G$10&\"'!$12:$12\"),INDIRECT(\"'Curves \"&G$10&\"'!$14:$163\"),,0,1),,0,1)","v":3.7658949889794124E-2},{"$f":"_xlfn.XLOOKUP($A145,INDIRECT(\"'Curves \"&H$10&\"'!$A$14:$A$163\"),_xlfn.XLOOKUP(H$11&$J$3,INDIRECT(\"'Curves \"&H$10&\"'!$11:$11\")&INDIRECT(\"'Curves \"&H$10&\"'!$12:$12\"),INDIRECT(\"'Curves \"&H$10&\"'!$14:$163\"),,0,1),,0,1)","v":2.7465063503179898E-2}]
[134,{"$f":"_xlfn.XLOOKUP($A146,INDIRECT(\"'Curves \"&B$10&\"'!$A$14:$A$163\"),_xlfn.XLOOKUP(B$11&$J$3,INDIRECT(\"'Curves \"&B$10&\"'!$11:$11\")&INDIRECT(\"'Curves \"&B$10&\"'!$12:$12\"),INDIRECT(\"'Curves \"&B$10&\"'!$14:$163\"),,0,1),,0,1)","v":3.2848781791186221E-2},{"$f":"_xlfn.XLOOKUP($A146,INDIRECT(\"'Curves \"&C$10&\"'!$A$14:$A$163\"),_xlfn.XLOOKUP(C$11&$J$3,INDIRECT(\"'Curves \"&C$10&\"'!$11:$11\")&INDIRECT(\"'Curves \"&C$10&\"'!$12:$12\"),INDIRECT(\"'Curves \"&C$10&\"'!$14:$163\"),,0,1),,0,1)","v":3.7099319374767958E-2},{"$f":"_xlfn.XLOOKUP($A146,INDIRECT(\"'Curves \"&D$10&\"'!$A$14:$A$163\"),_xlfn.XLOOKUP(D$11&$J$3,INDIRECT(\"'Curves \"&D$10&\"'!$11:$11\")&INDIRECT(\"'Curves \"&D$10&\"'!$12:$12\"),INDIRECT(\"'Curves \"&D$10&\"'!$14:$163\"),,0,1),,0,1)","v":2.6964333294240195E-2},null,{"$f":"_xlfn.XLOOKUP($A146,INDIRECT(\"'Curves \"&F$10&\"'!$A$14:$A$163\"),_xlfn.XLOOKUP(F$11&$J$3,INDIRECT(\"'Curves \"&F$10&\"'!$11:$11\")&INDIRECT(\"'Curves \"&F$10&\"'!$12:$12\"),INDIRECT(\"'Curves \"&F$10&\"'!$14:$163\"),,0,1),,0,1)","v":3.3382605712375391E-2},{"$f":"_xlfn.XLOOKUP($A146,INDIRECT(\"'Curves \"&G$10&\"'!$A$14:$A$163\"),_xlfn.XLOOKUP(G$11&$J$3,INDIRECT(\"'Curves \"&G$10&\"'!$11:$11\")&INDIRECT(\"'Curves \"&G$10&\"'!$12:$12\"),INDIRECT(\"'Curves \"&G$10&\"'!$14:$163\"),,0,1),,0,1)","v":3.7635340169962284E-2},{"$f":"_xlfn.XLOOKUP($A146,INDIRECT(\"'Curves \"&H$10&\"'!$A$14:$A$163\"),_xlfn.XLOOKUP(H$11&$J$3,INDIRECT(\"'Curves \"&H$10&\"'!$11:$11\")&INDIRECT(\"'Curves \"&H$10&\"'!$12:$12\"),INDIRECT(\"'Curves \"&H$10&\"'!$14:$163\"),,0,1),,0,1)","v":2.7495115860851405E-2}]
[135,{"$f":"_xlfn.XLOOKUP($A147,INDIRECT(\"'Curves \"&B$10&\"'!$A$14:$A$163\"),_xlfn.XLOOKUP(B$11&$J$3,INDIRECT(\"'Curves \"&B$10&\"'!$11:$11\")&INDIRECT(\"'Curves \"&B$10&\"'!$12:$12\"),INDIRECT(\"'Curves \"&B$10&\"'!$14:$163\"),,0,1),,0,1)","v":3.2849901838963635E-2},{"$f":"_xlfn.XLOOKUP($A147,INDIRECT(\"'Curves \"&C$10&\"'!$A$14:$A$163\"),_xlfn.XLOOKUP(C$11&$J$3,INDIRECT(\"'Curves \"&C$10&\"'!$11:$11\")&INDIRECT(\"'Curves \"&C$10&\"'!$12:$12\"),INDIRECT(\"'Curves \"&C$10&\"'!$14:$163\"),,0,1),,0,1)","v":3.7080041337788971E-2},{"$f":"_xlfn.XLOOKUP($A147,INDIRECT(\"'Curves \"&D$10&\"'!$A$14:$A$163\"),_xlfn.XLOOKUP(D$11&$J$3,INDIRECT(\"'Curves \"&D$10&\"'!$11:$11\")&INDIRECT(\"'Curves \"&D$10&\"'!$12:$12\"),INDIRECT(\"'Curves \"&D$10&\"'!$14:$163\"),,0,1),,0,1)","v":2.6997856858353764E-2},null,{"$f":"_xlfn.XLOOKUP($A147,INDIRECT(\"'Curves \"&F$10&\"'!$A$14:$A$163\"),_xlfn.XLOOKUP(F$11&$J$3,INDIRECT(\"'Curves \"&F$10&\"'!$11:$11\")&INDIRECT(\"'Curves \"&F$10&\"'!$12:$12\"),INDIRECT(\"'Curves \"&F$10&\"'!$14:$163\"),,0,1),,0,1)","v":3.3379771095147337E-2},{"$f":"_xlfn.XLOOKUP($A147,INDIRECT(\"'Curves \"&G$10&\"'!$A$14:$A$163\"),_xlfn.XLOOKUP(G$11&$J$3,INDIRECT(\"'Curves \"&G$10&\"'!$11:$11\")&INDIRECT(\"'Curves \"&G$10&\"'!$12:$12\"),INDIRECT(\"'Curves \"&G$10&\"'!$14:$163\"),,0,1),,0,1)","v":3.7612080726211472E-2},{"$f":"_xlfn.XLOOKUP($A147,INDIRECT(\"'Curves \"&H$10&\"'!$A$14:$A$163\"),_xlfn.XLOOKUP(H$11&$J$3,INDIRECT(\"'Curves \"&H$10&\"'!$11:$11\")&INDIRECT(\"'Curves \"&H$10&\"'!$12:$12\"),INDIRECT(\"'Curves \"&H$10&\"'!$14:$163\"),,0,1),,0,1)","v":2.7524723917688121E-2}]
[136,{"$f":"_xlfn.XLOOKUP($A148,INDIRECT(\"'Curves \"&B$10&\"'!$A$14:$A$163\"),_xlfn.XLOOKUP(B$11&$J$3,INDIRECT(\"'Curves \"&B$10&\"'!$11:$11\")&INDIRECT(\"'Curves \"&B$10&\"'!$12:$12\"),INDIRECT(\"'Curves \"&B$10&\"'!$14:$163\"),,0,1),,0,1)","v":3.2851005417229517E-2},{"$f":"_xlfn.XLOOKUP($A148,INDIRECT(\"'Curves \"&C$10&\"'!$A$14:$A$163\"),_xlfn.XLOOKUP(C$11&$J$3,INDIRECT(\"'Curves \"&C$10&\"'!$11:$11\")&INDIRECT(\"'Curves \"&C$10&\"'!$12:$12\"),INDIRECT(\"'Curves \"&C$10&\"'!$14:$163\"),,0,1),,0,1)","v":3.7061047134197E-2},{"$f":"_xlfn.XLOOKUP($A148,INDIRECT(\"'Curves \"&D$10&\"'!$A$14:$A$163\"),_xlfn.XLOOKUP(D$11&$J$3,INDIRECT(\"'Curves \"&D$10&\"'!$11:$11\")&INDIRECT(\"'Curves \"&D$10&\"'!$12:$12\"),INDIRECT(\"'Curves \"&D$10&\"'!$14:$163\"),,0,1),,0,1)","v":2.7030888554902432E-2},null,{"$f":"_xlfn.XLOOKUP($A148,INDIRECT(\"'Curves \"&F$10&\"'!$A$14:$A$163\"),_xlfn.XLOOKUP(F$11&$J$3,INDIRECT(\"'Curves \"&F$10&\"'!$11:$11\")&INDIRECT(\"'Curves \"&F$10&\"'!$12:$12\"),INDIRECT(\"'Curves \"&F$10&\"'!$14:$163\"),,0,1),,0,1)","v":3.3376978168997207E-2},{"$f":"_xlfn.XLOOKUP($A148,INDIRECT(\"'Curves \"&G$10&\"'!$A$14:$A$163\"),_xlfn.XLOOKUP(G$11&$J$3,INDIRECT(\"'Curves \"&G$10&\"'!$11:$11\")&INDIRECT(\"'Curves \"&G$10&\"'!$12:$12\"),INDIRECT(\"'Curves \"&G$10&\"'!$14:$163\"),,0,1),,0,1)","v":3.7589163822713934E-2},{"$f":"_xlfn.XLOOKUP($A148,INDIRECT(\"'Curves \"&H$10&\"'!$A$14:$A$163\"),_xlfn.XLOOKUP(H$11&$J$3,INDIRECT(\"'Curves \"&H$10&\"'!$11:$11\")&INDIRECT(\"'Curves \"&H$10&\"'!$12:$12\"),INDIRECT(\"'Curves \"&H$10&\"'!$14:$163\"),,0,1),,0,1)","v":2.7553897449477116E-2}]
[137,{"$f":"_xlfn.XLOOKUP($A149,INDIRECT(\"'Curves \"&B$10&\"'!$A$14:$A$163\"),_xlfn.XLOOKUP(B$11&$J$3,INDIRECT(\"'Curves \"&B$10&\"'!$11:$11\")&INDIRECT(\"'Curves \"&B$10&\"'!$12:$12\"),INDIRECT(\"'Curves \"&B$10&\"'!$14:$163\"),,0,1),,0,1)","v":3.2852092886543227E-2},{"$f":"_xlfn.XLOOKUP($A149,INDIRECT(\"'Curves \"&C$10&\"'!$A$14:$A$163\"),_xlfn.XLOOKUP(C$11&$J$3,INDIRECT(\"'Curves \"&C$10&\"'!$11:$11\")&INDIRECT(\"'Curves \"&C$10&\"'!$12:$12\"),INDIRECT(\"'Curves \"&C$10&\"'!$14:$163\"),,0,1),,0,1)","v":3.7042330542862212E-2},{"$f":"_xlfn.XLOOKUP($A149,INDIRECT(\"'Curves \"&D$10&\"'!$A$14:$A$163\"),_xlfn.XLOOKUP(D$11&$J$3,INDIRECT(\"'Curves \"&D$10&\"'!$11:$11\")&INDIRECT(\"'Curves \"&D$10&\"'!$12:$12\"),INDIRECT(\"'Curves \"&D$10&\"'!$14:$163\"),,0,1),,0,1)","v":2.7063439125718292E-2},null,{"$f":"_xlfn.XLOOKUP($A149,INDIRECT(\"'Curves \"&F$10&\"'!$A$14:$A$163\"),_xlfn.XLOOKUP(F$11&$J$3,INDIRECT(\"'Curves \"&F$10&\"'!$11:$11\")&INDIRECT(\"'Curves \"&F$10&\"'!$12:$12\"),INDIRECT(\"'Curves \"&F$10&\"'!$14:$163\"),,0,1),,0,1)","v":3.3374226021030795E-2},{"$f":"_xlfn.XLOOKUP($A149,INDIRECT(\"'Curves \"&G$10&\"'!$A$14:$A$163\"),_xlfn.XLOOKUP(G$11&$J$3,INDIRECT(\"'Curves \"&G$10&\"'!$11:$11\")&INDIRECT(\"'Curves \"&G$10&\"'!$12:$12\"),INDIRECT(\"'Curves \"&G$10&\"'!$14:$163\"),,0,1),,0,1)","v":3.7566581949594946E-2},{"$f":"_xlfn.XLOOKUP($A149,INDIRECT(\"'Curves \"&H$10&\"'!$A$14:$A$163\"),_xlfn.XLOOKUP(H$11&$J$3,INDIRECT(\"'Curves \"&H$10&\"'!$11:$11\")&INDIRECT(\"'Curves \"&H$10&\"'!$12:$12\"),INDIRECT(\"'Curves \"&H$10&\"'!$14:$163\"),,0,1),,0,1)","v":2.7582645947761497E-2}]
[138,{"$f":"_xlfn.XLOOKUP($A150,INDIRECT(\"'Curves \"&B$10&\"'!$A$14:$A$163\"),_xlfn.XLOOKUP(B$11&$J$3,INDIRECT(\"'Curves \"&B$10&\"'!$11:$11\")&INDIRECT(\"'Curves \"&B$10&\"'!$12:$12\"),INDIRECT(\"'Curves \"&B$10&\"'!$14:$163\"),,0,1),,0,1)","v":3.2853164597020035E-2},{"$f":"_xlfn.XLOOKUP($A150,INDIRECT(\"'Curves \"&C$10&\"'!$A$14:$A$163\"),_xlfn.XLOOKUP(C$11&$J$3,INDIRECT(\"'Curves \"&C$10&\"'!$11:$11\")&INDIRECT(\"'Curves \"&C$10&\"'!$12:$12\"),INDIRECT(\"'Curves \"&C$10&\"'!$14:$163\"),,0,1),,0,1)","v":3.702388552300806E-2},{"$f":"_xlfn.XLOOKUP($A150,INDIRECT(\"'Curves \"&D$10&\"'!$A$14:$A$163\"),_xlfn.XLOOKUP(D$11&$J$3,INDIRECT(\"'Curves \"&D$10&\"'!$11:$11\")&INDIRECT(\"'Curves \"&D$10&\"'!$12:$12\"),INDIRECT(\"'Curves \"&D$10&\"'!$14:$163\"),,0,1),,0,1)","v":2.7095519002539703E-2},null,{"$f":"_xlfn.XLOOKUP($A150,INDIRECT(\"'Curves \"&F$10&\"'!$A$14:$A$163\"),_xlfn.XLOOKUP(F$11&$J$3,INDIRECT(\"'Curves \"&F$10&\"'!$11:$11\")&INDIRECT(\"'Curves \"&F$10&\"'!$12:$12\"),INDIRECT(\"'Curves \"&F$10&\"'!$14:$163\"),,0,1),,0,1)","v":3.3371513764797411E-2},{"$f":"_xlfn.XLOOKUP($A150,INDIRECT(\"'Curves \"&G$10&\"'!$A$14:$A$163\"),_xlfn.XLOOKUP(G$11&$J$3,INDIRECT(\"'Curves \"&G$10&\"'!$11:$11\")&INDIRECT(\"'Curves \"&G$10&\"'!$12:$12\"),INDIRECT(\"'Curves \"&G$10&\"'!$14:$163\"),,0,1),,0,1)","v":3.7544327814760026E-2},{"$f":"_xlfn.XLOOKUP($A150,INDIRECT(\"'Curves \"&H$10&\"'!$A$14:$A$163\"),_xlfn.XLOOKUP(H$11&$J$3,INDIRECT(\"'Curves \"&H$10&\"'!$11:$11\")&INDIRECT(\"'Curves \"&H$10&\"'!$12:$12\"),INDIRECT(\"'Curves \"&H$10&\"'!$14:$163\"),,0,1),,0,1)","v":2.7610978630056682E-2}]
[139,{"$f":"_xlfn.XLOOKUP($A151,INDIRECT(\"'Curves \"&B$10&\"'!$A$14:$A$163\"),_xlfn.XLOOKUP(B$11&$J$3,INDIRECT(\"'Curves \"&B$10&\"'!$11:$11\")&INDIRECT(\"'Curves \"&B$10&\"'!$12:$12\"),INDIRECT(\"'Curves \"&B$10&\"'!$14:$163\"),,0,1),,0,1)","v":3.2854220888706154E-2},{"$f":"_xlfn.XLOOKUP($A151,INDIRECT(\"'Curves \"&C$10&\"'!$A$14:$A$163\"),_xlfn.XLOOKUP(C$11&$J$3,INDIRECT(\"'Curves \"&C$10&\"'!$11:$11\")&INDIRECT(\"'Curves \"&C$10&\"'!$12:$12\"),INDIRECT(\"'Curves \"&C$10&\"'!$14:$163\"),,0,1),,0,1)","v":3.7005706207736244E-2},{"$f":"_xlfn.XLOOKUP($A151,INDIRECT(\"'Curves \"&D$10&\"'!$A$14:$A$163\"),_xlfn.XLOOKUP(D$11&$J$3,INDIRECT(\"'Curves \"&D$10&\"'!$11:$11\")&INDIRECT(\"'Curves \"&D$10&\"'!$12:$12\"),INDIRECT(\"'Curves \"&D$10&\"'!$14:$163\"),,0,1),,0,1)","v":2.7127138318078892E-2},null,{"$f":"_xlfn.XLOOKUP($A151,INDIRECT(\"'Curves \"&F$10&\"'!$A$14:$A$163\"),_xlfn.XLOOKUP(F$11&$J$3,INDIRECT(\"'Curves \"&F$10&\"'!$11:$11\")&INDIRECT(\"'Curves \"&F$10&\"'!$12:$12\"),INDIRECT(\"'Curves \"&F$10&\"'!$14:$163\"),,0,1),,0,1)","v":3.3368840539340194E-2},{"$f":"_xlfn.XLOOKUP($A151,INDIRECT(\"'Curves \"&G$10&\"'!$A$14:$A$163\"),_xlfn.XLOOKUP(G$11&$J$3,INDIRECT(\"'Curves \"&G$10&\"'!$11:$11\")&INDIRECT(\"'Curves \"&G$10&\"'!$12:$12\"),INDIRECT(\"'Curves \"&G$10&\"'!$14:$163\"),,0,1),,0,1)","v":3.7522394336071629E-2},{"$f":"_xlfn.XLOOKUP($A151,INDIRECT(\"'Curves \"&H$10&\"'!$A$14:$A$163\"),_xlfn.XLOOKUP(H$11&$J$3,INDIRECT(\"'Curves \"&H$10&\"'!$11:$11\")&INDIRECT(\"'Curves \"&H$10&\"'!$12:$12\"),INDIRECT(\"'Curves \"&H$10&\"'!$14:$163\"),,0,1),,0,1)","v":2.7638904449627688E-2}]
[140,{"$f":"_xlfn.XLOOKUP($A152,INDIRECT(\"'Curves \"&B$10&\"'!$A$14:$A$163\"),_xlfn.XLOOKUP(B$11&$J$3,INDIRECT(\"'Curves \"&B$10&\"'!$11:$11\")&INDIRECT(\"'Curves \"&B$10&\"'!$12:$12\"),INDIRECT(\"'Curves \"&B$10&\"'!$14:$163\"),,0,1),,0,1)","v":3.2855262091938231E-2},{"$f":"_xlfn.XLOOKUP($A152,INDIRECT(\"'Curves \"&C$10&\"'!$A$14:$A$163\"),_xlfn.XLOOKUP(C$11&$J$3,INDIRECT(\"'Curves \"&C$10&\"'!$11:$11\")&INDIRECT(\"'Curves \"&C$10&\"'!$12:$12\"),INDIRECT(\"'Curves \"&C$10&\"'!$14:$163\"),,0,1),,0,1)","v":3.6987786897825448E-2},{"$f":"_xlfn.XLOOKUP($A152,INDIRECT(\"'Curves \"&D$10&\"'!$A$14:$A$163\"),_xlfn.XLOOKUP(D$11&$J$3,INDIRECT(\"'Curves \"&D$10&\"'!$11:$11\")&INDIRECT(\"'Curves \"&D$10&\"'!$12:$12\"),INDIRECT(\"'Curves \"&D$10&\"'!$14:$163\"),,0,1),,0,1)","v":2.7158306916624131E-2},null,{"$f":"_xlfn.XLOOKUP($A152,INDIRECT(\"'Curves \"&F$10&\"'!$A$14:$A$163\"),_xlfn.XLOOKUP(F$11&$J$3,INDIRECT(\"'Curves \"&F$10&\"'!$11:$11\")&INDIRECT(\"'Curves \"&F$10&\"'!$12:$12\"),INDIRECT(\"'Curves \"&F$10&\"'!$14:$163\"),,0,1),,0,1)","v":3.3366205508288393E-2},{"$f":"_xlfn.XLOOKUP($A152,INDIRECT(\"'Curves \"&G$10&\"'!$A$14:$A$163\"),_xlfn.XLOOKUP(G$11&$J$3,INDIRECT(\"'Curves \"&G$10&\"'!$11:$11\")&INDIRECT(\"'Curves \"&G$10&\"'!$12:$12\"),INDIRECT(\"'Curves \"&G$10&\"'!$14:$163\"),,0,1),,0,1)","v":3.7500774633859146E-2},{"$f":"_xlfn.XLOOKUP($A152,INDIRECT(\"'Curves \"&H$10&\"'!$A$14:$A$163\"),_xlfn.XLOOKUP(H$11&$J$3,INDIRECT(\"'Curves \"&H$10&\"'!$11:$11\")&INDIRECT(\"'Curves \"&H$10&\"'!$12:$12\"),INDIRECT(\"'Curves \"&H$10&\"'!$14:$163\"),,0,1),,0,1)","v":2.7666432104857419E-2}]
[141,{"$f":"_xlfn.XLOOKUP($A153,INDIRECT(\"'Curves \"&B$10&\"'!$A$14:$A$163\"),_xlfn.XLOOKUP(B$11&$J$3,INDIRECT(\"'Curves \"&B$10&\"'!$11:$11\")&INDIRECT(\"'Curves \"&B$10&\"'!$12:$12\"),INDIRECT(\"'Curves \"&B$10&\"'!$14:$163\"),,0,1),,0,1)","v":3.285628852768685E-2},{"$f":"_xlfn.XLOOKUP($A153,INDIRECT(\"'Curves \"&C$10&\"'!$A$14:$A$163\"),_xlfn.XLOOKUP(C$11&$J$3,INDIRECT(\"'Curves \"&C$10&\"'!$11:$11\")&INDIRECT(\"'Curves \"&C$10&\"'!$12:$12\"),INDIRECT(\"'Curves \"&C$10&\"'!$14:$163\"),,0,1),,0,1)","v":3.6970122055794086E-2},{"$f":"_xlfn.XLOOKUP($A153,INDIRECT(\"'Curves \"&D$10&\"'!$A$14:$A$163\"),_xlfn.XLOOKUP(D$11&$J$3,INDIRECT(\"'Curves \"&D$10&\"'!$11:$11\")&INDIRECT(\"'Curves \"&D$10&\"'!$12:$12\"),INDIRECT(\"'Curves \"&D$10&\"'!$14:$163\"),,0,1),,0,1)","v":2.7189034364198728E-2},null,{"$f":"_xlfn.XLOOKUP($A153,INDIRECT(\"'Curves \"&F$10&\"'!$A$14:$A$163\"),_xlfn.XLOOKUP(F$11&$J$3,INDIRECT(\"'Curves \"&F$10&\"'!$11:$11\")&INDIRECT(\"'Curves \"&F$10&\"'!$12:$12\"),INDIRECT(\"'Curves \"&F$10&\"'!$14:$163\"),,0,1),,0,1)","v":3.3363607858985844E-2},{"$f":"_xlfn.XLOOKUP($A153,INDIRECT(\"'Curves \"&G$10&\"'!$A$14:$A$163\"),_xlfn.XLOOKUP(G$11&$J$3,INDIRECT(\"'Curves \"&G$10&\"'!$11:$11\")&INDIRECT(\"'Curves \"&G$10&\"'!$12:$12\"),INDIRECT(\"'Curves \"&G$10&\"'!$14:$163\"),,0,1),,0,1)","v":3.7479462023746635E-2},{"$f":"_xlfn.XLOOKUP($A153,INDIRECT(\"'Curves \"&H$10&\"'!$A$14:$A$163\"),_xlfn.XLOOKUP(H$11&$J$3,INDIRECT(\"'Curves \"&H$10&\"'!$11:$11\")&INDIRECT(\"'Curves \"&H$10&\"'!$12:$12\"),INDIRECT(\"'Curves \"&H$10&\"'!$14:$163\"),,0,1),,0,1)","v":2.7693570048223259E-2}]
[142,{"$f":"_xlfn.XLOOKUP($A154,INDIRECT(\"'Curves \"&B$10&\"'!$A$14:$A$163\"),_xlfn.XLOOKUP(B$11&$J$3,INDIRECT(\"'Curves \"&B$10&\"'!$11:$11\")&INDIRECT(\"'Curves \"&B$10&\"'!$12:$12\"),INDIRECT(\"'Curves \"&B$10&\"'!$14:$163\"),,0,1),,0,1)","v":3.2857300507885157E-2},{"$f":"_xlfn.XLOOKUP($A154,INDIRECT(\"'Curves \"&C$10&\"'!$A$14:$A$163\"),_xlfn.XLOOKUP(C$11&$J$3,INDIRECT(\"'Curves \"&C$10&\"'!$11:$11\")&INDIRECT(\"'Curves \"&C$10&\"'!$12:$12\"),INDIRECT(\"'Curves \"&C$10&\"'!$14:$163\"),,0,1),,0,1)","v":3.6952706300213078E-2},{"$f":"_xlfn.XLOOKUP($A154,INDIRECT(\"'Curves \"&D$10&\"'!$A$14:$A$163\"),_xlfn.XLOOKUP(D$11&$J$3,INDIRECT(\"'Curves \"&D$10&\"'!$11:$11\")&INDIRECT(\"'Curves \"&D$10&\"'!$12:$12\"),INDIRECT(\"'Curves \"&D$10&\"'!$14:$163\"),,0,1),,0,1)","v":2.7219329958293681E-2},null,{"$f":"_xlfn.XLOOKUP($A154,INDIRECT(\"'Curves \"&F$10&\"'!$A$14:$A$163\"),_xlfn.XLOOKUP(F$11&$J$3,INDIRECT(\"'Curves \"&F$10&\"'!$11:$11\")&INDIRECT(\"'Curves \"&F$10&\"'!$12:$12\"),INDIRECT(\"'Curves \"&F$10&\"'!$14:$163\"),,0,1),,0,1)","v":3.3361046801659189E-2},{"$f":"_xlfn.XLOOKUP($A154,INDIRECT(\"'Curves \"&G$10&\"'!$A$14:$A$163\"),_xlfn.XLOOKUP(G$11&$J$3,INDIRECT(\"'Curves \"&G$10&\"'!$11:$11\")&INDIRECT(\"'Curves \"&G$10&\"'!$12:$12\"),INDIRECT(\"'Curves \"&G$10&\"'!$14:$163\"),,0,1),,0,1)","v":3.7458450009785427E-2},{"$f":"_xlfn.XLOOKUP($A154,INDIRECT(\"'Curves \"&H$10&\"'!$A$14:$A$163\"),_xlfn.XLOOKUP(H$11&$J$3,INDIRECT(\"'Curves \"&H$10&\"'!$11:$11\")&INDIRECT(\"'Curves \"&H$10&\"'!$12:$12\"),INDIRECT(\"'Curves \"&H$10&\"'!$14:$163\"),,0,1),,0,1)","v":2.7720326494896641E-2}]
[143,{"$f":"_xlfn.XLOOKUP($A155,INDIRECT(\"'Curves \"&B$10&\"'!$A$14:$A$163\"),_xlfn.XLOOKUP(B$11&$J$3,INDIRECT(\"'Curves \"&B$10&\"'!$11:$11\")&INDIRECT(\"'Curves \"&B$10&\"'!$12:$12\"),INDIRECT(\"'Curves \"&B$10&\"'!$14:$163\"),,0,1),,0,1)","v":3.2858298335745273E-2},{"$f":"_xlfn.XLOOKUP($A155,INDIRECT(\"'Curves \"&C$10&\"'!$A$14:$A$163\"),_xlfn.XLOOKUP(C$11&$J$3,INDIRECT(\"'Curves \"&C$10&\"'!$11:$11\")&INDIRECT(\"'Curves \"&C$10&\"'!$12:$12\"),INDIRECT(\"'Curves \"&C$10&\"'!$14:$163\"),,0,1),,0,1)","v":3.6935534400254211E-2},{"$f":"_xlfn.XLOOKUP($A155,INDIRECT(\"'Curves \"&D$10&\"'!$A$14:$A$163\"),_xlfn.XLOOKUP(D$11&$J$3,INDIRECT(\"'Curves \"&D$10&\"'!$11:$11\")&INDIRECT(\"'Curves \"&D$10&\"'!$12:$12\"),INDIRECT(\"'Curves \"&D$10&\"'!$14:$163\"),,0,1),,0,1)","v":2.7249202737199996E-2},null,{"$f":"_xlfn.XLOOKUP($A155,INDIRECT(\"'Curves \"&F$10&\"'!$A$14:$A$163\"),_xlfn.XLOOKUP(F$11&$J$3,INDIRECT(\"'Curves \"&F$10&\"'!$11:$11\")&INDIRECT(\"'Curves \"&F$10&\"'!$12:$12\"),INDIRECT(\"'Curves \"&F$10&\"'!$14:$163\"),,0,1),,0,1)","v":3.3358521568617183E-2},{"$f":"_xlfn.XLOOKUP($A155,INDIRECT(\"'Curves \"&G$10&\"'!$A$14:$A$163\"),_xlfn.XLOOKUP(G$11&$J$3,INDIRECT(\"'Curves \"&G$10&\"'!$11:$11\")&INDIRECT(\"'Curves \"&G$10&\"'!$12:$12\"),INDIRECT(\"'Curves \"&G$10&\"'!$14:$163\"),,0,1),,0,1)","v":3.7437732277865621E-2},{"$f":"_xlfn.XLOOKUP($A155,INDIRECT(\"'Curves \"&H$10&\"'!$A$14:$A$163\"),_xlfn.XLOOKUP(H$11&$J$3,INDIRECT(\"'Curves \"&H$10&\"'!$11:$11\")&INDIRECT(\"'Curves \"&H$10&\"'!$12:$12\"),INDIRECT(\"'Curves \"&H$10&\"'!$14:$163\"),,0,1),,0,1)","v":2.774670943098978E-2}]
[144,{"$f":"_xlfn.XLOOKUP($A156,INDIRECT(\"'Curves \"&B$10&\"'!$A$14:$A$163\"),_xlfn.XLOOKUP(B$11&$J$3,INDIRECT(\"'Curves \"&B$10&\"'!$11:$11\")&INDIRECT(\"'Curves \"&B$10&\"'!$12:$12\"),INDIRECT(\"'Curves \"&B$10&\"'!$14:$163\"),,0,1),,0,1)","v":3.2859282306060944E-2},{"$f":"_xlfn.XLOOKUP($A156,INDIRECT(\"'Curves \"&C$10&\"'!$A$14:$A$163\"),_xlfn.XLOOKUP(C$11&$J$3,INDIRECT(\"'Curves \"&C$10&\"'!$11:$11\")&INDIRECT(\"'Curves \"&C$10&\"'!$12:$12\"),INDIRECT(\"'Curves \"&C$10&\"'!$14:$163\"),,0,1),,0,1)","v":3.6918601270465867E-2},{"$f":"_xlfn.XLOOKUP($A156,INDIRECT(\"'Curves \"&D$10&\"'!$A$14:$A$163\"),_xlfn.XLOOKUP(D$11&$J$3,INDIRECT(\"'Curves \"&D$10&\"'!$11:$11\")&INDIRECT(\"'Curves \"&D$10&\"'!$12:$12\"),INDIRECT(\"'Curves \"&D$10&\"'!$14:$163\"),,0,1),,0,1)","v":2.7278661488955303E-2},null,{"$f":"_xlfn.XLOOKUP($A156,INDIRECT(\"'Curves \"&F$10&\"'!$A$14:$A$163\"),_xlfn.XLOOKUP(F$11&$J$3,INDIRECT(\"'Curves \"&F$10&\"'!$11:$11\")&INDIRECT(\"'Curves \"&F$10&\"'!$12:$12\"),INDIRECT(\"'Curves \"&F$10&\"'!$14:$163\"),,0,1),,0,1)","v":3.3356031413486864E-2},{"$f":"_xlfn.XLOOKUP($A156,INDIRECT(\"'Curves \"&G$10&\"'!$A$14:$A$163\"),_xlfn.XLOOKUP(G$11&$J$3,INDIRECT(\"'Curves \"&G$10&\"'!$11:$11\")&INDIRECT(\"'Curves \"&G$10&\"'!$12:$12\"),INDIRECT(\"'Curves \"&G$10&\"'!$14:$163\"),,0,1),,0,1)","v":3.7417302689408682E-2},{"$f":"_xlfn.XLOOKUP($A156,INDIRECT(\"'Curves \"&H$10&\"'!$A$14:$A$163\"),_xlfn.XLOOKUP(H$11&$J$3,INDIRECT(\"'Curves \"&H$10&\"'!$11:$11\")&INDIRECT(\"'Curves \"&H$10&\"'!$12:$12\"),INDIRECT(\"'Curves \"&H$10&\"'!$14:$163\"),,0,1),,0,1)","v":2.7772726621460908E-2}]
[145,{"$f":"_xlfn.XLOOKUP($A157,INDIRECT(\"'Curves \"&B$10&\"'!$A$14:$A$163\"),_xlfn.XLOOKUP(B$11&$J$3,INDIRECT(\"'Curves \"&B$10&\"'!$11:$11\")&INDIRECT(\"'Curves \"&B$10&\"'!$12:$12\"),INDIRECT(\"'Curves \"&B$10&\"'!$14:$163\"),,0,1),,0,1)","v":3.286025270549664E-2},{"$f":"_xlfn.XLOOKUP($A157,INDIRECT(\"'Curves \"&C$10&\"'!$A$14:$A$163\"),_xlfn.XLOOKUP(C$11&$J$3,INDIRECT(\"'Curves \"&C$10&\"'!$11:$11\")&INDIRECT(\"'Curves \"&C$10&\"'!$12:$12\"),INDIRECT(\"'Curves \"&C$10&\"'!$14:$163\"),,0,1),,0,1)","v":3.6901901965764816E-2},{"$f":"_xlfn.XLOOKUP($A157,INDIRECT(\"'Curves \"&D$10&\"'!$A$14:$A$163\"),_xlfn.XLOOKUP(D$11&$J$3,INDIRECT(\"'Curves \"&D$10&\"'!$11:$11\")&INDIRECT(\"'Curves \"&D$10&\"'!$12:$12\"),INDIRECT(\"'Curves \"&D$10&\"'!$14:$163\"),,0,1),,0,1)","v":2.7307714759925661E-2},null,{"$f":"_xlfn.XLOOKUP($A157,INDIRECT(\"'Curves \"&F$10&\"'!$A$14:$A$163\"),_xlfn.XLOOKUP(F$11&$J$3,INDIRECT(\"'Curves \"&F$10&\"'!$11:$11\")&INDIRECT(\"'Curves \"&F$10&\"'!$12:$12\"),INDIRECT(\"'Curves \"&F$10&\"'!$14:$163\"),,0,1),,0,1)","v":3.3353575610477915E-2},{"$f":"_xlfn.XLOOKUP($A157,INDIRECT(\"'Curves \"&G$10&\"'!$A$14:$A$163\"),_xlfn.XLOOKUP(G$11&$J$3,INDIRECT(\"'Curves \"&G$10&\"'!$11:$11\")&INDIRECT(\"'Curves \"&G$10&\"'!$12:$12\"),INDIRECT(\"'Curves \"&G$10&\"'!$14:$163\"),,0,1),,0,1)","v":3.7397155275317839E-2},{"$f":"_xlfn.XLOOKUP($A157,INDIRECT(\"'Curves \"&H$10&\"'!$A$14:$A$163\"),_xlfn.XLOOKUP(H$11&$J$3,INDIRECT(\"'Curves \"&H$10&\"'!$11:$11\")&INDIRECT(\"'Curves \"&H$10&\"'!$12:$12\"),INDIRECT(\"'Curves \"&H$10&\"'!$14:$163\"),,0,1),,0,1)","v":2.7798385617699095E-2}]
[146,{"$f":"_xlfn.XLOOKUP($A158,INDIRECT(\"'Curves \"&B$10&\"'!$A$14:$A$163\"),_xlfn.XLOOKUP(B$11&$J$3,INDIRECT(\"'Curves \"&B$10&\"'!$11:$11\")&INDIRECT(\"'Curves \"&B$10&\"'!$12:$12\"),INDIRECT(\"'Curves \"&B$10&\"'!$14:$163\"),,0,1),,0,1)","v":3.2861209812865555E-2},{"$f":"_xlfn.XLOOKUP($A158,INDIRECT(\"'Curves \"&C$10&\"'!$A$14:$A$163\"),_xlfn.XLOOKUP(C$11&$J$3,INDIRECT(\"'Curves \"&C$10&\"'!$11:$11\")&INDIRECT(\"'Curves \"&C$10&\"'!$12:$12\"),INDIRECT(\"'Curves \"&C$10&\"'!$14:$163\"),,0,1),,0,1)","v":3.6885431676631164E-2},{"$f":"_xlfn.XLOOKUP($A158,INDIRECT(\"'Curves \"&D$10&\"'!$A$14:$A$163\"),_xlfn.XLOOKUP(D$11&$J$3,INDIRECT(\"'Curves \"&D$10&\"'!$11:$11\")&INDIRECT(\"'Curves \"&D$10&\"'!$12:$12\"),INDIRECT(\"'Curves \"&D$10&\"'!$14:$163\"),,0,1),,0,1)","v":2.7336370863038084E-2},null,{"$f":"_xlfn.XLOOKUP($A158,INDIRECT(\"'Curves \"&F$10&\"'!$A$14:$A$163\"),_xlfn.XLOOKUP(F$11&$J$3,INDIRECT(\"'Curves \"&F$10&\"'!$11:$11\")&INDIRECT(\"'Curves \"&F$10&\"'!$12:$12\"),INDIRECT(\"'Curves \"&F$10&\"'!$14:$163\"),,0,1),,0,1)","v":3.3351153453679894E-2},{"$f":"_xlfn.XLOOKUP($A158,INDIRECT(\"'Curves \"&G$10&\"'!$A$14:$A$163\"),_xlfn.XLOOKUP(G$11&$J$3,INDIRECT(\"'Curves \"&G$10&\"'!$11:$11\")&INDIRECT(\"'Curves \"&G$10&\"'!$12:$12\"),INDIRECT(\"'Curves \"&G$10&\"'!$14:$163\"),,0,1),,0,1)","v":3.7377284230175167E-2},{"$f":"_xlfn.XLOOKUP($A158,INDIRECT(\"'Curves \"&H$10&\"'!$A$14:$A$163\"),_xlfn.XLOOKUP(H$11&$J$3,INDIRECT(\"'Curves \"&H$10&\"'!$11:$11\")&INDIRECT(\"'Curves \"&H$10&\"'!$12:$12\"),INDIRECT(\"'Curves \"&H$10&\"'!$14:$163\"),,0,1),,0,1)","v":2.7823693764798429E-2}]
[147,{"$f":"_xlfn.XLOOKUP($A159,INDIRECT(\"'Curves \"&B$10&\"'!$A$14:$A$163\"),_xlfn.XLOOKUP(B$11&$J$3,INDIRECT(\"'Curves \"&B$10&\"'!$11:$11\")&INDIRECT(\"'Curves \"&B$10&\"'!$12:$12\"),INDIRECT(\"'Curves \"&B$10&\"'!$14:$163\"),,0,1),,0,1)","v":3.2862153899397617E-2},{"$f":"_xlfn.XLOOKUP($A159,INDIRECT(\"'Curves \"&C$10&\"'!$A$14:$A$163\"),_xlfn.XLOOKUP(C$11&$J$3,INDIRECT(\"'Curves \"&C$10&\"'!$11:$11\")&INDIRECT(\"'Curves \"&C$10&\"'!$12:$12\"),INDIRECT(\"'Curves \"&C$10&\"'!$14:$163\"),,0,1),,0,1)","v":3.686918572449982E-2},{"$f":"_xlfn.XLOOKUP($A159,INDIRECT(\"'Curves \"&D$10&\"'!$A$14:$A$163\"),_xlfn.XLOOKUP(D$11&$J$3,INDIRECT(\"'Curves \"&D$10&\"'!$11:$11\")&INDIRECT(\"'Curves \"&D$10&\"'!$12:$12\"),INDIRECT(\"'Curves \"&D$10&\"'!$14:$163\"),,0,1),,0,1)","v":2.7364637885679555E-2},null,{"$f":"_xlfn.XLOOKUP($A159,INDIRECT(\"'Curves \"&F$10&\"'!$A$14:$A$163\"),_xlfn.XLOOKUP(F$11&$J$3,INDIRECT(\"'Curves \"&F$10&\"'!$11:$11\")&INDIRECT(\"'Curves \"&F$10&\"'!$12:$12\"),INDIRECT(\"'Curves \"&F$10&\"'!$14:$163\"),,0,1),,0,1)","v":3.3348764256385888E-2},{"$f":"_xlfn.XLOOKUP($A159,INDIRECT(\"'Curves \"&G$10&\"'!$A$14:$A$163\"),_xlfn.XLOOKUP(G$11&$J$3,INDIRECT(\"'Curves \"&G$10&\"'!$11:$11\")&INDIRECT(\"'Curves \"&G$10&\"'!$12:$12\"),INDIRECT(\"'Curves \"&G$10&\"'!$14:$163\"),,0,1),,0,1)","v":3.7357683906673156E-2},{"$f":"_xlfn.XLOOKUP($A159,INDIRECT(\"'Curves \"&H$10&\"'!$A$14:$A$163\"),_xlfn.XLOOKUP(H$11&$J$3,INDIRECT(\"'Curves \"&H$10&\"'!$11:$11\")&INDIRECT(\"'Curves \"&H$10&\"'!$12:$12\"),INDIRECT(\"'Curves \"&H$10&\"'!$14:$163\"),,0,1),,0,1)","v":2.7848658208537991E-2}]
[148,{"$f":"_xlfn.XLOOKUP($A160,INDIRECT(\"'Curves \"&B$10&\"'!$A$14:$A$163\"),_xlfn.XLOOKUP(B$11&$J$3,INDIRECT(\"'Curves \"&B$10&\"'!$11:$11\")&INDIRECT(\"'Curves \"&B$10&\"'!$12:$12\"),INDIRECT(\"'Curves \"&B$10&\"'!$14:$163\"),,0,1),,0,1)","v":3.2863085228994171E-2},{"$f":"_xlfn.XLOOKUP($A160,INDIRECT(\"'Curves \"&C$10&\"'!$A$14:$A$163\"),_xlfn.XLOOKUP(C$11&$J$3,INDIRECT(\"'Curves \"&C$10&\"'!$11:$11\")&INDIRECT(\"'Curves \"&C$10&\"'!$12:$12\"),INDIRECT(\"'Curves \"&C$10&\"'!$14:$163\"),,0,1),,0,1)","v":3.6853159557338699E-2},{"$f":"_xlfn.XLOOKUP($A160,INDIRECT(\"'Curves \"&D$10&\"'!$A$14:$A$163\"),_xlfn.XLOOKUP(D$11&$J$3,INDIRECT(\"'Curves \"&D$10&\"'!$11:$11\")&INDIRECT(\"'Curves \"&D$10&\"'!$12:$12\"),INDIRECT(\"'Curves \"&D$10&\"'!$14:$163\"),,0,1),,0,1)","v":2.7392523697281179E-2},null,{"$f":"_xlfn.XLOOKUP($A160,INDIRECT(\"'Curves \"&F$10&\"'!$A$14:$A$163\"),_xlfn.XLOOKUP(F$11&$J$3,INDIRECT(\"'Curves \"&F$10&\"'!$11:$11\")&INDIRECT(\"'Curves \"&F$10&\"'!$12:$12\"),INDIRECT(\"'Curves \"&F$10&\"'!$14:$163\"),,0,1),,0,1)","v":3.3346407350445251E-2},{"$f":"_xlfn.XLOOKUP($A160,INDIRECT(\"'Curves \"&G$10&\"'!$A$14:$A$163\"),_xlfn.XLOOKUP(G$11&$J$3,INDIRECT(\"'Curves \"&G$10&\"'!$11:$11\")&INDIRECT(\"'Curves \"&G$10&\"'!$12:$12\"),INDIRECT(\"'Curves \"&G$10&\"'!$14:$163\"),,0,1),,0,1)","v":3.7338348810277866E-2},{"$f":"_xlfn.XLOOKUP($A160,INDIRECT(\"'Curves \"&H$10&\"'!$A$14:$A$163\"),_xlfn.XLOOKUP(H$11&$J$3,INDIRECT(\"'Curves \"&H$10&\"'!$11:$11\")&INDIRECT(\"'Curves \"&H$10&\"'!$12:$12\"),INDIRECT(\"'Curves \"&H$10&\"'!$14:$163\"),,0,1),,0,1)","v":2.7873285902086042E-2}]
[149,{"$f":"_xlfn.XLOOKUP($A161,INDIRECT(\"'Curves \"&B$10&\"'!$A$14:$A$163\"),_xlfn.XLOOKUP(B$11&$J$3,INDIRECT(\"'Curves \"&B$10&\"'!$11:$11\")&INDIRECT(\"'Curves \"&B$10&\"'!$12:$12\"),INDIRECT(\"'Curves \"&B$10&\"'!$14:$163\"),,0,1),,0,1)","v":3.2864004058474672E-2},{"$f":"_xlfn.XLOOKUP($A161,INDIRECT(\"'Curves \"&C$10&\"'!$A$14:$A$163\"),_xlfn.XLOOKUP(C$11&$J$3,INDIRECT(\"'Curves \"&C$10&\"'!$11:$11\")&INDIRECT(\"'Curves \"&C$10&\"'!$12:$12\"),INDIRECT(\"'Curves \"&C$10&\"'!$14:$163\"),,0,1),,0,1)","v":3.6837348745403675E-2},{"$f":"_xlfn.XLOOKUP($A161,INDIRECT(\"'Curves \"&D$10&\"'!$A$14:$A$163\"),_xlfn.XLOOKUP(D$11&$J$3,INDIRECT(\"'Curves \"&D$10&\"'!$11:$11\")&INDIRECT(\"'Curves \"&D$10&\"'!$12:$12\"),INDIRECT(\"'Curves \"&D$10&\"'!$14:$163\"),,0,1),,0,1)","v":2.7420035956597699E-2},null,{"$f":"_xlfn.XLOOKUP($A161,INDIRECT(\"'Curves \"&F$10&\"'!$A$14:$A$163\"),_xlfn.XLOOKUP(F$11&$J$3,INDIRECT(\"'Curves \"&F$10&\"'!$11:$11\")&INDIRECT(\"'Curves \"&F$10&\"'!$12:$12\"),INDIRECT(\"'Curves \"&F$10&\"'!$14:$163\"),,0,1),,0,1)","v":3.3344082085640991E-2},{"$f":"_xlfn.XLOOKUP($A161,INDIRECT(\"'Curves \"&G$10&\"'!$A$14:$A$163\"),_xlfn.XLOOKUP(G$11&$J$3,INDIRECT(\"'Curves \"&G$10&\"'!$11:$11\")&INDIRECT(\"'Curves \"&G$10&\"'!$12:$12\"),INDIRECT(\"'Curves \"&G$10&\"'!$14:$163\"),,0,1),,0,1)","v":3.7319273594098368E-2},{"$f":"_xlfn.XLOOKUP($A161,INDIRECT(\"'Curves \"&H$10&\"'!$A$14:$A$163\"),_xlfn.XLOOKUP(H$11&$J$3,INDIRECT(\"'Curves \"&H$10&\"'!$11:$11\")&INDIRECT(\"'Curves \"&H$10&\"'!$12:$12\"),INDIRECT(\"'Curves \"&H$10&\"'!$14:$163\"),,0,1),,0,1)","v":2.7897583612431331E-2}]
[150,{"$f":"_xlfn.XLOOKUP($A162,INDIRECT(\"'Curves \"&B$10&\"'!$A$14:$A$163\"),_xlfn.XLOOKUP(B$11&$J$3,INDIRECT(\"'Curves \"&B$10&\"'!$11:$11\")&INDIRECT(\"'Curves \"&B$10&\"'!$12:$12\"),INDIRECT(\"'Curves \"&B$10&\"'!$14:$163\"),,0,1),,0,1)","v":3.2864910637811384E-2},{"$f":"_xlfn.XLOOKUP($A162,INDIRECT(\"'Curves \"&C$10&\"'!$A$14:$A$163\"),_xlfn.XLOOKUP(C$11&$J$3,INDIRECT(\"'Curves \"&C$10&\"'!$11:$11\")&INDIRECT(\"'Curves \"&C$10&\"'!$12:$12\"),INDIRECT(\"'Curves \"&C$10&\"'!$14:$163\"),,0,1),,0,1)","v":3.6821748977162505E-2},{"$f":"_xlfn.XLOOKUP($A162,INDIRECT(\"'Curves \"&D$10&\"'!$A$14:$A$163\"),_xlfn.XLOOKUP(D$11&$J$3,INDIRECT(\"'Curves \"&D$10&\"'!$11:$11\")&INDIRECT(\"'Curves \"&D$10&\"'!$12:$12\"),INDIRECT(\"'Curves \"&D$10&\"'!$14:$163\"),,0,1),,0,1)","v":2.7447182118699232E-2},null,{"$f":"_xlfn.XLOOKUP($A162,INDIRECT(\"'Curves \"&F$10&\"'!$A$14:$A$163\"),_xlfn.XLOOKUP(F$11&$J$3,INDIRECT(\"'Curves \"&F$10&\"'!$11:$11\")&INDIRECT(\"'Curves \"&F$10&\"'!$12:$12\"),INDIRECT(\"'Curves \"&F$10&\"'!$14:$163\"),,0,1),,0,1)","v":3.3341787829092251E-2},{"$f":"_xlfn.XLOOKUP($A162,INDIRECT(\"'Curves \"&G$10&\"'!$A$14:$A$163\"),_xlfn.XLOOKUP(G$11&$J$3,INDIRECT(\"'Curves \"&G$10&\"'!$11:$11\")&INDIRECT(\"'Curves \"&G$10&\"'!$12:$12\"),INDIRECT(\"'Curves \"&G$10&\"'!$14:$163\"),,0,1),,0,1)","v":3.7300453053967342E-2},{"$f":"_xlfn.XLOOKUP($A162,INDIRECT(\"'Curves \"&H$10&\"'!$A$14:$A$163\"),_xlfn.XLOOKUP(H$11&$J$3,INDIRECT(\"'Curves \"&H$10&\"'!$11:$11\")&INDIRECT(\"'Curves \"&H$10&\"'!$12:$12\"),INDIRECT(\"'Curves \"&H$10&\"'!$14:$163\"),,0,1),,0,1)","v":2.7921557926563256E-2}]

{"sheet":"RCS and Scaling Factors","index":2,"n_rows":11,"n_cols":4,"rows_kept":11,"cut":false,"hidden":false,"merged":[]}
[]
[null,"Currency","Scaled Risk Corrected Currency Spread","VA With CSSR=1"]
[null,"AUD",4.2750000000000002E-3,{"$f":"Table5[[#This Row],[Scaled Risk Corrected Currency Spread]]*0.85","v":3.6337499999999998E-3}]
[null,"CZK",3.7190000000000001E-3,{"$f":"Table5[[#This Row],[Scaled Risk Corrected Currency Spread]]*0.85","v":3.1611500000000002E-3}]
[null,"EUR",3.5469999999999998E-3,{"$f":"Table5[[#This Row],[Scaled Risk Corrected Currency Spread]]*0.85","v":3.0149499999999997E-3}]
[null,"GBP",6.3759999999999997E-3,{"$f":"Table5[[#This Row],[Scaled Risk Corrected Currency Spread]]*0.85","v":5.4195999999999992E-3}]
[null,"HUF",1.9250000000000001E-3,{"$f":"Table5[[#This Row],[Scaled Risk Corrected Currency Spread]]*0.85","v":1.6362500000000001E-3}]
[null,"JPY",2.2369999999999998E-3,{"$f":"Table5[[#This Row],[Scaled Risk Corrected Currency Spread]]*0.85","v":1.9014499999999998E-3}]
[null,"PLN",1.91E-3,{"$f":"Table5[[#This Row],[Scaled Risk Corrected Currency Spread]]*0.85","v":1.6234999999999999E-3}]
[null,"RON",1.7539999999999999E-3,{"$f":"Table5[[#This Row],[Scaled Risk Corrected Currency Spread]]*0.85","v":1.4908999999999999E-3}]
[null,"USD",7.2100000000000003E-3,{"$f":"Table5[[#This Row],[Scaled Risk Corrected Currency Spread]]*0.85","v":6.1285000000000003E-3}]

{"sheet":"Curves without VA","index":3,"n_rows":163,"n_cols":28,"rows_kept":163,"cut":false,"hidden":false,"merged":[]}
["LLP before FSP"]
["FSP"]
["First weight"]
["First fw LLFR"]
["VA"]
["LLFR"]
["UFR"]
["LLFRVA"]
["Mean Rev"]
["Compounding"]
["Scenario","Baseline","Baseline","Baseline","Baseline","Baseline","Baseline","Baseline","Baseline","Baseline","Up","Up","Up","Up","Up","Up","Up","Up","Up","Down","Down","Down","Down","Down","Down","Down","Down","Down"]
["Currency","EUR","CZK","JPY","USD","GBP","AUD","PLN","HUF","RON",{"$f":"B$12","v":"EUR"},{"$f":"C$12","v":"CZK"},"JPY","USD","GBP","AUD","PLN","HUF","RON",{"$f":"B$12","v":"EUR"},{"$f":"C$12","v":"CZK"},"JPY","USD","GBP","AUD","PLN","HUF","RON"]
["Tenor","Curve","Curve","Curve","Curve","Curve","Curve","Curve","Curve","Curve","Curve","Curve","Curve","Curve","Curve","Curve","Curve","Curve","Curve","Curve","Curve","Curve","Curve","Curve","Curve","Curve","Curve","Curve"]
[1,2.0760000000000112E-2,3.4032000000000062E-2,9.0550000000000352E-3,3.430500000000003E-2,3.5405499999999979E-2,4.0788656290249969E-2,3.3112999999999948E-2,6.0562000000000005E-2,6.1113999999999891E-2,5.4823600000000194E-2,7.619152000000029E-2,3.5978550000000054E-2,7.6631050000000034E-2,7.8402854999999994E-2,8.7069736627302552E-2,7.4711930000000093E-2,0.11890482000000002,0.11979353999999987,-2.8807999999999057E-3,2.6934400000000469E-3,-7.7968999999999955E-3,2.8080999999999801E-3,3.2703099999999985E-3,5.5312356419050523E-3,2.3074599999999279E-3,1.3836039999999938E-2,1.4067880000000033E-2]
[2,2.1629304559586338E-2,3.4678013707622801E-2,1.1530205297736629E-2,3.3100399440509687E-2,3.4917121867575007E-2,4.1878408148567248E-2,3.6666000000000087E-2,6.0988000000000042E-2,6.2394999999999978E-2,5.1692835976167029E-2,7.1657360972662731E-2,3.6241214105537045E-2,6.9243611143979811E-2,7.2023196457389638E-2,8.2673964467307792E-2,7.4698980000000192E-2,0.11191163999999998,0.11406434999999981,6.9835923419736545E-4,7.0922267167352615E-3,-4.2501994041090896E-3,6.3191957258497133E-3,7.2093897151117581E-3,1.0620419992797947E-2,8.0663400000000607E-3,1.9984119999999939E-2,2.0673549999999929E-2]
[3,2.2828593829980814E-2,3.5725241699762433E-2,1.3228208058280844E-2,3.3375598400646744E-2,3.5316018173057406E-2,4.2568760647309301E-2,3.9719999999999978E-2,6.1879999999999935E-2,6.3647999999999927E-2,5.1214604806671504E-2,7.0430610132646176E-2,3.6910030006838568E-2,6.6929641616963798E-2,6.9820867077855731E-2,8.0627453364491064E-2,7.6382799999999973E-2,0.10940119999999998,0.11203552000000006,4.484012544789362E-3,1.1706135351867042E-2,-8.9220348736274158E-4,1.0390335104362158E-2,1.1476970176912182E-2,1.5538505962493288E-2,1.3943199999999933E-2,2.6352799999999954E-2,2.7342879999999958E-2]
[4,2.3862928330017574E-2,3.6759310442661564E-2,1.4279314089939543E-2,3.3971088803638194E-2,3.592296645834292E-2,4.3176943161089998E-2,4.2337999999999987E-2,6.2856000000000023E-2,6.4669000000000088E-2,5.0939875361825759E-2,6.9768593246285926E-2,3.6947798571311807E-2,6.5697789653311744E-2,6.8547531029180764E-2,7.9138337015191462E-2,7.791348000000009E-2,0.10786976000000004,0.11051674000000022,6.9177569980105602E-3,1.4655586265597043E-2,1.1675884539636971E-3,1.2982653282182843E-2,1.4153779875005768E-2,1.8506165896654103E-2,1.8002800000000097E-2,3.0313599999999941E-2,3.1401400000000024E-2]
[5,2.478759707331557E-2,3.7380247181604043E-2,1.5127352140442474E-2,3.4657594525166591E-2,3.6653107544383667E-2,4.3845873529560597E-2,4.455600000000004E-2,6.3825999999999938E-2,6.5418999999999894E-2,5.1742015756307547E-2,7.0001358413325887E-2,3.7734660603641723E-2,6.6053512061491571E-2,6.8947005939356432E-2,7.9376516617862825E-2,8.0406200000000094E-2,0.10834769999999994,0.11065754999999999,7.7725582439893692E-3,1.5328148308962453E-2,1.9764112842655113E-3,1.3694556715099893E-2,1.4891864526630272E-2,1.9207524117736297E-2,1.9633599999999918E-2,3.119559999999999E-2,3.215139999999983E-2]
[6,2.5648686706935209E-2,3.8432902249341927E-2,1.5847205063551417E-2,3.5429036279631232E-2,3.7310371526777519E-2,4.4528501597277836E-2,4.6453000000000078E-2,6.4772999999999969E-2,6.5927999999999987E-2,5.0564648256778533E-2,6.8590392171572034E-2,3.6744559139607391E-2,6.4354941154280088E-2,6.700762385275616E-2,7.7185187252161613E-2,7.9898730000000029E-2,0.10572992999999986,0.10735848000000003,9.2021857582997857E-3,1.7128399394592098E-2,3.1252671394019771E-3,1.5266002493371289E-2,1.6432430346602134E-2,2.090767099031221E-2,2.2100860000000111E-2,3.345925999999988E-2,3.4175360000000099E-2]
[7,2.6510389019120062E-2,3.9185452635445372E-2,1.6674657069008392E-2,3.6194489332028068E-2,3.8113247979187914E-2,4.5268213788373757E-2,4.8092000000000024E-2,6.5687999999999969E-2,6.6244999999999887E-2,4.9319232956194448E-2,6.668407011055999E-2,3.5844280184541333E-2,6.2586450384878312E-2,6.5215149731487454E-2,7.5017452890072001E-2,7.8886039999999991E-2,0.1029925599999999,0.10375564999999964,1.0401545082045605E-2,1.8386835160330683E-2,4.2050339534753789E-3,1.6502528279177753E-2,1.7711346226888303E-2,2.2218974686675441E-2,2.3997959999999985E-2,3.5083439999999966E-2,3.5434349999999837E-2]
[8,2.7239909807460716E-2,3.9750223303696819E-2,1.7424729404426742E-2,3.6937725090129936E-2,3.8917902205213073E-2,4.5962578264604703E-2,4.9487000000000059E-2,6.6564999999999985E-2,6.640899999999994E-2,4.8401479141997328E-2,6.5165299226953799E-2,3.5249137401931918E-2,6.1396551620774176E-2,6.4049988954985482E-2,7.3489854874570382E-2,7.8212580000000198E-2,0.10109710000000005,0.10088805999999995,1.068874408062559E-2,1.8445138448291987E-2,4.6033322307446056E-3,1.6701389555880519E-2,1.7929099367232082E-2,2.2296798524054973E-2,2.4481940000000035E-2,3.5070299999999888E-2,3.4973579999999949E-2]
[9,2.7925215671903869E-2,4.0189701574779857E-2,1.8193893472087108E-2,3.7664645132907237E-2,3.9707699603434898E-2,4.6610141190704502E-2,5.0661000000000067E-2,6.7399999999999904E-2,6.6467000000000054E-2,4.8061284686913286E-2,6.4250406078709466E-2,3.5215939383155037E-2,6.0917331575437661E-2,6.3614163476534147E-2,7.2725386371730094E-2,7.807252000000009E-2,0.10016800000000003,9.8936440000000125E-2,1.0934381559861261E-2,1.8415717960615696E-2,4.9982750179731195E-3,1.6875433531073458E-2,1.8121696758095274E-2,2.2332186126329701E-2,2.4803209999999964E-2,3.5013999999999879E-2,3.4444869999999961E-2]
[10,2.8630841555192132E-2,4.0541417933104062E-2,1.8977621084416141E-2,3.8375256721554507E-2,4.0446320305988603E-2,4.7176950839291187E-2,5.1620999999999917E-2,6.8195999999999923E-2,6.6465999999999914E-2,4.7720094021749704E-2,6.3203843313035302E-2,3.5170907409741048E-2,6.0387833738020813E-2,6.3080216397785049E-2,7.1830036091078409E-2,7.7607299999999935E-2,9.9154799999999765E-2,9.690579999999982E-2,1.1078504933115241E-2,1.8224850759862354E-2,5.2865726506496902E-3,1.692515403293271E-2,1.8167792183593212E-2,2.2206170503574763E-2,2.4872599999999911E-2,3.4817600000000004E-2,3.377959999999991E-2]
[11,2.9208174098932504E-2,4.1052631841497655E-2,1.9888392359177942E-2,3.9122124632261501E-2,4.119803769056718E-2,4.7736160754370704E-2,4.989447472424402E-2,6.8940999999999919E-2,6.3359171676632409E-2,4.8470626328612099E-2,6.3868421393946884E-2,3.6354910066931367E-2,6.1358762021940016E-2,6.4057448997737243E-2,7.2557008980681958E-2,7.7034965571077363E-2,0.10012329999999992,9.502575886253517E-2,1.1232822718370228E-2,1.8221052786483671E-2,5.7341514919149184E-3,1.7082053533034269E-2,1.8306842237434617E-2,2.2164334845078626E-2,2.4958219688486771E-2,3.4675189999999967E-2,3.3253453434919367E-2]
[12,2.9747890947353195E-2,4.1478835282924509E-2,2.0647990238543912E-2,3.9744924899983936E-2,4.1824883705061877E-2,4.8202397128322305E-2,4.8459769243388351E-2,6.9647000000000014E-2,6.0778985424372767E-2,4.9172258231559018E-2,6.4422485867801749E-2,3.7342387310107084E-2,6.2168402369979114E-2,6.4872348816580327E-2,7.3163116266818928E-2,7.6231402097271639E-2,0.10104109999999999,9.308470897249066E-2,1.1253776749464928E-2,1.8057724464096259E-2,5.975834338355579E-3,1.7052056441990704E-2,1.8258432548935888E-2,2.1957390334427007E-2,2.5078752378159486E-2,3.4395259999999928E-2,3.2845616776215225E-2]
[13,3.0333302128107809E-2,4.1839605246392297E-2,2.1591871767034698E-2,4.0381648878091481E-2,4.2511021413316641E-2,4.8626185710451963E-2,4.7248888530076139E-2,7.0308999999999955E-2,5.8602227948025387E-2,4.9933292766540127E-2,6.4891486820309874E-2,3.8569433297145128E-2,6.2996143541518945E-2,6.5764327837311676E-2,7.3714041423587506E-2,7.5281897293661304E-2,0.10190169999999998,9.1133941469863311E-2,1.1389982213021455E-2,1.7948574990443555E-2,6.4073669072097772E-3,1.7117539860512121E-2,1.8331282205590549E-2,2.1816925854957647E-2,2.5221424510857515E-2,3.4176130000000082E-2,3.2525792498328876E-2]
[14,3.0729932558340334E-2,4.2148936108964641E-2,2.240160779492073E-2,4.0927722623403051E-2,4.309949910119415E-2,4.8989569434892744E-2,4.6213408121119404E-2,7.092900000000002E-2,5.6741308716320216E-2,4.9841613000259022E-2,6.4572127580564409E-2,3.9098074055447629E-2,6.2996762184189814E-2,6.5798353840540447E-2,7.3396544571011635E-2,7.4244296958011269E-2,0.10169841000000002,8.9206361782517174E-2,1.1408762232670622E-2,1.7803404221020225E-2,6.7449003651556261E-3,1.7119524669105601E-2,1.8335719496668679E-2,2.1634158883540033E-2,2.5377568706326459E-2,3.3920240000000046E-2,3.2272645866106675E-2]
[15,3.1073802433713382E-2,4.2417097146257632E-2,2.3103898157389002E-2,4.1401218376156956E-2,4.3609781790955315E-2,4.930460385343749E-2,4.531790952128123E-2,7.1511000000000102E-2,5.5132258156876723E-2,4.9574467115153231E-2,6.4093884347209862E-2,3.9372989641457856E-2,6.2793559521481024E-2,6.5620520692422746E-2,7.2909892932399911E-2,7.3158417740734505E-2,0.10133408000000022,8.7322987014976983E-2,1.1390591338542366E-2,1.7629403430441615E-2,7.0071439865639906E-3,1.7070670106886343E-2,1.828537998502533E-2,2.141753211939057E-2,2.5541209849518909E-2,3.3631050000000107E-2,3.2070781728872566E-2]
[16,3.1327928807661554E-2,4.1812427434563704E-2,2.4009602074844816E-2,4.1760011331791747E-2,4.4048625196303925E-2,4.9508073310523093E-2,4.4535891395974136E-2,6.9079337325059331E-2,5.3727271239188523E-2,4.9899748873806882E-2,6.4099793629896817E-2,4.053229065580144E-2,6.3252814504693555E-2,6.6182240251269064E-2,7.3170333837469625E-2,7.2051921687397158E-2,0.10083543349298951,8.5496975409301346E-2,1.1003802268060525E-2,1.7604609472623656E-2,7.1250890996676919E-3,1.653280600584961E-2,1.7745771354040984E-2,2.0639278854577281E-2,2.5708186221995666E-2,3.3414179930387755E-2,3.1908860691530538E-2]
[17,3.1552209974986534E-2,4.1280518678013411E-2,2.4809418401419814E-2,4.2076696005797887E-2,4.4435993211059621E-2,4.968763794918063E-2,4.3847131687868801E-2,6.699340592571601E-2,5.2489907427039739E-2,4.9571306668233062E-2,6.3920539461355119E-2,4.1007961369803336E-2,6.2937403927363356E-2,6.5933711378045823E-2,7.2603300195459575E-2,7.0944102352341831E-2,0.10008083349494057,8.3736204049086993E-2,1.0907149186992982E-2,1.7669580198152346E-2,7.4008975687382961E-3,1.6379881923014983E-2,1.7606716469751094E-2,2.0337571733573867E-2,2.5875584704140087E-2,3.3286052178912229E-2,3.1778384060859866E-2]
[18,3.1751611958396708E-2,4.0809065382345633E-2,2.5520890677634522E-2,4.235827431130379E-2,4.4780440990118242E-2,4.9847276752843728E-2,4.3235933566535545E-2,6.5189176070986843E-2,5.1391904882261974E-2,4.9107031067579854E-2,6.3605203861881066E-2,4.1256322253819588E-2,6.247142563224295E-2,6.5523355647549186E-2,7.190756870858328E-2,6.9848392212141563E-2,9.9144398873444839E-2,8.2044960924085641E-2,1.0793322098782365E-2,1.78008238598657E-2,7.6156542455936282E-3,1.6202719898764872E-2,1.7438024904960381E-2,2.002211114395025E-2,2.6041367435054807E-2,3.322563453202676E-2,3.1672886648899334E-2]
[19,3.1930056931590345E-2,4.0388375342819582E-2,2.6157889809792723E-2,4.2610277287617127E-2,4.5088727396662476E-2,4.9990132051123348E-2,4.2689928028768254E-2,6.3616869268136922E-2,5.0411009228648274E-2,4.9331871733804045E-2,6.319077862231981E-2,4.2058941160338925E-2,6.2788949382397652E-2,6.5911796519794841E-2,7.2087566384415602E-2,6.8774062139642878E-2,9.8081588157797661E-2,8.0425079683612344E-2,1.1084329035111029E-2,1.7980646626558849E-2,8.1405238029943483E-3,1.6531241416684717E-2,1.7795250972297838E-2,2.0294967346072834E-2,2.6204119031230988E-2,3.3216950424929337E-2,3.1587386646553028E-2]
[20,3.2090683794894659E-2,4.001071270198997E-2,2.6731527319618031E-2,4.2837132056608551E-2,4.536626293854451E-2,5.0118718439563725E-2,4.2199237431383985E-2,6.2237280476712176E-2,4.9529458955559491E-2,4.8913354743618243E-2,6.2705340698013146E-2,4.2214409149522458E-2,6.2346415070760663E-2,6.5507828673180502E-2,7.1448398049454465E-2,6.772739629543878E-2,9.6934125310317532E-2,7.8876714216338684E-2,1.1045341897447436E-2,1.8195613658046117E-2,8.3657636598091223E-3,1.6418566028304271E-2,1.7683131469272251E-2,2.0059359219781969E-2,2.6362871880882377E-2,3.3247748538054234E-2,3.1518002243441368E-2]
[21,3.2123705321590812E-2,3.966982947328801E-2,2.7276222912953507E-2,4.2867051062486006E-2,4.5528823587424494E-2,5.0043850933394696E-2,4.1755879118997141E-2,6.1019174207483706E-2,4.8732906918734553E-2,4.853209861909713E-2,6.217031324781086E-2,4.2795278641191814E-2,6.2283813828107437E-2,6.5611029484280659E-2,7.1254813666743244E-2,6.6712518237999285E-2,9.5733509911159143E-2,7.7398875048117155E-2,1.105712173740736E-2,1.8435460680345406E-2,9.0108736856062688E-3,1.6962196041867772E-2,1.8319700029586494E-2,2.0622363976031233E-2,2.6516983253949356E-2,3.3308560615786353E-2,3.1461679165132539E-2]
[22,3.2154746104094523E-2,3.9360625355932433E-2,2.7771651479021386E-2,4.2894250903609654E-2,4.5676627931841463E-2,4.9975794195986412E-2,4.1353332431413703E-2,5.9937406700220075E-2,4.800963817089543E-2,4.8154842061208791E-2,6.1602101023135791E-2,4.2936847833986436E-2,6.1688871120475941E-2,6.5139018635483437E-2,7.0469984803023022E-2,6.5731980268132872E-2,9.4503556336214656E-2,7.598980506885411E-2,1.1162548362092073E-2,1.8692310943447366E-2,8.9858257395107888E-3,1.6547125451804812E-2,1.7938313965920827E-2,2.008789709799319E-2,2.6666047545772287E-2,3.3392022648170983E-2,3.141599365310932E-2]
[23,3.218396280436564E-2,3.9078896663403473E-2,2.8224207967844528E-2,4.2919086160726483E-2,4.5811597972891027E-2,4.9913659288060241E-2,4.098621916444567E-2,5.8971549301396475E-2,4.7349993305122684E-2,4.7784143146940572E-2,6.1013289691755901E-2,4.3198017880127226E-2,6.1419666839300779E-2,6.5006381486384823E-2,7.0092937517194587E-2,6.4787189083654662E-2,9.3262254933852429E-2,7.4647244996382645E-2,1.1339993882017341E-2,1.8960103355575519E-2,9.0298619042439299E-3,1.6230352218755906E-2,1.7647683006716708E-2,1.9657693051149616E-2,2.6809832797295208E-2,3.3492378309798676E-2,3.1379007786136892E-2]
[24,3.2211496120299721E-2,3.8821148287057738E-2,2.8639226469787671E-2,4.294185233263037E-2,4.5935335814480061E-2,4.98567055192638E-2,4.0650064263342056E-2,5.8104864294711511E-2,4.6745936967016677E-2,4.7421823589770762E-2,6.041353619205303E-2,4.3226248557838742E-2,6.0818478369135454E-2,6.4500463051810453E-2,6.9323747788694545E-2,6.3878716427388627E-2,9.2023152219090631E-2,7.3368622040498988E-2,1.1572386972180215E-2,1.9234169265039514E-2,9.2332209701959655E-3,1.6241507642988928E-2,1.7708314549095272E-2,1.9629785704439184E-2,2.6948234271713556E-2,3.3605110791048221E-2,3.1349161765551692E-2]
[25,3.2237472964663061E-2,3.8584450986419938E-2,2.9021191436979787E-2,4.296279764970512E-2,4.6049187559063176E-2,4.9804310780641181E-2,4.0341114197691486E-2,5.7323532761374585E-2,4.6190730624886323E-2,4.7069147260415889E-2,5.9810236919479065E-2,4.3205853553115459E-2,6.0214613132640205E-2,6.3980008822057011E-2,6.8561259152382314E-2,6.3006527774754018E-2,9.0796384969827226E-2,7.2151184390436107E-2,1.1846200662535944E-2,1.9510915551235186E-2,9.2301718897502827E-3,1.5922142871858558E-2,1.7403610028350336E-2,1.9206069174707796E-2,2.7081240192702749E-2,3.3726666529813043E-2,3.1325192724525719E-2]
[26,3.2262008242638807E-2,3.8366331762273553E-2,2.9373900371638451E-2,4.2818652836428273E-2,4.6017264056207319E-2,4.9585891973192187E-2,4.0056197430072382E-2,5.6616065407400384E-2,4.5678681352520512E-2,4.6726954377938945E-2,5.9209034029982455E-2,4.3436158453398876E-2,5.9838756460442566E-2,6.3741062148573002E-2,6.8094788207294421E-2,6.2170151873013779E-2,8.9589462084802785E-2,7.0992097070365245E-2,1.215068579037526E-2,1.9787584837832384E-2,9.4994721783865366E-3,1.59529533614855E-2,1.7488286746979442E-2,1.9201228147132321E-2,2.7208906267850441E-2,3.3854245673960781E-2,3.1306072846105648E-2]
[27,3.2285206321883919E-2,3.8164688706816552E-2,2.9700590511593905E-2,4.2685203179736453E-2,4.5987706125937278E-2,4.9383692855763606E-2,3.9792616025206229E-2,5.5972848058803315E-2,4.5204946797797518E-2,4.6395763168110893E-2,5.861420236974757E-2,4.3337714519028792E-2,5.9049095847481192E-2,6.304512441238419E-2,6.7154268355474001E-2,6.1368807119292157E-2,8.8407860484627676E-2,6.9888509998577097E-2,1.2477284574325065E-2,2.0062072377724727E-2,9.4592775404491736E-3,1.556204549447604E-2,1.7114221879190428E-2,1.871033564220892E-2,2.7331336631786884E-2,3.3985641629622476E-2,3.1290961722227673E-2]
[28,3.2307162263198297E-2,3.79777241908279E-2,3.0004038477605688E-2,4.2561300932823842E-2,4.5960260224278349E-2,4.9195971411400308E-2,3.9548060586326095E-2,5.5385787526300856E-2,4.4765382207706539E-2,4.6075847389895896E-2,5.8028947423072186E-2,4.3504886557903077E-2,5.8699174128716836E-2,6.2811914871376828E-2,6.6727125407794574E-2,6.0601496134995658E-2,8.7255482492482717E-2,6.8837605900683663E-2,1.2819177888735434E-2,2.0332785067642689E-2,9.7018980844747471E-3,1.5603811438427151E-2,1.7201322305410827E-2,1.8722106563358043E-2,2.7448669528287617E-2,3.4119117141522048E-2,3.1279169341420276E-2]
[29,3.2327962861988357E-2,3.7803891946297519E-2,3.0286639383674485E-2,4.2445956903706783E-2,4.5934707790796336E-2,4.9021226460620904E-2,3.9320542867895547E-2,5.4848033140278751E-2,4.4356419299820482E-2,4.5767295789437279E-2,5.7455636281976918E-2,4.3343967260409233E-2,5.7935148284448124E-2,6.2121649348955588E-2,6.5825471752744891E-2,5.9867076705085953E-2,8.6135009060455126E-2,6.7836633539705815E-2,1.3170932894098764E-2,2.0598532111712364E-2,1.0034720510327055E-2,1.5749599744742104E-2,1.7389312661674206E-2,1.8839976436491934E-2,2.7561066521924582E-2,3.4253307852584181E-2,3.1270127095497147E-2]
[30,3.234768753809969E-2,3.764185479067117E-2,3.0550470184384171E-2,4.2338313989920939E-2,4.5910859416080418E-2,4.8858157431598048E-2,3.9108341925519152E-2,5.4353755939487769E-2,4.3974969507630357E-2,4.5470057903105765E-2,5.6895977752268179E-2,4.3560564221260867E-2,5.7705976787905122E-2,6.1993031299296453E-2,6.5529788917917609E-2,5.9164315022484981E-2,8.5048174016829181E-2,6.6882930203001401E-2,1.3528226762786755E-2,2.0858439687028607E-2,1.0258720986660474E-2,1.5799007575262758E-2,1.747810392555782E-2,1.8863333992851006E-2,2.7668704358952523E-2,3.4387146733833696E-2,3.1263364896477519E-2]
[31,3.2366409102550842E-2,3.7490450580885293E-2,3.0620747821329619E-2,4.2028746714702692E-2,4.571727741985665E-2,4.8335763743311055E-2,3.8909960735402205E-2,5.3897972215180667E-2,4.3618346065695368E-2,4.5183979470370561E-2,5.6351163522803116E-2,4.3625565776982622E-2,5.7283211313470916E-2,6.1860732903827875E-2,6.5013680190832757E-2,5.8491925600935524E-2,8.3995977965513946E-2,6.5973936312517578E-2,1.3887628639509986E-2,2.1111883968877532E-2,1.0408777853027518E-2,1.580685875069765E-2,1.7487120387332578E-2,1.8832482278162699E-2,2.7771768829985E-2,3.4519804504901108E-2,3.1258492991724562E-2]
[32,3.2384194423146218E-2,3.7348664590020952E-2,3.0684260794771268E-2,4.1739318861572894E-2,4.55358268385746E-2,4.7846968080136998E-2,3.8724090984989301E-2,5.3476401487181136E-2,4.3284200791165794E-2,4.490882988449596E-2,5.5821979310722636E-2,4.3647037386397525E-2,5.6853338170200551E-2,6.1742992206289538E-2,6.447968970599538E-2,5.7848601090366492E-2,8.2978855754880287E-2,6.5107204259627682E-2,1.4246426544733071E-2,2.1358438309257322E-2,1.0599588542771432E-2,1.5864147629281566E-2,1.7501838614130127E-2,1.8847552990456151E-2,2.7870450153825832E-2,3.4650642404741694E-2,3.1255187421802111E-2]
[33,3.2401105006113484E-2,3.7215606938739043E-2,3.0741863368964895E-2,4.1468120162484912E-2,4.5365401942787376E-2,4.7388622341215658E-2,3.8549584295300088E-2,5.3085351431428451E-2,4.2970472427724449E-2,4.4644323504965167E-2,5.5308892702377044E-2,4.3632920644614881E-2,5.6420428346797502E-2,6.1538482331344957E-2,6.393457674574754E-2,5.7233034411313444E-2,8.1996808001278509E-2,6.4280403014776333E-2,1.4602489230489901E-2,2.159783140311955E-2,1.0822409304782399E-2,1.59613438253281E-2,1.7168084893682156E-2,1.8899929078779243E-2,2.7964939522615584E-2,3.4779174570715998E-2,3.125317832439678E-2]
[34,3.2417197507316198E-2,3.7090494036446264E-2,3.0794285183886494E-2,4.1213473288976843E-2,4.5205027417539956E-2,4.6957958677602774E-2,3.838542854599658E-2,5.2721624066923267E-2,4.2675344159003537E-2,4.4390136212749232E-2,5.4812122797678553E-2,4.358982331389849E-2,5.5987724827063268E-2,6.1346032901048009E-2,6.3383781914017501E-2,5.6643935027268277E-2,8.1049504629058244E-2,6.3491319661673762E-2,1.495415541020817E-2,2.1829914039250609E-2,1.1070035978508086E-2,1.6090551194424485E-2,1.7194312612068385E-2,1.8982459949804298E-2,2.8055426536854444E-2,3.4905037942716266E-2,3.1252240477643856E-2]
[35,3.2432524183866773E-2,3.697263322671196E-2,3.0842151484606006E-2,4.0973899699793925E-2,4.505383968603982E-2,4.6552534056177652E-2,3.8230728278902948E-2,5.2382438832835554E-2,4.2397208448112789E-2,4.4145918261937034E-2,5.4331695569533878E-2,4.3523249190670965E-2,5.5557796279195326E-2,6.1164607623247935E-2,6.2831668375151306E-2,5.608004073288253E-2,8.0136366516470936E-2,6.2737858712323069E-2,1.5300144565099982E-2,2.2054632596932855E-2,1.1336531209276357E-2,1.62452209101005E-2,1.7224766255578228E-2,1.9089204867837051E-2,2.8142097324153514E-2,3.5027968096540407E-2,3.1252185617026029E-2]
[36,3.2447133294892794E-2,3.6861410011000739E-2,3.0885999736770975E-2,4.0748091279034337E-2,4.491107135346617E-2,4.6170184200709397E-2,3.8084688383996923E-2,5.2065369174505438E-2,4.2134637771478634E-2,4.3911304236688542E-2,5.3867487954748716E-2,4.3437785995137812E-2,5.5132661602825594E-2,6.1093285624159499E-2,6.228171771852975E-2,5.5540126007890489E-2,7.9256629935654743E-2,6.2018039842538064E-2,1.5639484857305819E-2,2.2272007870917543E-2,1.1617002867758242E-2,1.6419918240816012E-2,1.7259092822594413E-2,1.9215224272333353E-2,2.8225133184201834E-2,3.5147779774973742E-2,3.1252856165409515E-2]
[37,3.2461069458604275E-2,3.6756277360558531E-2,3.0926293335686195E-2,4.0534886657181968E-2,4.4776038179250133E-2,4.5808985116570611E-2,3.7946600444512812E-2,5.1768290001655615E-2,4.1886360126205169E-2,4.3685920738459005E-2,5.3419263017245866E-2,4.333725951087275E-2,5.4713891178346241E-2,6.1379006196892849E-2,6.1736689486558527E-2,5.5023007740698127E-2,7.8409397418102378E-2,6.132999452662613E-2,1.5971454678630259E-2,2.2482118124664607E-2,1.1907423290413499E-2,1.6610132141521738E-2,1.6849217180662457E-2,1.9356409320299583E-2,2.8304709638963699E-2,3.5264351159570273E-2,3.1254120095328686E-2]
[38,3.247437397155295E-2,3.665674672981134E-2,3.0963432965312787E-2,4.033325134230803E-2,4.4648128111006491E-2,4.5467220786409746E-2,3.7815831249428333E-2,5.1489333948076421E-2,4.1651238427199644E-2,4.3469392288924213E-2,5.2986698010835775E-2,4.3224860463863202E-2,5.4302689407783378E-2,6.1224235014317951E-2,6.1198751477109958E-2,5.4527548939933279E-2,7.7593677874125966E-2,6.0671961929622764E-2,1.6295535121171545E-2,2.2685085512842873E-2,1.220448124648188E-2,1.6812119175323437E-2,1.6891657649952929E-2,1.9509342093871007E-2,2.8380995794753838E-2,3.5377611134709497E-2,3.125586670315994E-2]
[39,3.2487085094986545E-2,3.656238046422966E-2,3.0997766047403008E-2,4.0142260969118881E-2,4.452679200926557E-2,4.5143355916395622E-2,3.7691813082786574E-2,5.1226854795610954E-2,4.1428253092405276E-2,4.3261345827524389E-2,5.2569406775540672E-2,4.3103249287949286E-2,5.3899962170744997E-2,6.1177418331211486E-2,6.0669586445427415E-2,5.4052660911209083E-2,7.680841818071471E-2,6.0042284325099615E-2,1.6611371235184302E-2,2.2881065198460115E-2,1.2505460278133596E-2,1.7022775106838361E-2,1.6491788484076952E-2,1.9671180536728894E-2,2.8454153943858307E-2,3.5487528955157943E-2,3.1258003121251043E-2]
[40,3.2499238312410528E-2,3.6472785357234416E-2,3.1029594631176938E-2,3.9961087113123739E-2,4.4411535766476273E-2,4.4836012838694872E-2,3.7574035477645706E-2,5.0979396759935902E-2,4.1216487255438139E-2,4.3061414100711071E-2,5.216695759843315E-2,4.2974642879864744E-2,5.3506372071192354E-2,6.1037958277436299E-2,6.0150479677115287E-2,5.359730426857201E-2,7.6052527979465268E-2,5.943940223842592E-2,1.6918740385366782E-2,2.3070236632034335E-2,1.2808138395272728E-2,1.7239528908430612E-2,1.6096960379584857E-2,1.9839563428249551E-2,2.8524339349497607E-2,3.5594105851442404E-2,3.1260451429904856E-2]
[41,3.2510866561835217E-2,3.6387607158794966E-2,3.1059182003999153E-2,3.9788985225962081E-2,4.4155860070549835E-2,4.4543951851923502E-2,3.7462038183569524E-2,5.0745668595749693E-2,4.1015114154818955E-2,4.2869238176734381E-2,5.1778887434996035E-2,4.2840886630830077E-2,5.3122383768285486E-2,6.0828590685365391E-2,5.9642391003463358E-2,5.3160489067321848E-2,7.5324899060285277E-2,5.8861849463781368E-2,1.7217526362422131E-2,2.3252796570306877E-2,1.3110705137485912E-2,1.7460255001193969E-2,1.6087019830336446E-2,2.0012531666449895E-2,2.8591700170323975E-2,3.5697368202827651E-2,3.1263146258986518E-2]
[42,3.2522000445671884E-2,3.6306525876101725E-2,3.1086758248705992E-2,3.9625284333248301E-2,4.391241759854414E-2,4.4266054419376255E-2,3.7355405144541498E-2,5.052452168252386E-2,4.0823386335224754E-2,4.2684469270654057E-2,5.1404713203804686E-2,4.2703514379746732E-2,5.2748301228216166E-2,6.0534025294238569E-2,5.9146014123658608E-2,5.2741274280985628E-2,7.4624420421652404E-2,5.830824806409507E-2,1.7507698176400188E-2,2.3428953497885763E-2,1.3411692817428822E-2,1.7683200392767162E-2,1.5643215391388576E-2,2.0188462879337843E-2,2.8656377490262841E-2,3.5797361982230047E-2,3.1266032790723708E-2]
[43,3.253266842081004E-2,3.6229251736524137E-2,3.1112524930016594E-2,3.9469378203651706E-2,4.3680350891971642E-2,4.4001308753793156E-2,3.7253759322101621E-2,5.0314931412221986E-2,4.0640626364320864E-2,4.2506770025878993E-2,5.1043940723738412E-2,4.2563798425543364E-2,5.2384298374542393E-2,6.0353224579285714E-2,5.8661825540915702E-2,5.2338766795712255E-2,7.394998987530732E-2,5.7777303433329541E-2,1.7789292669960544E-2,2.3598923182536868E-2,1.3709919387527858E-2,1.7906924031559912E-2,1.5208943865708369E-2,2.0366016970382983E-2,2.8718505426964525E-2,3.5894148235915857E-2,3.1269065092414783E-2]
[44,3.2542896971071711E-2,3.6155521706756621E-2,3.1136659058204064E-2,3.9320717751413881E-2,4.3458880797585309E-2,4.374879740393145E-2,3.7156758228640063E-2,5.0115981327305104E-2,4.046621882285284E-2,4.2335815368420127E-2,5.0696071749807281E-2,4.2422791333046606E-2,5.2030444330072312E-2,6.0085245765078232E-2,5.8190124977598234E-2,5.1952120056821594E-2,7.3300522888030128E-2,5.7267799477916048E-2,1.8062400256712685E-2,2.3762925147933434E-2,1.400444086605801E-2,1.8130246214614454E-2,1.4348963511058299E-2,2.0544090665497672E-2,2.877821129797109E-2,3.5987799407017684E-2,3.1272204721337626E-2]
[45,3.2552710763935178E-2,3.6085096481013768E-2,3.1159316450909635E-2,3.9178804477224993E-2,4.3247297728172152E-2,4.350768652727699E-2,3.7064090059871768E-2,4.9926849558427078E-2,4.0299603368953996E-2,4.2171293026312506E-2,5.0360609474185303E-2,4.2281360944899093E-2,5.1686724217124835E-2,5.9829230251088328E-2,5.773106878245815E-2,5.1580532472179197E-2,7.267495921481304E-2,5.6778593956931411E-2,1.8327153222262638E-2,2.3921179889722088E-2,1.429451165001594E-2,1.8352206296183393E-2,1.3933973136705413E-2,2.0721779494626613E-2,2.8835615828262107E-2,3.6078396348530051E-2,3.1275419554942507E-2]
[46,3.2562132793183318E-2,3.6017757866354749E-2,3.1180634592100409E-2,3.9043184786683449E-2,4.3044954068185204E-2,4.327721658869077E-2,3.6975470334890126E-2,4.9746797192147696E-2,4.0140268712380855E-2,4.2012903787901568E-2,5.0037062787910314E-2,4.2140219753997732E-2,5.1353056302305466E-2,5.9584394422504072E-2,5.728469756165655E-2,5.1223245653537974E-2,7.2072267768086284E-2,5.6308614007545499E-2,1.8583716131194583E-2,2.4073906694218161E-2,1.4579551353783193E-2,1.8572027270369329E-2,1.4057082545910315E-2,2.0898345932292894E-2,2.8890833386431725E-2,3.6166025900637111E-2,3.127868280803936E-2]
[47,3.2571184508925155E-2,3.5953306505527305E-2,3.1200735069591534E-2,3.8913445053243789E-2,4.2851257552985134E-2,4.3056694269536067E-2,3.6890638967835399E-2,4.9575158264104413E-2,3.9987747362479009E-2,4.186036155778794E-2,4.9724949541974262E-2,4.1999949583176654E-2,5.1029306127014173E-2,5.9350021639112072E-2,5.6850959039226323E-2,5.0879542558530444E-2,7.1491450080414243E-2,5.5856851872376989E-2,1.8832277967770317E-2,2.4221321945769647E-2,1.4859117061856608E-2,1.8789086062186433E-2,1.3654965294604526E-2,2.1073192654530448E-2,2.8943972239574567E-2,3.6250778930578598E-2,3.1281972205618791E-2]
[48,3.2579885936261599E-2,3.5891559887706537E-2,3.1219725658311992E-2,3.878920731501978E-2,4.2665665479115988E-2,4.284548540812616E-2,3.6809357707928481E-2,4.9411331125734703E-2,3.9841611036476543E-2,4.171339325737411E-2,4.9423799001101276E-2,4.1861022350912158E-2,5.071529814821063E-2,5.9025455229730461E-2,5.6429726970466776E-2,5.0548745581500354E-2,7.0931542648432266E-2,5.5422360837934947E-2,1.9073045706107017E-2,2.4363637830270513E-2,1.5132880084317568E-2,1.9002888571207022E-2,1.3259639572481774E-2,2.1245840057051213E-2,2.8995134819182145E-2,3.6332748752034183E-2,3.1285269285530992E-2]
[49,3.2588255783718489E-2,3.5832350605653707E-2,3.1237702104961462E-2,3.8670125513096121E-2,4.2487679626415087E-2,4.2643008821908968E-2,3.6731407894982526E-2,4.9254770975384332E-2,3.9701466633299098E-2,4.1571738607487196E-2,4.9133153647004768E-2,4.1723817565576304E-2,5.0410825319661345E-2,5.8810092347962417E-2,5.6020816784406735E-2,5.0230214629958025E-2,7.039161839001995E-2,5.5004251387742897E-2,1.930623906048079E-2,2.4501061359547549E-2,1.5400606465498345E-2,1.9213048681346878E-2,1.3395564665509507E-2,2.1415907330857964E-2,2.9044417992119209E-2,3.6412029856137007E-2,3.1288558809767775E-2]
[50,3.2596311542440803E-2,3.5775524824489979E-2,3.1254749660280856E-2,3.8555882193984425E-2,4.2316841791900206E-2,4.2448730886012864E-2,3.6656588485995734E-2,4.9104983379515632E-2,3.9566952693330215E-2,4.1435149822979467E-2,4.8852570458514766E-2,4.15886370798213E-2,5.0115656967420152E-2,5.8503378568199427E-2,5.56239985118685E-2,4.9923345214462733E-2,6.9870787401923318E-2,5.4601687569608925E-2,1.9532086210866995E-2,2.4633793655282732E-2,1.5662140627468624E-2,1.941927058766435E-2,1.3010894627164982E-2,2.1583096514253608E-2,2.9091913332134123E-2,3.6488716898485984E-2,3.1291828266776012E-2]
[51,3.2604069577032213E-2,3.5720940932780998E-2,3.1270944397473244E-2,3.8446185611161976E-2,4.2129087308574675E-2,4.226216076266831E-2,3.6584714315429201E-2,4.896151863827769E-2,3.9437736277084356E-2,4.1303391243135756E-2,4.8581621772191053E-2,4.145571754603905E-2,4.9829545251087959E-2,5.829012811279366E-2,5.5239007458280476E-2,4.9627566572682635E-2,6.9368197168968582E-2,5.4213883573468236E-2,1.9750820334975883E-2,2.4762029442411793E-2,1.591739163670769E-2,1.9621333902820615E-2,1.2801112288134853E-2,2.1747179040127573E-2,2.9137707388466882E-2,3.6562903896465881E-2,3.1295067450220149E-2]
[52,3.2611545208822701E-2,3.5668468351157445E-2,3.128635434897542E-2,3.8340767170793599E-2,4.194902180592619E-2,4.2082846192455836E-2,3.6515614557538045E-2,4.8823966873180469E-2,3.9313510206111513E-2,4.1176238916832864E-2,4.8319895807783286E-2,4.1325240939561025E-2,4.9552230451617829E-2,5.8058282603218325E-2,5.4865553000849943E-2,4.9342339842814331E-2,6.8883032346917394E-2,5.3840100514069844E-2,1.996267680753383E-2,2.4885956711099277E-2,1.6166321669517592E-2,1.9819081097147917E-2,1.2657554916299052E-2,2.1907984379045731E-2,2.91818819489853E-2,3.6634683599292561E-2,3.1298268102079474E-2]
[53,3.2618752792272776E-2,3.5617986477469277E-2,3.1301040488585841E-2,3.8239379175148303E-2,4.1776163541489941E-2,4.1910369771929412E-2,3.6449131363930576E-2,4.8691953733983606E-2,3.9193990618048069E-2,4.1053480157477118E-2,4.8066996927258465E-2,4.1197343455195545E-2,4.9283445284902694E-2,5.7811651132342101E-2,5.4503325824578619E-2,4.9067156297196934E-2,6.8414514217475686E-2,5.347964341125433E-2,2.016789095166982E-2,2.5005756513850397E-2,1.6408936323188295E-2,2.0012406901109836E-2,1.2570509304073774E-2,2.206539044560496E-2,2.9224514295970172E-2,3.6704146999812837E-2,3.1301423609968682E-2]
[54,3.2625705785134684E-2,3.5569383750595263E-2,3.1315057581638772E-2,3.8141792824225584E-2,4.1610071182504482E-2,4.1744345653491832E-2,3.6385118653511128E-2,4.8565136637954254E-2,3.9078914794885122E-2,4.0934913079585744E-2,4.7822545683387174E-2,4.1072123032367625E-2,4.9022918406276483E-2,5.755347853287951E-2,5.415200385810448E-2,4.8801535643527627E-2,6.7961899894911193E-2,5.3131858359575013E-2,2.0366696247064331E-2,2.5121602870410209E-2,1.664527647867553E-2,2.0201249360489948E-2,1.2531600759327244E-2,2.2219315490581426E-2,2.9265677453214956E-2,3.6771382962509147E-2,3.1304528750245364E-2]
[55,3.26324168129426E-2,3.5522556817658479E-2,3.1328454922347371E-2,3.8047796441939896E-2,4.1450339647770562E-2,4.1584416612846065E-2,3.6323441035306159E-2,4.844320146797676E-2,3.8968039229500206E-2,4.0820346126324125E-2,4.7586178703500792E-2,4.0949645722511807E-2,4.8770377243035234E-2,5.7286525306495806E-2,5.3811257126328949E-2,4.8545024398427339E-2,6.7524481348265386E-2,5.2796129878384113E-2,2.0559322915778111E-2,2.5233662758064268E-2,1.6875411469002843E-2,2.0385582285401993E-2,1.2533605646599888E-2,2.2369711246821078E-2,2.9305440423528673E-2,3.6836477946607049E-2,3.1307579469830538E-2]
[56,3.2638897728333394E-2,3.5477409791585535E-2,3.1341276974473864E-2,3.7957193898112029E-2,4.1296596445087763E-2,4.1430251437262866E-2,3.6263972847468295E-2,4.8325859667105453E-2,3.8861137900519926E-2,4.0709597595272484E-2,4.7357548445558839E-2,4.0829951077887561E-2,4.8525550268949891E-2,5.7013136139655751E-2,5.3480751700450302E-2,4.8297194336028637E-2,6.710158429058799E-2,5.247187843318768E-2,2.0745996820098256E-2,2.5342096169047146E-2,1.7099433347664617E-2,2.0565408876223712E-2,1.2570291342818951E-2,2.2516557134410364E-2,2.9343868416075614E-2,3.6899515806834149E-2,3.1310572700810058E-2]
[57,3.2645159665656287E-2,3.5433853587799824E-2,3.1353563928997907E-2,3.7869803201616259E-2,4.1148498438188463E-2,4.128154259455874E-2,3.6206597298107823E-2,4.821284567644657E-2,3.8758000729793851E-2,4.0602495168028385E-2,4.7136322856724977E-2,4.0713056712339046E-2,4.8288168815648236E-2,5.6735298677523804E-2,5.3160152895975754E-2,4.8057641012669405E-2,6.6692566976412015E-2,5.2158558118958531E-2,2.0926938617819246E-2,2.5447056220088138E-2,1.7317452084525176E-2,2.0740756344376887E-2,1.2636279349161006E-2,2.265985536184445E-2,2.9381023063231648E-2,3.6960577657407345E-2,3.1313506202828911E-2]
[58,3.2651213091282605E-2,3.5391805330395654E-2,3.1365352190399154E-2,3.7785455243501076E-2,4.1005728986751144E-2,4.1138004148290941E-2,3.6151205695591715E-2,4.8103914671042025E-2,3.8658432200332937E-2,4.0498875447931626E-2,4.6922184958984037E-2,4.0598962160668828E-2,4.8057968499917392E-2,5.645469397460201E-2,5.2849127844393218E-2,4.7825982367545539E-2,6.6296818940372759E-2,5.1855654496155923E-2,2.1102363129549273E-2,2.5548689301889915E-2,1.7529591544328316E-2,2.091167137485872E-2,1.2726928012450234E-2,2.2799626785843907E-2,2.9416962626854115E-2,3.7019741787299054E-2,3.1316378429076863E-2]
[59,3.2657067849988008E-2,3.5351187819457452E-2,3.1376674801414595E-2,3.7703992671828557E-2,4.0867995411215663E-2,4.0999369889415993E-2,3.6097696757633857E-2,4.7998840554986044E-2,3.8562250115569796E-2,4.0398583509120733E-2,4.6714832381668403E-2,4.048765214339145E-2,4.7834690332863916E-2,5.6172739827632157E-2,5.2547347543496992E-2,4.7601857398259284E-2,6.5913759703117636E-2,5.1562682570383656E-2,2.1272478880241641E-2,2.5647135258575871E-2,1.7735986125932079E-2,2.1078216301563923E-2,1.2838231892129182E-2,2.2935907414097345E-2,2.9451742194009478E-2,3.7077083616905204E-2,3.1319188412319843E-2]
[60,3.266273320774471E-2,3.5311929052316282E-2,3.1387561814693266E-2,3.7625268882460094E-2,4.0735026740973623E-2,4.086539165869163E-2,3.6045975989926982E-2,4.7897414182528353E-2,3.8469284483375166E-2,4.0301472459274068E-2,4.6513976856955574E-2,4.0379099326992129E-2,4.7618081565956372E-2,5.5890628016235233E-2,5.2254488474182903E-2,4.738492490951618E-2,6.5542837465151882E-2,5.1279184906872999E-2,2.1437487783469988E-2,2.5742527589011077E-2,1.793677795959403E-2,2.1240465886612991E-2,1.2966735287885722E-2,2.3068745453266537E-2,2.9485413862319731E-2,3.7132675687933103E-2,3.1321935667981471E-2]
[61,3.2668217891225426E-2,3.5273961792481323E-2,3.1398040618520362E-2,3.7549147112125647E-2,4.0606571710320782E-2,4.0735837837520439E-2,3.599595512629139E-2,4.7799441776593454E-2,3.8379376510435881E-2,4.0207403017701759E-2,4.6319343691259895E-2,4.0273266655864726E-2,4.7407896319906051E-2,5.5609356324519688E-2,5.1970233857191017E-2,4.7174862332719281E-2,6.518352780478498E-2,5.1004729871314103E-2,2.1597584942226522E-2,2.5834993663429451E-2,1.8132114575703406E-2,2.1398504611792157E-2,1.3109457838466954E-2,2.3198198819722293E-2,2.9518026915181128E-2,3.7186587679750804E-2,3.1324620111738533E-2]
[62,3.2673530124299299E-2,3.5237223180804245E-2,3.1408136222763838E-2,3.7475499621917985E-2,4.0482396971472712E-2,4.0610491987858044E-2,3.5947551623352503E-2,4.7704743520105675E-2,3.8292377694474578E-2,4.0116243109902028E-2,4.6130671222879283E-2,4.0170109320407654E-2,4.7203896034771375E-2,5.5329756088005722E-2,5.169427461132825E-2,4.6971364613869193E-2,6.4835332392704892E-2,5.0738909988913283E-2,2.1752958544402734E-2,2.5924654950057358E-2,1.8322146971826658E-2,2.1552424404372328E-2,1.3263830429881995E-2,2.3324333043175383E-2,2.9549627987168758E-2,3.7238886446602226E-2,3.1327241989482113E-2]
[63,3.2678677661767352E-2,3.520165438413092E-2,3.1417871510303064E-2,3.7404206960887976E-2,4.0362285498127592E-2,4.0489151624307551E-2,3.5900688203650333E-2,4.7613152298879413E-2,3.8208149003380543E-2,4.0027867479266677E-2,4.5947710274140796E-2,4.0069576415907582E-2,4.7005849773361419E-2,5.5052515901004018E-2,5.1426310064709213E-2,4.6774143166936843E-2,6.4497777732757777E-2,5.048134041395258E-2,2.1903789834763598E-2,2.6011627247465752E-2,1.8507028016244709E-2,2.1702322731476764E-2,1.3427639923671242E-2,2.3447219504021843E-2,2.958026121998758E-2,3.7289636071080157E-2,3.132980181781897E-2]
[64,3.2683667820569529E-2,3.516720027729292E-2,3.1427267458464803E-2,3.7335157300739441E-2,4.02460351566305E-2,4.0371627103667374E-2,3.5855292441855591E-2,4.7524512577695299E-2,3.812656013170157E-2,3.9942157316267046E-2,4.5770223604570281E-2,3.9971612338561169E-2,4.6813534404734236E-2,5.47782020269314E-2,5.1166048462206515E-2,4.6582924889743804E-2,6.4170413936106119E-2,5.023165750252323E-2,2.2050253148283572E-2,2.6096020919237572E-2,1.8686911135673778E-2,2.1848301007196591E-2,1.3598981443260882E-2,2.3566933954223934E-2,2.960996840935648E-2,3.7338897930049963E-2,3.13323003335646E-2]
[65,3.2688507508667586E-2,3.513380915480635E-2,3.1436343334352301E-2,3.7268245833752545E-2,4.013345742483132E-2,4.0257740619039417E-2,3.5811296389417269E-2,4.743867939364077E-2,3.8047488826120635E-2,3.9858999905191483E-2,4.5597985370183336E-2,3.9876157957981384E-2,4.6626734690173421E-2,5.4507275975357095E-2,5.0913207305292474E-2,4.6397451239305276E-2,6.3852813534011954E-2,4.9989517481515255E-2,2.2192515992256467E-2,2.6177941128240345E-2,1.8861949242877207E-2,2.1990463265092908E-2,1.377621714667554E-2,2.3683555279104151E-2,2.9638789143237032E-2,3.7386730769899623E-2,3.1334738450909949E-2]
[66,3.2693203251793923E-2,3.5101432469092586E-2,3.1445116867419243E-2,3.7203374227043895E-2,4.0024376241340809E-2,4.0147325287195779E-2,3.5768636233544981E-2,4.7355517452879692E-2,3.7970820272564376E-2,3.9778288288290886E-2,4.543078059284511E-2,3.9783151599642741E-2,4.6445243290331062E-2,5.4240109642666789E-2,5.0667513554591537E-2,4.62174773635875E-2,6.3544570332924932E-2,4.9754595207344154E-2,2.2330739166729563E-2,2.6257488068375245E-2,1.9032293866636518E-2,2.2128915055867227E-2,1.3957940573585903E-2,2.379716446384661E-2,2.9666760931818414E-2,3.7433190788546788E-2,3.1337117225136657E-2]
[67,3.269776121824064E-2,3.5070024592416482E-2,3.1453604402176261E-2,3.7140450127110203E-2,3.9918626970118609E-2,4.0040224319272788E-2,3.5727251986915842E-2,4.7274900318816204E-2,3.7896446538474127E-2,3.9699920947028566E-2,4.5268404642692328E-2,3.96925298657127E-2,4.6268860709125059E-2,5.3976998356294104E-2,5.0428703720534429E-2,4.6042771286647133E-2,6.3245298314300147E-2,4.9526583008290048E-2,2.2465076914590432E-2,2.6334757192145286E-2,1.9198094452261172E-2,2.2263762536013587E-2,1.4142945789075378E-2,2.3907843733899758E-2,2.969391932968124E-2,3.7478331722109459E-2,3.1339437821927607E-2]
[68,3.2702187241843372E-2,3.5039542600071805E-2,3.1461821033529569E-2,3.7079386709337081E-2,3.9816055467254863E-2,3.993629026604939E-2,3.5687087204922197E-2,4.7196709681162519E-2,3.7824266064530487E-2,3.9623801500010769E-2,4.5110662735842411E-2,3.9604228318488754E-2,4.6097395187386203E-2,5.3718172113942142E-2,5.0196523863369702E-2,4.5873113144184963E-2,6.2954630580575266E-2,4.9305189604710531E-2,2.2595677094137123E-2,2.6409839432784299E-2,1.9359497805646386E-2,2.2395111718374938E-2,1.4330200659922854E-2,2.4015675843071183E-2,2.9720298050550653E-2,3.7522204934525627E-2,3.1341701491452989E-2]
[69,3.2706486843306015E-2,3.5009946072636522E-2,3.1469780726912644E-2,3.7020102267779631E-2,3.9716517238457927E-2,3.983538433009981E-2,3.5648088727653127E-2,4.7120834696745328E-2,3.7754183200790159E-2,3.9549838417088035E-2,4.4957369448983986E-2,3.951818204707247E-2,4.5930662557067015E-2,5.3463805267847997E-2,4.9970729520308454E-2,4.5708294466629384E-2,6.2672218347931796E-2,4.9090139101747532E-2,2.2722681368206654E-2,2.6482821419997471E-2,1.9516647657977115E-2,2.2523067859860024E-2,1.4518823695129912E-2,2.4120743486983232E-2,2.9745929075047028E-2,3.7564859508741888E-2,3.1343909546537319E-2]
[70,3.2710665249995774E-2,3.4981196915363943E-2,3.147749642508435E-2,3.6962519841076347E-2,3.9619876677193133E-2,3.9737375738003733E-2,3.5610206444118164E-2,4.7047171394034359E-2,3.7686107782773703E-2,3.9477944749049199E-2,4.4808348251935248E-2,3.9434326134864195E-2,4.576848606499806E-2,5.3214024868800891E-2,4.9751085574653242E-2,4.5548117506958086E-2,6.2397729985843808E-2,4.8881170049509315E-2,2.284622540498793E-2,2.6553785688632869E-2,1.9669684331645287E-2,2.2647734965252964E-2,1.4708063963729368E-2,2.4223128822871143E-2,2.9770842751829507E-2,3.7606342338352361E-2,3.1346063344311226E-2]
[71,3.2714727414329348E-2,3.4953259193007069E-2,3.1484980143219765E-2,3.6906566870835489E-2,3.9526006374649203E-2,3.964214116658149E-2,3.5573393076509863E-2,4.6975622134367789E-2,3.7619954743544071E-2,3.9408037872290302E-2,4.4663431058850511E-2,3.9352596042869115E-2,4.561069617364133E-2,5.2968917854438136E-2,4.9537366079303702E-2,4.5392394610583864E-2,6.2130850102928514E-2,4.8678034566038253E-2,2.296643908652074E-2,2.6622810879811887E-2,1.9818744490885276E-2,2.2769215389173425E-2,1.4897283671995609E-2,2.432291307950174E-2,2.9795067892512073E-2,3.7646698218798402E-2,3.1348164270837087E-2]
[72,3.2718678030860371E-2,3.4926098978552034E-2,3.1492243053706792E-2,3.6852174889246081E-2,3.9434786493782514E-2,3.9549564217802091E-2,3.5537603982543908E-2,4.6906095123703029E-2,3.7555643758261592E-2,3.9340039247814484E-2,4.4522457798415793E-2,3.9272927921606637E-2,4.5457130345002428E-2,5.2728537240511519E-2,4.9329354044961082E-2,4.5240947624740846E-2,6.1871278678231612E-2,4.8480497518688992E-2,2.3083446721618106E-2,2.6689971934219292E-2,1.9963960963126803E-2,2.2887609520897856E-2,1.5085943040960892E-2,2.4420176243386216E-2,2.9818631860724087E-2,3.7685969937420793E-2,3.1350213728274845E-2]
[73,3.2722521552168704E-2,3.4899684214518389E-2,3.1499295561881135E-2,3.6799279233034277E-2,3.9346104200617571E-2,3.9459534937609675E-2,3.5502796974133499E-2,4.6838503969471201E-2,3.7493098918085721E-2,3.9273874193907155E-2,4.4385276003126917E-2,3.9195258862533722E-2,4.5307632812778609E-2,5.2492907451697768E-2,4.9126841201604377E-2,4.5093607344934838E-2,6.161873023679787E-2,4.8288335759848255E-2,2.3197367260562984E-2,2.6755340277392126E-2,2.0105462619194103E-2,2.3003015539020844E-2,1.5273587175274272E-2,2.4514996809491985E-2,2.9841560655659904E-2,3.7724198361815509E-2,3.1352213124216766E-2]
[74,3.2726262203642609E-2,3.4873984585617634E-2,3.1506147373768778E-2,3.6747818781207142E-2,3.9259853146787815E-2,3.9371949374435777E-2,3.5468932150844346E-2,4.6772767277754701E-2,3.7432248430635084E-2,3.9209471671821428E-2,4.4251740417520669E-2,3.9119527098300688E-2,4.5162054346913783E-2,5.2262028909574321E-2,4.892962774035392E-2,4.4950212996143879E-2,6.1372933068169599E-2,4.8101337413199996E-2,2.3308314509441708E-2,2.6818983996955703E-2,2.0243374302271855E-2,2.3115529224858822E-2,1.5459834657254312E-2,2.4607451586387885E-2,2.9863878990459725E-2,3.7761422526066957E-2,3.1354163862866491E-2]
[75,3.272990399724085E-2,3.4848971401703954E-2,3.1512807556774325E-2,3.6697735714297908E-2,3.9175932998008145E-2,3.9286709173628198E-2,3.54359717467434E-2,4.6708808286572534E-2,3.7373024344514283E-2,3.9146764083823893E-2,4.4121712625083465E-2,3.9045672159783607E-2,4.5020252013970197E-2,5.203588197912512E-2,4.8737522041591319E-2,4.4810611746575413E-2,6.113362848629933E-2,4.7919301207012044E-2,2.3416397342409967E-2,2.6880968011847362E-2,2.0377816797102932E-2,2.3225243825137243E-2,1.5644367636621581E-2,2.4697615547243368E-2,2.9885610365734783E-2,3.7797679714540067E-2,3.1356067337794391E-2]
[76,3.2733450744308223E-2,3.4824617490054388E-2,3.1519284594131669E-2,3.6648975293084085E-2,3.9094249003779336E-2,3.9203721204423614E-2,3.5403879989399201E-2,4.6646554531548423E-2,3.7315362295683441E-2,3.9085687082953013E-2,4.3995060693424293E-2,3.8973634996684048E-2,4.4882088936083475E-2,5.1814430361174946E-2,4.8550340394178937E-2,4.4674658251912858E-2,6.090057012926775E-2,4.7742035851161768E-2,2.3521719910537531E-2,2.6941354233631865E-2,2.0508906832182872E-2,2.3332249955913653E-2,1.582692321777035E-2,2.4785561719358196E-2,2.9906777138540175E-2,3.7833005542998732E-2,3.1357924926032732E-2]
[77,3.2736906067521332E-2,3.4800897096123551E-2,3.1525586433835073E-2,3.6601485654957244E-2,3.9014711604164809E-2,3.9122897216455899E-2,3.5372622969924494E-2,4.6585937540664535E-2,3.725920127367055E-2,3.9026179393863103E-2,4.3871658837214556E-2,3.8903358067484239E-2,4.4747434050739221E-2,5.159762400616863E-2,4.8367906709735342E-2,4.4542214228097565E-2,6.0673523297128495E-2,4.7569359454852966E-2,2.3624381846183651E-2,2.7000201720070782E-2,2.0636757108827952E-2,2.3436635540871942E-2,1.6007285973377083E-2,2.4871361105976764E-2,2.9927400587081321E-2,3.7867434036890746E-2,3.1359737983309044E-2]
[78,3.2740273412023901E-2,3.4777785792003746E-2,3.1531720532671947E-2,3.6555217626320191E-2,3.8937236069950032E-2,3.9044153523101865E-2,3.5342168523062378E-2,4.6526892555177835E-2,3.720448340584448E-2,3.8968182644146143E-2,4.3751387098324379E-2,3.8834785403700334E-2,4.4616161873157312E-2,5.138540161438776E-2,4.8190052235198566E-2,4.4413148050812312E-2,6.0452264326178895E-2,4.7401098982190026E-2,2.3724478462094911E-2,2.7057566821146128E-2,2.0761476351943919E-2,2.353848577815798E-2,1.6185281436265964E-2,2.4955082635068182E-2,2.994750097142318E-2,3.7900997706692419E-2,3.1361507840247604E-2]
[79,3.2743556055816248E-2,3.4755260391899689E-2,3.1537693895915986E-2,3.6510124549553158E-2,3.8861742172900282E-2,3.8967410709242145E-2,3.5312486116426234E-2,4.6469358274106254E-2,3.7151153758137045E-2,3.8911641205542136E-2,4.363413104253433E-2,3.8767862652649976E-2,4.4488152262695424E-2,5.1177692778832995E-2,4.801661526628842E-2,4.4287334379940368E-2,6.0236579997942075E-2,4.7237089742980576E-2,2.3822100944627778E-2,2.7113503317769849E-2,2.088316937812329E-2,2.3637883130787518E-2,1.6360770441357531E-2,2.5036793130533086E-2,2.9967097590454461E-2,3.7933727620260704E-2,3.1363235799389377E-2]
[80,3.2746757119452852E-2,3.473329887399923E-2,3.1543513113154287E-2,3.6466162123242718E-2,3.8788153883202448E-2,3.8892593361268712E-2,3.5283546748080985E-2,4.6413276619976074E-2,3.7099160150767752E-2,3.885650204447777E-2,4.3519781472177721E-2,3.8702537102324186E-2,4.4363290194376903E-2,5.0974419819349359E-2,4.7847440863963087E-2,4.4164653807379883E-2,6.0026266981161758E-2,4.7077174916322795E-2,2.3917336540661083E-2,2.7168062553432071E-2,2.1001937177391738E-2,2.373490733641237E-2,1.6533644206658593E-2,2.5116557301977371E-2,2.9986208835346195E-2,3.7965653472172178E-2,3.1364923132907396E-2]
[81,3.2749879575098007E-2,3.4711880308178733E-2,3.1549184390680329E-2,3.6423288254497699E-2,3.8716399091486275E-2,3.8819629817379298E-2,3.5255322851747595E-2,4.635859252377994E-2,3.704845298767423E-2,3.8802714581389175E-2,4.340823415403805E-2,3.8638757691429548E-2,4.4241465536380975E-2,5.0775499349988484E-2,4.768238057553309E-2,4.4044992526696136E-2,5.9821131305139774E-2,4.6921205104706543E-2,2.4010268737911789E-2,2.7221293559056337E-2,2.1117877005504715E-2,2.3829635432858431E-2,1.6703820057029084E-2,2.5194437749765264E-2,3.0004852239730706E-2,3.799680365006175E-2,3.1366571080904349E-2]
[82,3.2752926254986603E-2,3.4690984789045309E-2,3.1554713580822957E-2,3.6381462922294494E-2,3.8646409353107147E-2,3.8748451936400974E-2,3.5227788208973543E-2,4.6305253727311868E-2,3.6998985098467108E-2,3.8750230558322274E-2,4.3299389561828994E-2,3.8576475007203515E-2,4.4122572834125684E-2,5.0580843615929627E-2,4.7521292161730067E-2,4.3928242023189901E-2,5.9620987862784913E-2,4.6769037916526868E-2,2.4100977438472393E-2,2.7273243171337835E-2,2.123108248419503E-2,2.3922141796405727E-2,1.6871237707204889E-2,2.527049498255951E-2,3.0023044526807929E-2,3.8027205297999744E-2,3.1368180850204874E-2]
[83,3.2755899859335136E-2,3.4670593373854697E-2,3.156010620854266E-2,3.6340648050899649E-2,3.8578119652612708E-2,3.8678994883553974E-2,3.5200917867677761E-2,4.625321060124743E-2,3.6950711591854146E-2,3.8699003914312469E-2,4.3193152632578835E-2,3.8515641273222379E-2,4.4006511101391199E-2,5.0390361631364788E-2,4.7364039330733743E-2,4.3814298783049876E-2,5.9425659941791498E-2,4.6620537575050358E-2,2.4189539125484938E-2,2.7323956144846173E-2,2.1341643707198488E-2,2.4012498190232545E-2,1.7035856031579755E-2,2.5344787444977479E-2,3.0040801653578031E-2,3.8056884376959976E-2,3.1369753613559537E-2]
[84,3.2758802963739786E-2,3.4650688024900456E-2,3.1565367495585139E-2,3.6300807392508405E-2,3.8511468186537945E-2,3.8611196931720659E-2,3.5174688066540449E-2,4.6202415977504963E-2,3.6903589719570418E-2,3.86489906680898E-2,4.3089432536249195E-2,3.8456210329084195E-2,4.3893183618781917E-2,5.0203960145541737E-2,4.721049147990164E-2,4.3703064020346627E-2,5.9234978782416015E-2,4.6475574552022891E-2,2.4276027022945845E-2,2.7373475258175128E-2,2.1449647350240797E-2,2.4100773820857624E-2,1.7197650257762875E-2,2.5417371553351442E-2,3.0058138852387506E-2,3.8085865722451206E-2,3.1371290509194516E-2]
[85,3.2761638026099327E-2,3.4631251555998999E-2,3.1570502382448851E-2,3.6261906418324052E-2,3.8446396162866936E-2,3.8544999276923786E-2,3.5149076164748605E-2,4.6152824994581287E-2,3.6857578749947439E-2,3.8600148807660606E-2,4.2988142457931477E-2,3.8398137603564919E-2,4.3782497739715209E-2,5.0021544460486123E-2,4.7060523445741742E-2,4.3594443420702289E-2,5.9048783160387863E-2,4.6334025224233022E-2,2.4360511248687544E-2,2.7421841414417836E-2,2.1555176783480512E-2,2.4187035400743628E-2,1.7356609529176392E-2,2.5488301737893515E-2,3.0075070669956627E-2,3.8114173099393911E-2,3.1372792640647962E-2]
[86,3.2764407393099049E-2,3.4612267582736278E-2,3.1575515548395217E-2,3.6223912217373977E-2,3.8382847615663573E-2,3.8480345866838128E-2,3.5124060576664284E-2,4.6104394954687766E-2,3.6812639850332785E-2,3.8552438186358451E-2,4.2889199391980215E-2,3.8341380082598908E-2,4.3674364704013202E-2,4.9843019120775711E-2,4.6914015262495168E-2,4.3488346900550479E-2,5.8866918993538686E-2,4.6195771551467146E-2,2.4443058960640585E-2,2.7469093736243622E-2,2.1658312185163675E-2,2.4271347215522043E-2,1.7512734789092432E-2,2.5557630489826177E-2,3.0091611004055219E-2,3.8141829254328741E-2,3.1374261076842824E-2]
[87,3.2767113306281015E-2,3.4593720476169487E-2,3.1580411429702249E-2,3.618679340242692E-2,3.8320769233533891E-2,3.8417183241272967E-2,3.5099620711013912E-2,4.605708519163354E-2,3.6768735977647182E-2,3.8505820424966641E-2,4.2792523947460692E-2,3.8285896273231979E-2,4.3568699459104465E-2,4.96682884930022E-2,4.6770851929555102E-2,4.3384688380970982E-2,5.8689238970812463E-2,4.6060700774404939E-2,2.4523734496508798E-2,2.7515269655845387E-2,2.1759130655461645E-2,2.4353771194545848E-2,1.7666036944695485E-2,2.562540841226979E-2,3.0107773137974858E-2,3.8168855965056148E-2,3.137569685235686E-2]
[88,3.2769757907737729E-2,3.4575595319705332E-2,3.1585194236339209E-2,3.6150520022434351E-2,3.8260110200710518E-2,3.8355460383658224E-2,3.5075736914239819E-2,4.6010856948509371E-2,3.6725831776425855E-2,3.846025881954529E-2,4.2698040164310447E-2,3.823164616450736E-2,4.3465420488774775E-2,4.9497257250196158E-2,4.6630923187831907E-2,4.3283385575150879E-2,5.8515602202369399E-2,4.5928705131107028E-2,2.4602599507024037E-2,2.7560405000019994E-2,2.1857706329660331E-2,2.4434366983689726E-2,1.7816535275124723E-2,2.5691684273865922E-2,3.0123569772941838E-2,3.8195274087802655E-2,3.1377100967849403E-2]
[89,3.2772343245446534E-2,3.455787786890796E-2,3.1589867967221963E-2,3.6115063480969045E-2,3.8200822049671013E-2,3.8295128582655158E-2,3.5052390417683155E-2,4.5965673264319662E-2,3.6683893483758112E-2,3.8415718254613651E-2,4.2605675339639548E-2,3.8178591186099009E-2,4.3364449649353265E-2,4.9329830774438976E-2,4.6494123305077073E-2,4.3184359788589477E-2,5.834587388956769E-2,4.5799681590844576E-2,2.4679713082970789E-2,2.7604534070633013E-2,2.1954110490020939E-2,2.451319201949409E-2,1.7964256052103833E-2,2.5756505064288726E-2,3.0139013058599007E-2,3.8221103602014583E-2,3.1378474390617139E-2]
[90,3.2774871278277606E-2,3.4540554513998956E-2,3.1594436424189576E-2,3.6080396460189901E-2,3.814285852431043E-2,3.8236141303095827E-2,3.5029563288301757E-2,4.5921498868795929E-2,3.6642888840581422E-2,3.8372165121361546E-2,4.2515359863611435E-2,3.8126694165370623E-2,4.3265712013182522E-2,4.9165915489120193E-2,4.6360350870111366E-2,4.3087535731218596E-2,5.8179925013666089E-2,4.5673531604105699E-2,2.4755131876178282E-2,2.7647689720713631E-2,2.2048411675772206E-2,2.4590301603912623E-2,1.8109231345816879E-2,2.5819916050927816E-2,3.0154114621686823E-2,3.8246363652883808E-2,3.1379818055251585E-2]
[91,3.2777343880692866E-2,3.4523612244848012E-2,3.1598903224826946E-2,3.6046492849894474E-2,3.8086175452780813E-2,3.8178454065520562E-2,3.5007238382646522E-2,4.5878300084694956E-2,3.6602787008843674E-2,3.8329567240579232E-2,4.2427027064380729E-2,3.8075919283431903E-2,4.3169135719192786E-2,4.9005419130758066E-2,4.6229508595827085E-2,4.2992841340671273E-2,5.8017632042151046E-2,4.5550160867702694E-2,2.4828910214701017E-2,2.7689903426413087E-2,2.2140675790803366E-2,2.4665748979043167E-2,1.8251497992199273E-2,2.5881960836157347E-2,3.0168885593030215E-2,3.8271072591701483E-2,3.1381132864376937E-2]
[92,3.2779762847159555E-2,3.4507038618259323E-2,3.1603271814246936E-2,3.601332768126575E-2,3.8030730629196263E-2,3.812202433365397E-2,3.4985399303849807E-2,4.5836044736960346E-2,3.6563558494083326E-2,3.8287893790018845E-2,4.2340613061577326E-2,3.802623203065969E-2,4.3074651830369737E-2,4.8848250968977602E-2,4.6101503130804744E-2,4.2900207615978792E-2,5.7858876651655233E-2,4.5429479103973769E-2,2.4901100212401106E-2,2.773120535505047E-2,2.2230966208727221E-2,2.4739585401341468E-2,1.8391096700872467E-2,2.5942681414698132E-2,3.0183336632948254E-2,3.8295248014144967E-2,3.1382419689448326E-2]
[93,3.2782129896295364E-2,3.4490821727379384E-2,3.1607545475927923E-2,3.5980877064955674E-2,3.7976483703476172E-2,3.8066811409211532E-2,3.4964030361396947E-2,4.5794702068177262E-2,3.6525175073019112E-2,3.8247115235914508E-2,4.2256056627859584E-2,3.7977599162081876E-2,4.2982194197896284E-2,4.8694321982080568E-2,4.5976244879328831E-2,4.280956846102546E-2,5.7703545466485373E-2,4.5311399853149359E-2,2.4971751873166248E-2,2.7771624429461905E-2,2.2319343875060405E-2,2.4811860214910775E-2,1.8528071285610626E-2,2.6002118230676441E-2,3.0197477955179908E-2,3.8318906796591667E-2,3.1383679371595585E-2]
[94,3.2784446674767542E-2,3.4474950173069674E-2,3.1611727341700702E-2,3.594911813317192E-2,3.7923396078673122E-2,3.8012776333484988E-2,3.4943116533473262E-2,4.5754242659806987E-2,3.6487609725774472E-2,3.8207203268406209E-2,4.2173299058081204E-2,3.7929988652939395E-2,4.289169933173187E-2,4.854354499464697E-2,4.5853647829573019E-2,4.272086053713986E-2,5.7551529811836533E-2,4.5195840278017263E-2,2.504091318998003E-2,2.7811188388856767E-2,2.2405867406337654E-2,2.4882620923536658E-2,1.8662468001540589E-2,2.6060310234050865E-2,3.0211319349425114E-2,3.8342065130557712E-2,3.1384912722498992E-2]
[95,3.2786714760957736E-2,3.445941303709521E-2,3.1615820400958894E-2,3.5918028985471695E-2,3.7871430815181295E-2,3.7959881795200712E-2,3.4922643431697376E-2,4.5714638358740567E-2,3.6450836572395229E-2,3.8168130740628747E-2,4.2092284045634143E-2,3.7883369654692078E-2,4.2803106277388592E-2,4.8395834782740677E-2,4.5733629389698383E-2,4.263402312423259E-2,5.7402725480824257E-2,4.5082720980079038E-2,2.5108630239075946E-2,2.7849923846373636E-2,2.249059318602975E-2,2.4951913261212155E-2,1.8794334975295035E-2,2.6117294936146784E-2,3.0224870202584686E-2,3.8364738555353606E-2,3.1386120525285444E-2]
[96,3.2788935668410346E-2,3.4444199856999091E-2,3.1619827509169696E-2,3.5887588637985024E-2,3.7820552541289576E-2,3.7908092044189212E-2,3.4902597268061664E-2,4.5675862208741647E-2,3.6414830813343846E-2,3.8129871611240151E-2,4.201295756556167E-2,3.7837712451680883E-2,4.2716356498657015E-2,4.8251108151537547E-2,4.5616110231591955E-2,4.2548997989944937E-2,5.7257032514509643E-2,4.4971965826452021E-2,2.5174947269394066E-2,2.7887856343523421E-2,2.2573575457188078E-2,2.501978126094917E-2,1.8923721716090913E-2,2.6173108464085715E-2,3.0238139518784735E-2,3.8386941989046353E-2,3.1387303535436617E-2]
[97,3.2791110849080374E-2,3.4429300602536239E-2,3.162375139574336E-2,3.5857776975816158E-2,3.777072736957976E-2,3.7857372810438772E-2,3.4882964823927498E-2,4.5637888386401038E-2,3.637956867368608E-2,3.8092400890181732E-2,4.1935267764050543E-2,3.7792988418613227E-2,4.2631393766033865E-2,4.8109283989543172E-2,4.5501014141967167E-2,4.2465729266295105E-2,5.7114354994150407E-2,4.4863501786819082E-2,2.5239906787557942E-2,2.7925010401693706E-2,2.2654866411768504E-2,2.5086267321722033E-2,1.9050678697243972E-2,2.6227785613950783E-2,3.0251135938259566E-2,3.8408689757813974E-2,3.1388462481699353E-2]
[98,3.2793241696390307E-2,3.4414705653558864E-2,3.1627594671322257E-2,3.5828574708394179E-2,3.7721922818724218E-2,3.7807691228148421E-2,3.4863733420920084E-2,4.5600692141249732E-2,3.6345027350702441E-2,3.8055694587469935E-2,4.1859164853937925E-2,3.7749169979005348E-2,4.2548164050608905E-2,4.7970283303004013E-2,4.5388267880541289E-2,4.2384163333351488E-2,5.6974600844945655E-2,4.475725877977843E-2,2.5303549638583833E-2,2.7961409570879558E-2,2.2734516276629257E-2,2.5151412273435758E-2,1.9175256998953838E-2,2.6281359902559531E-2,3.026386775516543E-2,3.8429995623777247E-2,3.1389598066994484E-2]
[99,3.2795329548111152E-2,3.4400405779246856E-2,3.1631359834539241E-2,3.5799963327558304E-2,3.7674107740270912E-2,3.7759015764419201E-2,3.4844890893593661E-2,4.5564249739712848E-2,3.6311184964682663E-2,3.8019729664838131E-2,4.1784601015883549E-2,3.7706230564687582E-2,4.2466615423162768E-2,4.7834029233618347E-2,4.5277801045001898E-2,4.2304248709491343E-2,5.6837681650595329E-2,4.4653169527990366E-2,2.5365915082529389E-2,2.799707647579841E-2,2.281257339621745E-2,2.5215255439836826E-2,1.9297508004370689E-2,2.6333863617751696E-2,3.0276342934392186E-2,3.8450872811387704E-2,3.1390710969318114E-2]
[100,3.2797375689078923E-2,3.4386392118590292E-2,3.1635049278292637E-2,3.5771925068184274E-2,3.762725225004071E-2,3.7711316152256646E-2,3.4826425563740049E-2,4.5528538412614727E-2,3.6278020512681142E-2,3.7984483990053386E-2,4.1711530304882505E-2,3.7664144576442071E-2,4.2386697958245012E-2,4.7700447062235973E-2,4.5169545942474354E-2,4.2225935947831417E-2,5.6703512478031515E-2,4.4551169421562786E-2,2.5427040867280315E-2,2.803203285953848E-2,2.2889084311978447E-2,2.5277834699319213E-2,1.9417483141958014E-2,2.6385327867126884E-2,3.0288569127433496E-2,3.8471334032445625E-2,3.1391801842627576E-2]
[101,3.279938135375593E-2,3.4372656162035442E-2,3.1638665295578905E-2,3.5744442871175508E-2,3.7581327663797071E-2,3.7664563327583833E-2,3.4808326216227314E-2,4.5493536305968307E-2,3.6245513825023945E-2,3.7949936293746322E-2,4.1639908561808658E-2,3.7622887345836187E-2,4.2308363642991509E-2,4.7569464200856171E-2,4.5063437467210754E-2,4.2149177538450155E-2,5.6572011711714776E-2,4.4451196389149183E-2,2.5486963297666643E-2,2.8066299624879942E-2,2.2964093838547361E-2,2.5339186543600567E-2,1.9535233668067198E-2,2.643578262518842E-2,3.030055368737572E-2,3.8491391509824169E-2,3.1392871317715842E-2]
[102,3.280134772864729E-2,3.4359189734215478E-2,3.1642210084919409E-2,3.5717500348649844E-2,3.7536306436873224E-2,3.7618729369986781E-2,3.4790582076263288E-2,4.54592224348076E-2,3.6213645524381777E-2,3.7916066128605985E-2,4.1569693329700508E-2,3.7582435098281852E-2,4.223156629046243E-2,4.7441010174922749E-2,4.4959412984217018E-2,4.2073927816035805E-2,5.6443100896934384E-2,4.4353190776275087E-2,2.5545717301096671E-2,2.8099896873420516E-2,2.3037645136786855E-2,2.5399346134262313E-2,1.965081048439643E-2,2.6485256778869815E-2,3.0312303683059483E-2,3.8511056999967819E-2,3.1393920003063513E-2]
[103,3.28032759545831E-2,3.4345984977689925E-2,3.1645685755417041E-2,3.5691081751175746E-2,3.7492162107470195E-2,3.7573787446932849E-2,3.4773182787985801E-2,4.5425576639841481E-2,3.6182396987232579E-2,3.7882853830790486E-2,4.1500843774511464E-2,3.7542764917346316E-2,4.2156261457277466E-2,4.7315016597625714E-2,4.4857412218548998E-2,4.2000142872633095E-2,5.6316704591574451E-2,4.4257095230439081E-2,2.5603336489880446E-2,2.8132843942633823E-2,2.3109779783750062E-2,2.545834735716257E-2,1.9764263985699637E-2,2.6533778171433431E-2,3.0323825912462299E-2,3.8530341814229319E-2,3.1394948485672813E-2]
[104,3.2805167128872492E-2,3.4333034337627133E-2,3.1649094331474004E-2,3.5665171936912765E-2,3.7448869243364769E-2,3.7529711761231876E-2,3.4756118394290381E-2,4.5392579546724265E-2,3.6151750307551023E-2,3.78502804834282E-2,4.1433320610073432E-2,3.7503854710321693E-2,4.2082406365340219E-2,4.7191417137689484E-2,4.475737715001249E-2,4.1927780475170096E-2,5.619275022585235E-2,4.4162854592567191E-2,2.5659853220420192E-2,2.8165159440972865E-2,2.318053783965679E-2,2.5516222874748529E-2,1.9875643933689346E-2,2.6581373644747552E-2,3.0335126915353561E-2,3.8549256839110146E-2,3.1395957331877611E-2]
[105,3.2807022307339784E-2,3.4320330547362721E-2,3.1652437757193841E-2,3.5639756342533246E-2,3.7406403391783138E-2,3.7486477501517124E-2,3.4739379317814789E-2,4.536021252775746E-2,3.6121688262579443E-2,3.7818327882079616E-2,4.1367086027023214E-2,3.7465683175053943E-2,4.2009959827445265E-2,4.7070147481907298E-2,4.4659251913006015E-2,4.1856799987475934E-2,5.6071167969554692E-2,4.4070415794423834E-2,2.5715298649421126E-2,2.8196861281135854E-2,2.3249957911971153E-2,2.5573004176297598E-2,1.9984999353598321E-2,2.6628069079954741E-2,3.0346212985261856E-2,3.8567812555462488E-2,3.1396947088131455E-2]
[106,3.2808842506248492E-2,3.4307866614780469E-2,3.1655717900498592E-2,3.5614820955801152E-2,3.7364741032222204E-2,3.7444060795545964E-2,3.4722956343000488E-2,4.5328457665851918E-2,3.6092194280538337E-2,3.7786978502045487E-2,4.1302103625470821E-2,3.7428229768019294E-2,4.1938882176577152E-2,4.6951145293507413E-2,4.4562982701264575E-2,4.1787162296515357E-2,5.5951890606334986E-2,4.3979727761616294E-2,2.5769702787286963E-2,2.8227966711594332E-2,2.3318077216681887E-2,2.5628721626134832E-2,2.0092378450317527E-2,2.6673889436557019E-2,3.0357090180800572E-2,3.8586019056709775E-2,3.1397918281769854E-2]
[107,3.2810628704121436E-2,3.429563580945838E-2,3.1658936556979711E-2,3.5590352289701865E-2,3.7323859532011561E-2,3.7402438666136906E-2,3.4706840599162181E-2,4.5297297720592766E-2,3.6063252410152735E-2,3.7756215467410259E-2,4.1238338351189618E-2,3.7391474673632574E-2,4.1869135198709939E-2,4.6834350167275662E-2,4.4468517677259678E-2,4.1718829742585894E-2,5.5834853414658436E-2,4.3890741321847893E-2,2.582309454884002E-2,2.8258492346484365E-2,2.3384931636877271E-2,2.5683404509869057E-2,2.0197828541415275E-2,2.6718858789944289E-2,3.0367764336386438E-2,3.8603886066138404E-2,3.1398871421749242E-2]
[108,3.2812381843462024E-2,3.4283631650530166E-2,3.1662095453506733E-2,3.5566337358018618E-2,3.7283737104430559E-2,3.7361588989566874E-2,3.4691023544500377E-2,4.5266716096261872E-2,3.6034847291874561E-2,3.7726022521721303E-2,4.1175756435129829E-2,3.7355398774767679E-2,4.1800682068932948E-2,4.6719703582223326E-2,4.437580688602627E-2,4.1651766053239836E-2,5.5719994055005717E-2,4.380340911809899E-2,2.5875501801509326E-2,2.8288454193952539E-2,2.3450555778722126E-2,2.5737081078708979E-2,2.0301396004694938E-2,2.6763000367405754E-2,3.0378241072389844E-2,3.8621422953311946E-2,3.1399806999359958E-2]
[109,3.2814102832384506E-2,3.4271847895218643E-2,3.1665196251607242E-2,3.5542763652265386E-2,3.7244352769208122E-2,3.7321490456272199E-2,3.4675496950994145E-2,4.5236696811685961E-2,3.6006964130692598E-2,3.7696384000204031E-2,4.1114325336064628E-2,3.7319983624458875E-2,4.1733487290728011E-2,4.6607148852474189E-2,4.4284802173199855E-2,4.1585936280705615E-2,5.56072524629736E-2,4.3717685526441619E-2,2.5926951411122889E-2,2.8317867683045339E-2,2.3514983024931047E-2,2.5789778591908341E-2,2.0403126238242031E-2,2.6806336582659629E-2,3.0388525804749156E-2,3.8638638749656673E-2,3.140072548891415E-2]
[110,3.2815792546155187E-2,3.4260278527994403E-2,3.1668240550643212E-2,3.5519619119883217E-2,3.7205686315243458E-2,3.7282122533703888E-2,3.4660252890121646E-2,4.5207224471786489E-2,3.5979588670426832E-2,3.7667284803426515E-2,4.1054013686188773E-2,3.7285211418757624E-2,4.1667516638239199E-2,4.6496631076936357E-2,4.4195457107046865E-2,4.1521306742605013E-2,5.5496570747929352E-2,4.3633526578205073E-2,2.5977469285424881E-2,2.8346747689223406E-2,2.3578245585840651E-2,2.5841523357408969E-2,2.0503063631182039E-2,2.6848889068947335E-2,3.0398623754081422E-2,3.865554216326017E-2,3.1401627348409678E-2]
[111,3.2817451828656585E-2,3.4248917750323349E-2,3.1671229890790187E-2,3.5496892143625391E-2,3.7167718265404437E-2,3.7243465431201939E-2,3.4645283719351827E-2,4.5178284240718236E-2,3.5952707169418119E-2,3.76387103723268E-2,4.099479123950367E-2,3.7251064970710734E-2,4.1602737101377851E-2,4.6388097088240876E-2,4.4107726904290656E-2,4.14578449657661E-2,5.5387893096899399E-2,4.3550889886234012E-2,2.6027080415442994E-2,2.8375108558577278E-2,2.3640374548180798E-2,2.5892340770735656E-2,2.0601251543593158E-2,2.6890678710733917E-2,3.0408539954320357E-2,3.8672141592930087E-2,3.1402513020168499E-2]
[112,3.2819081493770108E-2,3.4237759970964676E-2,3.1674165755841255E-2,3.5474571522053022E-2,3.7130429843263757E-2,3.72055000667606E-2,3.4630582069361537E-2,4.514986181649383E-2,3.5926306377519035E-2,3.7610646664526737E-2,4.0936628822832111E-2,3.7217527685425633E-2,4.1539116833615886E-2,4.628149540135551E-2,4.4021568359537966E-2,4.1395519632954292E-2,5.5281165683393807E-2,4.3469734574997032E-2,2.6075808914819421E-2,2.8402964130818331E-2,2.3701399921638E-2,2.5942255352210619E-2,2.0697732294223448E-2,2.6931725674063101E-2,3.0418279260906234E-2,3.8688445141550343E-2,3.1403382931450396E-2]
[113,3.2820682326691442E-2,3.4226799796784668E-2,3.1677049575844274E-2,3.5452646451071823E-2,3.7093802941650988E-2,3.7168208035565753E-2,3.461614083193254E-2,4.5121943406994269E-2,3.5900373514311523E-2,3.7583080131854629E-2,4.0879498289310812E-2,3.718458353618681E-2,4.1476625102328191E-2,4.6176776162204725E-2,4.3936939778123518E-2,4.1334300532348545E-2,5.517633658087906E-2,4.3390021214315455E-2,2.6123678057209609E-2,2.8430327761114871E-2,2.376135068331009E-2,2.5991290782549026E-2,2.0792547154839358E-2,2.6972049435613599E-2,3.0427846358556332E-2,3.8704460628774751E-2,3.1404237495044729E-2]
[114,3.2822255085174223E-2,3.4216032024055654E-2,3.1679882729585884E-2,3.5431106506447207E-2,3.7057820092901261E-2,3.713157158019742E-2,3.460195314848713E-2,4.5094515707280403E-2,3.58748962484714E-2,3.7555997699010302E-2,4.0823372474225073E-2,3.7152217041588331E-2,4.1415232241550859E-2,4.607389109658655E-2,4.3853800912197594E-2,4.127415850960281E-2,5.5073355680640423E-2,4.3311711756503835E-2,2.6170710311856915E-2,2.845721234083376E-2,2.3820254820142717E-2,2.6039469936897985E-2,2.088573635017954E-2,2.701166881050443E-2,3.0437245768639931E-2,3.8720195603092256E-2,3.1405077109836643E-2]
[115,3.2823800500713984E-2,3.4205451630209938E-2,3.1682666546931637E-2,3.5409941627235542E-2,3.7022464440694902E-2,3.7095573562392792E-2,3.4588012399221491E-2,4.5067565878117E-2,3.5849862678212441E-2,3.7529386743306192E-2,4.076822515305234E-2,3.7120413243644679E-2,4.1354909607028034E-2,4.597279345961125E-2,4.3772112899888249E-2,4.1215065422344654E-2,5.4972174613781455E-2,4.3234769476719004E-2,2.6216927377434862E-2,2.8483630317252651E-2,2.3878139369437612E-2,2.6086814917381407E-2,2.0977339062629996E-2,2.7050601978895417E-2,3.0446481856178265E-2,3.8735657353300423E-2,3.1405902161352417E-2]
[116,3.2825319279668141E-2,3.4195053766020278E-2,3.168540231103667E-2,3.5389142100078042E-2,3.6987719713387879E-2,3.7060197436276976E-2,3.4574312192802381E-2,4.5041081525640791E-2,3.5825261312742773E-2,3.750323507542408E-2,4.0714031001591877E-2,3.7089157686843732E-2,4.1295629533429912E-2,4.5873437985858745E-2,4.369183820738276E-2,4.1156994096970934E-2,5.4872746677128381E-2,4.3159158916335816E-2,2.6262350214252272E-2,2.8509593712296777E-2,2.3935030457521211E-2,2.6133347084213998E-2,2.1067393440849402E-2,2.708886651143394E-2,3.04555588364952E-2,3.875085291941649E-2,3.1406713022281707E-2]
[117,3.2826812104322478E-2,3.4184833748183818E-2,3.1688091260427598E-2,3.5368698544302246E-2,3.6953570198740238E-2,3.7025427222970864E-2,3.4560846356594732E-2,4.501505068209144E-2,3.5801081054674944E-2,3.7477530921129709E-2,4.0660765558065304E-2,3.7058436398104799E-2,4.1237365293625095E-2,4.5775780840406899E-2,4.361294057377707E-2,4.1099918287607728E-2,5.4775026762819978E-2,4.3084845829171936E-2,2.6306999074905635E-2,2.8535114140356255E-2,2.3990953336655796E-2,2.6179087085440145E-2,2.1155936611676252E-2,2.7126479393589253E-2,3.0464480781533299E-2,3.8765789103057502E-2,3.1407510052978704E-2]
[118,3.2828279633903668E-2,3.4174787052282607E-2,3.1690734590975378E-2,3.5348601897787102E-2,3.692000071995527E-2,3.699124748649707E-2,3.4547608927382845E-2,4.4989461787549923E-2,3.5777311183330829E-2,3.745226290388981E-2,4.06084051870792E-2,3.7028235867605508E-2,4.11800910599045E-2,4.5679779570852341E-2,4.3535384958548695E-2,4.1043812637113986E-2,5.467897129137711E-2,4.3011797130401153E-2,2.6350893533461761E-2,2.856020282523164E-2,2.4045932420275751E-2,2.6224054885360726E-2,2.1243004694740941E-2,2.7163457048925643E-2,3.0473251625858566E-2,3.8780472477318861E-2,3.1408293601944193E-2]
[119,3.282972250554006E-2,3.4164909306099389E-2,3.1693333457754935E-2,3.5328843403541699E-2,3.6886996612952583E-2,3.6957643310904231E-2,3.4534594142564767E-2,4.4964303672613282E-2,3.5753941338890094E-2,3.7427420028346203E-2,4.0556927045344526E-2,3.6998543030442921E-2,4.1123781867050457E-2,4.5585393060426638E-2,4.3459137491520972E-2,4.0988652640011169E-2,5.458453814805897E-2,4.2939980848001547E-2,2.6394052513248667E-2,2.858487061625925E-2,2.4099991316626879E-2,2.6268269791702492E-2,2.1328632819283211E-2,2.7199815361353741E-2,3.0481875172369888E-2,3.8794909396177468E-2,3.1409064006284293E-2]
[120,3.2831141335176728E-2,3.4155196283269795E-2,3.1695888976808417E-2,3.5309414596959243E-2,3.6854543704798237E-2,3.6924600278539721E-2,3.4521796431783436E-2,4.4939565541957993E-2,3.5730961507332903E-2,3.74029916645926E-2,4.0506309049061606E-2,3.6969345249093566E-2,4.1068413577157292E-2,4.5492581482276417E-2,4.3384165425187859E-2,4.0934414607232572E-2,5.4491686622323732E-2,4.2869366076594417E-2,2.6436494313326842E-2,2.860912800365556E-2,2.4153152860883376E-2,2.631175048158596E-2,2.1412855142742826E-2,2.7235569696410167E-2,3.0490355097726907E-2,3.8809106003443672E-2,3.1409821592153886E-2]
[121,3.2832536718445882E-2,3.4145643897248057E-2,3.1698402226813194E-2,3.5290307293705414E-2,3.6822628293224025E-2,3.689210444940394E-2,3.4509210408976143E-2,4.491523695873112E-2,3.5708362006130256E-2,3.7378967533215679E-2,4.0456529842874733E-2,3.6940630296636634E-2,4.1013962846112584E-2,4.5401306254965634E-2,4.3310437089279841E-2,4.0881075632590358E-2,5.4400377350222406E-2,4.2799922933541401E-2,2.6478236633710184E-2,2.8632985133130173E-2,2.4205439145813079E-2,2.6354515026344671E-2,2.1495704870753363E-2,2.7270734921600148E-2,3.0498694957517891E-2,3.8823068241287784E-2,3.1410566675179163E-2]
[122,3.2833909231493541E-2,3.4136248195571373E-2,3.1700874250661704E-2,3.5271513578204017E-2,3.6791237127170362E-2,3.6860142341522906E-2,3.4496830864813921E-2,4.4891307829724392E-2,3.5686133470638648E-2,3.7355337691054702E-2,4.0407568770315372E-2,3.6912386340712366E-2,4.0960407091650941E-2,4.531152999923882E-2,4.3237921847452343E-2,4.0828613560864868E-2,5.4310572259566481E-2,4.2731622517173662E-2,2.6519296599402997E-2,2.8656451819797368E-2,2.4256871551063375E-2,2.6396580915249546E-2,2.1577214278218015E-2,2.7305325425851734E-2,3.050689819117558E-2,3.8836801858364689E-2,3.1411299560862416E-2]
[123,3.2835259431767572E-2,3.4127005354403606E-2,3.1703306056960256E-2,3.5253025792688186E-2,3.6760357388294418E-2,3.6828700912282297E-2,3.448465275951107E-2,4.4867768391285923E-2,3.5664266841159975E-2,3.7332092517642579E-2,4.0359405845650009E-2,3.688460192817633E-2,4.0907724462900363E-2,4.522321649607064E-2,4.3166590055992549E-2,4.0777006957427364E-2,5.4222234517718348E-2,4.2664436867033251E-2,2.6559690783314327E-2,2.8679537561435042E-2,2.4307470771129491E-2,2.6437965078183856E-2,2.1657414731195423E-2,2.7339355138114918E-2,3.0514968126659658E-2,3.8850312417553434E-2,3.1412020544971275E-2]
[124,3.2836587858768418E-2,3.4117911673343881E-2,3.1705698621449674E-2,3.5234836526780278E-2,3.6729976673386844E-2,3.6797767540668103E-2,3.4472671215981965E-2,4.4844609195921814E-2,3.564275335062872E-2,3.7309222702290423E-2,4.0312021727061165E-2,3.6857265970426267E-2,4.0855893811343247E-2,4.5136330646012413E-2,4.3096413024436231E-2,4.0726235079312501E-2,5.4135328481860201E-2,4.2598338926019164E-2,2.6599435228107149E-2,2.8702251551114166E-2,2.4357256842069352E-2,2.6478683907322109E-2,2.173633670935704E-2,2.7372837545148743E-2,3.0522907984916081E-2,3.8863605303337101E-2,3.1412729913909754E-2]
[125,3.2837895034762754E-2,3.4108963570484763E-2,3.1708052888354432E-2,3.5216938607578019E-2,3.6700082977644044E-2,3.67673300103597E-2,3.4460881513327823E-2,4.4821821099554127E-2,3.5621584512889992E-2,3.7286719231781396E-2,4.0265397691085836E-2,3.6830367729366653E-2,4.0804894663119873E-2,4.5050838429843143E-2,4.3027362978000472E-2,4.0676277847659259E-2,5.4049819651612374E-2,4.2533302504329962E-2,2.6638545467039476E-2,2.8724602689242484E-2,2.4406249167028049E-2,2.6518753277854579E-2,2.1814009828822423E-2,2.7405785708529917E-2,3.0530720884124563E-2,3.88766857288394E-2,3.1413427945075512E-2]
[126,3.2839181465464495E-2,3.4100157577704904E-2,3.1710369771664082E-2,3.5199325090209177E-2,3.6670664678748244E-2,3.6737376493635177E-2,3.4449279080633222E-2,4.4799395249393248E-2,3.5600752111538236E-2,3.7264573378638977E-2,4.0219515608248102E-2,3.680389680398366E-2,4.0754707192603989E-2,4.4966706870516848E-2,4.2959413021737669E-2,4.0627115821450621E-2,5.3965674623870363E-2,4.2469302245109253E-2,2.6677036543847121E-2,2.874659959504644E-2,2.4454466540623665E-2,2.6558188567802343E-2,2.1890462865194582E-2,2.7438212280920249E-2,3.0538409843750003E-2,3.8889558742534858E-2,3.1414114907199808E-2]
[127,3.2840447640683834E-2,3.409149033618708E-2,3.1712650156350275E-2,3.5181989248838086E-2,3.6641710521709614E-2,3.6707895536034041E-2,3.4437859491056377E-2,4.4777323072390462E-2,3.558024818928196E-2,3.7242776689944801E-2,4.0174357919821935E-2,3.677784311750254E-2,4.0705312197187205E-2,4.4883903996397745E-2,4.2892537106323791E-2,4.0578730172479371E-2,5.3882861049747044E-2,4.2406313591699885E-2,2.671492303171985E-2,2.8768250617523972E-2,2.450192717225419E-2,2.6597004676966352E-2,2.1965723776657731E-2,2.7470129521625308E-2,3.0545977788402068E-2,3.8902229234652808E-2,3.1414791060674796E-2]
[128,3.28416940349463E-2,3.4082958592143164E-2,3.1714894899524948E-2,3.5164924568093392E-2,3.6613209604428265E-2,3.6678876041746244E-2,3.4426618456196767E-2,4.4755596264241637E-2,3.556006503780984E-2,3.7221320976668748E-2,4.012990761566293E-2,3.6752196905103895E-2,4.0656691073208684E-2,4.4802398805764421E-2,4.2826709995398504E-2,4.0531102661473639E-2,5.3801347593504412E-2,4.2344312756420699E-2,2.6752219051414672E-2,2.8789563845895261E-2,2.4548648708372811E-2,2.6635216045051147E-2,2.2039819727012855E-2,2.7501549311478968E-2,3.0553427551518464E-2,3.8914701943286722E-2,3.1415456657866825E-2]
[129,3.2842921108082512E-2,3.4074559192740717E-2,3.1717104831540555E-2,3.5148124734894814E-2,3.6585151363934143E-2,3.6650307259677994E-2,3.4415551820724311E-2,4.4734206778905827E-2,3.5540195188127344E-2,3.7200198303491971E-2,4.0086148213056338E-2,3.6726948702167084E-2,4.0608825792972869E-2,4.4722161232562119E-2,4.2761907234378338E-2,4.0484215615325114E-2,5.3721103893374034E-2,4.2283276690785465E-2,2.6788938288553554E-2,2.8810547119576979E-2,2.4594648253786433E-2,2.667283666899789E-2,2.2112777108550974E-2,2.7532483167082678E-2,3.0560761878878351E-2,3.8926981460229548E-2,3.1416111943414871E-2]
[130,3.2844129305791725E-2,3.4066289082217205E-2,3.1719280757039447E-2,3.513158363065938E-2,3.6557525563269966E-2,3.6622178770165936E-2,3.4404655557257469E-2,4.4713146818615712E-2,3.5520631401339875E-2,3.7179400979091115E-2,4.0043063736524109E-2,3.6702089333023658E-2,4.0561698882799924E-2,4.4643162113378487E-2,4.2698105120668295E-2,4.0438051905355321E-2,5.3642100524163849E-2,4.222318305708761E-2,2.6825094010143546E-2,2.8831208037706446E-2,2.4639942392019165E-2,2.6709880119568874E-2,2.2184621564677709E-2,2.7562942254430123E-2,3.0567983431956103E-2,3.8939072236542582E-2,3.1416757154518749E-2]
[131,3.2845319060179401E-2,3.405814529817186E-2,3.1721423455951747E-2,3.5115295323865814E-2,3.6530322278982563E-2,3.6594480472299296E-2,3.4393925761476041E-2,4.4692408824349217E-2,3.5501366659860034E-2,3.7158921546864621E-2,4.0000638698546753E-2,3.6677609900192865E-2,4.0515293402057173E-2,4.456537315561504E-2,4.2635280675201059E-2,4.0392594926572878E-2,5.3564308961562501E-2,4.2164010201278357E-2,2.6860699080361039E-2,2.8851553968235688E-2,2.4684547204789409E-2,2.6746359557215493E-2,2.225537801222055E-2,2.7592937401946571E-2,3.0575094791122748E-2,3.895097858787766E-2,3.1417392521213117E-2]
[132,3.2846490790271243E-2,3.4050124968026285E-2,3.1723533684445693E-2,3.5099254062956664E-2,3.6503531889185314E-2,3.6567202571821555E-2,3.4383358647456008E-2,4.4671985466740116E-2,3.5482394159013664E-2,3.713875277607448E-2,3.9958858081148296E-2,3.6653501774076336E-2,4.0469592923120912E-2,4.448876690682213E-2,4.2573411615240309E-2,4.0347828577864009E-2,5.3487701548047495E-2,4.2105737127071663E-2,2.6895765975636143E-2,2.8871592056620932E-2,2.472847829064051E-2,2.6782287747263211E-2,2.2325070663363533E-2,2.762247911297E-2,3.0582098458702855E-2,3.8962704699560424E-2,3.1418018266631931E-2]
[133,3.2847644902502138E-2,3.4042225305645823E-2,3.1725612175835582E-2,3.508345426956172E-2,3.6477145062167482E-2,3.6540335569577476E-2,3.4372950543214653E-2,4.4651869637402308E-2,3.5463707299025815E-2,3.7118887653383226E-2,3.9917707318302575E-2,3.6629756583095974E-2,4.0424581512223723E-2,4.4413316725170127E-2,4.2512476328381066E-2,4.0303737243071236E-2,5.3412251460322357E-2,4.2048343471210892E-2,2.69303067990736E-2,2.889132923412574E-2,2.4771750782767832E-2,2.6817677074447266E-2,2.239372304715892E-2,2.7651577577697539E-2,3.0588996861897311E-2,3.8974254631450433E-2,3.1418634607259355E-2]
[134,3.2848781791186221E-2,3.4034443608111475E-2,3.1727659641444639E-2,3.5067890532026302E-2,3.645115274551558E-2,3.651387025048014E-2,3.4362697886457072E-2,4.4632054440645552E-2,3.5445299677366426E-2,3.7099319374767958E-2,3.9877172279118467E-2,3.6606366204248397E-2,4.0380243711141794E-2,4.4338996751017934E-2,4.2452453847691585E-2,4.026030577291384E-2,5.3337932678197086E-2,4.1991809479838826E-2,2.6964333294240195E-2,2.8910772225757997E-2,2.4814379366078221E-2,2.6852539556827537E-2,2.2461358030583689E-2,2.7680242684625433E-2,3.0595792355572859E-2,3.8985632322585451E-2,3.1419241753172455E-2]
[135,3.2849901838963635E-2,3.4026777252635476E-2,3.1729676771432125E-2,3.5052557599227541E-2,3.6425546155724797E-2,3.6487797672969391E-2,3.4352597220508985E-2,4.4612533185563796E-2,3.5427165081434397E-2,3.7080041337788971E-2,3.9837239251764522E-2,3.6583322754060399E-2,4.0336564519681817E-2,4.4265781879550881E-2,4.2393323827936147E-2,4.0217519467708351E-2,5.3264719954844386E-2,4.1936115985913736E-2,2.6997856858353764E-2,2.892992755785917E-2,2.4856378293521386E-2,2.6886886859113224E-2,2.2527997839110414E-2,2.7708484031504499E-2,3.060248722493264E-2,3.8996841595625442E-2,3.1419839908272795E-2]
[136,3.2851005417229517E-2,3.4019223693613654E-2,3.173166423557916E-2,3.503745037466266E-2,3.6400316768269381E-2,3.6462109158935219E-2,3.4342645190432064E-2,4.4593299378475004E-2,3.5409297481568291E-2,3.7061047134197E-2,3.9797894928097044E-2,3.6560618579925874E-2,4.0293529378925941E-2,4.4193647734448893E-2,4.2335066522831033E-2,4.0175364060845764E-2,5.3192588788358641E-2,4.1881244387618421E-2,2.7030888554902432E-2,2.8948801565364279E-2,2.4897761401724727E-2,2.6920730305424412E-2,2.259366407677188E-2,2.773631093583262E-2,3.0609083688066807E-2,3.9007886161101624E-2,3.1420429270508032E-2]
[137,3.2852092886543227E-2,3.4011780459806351E-2,3.1733622684041451E-2,3.502256391079972E-2,3.6375456308114895E-2,3.6436796284085471E-2,3.4332838539308241E-2,4.4574346715695157E-2,3.5391691024360794E-2,3.7042330542862212E-2,3.9759126388954735E-2,3.6538246251807127E-2,4.0251124155200602E-2,4.4122570642555647E-2,4.2277662763276158E-2,4.0133825702989512E-2,5.3121515394553676E-2,4.1827176627711404E-2,2.7063439125718292E-2,2.8967400398746346E-2,2.4938542125966912E-2,2.6954080891515408E-2,2.2658377745703673E-2,2.7763732444908262E-2,3.0615583898394583E-2,3.9018769621482541E-2,3.1421010032084862E-2]
[138,3.2853164597020035E-2,3.4004445151642804E-2,3.1735552748067608E-2,3.5007893403671053E-2,3.6350956740642149E-2,3.6411850868730555E-2,3.4323174104684551E-2,4.455566907662778E-2,3.5374340026264939E-2,3.702388552300806E-2,3.9720921090087069E-2,3.6516198554280788E-2,4.0209335124731016E-2,4.4052527609507841E-2,4.2221093936523069E-2,4.009289094695756E-2,5.3051476680937792E-2,4.1773895173774944E-2,2.7095519002539703E-2,2.8985730030664625E-2,2.4978733514520401E-2,2.6986949296488483E-2,2.2722159265154751E-2,2.7790757345462325E-2,3.0621989946998829E-2,3.9029495475067399E-2,3.1421582379673296E-2]
[139,3.2854220888706154E-2,3.3997215438641204E-2,3.1737455040685925E-2,3.4993434187702732E-2,3.6326810262969467E-2,3.638726496897049E-2,3.4313648815174291E-2,4.4537260517155453E-2,3.5357238967478111E-2,3.7005706207736244E-2,3.9683266848686616E-2,3.6494468478918574E-2,4.0168148958949601E-2,4.398349629629883E-2,4.2165341966224457E-2,4.0052546733255534E-2,5.2982450221807031E-2,4.1721382999312162E-2,2.7127138318078892E-2,2.9003796262326409E-2,2.5018348242393129E-2,2.7019345894017555E-2,2.2785028489960668E-2,2.7817394172890753E-2,3.0628303864862483E-2,3.9040067119710864E-2,3.1422146494602288E-2]
[140,3.2855262091938231E-2,3.3990089056939343E-2,3.1739330157360968E-2,3.4979181730765863E-2,3.6303009295645117E-2,3.6363030868256985E-2,3.4304259687201411E-2,4.4519115263315312E-2,3.5340382486085176E-2,3.6987786897825448E-2,3.9646151830494913E-2,3.6473049216980469E-2,4.0127552710425451E-2,4.3915454996734216E-2,4.2110389293331663E-2,4.0012780376225354E-2,5.2914414234400464E-2,4.1669623565653513E-2,2.7158306916624131E-2,2.9021604729581929E-2,2.5057398624498406E-2,2.70512807631067E-2,2.2847004728477227E-2,2.7843651220103682E-2,3.0634527625009067E-2,3.905048785639309E-2,3.1422702553046911E-2]
[141,3.285628852768685E-2,3.3983063806931169E-2,3.1741178676621074E-2,3.4965131629437707E-2,3.6279546474699664E-2,3.6339141069317016E-2,3.4295003821884551E-2,4.4501227705246116E-2,3.5323765372454963E-2,3.6970122055794086E-2,3.9609564537451458E-2,3.6451934152409882E-2,4.0087533799386232E-2,4.38483826157543E-2,4.2056218857793315E-2,3.99735795507834E-2,5.284734755606979E-2,4.1618600804632644E-2,2.7189034364198728E-2,2.9039160908760575E-2,2.5095896628277048E-2,2.7082763698406342E-2,2.2908106759975011E-2,2.7869536546011764E-2,3.0640663144551494E-2,3.9060760892637436E-2,3.142325072620844E-2]
[142,3.2857300507885157E-2,3.3976137551003704E-2,3.1743001160660311E-2,3.4951279604465091E-2,3.6256414644032731E-2,3.6315588286418343E-2,3.4285878402053438E-2,4.4483592391391324E-2,3.5307382563871448E-2,3.6952706300213078E-2,3.9573493795864501E-2,3.6431116855118573E-2,4.0048080000803399E-2,4.3782258648584982E-2,4.2002814081018247E-2,3.9934932279718005E-2,5.2781229622406389E-2,4.1568299101991446E-2,2.7219329958293681E-2,2.9056470122264422E-2,2.5133853885801027E-2,2.7113804220104898E-2,2.2968352851498564E-2,2.7895057983663429E-2,3.0646712286657607E-2,3.9070889345786064E-2,3.142379118048777E-2]
[143,3.2858298335745273E-2,3.3969308211366123E-2,3.1744798155912912E-2,3.4937621496416105E-2,3.6233606848123046E-2,3.6292365437960328E-2,3.4276880689389611E-2,4.4466204022948874E-2,3.5291229139390756E-2,3.6935534400254211E-2,3.9537928745073669E-2,3.6410591074541587E-2,4.0009179432013875E-2,4.3717063160689351E-2,4.1950158849068497E-2,3.9896826921515416E-2,5.2716040446288526E-2,4.1518703281482994E-2,2.7249202737199996E-2,2.9073537543926609E-2,2.5171281705380188E-2,2.7144411583415406E-2,2.3027760774196215E-2,2.7920223148050427E-2,3.0652676862430006E-2,3.9080876246140761E-2,3.1424324077649723E-2]
[144,3.2859282306060944E-2,3.3962573767973847E-2,3.1746570193604162E-2,3.49241532615161E-2,3.6211116325043369E-2,3.6269465639373166E-2,3.4268008021686169E-2,4.4449057448552542E-2,3.5275300314913105E-2,3.6918601270465867E-2,3.9502858826583331E-2,3.6390350733457977E-2,3.9970820540852658E-2,4.3652776768487556E-2,4.1898237496544644E-2,3.985925215869579E-2,5.265176059779586E-2,4.1469798589634621E-2,2.7278661488955303E-2,2.9090368204151673E-2,2.5208191082695119E-2,2.7174594787679363E-2,2.3086347819128106E-2,2.7945039443597164E-2,3.0658558632711941E-2,3.9090724539971866E-2,3.1424849574983149E-2]
[145,3.286025270549664E-2,3.3955932256534371E-2,3.1748317790278424E-2,3.4910870967653995E-2,3.6188936499764512E-2,3.624688219631178E-2,3.4259257810222765E-2,4.4432147659173138E-2,3.5259591438459248E-2,3.6901901965764816E-2,3.9468273773643814E-2,3.6370389922058433E-2,3.993299209427259E-2,4.3589380620814078E-2,4.1847034791133497E-2,3.9822196986628589E-2,5.2588371184956406E-2,4.1421570681141384E-2,2.7307714759925661E-2,2.9106966994842054E-2,2.5244592711480385E-2,2.7204362585101061E-2,2.3144130812562391E-2,2.7969514071347845E-2,3.0664359309815037E-2,3.9100437092404849E-2,3.1425367825452799E-2]
[146,3.2861209812865555E-2,3.3949381766597675E-2,3.1750041448304955E-2,3.4897770790554006E-2,3.6167060977738918E-2,3.6224608598131702E-2,3.4250627537246059E-2,4.4415469783232409E-2,3.5244097985640099E-2,3.6885431676631164E-2,3.9434163601259398E-2,3.6350702892253617E-2,3.9895683167428642E-2,4.3526856381085999E-2,4.1796535918784405E-2,3.9785650702807818E-2,5.2525853835281522E-2,4.1374005604861042E-2,2.7336370863038084E-2,2.9123338674125643E-2,2.5280496993775436E-2,2.7233723489131334E-2,2.3201126130765415E-2,2.7993654035864735E-2,3.0670080559179747E-2,3.9110016690190319E-2,3.1425878977846544E-2]
[147,3.2862153899397617E-2,3.3942920439724134E-2,3.1751741656361521E-2,3.4884849010103691E-2,3.6145483538744028E-2,3.6202638511628971E-2,3.4242114753554986E-2,4.4399019081916791E-2,3.5228815555312432E-2,3.686918572449982E-2,3.9400518596601986E-2,3.6331284052207424E-2,3.9858883133203626E-2,4.3465186210152496E-2,4.174672646948796E-2,3.9749602896563374E-2,5.2464190678056521E-2,4.1327089790378579E-2,2.7364637885679555E-2,2.9139487870889935E-2,2.5315914049765631E-2,2.7262685782516005E-2,2.3257349714304487E-2,2.8017466151851522E-2,3.0675724000965188E-2,3.9119466044360784E-2,3.1426383176915262E-2]
[148,3.2863085228994171E-2,3.3936546467725481E-2,3.1753418889900686E-2,3.487210200683144E-2,3.6124198130978336E-2,3.6180965775035601E-2,3.4233717076183723E-2,4.4382790944680783E-2,3.521373986541132E-2,3.6853159557338699E-2,3.9367329309812682E-2,3.6312127961090956E-2,3.9822581652156686E-2,4.340435274979626E-2,4.1697592423627361E-2,3.971404343919116E-2,5.2403364327346047E-2,4.1280810035117632E-2,2.7392523697281179E-2,2.9155419089135437E-2,2.5350853727231337E-2,2.7291257525025259E-2,2.3312817081867498E-2,2.8040957050512461E-2,3.0681291211577255E-2,3.9128787792779729E-2,3.1426880563508508E-2]
[149,3.2864004058474672E-2,3.3930258090978604E-2,3.1755073611594575E-2,3.4859526258524731E-2,3.6103198865396369E-2,3.6159584392258859E-2,3.4225432186176352E-2,4.4366780884933066E-2,3.5198866748948676E-2,3.6837348745403675E-2,3.9334586545173744E-2,3.6293229324041221E-2,3.9786768662875005E-2,4.3344339106865748E-2,4.1649120138875118E-2,3.9678962474477553E-2,5.2343357865685114E-2,4.1235153491968379E-2,2.7420035956597699E-2,2.9171136712153656E-2,2.5385325610620679E-2,2.7319446560876814E-2,2.3367543343616903E-2,2.8064133185662588E-2,3.0686783725134781E-2,3.9137984502590761E-2,3.142737127470463E-2]
[150,3.2864910637811384E-2,3.3924053596805726E-2,3.1756706271763413E-2,3.4847118336985616E-2,3.6082480010269036E-2,3.6138488527347912E-2,3.4217257826453462E-2,4.4350984535896698E-2,3.5184192150174098E-2,3.6821748977162505E-2,3.9302281352630253E-2,3.6274582987320558E-2,3.975143437270634E-2,4.3285128838007614E-2,4.1601296337612448E-2,3.9644350409605122E-2,5.2284154828421414E-2,4.119010765741371E-2,2.7447182118699232E-2,2.9186645006538781E-2,2.5419339029767674E-2,2.7347260525867334E-2,2.3421543214088292E-2,2.8087000839595477E-2,3.0692203034875742E-2,3.914705867256818E-2,3.1427855443934227E-2]

{"sheet":"Curves with VA","index":4,"n_rows":163,"n_cols":37,"rows_kept":163,"cut":false,"hidden":false,"merged":[]}
["LLP before FSP",null,null,null,null,null,null,null,null,null,15,10,20,25,40,25,9,14,9]
["FSP",20,15,30,30,50,30,10,15,10,{"$f":"B$2","v":20},15,30,30,50,30,{"$f":"H$2","v":10},15,10]
["First weight",null,null,null,null,null,null,null,null,null,0.33,1,1,1,1,1,1,1,1]
["First fw LLFR",null,null,null,null,null,null,null,null,null,{"$f":"(K$2*LN(1+OFFSET('Curves without VA'!B$13,K$2,0))-K$1*LN(1+OFFSET('Curves without VA'!B$13,K$1,0)))/(K$2-K$1)","v":3.4543782904386131E-2},{"$f":"(L$2*LN(1+OFFSET('Curves without VA'!C$13,L$2,0))-L$1*LN(1+OFFSET('Curves without VA'!C$13,L$1,0)))/(L$2-L$1)","v":4.5144101507585355E-2},{"$f":"(M$2*LN(1+OFFSET('Curves without VA'!D$13,M$2,0))-M$1*LN(1+OFFSET('Curves without VA'!D$13,M$1,0)))/(M$2-M$1)","v":3.7518325094349513E-2},{"$f":"(N$2*LN(1+OFFSET('Curves without VA'!E$13,N$2,0))-N$1*LN(1+OFFSET('Curves without VA'!E$13,N$1,0)))/(N$2-N$1)","v":3.8471875099958107E-2},{"$f":"(O$2*LN(1+OFFSET('Curves without VA'!F$13,O$2,0))-O$1*LN(1+OFFSET('Curves without VA'!F$13,O$1,0)))/(O$2-O$1)","v":3.3415427104284821E-2},{"$f":"(P$2*LN(1+OFFSET('Curves without VA'!G$13,P$2,0))-P$1*LN(1+OFFSET('Curves without VA'!G$13,P$1,0)))/(P$2-P$1)","v":4.3193739422867375E-2},{"$f":"(Q$2*LN(1+OFFSET('Curves without VA'!H$13,Q$2,0))-Q$1*LN(1+OFFSET('Curves without VA'!H$13,Q$1,0)))/(Q$2-Q$1)","v":5.8552423236115203E-2},{"$f":"(R$2*LN(1+OFFSET('Curves without VA'!I$13,R$2,0))-R$1*LN(1+OFFSET('Curves without VA'!I$13,R$1,0)))/(R$2-R$1)","v":7.6676082737478835E-2},{"$f":"(S$2*LN(1+OFFSET('Curves without VA'!J$13,S$2,0))-S$1*LN(1+OFFSET('Curves without VA'!J$13,S$1,0)))/(S$2-S$1)","v":6.4341939356195588E-2}]
["VA",{"$f":"VLOOKUP(B$12,'RCS and Scaling Factors'!$B$2:$D$11,3,FALSE)*'Scenario Data'!$J$6*10000","v":30.149499999999996},{"$f":"VLOOKUP(C$12,'RCS and Scaling Factors'!$B$2:$D$11,3,FALSE)*'Scenario Data'!$J$6*10000","v":31.611500000000003},{"$f":"VLOOKUP(D$12,'RCS and Scaling Factors'!$B$2:$D$11,3,FALSE)*'Scenario Data'!$J$6*10000","v":19.014499999999998},{"$f":"VLOOKUP(E$12,'RCS and Scaling Factors'!$B$2:$D$11,3,FALSE)*'Scenario Data'!$J$6*10000","v":61.285000000000004},{"$f":"VLOOKUP(F$12,'RCS and Scaling Factors'!$B$2:$D$11,3,FALSE)*'Scenario Data'!$J$6*10000","v":54.195999999999991},{"$f":"VLOOKUP(G$12,'RCS and Scaling Factors'!$B$2:$D$11,3,FALSE)*'Scenario Data'!$J$6*10000","v":36.337499999999999},{"$f":"VLOOKUP(H$12,'RCS and Scaling Factors'!$B$2:$D$11,3,FALSE)*'Scenario Data'!$J$6*10000","v":16.234999999999999},{"$f":"VLOOKUP(I$12,'RCS and Scaling Factors'!$B$2:$D$11,3,FALSE)*'Scenario Data'!$J$6*10000","v":16.362500000000001},{"$f":"VLOOKUP(J$12,'RCS and Scaling Factors'!$B$2:$D$11,3,FALSE)*'Scenario Data'!$J$6*10000","v":14.908999999999999},{"$f":"B$5","v":30.149499999999996},31.611500000000003,19.014499999999998,61.285000000000004,54.195999999999991,36.337499999999999,{"$f":"H$5","v":16.234999999999999},16.362500000000001,14.908999999999999]
["LLFR",null,null,null,null,null,null,null,null,null,3.2246721869295406E-2,4.5144101507585355E-2,3.7518325094349513E-2,3.8471875099958107E-2,3.3415427104284821E-2,4.3193739422867375E-2,5.8552423236115259E-2,7.6676082737478835E-2,6.4341939356195699E-2]
["UFR",null,null,null,null,null,null,null,null,null,3.3000000000000002E-2,3.3000000000000002E-2,3.2000000000000001E-2,3.3000000000000002E-2,3.3000000000000002E-2,3.3000000000000002E-2,3.3000000000000002E-2,4.2000000000000003E-2,3.3000000000000002E-2]
["LLFRVA",null,null,null,null,null,null,null,null,null,{"$f":"K$3*(K$4+LN(1+K$5/10000))+(K$6-K$3*K$4)","v":3.3240158539740348E-2},{"$f":"L$3*(L$4+LN(1+L$5/10000))+(L$6-L$3*L$4)","v":4.8300265577675611E-2},3.9417969626607152E-2,4.4581672218673644E-2,3.8820393919069142E-2,4.6820903303388672E-2,6.0174606784636972E-2,7.8310995538909647E-2,6.5831729068206016E-2]
["Mean Rev",null,null,null,null,null,null,null,null,null,0.11,0.11,0.11,0.11,0.11,0.11,0.11,0.11,0.11]
["Compounding",null,null,null,null,null,null,null,null,null,"A","A","A","A","A","A","A","A","A"]
["Scenario","Zeros with VA","Zeros with VA","Zeros with VA","Zeros with VA","Zeros with VA","Zeros with VA","Zeros with VA","Zeros with VA","Zeros with VA","Baseline","Baseline","Baseline","Baseline","Baseline","Baseline","Baseline","Baseline","Baseline","Up","Up","Up","Up","Up","Up","Up","Up","Up","Down","Down","Down","Down","Down","Down","Down","Down","Down"]
["Currency",{"$f":"'Curves without VA'!B$12","v":"EUR"},{"$f":"'Curves without VA'!C$12","v":"CZK"},{"$f":"'Curves without VA'!D$12","v":"JPY"},{"$f":"'Curves without VA'!E$12","v":"USD"},{"$f":"'Curves without VA'!F$12","v":"GBP"},{"$f":"'Curves without VA'!G$12","v":"AUD"},{"$f":"'Curves without VA'!H$12","v":"PLN"},{"$f":"'Curves without VA'!I$12","v":"HUF"},{"$f":"'Curves without VA'!J$12","v":"RON"},{"$f":"'Curves without VA'!B$12","v":"EUR"},{"$f":"'Curves without VA'!C$12","v":"CZK"},{"$f":"'Curves without VA'!D$12","v":"JPY"},{"$f":"'Curves without VA'!E$12","v":"USD"},{"$f":"'Curves without VA'!F$12","v":"GBP"},{"$f":"'Curves without VA'!G$12","v":"AUD"},{"$f":"'Curves without VA'!H$12","v":"PLN"},{"$f":"'Curves without VA'!I$12","v":"HUF"},{"$f":"'Curves without VA'!J$12","v":"RON"},{"$f":"'Curves without VA'!B$12","v":"EUR"},{"$f":"'Curves without VA'!C$12","v":"CZK"},{"$f":"'Curves without VA'!D$12","v":"JPY"},{"$f":"'Curves without VA'!E$12","v":"USD"},{"$f":"'Curves without VA'!F$12","v":"GBP"},{"$f":"'Curves without VA'!G$12","v":"AUD"},{"$f":"'Curves without VA'!H$12","v":"PLN"},{"$f":"'Curves without VA'!I$12","v":"HUF"},{"$f":"'Curves without VA'!J$12","v":"RON"},{"$f":"'Curves without VA'!B$12","v":"EUR"},{"$f":"'Curves without VA'!C$12","v":"CZK"},{"$f":"'Curves without VA'!D$12","v":"JPY"},{"$f":"'Curves without VA'!E$12","v":"USD"},{"$f":"'Curves without VA'!F$12","v":"GBP"},{"$f":"'Curves without VA'!G$12","v":"AUD"},{"$f":"'Curves without VA'!H$12","v":"PLN"},{"$f":"'Curves without VA'!I$12","v":"HUF"},{"$f":"'Curves without VA'!J$12","v":"RON"}]
["Tenor","Curve","Curve","Curve","Curve","Curve","Curve","Curve","Curve","Curve","Curve","Curve","Curve","Curve","Curve","Curve","Curve","Curve","Curve","Curve","Curve","Curve","Curve","Curve","Curve","Curve","Curve","Curve","Curve","Curve","Curve","Curve","Curve","Curve","Curve","Curve","Curve"]
[1,{"$f":"($A14*LN(1+'Curves without VA'!B14)-IF(ISNUMBER($A13),$A13*LN(1+'Curves without VA'!B13),0)+($A14<=B$2)*LN(1+B$5/10000)+IF(ISNUMBER($A13),$A13*B13))/$A14","v":2.3557862040523573E-2},{"$f":"($A14*LN(1+'Curves without VA'!C14)-IF(ISNUMBER($A13),$A13*LN(1+'Curves without VA'!C13),0)+($A14<=C$2)*LN(1+C$5/10000)+IF(ISNUMBER($A13),$A13*C13))/$A14","v":3.6621887453083805E-2},{"$f":"($A14*LN(1+'Curves without VA'!D14)-IF(ISNUMBER($A13),$A13*LN(1+'Curves without VA'!D13),0)+($A14<=D$2)*LN(1+D$5/10000)+IF(ISNUMBER($A13),$A13*D13))/$A14","v":1.0913893833408028E-2},{"$f":"($A14*LN(1+'Curves without VA'!E14)-IF(ISNUMBER($A13),$A13*LN(1+'Curves without VA'!E13),0)+($A14<=E$2)*LN(1+E$5/10000)+IF(ISNUMBER($A13),$A13*E13))/$A14","v":3.9839500696024918E-2},{"$f":"($A14*LN(1+'Curves without VA'!F14)-IF(ISNUMBER($A13),$A13*LN(1+'Curves without VA'!F13),0)+($A14<=F$2)*LN(1+F$5/10000)+IF(ISNUMBER($A13),$A13*F13))/$A14","v":4.0198104243071534E-2},{"$f":"($A14*LN(1+'Curves without VA'!G14)-IF(ISNUMBER($A13),$A13*LN(1+'Curves without VA'!G13),0)+($A14<=G$2)*LN(1+G$5/10000)+IF(ISNUMBER($A13),$A13*G13))/$A14","v":4.3605913007932463E-2},{"$f":"($A14*LN(1+'Curves without VA'!H14)-IF(ISNUMBER($A13),$A13*LN(1+'Curves without VA'!H13),0)+($A14<=H$2)*LN(1+H$5/10000)+IF(ISNUMBER($A13),$A13*H13))/$A14","v":3.4198757829206679E-2},{"$f":"($A14*LN(1+'Curves without VA'!I14)-IF(ISNUMBER($A13),$A13*LN(1+'Curves without VA'!I13),0)+($A14<=I$2)*LN(1+I$5/10000)+IF(ISNUMBER($A13),$A13*I13))/$A14","v":6.0433869104293006E-2},{"$f":"($A14*LN(1+'Curves without VA'!J14)-IF(ISNUMBER($A13),$A13*LN(1+'Curves without VA'!J13),0)+($A14<=J$2)*LN(1+J$5/10000)+IF(ISNUMBER($A13),$A13*J13))/$A14","v":6.0809089377812681E-2},{"$f":"INDEX(AlternativeExtrapolation(B$14:B$163,K$2,K$7,K$8,K$9,K$10),,1)","v":2.3837540362000142E-2},{"$f":"INDEX(AlternativeExtrapolation(C$14:C$163,L$2,L$7,L$8,L$9,L$10),,1)","v":3.730073025680003E-2},{"$f":"INDEX(AlternativeExtrapolation(D$14:D$163,M$2,M$7,M$8,M$9,M$10),,1)","v":1.097366762975005E-2},{"$f":"INDEX(AlternativeExtrapolation(E$14:E$163,N$2,N$7,N$8,N$9,N$10),,1)","v":4.0643738192500001E-2},{"$f":"INDEX(AlternativeExtrapolation(F$14:F$163,O$2,O$7,O$8,O$9,O$10),,1)","v":4.1016983647800043E-2},{"$f":"INDEX(AlternativeExtrapolation(G$14:G$163,P$2,P$7,P$8,P$9,P$10),,1)","v":4.4570622070044807E-2},{"$f":"INDEX(AlternativeExtrapolation(H$14:H$163,Q$2,Q$7,Q$8,Q$9,Q$10),,1)","v":3.4790258955500031E-2},{"$f":"INDEX(AlternativeExtrapolation(I$14:I$163,R$2,R$7,R$8,R$9,R$10),,1)","v":6.2297344572499913E-2},{"$f":"INDEX(AlternativeExtrapolation(J$14:J$163,S$2,S$7,S$8,S$9,S$10),,1)","v":6.2696014862599903E-2},{"$f":"(1+'Curves without VA'!K14)*(1+K14)/(1+'Curves without VA'!B14)-1","v":5.8003840412820251E-2},{"$f":"(1+'Curves without VA'!L14)*(1+L14)/(1+'Curves without VA'!C14)-1","v":7.9593522823448337E-2},{"$f":"(1+'Curves without VA'!M14)*(1+M14)/(1+'Curves without VA'!D14)-1","v":3.7948411413897487E-2},{"$f":"(1+'Curves without VA'!N14)*(1+N14)/(1+'Curves without VA'!E14)-1","v":8.3229183389925021E-2},{"$f":"(1+'Curves without VA'!O14)*(1+O14)/(1+'Curves without VA'!F14)-1","v":8.4247367112958216E-2},{"$f":"(1+'Curves without VA'!P14)*(1+P14)/(1+'Curves without VA'!G14)-1","v":9.1019876282772083E-2},{"$f":"(1+'Curves without VA'!Q14)*(1+Q14)/(1+'Curves without VA'!H14)-1","v":7.6456724818354971E-2},{"$f":"(1+'Curves without VA'!R14)*(1+R14)/(1+'Curves without VA'!I14)-1","v":0.12073562801172488},{"$f":"(1+'Curves without VA'!S14)*(1+S14)/(1+'Curves without VA'!J14)-1","v":0.12146304018878595},{"$f":"(1+'Curves without VA'!T14)*(1+K14)/(1+'Curves without VA'!B14)-1","v":1.2546453204009822E-4},{"$f":"(1+'Curves without VA'!U14)*(1+L14)/(1+'Curves without VA'!C14)-1","v":5.8631043678560868E-3},{"$f":"(1+'Curves without VA'!V14)*(1+M14)/(1+'Curves without VA'!D14)-1","v":-5.9102754155049286E-3},{"$f":"(1+'Curves without VA'!W14)*(1+N14)/(1+'Curves without VA'!E14)-1","v":8.9538094408498914E-3},{"$f":"(1+'Curves without VA'!X14)*(1+O14)/(1+'Curves without VA'!F14)-1","v":8.7076337720759511E-3},{"$f":"(1+'Curves without VA'!Y14)*(1+P14)/(1+'Curves without VA'!G14)-1","v":9.1850847694188165E-3},{"$f":"(1+'Curves without VA'!Z14)*(1+Q14)/(1+'Curves without VA'!H14)-1","v":3.9347061613099754E-3},{"$f":"(1+'Curves without VA'!AA14)*(1+R14)/(1+'Curves without VA'!I14)-1","v":1.5494929220450038E-2},{"$f":"(1+'Curves without VA'!AB14)*(1+S14)/(1+'Curves without VA'!J14)-1","v":1.5579753802291929E-2}]
[2,{"$f":"($A15*LN(1+'Curves without VA'!B15)-IF(ISNUMBER($A14),$A14*LN(1+'Curves without VA'!B14),0)+($A15<=B$2)*LN(1+B$5/10000)+IF(ISNUMBER($A14),$A14*B14))/$A15","v":2.4409124442006467E-2},{"$f":"($A15*LN(1+'Curves without VA'!C15)-IF(ISNUMBER($A14),$A14*LN(1+'Curves without VA'!C14),0)+($A15<=C$2)*LN(1+C$5/10000)+IF(ISNUMBER($A14),$A14*C14))/$A15","v":3.7246444519411552E-2},{"$f":"($A15*LN(1+'Curves without VA'!D15)-IF(ISNUMBER($A14),$A14*LN(1+'Curves without VA'!D14),0)+($A15<=D$2)*LN(1+D$5/10000)+IF(ISNUMBER($A14),$A14*D14))/$A15","v":1.3363883598110591E-2},{"$f":"($A15*LN(1+'Curves without VA'!E15)-IF(ISNUMBER($A14),$A14*LN(1+'Curves without VA'!E14),0)+($A15<=E$2)*LN(1+E$5/10000)+IF(ISNUMBER($A14),$A14*E14))/$A15","v":3.8674174634541821E-2},{"$f":"($A15*LN(1+'Curves without VA'!F15)-IF(ISNUMBER($A14),$A14*LN(1+'Curves without VA'!F14),0)+($A15<=F$2)*LN(1+F$5/10000)+IF(ISNUMBER($A14),$A14*F14))/$A15","v":3.9726314835637794E-2},{"$f":"($A15*LN(1+'Curves without VA'!G15)-IF(ISNUMBER($A14),$A14*LN(1+'Curves without VA'!G14),0)+($A15<=G$2)*LN(1+G$5/10000)+IF(ISNUMBER($A14),$A14*G14))/$A15","v":4.4652409566483316E-2},{"$f":"($A15*LN(1+'Curves without VA'!H15)-IF(ISNUMBER($A14),$A14*LN(1+'Curves without VA'!H14),0)+($A15<=H$2)*LN(1+H$5/10000)+IF(ISNUMBER($A14),$A14*H14))/$A15","v":3.763197798453137E-2},{"$f":"($A15*LN(1+'Curves without VA'!I15)-IF(ISNUMBER($A14),$A14*LN(1+'Curves without VA'!I14),0)+($A15<=I$2)*LN(1+I$5/10000)+IF(ISNUMBER($A14),$A14*I14))/$A15","v":6.0835462284491798E-2},{"$f":"($A15*LN(1+'Curves without VA'!J15)-IF(ISNUMBER($A14),$A14*LN(1+'Curves without VA'!J14),0)+($A15<=J$2)*LN(1+J$5/10000)+IF(ISNUMBER($A14),$A14*J14))/$A15","v":6.2015583115666663E-2},2.4709465831368238E-2,3.7948786110654664E-2,1.3453579406600191E-2,3.9431755238480859E-2,4.0525958701248532E-2,4.5664333814177116E-2,3.834902725100009E-2,6.2724041615000115E-2,6.397892470550004E-2,{"$f":"(1+'Curves without VA'!K15)*(1+K15)/(1+'Curves without VA'!B15)-1","v":5.4863637291993284E-2},{"$f":"(1+'Curves without VA'!L15)*(1+L15)/(1+'Curves without VA'!C15)-1","v":7.5045030639301347E-2},{"$f":"(1+'Curves without VA'!M15)*(1+M15)/(1+'Curves without VA'!D15)-1","v":3.8211574962098149E-2},{"$f":"(1+'Curves without VA'!N15)*(1+N15)/(1+'Curves without VA'!E15)-1","v":7.5796470614875711E-2},{"$f":"(1+'Curves without VA'!O15)*(1+O15)/(1+'Curves without VA'!F15)-1","v":7.7833133372910313E-2},{"$f":"(1+'Curves without VA'!P15)*(1+P15)/(1+'Curves without VA'!G15)-1","v":8.6608130985690979E-2},{"$f":"(1+'Curves without VA'!Q15)*(1+Q15)/(1+'Curves without VA'!H15)-1","v":7.6443753794030123E-2},{"$f":"(1+'Curves without VA'!R15)*(1+R15)/(1+'Curves without VA'!I15)-1","v":0.11373100542095016},{"$f":"(1+'Curves without VA'!S15)*(1+S15)/(1+'Curves without VA'!J15)-1","v":0.11572530853941476},{"$f":"(1+'Curves without VA'!T15)*(1+K15)/(1+'Curves without VA'!B15)-1","v":3.7154147523703607E-3},{"$f":"(1+'Curves without VA'!U15)*(1+L15)/(1+'Curves without VA'!C15)-1","v":1.0275796309220819E-2},{"$f":"(1+'Curves without VA'!V15)*(1+M15)/(1+'Curves without VA'!D15)-1","v":-2.3568309457657755E-3},{"$f":"(1+'Curves without VA'!W15)*(1+N15)/(1+'Curves without VA'!E15)-1","v":1.2486422916855533E-2},{"$f":"(1+'Curves without VA'!X15)*(1+O15)/(1+'Curves without VA'!F15)-1","v":1.2668061723611679E-2},{"$f":"(1+'Curves without VA'!Y15)*(1+P15)/(1+'Curves without VA'!G15)-1","v":1.4292761943946797E-2},{"$f":"(1+'Curves without VA'!Z15)*(1+Q15)/(1+'Curves without VA'!H15)-1","v":9.7029357029900787E-3},{"$f":"(1+'Curves without VA'!AA15)*(1+R15)/(1+'Curves without VA'!I15)-1","v":2.1653069016349891E-2},{"$f":"(1+'Curves without VA'!AB15)*(1+S15)/(1+'Curves without VA'!J15)-1","v":2.2195272195695059E-2}]
[3,{"$f":"($A16*LN(1+'Curves without VA'!B16)-IF(ISNUMBER($A15),$A15*LN(1+'Curves without VA'!B15),0)+($A16<=B$2)*LN(1+B$5/10000)+IF(ISNUMBER($A15),$A15*B15))/$A16","v":2.5582334620508903E-2},{"$f":"($A16*LN(1+'Curves without VA'!C16)-IF(ISNUMBER($A15),$A15*LN(1+'Curves without VA'!C15),0)+($A16<=C$2)*LN(1+C$5/10000)+IF(ISNUMBER($A15),$A15*C15))/$A16","v":3.8258062018285743E-2},{"$f":"($A16*LN(1+'Curves without VA'!D16)-IF(ISNUMBER($A15),$A15*LN(1+'Curves without VA'!D15),0)+($A16<=D$2)*LN(1+D$5/10000)+IF(ISNUMBER($A15),$A15*D15))/$A16","v":1.5041123852950677E-2},{"$f":"($A16*LN(1+'Curves without VA'!E16)-IF(ISNUMBER($A15),$A15*LN(1+'Curves without VA'!E15),0)+($A16<=E$2)*LN(1+E$5/10000)+IF(ISNUMBER($A15),$A15*E15))/$A16","v":3.8940520783300819E-2},{"$f":"($A16*LN(1+'Curves without VA'!F16)-IF(ISNUMBER($A15),$A15*LN(1+'Curves without VA'!F15),0)+($A16<=F$2)*LN(1+F$5/10000)+IF(ISNUMBER($A15),$A15*F15))/$A16","v":4.011167849609111E-2},{"$f":"($A16*LN(1+'Curves without VA'!G16)-IF(ISNUMBER($A15),$A15*LN(1+'Curves without VA'!G15),0)+($A16<=G$2)*LN(1+G$5/10000)+IF(ISNUMBER($A15),$A15*G15))/$A16","v":4.5314793851696011E-2},{"$f":"($A16*LN(1+'Curves without VA'!H16)-IF(ISNUMBER($A15),$A15*LN(1+'Curves without VA'!H15),0)+($A16<=H$2)*LN(1+H$5/10000)+IF(ISNUMBER($A15),$A15*H15))/$A16","v":4.0573629683462273E-2},{"$f":"($A16*LN(1+'Curves without VA'!I16)-IF(ISNUMBER($A15),$A15*LN(1+'Curves without VA'!I15),0)+($A16<=I$2)*LN(1+I$5/10000)+IF(ISNUMBER($A15),$A15*I15))/$A16","v":6.1675834886552816E-2},{"$f":"($A16*LN(1+'Curves without VA'!J16)-IF(ISNUMBER($A15),$A15*LN(1+'Curves without VA'!J15),0)+($A16<=J$2)*LN(1+J$5/10000)+IF(ISNUMBER($A15),$A15*J15))/$A16","v":6.3194298828447071E-2},2.59123708989486E-2,3.8999324547561498E-2,1.5154810834493437E-2,3.9708640755445002E-2,4.0927016865148103E-2,4.6357194881311514E-2,4.1407985420000015E-2,6.3617501149999978E-2,6.5233792803200075E-2,{"$f":"(1+'Curves without VA'!K16)*(1+K16)/(1+'Curves without VA'!B16)-1","v":5.4383964279433483E-2},{"$f":"(1+'Curves without VA'!L16)*(1+L16)/(1+'Curves without VA'!C16)-1","v":7.3814401855866851E-2},{"$f":"(1+'Curves without VA'!M16)*(1+M16)/(1+'Curves without VA'!D16)-1","v":3.8881662583395205E-2},{"$f":"(1+'Curves without VA'!N16)*(1+N16)/(1+'Curves without VA'!E16)-1","v":7.3468319925613201E-2},{"$f":"(1+'Curves without VA'!O16)*(1+O16)/(1+'Curves without VA'!F16)-1","v":7.5618868249070825E-2},{"$f":"(1+'Curves without VA'!P16)*(1+P16)/(1+'Curves without VA'!G16)-1","v":8.4554183373154457E-2},{"$f":"(1+'Curves without VA'!Q16)*(1+Q16)/(1+'Curves without VA'!H16)-1","v":7.8130307475799965E-2},{"$f":"(1+'Curves without VA'!R16)*(1+R16)/(1+'Curves without VA'!I16)-1","v":0.11121645771349997},{"$f":"(1+'Curves without VA'!S16)*(1+S16)/(1+'Curves without VA'!J16)-1","v":0.1136934537567682},{"$f":"(1+'Curves without VA'!T16)*(1+K16)/(1+'Curves without VA'!B16)-1","v":7.5124816184113374E-3},{"$f":"(1+'Curves without VA'!U16)*(1+L16)/(1+'Curves without VA'!C16)-1","v":1.4904290201634529E-2},{"$f":"(1+'Curves without VA'!V16)*(1+M16)/(1+'Curves without VA'!D16)-1","v":1.00755003231634E-3},{"$f":"(1+'Curves without VA'!W16)*(1+N16)/(1+'Curves without VA'!E16)-1","v":1.6582512273049188E-2},{"$f":"(1+'Curves without VA'!X16)*(1+O16)/(1+'Curves without VA'!F16)-1","v":1.6958770764482933E-2},{"$f":"(1+'Curves without VA'!Y16)*(1+P16)/(1+'Curves without VA'!G16)-1","v":1.9228719008534512E-2},{"$f":"(1+'Curves without VA'!Z16)*(1+Q16)/(1+'Curves without VA'!H16)-1","v":1.5589336785200025E-2},{"$f":"(1+'Curves without VA'!AA16)*(1+R16)/(1+'Curves without VA'!I16)-1","v":2.8032169769000026E-2},{"$f":"(1+'Curves without VA'!AB16)*(1+S16)/(1+'Curves without VA'!J16)-1","v":2.8874545499792292E-2}]
[4,{"$f":"($A17*LN(1+'Curves without VA'!B17)-IF(ISNUMBER($A16),$A16*LN(1+'Curves without VA'!B16),0)+($A17<=B$2)*LN(1+B$5/10000)+IF(ISNUMBER($A16),$A16*B16))/$A17","v":2.659307275753971E-2},{"$f":"($A17*LN(1+'Curves without VA'!C17)-IF(ISNUMBER($A16),$A16*LN(1+'Curves without VA'!C16),0)+($A17<=C$2)*LN(1+C$5/10000)+IF(ISNUMBER($A16),$A16*C16))/$A17","v":3.9255964586622338E-2},{"$f":"($A17*LN(1+'Curves without VA'!D17)-IF(ISNUMBER($A16),$A16*LN(1+'Curves without VA'!D16),0)+($A17<=D$2)*LN(1+D$5/10000)+IF(ISNUMBER($A16),$A16*D16))/$A17","v":1.6077969452133332E-2},{"$f":"($A17*LN(1+'Curves without VA'!E17)-IF(ISNUMBER($A16),$A16*LN(1+'Curves without VA'!E16),0)+($A17<=E$2)*LN(1+E$5/10000)+IF(ISNUMBER($A16),$A16*E16))/$A17","v":3.9516612275982285E-2},{"$f":"($A17*LN(1+'Curves without VA'!F17)-IF(ISNUMBER($A16),$A16*LN(1+'Curves without VA'!F16),0)+($A17<=F$2)*LN(1+F$5/10000)+IF(ISNUMBER($A16),$A16*F16))/$A17","v":4.0697751187037945E-2},{"$f":"($A17*LN(1+'Curves without VA'!G17)-IF(ISNUMBER($A16),$A16*LN(1+'Curves without VA'!G16),0)+($A17<=G$2)*LN(1+G$5/10000)+IF(ISNUMBER($A16),$A16*G16))/$A17","v":4.589797379535554E-2},{"$f":"($A17*LN(1+'Curves without VA'!H17)-IF(ISNUMBER($A16),$A16*LN(1+'Curves without VA'!H16),0)+($A17<=H$2)*LN(1+H$5/10000)+IF(ISNUMBER($A16),$A16*H16))/$A17","v":4.3088450480727736E-2},{"$f":"($A17*LN(1+'Curves without VA'!I17)-IF(ISNUMBER($A16),$A16*LN(1+'Curves without VA'!I16),0)+($A17<=I$2)*LN(1+I$5/10000)+IF(ISNUMBER($A16),$A16*I16))/$A17","v":6.2594537321722724E-2},{"$f":"($A17*LN(1+'Curves without VA'!J17)-IF(ISNUMBER($A16),$A16*LN(1+'Curves without VA'!J16),0)+($A17<=J$2)*LN(1+J$5/10000)+IF(ISNUMBER($A16),$A16*J16))/$A17","v":6.4153742443587208E-2},2.6949823865786149E-2,4.0036662136867296E-2,1.6207915491715852E-2,4.0307780621371192E-2,4.153725456736046E-2,4.6967587378301756E-2,4.4030235743000024E-2,6.4595098130000084E-2,6.6256315012100275E-2,{"$f":"(1+'Curves without VA'!K17)*(1+K17)/(1+'Curves without VA'!B17)-1","v":5.4108406539047804E-2},{"$f":"(1+'Curves without VA'!L17)*(1+L17)/(1+'Curves without VA'!C17)-1","v":7.3150292234826386E-2},{"$f":"(1+'Curves without VA'!M17)*(1+M17)/(1+'Curves without VA'!D17)-1","v":3.891950296290525E-2},{"$f":"(1+'Curves without VA'!N17)*(1+N17)/(1+'Curves without VA'!E17)-1","v":7.2228918557201816E-2},{"$f":"(1+'Curves without VA'!O17)*(1+O17)/(1+'Curves without VA'!F17)-1","v":7.4338631228346497E-2},{"$f":"(1+'Curves without VA'!P17)*(1+P17)/(1+'Curves without VA'!G17)-1","v":8.3059655947320454E-2},{"$f":"(1+'Curves without VA'!Q17)*(1+Q17)/(1+'Curves without VA'!H17)-1","v":7.9663472534780011E-2},{"$f":"(1+'Curves without VA'!R17)*(1+R17)/(1+'Curves without VA'!I17)-1","v":0.10968251189480016},{"$f":"(1+'Curves without VA'!S17)*(1+S17)/(1+'Curves without VA'!J17)-1","v":0.11217240940766637},{"$f":"(1+'Curves without VA'!T17)*(1+K17)/(1+'Curves without VA'!B17)-1","v":9.953563689471645E-3},{"$f":"(1+'Curves without VA'!U17)*(1+L17)/(1+'Curves without VA'!C17)-1","v":1.7863064772120518E-2},{"$f":"(1+'Curves without VA'!V17)*(1+M17)/(1+'Curves without VA'!D17)-1","v":3.0712585650296553E-3},{"$f":"(1+'Curves without VA'!W17)*(1+N17)/(1+'Curves without VA'!E17)-1","v":1.9190717472822749E-2},{"$f":"(1+'Curves without VA'!X17)*(1+O17)/(1+'Curves without VA'!F17)-1","v":1.9650087700416208E-2},{"$f":"(1+'Curves without VA'!Y17)*(1+P17)/(1+'Curves without VA'!G17)-1","v":2.2207162676981307E-2},{"$f":"(1+'Curves without VA'!Z17)*(1+Q17)/(1+'Curves without VA'!H17)-1","v":1.9655527545800133E-2},{"$f":"(1+'Curves without VA'!AA17)*(1+R17)/(1+'Curves without VA'!I17)-1","v":3.1999450628000137E-2},{"$f":"(1+'Curves without VA'!AB17)*(1+S17)/(1+'Curves without VA'!J17)-1","v":3.29391163472601E-2}]
[5,{"$f":"($A18*LN(1+'Curves without VA'!B18)-IF(ISNUMBER($A17),$A17*LN(1+'Curves without VA'!B17),0)+($A18<=B$2)*LN(1+B$5/10000)+IF(ISNUMBER($A17),$A17*B17))/$A18","v":2.7495782902216586E-2},{"$f":"($A18*LN(1+'Curves without VA'!C18)-IF(ISNUMBER($A17),$A17*LN(1+'Curves without VA'!C17),0)+($A18<=C$2)*LN(1+C$5/10000)+IF(ISNUMBER($A17),$A17*C17))/$A18","v":3.9854706127624283E-2},{"$f":"($A18*LN(1+'Curves without VA'!D18)-IF(ISNUMBER($A17),$A17*LN(1+'Curves without VA'!D17),0)+($A18<=D$2)*LN(1+D$5/10000)+IF(ISNUMBER($A17),$A17*D17))/$A18","v":1.6913719244400906E-2},{"$f":"($A18*LN(1+'Curves without VA'!E18)-IF(ISNUMBER($A17),$A17*LN(1+'Curves without VA'!E17),0)+($A18<=E$2)*LN(1+E$5/10000)+IF(ISNUMBER($A17),$A17*E17))/$A18","v":4.018034255514126E-2},{"$f":"($A18*LN(1+'Curves without VA'!F18)-IF(ISNUMBER($A17),$A17*LN(1+'Curves without VA'!F17),0)+($A18<=F$2)*LN(1+F$5/10000)+IF(ISNUMBER($A17),$A17*F17))/$A18","v":4.1402324713099736E-2},{"$f":"($A18*LN(1+'Curves without VA'!G18)-IF(ISNUMBER($A17),$A17*LN(1+'Curves without VA'!G17),0)+($A18<=G$2)*LN(1+G$5/10000)+IF(ISNUMBER($A17),$A17*G17))/$A18","v":4.653901172366938E-2},{"$f":"($A18*LN(1+'Curves without VA'!H18)-IF(ISNUMBER($A17),$A17*LN(1+'Curves without VA'!H17),0)+($A18<=H$2)*LN(1+H$5/10000)+IF(ISNUMBER($A17),$A17*H17))/$A18","v":4.5214098295276041E-2},{"$f":"($A18*LN(1+'Curves without VA'!I18)-IF(ISNUMBER($A17),$A17*LN(1+'Curves without VA'!I17),0)+($A18<=I$2)*LN(1+I$5/10000)+IF(ISNUMBER($A17),$A17*I17))/$A18","v":6.3506756513181412E-2},{"$f":"($A18*LN(1+'Curves without VA'!J18)-IF(ISNUMBER($A17),$A17*LN(1+'Curves without VA'!J17),0)+($A18<=J$2)*LN(1+J$5/10000)+IF(ISNUMBER($A17),$A17*J17))/$A18","v":6.4857938731245818E-2},2.7877280439111862E-2,4.0659561749982087E-2,1.705756604417008E-2,4.0998493593214169E-2,4.2271352726031219E-2,4.7638948472498832E-2,4.6251836666000079E-2,6.5566685292499871E-2,6.7007433187100007E-2,{"$f":"(1+'Curves without VA'!K18)*(1+K18)/(1+'Curves without VA'!B18)-1","v":5.4912965346712195E-2},{"$f":"(1+'Curves without VA'!L18)*(1+L18)/(1+'Curves without VA'!C18)-1","v":7.3383793207473902E-2},{"$f":"(1+'Curves without VA'!M18)*(1+M18)/(1+'Curves without VA'!D18)-1","v":3.9707861174046899E-2},{"$f":"(1+'Curves without VA'!N18)*(1+N18)/(1+'Curves without VA'!E18)-1","v":7.2586821010160563E-2},{"$f":"(1+'Curves without VA'!O18)*(1+O18)/(1+'Curves without VA'!F18)-1","v":7.4740271132745395E-2},{"$f":"(1+'Curves without VA'!P18)*(1+P18)/(1+'Curves without VA'!G18)-1","v":8.3298701035123157E-2},{"$f":"(1+'Curves without VA'!Q18)*(1+Q18)/(1+'Curves without VA'!H18)-1","v":8.2160239465700169E-2},{"$f":"(1+'Curves without VA'!R18)*(1+R18)/(1+'Curves without VA'!I18)-1","v":0.11016123392412491},{"$f":"(1+'Curves without VA'!S18)*(1+S18)/(1+'Curves without VA'!J18)-1","v":0.11231342934129529},{"$f":"(1+'Curves without VA'!T18)*(1+K18)/(1+'Curves without VA'!B18)-1","v":1.0810942118467226E-2},{"$f":"(1+'Curves without VA'!U18)*(1+L18)/(1+'Curves without VA'!C18)-1","v":1.8537752884989267E-2},{"$f":"(1+'Curves without VA'!V18)*(1+M18)/(1+'Curves without VA'!D18)-1","v":3.8816193315021064E-3},{"$f":"(1+'Curves without VA'!W18)*(1+N18)/(1+'Curves without VA'!E18)-1","v":1.990698380592848E-2},{"$f":"(1+'Curves without VA'!X18)*(1+O18)/(1+'Curves without VA'!F18)-1","v":2.0392172475618864E-2},{"$f":"(1+'Curves without VA'!Y18)*(1+P18)/(1+'Curves without VA'!G18)-1","v":2.29110694584993E-2},{"$f":"(1+'Curves without VA'!Z18)*(1+Q18)/(1+'Curves without VA'!H18)-1","v":2.1288975149599931E-2},{"$f":"(1+'Curves without VA'!AA18)*(1+R18)/(1+'Curves without VA'!I18)-1","v":3.2882893800500135E-2},{"$f":"(1+'Curves without VA'!AB18)*(1+S18)/(1+'Curves without VA'!J18)-1","v":3.3690234522260054E-2}]
[6,{"$f":"($A19*LN(1+'Curves without VA'!B19)-IF(ISNUMBER($A18),$A18*LN(1+'Curves without VA'!B18),0)+($A19<=B$2)*LN(1+B$5/10000)+IF(ISNUMBER($A18),$A18*B18))/$A19","v":2.8335691648518301E-2},{"$f":"($A19*LN(1+'Curves without VA'!C19)-IF(ISNUMBER($A18),$A18*LN(1+'Curves without VA'!C18),0)+($A19<=C$2)*LN(1+C$5/10000)+IF(ISNUMBER($A18),$A18*C18))/$A19","v":4.0868916060978304E-2},{"$f":"($A19*LN(1+'Curves without VA'!D19)-IF(ISNUMBER($A18),$A18*LN(1+'Curves without VA'!D18),0)+($A19<=D$2)*LN(1+D$5/10000)+IF(ISNUMBER($A18),$A18*D18))/$A19","v":1.7622593662053852E-2},{"$f":"($A19*LN(1+'Curves without VA'!E19)-IF(ISNUMBER($A18),$A18*LN(1+'Curves without VA'!E18),0)+($A19<=E$2)*LN(1+E$5/10000)+IF(ISNUMBER($A18),$A18*E18))/$A19","v":4.0925665749539618E-2},{"$f":"($A19*LN(1+'Curves without VA'!F19)-IF(ISNUMBER($A18),$A18*LN(1+'Curves without VA'!F18),0)+($A19<=F$2)*LN(1+F$5/10000)+IF(ISNUMBER($A18),$A18*F18))/$A19","v":4.2036148800196897E-2},{"$f":"($A19*LN(1+'Curves without VA'!G19)-IF(ISNUMBER($A18),$A18*LN(1+'Curves without VA'!G18),0)+($A19<=G$2)*LN(1+G$5/10000)+IF(ISNUMBER($A18),$A18*G18))/$A19","v":4.7192752834611162E-2},{"$f":"($A19*LN(1+'Curves without VA'!H19)-IF(ISNUMBER($A18),$A18*LN(1+'Curves without VA'!H18),0)+($A19<=H$2)*LN(1+H$5/10000)+IF(ISNUMBER($A18),$A18*H18))/$A19","v":4.7028533833753605E-2},{"$f":"($A19*LN(1+'Curves without VA'!I19)-IF(ISNUMBER($A18),$A18*LN(1+'Curves without VA'!I18),0)+($A19<=I$2)*LN(1+I$5/10000)+IF(ISNUMBER($A18),$A18*I18))/$A19","v":6.4396543704174206E-2},{"$f":"($A19*LN(1+'Curves without VA'!J19)-IF(ISNUMBER($A18),$A18*LN(1+'Curves without VA'!J18),0)+($A19<=J$2)*LN(1+J$5/10000)+IF(ISNUMBER($A18),$A18*J18))/$A19","v":6.5335570960701389E-2},2.8740966214922281E-2,4.1715544418287287E-2,1.7778787731619561E-2,4.1774663128471001E-2,4.2932178816303956E-2,4.8324057039957014E-2,4.8151916445499987E-2,6.651523482124988E-2,6.7517192055200015E-2,{"$f":"(1+'Curves without VA'!K19)*(1+K19)/(1+'Curves without VA'!B19)-1","v":5.3732048143040334E-2},{"$f":"(1+'Curves without VA'!L19)*(1+L19)/(1+'Curves without VA'!C19)-1","v":7.1968366689785235E-2},{"$f":"(1+'Curves without VA'!M19)*(1+M19)/(1+'Curves without VA'!D19)-1","v":3.8715877081583638E-2},{"$f":"(1+'Curves without VA'!N19)*(1+N19)/(1+'Curves without VA'!E19)-1","v":7.0877840411144089E-2},{"$f":"(1+'Curves without VA'!O19)*(1+O19)/(1+'Curves without VA'!F19)-1","v":7.2790378370988451E-2},{"$f":"(1+'Curves without VA'!P19)*(1+P19)/(1+'Curves without VA'!G19)-1","v":8.1099408926339267E-2},{"$f":"(1+'Curves without VA'!Q19)*(1+Q19)/(1+'Curves without VA'!H19)-1","v":8.1651945588155028E-2},{"$f":"(1+'Curves without VA'!R19)*(1+R19)/(1+'Curves without VA'!I19)-1","v":0.10753918059796241},{"$f":"(1+'Curves without VA'!S19)*(1+S19)/(1+'Curves without VA'!J19)-1","v":0.10900944075783214},{"$f":"(1+'Curves without VA'!T19)*(1+K19)/(1+'Curves without VA'!B19)-1","v":1.2244879888251736E-2},{"$f":"(1+'Curves without VA'!U19)*(1+L19)/(1+'Curves without VA'!C19)-1","v":2.0343694834338066E-2},{"$f":"(1+'Curves without VA'!V19)*(1+M19)/(1+'Curves without VA'!D19)-1","v":5.0326596786041122E-3},{"$f":"(1+'Curves without VA'!W19)*(1+N19)/(1+'Curves without VA'!E19)-1","v":2.1488060189651881E-2},{"$f":"(1+'Curves without VA'!X19)*(1+O19)/(1+'Curves without VA'!F19)-1","v":2.1941087546108573E-2},{"$f":"(1+'Curves without VA'!Y19)*(1+P19)/(1+'Curves without VA'!G19)-1","v":2.461739423977316E-2},{"$f":"(1+'Curves without VA'!Z19)*(1+Q19)/(1+'Curves without VA'!H19)-1","v":2.3760240746210082E-2},{"$f":"(1+'Curves without VA'!AA19)*(1+R19)/(1+'Curves without VA'!I19)-1","v":3.5150257714174904E-2},{"$f":"(1+'Curves without VA'!AB19)*(1+S19)/(1+'Curves without VA'!J19)-1","v":3.5717212044224178E-2}]
[7,{"$f":"($A20*LN(1+'Curves without VA'!B20)-IF(ISNUMBER($A19),$A19*LN(1+'Curves without VA'!B19),0)+($A20<=B$2)*LN(1+B$5/10000)+IF(ISNUMBER($A19),$A19*B19))/$A20","v":2.9175492395956987E-2},{"$f":"($A20*LN(1+'Curves without VA'!C20)-IF(ISNUMBER($A19),$A19*LN(1+'Curves without VA'!C19),0)+($A20<=C$2)*LN(1+C$5/10000)+IF(ISNUMBER($A19),$A19*C19))/$A20","v":4.1593351727659877E-2},{"$f":"($A20*LN(1+'Curves without VA'!D20)-IF(ISNUMBER($A19),$A19*LN(1+'Curves without VA'!D19),0)+($A20<=D$2)*LN(1+D$5/10000)+IF(ISNUMBER($A19),$A19*D19))/$A20","v":1.8436805864722596E-2},{"$f":"($A20*LN(1+'Curves without VA'!E20)-IF(ISNUMBER($A19),$A19*LN(1+'Curves without VA'!E19),0)+($A20<=E$2)*LN(1+E$5/10000)+IF(ISNUMBER($A19),$A19*E19))/$A20","v":4.1664654352215953E-2},{"$f":"($A20*LN(1+'Curves without VA'!F20)-IF(ISNUMBER($A19),$A19*LN(1+'Curves without VA'!F19),0)+($A20<=F$2)*LN(1+F$5/10000)+IF(ISNUMBER($A19),$A19*F19))/$A20","v":4.2809847706690336E-2},{"$f":"($A20*LN(1+'Curves without VA'!G20)-IF(ISNUMBER($A19),$A19*LN(1+'Curves without VA'!G19),0)+($A20<=G$2)*LN(1+G$5/10000)+IF(ISNUMBER($A19),$A19*G19))/$A20","v":4.7900680277068015E-2},{"$f":"($A20*LN(1+'Curves without VA'!H20)-IF(ISNUMBER($A19),$A19*LN(1+'Curves without VA'!H19),0)+($A20<=H$2)*LN(1+H$5/10000)+IF(ISNUMBER($A19),$A19*H19))/$A20","v":4.8593551853925956E-2},{"$f":"($A20*LN(1+'Curves without VA'!I20)-IF(ISNUMBER($A19),$A19*LN(1+'Curves without VA'!I19),0)+($A20<=I$2)*LN(1+I$5/10000)+IF(ISNUMBER($A19),$A19*I19))/$A20","v":6.525551277824726E-2},{"$f":"($A20*LN(1+'Curves without VA'!J20)-IF(ISNUMBER($A19),$A19*LN(1+'Curves without VA'!J19),0)+($A20<=J$2)*LN(1+J$5/10000)+IF(ISNUMBER($A19),$A19*J19))/$A20","v":6.5632920192996866E-2},2.9605266516493423E-2,4.2470473729043778E-2,1.8607813095692372E-2,4.2544807259899287E-2,4.3739406537935954E-2,4.9066457160227284E-2,4.9793577361999963E-2,6.7431731989999966E-2,6.7834664670499922E-2,{"$f":"(1+'Curves without VA'!K20)*(1+K20)/(1+'Curves without VA'!B20)-1","v":5.2482877977595876E-2},{"$f":"(1+'Curves without VA'!L20)*(1+L20)/(1+'Curves without VA'!C20)-1","v":7.0056018458789948E-2},{"$f":"(1+'Curves without VA'!M20)*(1+M20)/(1+'Curves without VA'!D20)-1","v":3.7813886291098386E-2},{"$f":"(1+'Curves without VA'!N20)*(1+N20)/(1+'Curves without VA'!E20)-1","v":6.909851144606205E-2},{"$f":"(1+'Curves without VA'!O20)*(1+O20)/(1+'Curves without VA'!F20)-1","v":7.0988189756972186E-2},{"$f":"(1+'Curves without VA'!P20)*(1+P20)/(1+'Curves without VA'!G20)-1","v":7.8923797559511399E-2},{"$f":"(1+'Curves without VA'!Q20)*(1+Q20)/(1+'Curves without VA'!H20)-1","v":8.0637611485939953E-2},{"$f":"(1+'Curves without VA'!R20)*(1+R20)/(1+'Curves without VA'!I20)-1","v":0.1047973315763},{"$f":"(1+'Curves without VA'!S20)*(1+S20)/(1+'Curves without VA'!J20)-1","v":0.10540123929858458},{"$f":"(1+'Curves without VA'!T20)*(1+K20)/(1+'Curves without VA'!B20)-1","v":1.3447855220390936E-2},{"$f":"(1+'Curves without VA'!U20)*(1+L20)/(1+'Curves without VA'!C20)-1","v":2.1606108704297577E-2},{"$f":"(1+'Curves without VA'!V20)*(1+M20)/(1+'Curves without VA'!D20)-1","v":6.1144796152863279E-3},{"$f":"(1+'Curves without VA'!W20)*(1+N20)/(1+'Curves without VA'!E20)-1","v":2.2732164023736567E-2},{"$f":"(1+'Curves without VA'!X20)*(1+O20)/(1+'Curves without VA'!F20)-1","v":2.3226934638899577E-2},{"$f":"(1+'Curves without VA'!Y20)*(1+P20)/(1+'Curves without VA'!G20)-1","v":2.5933462885943115E-2},{"$f":"(1+'Curves without VA'!Z20)*(1+Q20)/(1+'Curves without VA'!H20)-1","v":2.5660420688059959E-2},{"$f":"(1+'Curves without VA'!AA20)*(1+R20)/(1+'Curves without VA'!I20)-1","v":3.6777095278699878E-2},{"$f":"(1+'Curves without VA'!AB20)*(1+S20)/(1+'Curves without VA'!J20)-1","v":3.6978079072414793E-2}]
[8,{"$f":"($A21*LN(1+'Curves without VA'!B21)-IF(ISNUMBER($A20),$A20*LN(1+'Curves without VA'!B20),0)+($A21<=B$2)*LN(1+B$5/10000)+IF(ISNUMBER($A20),$A20*B20))/$A21","v":2.9885920357370189E-2},{"$f":"($A21*LN(1+'Curves without VA'!C21)-IF(ISNUMBER($A20),$A20*LN(1+'Curves without VA'!C20),0)+($A21<=C$2)*LN(1+C$5/10000)+IF(ISNUMBER($A20),$A20*C20))/$A21","v":4.21366784776709E-2},{"$f":"($A21*LN(1+'Curves without VA'!D21)-IF(ISNUMBER($A20),$A20*LN(1+'Curves without VA'!D20),0)+($A21<=D$2)*LN(1+D$5/10000)+IF(ISNUMBER($A20),$A20*D20))/$A21","v":1.9174304115204863E-2},{"$f":"($A21*LN(1+'Curves without VA'!E21)-IF(ISNUMBER($A20),$A20*LN(1+'Curves without VA'!E20),0)+($A21<=E$2)*LN(1+E$5/10000)+IF(ISNUMBER($A20),$A20*E20))/$A21","v":4.238167161216079E-2},{"$f":"($A21*LN(1+'Curves without VA'!F21)-IF(ISNUMBER($A20),$A20*LN(1+'Curves without VA'!F20),0)+($A21<=F$2)*LN(1+F$5/10000)+IF(ISNUMBER($A20),$A20*F20))/$A21","v":4.3584659645556828E-2},{"$f":"($A21*LN(1+'Curves without VA'!G21)-IF(ISNUMBER($A20),$A20*LN(1+'Curves without VA'!G20),0)+($A21<=G$2)*LN(1+G$5/10000)+IF(ISNUMBER($A20),$A20*G20))/$A21","v":4.8564752845611958E-2},{"$f":"($A21*LN(1+'Curves without VA'!H21)-IF(ISNUMBER($A20),$A20*LN(1+'Curves without VA'!H20),0)+($A21<=H$2)*LN(1+H$5/10000)+IF(ISNUMBER($A20),$A20*H20))/$A21","v":4.9923656899473361E-2},{"$f":"($A21*LN(1+'Curves without VA'!I21)-IF(ISNUMBER($A20),$A20*LN(1+'Curves without VA'!I20),0)+($A21<=I$2)*LN(1+I$5/10000)+IF(ISNUMBER($A20),$A20*I20))/$A21","v":6.6078116896476996E-2},{"$f":"($A21*LN(1+'Curves without VA'!J21)-IF(ISNUMBER($A20),$A20*LN(1+'Curves without VA'!J20),0)+($A21<=J$2)*LN(1+J$5/10000)+IF(ISNUMBER($A20),$A20*J20))/$A21","v":6.5786719168661287E-2},3.0336986773534802E-2,4.3037029722093223E-2,1.9359311656152789E-2,4.3292597938344723E-2,4.4548421668004323E-2,4.9763344783373853E-2,5.1190842144499982E-2,6.8310166981250031E-2,6.799890917809992E-2,{"$f":"(1+'Curves without VA'!K21)*(1+K21)/(1+'Curves without VA'!B21)-1","v":5.1562357181536456E-2},{"$f":"(1+'Curves without VA'!L21)*(1+L21)/(1+'Curves without VA'!C21)-1","v":6.8532446512604928E-2},{"$f":"(1+'Curves without VA'!M21)*(1+M21)/(1+'Curves without VA'!D21)-1","v":3.7217611874244882E-2},{"$f":"(1+'Curves without VA'!N21)*(1+N21)/(1+'Curves without VA'!E21)-1","v":6.7901320387381947E-2},{"$f":"(1+'Curves without VA'!O21)*(1+O21)/(1+'Curves without VA'!F21)-1","v":6.9816714275125813E-2},{"$f":"(1+'Curves without VA'!P21)*(1+P21)/(1+'Curves without VA'!G21)-1","v":7.7390648634721115E-2},{"$f":"(1+'Curves without VA'!Q21)*(1+Q21)/(1+'Curves without VA'!H21)-1","v":7.9963058123630137E-2},{"$f":"(1+'Curves without VA'!R21)*(1+R21)/(1+'Curves without VA'!I21)-1","v":0.10289877012987514},{"$f":"(1+'Curves without VA'!S21)*(1+S21)/(1+'Curves without VA'!J21)-1","v":0.10252937400865392},{"$f":"(1+'Curves without VA'!T21)*(1+K21)/(1+'Curves without VA'!B21)-1","v":1.373592010959146E-2},{"$f":"(1+'Curves without VA'!U21)*(1+L21)/(1+'Curves without VA'!C21)-1","v":2.1664596297697569E-2},{"$f":"(1+'Curves without VA'!V21)*(1+M21)/(1+'Curves without VA'!D21)-1","v":6.5135352368146382E-3},{"$f":"(1+'Curves without VA'!W21)*(1+N21)/(1+'Curves without VA'!E21)-1","v":2.2932244021773629E-2},{"$f":"(1+'Curves without VA'!X21)*(1+O21)/(1+'Curves without VA'!F21)-1","v":2.3445867914162699E-2},{"$f":"(1+'Curves without VA'!Y21)*(1+P21)/(1+'Curves without VA'!G21)-1","v":2.6011569515691946E-2},{"$f":"(1+'Curves without VA'!Z21)*(1+Q21)/(1+'Curves without VA'!H21)-1","v":2.6145186429589851E-2},{"$f":"(1+'Curves without VA'!AA21)*(1+R21)/(1+'Curves without VA'!I21)-1","v":3.6763933778374946E-2},{"$f":"(1+'Curves without VA'!AB21)*(1+S21)/(1+'Curves without VA'!J21)-1","v":3.6516622110421837E-2}]
[9,{"$f":"($A22*LN(1+'Curves without VA'!B22)-IF(ISNUMBER($A21),$A21*LN(1+'Curves without VA'!B21),0)+($A22<=B$2)*LN(1+B$5/10000)+IF(ISNUMBER($A21),$A21*B21))/$A22","v":3.0552831138744605E-2},{"$f":"($A22*LN(1+'Curves without VA'!C22)-IF(ISNUMBER($A21),$A21*LN(1+'Curves without VA'!C21),0)+($A22<=C$2)*LN(1+C$5/10000)+IF(ISNUMBER($A21),$A21*C21))/$A22","v":4.2559265949901753E-2},{"$f":"($A22*LN(1+'Curves without VA'!D22)-IF(ISNUMBER($A21),$A21*LN(1+'Curves without VA'!D21),0)+($A22<=D$2)*LN(1+D$5/10000)+IF(ISNUMBER($A21),$A21*D21))/$A22","v":1.99300096246963E-2},{"$f":"($A22*LN(1+'Curves without VA'!E22)-IF(ISNUMBER($A21),$A21*LN(1+'Curves without VA'!E21),0)+($A22<=E$2)*LN(1+E$5/10000)+IF(ISNUMBER($A21),$A21*E21))/$A22","v":4.30824517548615E-2},{"$f":"($A22*LN(1+'Curves without VA'!F22)-IF(ISNUMBER($A21),$A21*LN(1+'Curves without VA'!F21),0)+($A22<=F$2)*LN(1+F$5/10000)+IF(ISNUMBER($A21),$A21*F21))/$A22","v":4.4344582390222785E-2},{"$f":"($A22*LN(1+'Curves without VA'!G22)-IF(ISNUMBER($A21),$A21*LN(1+'Curves without VA'!G21),0)+($A22<=G$2)*LN(1+G$5/10000)+IF(ISNUMBER($A21),$A21*G21))/$A22","v":4.9183668442427587E-2},{"$f":"($A22*LN(1+'Curves without VA'!H22)-IF(ISNUMBER($A21),$A21*LN(1+'Curves without VA'!H21),0)+($A22<=H$2)*LN(1+H$5/10000)+IF(ISNUMBER($A21),$A21*H21))/$A22","v":5.1041673460485118E-2},{"$f":"($A22*LN(1+'Curves without VA'!I22)-IF(ISNUMBER($A21),$A21*LN(1+'Curves without VA'!I21),0)+($A22<=I$2)*LN(1+I$5/10000)+IF(ISNUMBER($A21),$A21*I21))/$A22","v":6.6860697719138135E-2},{"$f":"($A22*LN(1+'Curves without VA'!J22)-IF(ISNUMBER($A21),$A21*LN(1+'Curves without VA'!J21),0)+($A22<=J$2)*LN(1+J$5/10000)+IF(ISNUMBER($A21),$A21*J21))/$A22","v":6.5841105827814855E-2},3.1024358800894047E-2,4.34778972499128E-2,2.012993825082976E-2,4.4023972910604225E-2,4.5342499452205587E-2,5.0413260791256409E-2,5.2366748133500174E-2,6.9146533249999864E-2,6.8056995650300101E-2,{"$f":"(1+'Curves without VA'!K22)*(1+K22)/(1+'Curves without VA'!B22)-1","v":5.1221137057180233E-2},{"$f":"(1+'Curves without VA'!L22)*(1+L22)/(1+'Curves without VA'!C22)-1","v":6.7614661249884911E-2},{"$f":"(1+'Curves without VA'!M22)*(1+M22)/(1+'Curves without VA'!D22)-1","v":3.7184350731095162E-2},{"$f":"(1+'Curves without VA'!N22)*(1+N22)/(1+'Curves without VA'!E22)-1","v":6.7419163441997609E-2},{"$f":"(1+'Curves without VA'!O22)*(1+O22)/(1+'Curves without VA'!F22)-1","v":6.9378526796911366E-2},{"$f":"(1+'Curves without VA'!P22)*(1+P22)/(1+'Curves without VA'!G22)-1","v":7.6623402244458516E-2},{"$f":"(1+'Curves without VA'!Q22)*(1+Q22)/(1+'Curves without VA'!H22)-1","v":7.9822770736220239E-2},{"$f":"(1+'Curves without VA'!R22)*(1+R22)/(1+'Curves without VA'!I22)-1","v":0.10196814989000003},{"$f":"(1+'Curves without VA'!S22)*(1+S22)/(1+'Curves without VA'!J22)-1","v":0.10057484433839625},{"$f":"(1+'Curves without VA'!T22)*(1+K22)/(1+'Curves without VA'!B22)-1","v":1.3982298173545349E-2},{"$f":"(1+'Curves without VA'!U22)*(1+L22)/(1+'Curves without VA'!C22)-1","v":2.1635082807446748E-2},{"$f":"(1+'Curves without VA'!V22)*(1+M22)/(1+'Curves without VA'!D22)-1","v":6.9092289880061664E-3},{"$f":"(1+'Curves without VA'!W22)*(1+N22)/(1+'Curves without VA'!E22)-1","v":2.3107354625468535E-2},{"$f":"(1+'Curves without VA'!X22)*(1+O22)/(1+'Curves without VA'!F22)-1","v":2.3639509105845224E-2},{"$f":"(1+'Curves without VA'!Y22)*(1+P22)/(1+'Curves without VA'!G22)-1","v":2.6047085707666451E-2},{"$f":"(1+'Curves without VA'!Z22)*(1+Q22)/(1+'Curves without VA'!H22)-1","v":2.6466978011435049E-2},{"$f":"(1+'Curves without VA'!AA22)*(1+R22)/(1+'Curves without VA'!I22)-1","v":3.6707541657499787E-2},{"$f":"(1+'Curves without VA'!AB22)*(1+S22)/(1+'Curves without VA'!J22)-1","v":3.5987123856683123E-2}]
[10,{"$f":"($A23*LN(1+'Curves without VA'!B23)-IF(ISNUMBER($A22),$A22*LN(1+'Curves without VA'!B22),0)+($A23<=B$2)*LN(1+B$5/10000)+IF(ISNUMBER($A22),$A22*B22))/$A23","v":3.1239052074467179E-2},{"$f":"($A23*LN(1+'Curves without VA'!C23)-IF(ISNUMBER($A22),$A22*LN(1+'Curves without VA'!C22),0)+($A23<=C$2)*LN(1+C$5/10000)+IF(ISNUMBER($A22),$A22*C22))/$A23","v":4.289733592768652E-2},{"$f":"($A23*LN(1+'Curves without VA'!D23)-IF(ISNUMBER($A22),$A22*LN(1+'Curves without VA'!D22),0)+($A23<=D$2)*LN(1+D$5/10000)+IF(ISNUMBER($A22),$A22*D22))/$A23","v":2.0699436887343589E-2},{"$f":"($A23*LN(1+'Curves without VA'!E23)-IF(ISNUMBER($A22),$A22*LN(1+'Curves without VA'!E22),0)+($A23<=E$2)*LN(1+E$5/10000)+IF(ISNUMBER($A22),$A22*E22))/$A23","v":4.3767035529735134E-2},{"$f":"($A23*LN(1+'Curves without VA'!F23)-IF(ISNUMBER($A22),$A22*LN(1+'Curves without VA'!F22),0)+($A23<=F$2)*LN(1+F$5/10000)+IF(ISNUMBER($A22),$A22*F22))/$A23","v":4.5054742048138932E-2},{"$f":"($A23*LN(1+'Curves without VA'!G23)-IF(ISNUMBER($A22),$A22*LN(1+'Curves without VA'!G22),0)+($A23<=G$2)*LN(1+G$5/10000)+IF(ISNUMBER($A22),$A22*G22))/$A23","v":4.9725088976148787E-2},{"$f":"($A23*LN(1+'Curves without VA'!H23)-IF(ISNUMBER($A22),$A22*LN(1+'Curves without VA'!H22),0)+($A23<=H$2)*LN(1+H$5/10000)+IF(ISNUMBER($A22),$A22*H22))/$A23","v":5.1954966792900292E-2},{"$f":"($A23*LN(1+'Curves without VA'!I23)-IF(ISNUMBER($A22),$A22*LN(1+'Curves without VA'!I22),0)+($A23<=I$2)*LN(1+I$5/10000)+IF(ISNUMBER($A22),$A22*I22))/$A23","v":6.7606157100839628E-2},{"$f":"($A23*LN(1+'Curves without VA'!J23)-IF(ISNUMBER($A22),$A22*LN(1+'Curves without VA'!J22),0)+($A23<=J$2)*LN(1+J$5/10000)+IF(ISNUMBER($A22),$A22*J22))/$A23","v":6.5840168151853964E-2},3.173211211093907E-2,4.3830725436403206E-2,2.0915156082027098E-2,4.4738939482372508E-2,4.6085123183518872E-2,5.0982130084403554E-2,5.3328306693499972E-2,6.9943835704999957E-2,6.8055994159399891E-2,{"$f":"(1+'Curves without VA'!K23)*(1+K23)/(1+'Curves without VA'!B23)-1","v":5.0878917719220818E-2},{"$f":"(1+'Curves without VA'!L23)*(1+L23)/(1+'Curves without VA'!C23)-1","v":6.6564790142324304E-2},{"$f":"(1+'Curves without VA'!M23)*(1+M23)/(1+'Curves without VA'!D23)-1","v":3.7139233131635141E-2},{"$f":"(1+'Curves without VA'!N23)*(1+N23)/(1+'Curves without VA'!E23)-1","v":6.6886420577084271E-2},{"$f":"(1+'Curves without VA'!O23)*(1+O23)/(1+'Curves without VA'!F23)-1","v":6.8841685938574315E-2},{"$f":"(1+'Curves without VA'!P23)*(1+P23)/(1+'Curves without VA'!G23)-1","v":7.5724798484724465E-2},{"$f":"(1+'Curves without VA'!Q23)*(1+Q23)/(1+'Curves without VA'!H23)-1","v":7.9356795451549944E-2},{"$f":"(1+'Curves without VA'!R23)*(1+R23)/(1+'Curves without VA'!I23)-1","v":0.10095329204149972},{"$f":"(1+'Curves without VA'!S23)*(1+S23)/(1+'Curves without VA'!J23)-1","v":9.8541176857219748E-2},{"$f":"(1+'Curves without VA'!T23)*(1+K23)/(1+'Curves without VA'!B23)-1","v":1.4126856071563498E-2},{"$f":"(1+'Curves without VA'!U23)*(1+L23)/(1+'Curves without VA'!C23)-1","v":2.144361224684177E-2},{"$f":"(1+'Curves without VA'!V23)*(1+M23)/(1+'Curves without VA'!D23)-1","v":7.1980748042161924E-3},{"$f":"(1+'Curves without VA'!W23)*(1+N23)/(1+'Curves without VA'!E23)-1","v":2.3157379839423564E-2},{"$f":"(1+'Curves without VA'!X23)*(1+O23)/(1+'Curves without VA'!F23)-1","v":2.3685854350111502E-2},{"$f":"(1+'Curves without VA'!Y23)*(1+P23)/(1+'Curves without VA'!G23)-1","v":2.5920612175642121E-2},{"$f":"(1+'Curves without VA'!Z23)*(1+Q23)/(1+'Curves without VA'!H23)-1","v":2.6536480666099926E-2},{"$f":"(1+'Curves without VA'!AA23)*(1+R23)/(1+'Curves without VA'!I23)-1","v":3.6510820298000235E-2},{"$f":"(1+'Curves without VA'!AB23)*(1+S23)/(1+'Curves without VA'!J23)-1","v":3.5320862005639775E-2}]
[11,{"$f":"($A24*LN(1+'Curves without VA'!B24)-IF(ISNUMBER($A23),$A23*LN(1+'Curves without VA'!B23),0)+($A24<=B$2)*LN(1+B$5/10000)+IF(ISNUMBER($A23),$A23*B23))/$A24","v":3.1800157733846583E-2},{"$f":"($A24*LN(1+'Curves without VA'!C24)-IF(ISNUMBER($A23),$A23*LN(1+'Curves without VA'!C23),0)+($A24<=C$2)*LN(1+C$5/10000)+IF(ISNUMBER($A23),$A23*C23))/$A24","v":4.3388511350412794E-2},{"$f":"($A24*LN(1+'Curves without VA'!D24)-IF(ISNUMBER($A23),$A23*LN(1+'Curves without VA'!D23),0)+($A24<=D$2)*LN(1+D$5/10000)+IF(ISNUMBER($A23),$A23*D23))/$A24","v":2.1592846586005986E-2},{"$f":"($A24*LN(1+'Curves without VA'!E24)-IF(ISNUMBER($A23),$A23*LN(1+'Curves without VA'!E23),0)+($A24<=E$2)*LN(1+E$5/10000)+IF(ISNUMBER($A23),$A23*E23))/$A24","v":4.4486042879237624E-2},{"$f":"($A24*LN(1+'Curves without VA'!F24)-IF(ISNUMBER($A23),$A23*LN(1+'Curves without VA'!F23),0)+($A24<=F$2)*LN(1+F$5/10000)+IF(ISNUMBER($A23),$A23*F23))/$A24","v":4.577697628989779E-2},{"$f":"($A24*LN(1+'Curves without VA'!G24)-IF(ISNUMBER($A23),$A23*LN(1+'Curves without VA'!G23),0)+($A24<=G$2)*LN(1+G$5/10000)+IF(ISNUMBER($A23),$A23*G23))/$A24","v":5.0258963078389091E-2},{"$f":"($A24*LN(1+'Curves without VA'!H24)-IF(ISNUMBER($A23),$A23*LN(1+'Curves without VA'!H23),0)+($A24<=H$2)*LN(1+H$5/10000)+IF(ISNUMBER($A23),$A23*H23))/$A24","v":5.0164371173155399E-2},{"$f":"($A24*LN(1+'Curves without VA'!I24)-IF(ISNUMBER($A23),$A23*LN(1+'Curves without VA'!I23),0)+($A24<=I$2)*LN(1+I$5/10000)+IF(ISNUMBER($A23),$A23*I23))/$A24","v":6.8303351553209754E-2},{"$f":"($A24*LN(1+'Curves without VA'!J24)-IF(ISNUMBER($A23),$A23*LN(1+'Curves without VA'!J23),0)+($A24<=J$2)*LN(1+J$5/10000)+IF(ISNUMBER($A23),$A23*J23))/$A24","v":6.2787281499476974E-2},3.2311185283432131E-2,4.4343555368643317E-2,2.182765914282947E-2,4.5490384573070308E-2,4.6840914575634995E-2,5.1543372028512113E-2,5.3974875689316359E-2,7.0690054711249894E-2,6.78833700704502E-2,{"$f":"(1+'Curves without VA'!K24)*(1+K24)/(1+'Curves without VA'!B24)-1","v":5.1631712843461575E-2},{"$f":"(1+'Curves without VA'!L24)*(1+L24)/(1+'Curves without VA'!C24)-1","v":6.7231469054236159E-2},{"$f":"(1+'Curves without VA'!M24)*(1+M24)/(1+'Curves without VA'!D24)-1","v":3.832548711067818E-2},{"$f":"(1+'Curves without VA'!N24)*(1+N24)/(1+'Curves without VA'!E24)-1","v":6.7863299194991455E-2},{"$f":"(1+'Curves without VA'!O24)*(1+O24)/(1+'Curves without VA'!F24)-1","v":6.9824214748325231E-2},{"$f":"(1+'Curves without VA'!P24)*(1+P24)/(1+'Curves without VA'!G24)-1","v":7.6454413012065681E-2},{"$f":"(1+'Curves without VA'!Q24)*(1+Q24)/(1+'Curves without VA'!H24)-1","v":8.1220847694218445E-2},{"$f":"(1+'Curves without VA'!R24)*(1+R24)/(1+'Curves without VA'!I24)-1","v":0.10192337674962504},{"$f":"(1+'Curves without VA'!S24)*(1+S24)/(1+'Curves without VA'!J24)-1","v":9.9684686825345592E-2},{"$f":"(1+'Curves without VA'!T24)*(1+K24)/(1+'Curves without VA'!B24)-1","v":1.4281639117224909E-2},{"$f":"(1+'Curves without VA'!U24)*(1+L24)/(1+'Curves without VA'!C24)-1","v":2.1439802267499752E-2},{"$f":"(1+'Curves without VA'!V24)*(1+M24)/(1+'Curves without VA'!D24)-1","v":7.6465046942695292E-3},{"$f":"(1+'Curves without VA'!W24)*(1+N24)/(1+'Curves without VA'!E24)-1","v":2.3315240898111433E-2},{"$f":"(1+'Curves without VA'!X24)*(1+O24)/(1+'Curves without VA'!F24)-1","v":2.3825657999624772E-2},{"$f":"(1+'Curves without VA'!Y24)*(1+P24)/(1+'Curves without VA'!G24)-1","v":2.58786244968221E-2},{"$f":"(1+'Curves without VA'!Z24)*(1+Q24)/(1+'Curves without VA'!H24)-1","v":2.8941706228764241E-2},{"$f":"(1+'Curves without VA'!AA24)*(1+R24)/(1+'Curves without VA'!I24)-1","v":3.636817727963737E-2},{"$f":"(1+'Curves without VA'!AB24)*(1+S24)/(1+'Curves without VA'!J24)-1","v":3.7649563177468925E-2}]
[12,{"$f":"($A25*LN(1+'Curves without VA'!B25)-IF(ISNUMBER($A24),$A24*LN(1+'Curves without VA'!B24),0)+($A25<=B$2)*LN(1+B$5/10000)+IF(ISNUMBER($A24),$A24*B24))/$A25","v":3.2324420363773441E-2},{"$f":"($A25*LN(1+'Curves without VA'!C25)-IF(ISNUMBER($A24),$A24*LN(1+'Curves without VA'!C24),0)+($A25<=C$2)*LN(1+C$5/10000)+IF(ISNUMBER($A24),$A24*C24))/$A25","v":4.3797824202684611E-2},{"$f":"($A25*LN(1+'Curves without VA'!D25)-IF(ISNUMBER($A24),$A24*LN(1+'Curves without VA'!D24),0)+($A25<=D$2)*LN(1+D$5/10000)+IF(ISNUMBER($A24),$A24*D24))/$A25","v":2.2337354668224601E-2},{"$f":"($A25*LN(1+'Curves without VA'!E25)-IF(ISNUMBER($A24),$A24*LN(1+'Curves without VA'!E24),0)+($A25<=E$2)*LN(1+E$5/10000)+IF(ISNUMBER($A24),$A24*E24))/$A25","v":4.5085215670489565E-2},{"$f":"($A25*LN(1+'Curves without VA'!F25)-IF(ISNUMBER($A24),$A24*LN(1+'Curves without VA'!F24),0)+($A25<=F$2)*LN(1+F$5/10000)+IF(ISNUMBER($A24),$A24*F24))/$A25","v":4.6378838158030261E-2},{"$f":"($A25*LN(1+'Curves without VA'!G25)-IF(ISNUMBER($A24),$A24*LN(1+'Curves without VA'!G24),0)+($A25<=G$2)*LN(1+G$5/10000)+IF(ISNUMBER($A24),$A24*G24))/$A25","v":5.0703858163589334E-2},{"$f":"($A25*LN(1+'Curves without VA'!H25)-IF(ISNUMBER($A24),$A24*LN(1+'Curves without VA'!H24),0)+($A25<=H$2)*LN(1+H$5/10000)+IF(ISNUMBER($A24),$A24*H24))/$A25","v":4.8674020427139454E-2},{"$f":"($A25*LN(1+'Curves without VA'!I25)-IF(ISNUMBER($A24),$A24*LN(1+'Curves without VA'!I24),0)+($A25<=I$2)*LN(1+I$5/10000)+IF(ISNUMBER($A24),$A24*I24))/$A25","v":6.896360030205452E-2},{"$f":"($A25*LN(1+'Curves without VA'!J25)-IF(ISNUMBER($A24),$A24*LN(1+'Curves without VA'!J24),0)+($A25<=J$2)*LN(1+J$5/10000)+IF(ISNUMBER($A24),$A24*J24))/$A25","v":6.0245021559601007E-2},3.2852529351165005E-2,4.4771106103079106E-2,2.258870135958313E-2,4.6117001672233426E-2,4.7471157844789724E-2,5.2011302588887531E-2,5.4273840085887315E-2,7.1397209903750092E-2,6.744674017228891E-2,{"$f":"(1+'Curves without VA'!K25)*(1+K25)/(1+'Curves without VA'!B25)-1","v":5.2335460131514466E-2},{"$f":"(1+'Curves without VA'!L25)*(1+L25)/(1+'Curves without VA'!C25)-1","v":6.7787285009002884E-2},{"$f":"(1+'Curves without VA'!M25)*(1+M25)/(1+'Curves without VA'!D25)-1","v":3.9314841992458049E-2},{"$f":"(1+'Curves without VA'!N25)*(1+N25)/(1+'Curves without VA'!E25)-1","v":6.8677901423903398E-2},{"$f":"(1+'Curves without VA'!O25)*(1+O25)/(1+'Curves without VA'!F25)-1","v":7.0643530998226511E-2},{"$f":"(1+'Curves without VA'!P25)*(1+P25)/(1+'Curves without VA'!G25)-1","v":7.7062722740553591E-2},{"$f":"(1+'Curves without VA'!Q25)*(1+Q25)/(1+'Curves without VA'!H25)-1","v":8.2199476217303058E-2},{"$f":"(1+'Curves without VA'!R25)*(1+R25)/(1+'Curves without VA'!I25)-1","v":0.10284267849987505},{"$f":"(1+'Curves without VA'!S25)*(1+S25)/(1+'Curves without VA'!J25)-1","v":9.9955528302692498E-2},{"$f":"(1+'Curves without VA'!T25)*(1+K25)/(1+'Curves without VA'!B25)-1","v":1.4302656323675667E-2},{"$f":"(1+'Curves without VA'!U25)*(1+L25)/(1+'Curves without VA'!C25)-1","v":2.1275957639785847E-2},{"$f":"(1+'Curves without VA'!V25)*(1+M25)/(1+'Curves without VA'!D25)-1","v":7.8886470885584092E-3},{"$f":"(1+'Curves without VA'!W25)*(1+N25)/(1+'Curves without VA'!E25)-1","v":2.3285059969895494E-2},{"$f":"(1+'Curves without VA'!X25)*(1+O25)/(1+'Curves without VA'!F25)-1","v":2.3776985949978124E-2},{"$f":"(1+'Curves without VA'!Y25)*(1+P25)/(1+'Curves without VA'!G25)-1","v":2.5670928001555016E-2},{"$f":"(1+'Curves without VA'!Z25)*(1+Q25)/(1+'Curves without VA'!H25)-1","v":3.0763167422303672E-2},{"$f":"(1+'Curves without VA'!AA25)*(1+R25)/(1+'Curves without VA'!I25)-1","v":3.6087789244175106E-2},{"$f":"(1+'Curves without VA'!AB25)*(1+S25)/(1+'Curves without VA'!J25)-1","v":3.9337790320140398E-2}]
[13,{"$f":"($A26*LN(1+'Curves without VA'!B26)-IF(ISNUMBER($A25),$A25*LN(1+'Curves without VA'!B25),0)+($A26<=B$2)*LN(1+B$5/10000)+IF(ISNUMBER($A25),$A25*B25))/$A26","v":3.2892758348198582E-2},{"$f":"($A26*LN(1+'Curves without VA'!C26)-IF(ISNUMBER($A25),$A25*LN(1+'Curves without VA'!C25),0)+($A26<=C$2)*LN(1+C$5/10000)+IF(ISNUMBER($A25),$A25*C25))/$A26","v":4.4144165846914857E-2},{"$f":"($A26*LN(1+'Curves without VA'!D26)-IF(ISNUMBER($A25),$A25*LN(1+'Curves without VA'!D25),0)+($A26<=D$2)*LN(1+D$5/10000)+IF(ISNUMBER($A25),$A25*D25))/$A26","v":2.3261713861538309E-2},{"$f":"($A26*LN(1+'Curves without VA'!E26)-IF(ISNUMBER($A25),$A25*LN(1+'Curves without VA'!E25),0)+($A26<=E$2)*LN(1+E$5/10000)+IF(ISNUMBER($A25),$A25*E25))/$A26","v":4.5697413030035168E-2},{"$f":"($A26*LN(1+'Curves without VA'!F26)-IF(ISNUMBER($A25),$A25*LN(1+'Curves without VA'!F25),0)+($A26<=F$2)*LN(1+F$5/10000)+IF(ISNUMBER($A25),$A25*F25))/$A26","v":4.7037213548824224E-2},{"$f":"($A26*LN(1+'Curves without VA'!G26)-IF(ISNUMBER($A25),$A25*LN(1+'Curves without VA'!G25),0)+($A26<=G$2)*LN(1+G$5/10000)+IF(ISNUMBER($A25),$A25*G25))/$A26","v":5.1108076792969366E-2},{"$f":"($A26*LN(1+'Curves without VA'!H26)-IF(ISNUMBER($A25),$A25*LN(1+'Curves without VA'!H25),0)+($A26<=H$2)*LN(1+H$5/10000)+IF(ISNUMBER($A25),$A25*H25))/$A26","v":4.7414453020868219E-2},{"$f":"($A26*LN(1+'Curves without VA'!I26)-IF(ISNUMBER($A25),$A25*LN(1+'Curves without VA'!I25),0)+($A26<=I$2)*LN(1+I$5/10000)+IF(ISNUMBER($A25),$A25*I25))/$A26","v":6.9582304631599118E-2},{"$f":"($A26*LN(1+'Curves without VA'!J26)-IF(ISNUMBER($A25),$A25*LN(1+'Curves without VA'!J25),0)+($A26<=J$2)*LN(1+J$5/10000)+IF(ISNUMBER($A25),$A25*J25))/$A26","v":5.8095377143140427E-2},3.3439705517358975E-2,4.5133016514516955E-2,2.3534377631606151E-2,4.6757627813240887E-2,4.8161014144968206E-2,5.2436631112777521E-2,5.4328287186459656E-2,7.206029310124995E-2,6.6835446469902138E-2,{"$f":"(1+'Curves without VA'!K26)*(1+K26)/(1+'Curves without VA'!B26)-1","v":5.3098789147566716E-2},{"$f":"(1+'Curves without VA'!L26)*(1+L26)/(1+'Curves without VA'!C26)-1","v":6.8257768543871888E-2},{"$f":"(1+'Curves without VA'!M26)*(1+M26)/(1+'Curves without VA'!D26)-1","v":4.0544221146088022E-2},{"$f":"(1+'Curves without VA'!N26)*(1+N26)/(1+'Curves without VA'!E26)-1","v":6.9510715407213208E-2},{"$f":"(1+'Curves without VA'!O26)*(1+O26)/(1+'Curves without VA'!F26)-1","v":7.1540344188458782E-2},{"$f":"(1+'Curves without VA'!P26)*(1+P26)/(1+'Curves without VA'!G26)-1","v":7.7615649821610733E-2},{"$f":"(1+'Curves without VA'!Q26)*(1+Q26)/(1+'Curves without VA'!H26)-1","v":8.2550798986762208E-2},{"$f":"(1+'Curves without VA'!R26)*(1+R26)/(1+'Curves without VA'!I26)-1","v":0.10370468665662491},{"$f":"(1+'Curves without VA'!S26)*(1+S26)/(1+'Curves without VA'!J26)-1","v":9.9620173540403645E-2},{"$f":"(1+'Curves without VA'!T26)*(1+K26)/(1+'Curves without VA'!B26)-1","v":1.4439272439894735E-2},{"$f":"(1+'Curves without VA'!U26)*(1+L26)/(1+'Curves without VA'!C26)-1","v":2.1166463128274637E-2},{"$f":"(1+'Curves without VA'!V26)*(1+M26)/(1+'Curves without VA'!D26)-1","v":8.3210001950155821E-3},{"$f":"(1+'Curves without VA'!W26)*(1+N26)/(1+'Curves without VA'!E26)-1","v":2.335094470354715E-2},{"$f":"(1+'Curves without VA'!X26)*(1+O26)/(1+'Curves without VA'!F26)-1","v":2.3850230422631791E-2},{"$f":"(1+'Curves without VA'!Y26)*(1+P26)/(1+'Curves without VA'!G26)-1","v":2.5529953109283188E-2},{"$f":"(1+'Curves without VA'!Z26)*(1+Q26)/(1+'Curves without VA'!H26)-1","v":3.2151917591031642E-2},{"$f":"(1+'Curves without VA'!AA26)*(1+R26)/(1+'Curves without VA'!I26)-1","v":3.5868300692712518E-2},{"$f":"(1+'Curves without VA'!AB26)*(1+S26)/(1+'Curves without VA'!J26)-1","v":4.0556203029006532E-2}]
[14,{"$f":"($A27*LN(1+'Curves without VA'!B27)-IF(ISNUMBER($A26),$A26*LN(1+'Curves without VA'!B26),0)+($A27<=B$2)*LN(1+B$5/10000)+IF(ISNUMBER($A26),$A26*B26))/$A27","v":3.3277637791442848E-2},{"$f":"($A27*LN(1+'Curves without VA'!C27)-IF(ISNUMBER($A26),$A26*LN(1+'Curves without VA'!C26),0)+($A27<=C$2)*LN(1+C$5/10000)+IF(ISNUMBER($A26),$A26*C26))/$A27","v":4.4441030113397721E-2},{"$f":"($A27*LN(1+'Curves without VA'!D27)-IF(ISNUMBER($A26),$A26*LN(1+'Curves without VA'!D26),0)+($A27<=D$2)*LN(1+D$5/10000)+IF(ISNUMBER($A26),$A26*D26))/$A27","v":2.4054021741521377E-2},{"$f":"($A27*LN(1+'Curves without VA'!E27)-IF(ISNUMBER($A26),$A26*LN(1+'Curves without VA'!E26),0)+($A27<=E$2)*LN(1+E$5/10000)+IF(ISNUMBER($A26),$A26*E26))/$A27","v":4.6222153623931464E-2},{"$f":"($A27*LN(1+'Curves without VA'!F27)-IF(ISNUMBER($A26),$A26*LN(1+'Curves without VA'!F26),0)+($A27<=F$2)*LN(1+F$5/10000)+IF(ISNUMBER($A26),$A26*F26))/$A27","v":4.7601535312361838E-2},{"$f":"($A27*LN(1+'Curves without VA'!G27)-IF(ISNUMBER($A26),$A26*LN(1+'Curves without VA'!G26),0)+($A27<=G$2)*LN(1+G$5/10000)+IF(ISNUMBER($A26),$A26*G26))/$A27","v":5.1454549903866428E-2},{"$f":"($A27*LN(1+'Curves without VA'!H27)-IF(ISNUMBER($A26),$A26*LN(1+'Curves without VA'!H26),0)+($A27<=H$2)*LN(1+H$5/10000)+IF(ISNUMBER($A26),$A26*H26))/$A27","v":4.6336070427858964E-2},{"$f":"($A27*LN(1+'Curves without VA'!I27)-IF(ISNUMBER($A26),$A26*LN(1+'Curves without VA'!I26),0)+($A27<=I$2)*LN(1+I$5/10000)+IF(ISNUMBER($A26),$A26*I26))/$A27","v":7.016140888561205E-2},{"$f":"($A27*LN(1+'Curves without VA'!J27)-IF(ISNUMBER($A26),$A26*LN(1+'Curves without VA'!J26),0)+($A27<=J$2)*LN(1+J$5/10000)+IF(ISNUMBER($A26),$A26*J26))/$A27","v":5.6254071398540106E-2},3.3837531768507123E-2,4.5443325218345487E-2,2.4345653332062511E-2,4.7307048171500554E-2,4.8752681146522869E-2,5.2801335282826933E-2,5.4209784081717949E-2,7.268130757625002E-2,6.6110612007933556E-2,{"$f":"(1+'Curves without VA'!K27)*(1+K27)/(1+'Curves without VA'!B27)-1","v":5.3006832971374207E-2},{"$f":"(1+'Curves without VA'!L27)*(1+L27)/(1+'Curves without VA'!C27)-1","v":6.7937399761665684E-2},{"$f":"(1+'Curves without VA'!M27)*(1+M27)/(1+'Curves without VA'!D27)-1","v":4.1073867088360361E-2},{"$f":"(1+'Curves without VA'!N27)*(1+N27)/(1+'Curves without VA'!E27)-1","v":6.9511337841235532E-2},{"$f":"(1+'Curves without VA'!O27)*(1+O27)/(1+'Curves without VA'!F27)-1","v":7.1574554599014517E-2},{"$f":"(1+'Curves without VA'!P27)*(1+P27)/(1+'Curves without VA'!G27)-1","v":7.7296999264846677E-2},{"$f":"(1+'Curves without VA'!Q27)*(1+Q27)/(1+'Curves without VA'!H27)-1","v":8.2454917473219425E-2},{"$f":"(1+'Curves without VA'!R27)*(1+R27)/(1+'Curves without VA'!I27)-1","v":0.10350106402336245},{"$f":"(1+'Curves without VA'!S27)*(1+S27)/(1+'Curves without VA'!J27)-1","v":9.8863507449598043E-2},{"$f":"(1+'Curves without VA'!T27)*(1+K27)/(1+'Curves without VA'!B27)-1","v":1.4458109080364157E-2},{"$f":"(1+'Curves without VA'!U27)*(1+L27)/(1+'Curves without VA'!C27)-1","v":2.1020833452273457E-2},{"$f":"(1+'Curves without VA'!V27)*(1+M27)/(1+'Curves without VA'!D27)-1","v":8.6591754559550704E-3},{"$f":"(1+'Curves without VA'!W27)*(1+N27)/(1+'Curves without VA'!E27)-1","v":2.3352941676040073E-2},{"$f":"(1+'Curves without VA'!X27)*(1+O27)/(1+'Curves without VA'!F27)-1","v":2.3854691762052571E-2},{"$f":"(1+'Curves without VA'!Y27)*(1+P27)/(1+'Curves without VA'!G27)-1","v":2.5346522008383277E-2},{"$f":"(1+'Curves without VA'!Z27)*(1+Q27)/(1+'Curves without VA'!H27)-1","v":3.3214693022736386E-2},{"$f":"(1+'Curves without VA'!AA27)*(1+R27)/(1+'Curves without VA'!I27)-1","v":3.5611991992700043E-2},{"$f":"(1+'Curves without VA'!AB27)*(1+S27)/(1+'Curves without VA'!J27)-1","v":4.1425004555012634E-2}]
[15,{"$f":"($A28*LN(1+'Curves without VA'!B28)-IF(ISNUMBER($A27),$A27*LN(1+'Curves without VA'!B27),0)+($A28<=B$2)*LN(1+B$5/10000)+IF(ISNUMBER($A27),$A27*B27))/$A28","v":3.3611199975588105E-2},{"$f":"($A28*LN(1+'Curves without VA'!C28)-IF(ISNUMBER($A27),$A27*LN(1+'Curves without VA'!C27),0)+($A28<=C$2)*LN(1+C$5/10000)+IF(ISNUMBER($A27),$A27*C27))/$A28","v":4.4698312477682876E-2},{"$f":"($A28*LN(1+'Curves without VA'!D28)-IF(ISNUMBER($A27),$A27*LN(1+'Curves without VA'!D27),0)+($A28<=D$2)*LN(1+D$5/10000)+IF(ISNUMBER($A27),$A27*D27))/$A28","v":2.4740688570840063E-2},{"$f":"($A28*LN(1+'Curves without VA'!E28)-IF(ISNUMBER($A27),$A27*LN(1+'Curves without VA'!E27),0)+($A28<=E$2)*LN(1+E$5/10000)+IF(ISNUMBER($A27),$A27*E27))/$A28","v":4.6676928805308271E-2},{"$f":"($A28*LN(1+'Curves without VA'!F28)-IF(ISNUMBER($A27),$A27*LN(1+'Curves without VA'!F27),0)+($A28<=F$2)*LN(1+F$5/10000)+IF(ISNUMBER($A27),$A27*F27))/$A28","v":4.8090614174094368E-2},{"$f":"($A28*LN(1+'Curves without VA'!G28)-IF(ISNUMBER($A27),$A27*LN(1+'Curves without VA'!G27),0)+($A28<=G$2)*LN(1+G$5/10000)+IF(ISNUMBER($A27),$A27*G27))/$A28","v":5.1754826599977308E-2},{"$f":"($A28*LN(1+'Curves without VA'!H28)-IF(ISNUMBER($A27),$A27*LN(1+'Curves without VA'!H27),0)+($A28<=H$2)*LN(1+H$5/10000)+IF(ISNUMBER($A27),$A27*H27))/$A28","v":4.5402514487967539E-2},{"$f":"($A28*LN(1+'Curves without VA'!I28)-IF(ISNUMBER($A27),$A27*LN(1+'Curves without VA'!I27),0)+($A28<=I$2)*LN(1+I$5/10000)+IF(ISNUMBER($A27),$A27*I27))/$A28","v":7.0704714662498558E-2},{"$f":"($A28*LN(1+'Curves without VA'!J28)-IF(ISNUMBER($A27),$A27*LN(1+'Curves without VA'!J27),0)+($A28<=J$2)*LN(1+J$5/10000)+IF(ISNUMBER($A27),$A27*J27))/$A28","v":5.4659315393936689E-2},3.418243839436097E-2,4.5712333952901529E-2,2.5049279064540464E-2,4.7783445742975106E-2,4.9265729364349475E-2,5.3117514457690085E-2,5.3969021298521991E-2,7.3264259873750071E-2,6.5314767204495361E-2,{"$f":"(1+'Curves without VA'!K28)*(1+K28)/(1+'Curves without VA'!B28)-1","v":5.2738881654782244E-2},{"$f":"(1+'Curves without VA'!L28)*(1+L28)/(1+'Curves without VA'!C28)-1","v":6.7457644729713939E-2},{"$f":"(1+'Curves without VA'!M28)*(1+M28)/(1+'Curves without VA'!D28)-1","v":4.1349305412611725E-2},{"$f":"(1+'Curves without VA'!N28)*(1+N28)/(1+'Curves without VA'!E28)-1","v":6.9306889851008302E-2},{"$f":"(1+'Curves without VA'!O28)*(1+O28)/(1+'Curves without VA'!F28)-1","v":7.1395757666367299E-2},{"$f":"(1+'Curves without VA'!P28)*(1+P28)/(1+'Curves without VA'!G28)-1","v":7.6808579255843279E-2},{"$f":"(1+'Curves without VA'!Q28)*(1+Q28)/(1+'Curves without VA'!H28)-1","v":8.2039939182200872E-2},{"$f":"(1+'Curves without VA'!R28)*(1+R28)/(1+'Curves without VA'!I28)-1","v":0.10313613788840015},{"$f":"(1+'Curves without VA'!S28)*(1+S28)/(1+'Curves without VA'!J28)-1","v":9.7816151324353617E-2},{"$f":"(1+'Curves without VA'!T28)*(1+K28)/(1+'Curves without VA'!B28)-1","v":1.4439883401898612E-2},{"$f":"(1+'Curves without VA'!U28)*(1+L28)/(1+'Curves without VA'!C28)-1","v":2.0846282619095824E-2},{"$f":"(1+'Curves without VA'!V28)*(1+M28)/(1+'Curves without VA'!D28)-1","v":8.9219177204973299E-3},{"$f":"(1+'Curves without VA'!W28)*(1+N28)/(1+'Curves without VA'!E28)-1","v":2.3303787708636392E-2},{"$f":"(1+'Curves without VA'!X28)*(1+O28)/(1+'Curves without VA'!F28)-1","v":2.3804079430391978E-2},{"$f":"(1+'Curves without VA'!Y28)*(1+P28)/(1+'Curves without VA'!G28)-1","v":2.5129108076729745E-2},{"$f":"(1+'Curves without VA'!Z28)*(1+Q28)/(1+'Curves without VA'!H28)-1","v":3.4028648510775472E-2},{"$f":"(1+'Curves without VA'!AA28)*(1+R28)/(1+'Curves without VA'!I28)-1","v":3.5322328805562631E-2},{"$f":"(1+'Curves without VA'!AB28)*(1+S28)/(1+'Curves without VA'!J28)-1","v":4.2030736977605621E-2}]
[16,{"$f":"($A29*LN(1+'Curves without VA'!B29)-IF(ISNUMBER($A28),$A28*LN(1+'Curves without VA'!B28),0)+($A29<=B$2)*LN(1+B$5/10000)+IF(ISNUMBER($A28),$A28*B28))/$A29","v":3.3857637293191911E-2},{"$f":"($A29*LN(1+'Curves without VA'!C29)-IF(ISNUMBER($A28),$A28*LN(1+'Curves without VA'!C28),0)+($A29<=C$2)*LN(1+C$5/10000)+IF(ISNUMBER($A28),$A28*C28))/$A29","v":4.392081888380947E-2},{"$f":"($A29*LN(1+'Curves without VA'!D29)-IF(ISNUMBER($A28),$A28*LN(1+'Curves without VA'!D28),0)+($A29<=D$2)*LN(1+D$5/10000)+IF(ISNUMBER($A28),$A28*D28))/$A29","v":2.5625548131825295E-2},{"$f":"($A29*LN(1+'Curves without VA'!E29)-IF(ISNUMBER($A28),$A28*LN(1+'Curves without VA'!E28),0)+($A29<=E$2)*LN(1+E$5/10000)+IF(ISNUMBER($A28),$A28*E28))/$A29","v":4.7021398502675803E-2},{"$f":"($A29*LN(1+'Curves without VA'!F29)-IF(ISNUMBER($A28),$A28*LN(1+'Curves without VA'!F28),0)+($A29<=F$2)*LN(1+F$5/10000)+IF(ISNUMBER($A28),$A28*F28))/$A29","v":4.8511031049138335E-2},{"$f":"($A29*LN(1+'Curves without VA'!G29)-IF(ISNUMBER($A28),$A28*LN(1+'Curves without VA'!G28),0)+($A29<=G$2)*LN(1+G$5/10000)+IF(ISNUMBER($A28),$A28*G28))/$A29","v":5.194871665975908E-2},{"$f":"($A29*LN(1+'Curves without VA'!H29)-IF(ISNUMBER($A28),$A28*LN(1+'Curves without VA'!H28),0)+($A29<=H$2)*LN(1+H$5/10000)+IF(ISNUMBER($A28),$A28*H28))/$A29","v":4.4586528416687914E-2},{"$f":"($A29*LN(1+'Curves without VA'!I29)-IF(ISNUMBER($A28),$A28*LN(1+'Curves without VA'!I28),0)+($A29<=I$2)*LN(1+I$5/10000)+IF(ISNUMBER($A28),$A28*I28))/$A29","v":6.8330576434230753E-2},{"$f":"($A29*LN(1+'Curves without VA'!J29)-IF(ISNUMBER($A28),$A28*LN(1+'Curves without VA'!J28),0)+($A29<=J$2)*LN(1+J$5/10000)+IF(ISNUMBER($A28),$A28*J28))/$A29","v":5.3264779266033853E-2},3.4437330946620381E-2,4.5892879018853083E-2,2.595670513271009E-2,4.814443756123854E-2,4.9706951125417786E-2,5.3321723271915422E-2,5.3642478053729903E-2,7.3642311585968123E-2,6.4477864375428018E-2,{"$f":"(1+'Curves without VA'!K29)*(1+K29)/(1+'Curves without VA'!B29)-1","v":5.306514412167429E-2},{"$f":"(1+'Curves without VA'!L29)*(1+L29)/(1+'Curves without VA'!C29)-1","v":6.8267537817256141E-2},{"$f":"(1+'Curves without VA'!M29)*(1+M29)/(1+'Curves without VA'!D29)-1","v":4.2510810779869068E-2},{"$f":"(1+'Curves without VA'!N29)*(1+N29)/(1+'Curves without VA'!E29)-1","v":6.9768959378385453E-2},{"$f":"(1+'Curves without VA'!O29)*(1+O29)/(1+'Curves without VA'!F29)-1","v":7.1960521520534781E-2},{"$f":"(1+'Curves without VA'!P29)*(1+P29)/(1+'Curves without VA'!G29)-1","v":7.7069966538051649E-2},{"$f":"(1+'Curves without VA'!Q29)*(1+Q29)/(1+'Curves without VA'!H29)-1","v":8.1398401599554582E-2},{"$f":"(1+'Curves without VA'!R29)*(1+R29)/(1+'Curves without VA'!I29)-1","v":0.10553394703932106},{"$f":"(1+'Curves without VA'!S29)*(1+S29)/(1+'Curves without VA'!J29)-1","v":9.6571697162986414E-2},{"$f":"(1+'Curves without VA'!T29)*(1+K29)/(1+'Curves without VA'!B29)-1","v":1.4051928181708639E-2},{"$f":"(1+'Curves without VA'!U29)*(1+L29)/(1+'Curves without VA'!C29)-1","v":2.159024664833642E-2},{"$f":"(1+'Curves without VA'!V29)*(1+M29)/(1+'Curves without VA'!D29)-1","v":9.0400871003364358E-3},{"$f":"(1+'Curves without VA'!W29)*(1+N29)/(1+'Curves without VA'!E29)-1","v":2.2762627307456373E-2},{"$f":"(1+'Curves without VA'!X29)*(1+O29)/(1+'Curves without VA'!F29)-1","v":2.3261546336471151E-2},{"$f":"(1+'Curves without VA'!Y29)*(1+P29)/(1+'Curves without VA'!G29)-1","v":2.434802683411541E-2},{"$f":"(1+'Curves without VA'!Z29)*(1+Q29)/(1+'Curves without VA'!H29)-1","v":3.465062712837419E-2},{"$f":"(1+'Curves without VA'!AA29)*(1+R29)/(1+'Curves without VA'!I29)-1","v":3.7824930507308396E-2},{"$f":"(1+'Curves without VA'!AB29)*(1+S29)/(1+'Curves without VA'!J29)-1","v":4.2436852723025442E-2}]
[17,{"$f":"($A30*LN(1+'Curves without VA'!B30)-IF(ISNUMBER($A29),$A29*LN(1+'Curves without VA'!B29),0)+($A30<=B$2)*LN(1+B$5/10000)+IF(ISNUMBER($A29),$A29*B29))/$A30","v":3.4075081985195238E-2},{"$f":"($A30*LN(1+'Curves without VA'!C30)-IF(ISNUMBER($A29),$A29*LN(1+'Curves without VA'!C29),0)+($A30<=C$2)*LN(1+C$5/10000)+IF(ISNUMBER($A29),$A29*C29))/$A30","v":4.3236074374230264E-2},{"$f":"($A30*LN(1+'Curves without VA'!D30)-IF(ISNUMBER($A29),$A29*LN(1+'Curves without VA'!D29),0)+($A30<=D$2)*LN(1+D$5/10000)+IF(ISNUMBER($A29),$A29*D29))/$A30","v":2.6406306567988837E-2},{"$f":"($A30*LN(1+'Curves without VA'!E30)-IF(ISNUMBER($A29),$A29*LN(1+'Curves without VA'!E29),0)+($A30<=E$2)*LN(1+E$5/10000)+IF(ISNUMBER($A29),$A29*E29))/$A30","v":4.7325342353294254E-2},{"$f":"($A30*LN(1+'Curves without VA'!F30)-IF(ISNUMBER($A29),$A29*LN(1+'Curves without VA'!F29),0)+($A30<=F$2)*LN(1+F$5/10000)+IF(ISNUMBER($A29),$A29*F29))/$A30","v":4.8881987115353638E-2},{"$f":"($A30*LN(1+'Curves without VA'!G30)-IF(ISNUMBER($A29),$A29*LN(1+'Curves without VA'!G29),0)+($A30<=G$2)*LN(1+G$5/10000)+IF(ISNUMBER($A29),$A29*G29))/$A30","v":5.2119796124272408E-2},{"$f":"($A30*LN(1+'Curves without VA'!H30)-IF(ISNUMBER($A29),$A29*LN(1+'Curves without VA'!H29),0)+($A30<=H$2)*LN(1+H$5/10000)+IF(ISNUMBER($A29),$A29*H29))/$A30","v":4.3867278769619135E-2},{"$f":"($A30*LN(1+'Curves without VA'!I30)-IF(ISNUMBER($A29),$A29*LN(1+'Curves without VA'!I29),0)+($A30<=I$2)*LN(1+I$5/10000)+IF(ISNUMBER($A29),$A29*I29))/$A30","v":6.6287362406042424E-2},{"$f":"($A30*LN(1+'Curves without VA'!J30)-IF(ISNUMBER($A29),$A29*LN(1+'Curves without VA'!J29),0)+($A30<=J$2)*LN(1+J$5/10000)+IF(ISNUMBER($A29),$A29*J29))/$A30","v":5.2035044274886026E-2},3.4662288310450595E-2,4.5956112794765636E-2,2.6758042270039306E-2,4.8463063037269327E-2,5.0096418519866237E-2,5.3501940403578585E-2,5.3256734974286291E-2,7.3744397257758942E-2,6.362115927397638E-2,{"$f":"(1+'Curves without VA'!K30)*(1+K30)/(1+'Curves without VA'!B30)-1","v":5.2735711679272379E-2},{"$f":"(1+'Curves without VA'!L30)*(1+L30)/(1+'Curves without VA'!C30)-1","v":6.8697792589371698E-2},{"$f":"(1+'Curves without VA'!M30)*(1+M30)/(1+'Curves without VA'!D30)-1","v":4.2987385957950153E-2},{"$f":"(1+'Curves without VA'!N30)*(1+N30)/(1+'Curves without VA'!E30)-1","v":6.9451615807332168E-2},{"$f":"(1+'Curves without VA'!O30)*(1+O30)/(1+'Curves without VA'!F30)-1","v":7.1710645720230337E-2},{"$f":"(1+'Curves without VA'!P30)*(1+P30)/(1+'Curves without VA'!G30)-1","v":7.6500872437545109E-2},{"$f":"(1+'Curves without VA'!Q30)*(1+Q30)/(1+'Curves without VA'!H30)-1","v":8.0597967213539956E-2},{"$f":"(1+'Curves without VA'!R30)*(1+R30)/(1+'Curves without VA'!I30)-1","v":0.10704117282808556},{"$f":"(1+'Curves without VA'!S30)*(1+S30)/(1+'Curves without VA'!J30)-1","v":9.5197920249676438E-2},{"$f":"(1+'Curves without VA'!T30)*(1+K30)/(1+'Curves without VA'!B30)-1","v":1.3954983696434331E-2},{"$f":"(1+'Curves without VA'!U30)*(1+L30)/(1+'Curves without VA'!C30)-1","v":2.2239155655122467E-2},{"$f":"(1+'Curves without VA'!V30)*(1+M30)/(1+'Curves without VA'!D30)-1","v":9.3164200054205448E-3},{"$f":"(1+'Curves without VA'!W30)*(1+N30)/(1+'Curves without VA'!E30)-1","v":2.2608766029380112E-2},{"$f":"(1+'Curves without VA'!X30)*(1+O30)/(1+'Curves without VA'!F30)-1","v":2.3121737830330336E-2},{"$f":"(1+'Curves without VA'!Y30)*(1+P30)/(1+'Curves without VA'!G30)-1","v":2.4045223384860703E-2},{"$f":"(1+'Curves without VA'!Z30)*(1+Q30)/(1+'Curves without VA'!H30)-1","v":3.5123186177814514E-2},{"$f":"(1+'Curves without VA'!AA30)*(1+R30)/(1+'Curves without VA'!I30)-1","v":3.9823773164852749E-2},{"$f":"(1+'Curves without VA'!AB30)*(1+S30)/(1+'Curves without VA'!J30)-1","v":4.269058850307017E-2}]
[18,{"$f":"($A31*LN(1+'Curves without VA'!B31)-IF(ISNUMBER($A30),$A30*LN(1+'Curves without VA'!B30),0)+($A31<=B$2)*LN(1+B$5/10000)+IF(ISNUMBER($A30),$A30*B30))/$A31","v":3.4268366155864892E-2},{"$f":"($A31*LN(1+'Curves without VA'!C31)-IF(ISNUMBER($A30),$A30*LN(1+'Curves without VA'!C30),0)+($A31<=C$2)*LN(1+C$5/10000)+IF(ISNUMBER($A30),$A30*C30))/$A31","v":4.2628494917085008E-2},{"$f":"($A31*LN(1+'Curves without VA'!D31)-IF(ISNUMBER($A30),$A30*LN(1+'Curves without VA'!D30),0)+($A31<=D$2)*LN(1+D$5/10000)+IF(ISNUMBER($A30),$A30*D30))/$A31","v":2.7100314066800853E-2},{"$f":"($A31*LN(1+'Curves without VA'!E31)-IF(ISNUMBER($A30),$A30*LN(1+'Curves without VA'!E30),0)+($A31<=E$2)*LN(1+E$5/10000)+IF(ISNUMBER($A30),$A30*E30))/$A31","v":4.7595514664955138E-2},{"$f":"($A31*LN(1+'Curves without VA'!F31)-IF(ISNUMBER($A30),$A30*LN(1+'Curves without VA'!F30),0)+($A31<=F$2)*LN(1+F$5/10000)+IF(ISNUMBER($A30),$A30*F30))/$A31","v":4.9211725840878497E-2},{"$f":"($A31*LN(1+'Curves without VA'!G31)-IF(ISNUMBER($A30),$A30*LN(1+'Curves without VA'!G30),0)+($A31<=G$2)*LN(1+G$5/10000)+IF(ISNUMBER($A30),$A30*G30))/$A31","v":5.2271866759395332E-2},{"$f":"($A31*LN(1+'Curves without VA'!H31)-IF(ISNUMBER($A30),$A30*LN(1+'Curves without VA'!H30),0)+($A31<=H$2)*LN(1+H$5/10000)+IF(ISNUMBER($A30),$A30*H30))/$A31","v":4.3228570199598797E-2},{"$f":"($A31*LN(1+'Curves without VA'!I31)-IF(ISNUMBER($A30),$A30*LN(1+'Curves without VA'!I30),0)+($A31<=I$2)*LN(1+I$5/10000)+IF(ISNUMBER($A30),$A30*I30))/$A31","v":6.4514840835156115E-2},{"$f":"($A31*LN(1+'Curves without VA'!J31)-IF(ISNUMBER($A30),$A30*LN(1+'Curves without VA'!J30),0)+($A31<=J$2)*LN(1+J$5/10000)+IF(ISNUMBER($A30),$A30*J30))/$A31","v":5.094257095457301E-2},3.4862291480870722E-2,4.5931022322057258E-2,2.7470867375213537E-2,4.8746366995420676E-2,5.0442733068108314E-2,5.3662159294744383E-2,5.2831343567953493E-2,7.3639221923291309E-2,6.2759785860883044E-2,{"$f":"(1+'Curves without VA'!K31)*(1+K31)/(1+'Curves without VA'!B31)-1","v":5.2270036310896995E-2},{"$f":"(1+'Curves without VA'!L31)*(1+L31)/(1+'Curves without VA'!C31)-1","v":6.8839343567449918E-2},{"$f":"(1+'Curves without VA'!M31)*(1+M31)/(1+'Curves without VA'!D31)-1","v":4.3236219087769312E-2},{"$f":"(1+'Curves without VA'!N31)*(1+N31)/(1+'Curves without VA'!E31)-1","v":6.8982781764230117E-2},{"$f":"(1+'Curves without VA'!O31)*(1+O31)/(1+'Curves without VA'!F31)-1","v":7.1298066025816675E-2},{"$f":"(1+'Curves without VA'!P31)*(1+P31)/(1+'Curves without VA'!G31)-1","v":7.5802612836378014E-2},{"$f":"(1+'Curves without VA'!Q31)*(1+Q31)/(1+'Curves without VA'!H31)-1","v":7.9688576615623452E-2},{"$f":"(1+'Curves without VA'!R31)*(1+R31)/(1+'Curves without VA'!I31)-1","v":0.10786380832430198},{"$f":"(1+'Curves without VA'!S31)*(1+S31)/(1+'Curves without VA'!J31)-1","v":9.3744269499872246E-2},{"$f":"(1+'Curves without VA'!T31)*(1+K31)/(1+'Curves without VA'!B31)-1","v":1.3840813425244125E-2},{"$f":"(1+'Curves without VA'!U31)*(1+L31)/(1+'Curves without VA'!C31)-1","v":2.2809554247026798E-2},{"$f":"(1+'Curves without VA'!V31)*(1+M31)/(1+'Curves without VA'!D31)-1","v":9.531585031358869E-3},{"$f":"(1+'Curves without VA'!W31)*(1+N31)/(1+'Curves without VA'!E31)-1","v":2.2430518267664512E-2},{"$f":"(1+'Curves without VA'!X31)*(1+O31)/(1+'Curves without VA'!F31)-1","v":2.295213202473545E-2},{"$f":"(1+'Curves without VA'!Y31)*(1+P31)/(1+'Curves without VA'!G31)-1","v":2.3728616490319654E-2},{"$f":"(1+'Curves without VA'!Z31)*(1+Q31)/(1+'Curves without VA'!H31)-1","v":3.547862633515475E-2},{"$f":"(1+'Curves without VA'!AA31)*(1+R31)/(1+'Curves without VA'!I31)-1","v":4.1422116606484316E-2},{"$f":"(1+'Curves without VA'!AB31)*(1+S31)/(1+'Curves without VA'!J31)-1","v":4.282756125675502E-2}]
[19,{"$f":"($A32*LN(1+'Curves without VA'!B32)-IF(ISNUMBER($A31),$A31*LN(1+'Curves without VA'!B31),0)+($A32<=B$2)*LN(1+B$5/10000)+IF(ISNUMBER($A31),$A31*B31))/$A32","v":3.4441304624358779E-2},{"$f":"($A32*LN(1+'Curves without VA'!C32)-IF(ISNUMBER($A31),$A31*LN(1+'Curves without VA'!C31),0)+($A32<=C$2)*LN(1+C$5/10000)+IF(ISNUMBER($A31),$A31*C31))/$A32","v":4.2085789748750747E-2},{"$f":"($A32*LN(1+'Curves without VA'!D32)-IF(ISNUMBER($A31),$A31*LN(1+'Curves without VA'!D31),0)+($A32<=D$2)*LN(1+D$5/10000)+IF(ISNUMBER($A31),$A31*D31))/$A32","v":2.7721268144685229E-2},{"$f":"($A32*LN(1+'Curves without VA'!E32)-IF(ISNUMBER($A31),$A31*LN(1+'Curves without VA'!E31),0)+($A32<=E$2)*LN(1+E$5/10000)+IF(ISNUMBER($A31),$A31*E31))/$A32","v":4.7837247785914895E-2},{"$f":"($A32*LN(1+'Curves without VA'!F32)-IF(ISNUMBER($A31),$A31*LN(1+'Curves without VA'!F31),0)+($A32<=F$2)*LN(1+F$5/10000)+IF(ISNUMBER($A31),$A31*F31))/$A32","v":4.9506755226874338E-2},{"$f":"($A32*LN(1+'Curves without VA'!G32)-IF(ISNUMBER($A31),$A31*LN(1+'Curves without VA'!G31),0)+($A32<=G$2)*LN(1+G$5/10000)+IF(ISNUMBER($A31),$A31*G31))/$A32","v":5.2407929959242198E-2},{"$f":"($A32*LN(1+'Curves without VA'!H32)-IF(ISNUMBER($A31),$A31*LN(1+'Curves without VA'!H31),0)+($A32<=H$2)*LN(1+H$5/10000)+IF(ISNUMBER($A31),$A31*H31))/$A32","v":4.2657624071620041E-2},{"$f":"($A32*LN(1+'Curves without VA'!I32)-IF(ISNUMBER($A31),$A31*LN(1+'Curves without VA'!I31),0)+($A32<=I$2)*LN(1+I$5/10000)+IF(ISNUMBER($A31),$A31*I31))/$A32","v":6.2965961431584117E-2},{"$f":"($A32*LN(1+'Curves without VA'!J32)-IF(ISNUMBER($A31),$A31*LN(1+'Curves without VA'!J31),0)+($A32<=J$2)*LN(1+J$5/10000)+IF(ISNUMBER($A31),$A31*J31))/$A32","v":4.9965624786858807E-2},3.5041274456736327E-2,4.5839580553319603E-2,2.8109077729371545E-2,4.8999914371974151E-2,5.0752690263661471E-2,5.3805533693464191E-2,5.2380781778607055E-2,7.3378889314944518E-2,6.1904504816321149E-2,{"$f":"(1+'Curves without VA'!K32)*(1+K32)/(1+'Curves without VA'!B32)-1","v":5.2495554860487958E-2},{"$f":"(1+'Curves without VA'!L32)*(1+L32)/(1+'Curves without VA'!C32)-1","v":6.8761459004318182E-2},{"$f":"(1+'Curves without VA'!M32)*(1+M32)/(1+'Curves without VA'!D32)-1","v":4.4040364134008358E-2},{"$f":"(1+'Curves without VA'!N32)*(1+N32)/(1+'Curves without VA'!E32)-1","v":6.9302251458687625E-2},{"$f":"(1+'Curves without VA'!O32)*(1+O32)/(1+'Curves without VA'!F32)-1","v":7.1688612092213555E-2},{"$f":"(1+'Curves without VA'!P32)*(1+P32)/(1+'Curves without VA'!G32)-1","v":7.5983264578765031E-2},{"$f":"(1+'Curves without VA'!Q32)*(1+Q32)/(1+'Curves without VA'!H32)-1","v":7.870734417239178E-2},{"$f":"(1+'Curves without VA'!R32)*(1+R32)/(1+'Curves without VA'!I32)-1","v":0.10815993007428371},{"$f":"(1+'Curves without VA'!S32)*(1+S32)/(1+'Curves without VA'!J32)-1","v":9.2246986324969527E-2},{"$f":"(1+'Curves without VA'!T32)*(1+K32)/(1+'Curves without VA'!B32)-1","v":1.4132697732935462E-2},{"$f":"(1+'Curves without VA'!U32)*(1+L32)/(1+'Curves without VA'!C32)-1","v":2.3314444597196671E-2},{"$f":"(1+'Curves without VA'!V32)*(1+M32)/(1+'Curves without VA'!D32)-1","v":1.0057452601979655E-2},{"$f":"(1+'Curves without VA'!W32)*(1+N32)/(1+'Curves without VA'!E32)-1","v":2.2761053129706665E-2},{"$f":"(1+'Curves without VA'!X32)*(1+O32)/(1+'Curves without VA'!F32)-1","v":2.3311294114467307E-2},{"$f":"(1+'Curves without VA'!Y32)*(1+P32)/(1+'Curves without VA'!G32)-1","v":2.4002464183666694E-2},{"$f":"(1+'Curves without VA'!Z32)*(1+Q32)/(1+'Curves without VA'!H32)-1","v":3.5741752193003906E-2},{"$f":"(1+'Curves without VA'!AA32)*(1+R32)/(1+'Curves without VA'!I32)-1","v":4.2699955888813923E-2},{"$f":"(1+'Curves without VA'!AB32)*(1+S32)/(1+'Curves without VA'!J32)-1","v":4.28749159779791E-2}]
[20,{"$f":"($A33*LN(1+'Curves without VA'!B33)-IF(ISNUMBER($A32),$A32*LN(1+'Curves without VA'!B32),0)+($A33<=B$2)*LN(1+B$5/10000)+IF(ISNUMBER($A32),$A32*B32))/$A33","v":3.4596949246003469E-2},{"$f":"($A33*LN(1+'Curves without VA'!C33)-IF(ISNUMBER($A32),$A32*LN(1+'Curves without VA'!C32),0)+($A33<=C$2)*LN(1+C$5/10000)+IF(ISNUMBER($A32),$A32*C32))/$A33","v":4.1598136827787749E-2},{"$f":"($A33*LN(1+'Curves without VA'!D33)-IF(ISNUMBER($A32),$A32*LN(1+'Curves without VA'!D32),0)+($A33<=D$2)*LN(1+D$5/10000)+IF(ISNUMBER($A32),$A32*D32))/$A33","v":2.8280126814781009E-2},{"$f":"($A33*LN(1+'Curves without VA'!E33)-IF(ISNUMBER($A32),$A32*LN(1+'Curves without VA'!E32),0)+($A33<=E$2)*LN(1+E$5/10000)+IF(ISNUMBER($A32),$A32*E32))/$A33","v":4.8054807594778697E-2},{"$f":"($A33*LN(1+'Curves without VA'!F33)-IF(ISNUMBER($A32),$A32*LN(1+'Curves without VA'!F32),0)+($A33<=F$2)*LN(1+F$5/10000)+IF(ISNUMBER($A32),$A32*F32))/$A33","v":4.9772281674270509E-2},{"$f":"($A33*LN(1+'Curves without VA'!G33)-IF(ISNUMBER($A32),$A32*LN(1+'Curves without VA'!G32),0)+($A33<=G$2)*LN(1+G$5/10000)+IF(ISNUMBER($A32),$A32*G32))/$A33","v":5.2530386839104423E-2},{"$f":"($A33*LN(1+'Curves without VA'!H33)-IF(ISNUMBER($A32),$A32*LN(1+'Curves without VA'!H32),0)+($A33<=H$2)*LN(1+H$5/10000)+IF(ISNUMBER($A32),$A32*H32))/$A33","v":4.2144223575724914E-2},{"$f":"($A33*LN(1+'Curves without VA'!I33)-IF(ISNUMBER($A32),$A32*LN(1+'Curves without VA'!I32),0)+($A33<=I$2)*LN(1+I$5/10000)+IF(ISNUMBER($A32),$A32*I32))/$A33","v":6.1603510408687709E-2},{"$f":"($A33*LN(1+'Curves without VA'!J33)-IF(ISNUMBER($A32),$A32*LN(1+'Curves without VA'!J32),0)+($A33<=J$2)*LN(1+J$5/10000)+IF(ISNUMBER($A32),$A32*J32))/$A33","v":4.9086824255201757E-2},3.5202385602002062E-2,4.5698582108636865E-2,2.8683805982240074E-2,4.9228159420417361E-2,5.1031729937166315E-2,5.3934587332693518E-2,5.1915814663654247E-2,7.3003220264579838E-2,6.1062915127700235E-2,{"$f":"(1+'Curves without VA'!K33)*(1+K33)/(1+'Curves without VA'!B33)-1","v":5.2075776062502355E-2},{"$f":"(1+'Curves without VA'!L33)*(1+L33)/(1+'Curves without VA'!C33)-1","v":6.851732813411604E-2},{"$f":"(1+'Curves without VA'!M33)*(1+M33)/(1+'Curves without VA'!D33)-1","v":4.4196127737799795E-2},{"$f":"(1+'Curves without VA'!N33)*(1+N33)/(1+'Curves without VA'!E33)-1","v":6.8857005075521727E-2},{"$f":"(1+'Curves without VA'!O33)*(1+O33)/(1+'Curves without VA'!F33)-1","v":7.1282454901457681E-2},{"$f":"(1+'Curves without VA'!P33)*(1+P33)/(1+'Curves without VA'!G33)-1","v":7.5341773665866585E-2},{"$f":"(1+'Curves without VA'!Q33)*(1+Q33)/(1+'Curves without VA'!H33)-1","v":7.7681976318626056E-2},{"$f":"(1+'Curves without VA'!R33)*(1+R33)/(1+'Curves without VA'!I33)-1","v":0.10805172300849675},{"$f":"(1+'Curves without VA'!S33)*(1+S33)/(1+'Curves without VA'!J33)-1","v":9.073267232440374E-2},{"$f":"(1+'Curves without VA'!T33)*(1+K33)/(1+'Curves without VA'!B33)-1","v":1.4093593051001108E-2},{"$f":"(1+'Curves without VA'!U33)*(1+L33)/(1+'Curves without VA'!C33)-1","v":2.3764175222052986E-2},{"$f":"(1+'Curves without VA'!V33)*(1+M33)/(1+'Curves without VA'!D33)-1","v":1.0283120741120255E-2},{"$f":"(1+'Curves without VA'!W33)*(1+N33)/(1+'Curves without VA'!E33)-1","v":2.26476872102086E-2},{"$f":"(1+'Curves without VA'!X33)*(1+O33)/(1+'Curves without VA'!F33)-1","v":2.3198566968583245E-2},{"$f":"(1+'Curves without VA'!Y33)*(1+P33)/(1+'Curves without VA'!G33)-1","v":2.3765999916346869E-2},{"$f":"(1+'Curves without VA'!Z33)*(1+Q33)/(1+'Curves without VA'!H33)-1","v":3.5931804340998408E-2},{"$f":"(1+'Curves without VA'!AA33)*(1+R33)/(1+'Curves without VA'!I33)-1","v":4.3719874918064505E-2},{"$f":"(1+'Curves without VA'!AB33)*(1+S33)/(1+'Curves without VA'!J33)-1","v":4.2853527481092391E-2}]
[21,{"$f":"($A34*LN(1+'Curves without VA'!B34)-IF(ISNUMBER($A33),$A33*LN(1+'Curves without VA'!B33),0)+($A34<=B$2)*LN(1+B$5/10000)+IF(ISNUMBER($A33),$A33*B33))/$A34","v":3.4485590471227547E-2},{"$f":"($A34*LN(1+'Curves without VA'!C34)-IF(ISNUMBER($A33),$A33*LN(1+'Curves without VA'!C33),0)+($A34<=C$2)*LN(1+C$5/10000)+IF(ISNUMBER($A33),$A33*C33))/$A34","v":4.1157593995392726E-2},{"$f":"($A34*LN(1+'Curves without VA'!D34)-IF(ISNUMBER($A33),$A33*LN(1+'Curves without VA'!D33),0)+($A34<=D$2)*LN(1+D$5/10000)+IF(ISNUMBER($A33),$A33*D33))/$A34","v":2.881050028201081E-2},{"$f":"($A34*LN(1+'Curves without VA'!E34)-IF(ISNUMBER($A33),$A33*LN(1+'Curves without VA'!E33),0)+($A34<=E$2)*LN(1+E$5/10000)+IF(ISNUMBER($A33),$A33*E33))/$A34","v":4.8083497191435468E-2},{"$f":"($A34*LN(1+'Curves without VA'!F34)-IF(ISNUMBER($A33),$A33*LN(1+'Curves without VA'!F33),0)+($A34<=F$2)*LN(1+F$5/10000)+IF(ISNUMBER($A33),$A33*F33))/$A34","v":4.9927775510623267E-2},{"$f":"($A34*LN(1+'Curves without VA'!G34)-IF(ISNUMBER($A33),$A33*LN(1+'Curves without VA'!G33),0)+($A34<=G$2)*LN(1+G$5/10000)+IF(ISNUMBER($A33),$A33*G33))/$A34","v":5.2459089971621353E-2},{"$f":"($A34*LN(1+'Curves without VA'!H34)-IF(ISNUMBER($A33),$A33*LN(1+'Curves without VA'!H33),0)+($A34<=H$2)*LN(1+H$5/10000)+IF(ISNUMBER($A33),$A33*H33))/$A34","v":4.1680103163697232E-2},{"$f":"($A34*LN(1+'Curves without VA'!I34)-IF(ISNUMBER($A33),$A33*LN(1+'Curves without VA'!I33),0)+($A34<=I$2)*LN(1+I$5/10000)+IF(ISNUMBER($A33),$A33*I33))/$A34","v":6.0397726152809549E-2},{"$f":"($A34*LN(1+'Curves without VA'!J34)-IF(ISNUMBER($A33),$A33*LN(1+'Curves without VA'!J33),0)+($A34<=J$2)*LN(1+J$5/10000)+IF(ISNUMBER($A33),$A33*J33))/$A34","v":4.8292103810818041E-2},3.5133483488925199E-2,4.5520949228669672E-2,2.9229537287011498E-2,4.925826178492243E-2,5.1195171599738964E-2,5.3859447776724023E-2,5.1444458410395244E-2,7.254283625461877E-2,6.0240308338027626E-2,{"$f":"(1+'Curves without VA'!K34)*(1+K34)/(1+'Curves without VA'!B34)-1","v":5.1589725337582104E-2},{"$f":"(1+'Curves without VA'!L34)*(1+L34)/(1+'Curves without VA'!C34)-1","v":6.8148062651746777E-2},{"$f":"(1+'Curves without VA'!M34)*(1+M34)/(1+'Curves without VA'!D34)-1","v":4.4778101723764285E-2},{"$f":"(1+'Curves without VA'!N34)*(1+N34)/(1+'Curves without VA'!E34)-1","v":6.8794020181152993E-2},{"$f":"(1+'Curves without VA'!O34)*(1+O34)/(1+'Curves without VA'!F34)-1","v":7.1386215019673793E-2},{"$f":"(1+'Curves without VA'!P34)*(1+P34)/(1+'Curves without VA'!G34)-1","v":7.5147485845904916E-2},{"$f":"(1+'Curves without VA'!Q34)*(1+Q34)/(1+'Curves without VA'!H34)-1","v":7.6633200253075628E-2},{"$f":"(1+'Curves without VA'!R34)*(1+R34)/(1+'Curves without VA'!I34)-1","v":0.10763420215959929},{"$f":"(1+'Curves without VA'!S34)*(1+S34)/(1+'Curves without VA'!J34)-1","v":8.9220818711828409E-2},{"$f":"(1+'Curves without VA'!T34)*(1+K34)/(1+'Curves without VA'!B34)-1","v":1.4005467594830456E-2},{"$f":"(1+'Curves without VA'!U34)*(1+L34)/(1+'Curves without VA'!C34)-1","v":2.4167076309306035E-2},{"$f":"(1+'Curves without VA'!V34)*(1+M34)/(1+'Curves without VA'!D34)-1","v":1.0929457411376076E-2},{"$f":"(1+'Curves without VA'!W34)*(1+N34)/(1+'Curves without VA'!E34)-1","v":2.3194648860310307E-2},{"$f":"(1+'Curves without VA'!X34)*(1+O34)/(1+'Curves without VA'!F34)-1","v":2.3838585475866925E-2},{"$f":"(1+'Curves without VA'!Y34)*(1+P34)/(1+'Curves without VA'!G34)-1","v":2.433105049112938E-2},{"$f":"(1+'Curves without VA'!Z34)*(1+Q34)/(1+'Curves without VA'!H34)-1","v":3.60638371624038E-2},{"$f":"(1+'Curves without VA'!AA34)*(1+R34)/(1+'Curves without VA'!I34)-1","v":4.4531259443865379E-2},{"$f":"(1+'Curves without VA'!AB34)*(1+S34)/(1+'Curves without VA'!J34)-1","v":4.2779569080158453E-2}]
[22,{"$f":"($A35*LN(1+'Curves without VA'!B35)-IF(ISNUMBER($A34),$A34*LN(1+'Curves without VA'!B34),0)+($A35<=B$2)*LN(1+B$5/10000)+IF(ISNUMBER($A34),$A34*B34))/$A35","v":3.4385343732579204E-2},{"$f":"($A35*LN(1+'Curves without VA'!C35)-IF(ISNUMBER($A34),$A34*LN(1+'Curves without VA'!C34),0)+($A35<=C$2)*LN(1+C$5/10000)+IF(ISNUMBER($A34),$A34*C34))/$A35","v":4.0757670832716621E-2},{"$f":"($A35*LN(1+'Curves without VA'!D35)-IF(ISNUMBER($A34),$A34*LN(1+'Curves without VA'!D34),0)+($A35<=D$2)*LN(1+D$5/10000)+IF(ISNUMBER($A34),$A34*D34))/$A35","v":2.9292657979492577E-2},{"$f":"($A35*LN(1+'Curves without VA'!E35)-IF(ISNUMBER($A34),$A34*LN(1+'Curves without VA'!E34),0)+($A35<=E$2)*LN(1+E$5/10000)+IF(ISNUMBER($A34),$A34*E34))/$A35","v":4.8109578642941499E-2},{"$f":"($A35*LN(1+'Curves without VA'!F35)-IF(ISNUMBER($A34),$A34*LN(1+'Curves without VA'!F34),0)+($A35<=F$2)*LN(1+F$5/10000)+IF(ISNUMBER($A34),$A34*F34))/$A35","v":5.0069133543671346E-2},{"$f":"($A35*LN(1+'Curves without VA'!G35)-IF(ISNUMBER($A34),$A34*LN(1+'Curves without VA'!G34),0)+($A35<=G$2)*LN(1+G$5/10000)+IF(ISNUMBER($A34),$A34*G34))/$A35","v":5.2394274637545826E-2},{"$f":"($A35*LN(1+'Curves without VA'!H35)-IF(ISNUMBER($A34),$A34*LN(1+'Curves without VA'!H34),0)+($A35<=H$2)*LN(1+H$5/10000)+IF(ISNUMBER($A34),$A34*H34))/$A35","v":4.1258504563176479E-2},{"$f":"($A35*LN(1+'Curves without VA'!I35)-IF(ISNUMBER($A34),$A34*LN(1+'Curves without VA'!I34),0)+($A35<=I$2)*LN(1+I$5/10000)+IF(ISNUMBER($A34),$A34*I34))/$A35","v":5.9324569371330751E-2},{"$f":"($A35*LN(1+'Curves without VA'!J35)-IF(ISNUMBER($A34),$A34*LN(1+'Curves without VA'!J34),0)+($A35<=J$2)*LN(1+J$5/10000)+IF(ISNUMBER($A34),$A34*J34))/$A35","v":4.7569959726337305E-2},3.5067261893461987E-2,4.5316676014307777E-2,2.9725907885726155E-2,4.9285628320272501E-2,5.1343776984580813E-2,5.3791143738146197E-2,5.0972674182671929E-2,7.2021395582562375E-2,5.9440279935840445E-2,{"$f":"(1+'Curves without VA'!K35)*(1+K35)/(1+'Curves without VA'!B35)-1","v":5.1112506634983124E-2},{"$f":"(1+'Curves without VA'!L35)*(1+L35)/(1+'Curves without VA'!C35)-1","v":6.7685606342154481E-2},{"$f":"(1+'Curves without VA'!M35)*(1+M35)/(1+'Curves without VA'!D35)-1","v":4.4919940103300471E-2},{"$f":"(1+'Curves without VA'!N35)*(1+N35)/(1+'Curves without VA'!E35)-1","v":6.8195431367137793E-2},{"$f":"(1+'Curves without VA'!O35)*(1+O35)/(1+'Curves without VA'!F35)-1","v":7.0911646060880296E-2},{"$f":"(1+'Curves without VA'!P35)*(1+P35)/(1+'Curves without VA'!G35)-1","v":7.4359805110301158E-2},{"$f":"(1+'Curves without VA'!Q35)*(1+Q35)/(1+'Curves without VA'!H35)-1","v":7.557651604112392E-2},{"$f":"(1+'Curves without VA'!R35)*(1+R35)/(1+'Curves without VA'!I35)-1","v":0.10698162223222418},{"$f":"(1+'Curves without VA'!S35)*(1+S35)/(1+'Curves without VA'!J35)-1","v":8.7725626531279799E-2},{"$f":"(1+'Curves without VA'!T35)*(1+K35)/(1+'Curves without VA'!B35)-1","v":1.4015828743582981E-2},{"$f":"(1+'Curves without VA'!U35)*(1+L35)/(1+'Curves without VA'!C35)-1","v":2.4529921933568177E-2},{"$f":"(1+'Curves without VA'!V35)*(1+M35)/(1+'Curves without VA'!D35)-1","v":1.090436183786303E-2},{"$f":"(1+'Curves without VA'!W35)*(1+N35)/(1+'Curves without VA'!E35)-1","v":2.2777034510136129E-2},{"$f":"(1+'Curves without VA'!X35)*(1+O35)/(1+'Curves without VA'!F35)-1","v":2.3455132452290473E-2},{"$f":"(1+'Curves without VA'!Y35)*(1+P35)/(1+'Curves without VA'!G35)-1","v":2.3794641494073066E-2},{"$f":"(1+'Curves without VA'!Z35)*(1+Q35)/(1+'Curves without VA'!H35)-1","v":3.6149717754708544E-2},{"$f":"(1+'Curves without VA'!AA35)*(1+R35)/(1+'Curves without VA'!I35)-1","v":4.5173376560056822E-2},{"$f":"(1+'Curves without VA'!AB35)*(1+S35)/(1+'Curves without VA'!J35)-1","v":4.2665648527143052E-2}]
[23,{"$f":"($A36*LN(1+'Curves without VA'!B36)-IF(ISNUMBER($A35),$A35*LN(1+'Curves without VA'!B35),0)+($A36<=B$2)*LN(1+B$5/10000)+IF(ISNUMBER($A35),$A35*B35))/$A36","v":3.4294661141841494E-2},{"$f":"($A36*LN(1+'Curves without VA'!C36)-IF(ISNUMBER($A35),$A35*LN(1+'Curves without VA'!C35),0)+($A36<=C$2)*LN(1+C$5/10000)+IF(ISNUMBER($A35),$A35*C35))/$A36","v":4.0393012296913833E-2},{"$f":"($A36*LN(1+'Curves without VA'!D36)-IF(ISNUMBER($A35),$A35*LN(1+'Curves without VA'!D35),0)+($A36<=D$2)*LN(1+D$5/10000)+IF(ISNUMBER($A35),$A35*D35))/$A36","v":2.973288892067143E-2},{"$f":"($A36*LN(1+'Curves without VA'!E36)-IF(ISNUMBER($A35),$A35*LN(1+'Curves without VA'!E35),0)+($A36<=E$2)*LN(1+E$5/10000)+IF(ISNUMBER($A35),$A35*E35))/$A36","v":4.8133392142142691E-2},{"$f":"($A36*LN(1+'Curves without VA'!F36)-IF(ISNUMBER($A35),$A35*LN(1+'Curves without VA'!F35),0)+($A36<=F$2)*LN(1+F$5/10000)+IF(ISNUMBER($A35),$A35*F35))/$A36","v":5.0198199573845664E-2},{"$f":"($A36*LN(1+'Curves without VA'!G36)-IF(ISNUMBER($A35),$A35*LN(1+'Curves without VA'!G35),0)+($A36<=G$2)*LN(1+G$5/10000)+IF(ISNUMBER($A35),$A35*G35))/$A36","v":5.2335095419476785E-2},{"$f":"($A36*LN(1+'Curves without VA'!H36)-IF(ISNUMBER($A35),$A35*LN(1+'Curves without VA'!H35),0)+($A36<=H$2)*LN(1+H$5/10000)+IF(ISNUMBER($A35),$A35*H35))/$A36","v":4.0873848665717354E-2},{"$f":"($A36*LN(1+'Curves without VA'!I36)-IF(ISNUMBER($A35),$A35*LN(1+'Curves without VA'!I35),0)+($A36<=I$2)*LN(1+I$5/10000)+IF(ISNUMBER($A35),$A35*I35))/$A36","v":5.8364448110943767E-2},{"$f":"($A36*LN(1+'Curves without VA'!J36)-IF(ISNUMBER($A35),$A35*LN(1+'Curves without VA'!J35),0)+($A36<=J$2)*LN(1+J$5/10000)+IF(ISNUMBER($A35),$A35*J35))/$A36","v":4.6910892734827556E-2},3.5003728692156288E-2,4.5093520992051994E-2,3.0179324888085057E-2,4.9310615780262523E-2,5.1479478509264931E-2,5.3728783047498396E-2,5.0504874457363069E-2,7.1457237384233485E-2,5.8665172612148764E-2,{"$f":"(1+'Curves without VA'!K36)*(1+K36)/(1+'Curves without VA'!B36)-1","v":5.0646526298667283E-2},{"$f":"(1+'Curves without VA'!L36)*(1+L36)/(1+'Curves without VA'!C36)-1","v":6.7154879484110808E-2},{"$f":"(1+'Curves without VA'!M36)*(1+M36)/(1+'Curves without VA'!D36)-1","v":4.51816067512254E-2},{"$f":"(1+'Curves without VA'!N36)*(1+N36)/(1+'Curves without VA'!E36)-1","v":6.7924577267525432E-2},{"$f":"(1+'Curves without VA'!O36)*(1+O36)/(1+'Curves without VA'!F36)-1","v":7.0778290071488392E-2},{"$f":"(1+'Curves without VA'!P36)*(1+P36)/(1+'Curves without VA'!G36)-1","v":7.3981387728897952E-2},{"$f":"(1+'Curves without VA'!Q36)*(1+Q36)/(1+'Curves without VA'!H36)-1","v":7.4523477640228375E-2},{"$f":"(1+'Curves without VA'!R36)*(1+R36)/(1+'Curves without VA'!I36)-1","v":0.10615224382623412},{"$f":"(1+'Curves without VA'!S36)*(1+S36)/(1+'Curves without VA'!J36)-1","v":8.6257333645510359E-2},{"$f":"(1+'Curves without VA'!T36)*(1+K36)/(1+'Curves without VA'!B36)-1","v":1.4102817291866687E-2},{"$f":"(1+'Curves without VA'!U36)*(1+L36)/(1+'Curves without VA'!C36)-1","v":2.4858271672961729E-2},{"$f":"(1+'Curves without VA'!V36)*(1+M36)/(1+'Curves without VA'!D36)-1","v":1.0948481735161719E-2},{"$f":"(1+'Curves without VA'!W36)*(1+N36)/(1+'Curves without VA'!E36)-1","v":2.2458319932328497E-2},{"$f":"(1+'Curves without VA'!X36)*(1+O36)/(1+'Curves without VA'!F36)-1","v":2.3162926389539873E-2},{"$f":"(1+'Curves without VA'!Y36)*(1+P36)/(1+'Curves without VA'!G36)-1","v":2.3362874193274319E-2},{"$f":"(1+'Curves without VA'!Z36)*(1+Q36)/(1+'Curves without VA'!H36)-1","v":3.6198860884161466E-2},{"$f":"(1+'Curves without VA'!AA36)*(1+R36)/(1+'Curves without VA'!I36)-1","v":4.5677657017312745E-2},{"$f":"(1+'Curves without VA'!AB36)*(1+S36)/(1+'Curves without VA'!J36)-1","v":4.2521642513020375E-2}]
[24,{"$f":"($A37*LN(1+'Curves without VA'!B37)-IF(ISNUMBER($A36),$A36*LN(1+'Curves without VA'!B36),0)+($A37<=B$2)*LN(1+B$5/10000)+IF(ISNUMBER($A36),$A36*B36))/$A37","v":3.4212262624212196E-2},{"$f":"($A37*LN(1+'Curves without VA'!C37)-IF(ISNUMBER($A36),$A36*LN(1+'Curves without VA'!C36),0)+($A37<=C$2)*LN(1+C$5/10000)+IF(ISNUMBER($A36),$A36*C36))/$A37","v":4.0059161524875937E-2},{"$f":"($A37*LN(1+'Curves without VA'!D37)-IF(ISNUMBER($A36),$A36*LN(1+'Curves without VA'!D36),0)+($A37<=D$2)*LN(1+D$5/10000)+IF(ISNUMBER($A36),$A36*D36))/$A37","v":3.0136433950085317E-2},{"$f":"($A37*LN(1+'Curves without VA'!E37)-IF(ISNUMBER($A36),$A36*LN(1+'Curves without VA'!E36),0)+($A37<=E$2)*LN(1+E$5/10000)+IF(ISNUMBER($A36),$A36*E36))/$A37","v":4.8155221183076968E-2},{"$f":"($A37*LN(1+'Curves without VA'!F37)-IF(ISNUMBER($A36),$A36*LN(1+'Curves without VA'!F36),0)+($A37<=F$2)*LN(1+F$5/10000)+IF(ISNUMBER($A36),$A36*F36))/$A37","v":5.0316510101505264E-2},{"$f":"($A37*LN(1+'Curves without VA'!G37)-IF(ISNUMBER($A36),$A36*LN(1+'Curves without VA'!G36),0)+($A37<=G$2)*LN(1+G$5/10000)+IF(ISNUMBER($A36),$A36*G36))/$A37","v":5.2280847802913588E-2},{"$f":"($A37*LN(1+'Curves without VA'!H37)-IF(ISNUMBER($A36),$A36*LN(1+'Curves without VA'!H36),0)+($A37<=H$2)*LN(1+H$5/10000)+IF(ISNUMBER($A36),$A36*H36))/$A37","v":4.0521489487084901E-2},{"$f":"($A37*LN(1+'Curves without VA'!I37)-IF(ISNUMBER($A36),$A36*LN(1+'Curves without VA'!I36),0)+($A37<=I$2)*LN(1+I$5/10000)+IF(ISNUMBER($A36),$A36*I36))/$A37","v":5.7501264615840868E-2},{"$f":"($A37*LN(1+'Curves without VA'!J37)-IF(ISNUMBER($A36),$A36*LN(1+'Curves without VA'!J36),0)+($A37<=J$2)*LN(1+J$5/10000)+IF(ISNUMBER($A36),$A36*J36))/$A37","v":4.6306990053315657E-2},3.4942854706097037E-2,4.4857521582290616E-2,3.0595132526958668E-2,4.9333521474650865E-2,5.1603886960460255E-2,5.3671622322944534E-2,5.0044297023962514E-2,7.0864605112856749E-2,5.7916401198427225E-2,{"$f":"(1+'Curves without VA'!K37)*(1+K37)/(1+'Curves without VA'!B37)-1","v":5.0193430572996967E-2},{"$f":"(1+'Curves without VA'!L37)*(1+L37)/(1+'Curves without VA'!C37)-1","v":6.6575378355478332E-2},{"$f":"(1+'Curves without VA'!M37)*(1+M37)/(1+'Curves without VA'!D37)-1","v":4.5209891108159095E-2},{"$f":"(1+'Curves without VA'!N37)*(1+N37)/(1+'Curves without VA'!E37)-1","v":6.7319704413820736E-2},{"$f":"(1+'Curves without VA'!O37)*(1+O37)/(1+'Curves without VA'!F37)-1","v":7.0269629761366081E-2},{"$f":"(1+'Curves without VA'!P37)*(1+P37)/(1+'Curves without VA'!G37)-1","v":7.3209402957221892E-2},{"$f":"(1+'Curves without VA'!Q37)*(1+Q37)/(1+'Curves without VA'!H37)-1","v":7.3482640584414227E-2},{"$f":"(1+'Curves without VA'!R37)*(1+R37)/(1+'Curves without VA'!I37)-1","v":0.10519191541064576},{"$f":"(1+'Curves without VA'!S37)*(1+S37)/(1+'Curves without VA'!J37)-1","v":8.4823193179665024E-2},{"$f":"(1+'Curves without VA'!T37)*(1+K37)/(1+'Curves without VA'!B37)-1","v":1.4249131936460158E-2},{"$f":"(1+'Curves without VA'!U37)*(1+L37)/(1+'Curves without VA'!C37)-1","v":2.5156726705350962E-2},{"$f":"(1+'Curves without VA'!V37)*(1+M37)/(1+'Curves without VA'!D37)-1","v":1.1152227478209875E-2},{"$f":"(1+'Curves without VA'!W37)*(1+N37)/(1+'Curves without VA'!E37)-1","v":2.2469543722579033E-2},{"$f":"(1+'Curves without VA'!X37)*(1+O37)/(1+'Curves without VA'!F37)-1","v":2.322388653062557E-2},{"$f":"(1+'Curves without VA'!Y37)*(1+P37)/(1+'Curves without VA'!G37)-1","v":2.3334865438242813E-2},{"$f":"(1+'Curves without VA'!Z37)*(1+Q37)/(1+'Curves without VA'!H37)-1","v":3.6218776865381663E-2},{"$f":"(1+'Curves without VA'!AA37)*(1+R37)/(1+'Curves without VA'!I37)-1","v":4.606940782534541E-2},{"$f":"(1+'Curves without VA'!AB37)*(1+S37)/(1+'Curves without VA'!J37)-1","v":4.2355317619357846E-2}]
[25,{"$f":"($A38*LN(1+'Curves without VA'!B38)-IF(ISNUMBER($A37),$A37*LN(1+'Curves without VA'!B37),0)+($A38<=B$2)*LN(1+B$5/10000)+IF(ISNUMBER($A37),$A37*B37))/$A38","v":3.4137081372423106E-2},{"$f":"($A38*LN(1+'Curves without VA'!C38)-IF(ISNUMBER($A37),$A37*LN(1+'Curves without VA'!C37),0)+($A38<=C$2)*LN(1+C$5/10000)+IF(ISNUMBER($A37),$A37*C37))/$A38","v":3.9752379630029401E-2},{"$f":"($A38*LN(1+'Curves without VA'!D38)-IF(ISNUMBER($A37),$A37*LN(1+'Curves without VA'!D37),0)+($A38<=D$2)*LN(1+D$5/10000)+IF(ISNUMBER($A37),$A37*D37))/$A38","v":3.0507695377146281E-2},{"$f":"($A38*LN(1+'Curves without VA'!E38)-IF(ISNUMBER($A37),$A37*LN(1+'Curves without VA'!E37),0)+($A38<=E$2)*LN(1+E$5/10000)+IF(ISNUMBER($A37),$A37*E37))/$A38","v":4.8175303900736793E-2},{"$f":"($A38*LN(1+'Curves without VA'!F38)-IF(ISNUMBER($A37),$A37*LN(1+'Curves without VA'!F37),0)+($A38<=F$2)*LN(1+F$5/10000)+IF(ISNUMBER($A37),$A37*F37))/$A38","v":5.0425355786952245E-2},{"$f":"($A38*LN(1+'Curves without VA'!G38)-IF(ISNUMBER($A37),$A37*LN(1+'Curves without VA'!G37),0)+($A38<=G$2)*LN(1+G$5/10000)+IF(ISNUMBER($A37),$A37*G37))/$A38","v":5.2230939995675421E-2},{"$f":"($A38*LN(1+'Curves without VA'!H38)-IF(ISNUMBER($A37),$A37*LN(1+'Curves without VA'!H37),0)+($A38<=H$2)*LN(1+H$5/10000)+IF(ISNUMBER($A37),$A37*H37))/$A38","v":4.0197527215136156E-2},{"$f":"($A38*LN(1+'Curves without VA'!I38)-IF(ISNUMBER($A37),$A37*LN(1+'Curves without VA'!I37),0)+($A38<=I$2)*LN(1+I$5/10000)+IF(ISNUMBER($A37),$A37*I37))/$A38","v":5.6721693601194785E-2},{"$f":"($A38*LN(1+'Curves without VA'!J38)-IF(ISNUMBER($A37),$A37*LN(1+'Curves without VA'!J37),0)+($A38<=J$2)*LN(1+J$5/10000)+IF(ISNUMBER($A37),$A37*J37))/$A38","v":4.5751607758717588E-2},3.4884584693367415E-2,4.4613380611871811E-2,3.0977823781437763E-2,4.9354595155101322E-2,5.1718355735958177E-2,5.3619037194940544E-2,4.9593284180641906E-2,7.0254566964472742E-2,5.7194693124898333E-2,{"$f":"(1+'Curves without VA'!K38)*(1+K38)/(1+'Curves without VA'!B38)-1","v":4.9754293937485317E-2},{"$f":"(1+'Curves without VA'!L38)*(1+L38)/(1+'Curves without VA'!C38)-1","v":6.5962381146799531E-2},{"$f":"(1+'Curves without VA'!M38)*(1+M38)/(1+'Curves without VA'!D38)-1","v":4.5189457323353999E-2},{"$f":"(1+'Curves without VA'!N38)*(1+N38)/(1+'Curves without VA'!E38)-1","v":6.6712138389223741E-2},{"$f":"(1+'Curves without VA'!O38)*(1+O38)/(1+'Curves without VA'!F38)-1","v":6.9746354877868733E-2},{"$f":"(1+'Curves without VA'!P38)*(1+P38)/(1+'Curves without VA'!G38)-1","v":7.2444143627827362E-2},{"$f":"(1+'Curves without VA'!Q38)*(1+Q38)/(1+'Curves without VA'!H38)-1","v":7.2460270353737588E-2},{"$f":"(1+'Curves without VA'!R38)*(1+R38)/(1+'Curves without VA'!I38)-1","v":0.10413679112329932},{"$f":"(1+'Curves without VA'!S38)*(1+S38)/(1+'Curves without VA'!J38)-1","v":8.3428202129189222E-2},{"$f":"(1+'Curves without VA'!T38)*(1+K38)/(1+'Curves without VA'!B38)-1","v":1.4441020183790121E-2},{"$f":"(1+'Curves without VA'!U38)*(1+L38)/(1+'Curves without VA'!C38)-1","v":2.5429124278893767E-2},{"$f":"(1+'Curves without VA'!V38)*(1+M38)/(1+'Curves without VA'!D38)-1","v":1.1149172600090074E-2},{"$f":"(1+'Curves without VA'!W38)*(1+N38)/(1+'Curves without VA'!E38)-1","v":2.2148221724448636E-2},{"$f":"(1+'Curves without VA'!X38)*(1+O38)/(1+'Curves without VA'!F38)-1","v":2.2917530633259853E-2},{"$f":"(1+'Curves without VA'!Y38)*(1+P38)/(1+'Curves without VA'!G38)-1","v":2.2909609228571659E-2},{"$f":"(1+'Curves without VA'!Z38)*(1+Q38)/(1+'Curves without VA'!H38)-1","v":3.6215484808124865E-2},{"$f":"(1+'Curves without VA'!AA38)*(1+R38)/(1+'Curves without VA'!I38)-1","v":4.6369111786508599E-2},{"$f":"(1+'Curves without VA'!AB38)*(1+S38)/(1+'Curves without VA'!J38)-1","v":4.2172797672506812E-2}]
[26,{"$f":"($A39*LN(1+'Curves without VA'!B39)-IF(ISNUMBER($A38),$A38*LN(1+'Curves without VA'!B38),0)+($A39<=B$2)*LN(1+B$5/10000)+IF(ISNUMBER($A38),$A38*B38))/$A39","v":3.4068221986848966E-2},{"$f":"($A39*LN(1+'Curves without VA'!C39)-IF(ISNUMBER($A38),$A38*LN(1+'Curves without VA'!C38),0)+($A39<=C$2)*LN(1+C$5/10000)+IF(ISNUMBER($A38),$A38*C38))/$A39","v":3.9469507141303255E-2},{"$f":"($A39*LN(1+'Curves without VA'!D39)-IF(ISNUMBER($A38),$A38*LN(1+'Curves without VA'!D38),0)+($A39<=D$2)*LN(1+D$5/10000)+IF(ISNUMBER($A38),$A38*D38))/$A39","v":3.0850398232894691E-2},{"$f":"($A39*LN(1+'Curves without VA'!E39)-IF(ISNUMBER($A38),$A38*LN(1+'Curves without VA'!E38),0)+($A39<=E$2)*LN(1+E$5/10000)+IF(ISNUMBER($A38),$A38*E38))/$A39","v":4.803708729758048E-2},{"$f":"($A39*LN(1+'Curves without VA'!F39)-IF(ISNUMBER($A38),$A38*LN(1+'Curves without VA'!F38),0)+($A39<=F$2)*LN(1+F$5/10000)+IF(ISNUMBER($A38),$A38*F38))/$A39","v":5.0394837155162429E-2},{"$f":"($A39*LN(1+'Curves without VA'!G39)-IF(ISNUMBER($A38),$A38*LN(1+'Curves without VA'!G38),0)+($A39<=G$2)*LN(1+G$5/10000)+IF(ISNUMBER($A38),$A38*G38))/$A39","v":5.2022861661356661E-2},{"$f":"($A39*LN(1+'Curves without VA'!H39)-IF(ISNUMBER($A38),$A38*LN(1+'Curves without VA'!H38),0)+($A39<=H$2)*LN(1+H$5/10000)+IF(ISNUMBER($A38),$A38*H38))/$A39","v":3.9898664433275395E-2},{"$f":"($A39*LN(1+'Curves without VA'!I39)-IF(ISNUMBER($A38),$A38*LN(1+'Curves without VA'!I38),0)+($A39<=I$2)*LN(1+I$5/10000)+IF(ISNUMBER($A38),$A38*I38))/$A39","v":5.6014629371267034E-2},{"$f":"($A39*LN(1+'Curves without VA'!J39)-IF(ISNUMBER($A38),$A38*LN(1+'Curves without VA'!J38),0)+($A39<=J$2)*LN(1+J$5/10000)+IF(ISNUMBER($A38),$A38*J38))/$A39","v":4.5239126494411384E-2},3.4828845445132428E-2,4.436475963284181E-2,3.1331203374500127E-2,4.9209566950336292E-2,5.1686259220486308E-2,5.3399824708149968E-2,4.9153493100953849E-2,6.9635715034018553E-2,5.6500267778945901E-2,{"$f":"(1+'Curves without VA'!K39)*(1+K39)/(1+'Curves without VA'!B39)-1","v":4.9329760318578275E-2},{"$f":"(1+'Curves without VA'!L39)*(1+L39)/(1+'Curves without VA'!C39)-1","v":6.5327865887425229E-2},{"$f":"(1+'Curves without VA'!M39)*(1+M39)/(1+'Curves without VA'!D39)-1","v":4.5420200136889965E-2},{"$f":"(1+'Curves without VA'!N39)*(1+N39)/(1+'Curves without VA'!E39)-1","v":6.6333978279410344E-2},{"$f":"(1+'Curves without VA'!O39)*(1+O39)/(1+'Curves without VA'!F39)-1","v":6.9506113208993359E-2},{"$f":"(1+'Curves without VA'!P39)*(1+P39)/(1+'Curves without VA'!G39)-1","v":7.1975977643942812E-2},{"$f":"(1+'Curves without VA'!Q39)*(1+Q39)/(1+'Curves without VA'!H39)-1","v":7.1460876689855901E-2},{"$f":"(1+'Curves without VA'!R39)*(1+R39)/(1+'Curves without VA'!I39)-1","v":0.10301541073127707},{"$f":"(1+'Curves without VA'!S39)*(1+S39)/(1+'Curves without VA'!J39)-1","v":8.2075648592592643E-2},{"$f":"(1+'Curves without VA'!T39)*(1+K39)/(1+'Curves without VA'!B39)-1","v":1.4667513896099216E-2},{"$f":"(1+'Curves without VA'!U39)*(1+L39)/(1+'Curves without VA'!C39)-1","v":2.5678687124025545E-2},{"$f":"(1+'Curves without VA'!V39)*(1+M39)/(1+'Curves without VA'!D39)-1","v":1.1418984949760125E-2},{"$f":"(1+'Curves without VA'!W39)*(1+N39)/(1+'Curves without VA'!E39)-1","v":2.2179221036161323E-2},{"$f":"(1+'Curves without VA'!X39)*(1+O39)/(1+'Curves without VA'!F39)-1","v":2.300266626583336E-2},{"$f":"(1+'Curves without VA'!Y39)*(1+P39)/(1+'Curves without VA'!G39)-1","v":2.2904750609912261E-2},{"$f":"(1+'Curves without VA'!Z39)*(1+Q39)/(1+'Curves without VA'!H39)-1","v":3.6193827620342844E-2},{"$f":"(1+'Curves without VA'!AA39)*(1+R39)/(1+'Curves without VA'!I39)-1","v":4.6593423587630411E-2},{"$f":"(1+'Curves without VA'!AB39)*(1+S39)/(1+'Curves without VA'!J39)-1","v":4.197891910224838E-2}]
[27,{"$f":"($A40*LN(1+'Curves without VA'!B40)-IF(ISNUMBER($A39),$A39*LN(1+'Curves without VA'!B39),0)+($A40<=B$2)*LN(1+B$5/10000)+IF(ISNUMBER($A39),$A39*B39))/$A40","v":3.4004928002762558E-2},{"$f":"($A40*LN(1+'Curves without VA'!C40)-IF(ISNUMBER($A39),$A39*LN(1+'Curves without VA'!C39),0)+($A40<=C$2)*LN(1+C$5/10000)+IF(ISNUMBER($A39),$A39*C39))/$A40","v":3.9207856282449119E-2},{"$f":"($A40*LN(1+'Curves without VA'!D40)-IF(ISNUMBER($A39),$A39*LN(1+'Curves without VA'!D39),0)+($A40<=D$2)*LN(1+D$5/10000)+IF(ISNUMBER($A39),$A39*D39))/$A40","v":3.1167715691921182E-2},{"$f":"($A40*LN(1+'Curves without VA'!E40)-IF(ISNUMBER($A39),$A39*LN(1+'Curves without VA'!E39),0)+($A40<=E$2)*LN(1+E$5/10000)+IF(ISNUMBER($A39),$A39*E39))/$A40","v":4.7909108961324727E-2},{"$f":"($A40*LN(1+'Curves without VA'!F40)-IF(ISNUMBER($A39),$A39*LN(1+'Curves without VA'!F39),0)+($A40<=F$2)*LN(1+F$5/10000)+IF(ISNUMBER($A39),$A39*F39))/$A40","v":5.0366579162764415E-2},{"$f":"($A40*LN(1+'Curves without VA'!G40)-IF(ISNUMBER($A39),$A39*LN(1+'Curves without VA'!G39),0)+($A40<=G$2)*LN(1+G$5/10000)+IF(ISNUMBER($A39),$A39*G39))/$A40","v":5.1830196536987533E-2},{"$f":"($A40*LN(1+'Curves without VA'!H40)-IF(ISNUMBER($A39),$A39*LN(1+'Curves without VA'!H39),0)+($A40<=H$2)*LN(1+H$5/10000)+IF(ISNUMBER($A39),$A39*H39))/$A40","v":3.9622094322532594E-2},{"$f":"($A40*LN(1+'Curves without VA'!I40)-IF(ISNUMBER($A39),$A39*LN(1+'Curves without VA'!I39),0)+($A40<=I$2)*LN(1+I$5/10000)+IF(ISNUMBER($A39),$A39*I39))/$A40","v":5.5370757777665515E-2},{"$f":"($A40*LN(1+'Curves without VA'!J40)-IF(ISNUMBER($A39),$A39*LN(1+'Curves without VA'!J39),0)+($A40<=J$2)*LN(1+J$5/10000)+IF(ISNUMBER($A39),$A39*J39))/$A40","v":4.4764761492515438E-2},3.4775551772449287E-2,4.4114503524642412E-2,3.1658514699422158E-2,4.9075299447423504E-2,5.1656541098057396E-2,5.3196890849678269E-2,4.8726055626313158E-2,6.9014700990981837E-2,5.5832971165251877E-2,{"$f":"(1+'Curves without VA'!K40)*(1+K40)/(1+'Curves without VA'!B40)-1","v":4.8920149754625664E-2},{"$f":"(1+'Curves without VA'!L40)*(1+L40)/(1+'Curves without VA'!C40)-1","v":6.4681215182007756E-2},{"$f":"(1+'Curves without VA'!M40)*(1+M40)/(1+'Curves without VA'!D40)-1","v":4.5321569016300911E-2},{"$f":"(1+'Curves without VA'!N40)*(1+N40)/(1+'Curves without VA'!E40)-1","v":6.5539478231382509E-2},{"$f":"(1+'Curves without VA'!O40)*(1+O40)/(1+'Curves without VA'!F40)-1","v":6.8806403768649549E-2},{"$f":"(1+'Curves without VA'!P40)*(1+P40)/(1+'Curves without VA'!G40)-1","v":7.10320401781106E-2},{"$f":"(1+'Curves without VA'!Q40)*(1+Q40)/(1+'Curves without VA'!H40)-1","v":7.0487619839028959E-2},{"$f":"(1+'Curves without VA'!R40)*(1+R40)/(1+'Curves without VA'!I40)-1","v":0.10185030388907879},{"$f":"(1+'Curves without VA'!S40)*(1+S40)/(1+'Curves without VA'!J40)-1","v":8.0767525821800357E-2},{"$f":"(1+'Curves without VA'!T40)*(1+K40)/(1+'Curves without VA'!B40)-1","v":1.4919844231287005E-2},{"$f":"(1+'Curves without VA'!U40)*(1+L40)/(1+'Curves without VA'!C40)-1","v":2.5908139479944525E-2},{"$f":"(1+'Curves without VA'!V40)*(1+M40)/(1+'Curves without VA'!D40)-1","v":1.1378713883728464E-2},{"$f":"(1+'Curves without VA'!W40)*(1+N40)/(1+'Curves without VA'!E40)-1","v":2.178591749028902E-2},{"$f":"(1+'Curves without VA'!X40)*(1+O40)/(1+'Curves without VA'!F40)-1","v":2.2626574116086928E-2},{"$f":"(1+'Curves without VA'!Y40)*(1+P40)/(1+'Curves without VA'!G40)-1","v":2.2412074324348774E-2},{"$f":"(1+'Curves without VA'!Z40)*(1+Q40)/(1+'Curves without VA'!H40)-1","v":3.615771441585669E-2},{"$f":"(1+'Curves without VA'!AA40)*(1+R40)/(1+'Curves without VA'!I40)-1","v":4.6755940313823796E-2},{"$f":"(1+'Curves without VA'!AB40)*(1+S40)/(1+'Curves without VA'!J40)-1","v":4.1777503624559342E-2}]
[28,{"$f":"($A41*LN(1+'Curves without VA'!B41)-IF(ISNUMBER($A40),$A40*LN(1+'Curves without VA'!B40),0)+($A41<=B$2)*LN(1+B$5/10000)+IF(ISNUMBER($A40),$A40*B40))/$A41","v":3.3946556449422891E-2},{"$f":"($A41*LN(1+'Curves without VA'!C41)-IF(ISNUMBER($A40),$A40*LN(1+'Curves without VA'!C40),0)+($A41<=C$2)*LN(1+C$5/10000)+IF(ISNUMBER($A40),$A40*C40))/$A41","v":3.8965126376704996E-2},{"$f":"($A41*LN(1+'Curves without VA'!D41)-IF(ISNUMBER($A40),$A40*LN(1+'Curves without VA'!D40),0)+($A41<=D$2)*LN(1+D$5/10000)+IF(ISNUMBER($A40),$A40*D40))/$A41","v":3.1462367618159889E-2},{"$f":"($A41*LN(1+'Curves without VA'!E41)-IF(ISNUMBER($A40),$A40*LN(1+'Curves without VA'!E40),0)+($A41<=E$2)*LN(1+E$5/10000)+IF(ISNUMBER($A40),$A40*E40))/$A41","v":4.7790271934801419E-2},{"$f":"($A41*LN(1+'Curves without VA'!F41)-IF(ISNUMBER($A40),$A40*LN(1+'Curves without VA'!F40),0)+($A41<=F$2)*LN(1+F$5/10000)+IF(ISNUMBER($A40),$A40*F40))/$A41","v":5.0340339598394769E-2},{"$f":"($A41*LN(1+'Curves without VA'!G41)-IF(ISNUMBER($A40),$A40*LN(1+'Curves without VA'!G40),0)+($A41<=G$2)*LN(1+G$5/10000)+IF(ISNUMBER($A40),$A40*G40))/$A41","v":5.1651293207216113E-2},{"$f":"($A41*LN(1+'Curves without VA'!H41)-IF(ISNUMBER($A40),$A40*LN(1+'Curves without VA'!H40),0)+($A41<=H$2)*LN(1+H$5/10000)+IF(ISNUMBER($A40),$A40*H40))/$A41","v":3.9365412844766072E-2},{"$f":"($A41*LN(1+'Curves without VA'!I41)-IF(ISNUMBER($A40),$A40*LN(1+'Curves without VA'!I40),0)+($A41<=I$2)*LN(1+I$5/10000)+IF(ISNUMBER($A40),$A40*I40))/$A41","v":5.4782221609086232E-2},{"$f":"($A41*LN(1+'Curves without VA'!J41)-IF(ISNUMBER($A40),$A40*LN(1+'Curves without VA'!J40),0)+($A41<=J$2)*LN(1+J$5/10000)+IF(ISNUMBER($A40),$A40*J40))/$A41","v":4.4324413330106706E-2},3.4724610942371115E-2,4.3864813860684748E-2,3.1962539656569033E-2,4.8950637865590618E-2,5.1628946450589908E-2,5.3008487272516502E-2,4.8311700495558663E-2,6.8396649668830856E-2,5.5192377533391568E-2,{"$f":"(1+'Curves without VA'!K41)*(1+K41)/(1+'Curves without VA'!B41)-1","v":4.8525539466082845E-2},{"$f":"(1+'Curves without VA'!L41)*(1+L41)/(1+'Curves without VA'!C41)-1","v":6.4029761449827305E-2},{"$f":"(1+'Curves without VA'!M41)*(1+M41)/(1+'Curves without VA'!D41)-1","v":4.5489058924448544E-2},{"$f":"(1+'Curves without VA'!N41)*(1+N41)/(1+'Curves without VA'!E41)-1","v":6.5187412017364776E-2},{"$f":"(1+'Curves without VA'!O41)*(1+O41)/(1+'Curves without VA'!F41)-1","v":6.8571930325213915E-2},{"$f":"(1+'Curves without VA'!P41)*(1+P41)/(1+'Curves without VA'!G41)-1","v":7.0603345099745196E-2},{"$f":"(1+'Curves without VA'!Q41)*(1+Q41)/(1+'Curves without VA'!H41)-1","v":6.9542621564134599E-2},{"$f":"(1+'Curves without VA'!R41)*(1+R41)/(1+'Curves without VA'!I41)-1","v":0.10065923623221851},{"$f":"(1+'Curves without VA'!S41)*(1+S41)/(1+'Curves without VA'!J41)-1","v":7.9504847475143858E-2},{"$f":"(1+'Curves without VA'!T41)*(1+K41)/(1+'Curves without VA'!B41)-1","v":1.5190989761531215E-2},{"$f":"(1+'Curves without VA'!U41)*(1+L41)/(1+'Curves without VA'!C41)-1","v":2.6119798082272494E-2},{"$f":"(1+'Curves without VA'!V41)*(1+M41)/(1+'Curves without VA'!D41)-1","v":1.1621795758587572E-2},{"$f":"(1+'Curves without VA'!W41)*(1+N41)/(1+'Curves without VA'!E41)-1","v":2.1827939396827478E-2},{"$f":"(1+'Curves without VA'!X41)*(1+O41)/(1+'Curves without VA'!F41)-1","v":2.2714146591777284E-2},{"$f":"(1+'Curves without VA'!Y41)*(1+P41)/(1+'Curves without VA'!G41)-1","v":2.2423888018082705E-2},{"$f":"(1+'Curves without VA'!Z41)*(1+Q41)/(1+'Curves without VA'!H41)-1","v":3.6110308663939827E-2},{"$f":"(1+'Curves without VA'!AA41)*(1+R41)/(1+'Curves without VA'!I41)-1","v":4.6867802438506745E-2},{"$f":"(1+'Curves without VA'!AB41)*(1+S41)/(1+'Curves without VA'!J41)-1","v":4.1571569205853587E-2}]
[29,{"$f":"($A42*LN(1+'Curves without VA'!B42)-IF(ISNUMBER($A41),$A41*LN(1+'Curves without VA'!B41),0)+($A42<=B$2)*LN(1+B$5/10000)+IF(ISNUMBER($A41),$A41*B41))/$A42","v":3.3892557736270555E-2},{"$f":"($A42*LN(1+'Curves without VA'!C42)-IF(ISNUMBER($A41),$A41*LN(1+'Curves without VA'!C41),0)+($A42<=C$2)*LN(1+C$5/10000)+IF(ISNUMBER($A41),$A41*C41))/$A42","v":3.8739336790561227E-2},{"$f":"($A42*LN(1+'Curves without VA'!D42)-IF(ISNUMBER($A41),$A41*LN(1+'Curves without VA'!D41),0)+($A42<=D$2)*LN(1+D$5/10000)+IF(ISNUMBER($A41),$A41*D41))/$A42","v":3.1736698721899555E-2},{"$f":"($A42*LN(1+'Curves without VA'!E42)-IF(ISNUMBER($A41),$A41*LN(1+'Curves without VA'!E41),0)+($A42<=E$2)*LN(1+E$5/10000)+IF(ISNUMBER($A41),$A41*E41))/$A42","v":4.7679630565279851E-2},{"$f":"($A42*LN(1+'Curves without VA'!F42)-IF(ISNUMBER($A41),$A41*LN(1+'Curves without VA'!F41),0)+($A42<=F$2)*LN(1+F$5/10000)+IF(ISNUMBER($A41),$A41*F41))/$A42","v":5.0315909659154057E-2},{"$f":"($A42*LN(1+'Curves without VA'!G42)-IF(ISNUMBER($A41),$A41*LN(1+'Curves without VA'!G41),0)+($A42<=G$2)*LN(1+G$5/10000)+IF(ISNUMBER($A41),$A41*G41))/$A42","v":5.1484728038118613E-2},{"$f":"($A42*LN(1+'Curves without VA'!H42)-IF(ISNUMBER($A41),$A41*LN(1+'Curves without VA'!H41),0)+($A42<=H$2)*LN(1+H$5/10000)+IF(ISNUMBER($A41),$A41*H41))/$A42","v":3.9126549115986037E-2},{"$f":"($A42*LN(1+'Curves without VA'!I42)-IF(ISNUMBER($A41),$A41*LN(1+'Curves without VA'!I41),0)+($A42<=I$2)*LN(1+I$5/10000)+IF(ISNUMBER($A41),$A41*I41))/$A42","v":5.4242356688303267E-2},{"$f":"($A42*LN(1+'Curves without VA'!J42)-IF(ISNUMBER($A41),$A41*LN(1+'Curves without VA'!J41),0)+($A42<=J$2)*LN(1+J$5/10000)+IF(ISNUMBER($A41),$A41*J41))/$A42","v":4.3914549584590651E-2},3.4675925964674059E-2,4.3617383685615518E-2,3.2245677914130688E-2,4.8834586950591063E-2,5.1603255533139381E-2,5.2833107342272312E-2,4.7910847404385004E-2,6.7785480590063951E-2,5.4577866374255546E-2,{"$f":"(1+'Curves without VA'!K42)*(1+K42)/(1+'Curves without VA'!B42)-1","v":4.8145825784596585E-2},{"$f":"(1+'Curves without VA'!L42)*(1+L42)/(1+'Curves without VA'!C42)-1","v":6.3379211683772363E-2},{"$f":"(1+'Curves without VA'!M42)*(1+M42)/(1+'Curves without VA'!D42)-1","v":4.5327833646956472E-2},{"$f":"(1+'Curves without VA'!N42)*(1+N42)/(1+'Curves without VA'!E42)-1","v":6.4418703840709135E-2},{"$f":"(1+'Curves without VA'!O42)*(1+O42)/(1+'Curves without VA'!F42)-1","v":6.7877923839767096E-2},{"$f":"(1+'Curves without VA'!P42)*(1+P42)/(1+'Curves without VA'!G42)-1","v":6.9698415060726715E-2},{"$f":"(1+'Curves without VA'!Q42)*(1+Q42)/(1+'Curves without VA'!H42)-1","v":6.8627204674819309E-2},{"$f":"(1+'Curves without VA'!R42)*(1+R42)/(1+'Curves without VA'!I42)-1","v":9.9456183449205149E-2},{"$f":"(1+'Curves without VA'!S42)*(1+S42)/(1+'Curves without VA'!J42)-1","v":7.828788890823879E-2},{"$f":"(1+'Curves without VA'!T42)*(1+K42)/(1+'Curves without VA'!B42)-1","v":1.5475324572644222E-2},{"$f":"(1+'Curves without VA'!U42)*(1+L42)/(1+'Curves without VA'!C42)-1","v":2.6315644161142515E-2},{"$f":"(1+'Curves without VA'!V42)*(1+M42)/(1+'Curves without VA'!D42)-1","v":1.1955251029641456E-2},{"$f":"(1+'Curves without VA'!W42)*(1+N42)/(1+'Curves without VA'!E42)-1","v":2.197462116677773E-2},{"$f":"(1+'Curves without VA'!X42)*(1+O42)/(1+'Curves without VA'!F42)-1","v":2.2903155780575446E-2},{"$f":"(1+'Curves without VA'!Y42)*(1+P42)/(1+'Curves without VA'!G42)-1","v":2.254218620086812E-2},{"$f":"(1+'Curves without VA'!Z42)*(1+Q42)/(1+'Curves without VA'!H42)-1","v":3.6054175362923546E-2},{"$f":"(1+'Curves without VA'!AA42)*(1+R42)/(1+'Curves without VA'!I42)-1","v":4.693816614470725E-2},{"$f":"(1+'Curves without VA'!AB42)*(1+S42)/(1+'Curves without VA'!J42)-1","v":4.1363494483059871E-2}]
[30,{"$f":"($A43*LN(1+'Curves without VA'!B43)-IF(ISNUMBER($A42),$A42*LN(1+'Curves without VA'!B42),0)+($A43<=B$2)*LN(1+B$5/10000)+IF(ISNUMBER($A42),$A42*B42))/$A43","v":3.3842459616852047E-2},{"$f":"($A43*LN(1+'Curves without VA'!C43)-IF(ISNUMBER($A42),$A42*LN(1+'Curves without VA'!C42),0)+($A43<=C$2)*LN(1+C$5/10000)+IF(ISNUMBER($A42),$A42*C42))/$A43","v":3.8528773320488124E-2},{"$f":"($A43*LN(1+'Curves without VA'!D43)-IF(ISNUMBER($A42),$A42*LN(1+'Curves without VA'!D42),0)+($A43<=D$2)*LN(1+D$5/10000)+IF(ISNUMBER($A42),$A42*D42))/$A43","v":3.1992741085389728E-2},{"$f":"($A43*LN(1+'Curves without VA'!E43)-IF(ISNUMBER($A42),$A42*LN(1+'Curves without VA'!E42),0)+($A43<=E$2)*LN(1+E$5/10000)+IF(ISNUMBER($A42),$A42*E42))/$A43","v":4.7576365287059622E-2},{"$f":"($A43*LN(1+'Curves without VA'!F43)-IF(ISNUMBER($A42),$A42*LN(1+'Curves without VA'!F42),0)+($A43<=F$2)*LN(1+F$5/10000)+IF(ISNUMBER($A42),$A42*F42))/$A43","v":5.0293108382529421E-2},{"$f":"($A43*LN(1+'Curves without VA'!G43)-IF(ISNUMBER($A42),$A42*LN(1+'Curves without VA'!G42),0)+($A43<=G$2)*LN(1+G$5/10000)+IF(ISNUMBER($A42),$A42*G42))/$A43","v":5.1329267213627613E-2},{"$f":"($A43*LN(1+'Curves without VA'!H43)-IF(ISNUMBER($A42),$A42*LN(1+'Curves without VA'!H42),0)+($A43<=H$2)*LN(1+H$5/10000)+IF(ISNUMBER($A42),$A42*H42))/$A43","v":3.8903709723310011E-2},{"$f":"($A43*LN(1+'Curves without VA'!I43)-IF(ISNUMBER($A42),$A42*LN(1+'Curves without VA'!I42),0)+($A43<=I$2)*LN(1+I$5/10000)+IF(ISNUMBER($A42),$A42*I42))/$A43","v":5.3745482029271853E-2},{"$f":"($A43*LN(1+'Curves without VA'!J43)-IF(ISNUMBER($A42),$A42*LN(1+'Curves without VA'!J42),0)+($A43<=J$2)*LN(1+J$5/10000)+IF(ISNUMBER($A42),$A42*J42))/$A43","v":4.35321101762947E-2},3.4629398020789015E-2,4.337350296056508E-2,3.2510010375916387E-2,4.8726284347208271E-2,5.1579277909771903E-2,5.2669445761165168E-2,4.7523679754444048E-2,6.7184159449945602E-2,5.3988680904425213E-2,{"$f":"(1+'Curves without VA'!K43)*(1+K43)/(1+'Curves without VA'!B43)-1","v":4.7780771647371489E-2},{"$f":"(1+'Curves without VA'!L43)*(1+L43)/(1+'Curves without VA'!C43)-1","v":6.2733980400950795E-2},{"$f":"(1+'Curves without VA'!M43)*(1+M43)/(1+'Curves without VA'!D43)-1","v":4.5544842456099355E-2},{"$f":"(1+'Curves without VA'!N43)*(1+N43)/(1+'Curves without VA'!E43)-1","v":6.4188127866650069E-2},{"$f":"(1+'Curves without VA'!O43)*(1+O43)/(1+'Curves without VA'!F43)-1","v":6.7748608731726279E-2},{"$f":"(1+'Curves without VA'!P43)*(1+P43)/(1+'Curves without VA'!G43)-1","v":6.9401657788398019E-2},{"$f":"(1+'Curves without VA'!Q43)*(1+Q43)/(1+'Curves without VA'!H43)-1","v":6.7742078444862575E-2},{"$f":"(1+'Curves without VA'!R43)*(1+R43)/(1+'Curves without VA'!I43)-1","v":9.825209710478422E-2},{"$f":"(1+'Curves without VA'!S43)*(1+S43)/(1+'Curves without VA'!J43)-1","v":7.7116372641049757E-2},{"$f":"(1+'Curves without VA'!T43)*(1+K43)/(1+'Curves without VA'!B43)-1","v":1.5768342188454021E-2},{"$f":"(1+'Curves without VA'!U43)*(1+L43)/(1+'Curves without VA'!C43)-1","v":2.6497380888695243E-2},{"$f":"(1+'Curves without VA'!V43)*(1+M43)/(1+'Curves without VA'!D43)-1","v":1.2179677431680691E-2},{"$f":"(1+'Curves without VA'!W43)*(1+N43)/(1+'Curves without VA'!E43)-1","v":2.2024331793187857E-2},{"$f":"(1+'Curves without VA'!X43)*(1+O43)/(1+'Curves without VA'!F43)-1","v":2.2992428257592845E-2},{"$f":"(1+'Curves without VA'!Y43)*(1+P43)/(1+'Curves without VA'!G43)-1","v":2.2565628632747581E-2},{"$f":"(1+'Curves without VA'!Z43)*(1+Q43)/(1+'Curves without VA'!H43)-1","v":3.5991396973823253E-2},{"$f":"(1+'Curves without VA'!AA43)*(1+R43)/(1+'Curves without VA'!I43)-1","v":4.6974577094718972E-2},{"$f":"(1+'Curves without VA'!AB43)*(1+S43)/(1+'Curves without VA'!J43)-1","v":4.1155147756972044E-2}]
[31,{"$f":"($A44*LN(1+'Curves without VA'!B44)-IF(ISNUMBER($A43),$A43*LN(1+'Curves without VA'!B43),0)+($A44<=B$2)*LN(1+B$5/10000)+IF(ISNUMBER($A43),$A43*B43))/$A44","v":3.3795854304151815E-2},{"$f":"($A44*LN(1+'Curves without VA'!C44)-IF(ISNUMBER($A43),$A43*LN(1+'Curves without VA'!C43),0)+($A44<=C$2)*LN(1+C$5/10000)+IF(ISNUMBER($A43),$A43*C43))/$A44","v":3.8331944983916073E-2},{"$f":"($A44*LN(1+'Curves without VA'!D44)-IF(ISNUMBER($A43),$A43*LN(1+'Curves without VA'!D43),0)+($A44<=D$2)*LN(1+D$5/10000)+IF(ISNUMBER($A43),$A43*D43))/$A44","v":3.1999654174321983E-2},{"$f":"($A44*LN(1+'Curves without VA'!E44)-IF(ISNUMBER($A43),$A43*LN(1+'Curves without VA'!E43),0)+($A44<=E$2)*LN(1+E$5/10000)+IF(ISNUMBER($A43),$A43*E43))/$A44","v":4.7082237857661212E-2},{"$f":"($A44*LN(1+'Curves without VA'!F44)-IF(ISNUMBER($A43),$A43*LN(1+'Curves without VA'!F43),0)+($A44<=F$2)*LN(1+F$5/10000)+IF(ISNUMBER($A43),$A43*F43))/$A44","v":5.0108006649226752E-2},{"$f":"($A44*LN(1+'Curves without VA'!G44)-IF(ISNUMBER($A43),$A43*LN(1+'Curves without VA'!G43),0)+($A44<=G$2)*LN(1+G$5/10000)+IF(ISNUMBER($A43),$A43*G43))/$A44","v":5.0714078431759194E-2},{"$f":"($A44*LN(1+'Curves without VA'!H44)-IF(ISNUMBER($A43),$A43*LN(1+'Curves without VA'!H43),0)+($A44<=H$2)*LN(1+H$5/10000)+IF(ISNUMBER($A43),$A43*H43))/$A44","v":3.8695333835144875E-2},{"$f":"($A44*LN(1+'Curves without VA'!I44)-IF(ISNUMBER($A43),$A43*LN(1+'Curves without VA'!I43),0)+($A44<=I$2)*LN(1+I$5/10000)+IF(ISNUMBER($A43),$A43*I43))/$A44","v":5.3286731718239451E-2},{"$f":"($A44*LN(1+'Curves without VA'!J44)-IF(ISNUMBER($A43),$A43*LN(1+'Curves without VA'!J43),0)+($A44<=J$2)*LN(1+J$5/10000)+IF(ISNUMBER($A43),$A43*J43))/$A44","v":4.3174431047710592E-2},3.4584928248905467E-2,4.3134141526420366E-2,3.2743357616565882E-2,4.8603244982554417E-2,5.1384646776561294E-2,5.2490519037831307E-2,4.7150201155369054E-2,6.6594895883781868E-2,5.342397254118203E-2,{"$f":"(1+'Curves without VA'!K44)*(1+K44)/(1+'Curves without VA'!B44)-1","v":4.7430043125167298E-2},{"$f":"(1+'Curves without VA'!L44)*(1+L44)/(1+'Curves without VA'!C44)-1","v":6.2097452072775949E-2},{"$f":"(1+'Curves without VA'!M44)*(1+M44)/(1+'Curves without VA'!D44)-1","v":4.5774959579853336E-2},{"$f":"(1+'Curves without VA'!N44)*(1+N44)/(1+'Curves without VA'!E44)-1","v":6.3953954959770964E-2},{"$f":"(1+'Curves without VA'!O44)*(1+O44)/(1+'Curves without VA'!F44)-1","v":6.7615593331873391E-2},{"$f":"(1+'Curves without VA'!P44)*(1+P44)/(1+'Curves without VA'!G44)-1","v":6.9234533260568165E-2},{"$f":"(1+'Curves without VA'!Q44)*(1+Q44)/(1+'Curves without VA'!H44)-1","v":6.6887482751404326E-2},{"$f":"(1+'Curves without VA'!R44)*(1+R44)/(1+'Curves without VA'!I44)-1","v":9.7055509867230993E-2},{"$f":"(1+'Curves without VA'!S44)*(1+S44)/(1+'Curves without VA'!J44)-1","v":7.5989611383284084E-2},{"$f":"(1+'Curves without VA'!T44)*(1+K44)/(1+'Curves without VA'!B44)-1","v":1.6066437535805056E-2},{"$f":"(1+'Curves without VA'!U44)*(1+L44)/(1+'Curves without VA'!C44)-1","v":2.6666479570896628E-2},{"$f":"(1+'Curves without VA'!V44)*(1+M44)/(1+'Curves without VA'!D44)-1","v":1.2489760186827237E-2},{"$f":"(1+'Curves without VA'!W44)*(1+N44)/(1+'Curves without VA'!E44)-1","v":2.2215914599093445E-2},{"$f":"(1+'Curves without VA'!X44)*(1+O44)/(1+'Curves without VA'!F44)-1","v":2.3001493584983823E-2},{"$f":"(1+'Curves without VA'!Y44)*(1+P44)/(1+'Curves without VA'!G44)-1","v":2.2870310420989304E-2},{"$f":"(1+'Curves without VA'!Z44)*(1+Q44)/(1+'Curves without VA'!H44)-1","v":3.5923665329291588E-2},{"$f":"(1+'Curves without VA'!AA44)*(1+R44)/(1+'Curves without VA'!I44)-1","v":4.6983268082733121E-2},{"$f":"(1+'Curves without VA'!AB44)*(1+S44)/(1+'Curves without VA'!J44)-1","v":4.0947988792628731E-2}]
[32,{"$f":"($A45*LN(1+'Curves without VA'!B45)-IF(ISNUMBER($A44),$A44*LN(1+'Curves without VA'!B44),0)+($A45<=B$2)*LN(1+B$5/10000)+IF(ISNUMBER($A44),$A44*B44))/$A45","v":3.3752388043154766E-2},{"$f":"($A45*LN(1+'Curves without VA'!C45)-IF(ISNUMBER($A44),$A44*LN(1+'Curves without VA'!C44),0)+($A45<=C$2)*LN(1+C$5/10000)+IF(ISNUMBER($A44),$A44*C44))/$A45","v":3.8147548935769451E-2},{"$f":"($A45*LN(1+'Curves without VA'!D45)-IF(ISNUMBER($A44),$A44*LN(1+'Curves without VA'!D44),0)+($A45<=D$2)*LN(1+D$5/10000)+IF(ISNUMBER($A44),$A44*D44))/$A45","v":3.2003829289176625E-2},{"$f":"($A45*LN(1+'Curves without VA'!E45)-IF(ISNUMBER($A44),$A44*LN(1+'Curves without VA'!E44),0)+($A45<=E$2)*LN(1+E$5/10000)+IF(ISNUMBER($A44),$A44*E44))/$A45","v":4.6619672994014295E-2},{"$f":"($A45*LN(1+'Curves without VA'!F45)-IF(ISNUMBER($A44),$A44*LN(1+'Curves without VA'!F44),0)+($A45<=F$2)*LN(1+F$5/10000)+IF(ISNUMBER($A44),$A44*F44))/$A45","v":4.9934473774255375E-2},{"$f":"($A45*LN(1+'Curves without VA'!G45)-IF(ISNUMBER($A44),$A44*LN(1+'Curves without VA'!G44),0)+($A45<=G$2)*LN(1+G$5/10000)+IF(ISNUMBER($A44),$A44*G44))/$A45","v":5.0138018550171769E-2},{"$f":"($A45*LN(1+'Curves without VA'!H45)-IF(ISNUMBER($A44),$A44*LN(1+'Curves without VA'!H44),0)+($A45<=H$2)*LN(1+H$5/10000)+IF(ISNUMBER($A44),$A44*H44))/$A45","v":3.8500056741973009E-2},{"$f":"($A45*LN(1+'Curves without VA'!I45)-IF(ISNUMBER($A44),$A44*LN(1+'Curves without VA'!I44),0)+($A45<=I$2)*LN(1+I$5/10000)+IF(ISNUMBER($A44),$A44*I44))/$A45","v":5.286191927980164E-2},{"$f":"($A45*LN(1+'Curves without VA'!J45)-IF(ISNUMBER($A44),$A44*LN(1+'Curves without VA'!J44),0)+($A45<=J$2)*LN(1+J$5/10000)+IF(ISNUMBER($A44),$A44*J44))/$A45","v":4.2839182166646041E-2},3.454241904367028E-2,4.2900014704397638E-2,3.2936952663750629E-2,4.8448755390159581E-2,5.1202212805709024E-2,5.227624297938771E-2,4.679027945326375E-2,6.6019299735254E-2,5.2882834712228988E-2,{"$f":"(1+'Curves without VA'!K45)*(1+K45)/(1+'Curves without VA'!B45)-1","v":4.7093237564351798E-2},{"$f":"(1+'Curves without VA'!L45)*(1+L45)/(1+'Curves without VA'!C45)-1","v":6.1472188990150389E-2},{"$f":"(1+'Curves without VA'!M45)*(1+M45)/(1+'Curves without VA'!D45)-1","v":4.5928061056431879E-2},{"$f":"(1+'Curves without VA'!N45)*(1+N45)/(1+'Curves without VA'!E45)-1","v":6.366011820057027E-2},{"$f":"(1+'Curves without VA'!O45)*(1+O45)/(1+'Curves without VA'!F45)-1","v":6.7497214526850868E-2},{"$f":"(1+'Curves without VA'!P45)*(1+P45)/(1+'Curves without VA'!G45)-1","v":6.8979271528535335E-2},{"$f":"(1+'Curves without VA'!Q45)*(1+Q45)/(1+'Curves without VA'!H45)-1","v":6.6063300509924705E-2},{"$f":"(1+'Curves without VA'!R45)*(1+R45)/(1+'Curves without VA'!I45)-1","v":9.5873016054410343E-2},{"$f":"(1+'Curves without VA'!S45)*(1+S45)/(1+'Curves without VA'!J45)-1","v":7.4906618582802675E-2},{"$f":"(1+'Curves without VA'!T45)*(1+K45)/(1+'Curves without VA'!B45)-1","v":1.6366733714168857E-2},{"$f":"(1+'Curves without VA'!U45)*(1+L45)/(1+'Curves without VA'!C45)-1","v":2.6824217055469557E-2},{"$f":"(1+'Curves without VA'!V45)*(1+M45)/(1+'Curves without VA'!D45)-1","v":1.2808382799655238E-2},{"$f":"(1+'Curves without VA'!W45)*(1+N45)/(1+'Curves without VA'!E45)-1","v":2.2406932274900981E-2},{"$f":"(1+'Curves without VA'!X45)*(1+O45)/(1+'Curves without VA'!F45)-1","v":2.3016291578683346E-2},{"$f":"(1+'Curves without VA'!Y45)*(1+P45)/(1+'Curves without VA'!G45)-1","v":2.3154246649065513E-2},{"$f":"(1+'Curves without VA'!Z45)*(1+Q45)/(1+'Curves without VA'!H45)-1","v":3.5852354919362561E-2},{"$f":"(1+'Curves without VA'!AA45)*(1+R45)/(1+'Curves without VA'!I45)-1","v":4.6969397444404315E-2},{"$f":"(1+'Curves without VA'!AB45)*(1+S45)/(1+'Curves without VA'!J45)-1","v":4.0743149585662053E-2}]
[33,{"$f":"($A46*LN(1+'Curves without VA'!B46)-IF(ISNUMBER($A45),$A45*LN(1+'Curves without VA'!B45),0)+($A46<=B$2)*LN(1+B$5/10000)+IF(ISNUMBER($A45),$A45*B45))/$A46","v":3.3711752615229199E-2},{"$f":"($A46*LN(1+'Curves without VA'!C46)-IF(ISNUMBER($A45),$A45*LN(1+'Curves without VA'!C45),0)+($A46<=C$2)*LN(1+C$5/10000)+IF(ISNUMBER($A45),$A45*C45))/$A46","v":3.7974441784536121E-2},{"$f":"($A46*LN(1+'Curves without VA'!D46)-IF(ISNUMBER($A45),$A45*LN(1+'Curves without VA'!D45),0)+($A46<=D$2)*LN(1+D$5/10000)+IF(ISNUMBER($A45),$A45*D45))/$A46","v":3.2005748254694356E-2},{"$f":"($A46*LN(1+'Curves without VA'!E46)-IF(ISNUMBER($A45),$A45*LN(1+'Curves without VA'!E45),0)+($A46<=E$2)*LN(1+E$5/10000)+IF(ISNUMBER($A45),$A45*E45))/$A46","v":4.6185732725881057E-2},{"$f":"($A46*LN(1+'Curves without VA'!F46)-IF(ISNUMBER($A45),$A45*LN(1+'Curves without VA'!F45),0)+($A46<=F$2)*LN(1+F$5/10000)+IF(ISNUMBER($A45),$A45*F45))/$A46","v":4.977145804322157E-2},{"$f":"($A46*LN(1+'Curves without VA'!G46)-IF(ISNUMBER($A45),$A45*LN(1+'Curves without VA'!G45),0)+($A46<=G$2)*LN(1+G$5/10000)+IF(ISNUMBER($A45),$A45*G45))/$A46","v":4.959746175003369E-2},{"$f":"($A46*LN(1+'Curves without VA'!H46)-IF(ISNUMBER($A45),$A45*LN(1+'Curves without VA'!H45),0)+($A46<=H$2)*LN(1+H$5/10000)+IF(ISNUMBER($A45),$A45*H45))/$A46","v":3.8316680038047446E-2},{"$f":"($A46*LN(1+'Curves without VA'!I46)-IF(ISNUMBER($A45),$A45*LN(1+'Curves without VA'!I45),0)+($A46<=I$2)*LN(1+I$5/10000)+IF(ISNUMBER($A45),$A45*I45))/$A46","v":5.246742753992361E-2},{"$f":"($A46*LN(1+'Curves without VA'!J46)-IF(ISNUMBER($A45),$A45*LN(1+'Curves without VA'!J45),0)+($A46<=J$2)*LN(1+J$5/10000)+IF(ISNUMBER($A45),$A45*J45))/$A46","v":4.2524316813487922E-2},3.450177498871243E-2,4.26716353947727E-2,3.3096939649515988E-2,4.8269643444165178E-2,5.1030864275156462E-2,5.2034556505046847E-2,4.6443681122992242E-2,6.5458505050369986E-2,5.2364328504663771E-2,{"$f":"(1+'Curves without VA'!K46)*(1+K46)/(1+'Curves without VA'!B46)-1","v":4.6769905279566482E-2},{"$f":"(1+'Curves without VA'!L46)*(1+L46)/(1+'Curves without VA'!C46)-1","v":6.0860096627550542E-2},{"$f":"(1+'Curves without VA'!M46)*(1+M46)/(1+'Curves without VA'!D46)-1","v":4.6017450878963917E-2},{"$f":"(1+'Curves without VA'!N46)*(1+N46)/(1+'Curves without VA'!E46)-1","v":6.3319600774199625E-2},{"$f":"(1+'Curves without VA'!O46)*(1+O46)/(1+'Curves without VA'!F46)-1","v":6.7291596290187883E-2},{"$f":"(1+'Curves without VA'!P46)*(1+P46)/(1+'Curves without VA'!G46)-1","v":6.8653904312181657E-2},{"$f":"(1+'Curves without VA'!Q46)*(1+Q46)/(1+'Curves without VA'!H46)-1","v":6.526914560839292E-2},{"$f":"(1+'Curves without VA'!R46)*(1+R46)/(1+'Curves without VA'!I46)-1","v":9.4709654782792141E-2},{"$f":"(1+'Curves without VA'!S46)*(1+S46)/(1+'Curves without VA'!J46)-1","v":7.3866193979841732E-2},{"$f":"(1+'Curves without VA'!T46)*(1+K46)/(1+'Curves without VA'!B46)-1","v":1.6666943620418095E-2},{"$f":"(1+'Curves without VA'!U46)*(1+L46)/(1+'Curves without VA'!C46)-1","v":2.6971706228632986E-2},{"$f":"(1+'Curves without VA'!V46)*(1+M46)/(1+'Curves without VA'!D46)-1","v":1.3131972896409883E-2},{"$f":"(1+'Curves without VA'!W46)*(1+N46)/(1+'Curves without VA'!E46)-1","v":2.2596289820830284E-2},{"$f":"(1+'Curves without VA'!X46)*(1+O46)/(1+'Curves without VA'!F46)-1","v":2.2680729046571813E-2},{"$f":"(1+'Curves without VA'!Y46)*(1+P46)/(1+'Curves without VA'!G46)-1","v":2.3419495063228268E-2},{"$f":"(1+'Curves without VA'!Z46)*(1+Q46)/(1+'Curves without VA'!H46)-1","v":3.5778581635399709E-2},{"$f":"(1+'Curves without VA'!AA46)*(1+R46)/(1+'Curves without VA'!I46)-1","v":4.6937241028711663E-2},{"$f":"(1+'Curves without VA'!AB46)*(1+S46)/(1+'Curves without VA'!J46)-1","v":4.054149874397317E-2}]
[34,{"$f":"($A47*LN(1+'Curves without VA'!B47)-IF(ISNUMBER($A46),$A46*LN(1+'Curves without VA'!B46),0)+($A47<=B$2)*LN(1+B$5/10000)+IF(ISNUMBER($A46),$A46*B46))/$A47","v":3.3673678372973567E-2},{"$f":"($A47*LN(1+'Curves without VA'!C47)-IF(ISNUMBER($A46),$A46*LN(1+'Curves without VA'!C46),0)+($A47<=C$2)*LN(1+C$5/10000)+IF(ISNUMBER($A46),$A46*C46))/$A47","v":3.7811615988230296E-2},{"$f":"($A47*LN(1+'Curves without VA'!D47)-IF(ISNUMBER($A46),$A46*LN(1+'Curves without VA'!D46),0)+($A47<=D$2)*LN(1+D$5/10000)+IF(ISNUMBER($A46),$A46*D46))/$A47","v":3.2005812661838509E-2},{"$f":"($A47*LN(1+'Curves without VA'!E47)-IF(ISNUMBER($A46),$A46*LN(1+'Curves without VA'!E46),0)+($A47<=E$2)*LN(1+E$5/10000)+IF(ISNUMBER($A46),$A46*E46))/$A47","v":4.5777831666847402E-2},{"$f":"($A47*LN(1+'Curves without VA'!F47)-IF(ISNUMBER($A46),$A46*LN(1+'Curves without VA'!F46),0)+($A47<=F$2)*LN(1+F$5/10000)+IF(ISNUMBER($A46),$A46*F46))/$A47","v":4.9618031472837068E-2},{"$f":"($A47*LN(1+'Curves without VA'!G47)-IF(ISNUMBER($A46),$A46*LN(1+'Curves without VA'!G46),0)+($A47<=G$2)*LN(1+G$5/10000)+IF(ISNUMBER($A46),$A46*G46))/$A47","v":4.9089215719701519E-2},{"$f":"($A47*LN(1+'Curves without VA'!H47)-IF(ISNUMBER($A46),$A46*LN(1+'Curves without VA'!H46),0)+($A47<=H$2)*LN(1+H$5/10000)+IF(ISNUMBER($A46),$A46*H46))/$A47","v":3.8144147075535942E-2},{"$f":"($A47*LN(1+'Curves without VA'!I47)-IF(ISNUMBER($A46),$A46*LN(1+'Curves without VA'!I46),0)+($A47<=I$2)*LN(1+I$5/10000)+IF(ISNUMBER($A46),$A46*I46))/$A47","v":5.2100118652000295E-2},{"$f":"($A47*LN(1+'Curves without VA'!J47)-IF(ISNUMBER($A46),$A46*LN(1+'Curves without VA'!J46),0)+($A47<=J$2)*LN(1+J$5/10000)+IF(ISNUMBER($A46),$A46*J46))/$A47","v":4.2228029828169256E-2},3.4462903510859233E-2,4.2449355610071793E-2,3.3228487096989001E-2,4.8071533273340572E-2,5.0869620584132136E-2,5.1771987408848918E-2,4.61100981749758E-2,6.4913268818604708E-2,5.1867502043225544E-2,{"$f":"(1+'Curves without VA'!K47)*(1+K47)/(1+'Curves without VA'!B47)-1","v":4.6459566261812801E-2},{"$f":"(1+'Curves without VA'!L47)*(1+L47)/(1+'Curves without VA'!C47)-1","v":6.0262555700842491E-2},{"$f":"(1+'Curves without VA'!M47)*(1+M47)/(1+'Curves without VA'!D47)-1","v":4.6054241657032646E-2},{"$f":"(1+'Curves without VA'!N47)*(1+N47)/(1+'Curves without VA'!E47)-1","v":6.2943096943733901E-2},{"$f":"(1+'Curves without VA'!O47)*(1+O47)/(1+'Curves without VA'!F47)-1","v":6.7098103860958602E-2},{"$f":"(1+'Curves without VA'!P47)*(1+P47)/(1+'Curves without VA'!G47)-1","v":6.827333840102412E-2},{"$f":"(1+'Curves without VA'!Q47)*(1+Q47)/(1+'Curves without VA'!H47)-1","v":6.4504431803479312E-2},{"$f":"(1+'Curves without VA'!R47)*(1+R47)/(1+'Curves without VA'!I47)-1","v":9.3569216600492666E-2},{"$f":"(1+'Curves without VA'!S47)*(1+S47)/(1+'Curves without VA'!J47)-1","v":7.286698982937545E-2},{"$f":"(1+'Curves without VA'!T47)*(1+K47)/(1+'Curves without VA'!B47)-1","v":1.6965258880836664E-2},{"$f":"(1+'Curves without VA'!U47)*(1+L47)/(1+'Curves without VA'!C47)-1","v":2.7109921032481887E-2},{"$f":"(1+'Curves without VA'!V47)*(1+M47)/(1+'Curves without VA'!D47)-1","v":1.3457659436684644E-2},{"$f":"(1+'Curves without VA'!W47)*(1+N47)/(1+'Curves without VA'!E47)-1","v":2.2783136459984643E-2},{"$f":"(1+'Curves without VA'!X47)*(1+O47)/(1+'Curves without VA'!F47)-1","v":2.2707098908700818E-2},{"$f":"(1+'Curves without VA'!Y47)*(1+P47)/(1+'Curves without VA'!G47)-1","v":2.3667854237298114E-2},{"$f":"(1+'Curves without VA'!Z47)*(1+Q47)/(1+'Curves without VA'!H47)-1","v":3.5703250082872673E-2},{"$f":"(1+'Curves without VA'!AA47)*(1+R47)/(1+'Curves without VA'!I47)-1","v":4.6890347530620158E-2},{"$f":"(1+'Curves without VA'!AB47)*(1+S47)/(1+'Curves without VA'!J47)-1","v":4.0343693024240679E-2}]
[35,{"$f":"($A48*LN(1+'Curves without VA'!B48)-IF(ISNUMBER($A47),$A47*LN(1+'Curves without VA'!B47),0)+($A48<=B$2)*LN(1+B$5/10000)+IF(ISNUMBER($A47),$A47*B47))/$A48","v":3.363792849627055E-2},{"$f":"($A48*LN(1+'Curves without VA'!C48)-IF(ISNUMBER($A47),$A47*LN(1+'Curves without VA'!C47),0)+($A48<=C$2)*LN(1+C$5/10000)+IF(ISNUMBER($A47),$A47*C47))/$A48","v":3.7658180312444167E-2},{"$f":"($A48*LN(1+'Curves without VA'!D48)-IF(ISNUMBER($A47),$A47*LN(1+'Curves without VA'!D47),0)+($A48<=D$2)*LN(1+D$5/10000)+IF(ISNUMBER($A47),$A47*D47))/$A48","v":3.2004357712629758E-2},{"$f":"($A48*LN(1+'Curves without VA'!E48)-IF(ISNUMBER($A47),$A47*LN(1+'Curves without VA'!E47),0)+($A48<=E$2)*LN(1+E$5/10000)+IF(ISNUMBER($A47),$A47*E47))/$A48","v":4.5393685942922729E-2},{"$f":"($A48*LN(1+'Curves without VA'!F48)-IF(ISNUMBER($A47),$A47*LN(1+'Curves without VA'!F47),0)+($A48<=F$2)*LN(1+F$5/10000)+IF(ISNUMBER($A47),$A47*F47))/$A48","v":4.9473372135045775E-2},{"$f":"($A48*LN(1+'Curves without VA'!G48)-IF(ISNUMBER($A47),$A47*LN(1+'Curves without VA'!G47),0)+($A48<=G$2)*LN(1+G$5/10000)+IF(ISNUMBER($A47),$A47*G47))/$A48","v":4.8610459022838226E-2},{"$f":"($A48*LN(1+'Curves without VA'!H48)-IF(ISNUMBER($A47),$A47*LN(1+'Curves without VA'!H47),0)+($A48<=H$2)*LN(1+H$5/10000)+IF(ISNUMBER($A47),$A47*H47))/$A48","v":3.7981522635574957E-2},{"$f":"($A48*LN(1+'Curves without VA'!I48)-IF(ISNUMBER($A47),$A47*LN(1+'Curves without VA'!I47),0)+($A48<=I$2)*LN(1+I$5/10000)+IF(ISNUMBER($A47),$A47*I47))/$A48","v":5.1757260179775867E-2},{"$f":"($A48*LN(1+'Curves without VA'!J48)-IF(ISNUMBER($A47),$A47*LN(1+'Curves without VA'!J47),0)+($A48<=J$2)*LN(1+J$5/10000)+IF(ISNUMBER($A47),$A47*J47))/$A48","v":4.194872302384741E-2},3.4425715323247008E-2,4.223339969322315E-2,3.3335952111613665E-2,4.7859057086204082E-2,5.0717613475602219E-2,5.1493901382904106E-2,4.5789169218837023E-2,6.4384049846118785E-2,5.1391405033895721E-2,{"$f":"(1+'Curves without VA'!K48)*(1+K48)/(1+'Curves without VA'!B48)-1","v":4.6161723017937861E-2},{"$f":"(1+'Curves without VA'!L48)*(1+L48)/(1+'Curves without VA'!C48)-1","v":5.9680527979288911E-2},{"$f":"(1+'Curves without VA'!M48)*(1+M48)/(1+'Curves without VA'!D48)-1","v":4.6047727772945635E-2},{"$f":"(1+'Curves without VA'!N48)*(1+N48)/(1+'Curves without VA'!E48)-1","v":6.2539413743312844E-2},{"$f":"(1+'Curves without VA'!O48)*(1+O48)/(1+'Curves without VA'!F48)-1","v":6.6915695330722835E-2},{"$f":"(1+'Curves without VA'!P48)*(1+P48)/(1+'Curves without VA'!G48)-1","v":6.7849898716216162E-2},{"$f":"(1+'Curves without VA'!Q48)*(1+Q48)/(1+'Curves without VA'!H48)-1","v":6.3768426751812157E-2},{"$f":"(1+'Curves without VA'!R48)*(1+R48)/(1+'Curves without VA'!I48)-1","v":9.2454489694779651E-2},{"$f":"(1+'Curves without VA'!S48)*(1+S48)/(1+'Curves without VA'!J48)-1","v":7.1907562106524381E-2},{"$f":"(1+'Curves without VA'!T48)*(1+K48)/(1+'Curves without VA'!B48)-1","v":1.7260260315578035E-2},{"$f":"(1+'Curves without VA'!U48)*(1+L48)/(1+'Curves without VA'!C48)-1","v":2.7239717107193862E-2},{"$f":"(1+'Curves without VA'!V48)*(1+M48)/(1+'Curves without VA'!D48)-1","v":1.3783144080134591E-2},{"$f":"(1+'Curves without VA'!W48)*(1+N48)/(1+'Curves without VA'!E48)-1","v":2.2966819108836578E-2},{"$f":"(1+'Curves without VA'!X48)*(1+O48)/(1+'Curves without VA'!F48)-1","v":2.2737717598776852E-2},{"$f":"(1+'Curves without VA'!Y48)*(1+P48)/(1+'Curves without VA'!G48)-1","v":2.3900902261026147E-2},{"$f":"(1+'Curves without VA'!Z48)*(1+Q48)/(1+'Curves without VA'!H48)-1","v":3.5627091852650006E-2},{"$f":"(1+'Curves without VA'!AA48)*(1+R48)/(1+'Curves without VA'!I48)-1","v":4.6831664740072831E-2},{"$f":"(1+'Curves without VA'!AB48)*(1+S48)/(1+'Curves without VA'!J48)-1","v":4.0150218738935983E-2}]
[36,{"$f":"($A49*LN(1+'Curves without VA'!B49)-IF(ISNUMBER($A48),$A48*LN(1+'Curves without VA'!B48),0)+($A49<=B$2)*LN(1+B$5/10000)+IF(ISNUMBER($A48),$A48*B48))/$A49","v":3.3604294229339686E-2},{"$f":"($A49*LN(1+'Curves without VA'!C49)-IF(ISNUMBER($A48),$A48*LN(1+'Curves without VA'!C48),0)+($A49<=C$2)*LN(1+C$5/10000)+IF(ISNUMBER($A48),$A48*C48))/$A49","v":3.7513343559048139E-2},{"$f":"($A49*LN(1+'Curves without VA'!D49)-IF(ISNUMBER($A48),$A48*LN(1+'Curves without VA'!D48),0)+($A49<=D$2)*LN(1+D$5/10000)+IF(ISNUMBER($A48),$A48*D48))/$A49","v":3.2001663516190271E-2},{"$f":"($A49*LN(1+'Curves without VA'!E49)-IF(ISNUMBER($A48),$A48*LN(1+'Curves without VA'!E48),0)+($A49<=E$2)*LN(1+E$5/10000)+IF(ISNUMBER($A48),$A48*E48))/$A49","v":4.5031270704160881E-2},{"$f":"($A49*LN(1+'Curves without VA'!F49)-IF(ISNUMBER($A48),$A48*LN(1+'Curves without VA'!F48),0)+($A49<=F$2)*LN(1+F$5/10000)+IF(ISNUMBER($A48),$A48*F48))/$A49","v":4.9336749427131781E-2},{"$f":"($A49*LN(1+'Curves without VA'!G49)-IF(ISNUMBER($A48),$A48*LN(1+'Curves without VA'!G48),0)+($A49<=G$2)*LN(1+G$5/10000)+IF(ISNUMBER($A48),$A48*G48))/$A49","v":4.8158688976300761E-2},{"$f":"($A49*LN(1+'Curves without VA'!H49)-IF(ISNUMBER($A48),$A48*LN(1+'Curves without VA'!H48),0)+($A49<=H$2)*LN(1+H$5/10000)+IF(ISNUMBER($A48),$A48*H48))/$A49","v":3.7827975995362619E-2},{"$f":"($A49*LN(1+'Curves without VA'!I49)-IF(ISNUMBER($A48),$A48*LN(1+'Curves without VA'!I48),0)+($A49<=I$2)*LN(1+I$5/10000)+IF(ISNUMBER($A48),$A48*I48))/$A49","v":5.1436464050874799E-2},{"$f":"($A49*LN(1+'Curves without VA'!J49)-IF(ISNUMBER($A48),$A48*LN(1+'Curves without VA'!J48),0)+($A49<=J$2)*LN(1+J$5/10000)+IF(ISNUMBER($A48),$A48*J48))/$A49","v":4.1684976372849861E-2},3.4390124708421954E-2,4.2023890957883614E-2,3.3423014883028346E-2,4.7636027882243637E-2,5.0574071395773412E-2,5.1204705036791864E-2,4.5480495946522259E-2,6.3871071919375355E-2,5.0935099570701858E-2,{"$f":"(1+'Curves without VA'!K49)*(1+K49)/(1+'Curves without VA'!B49)-1","v":4.5875870397228846E-2},{"$f":"(1+'Curves without VA'!L49)*(1+L49)/(1+'Curves without VA'!C49)-1","v":5.911464131061317E-2},{"$f":"(1+'Curves without VA'!M49)*(1+M49)/(1+'Curves without VA'!D49)-1","v":4.6005691144613836E-2},{"$f":"(1+'Curves without VA'!N49)*(1+N49)/(1+'Curves without VA'!E49)-1","v":6.2115798965262758E-2},{"$f":"(1+'Curves without VA'!O49)*(1+O49)/(1+'Curves without VA'!F49)-1","v":6.6843986794928201E-2},{"$f":"(1+'Curves without VA'!P49)*(1+P49)/(1+'Curves without VA'!G49)-1","v":6.7393772642680982E-2},{"$f":"(1+'Curves without VA'!Q49)*(1+Q49)/(1+'Curves without VA'!H49)-1","v":6.3060294385126392E-2},{"$f":"(1+'Curves without VA'!R49)*(1+R49)/(1+'Curves without VA'!I49)-1","v":9.1367458152011416E-2},{"$f":"(1+'Curves without VA'!S49)*(1+S49)/(1+'Curves without VA'!J49)-1","v":7.098641000410022E-2},{"$f":"(1+'Curves without VA'!T49)*(1+K49)/(1+'Curves without VA'!B49)-1","v":1.7550845482639854E-2},{"$f":"(1+'Curves without VA'!U49)*(1+L49)/(1+'Curves without VA'!C49)-1","v":2.7361848916414022E-2},{"$f":"(1+'Curves without VA'!V49)*(1+M49)/(1+'Curves without VA'!D49)-1","v":1.4106596924853054E-2},{"$f":"(1+'Curves without VA'!W49)*(1+N49)/(1+'Curves without VA'!E49)-1","v":2.3146844783124676E-2},{"$f":"(1+'Curves without VA'!X49)*(1+O49)/(1+'Curves without VA'!F49)-1","v":2.2772230202055654E-2},{"$f":"(1+'Curves without VA'!Y49)*(1+P49)/(1+'Curves without VA'!G49)-1","v":2.4120028825687978E-2},{"$f":"(1+'Curves without VA'!Z49)*(1+Q49)/(1+'Curves without VA'!H49)-1","v":3.5550696600246789E-2},{"$f":"(1+'Curves without VA'!AA49)*(1+R49)/(1+'Curves without VA'!I49)-1","v":4.6763642575043063E-2},{"$f":"(1+'Curves without VA'!AB49)*(1+S49)/(1+'Curves without VA'!J49)-1","v":3.9961425132496897E-2}]
[37,{"$f":"($A50*LN(1+'Curves without VA'!B50)-IF(ISNUMBER($A49),$A49*LN(1+'Curves without VA'!B49),0)+($A50<=B$2)*LN(1+B$5/10000)+IF(ISNUMBER($A49),$A49*B49))/$A50","v":3.3572590910795903E-2},{"$f":"($A50*LN(1+'Curves without VA'!C50)-IF(ISNUMBER($A49),$A49*LN(1+'Curves without VA'!C49),0)+($A50<=C$2)*LN(1+C$5/10000)+IF(ISNUMBER($A49),$A49*C49))/$A50","v":3.7376400945388653E-2},{"$f":"($A50*LN(1+'Curves without VA'!D50)-IF(ISNUMBER($A49),$A49*LN(1+'Curves without VA'!D49),0)+($A50<=D$2)*LN(1+D$5/10000)+IF(ISNUMBER($A49),$A49*D49))/$A50","v":3.1997964342658107E-2},{"$f":"($A50*LN(1+'Curves without VA'!E50)-IF(ISNUMBER($A49),$A49*LN(1+'Curves without VA'!E49),0)+($A50<=E$2)*LN(1+E$5/10000)+IF(ISNUMBER($A49),$A49*E49))/$A50","v":4.468878458827856E-2},{"$f":"($A50*LN(1+'Curves without VA'!F50)-IF(ISNUMBER($A49),$A49*LN(1+'Curves without VA'!F49),0)+($A50<=F$2)*LN(1+F$5/10000)+IF(ISNUMBER($A49),$A49*F49))/$A50","v":4.9207511730456531E-2},{"$f":"($A50*LN(1+'Curves without VA'!G50)-IF(ISNUMBER($A49),$A49*LN(1+'Curves without VA'!G49),0)+($A50<=G$2)*LN(1+G$5/10000)+IF(ISNUMBER($A49),$A49*G49))/$A50","v":4.773167804225277E-2},{"$f":"($A50*LN(1+'Curves without VA'!H50)-IF(ISNUMBER($A49),$A49*LN(1+'Curves without VA'!H49),0)+($A50<=H$2)*LN(1+H$5/10000)+IF(ISNUMBER($A49),$A49*H49))/$A50","v":3.7682766747996525E-2},{"$f":"($A50*LN(1+'Curves without VA'!I50)-IF(ISNUMBER($A49),$A49*LN(1+'Curves without VA'!I49),0)+($A50<=I$2)*LN(1+I$5/10000)+IF(ISNUMBER($A49),$A49*I49))/$A50","v":5.1135635890107209E-2},{"$f":"($A50*LN(1+'Curves without VA'!J50)-IF(ISNUMBER($A49),$A49*LN(1+'Curves without VA'!J49),0)+($A50<=J$2)*LN(1+J$5/10000)+IF(ISNUMBER($A49),$A49*J49))/$A50","v":4.1435523872038006E-2},3.4356049680458911E-2,4.1820873100790079E-2,3.3492789302174364E-2,4.7405580768333788E-2,5.0438306395766297E-2,5.0908011981686707E-2,4.5183656011601681E-2,6.3374374490856367E-2,5.049766804962208E-2,{"$f":"(1+'Curves without VA'!K50)*(1+K50)/(1+'Curves without VA'!B50)-1","v":4.5601503065126892E-2},{"$f":"(1+'Curves without VA'!L50)*(1+L50)/(1+'Curves without VA'!C50)-1","v":5.8565258106600515E-2},{"$f":"(1+'Curves without VA'!M50)*(1+M50)/(1+'Curves without VA'!D50)-1","v":4.5934652637356521E-2},{"$f":"(1+'Curves without VA'!N50)*(1+N50)/(1+'Curves without VA'!E50)-1","v":6.1678209832139341E-2},{"$f":"(1+'Curves without VA'!O50)*(1+O50)/(1+'Curves without VA'!F50)-1","v":6.713125585887747E-2},{"$f":"(1+'Curves without VA'!P50)*(1+P50)/(1+'Curves without VA'!G50)-1","v":6.6913374694295591E-2},{"$f":"(1+'Curves without VA'!Q50)*(1+Q50)/(1+'Curves without VA'!H50)-1","v":6.2379128111733406E-2},{"$f":"(1+'Curves without VA'!R50)*(1+R50)/(1+'Curves without VA'!I50)-1","v":9.0309462003965502E-2},{"$f":"(1+'Curves without VA'!S50)*(1+S50)/(1+'Curves without VA'!J50)-1","v":7.0102006274740614E-2},{"$f":"(1+'Curves without VA'!T50)*(1+K50)/(1+'Curves without VA'!B50)-1","v":1.7836169842752048E-2},{"$f":"(1+'Curves without VA'!U50)*(1+L50)/(1+'Curves without VA'!C50)-1","v":2.747698402805776E-2},{"$f":"(1+'Curves without VA'!V50)*(1+M50)/(1+'Curves without VA'!D50)-1","v":1.442657168843442E-2},{"$f":"(1+'Curves without VA'!W50)*(1+N50)/(1+'Curves without VA'!E50)-1","v":2.332285012705837E-2},{"$f":"(1+'Curves without VA'!X50)*(1+O50)/(1+'Curves without VA'!F50)-1","v":2.236013319809449E-2},{"$f":"(1+'Curves without VA'!Y50)*(1+P50)/(1+'Curves without VA'!G50)-1","v":2.4326461968750657E-2},{"$f":"(1+'Curves without VA'!Z50)*(1+Q50)/(1+'Curves without VA'!H50)-1","v":3.547453737419537E-2},{"$f":"(1+'Curves without VA'!AA50)*(1+R50)/(1+'Curves without VA'!I50)-1","v":4.6688317486028641E-2},{"$f":"(1+'Curves without VA'!AB50)*(1+S50)/(1+'Curves without VA'!J50)-1","v":3.9777551359327035E-2}]
[38,{"$f":"($A51*LN(1+'Curves without VA'!B51)-IF(ISNUMBER($A50),$A50*LN(1+'Curves without VA'!B50),0)+($A51<=B$2)*LN(1+B$5/10000)+IF(ISNUMBER($A50),$A50*B50))/$A51","v":3.3542654648539824E-2},{"$f":"($A51*LN(1+'Curves without VA'!C51)-IF(ISNUMBER($A50),$A50*LN(1+'Curves without VA'!C50),0)+($A51<=C$2)*LN(1+C$5/10000)+IF(ISNUMBER($A50),$A50*C50))/$A51","v":3.7246722644521203E-2},{"$f":"($A51*LN(1+'Curves without VA'!D51)-IF(ISNUMBER($A50),$A50*LN(1+'Curves without VA'!D50),0)+($A51<=D$2)*LN(1+D$5/10000)+IF(ISNUMBER($A50),$A50*D50))/$A51","v":3.1993456232487873E-2},{"$f":"($A51*LN(1+'Curves without VA'!E51)-IF(ISNUMBER($A50),$A50*LN(1+'Curves without VA'!E50),0)+($A51<=E$2)*LN(1+E$5/10000)+IF(ISNUMBER($A50),$A50*E50))/$A51","v":4.4364619849356801E-2},{"$f":"($A51*LN(1+'Curves without VA'!F51)-IF(ISNUMBER($A50),$A50*LN(1+'Curves without VA'!F50),0)+($A51<=F$2)*LN(1+F$5/10000)+IF(ISNUMBER($A50),$A50*F50))/$A51","v":4.9085076017816594E-2},{"$f":"($A51*LN(1+'Curves without VA'!G51)-IF(ISNUMBER($A50),$A50*LN(1+'Curves without VA'!G50),0)+($A51<=G$2)*LN(1+G$5/10000)+IF(ISNUMBER($A50),$A50*G50))/$A51","v":4.7327437159805315E-2},{"$f":"($A51*LN(1+'Curves without VA'!H51)-IF(ISNUMBER($A50),$A50*LN(1+'Curves without VA'!H50),0)+($A51<=H$2)*LN(1+H$5/10000)+IF(ISNUMBER($A50),$A50*H50))/$A51","v":3.7545232867275104E-2},{"$f":"($A51*LN(1+'Curves without VA'!I51)-IF(ISNUMBER($A50),$A50*LN(1+'Curves without VA'!I50),0)+($A51<=I$2)*LN(1+I$5/10000)+IF(ISNUMBER($A50),$A50*I50))/$A51","v":5.0852932771769298E-2},{"$f":"($A51*LN(1+'Curves without VA'!J51)-IF(ISNUMBER($A50),$A50*LN(1+'Curves without VA'!J50),0)+($A51<=J$2)*LN(1+J$5/10000)+IF(ISNUMBER($A50),$A50*J50))/$A51","v":4.1199233224894466E-2},3.4323412056012748E-2,4.1624327441388775E-2,3.3547914269559831E-2,4.7170288960870943E-2,5.0309703106116821E-2,5.0606779127398527E-2,4.4898213064523906E-2,6.2893853413279466E-2,5.0078218841410616E-2,{"$f":"(1+'Curves without VA'!K51)*(1+K51)/(1+'Curves without VA'!B51)-1","v":4.5338121135809484E-2},{"$f":"(1+'Curves without VA'!L51)*(1+L51)/(1+'Curves without VA'!C51)-1","v":5.8032530613659317E-2},{"$f":"(1+'Curves without VA'!M51)*(1+M51)/(1+'Curves without VA'!D51)-1","v":4.5840079453967952E-2},{"$f":"(1+'Curves without VA'!N51)*(1+N51)/(1+'Curves without VA'!E51)-1","v":6.123153373678325E-2},{"$f":"(1+'Curves without VA'!O51)*(1+O51)/(1+'Curves without VA'!F51)-1","v":6.6975645878401435E-2},{"$f":"(1+'Curves without VA'!P51)*(1+P51)/(1+'Curves without VA'!G51)-1","v":6.641564664719346E-2},{"$f":"(1+'Curves without VA'!Q51)*(1+Q51)/(1+'Curves without VA'!H51)-1","v":6.1723976775436729E-2},{"$f":"(1+'Curves without VA'!R51)*(1+R51)/(1+'Curves without VA'!I51)-1","v":8.9281326695775487E-2},{"$f":"(1+'Curves without VA'!S51)*(1+S51)/(1+'Curves without VA'!J51)-1","v":6.9252820396780823E-2},{"$f":"(1+'Curves without VA'!T51)*(1+K51)/(1+'Curves without VA'!B51)-1","v":1.8115598840793945E-2},{"$f":"(1+'Curves without VA'!U51)*(1+L51)/(1+'Curves without VA'!C51)-1","v":2.7585715080766349E-2},{"$f":"(1+'Curves without VA'!V51)*(1+M51)/(1+'Curves without VA'!D51)-1","v":1.4741936479333528E-2},{"$f":"(1+'Curves without VA'!W51)*(1+N51)/(1+'Curves without VA'!E51)-1","v":2.349457664829413E-2},{"$f":"(1+'Curves without VA'!X51)*(1+O51)/(1+'Curves without VA'!F51)-1","v":2.2402803677752603E-2},{"$f":"(1+'Curves without VA'!Y51)*(1+P51)/(1+'Curves without VA'!G51)-1","v":2.4521290473211943E-2},{"$f":"(1+'Curves without VA'!Z51)*(1+Q51)/(1+'Curves without VA'!H51)-1","v":3.5398991323727591E-2},{"$f":"(1+'Curves without VA'!AA51)*(1+R51)/(1+'Curves without VA'!I51)-1","v":4.6607381840690021E-2},{"$f":"(1+'Curves without VA'!AB51)*(1+S51)/(1+'Curves without VA'!J51)-1","v":3.9598748341614476E-2}]
[39,{"$f":"($A52*LN(1+'Curves without VA'!B52)-IF(ISNUMBER($A51),$A51*LN(1+'Curves without VA'!B51),0)+($A52<=B$2)*LN(1+B$5/10000)+IF(ISNUMBER($A51),$A51*B51))/$A52","v":3.3514339521914252E-2},{"$f":"($A52*LN(1+'Curves without VA'!C52)-IF(ISNUMBER($A51),$A51*LN(1+'Curves without VA'!C51),0)+($A52<=C$2)*LN(1+C$5/10000)+IF(ISNUMBER($A51),$A51*C51))/$A52","v":3.712374409755026E-2},{"$f":"($A52*LN(1+'Curves without VA'!D52)-IF(ISNUMBER($A51),$A51*LN(1+'Curves without VA'!D51),0)+($A52<=D$2)*LN(1+D$5/10000)+IF(ISNUMBER($A51),$A51*D51))/$A52","v":3.1988303274944667E-2},{"$f":"($A52*LN(1+'Curves without VA'!E52)-IF(ISNUMBER($A51),$A51*LN(1+'Curves without VA'!E51),0)+($A52<=E$2)*LN(1+E$5/10000)+IF(ISNUMBER($A51),$A51*E51))/$A52","v":4.4057337129322333E-2},{"$f":"($A52*LN(1+'Curves without VA'!F52)-IF(ISNUMBER($A51),$A51*LN(1+'Curves without VA'!F51),0)+($A52<=F$2)*LN(1+F$5/10000)+IF(ISNUMBER($A51),$A51*F51))/$A52","v":4.8968919059671268E-2},{"$f":"($A52*LN(1+'Curves without VA'!G52)-IF(ISNUMBER($A51),$A51*LN(1+'Curves without VA'!G51),0)+($A52<=G$2)*LN(1+G$5/10000)+IF(ISNUMBER($A51),$A51*G51))/$A52","v":4.694418476514374E-2},{"$f":"($A52*LN(1+'Curves without VA'!H52)-IF(ISNUMBER($A51),$A51*LN(1+'Curves without VA'!H51),0)+($A52<=H$2)*LN(1+H$5/10000)+IF(ISNUMBER($A51),$A51*H51))/$A52","v":3.7414780613915753E-2},{"$f":"($A52*LN(1+'Curves without VA'!I52)-IF(ISNUMBER($A51),$A51*LN(1+'Curves without VA'!I51),0)+($A52<=I$2)*LN(1+I$5/10000)+IF(ISNUMBER($A51),$A51*I51))/$A52","v":5.0586727837307714E-2},{"$f":"($A52*LN(1+'Curves without VA'!J52)-IF(ISNUMBER($A51),$A51*LN(1+'Curves without VA'!J51),0)+($A52<=J$2)*LN(1+J$5/10000)+IF(ISNUMBER($A51),$A51*J51))/$A52","v":4.0975088654673163E-2},3.4292137457313743E-2,4.1434186818319896E-2,3.3590629322834298E-2,4.6932259289800493E-2,5.0187709411239068E-2,5.0303418857180482E-2,4.4623724537859566E-2,6.242929370810546E-2,4.9675890228934261E-2,{"$f":"(1+'Curves without VA'!K52)*(1+K52)/(1+'Curves without VA'!B52)-1","v":4.5085234362301829E-2},{"$f":"(1+'Curves without VA'!L52)*(1+L52)/(1+'Curves without VA'!C52)-1","v":5.7516445584486764E-2},{"$f":"(1+'Curves without VA'!M52)*(1+M52)/(1+'Curves without VA'!D52)-1","v":4.5726556725297574E-2},{"$f":"(1+'Curves without VA'!N52)*(1+N52)/(1+'Curves without VA'!E52)-1","v":6.0779770098785768E-2},{"$f":"(1+'Curves without VA'!O52)*(1+O52)/(1+'Curves without VA'!F52)-1","v":6.6928575467599449E-2},{"$f":"(1+'Curves without VA'!P52)*(1+P52)/(1+'Curves without VA'!G52)-1","v":6.5906305211759442E-2},{"$f":"(1+'Curves without VA'!Q52)*(1+Q52)/(1+'Curves without VA'!H52)-1","v":6.1093864881696103E-2},{"$f":"(1+'Curves without VA'!R52)*(1+R52)/(1+'Curves without VA'!I52)-1","v":8.8283467995223797E-2},{"$f":"(1+'Curves without VA'!S52)*(1+S52)/(1+'Curves without VA'!J52)-1","v":6.8437336105699575E-2},{"$f":"(1+'Curves without VA'!T52)*(1+K52)/(1+'Curves without VA'!B52)-1","v":1.838866877595513E-2},{"$f":"(1+'Curves without VA'!U52)*(1+L52)/(1+'Curves without VA'!C52)-1","v":2.7688569856964884E-2},{"$f":"(1+'Curves without VA'!V52)*(1+M52)/(1+'Curves without VA'!D52)-1","v":1.5051817128346245E-2},{"$f":"(1+'Curves without VA'!W52)*(1+N52)/(1+'Curves without VA'!E52)-1","v":2.3661850543150731E-2},{"$f":"(1+'Curves without VA'!X52)*(1+O52)/(1+'Curves without VA'!F52)-1","v":2.2000767380945252E-2},{"$f":"(1+'Curves without VA'!Y52)*(1+P52)/(1+'Curves without VA'!G52)-1","v":2.4705482712300331E-2},{"$f":"(1+'Curves without VA'!Z52)*(1+Q52)/(1+'Curves without VA'!H52)-1","v":3.5324356677328472E-2},{"$f":"(1+'Curves without VA'!AA52)*(1+R52)/(1+'Curves without VA'!I52)-1","v":4.6522241143922782E-2},{"$f":"(1+'Curves without VA'!AB52)*(1+S52)/(1+'Curves without VA'!J52)-1","v":3.9425096513070912E-2}]
[40,{"$f":"($A53*LN(1+'Curves without VA'!B53)-IF(ISNUMBER($A52),$A52*LN(1+'Curves without VA'!B52),0)+($A53<=B$2)*LN(1+B$5/10000)+IF(ISNUMBER($A52),$A52*B52))/$A53","v":3.3487515217259317E-2},{"$f":"($A53*LN(1+'Curves without VA'!C53)-IF(ISNUMBER($A52),$A52*LN(1+'Curves without VA'!C52),0)+($A53<=C$2)*LN(1+C$5/10000)+IF(ISNUMBER($A52),$A52*C52))/$A53","v":3.7006957787034042E-2},{"$f":"($A53*LN(1+'Curves without VA'!D53)-IF(ISNUMBER($A52),$A52*LN(1+'Curves without VA'!D52),0)+($A53<=D$2)*LN(1+D$5/10000)+IF(ISNUMBER($A52),$A52*D52))/$A53","v":3.1982642804948551E-2},{"$f":"($A53*LN(1+'Curves without VA'!E53)-IF(ISNUMBER($A52),$A52*LN(1+'Curves without VA'!E52),0)+($A53<=E$2)*LN(1+E$5/10000)+IF(ISNUMBER($A52),$A52*E52))/$A53","v":4.3765644054932051E-2},{"$f":"($A53*LN(1+'Curves without VA'!F53)-IF(ISNUMBER($A52),$A52*LN(1+'Curves without VA'!F52),0)+($A53<=F$2)*LN(1+F$5/10000)+IF(ISNUMBER($A52),$A52*F52))/$A53","v":4.8858569949433078E-2},{"$f":"($A53*LN(1+'Curves without VA'!G53)-IF(ISNUMBER($A52),$A52*LN(1+'Curves without VA'!G52),0)+($A53<=G$2)*LN(1+G$5/10000)+IF(ISNUMBER($A52),$A52*G52))/$A53","v":4.6580320499858004E-2},{"$f":"($A53*LN(1+'Curves without VA'!H53)-IF(ISNUMBER($A52),$A52*LN(1+'Curves without VA'!H52),0)+($A53<=H$2)*LN(1+H$5/10000)+IF(ISNUMBER($A52),$A52*H52))/$A53","v":3.7290875960404972E-2},{"$f":"($A53*LN(1+'Curves without VA'!I53)-IF(ISNUMBER($A52),$A52*LN(1+'Curves without VA'!I52),0)+($A53<=I$2)*LN(1+I$5/10000)+IF(ISNUMBER($A52),$A52*I52))/$A53","v":5.0335580539771031E-2},{"$f":"($A53*LN(1+'Curves without VA'!J53)-IF(ISNUMBER($A52),$A52*LN(1+'Curves without VA'!J52),0)+($A53<=J$2)*LN(1+J$5/10000)+IF(ISNUMBER($A52),$A52*J52))/$A53","v":4.0762176300143331E-2},3.4262155264823235E-2,4.1250346798318294E-2,3.3622837475948852E-2,4.6693211038901561E-2,5.0071828525716233E-2,4.9999891592275691E-2,4.4359747648136327E-2,6.1980395937058841E-2,4.9289853002616013E-2,{"$f":"(1+'Curves without VA'!K53)*(1+K53)/(1+'Curves without VA'!B53)-1","v":4.4842365195969069E-2},{"$f":"(1+'Curves without VA'!L53)*(1+L53)/(1+'Curves without VA'!C53)-1","v":5.7016860420022741E-2},{"$f":"(1+'Curves without VA'!M53)*(1+M53)/(1+'Curves without VA'!D53)-1","v":4.5597929877648991E-2},{"$f":"(1+'Curves without VA'!N53)*(1+N53)/(1+'Curves without VA'!E53)-1","v":6.0326180563323284E-2},{"$f":"(1+'Curves without VA'!O53)*(1+O53)/(1+'Curves without VA'!F53)-1","v":6.6788359596116731E-2},{"$f":"(1+'Curves without VA'!P53)*(1+P53)/(1+'Curves without VA'!G53)-1","v":6.5390046910952959E-2},{"$f":"(1+'Curves without VA'!Q53)*(1+Q53)/(1+'Curves without VA'!H53)-1","v":6.0487808276876498E-2},{"$f":"(1+'Curves without VA'!R53)*(1+R53)/(1+'Curves without VA'!I53)-1","v":8.7315977112091048E-2},{"$f":"(1+'Curves without VA'!S53)*(1+S53)/(1+'Curves without VA'!J53)-1","v":6.7654064497364885E-2},{"$f":"(1+'Curves without VA'!T53)*(1+K53)/(1+'Curves without VA'!B53)-1","v":1.8655054776825164E-2},{"$f":"(1+'Curves without VA'!U53)*(1+L53)/(1+'Curves without VA'!C53)-1","v":2.7786019798853534E-2},{"$f":"(1+'Curves without VA'!V53)*(1+M53)/(1+'Curves without VA'!D53)-1","v":1.5355550682657038E-2},{"$f":"(1+'Curves without VA'!W53)*(1+N53)/(1+'Curves without VA'!E53)-1","v":2.3824566229222688E-2},{"$f":"(1+'Curves without VA'!X53)*(1+O53)/(1+'Curves without VA'!F53)-1","v":2.160379946605806E-2},{"$f":"(1+'Curves without VA'!Y53)*(1+P53)/(1+'Curves without VA'!G53)-1","v":2.487990257136552E-2},{"$f":"(1+'Curves without VA'!Z53)*(1+Q53)/(1+'Curves without VA'!H53)-1","v":3.5250866699381378E-2},{"$f":"(1+'Curves without VA'!AA53)*(1+R53)/(1+'Curves without VA'!I53)-1","v":4.6434061364773349E-2},{"$f":"(1+'Curves without VA'!AB53)*(1+S53)/(1+'Curves without VA'!J53)-1","v":3.9256620244844997E-2}]
[41,{"$f":"($A54*LN(1+'Curves without VA'!B54)-IF(ISNUMBER($A53),$A53*LN(1+'Curves without VA'!B53),0)+($A54<=B$2)*LN(1+B$5/10000)+IF(ISNUMBER($A53),$A53*B53))/$A54","v":3.3462065021476972E-2},{"$f":"($A54*LN(1+'Curves without VA'!C54)-IF(ISNUMBER($A53),$A53*LN(1+'Curves without VA'!C53),0)+($A54<=C$2)*LN(1+C$5/10000)+IF(ISNUMBER($A53),$A53*C53))/$A54","v":3.6895906221202465E-2},{"$f":"($A54*LN(1+'Curves without VA'!D54)-IF(ISNUMBER($A53),$A53*LN(1+'Curves without VA'!D53),0)+($A54<=D$2)*LN(1+D$5/10000)+IF(ISNUMBER($A53),$A53*D53))/$A54","v":3.1976589717154294E-2},{"$f":"($A54*LN(1+'Curves without VA'!E54)-IF(ISNUMBER($A53),$A53*LN(1+'Curves without VA'!E53),0)+($A54<=E$2)*LN(1+E$5/10000)+IF(ISNUMBER($A53),$A53*E53))/$A54","v":4.3488377002937173E-2},{"$f":"($A54*LN(1+'Curves without VA'!F54)-IF(ISNUMBER($A53),$A53*LN(1+'Curves without VA'!F53),0)+($A54<=F$2)*LN(1+F$5/10000)+IF(ISNUMBER($A53),$A53*F53))/$A54","v":4.8613736387716822E-2},{"$f":"($A54*LN(1+'Curves without VA'!G54)-IF(ISNUMBER($A53),$A53*LN(1+'Curves without VA'!G53),0)+($A54<=G$2)*LN(1+G$5/10000)+IF(ISNUMBER($A53),$A53*G53))/$A54","v":4.6234402802864998E-2},{"$f":"($A54*LN(1+'Curves without VA'!H54)-IF(ISNUMBER($A53),$A53*LN(1+'Curves without VA'!H53),0)+($A54<=H$2)*LN(1+H$5/10000)+IF(ISNUMBER($A53),$A53*H53))/$A54","v":3.7173037274742915E-2},{"$f":"($A54*LN(1+'Curves without VA'!I54)-IF(ISNUMBER($A53),$A53*LN(1+'Curves without VA'!I53),0)+($A54<=I$2)*LN(1+I$5/10000)+IF(ISNUMBER($A53),$A53*I53))/$A54","v":5.0098211521909776E-2},{"$f":"($A54*LN(1+'Curves without VA'!J54)-IF(ISNUMBER($A53),$A53*LN(1+'Curves without VA'!J53),0)+($A54<=J$2)*LN(1+J$5/10000)+IF(ISNUMBER($A53),$A53*J53))/$A54","v":4.0559671752536518E-2},3.4233398533231707E-2,4.1072674718032331E-2,3.3646157587241765E-2,4.6454541189766996E-2,4.9814767169788166E-2,4.9697782356916242E-2,4.4105843982277904E-2,6.1546797421653032E-2,4.891931202132227E-2,{"$f":"(1+'Curves without VA'!K54)*(1+K54)/(1+'Curves without VA'!B54)-1","v":4.4609050960232821E-2},{"$f":"(1+'Curves without VA'!L54)*(1+L54)/(1+'Curves without VA'!C54)-1","v":5.6533532425899979E-2},{"$f":"(1+'Curves without VA'!M54)*(1+M54)/(1+'Curves without VA'!D54)-1","v":4.5457423060559998E-2},{"$f":"(1+'Curves without VA'!N54)*(1+N54)/(1+'Curves without VA'!E54)-1","v":5.9873413338210835E-2},{"$f":"(1+'Curves without VA'!O54)*(1+O54)/(1+'Curves without VA'!F54)-1","v":6.6577857315443856E-2},{"$f":"(1+'Curves without VA'!P54)*(1+P54)/(1+'Curves without VA'!G54)-1","v":6.4870717939304212E-2},{"$f":"(1+'Curves without VA'!Q54)*(1+Q54)/(1+'Curves without VA'!H54)-1","v":5.9904826215779527E-2},{"$f":"(1+'Curves without VA'!R54)*(1+R54)/(1+'Curves without VA'!I54)-1","v":8.6378689822015353E-2},{"$f":"(1+'Curves without VA'!S54)*(1+S54)/(1+'Curves without VA'!J54)-1","v":6.6901553650255519E-2},{"$f":"(1+'Curves without VA'!T54)*(1+K54)/(1+'Curves without VA'!B54)-1","v":1.8914544541861478E-2},{"$f":"(1+'Curves without VA'!U54)*(1+L54)/(1+'Curves without VA'!C54)-1","v":2.7878487237578353E-2},{"$f":"(1+'Curves without VA'!V54)*(1+M54)/(1+'Curves without VA'!D54)-1","v":1.5652647155031785E-2},{"$f":"(1+'Curves without VA'!W54)*(1+N54)/(1+'Curves without VA'!E54)-1","v":2.3982672883110512E-2},{"$f":"(1+'Curves without VA'!X54)*(1+O54)/(1+'Curves without VA'!F54)-1","v":2.1593805043008896E-2},{"$f":"(1+'Curves without VA'!Y54)*(1+P54)/(1+'Curves without VA'!G54)-1","v":2.5045322954798444E-2},{"$f":"(1+'Curves without VA'!Z54)*(1+Q54)/(1+'Curves without VA'!H54)-1","v":3.5178701188751438E-2},{"$f":"(1+'Curves without VA'!AA54)*(1+R54)/(1+'Curves without VA'!I54)-1","v":4.6343808186309232E-2},{"$f":"(1+'Curves without VA'!AB54)*(1+S54)/(1+'Curves without VA'!J54)-1","v":3.909329958685781E-2}]
[42,{"$f":"($A55*LN(1+'Curves without VA'!B55)-IF(ISNUMBER($A54),$A54*LN(1+'Curves without VA'!B54),0)+($A55<=B$2)*LN(1+B$5/10000)+IF(ISNUMBER($A54),$A54*B54))/$A55","v":3.3437884112719224E-2},{"$f":"($A55*LN(1+'Curves without VA'!C55)-IF(ISNUMBER($A54),$A54*LN(1+'Curves without VA'!C54),0)+($A55<=C$2)*LN(1+C$5/10000)+IF(ISNUMBER($A54),$A54*C54))/$A55","v":3.6790175926478798E-2},{"$f":"($A55*LN(1+'Curves without VA'!D55)-IF(ISNUMBER($A54),$A54*LN(1+'Curves without VA'!D54),0)+($A55<=D$2)*LN(1+D$5/10000)+IF(ISNUMBER($A54),$A54*D54))/$A55","v":3.1970240056827672E-2},{"$f":"($A55*LN(1+'Curves without VA'!E55)-IF(ISNUMBER($A54),$A54*LN(1+'Curves without VA'!E54),0)+($A55<=E$2)*LN(1+E$5/10000)+IF(ISNUMBER($A54),$A54*E54))/$A55","v":4.322448550173013E-2},{"$f":"($A55*LN(1+'Curves without VA'!F55)-IF(ISNUMBER($A54),$A54*LN(1+'Curves without VA'!F54),0)+($A55<=F$2)*LN(1+F$5/10000)+IF(ISNUMBER($A54),$A54*F54))/$A55","v":4.8380561567034755E-2},{"$f":"($A55*LN(1+'Curves without VA'!G55)-IF(ISNUMBER($A54),$A54*LN(1+'Curves without VA'!G54),0)+($A55<=G$2)*LN(1+G$5/10000)+IF(ISNUMBER($A54),$A54*G54))/$A55","v":4.5905129734993166E-2},{"$f":"($A55*LN(1+'Curves without VA'!H55)-IF(ISNUMBER($A54),$A54*LN(1+'Curves without VA'!H54),0)+($A55<=H$2)*LN(1+H$5/10000)+IF(ISNUMBER($A54),$A54*H54))/$A55","v":3.7060829052857312E-2},{"$f":"($A55*LN(1+'Curves without VA'!I55)-IF(ISNUMBER($A54),$A54*LN(1+'Curves without VA'!I54),0)+($A55<=I$2)*LN(1+I$5/10000)+IF(ISNUMBER($A54),$A54*I54))/$A55","v":4.9873481327264768E-2},{"$f":"($A55*LN(1+'Curves without VA'!J55)-IF(ISNUMBER($A54),$A54*LN(1+'Curves without VA'!J54),0)+($A55<=J$2)*LN(1+J$5/10000)+IF(ISNUMBER($A54),$A54*J54))/$A55","v":4.0366829376417661E-2},3.4205803881343311E-2,4.0901016973859061E-2,3.3661968121974972E-2,4.6217378534459286E-2,4.9570005336961209E-2,4.9398364246042048E-2,4.3861582959986434E-2,6.1128089303001287E-2,4.8563506979258708E-2,{"$f":"(1+'Curves without VA'!K55)*(1+K55)/(1+'Curves without VA'!B55)-1","v":4.4384845331330025E-2},{"$f":"(1+'Curves without VA'!L55)*(1+L55)/(1+'Curves without VA'!C55)-1","v":5.6066142495558857E-2},{"$f":"(1+'Curves without VA'!M55)*(1+M55)/(1+'Curves without VA'!D55)-1","v":4.5307737897934297E-2},{"$f":"(1+'Curves without VA'!N55)*(1+N55)/(1+'Curves without VA'!E55)-1","v":5.9423606337125623E-2},{"$f":"(1+'Curves without VA'!O55)*(1+O55)/(1+'Curves without VA'!F55)-1","v":6.6281695497723225E-2},{"$f":"(1+'Curves without VA'!P55)*(1+P55)/(1+'Curves without VA'!G55)-1","v":6.435145527838726E-2},{"$f":"(1+'Curves without VA'!Q55)*(1+Q55)/(1+'Curves without VA'!H55)-1","v":5.9343950557758651E-2},{"$f":"(1+'Curves without VA'!R55)*(1+R55)/(1+'Curves without VA'!I55)-1","v":8.5471242626532939E-2},{"$f":"(1+'Curves without VA'!S55)*(1+S55)/(1+'Curves without VA'!J55)-1","v":6.6178395512870969E-2},{"$f":"(1+'Curves without VA'!T55)*(1+K55)/(1+'Curves without VA'!B55)-1","v":1.9167016774233492E-2},{"$f":"(1+'Curves without VA'!U55)*(1+L55)/(1+'Curves without VA'!C55)-1","v":2.7966351553984969E-2},{"$f":"(1+'Curves without VA'!V55)*(1+M55)/(1+'Curves without VA'!D55)-1","v":1.5942758002925217E-2},{"$f":"(1+'Curves without VA'!W55)*(1+N55)/(1+'Curves without VA'!E55)-1","v":2.4136163421923928E-2},{"$f":"(1+'Curves without VA'!X55)*(1+O55)/(1+'Curves without VA'!F55)-1","v":2.1147595361523885E-2},{"$f":"(1+'Curves without VA'!Y55)*(1+P55)/(1+'Curves without VA'!G55)-1","v":2.5202437288376567E-2},{"$f":"(1+'Curves without VA'!Z55)*(1+Q55)/(1+'Curves without VA'!H55)-1","v":3.5107995971019212E-2},{"$f":"(1+'Curves without VA'!AA55)*(1+R55)/(1+'Curves without VA'!I55)-1","v":4.6252279637365001E-2},{"$f":"(1+'Curves without VA'!AB55)*(1+S55)/(1+'Curves without VA'!J55)-1","v":3.8935079830490826E-2}]
[43,{"$f":"($A56*LN(1+'Curves without VA'!B56)-IF(ISNUMBER($A55),$A55*LN(1+'Curves without VA'!B55),0)+($A56<=B$2)*LN(1+B$5/10000)+IF(ISNUMBER($A55),$A55*B55))/$A56","v":3.3414878098758941E-2},{"$f":"($A56*LN(1+'Curves without VA'!C56)-IF(ISNUMBER($A55),$A55*LN(1+'Curves without VA'!C55),0)+($A56<=C$2)*LN(1+C$5/10000)+IF(ISNUMBER($A55),$A55*C55))/$A56","v":3.668939228355117E-2},{"$f":"($A56*LN(1+'Curves without VA'!D56)-IF(ISNUMBER($A55),$A55*LN(1+'Curves without VA'!D55),0)+($A56<=D$2)*LN(1+D$5/10000)+IF(ISNUMBER($A55),$A55*D55))/$A56","v":3.1963674016124599E-2},{"$f":"($A56*LN(1+'Curves without VA'!E56)-IF(ISNUMBER($A55),$A55*LN(1+'Curves without VA'!E55),0)+($A56<=E$2)*LN(1+E$5/10000)+IF(ISNUMBER($A55),$A55*E55))/$A56","v":4.297301883707632E-2},{"$f":"($A56*LN(1+'Curves without VA'!F56)-IF(ISNUMBER($A55),$A55*LN(1+'Curves without VA'!F55),0)+($A56<=F$2)*LN(1+F$5/10000)+IF(ISNUMBER($A55),$A55*F55))/$A56","v":4.8158232086849558E-2},{"$f":"($A56*LN(1+'Curves without VA'!G56)-IF(ISNUMBER($A55),$A55*LN(1+'Curves without VA'!G55),0)+($A56<=G$2)*LN(1+G$5/10000)+IF(ISNUMBER($A55),$A55*G55))/$A56","v":4.5591322506775007E-2},{"$f":"($A56*LN(1+'Curves without VA'!H56)-IF(ISNUMBER($A55),$A55*LN(1+'Curves without VA'!H55),0)+($A56<=H$2)*LN(1+H$5/10000)+IF(ISNUMBER($A55),$A55*H55))/$A56","v":3.6953856528619468E-2},{"$f":"($A56*LN(1+'Curves without VA'!I56)-IF(ISNUMBER($A55),$A55*LN(1+'Curves without VA'!I55),0)+($A56<=I$2)*LN(1+I$5/10000)+IF(ISNUMBER($A55),$A55*I55))/$A56","v":4.9660372295428919E-2},{"$f":"($A56*LN(1+'Curves without VA'!J56)-IF(ISNUMBER($A55),$A55*LN(1+'Curves without VA'!J55),0)+($A56<=J$2)*LN(1+J$5/10000)+IF(ISNUMBER($A55),$A55*J55))/$A56","v":4.0182973123725131E-2},3.4179311363985887E-2,4.0735204892169197E-2,3.3671443817852031E-2,4.5982628646083823E-2,4.9336680921665765E-2,4.9102651138264841E-2,4.3626544403455592E-2,6.0723830235887677E-2,4.8221712567526165E-2,{"$f":"(1+'Curves without VA'!K56)*(1+K56)/(1+'Curves without VA'!B56)-1","v":4.4169319278390073E-2},{"$f":"(1+'Curves without VA'!L56)*(1+L56)/(1+'Curves without VA'!C56)-1","v":5.5614314271376752E-2},{"$f":"(1+'Curves without VA'!M56)*(1+M56)/(1+'Curves without VA'!D56)-1","v":4.5151136015827875E-2},{"$f":"(1+'Curves without VA'!N56)*(1+N56)/(1+'Curves without VA'!E56)-1","v":5.8978472903129298E-2},{"$f":"(1+'Curves without VA'!O56)*(1+O56)/(1+'Curves without VA'!F56)-1","v":6.6099914915215718E-2},{"$f":"(1+'Curves without VA'!P56)*(1+P56)/(1+'Curves without VA'!G56)-1","v":6.3834804153270808E-2},{"$f":"(1+'Curves without VA'!Q56)*(1+Q56)/(1+'Curves without VA'!H56)-1","v":5.8804232679344315E-2},{"$f":"(1+'Curves without VA'!R56)*(1+R56)/(1+'Curves without VA'!I56)-1","v":8.459311838082928E-2},{"$f":"(1+'Curves without VA'!S56)*(1+S56)/(1+'Curves without VA'!J56)-1","v":6.548323064581818E-2},{"$f":"(1+'Curves without VA'!T56)*(1+K56)/(1+'Curves without VA'!B56)-1","v":1.9412423450876348E-2},{"$f":"(1+'Curves without VA'!U56)*(1+L56)/(1+'Curves without VA'!C56)-1","v":2.8049954448349901E-2},{"$f":"(1+'Curves without VA'!V56)*(1+M56)/(1+'Curves without VA'!D56)-1","v":1.6225650112147605E-2},{"$f":"(1+'Curves without VA'!W56)*(1+N56)/(1+'Curves without VA'!E56)-1","v":2.4285065477882117E-2},{"$f":"(1+'Curves without VA'!X56)*(1+O56)/(1+'Curves without VA'!F56)-1","v":2.0710970257882932E-2},{"$f":"(1+'Curves without VA'!Y56)*(1+P56)/(1+'Curves without VA'!G56)-1","v":2.5351869350452194E-2},{"$f":"(1+'Curves without VA'!Z56)*(1+Q56)/(1+'Curves without VA'!H56)-1","v":3.5038850747845629E-2},{"$f":"(1+'Curves without VA'!AA56)*(1+R56)/(1+'Curves without VA'!I56)-1","v":4.6160133283388527E-2},{"$f":"(1+'Curves without VA'!AB56)*(1+S56)/(1+'Curves without VA'!J56)-1","v":3.8781879298485755E-2}]
[44,{"$f":"($A57*LN(1+'Curves without VA'!B57)-IF(ISNUMBER($A56),$A56*LN(1+'Curves without VA'!B56),0)+($A57<=B$2)*LN(1+B$5/10000)+IF(ISNUMBER($A56),$A56*B56))/$A57","v":3.3392961762710935E-2},{"$f":"($A57*LN(1+'Curves without VA'!C57)-IF(ISNUMBER($A56),$A56*LN(1+'Curves without VA'!C56),0)+($A57<=C$2)*LN(1+C$5/10000)+IF(ISNUMBER($A56),$A56*C56))/$A57","v":3.6593215072249004E-2},{"$f":"($A57*LN(1+'Curves without VA'!D57)-IF(ISNUMBER($A56),$A56*LN(1+'Curves without VA'!D56),0)+($A57<=D$2)*LN(1+D$5/10000)+IF(ISNUMBER($A56),$A56*D56))/$A57","v":3.1956958439888931E-2},{"$f":"($A57*LN(1+'Curves without VA'!E57)-IF(ISNUMBER($A56),$A56*LN(1+'Curves without VA'!E56),0)+($A57<=E$2)*LN(1+E$5/10000)+IF(ISNUMBER($A56),$A56*E56))/$A57","v":4.2733114508473363E-2},{"$f":"($A57*LN(1+'Curves without VA'!F57)-IF(ISNUMBER($A56),$A56*LN(1+'Curves without VA'!F56),0)+($A57<=F$2)*LN(1+F$5/10000)+IF(ISNUMBER($A56),$A56*F56))/$A57","v":4.794600849212724E-2},{"$f":"($A57*LN(1+'Curves without VA'!G57)-IF(ISNUMBER($A56),$A56*LN(1+'Curves without VA'!G56),0)+($A57<=G$2)*LN(1+G$5/10000)+IF(ISNUMBER($A56),$A56*G56))/$A57","v":4.5291911276587903E-2},{"$f":"($A57*LN(1+'Curves without VA'!H57)-IF(ISNUMBER($A56),$A56*LN(1+'Curves without VA'!H56),0)+($A57<=H$2)*LN(1+H$5/10000)+IF(ISNUMBER($A56),$A56*H56))/$A57","v":3.6851761021533008E-2},{"$f":"($A57*LN(1+'Curves without VA'!I57)-IF(ISNUMBER($A56),$A56*LN(1+'Curves without VA'!I56),0)+($A57<=I$2)*LN(1+I$5/10000)+IF(ISNUMBER($A56),$A56*I56))/$A57","v":4.9457973113160032E-2},{"$f":"($A57*LN(1+'Curves without VA'!J57)-IF(ISNUMBER($A56),$A56*LN(1+'Curves without VA'!J56),0)+($A57<=J$2)*LN(1+J$5/10000)+IF(ISNUMBER($A56),$A56*J56))/$A57","v":4.0007488603113366E-2},3.4153864332206574E-2,4.057505944703621E-2,3.3675586478484565E-2,4.5751011318957646E-2,4.9114010547955944E-2,4.8811441552178092E-2,4.3400320398709225E-2,6.0333557354672607E-2,4.7893238178448261E-2,{"$f":"(1+'Curves without VA'!K57)*(1+K57)/(1+'Curves without VA'!B57)-1","v":4.3962061583300072E-2},{"$f":"(1+'Curves without VA'!L57)*(1+L57)/(1+'Curves without VA'!C57)-1","v":5.5177629629277858E-2},{"$f":"(1+'Curves without VA'!M57)*(1+M57)/(1+'Curves without VA'!D57)-1","v":4.4989508154906321E-2},{"$f":"(1+'Curves without VA'!N57)*(1+N57)/(1+'Curves without VA'!E57)-1","v":5.8539373175127807E-2},{"$f":"(1+'Curves without VA'!O57)*(1+O57)/(1+'Curves without VA'!F57)-1","v":6.5830483763026582E-2},{"$f":"(1+'Curves without VA'!P57)*(1+P57)/(1+'Curves without VA'!G57)-1","v":6.3322815963470447E-2},{"$f":"(1+'Curves without VA'!Q57)*(1+Q57)/(1+'Curves without VA'!H57)-1","v":5.8284748571654887E-2},{"$f":"(1+'Curves without VA'!R57)*(1+R57)/(1+'Curves without VA'!I57)-1","v":8.374368334632587E-2},{"$f":"(1+'Curves without VA'!S57)*(1+S57)/(1+'Curves without VA'!J57)-1","v":6.4814751285399153E-2},{"$f":"(1+'Curves without VA'!T57)*(1+K57)/(1+'Curves without VA'!B57)-1","v":1.9650775231954132E-2},{"$f":"(1+'Curves without VA'!U57)*(1+L57)/(1+'Curves without VA'!C57)-1","v":2.8129604463927871E-2},{"$f":"(1+'Curves without VA'!V57)*(1+M57)/(1+'Curves without VA'!D57)-1","v":1.6501184296315197E-2},{"$f":"(1+'Curves without VA'!W57)*(1+N57)/(1+'Curves without VA'!E57)-1","v":2.4429434002691819E-2},{"$f":"(1+'Curves without VA'!X57)*(1+O57)/(1+'Curves without VA'!F57)-1","v":1.9846329153702769E-2},{"$f":"(1+'Curves without VA'!Y57)*(1+P57)/(1+'Curves without VA'!G57)-1","v":2.5494181704151853E-2},{"$f":"(1+'Curves without VA'!Z57)*(1+Q57)/(1+'Curves without VA'!H57)-1","v":3.4971335597157927E-2},{"$f":"(1+'Curves without VA'!AA57)*(1+R57)/(1+'Curves without VA'!I57)-1","v":4.6067908930240931E-2},{"$f":"(1+'Curves without VA'!AB57)*(1+S57)/(1+'Curves without VA'!J57)-1","v":3.8633595688954303E-2}]
[45,{"$f":"($A58*LN(1+'Curves without VA'!B58)-IF(ISNUMBER($A57),$A57*LN(1+'Curves without VA'!B57),0)+($A58<=B$2)*LN(1+B$5/10000)+IF(ISNUMBER($A57),$A57*B57))/$A58","v":3.3372057983026344E-2},{"$f":"($A58*LN(1+'Curves without VA'!C58)-IF(ISNUMBER($A57),$A57*LN(1+'Curves without VA'!C57),0)+($A58<=C$2)*LN(1+C$5/10000)+IF(ISNUMBER($A57),$A57*C57))/$A58","v":3.6501334614498629E-2},{"$f":"($A58*LN(1+'Curves without VA'!D58)-IF(ISNUMBER($A57),$A57*LN(1+'Curves without VA'!D57),0)+($A58<=D$2)*LN(1+D$5/10000)+IF(ISNUMBER($A57),$A57*D57))/$A58","v":3.1950148925612903E-2},{"$f":"($A58*LN(1+'Curves without VA'!E58)-IF(ISNUMBER($A57),$A57*LN(1+'Curves without VA'!E57),0)+($A58<=E$2)*LN(1+E$5/10000)+IF(ISNUMBER($A57),$A57*E57))/$A58","v":4.2503988245804154E-2},{"$f":"($A58*LN(1+'Curves without VA'!F58)-IF(ISNUMBER($A57),$A57*LN(1+'Curves without VA'!F57),0)+($A58<=F$2)*LN(1+F$5/10000)+IF(ISNUMBER($A57),$A57*F57))/$A58","v":4.7743217057170412E-2},{"$f":"($A58*LN(1+'Curves without VA'!G58)-IF(ISNUMBER($A57),$A57*LN(1+'Curves without VA'!G57),0)+($A58<=G$2)*LN(1+G$5/10000)+IF(ISNUMBER($A57),$A57*G57))/$A58","v":4.5005922863516297E-2},{"$f":"($A58*LN(1+'Curves without VA'!H58)-IF(ISNUMBER($A57),$A57*LN(1+'Curves without VA'!H57),0)+($A58<=H$2)*LN(1+H$5/10000)+IF(ISNUMBER($A57),$A57*H57))/$A58","v":3.6754215907071668E-2},{"$f":"($A58*LN(1+'Curves without VA'!I58)-IF(ISNUMBER($A57),$A57*LN(1+'Curves without VA'!I57),0)+($A58<=I$2)*LN(1+I$5/10000)+IF(ISNUMBER($A57),$A57*I57))/$A58","v":4.9265465589165745E-2},{"$f":"($A58*LN(1+'Curves without VA'!J58)-IF(ISNUMBER($A57),$A57*LN(1+'Curves without VA'!J57),0)+($A58<=J$2)*LN(1+J$5/10000)+IF(ISNUMBER($A57),$A57*J57))/$A58","v":3.9839816209061352E-2},3.4129409286547396E-2,4.0420395040874135E-2,3.3675250893456576E-2,4.5523091789023029E-2,4.8901280782939649E-2,4.8525355189629416E-2,4.3182516595711817E-2,5.9956795024700638E-2,4.7577427269016592E-2,{"$f":"(1+'Curves without VA'!K58)*(1+K58)/(1+'Curves without VA'!B58)-1","v":4.3762679035853402E-2},{"$f":"(1+'Curves without VA'!L58)*(1+L58)/(1+'Curves without VA'!C58)-1","v":5.4755641169027314E-2},{"$f":"(1+'Curves without VA'!M58)*(1+M58)/(1+'Curves without VA'!D58)-1","v":4.4824432159007443E-2},{"$f":"(1+'Curves without VA'!N58)*(1+N58)/(1+'Curves without VA'!E58)-1","v":5.8107373591121503E-2},{"$f":"(1+'Curves without VA'!O58)*(1+O58)/(1+'Curves without VA'!F58)-1","v":6.5573080747357126E-2},{"$f":"(1+'Curves without VA'!P58)*(1+P58)/(1+'Curves without VA'!G58)-1","v":6.2817130059772408E-2},{"$f":"(1+'Curves without VA'!Q58)*(1+Q58)/(1+'Curves without VA'!H58)-1","v":5.7784602496510296E-2},{"$f":"(1+'Curves without VA'!R58)*(1+R58)/(1+'Curves without VA'!I58)-1","v":8.2922217248538654E-2},{"$f":"(1+'Curves without VA'!S58)*(1+S58)/(1+'Curves without VA'!J58)-1","v":6.417170309901632E-2},{"$f":"(1+'Curves without VA'!T58)*(1+K58)/(1+'Curves without VA'!B58)-1","v":1.9882129448932639E-2},{"$f":"(1+'Curves without VA'!U58)*(1+L58)/(1+'Curves without VA'!C58)-1","v":2.8205580883098991E-2},{"$f":"(1+'Curves without VA'!V58)*(1+M58)/(1+'Curves without VA'!D58)-1","v":1.676929751097278E-2},{"$f":"(1+'Curves without VA'!W58)*(1+N58)/(1+'Curves without VA'!E58)-1","v":2.4569345207707372E-2},{"$f":"(1+'Curves without VA'!X58)*(1+O58)/(1+'Curves without VA'!F58)-1","v":1.9429089697516888E-2},{"$f":"(1+'Curves without VA'!Y58)*(1+P58)/(1+'Curves without VA'!G58)-1","v":2.562988295383084E-2},{"$f":"(1+'Curves without VA'!Z58)*(1+Q58)/(1+'Curves without VA'!H58)-1","v":3.4905496362393373E-2},{"$f":"(1+'Curves without VA'!AA58)*(1+R58)/(1+'Curves without VA'!I58)-1","v":4.597604761683538E-2},{"$f":"(1+'Curves without VA'!AB58)*(1+S58)/(1+'Curves without VA'!J58)-1","v":3.8490111237682978E-2}]
[46,{"$f":"($A59*LN(1+'Curves without VA'!B59)-IF(ISNUMBER($A58),$A58*LN(1+'Curves without VA'!B58),0)+($A59<=B$2)*LN(1+B$5/10000)+IF(ISNUMBER($A58),$A58*B58))/$A59","v":3.3352096800524381E-2},{"$f":"($A59*LN(1+'Curves without VA'!C59)-IF(ISNUMBER($A58),$A58*LN(1+'Curves without VA'!C58),0)+($A59<=C$2)*LN(1+C$5/10000)+IF(ISNUMBER($A58),$A58*C58))/$A59","v":3.6413468423928237E-2},{"$f":"($A59*LN(1+'Curves without VA'!D59)-IF(ISNUMBER($A58),$A58*LN(1+'Curves without VA'!D58),0)+($A59<=D$2)*LN(1+D$5/10000)+IF(ISNUMBER($A58),$A58*D58))/$A59","v":3.1943291586620119E-2},{"$f":"($A59*LN(1+'Curves without VA'!E59)-IF(ISNUMBER($A58),$A58*LN(1+'Curves without VA'!E58),0)+($A59<=E$2)*LN(1+E$5/10000)+IF(ISNUMBER($A58),$A58*E58))/$A59","v":4.2284925346694459E-2},{"$f":"($A59*LN(1+'Curves without VA'!F59)-IF(ISNUMBER($A58),$A58*LN(1+'Curves without VA'!F58),0)+($A59<=F$2)*LN(1+F$5/10000)+IF(ISNUMBER($A58),$A58*F58))/$A59","v":4.7549242641124742E-2},{"$f":"($A59*LN(1+'Curves without VA'!G59)-IF(ISNUMBER($A58),$A58*LN(1+'Curves without VA'!G58),0)+($A59<=G$2)*LN(1+G$5/10000)+IF(ISNUMBER($A58),$A58*G58))/$A59","v":4.4732470081412699E-2},{"$f":"($A59*LN(1+'Curves without VA'!H59)-IF(ISNUMBER($A58),$A58*LN(1+'Curves without VA'!H58),0)+($A59<=H$2)*LN(1+H$5/10000)+IF(ISNUMBER($A58),$A58*H58))/$A59","v":3.6660923114680603E-2},{"$f":"($A59*LN(1+'Curves without VA'!I59)-IF(ISNUMBER($A58),$A58*LN(1+'Curves without VA'!I58),0)+($A59<=I$2)*LN(1+I$5/10000)+IF(ISNUMBER($A58),$A58*I58))/$A59","v":4.9082113297482334E-2},{"$f":"($A59*LN(1+'Curves without VA'!J59)-IF(ISNUMBER($A58),$A58*LN(1+'Curves without VA'!J58),0)+($A59<=J$2)*LN(1+J$5/10000)+IF(ISNUMBER($A58),$A58*J58))/$A59","v":3.9679445149235784E-2},3.4105895727067903E-2,4.0271022522212485E-2,3.367116670215986E-2,4.5299306804063688E-2,4.8697840501253031E-2,4.8244863425599638E-2,4.2972753064974611E-2,5.9593061794279922E-2,4.7273656474826842E-2,{"$f":"(1+'Curves without VA'!K59)*(1+K59)/(1+'Curves without VA'!B59)-1","v":4.3570796379939214E-2},{"$f":"(1+'Curves without VA'!L59)*(1+L59)/(1+'Curves without VA'!C59)-1","v":5.4347882262370195E-2},{"$f":"(1+'Curves without VA'!M59)*(1+M59)/(1+'Curves without VA'!D59)-1","v":4.4657221716033701E-2},{"$f":"(1+'Curves without VA'!N59)*(1+N59)/(1+'Curves without VA'!E59)-1","v":5.7683296565536946E-2},{"$f":"(1+'Curves without VA'!O59)*(1+O59)/(1+'Curves without VA'!F59)-1","v":6.5326918006516133E-2},{"$f":"(1+'Curves without VA'!P59)*(1+P59)/(1+'Curves without VA'!G59)-1","v":6.2319042125154267E-2},{"$f":"(1+'Curves without VA'!Q59)*(1+Q59)/(1+'Curves without VA'!H59)-1","v":5.7302929500433031E-2},{"$f":"(1+'Curves without VA'!R59)*(1+R59)/(1+'Curves without VA'!I59)-1","v":8.2127937620366298E-2},{"$f":"(1+'Curves without VA'!S59)*(1+S59)/(1+'Curves without VA'!J59)-1","v":6.3552885926616121E-2},{"$f":"(1+'Curves without VA'!T59)*(1+K59)/(1+'Curves without VA'!B59)-1","v":2.0106580214703129E-2},{"$f":"(1+'Curves without VA'!U59)*(1+L59)/(1+'Curves without VA'!C59)-1","v":2.8278137093993294E-2},{"$f":"(1+'Curves without VA'!V59)*(1+M59)/(1+'Curves without VA'!D59)-1","v":1.7029988130901286E-2},{"$f":"(1+'Curves without VA'!W59)*(1+N59)/(1+'Curves without VA'!E59)-1","v":2.4704891601125656E-2},{"$f":"(1+'Curves without VA'!X59)*(1+O59)/(1+'Curves without VA'!F59)-1","v":1.9552866310476036E-2},{"$f":"(1+'Curves without VA'!Y59)*(1+P59)/(1+'Curves without VA'!G59)-1","v":2.5759434009686943E-2},{"$f":"(1+'Curves without VA'!Z59)*(1+Q59)/(1+'Curves without VA'!H59)-1","v":3.4841359124728966E-2},{"$f":"(1+'Curves without VA'!AA59)*(1+R59)/(1+'Curves without VA'!I59)-1","v":4.5884907530042041E-2},{"$f":"(1+'Curves without VA'!AB59)*(1+S59)/(1+'Curves without VA'!J59)-1","v":3.8351296912982225E-2}]
[47,{"$f":"($A60*LN(1+'Curves without VA'!B60)-IF(ISNUMBER($A59),$A59*LN(1+'Curves without VA'!B59),0)+($A60<=B$2)*LN(1+B$5/10000)+IF(ISNUMBER($A59),$A59*B59))/$A60","v":3.3333014609934764E-2},{"$f":"($A60*LN(1+'Curves without VA'!C60)-IF(ISNUMBER($A59),$A59*LN(1+'Curves without VA'!C59),0)+($A60<=C$2)*LN(1+C$5/10000)+IF(ISNUMBER($A59),$A59*C59))/$A60","v":3.6329358286303196E-2},{"$f":"($A60*LN(1+'Curves without VA'!D60)-IF(ISNUMBER($A59),$A59*LN(1+'Curves without VA'!D59),0)+($A60<=D$2)*LN(1+D$5/10000)+IF(ISNUMBER($A59),$A59*D59))/$A60","v":3.1936424535046561E-2},{"$f":"($A60*LN(1+'Curves without VA'!E60)-IF(ISNUMBER($A59),$A59*LN(1+'Curves without VA'!E59),0)+($A60<=E$2)*LN(1+E$5/10000)+IF(ISNUMBER($A59),$A59*E59))/$A60","v":4.207527313598218E-2},{"$f":"($A60*LN(1+'Curves without VA'!F60)-IF(ISNUMBER($A59),$A59*LN(1+'Curves without VA'!F59),0)+($A60<=F$2)*LN(1+F$5/10000)+IF(ISNUMBER($A59),$A59*F59))/$A60","v":4.7363522455549187E-2},{"$f":"($A60*LN(1+'Curves without VA'!G60)-IF(ISNUMBER($A59),$A59*LN(1+'Curves without VA'!G59),0)+($A60<=G$2)*LN(1+G$5/10000)+IF(ISNUMBER($A59),$A59*G59))/$A60","v":4.4470742450812818E-2},{"$f":"($A60*LN(1+'Curves without VA'!H60)-IF(ISNUMBER($A59),$A59*LN(1+'Curves without VA'!H59),0)+($A60<=H$2)*LN(1+H$5/10000)+IF(ISNUMBER($A59),$A59*H59))/$A60","v":3.6571610074639216E-2},{"$f":"($A60*LN(1+'Curves without VA'!I60)-IF(ISNUMBER($A59),$A59*LN(1+'Curves without VA'!I59),0)+($A60<=I$2)*LN(1+I$5/10000)+IF(ISNUMBER($A59),$A59*I59))/$A60","v":4.8907251796507643E-2},{"$f":"($A60*LN(1+'Curves without VA'!J60)-IF(ISNUMBER($A59),$A59*LN(1+'Curves without VA'!J59),0)+($A60<=J$2)*LN(1+J$5/10000)+IF(ISNUMBER($A59),$A59*J59))/$A60","v":3.9525908236118824E-2},3.4083276002881968E-2,4.0126751581940345E-2,3.366395687242818E-2,4.5079986419399365E-2,4.8503094228419252E-2,4.7970314775912071E-2,4.2770664804986369E-2,5.9241875883541573E-2,4.6981334546185582E-2,{"$f":"(1+'Curves without VA'!K60)*(1+K60)/(1+'Curves without VA'!B60)-1","v":4.3386056070899404E-2},{"$f":"(1+'Curves without VA'!L60)*(1+L60)/(1+'Curves without VA'!C60)-1","v":5.395387510719285E-2},{"$f":"(1+'Curves without VA'!M60)*(1+M60)/(1+'Curves without VA'!D60)-1","v":4.4488967392298795E-2},{"$f":"(1+'Curves without VA'!N60)*(1+N60)/(1+'Curves without VA'!E60)-1","v":5.7267762010065892E-2},{"$f":"(1+'Curves without VA'!O60)*(1+O60)/(1+'Curves without VA'!F60)-1","v":6.5091275016387229E-2},{"$f":"(1+'Curves without VA'!P60)*(1+P60)/(1+'Curves without VA'!G60)-1","v":6.182956142301621E-2},{"$f":"(1+'Curves without VA'!Q60)*(1+Q60)/(1+'Curves without VA'!H60)-1","v":5.6838897026354029E-2},{"$f":"(1+'Curves without VA'!R60)*(1+R60)/(1+'Curves without VA'!I60)-1","v":8.1360019470622991E-2},{"$f":"(1+'Curves without VA'!S60)*(1+S60)/(1+'Curves without VA'!J60)-1","v":6.2957153742096761E-2},{"$f":"(1+'Curves without VA'!T60)*(1+K60)/(1+'Curves without VA'!B60)-1","v":2.0324250283476841E-2},{"$f":"(1+'Curves without VA'!U60)*(1+L60)/(1+'Curves without VA'!C60)-1","v":2.834750350857651E-2},{"$f":"(1+'Curves without VA'!V60)*(1+M60)/(1+'Curves without VA'!D60)-1","v":1.7283303758916624E-2},{"$f":"(1+'Curves without VA'!W60)*(1+N60)/(1+'Curves without VA'!E60)-1","v":2.4836177927734848E-2},{"$f":"(1+'Curves without VA'!X60)*(1+O60)/(1+'Curves without VA'!F60)-1","v":1.9148569744515287E-2},{"$f":"(1+'Curves without VA'!Y60)*(1+P60)/(1+'Curves without VA'!G60)-1","v":2.5883253512681392E-2},{"$f":"(1+'Curves without VA'!Z60)*(1+Q60)/(1+'Curves without VA'!H60)-1","v":3.4778933916701948E-2},{"$f":"(1+'Curves without VA'!AA60)*(1+R60)/(1+'Curves without VA'!I60)-1","v":4.5794777360772976E-2},{"$f":"(1+'Curves without VA'!AB60)*(1+S60)/(1+'Curves without VA'!J60)-1","v":3.8217015817330724E-2}]
[48,{"$f":"($A61*LN(1+'Curves without VA'!B61)-IF(ISNUMBER($A60),$A60*LN(1+'Curves without VA'!B60),0)+($A61<=B$2)*LN(1+B$5/10000)+IF(ISNUMBER($A60),$A60*B60))/$A61","v":3.3314753457240033E-2},{"$f":"($A61*LN(1+'Curves without VA'!C61)-IF(ISNUMBER($A60),$A60*LN(1+'Curves without VA'!C60),0)+($A61<=C$2)*LN(1+C$5/10000)+IF(ISNUMBER($A60),$A60*C60))/$A61","v":3.6248767707643292E-2},{"$f":"($A61*LN(1+'Curves without VA'!D61)-IF(ISNUMBER($A60),$A60*LN(1+'Curves without VA'!D60),0)+($A61<=D$2)*LN(1+D$5/10000)+IF(ISNUMBER($A60),$A60*D60))/$A61","v":3.192957913109698E-2},{"$f":"($A61*LN(1+'Curves without VA'!E61)-IF(ISNUMBER($A60),$A60*LN(1+'Curves without VA'!E60),0)+($A61<=E$2)*LN(1+E$5/10000)+IF(ISNUMBER($A60),$A60*E60))/$A61","v":4.1874434382004833E-2},{"$f":"($A61*LN(1+'Curves without VA'!F61)-IF(ISNUMBER($A60),$A60*LN(1+'Curves without VA'!F60),0)+($A61<=F$2)*LN(1+F$5/10000)+IF(ISNUMBER($A60),$A60*F60))/$A61","v":4.7185540611039162E-2},{"$f":"($A61*LN(1+'Curves without VA'!G61)-IF(ISNUMBER($A60),$A60*LN(1+'Curves without VA'!G60),0)+($A61<=G$2)*LN(1+G$5/10000)+IF(ISNUMBER($A60),$A60*G60))/$A61","v":4.4219998086109991E-2},{"$f":"($A61*LN(1+'Curves without VA'!H61)-IF(ISNUMBER($A60),$A60*LN(1+'Curves without VA'!H60),0)+($A61<=H$2)*LN(1+H$5/10000)+IF(ISNUMBER($A60),$A60*H60))/$A61","v":3.6486027048145679E-2},{"$f":"($A61*LN(1+'Curves without VA'!I61)-IF(ISNUMBER($A60),$A60*LN(1+'Curves without VA'!I60),0)+($A61<=I$2)*LN(1+I$5/10000)+IF(ISNUMBER($A60),$A60*I60))/$A61","v":4.8740280181070121E-2},{"$f":"($A61*LN(1+'Curves without VA'!J61)-IF(ISNUMBER($A60),$A60*LN(1+'Curves without VA'!J60),0)+($A61<=J$2)*LN(1+J$5/10000)+IF(ISNUMBER($A60),$A60*J60))/$A61","v":3.937877733126114E-2},3.406150516328621E-2,3.9987392642936603E-2,3.3654153346806437E-2,4.4865372238204193E-2,4.831649631974666E-2,4.7701956189543537E-2,4.257590197614447E-2,5.8902759483322908E-2,4.6699901162515767E-2,{"$f":"(1+'Curves without VA'!K61)*(1+K61)/(1+'Curves without VA'!B61)-1","v":4.3208117891778475E-2},{"$f":"(1+'Curves without VA'!L61)*(1+L61)/(1+'Curves without VA'!C61)-1","v":5.357313715241574E-2},{"$f":"(1+'Curves without VA'!M61)*(1+M61)/(1+'Curves without VA'!D61)-1","v":4.4320571230036965E-2},{"$f":"(1+'Curves without VA'!N61)*(1+N61)/(1+'Curves without VA'!E61)-1","v":5.6861222069930051E-2},{"$f":"(1+'Curves without VA'!O61)*(1+O61)/(1+'Curves without VA'!F61)-1","v":6.4764949586893605E-2},{"$f":"(1+'Curves without VA'!P61)*(1+P61)/(1+'Curves without VA'!G61)-1","v":6.1349458774881516E-2},{"$f":"(1+'Curves without VA'!Q61)*(1+Q61)/(1+'Curves without VA'!H61)-1","v":5.6391705815488802E-2},{"$f":"(1+'Curves without VA'!R61)*(1+R61)/(1+'Curves without VA'!I61)-1","v":8.0617611124579769E-2},{"$f":"(1+'Curves without VA'!S61)*(1+S61)/(1+'Curves without VA'!J61)-1","v":6.2383414020756645E-2},{"$f":"(1+'Curves without VA'!T61)*(1+K61)/(1+'Curves without VA'!B61)-1","v":2.0535284355944539E-2},{"$f":"(1+'Curves without VA'!U61)*(1+L61)/(1+'Curves without VA'!C61)-1","v":2.8413890099481698E-2},{"$f":"(1+'Curves without VA'!V61)*(1+M61)/(1+'Curves without VA'!D61)-1","v":1.7529331130869075E-2},{"$f":"(1+'Curves without VA'!W61)*(1+N61)/(1+'Curves without VA'!E61)-1","v":2.4963317852296329E-2},{"$f":"(1+'Curves without VA'!X61)*(1+O61)/(1+'Curves without VA'!F61)-1","v":1.8751101515108948E-2},{"$f":"(1+'Curves without VA'!Y61)*(1+P61)/(1+'Curves without VA'!G61)-1","v":2.600172254614308E-2},{"$f":"(1+'Curves without VA'!Z61)*(1+Q61)/(1+'Curves without VA'!H61)-1","v":3.4718217807004903E-2},{"$f":"(1+'Curves without VA'!AA61)*(1+R61)/(1+'Curves without VA'!I61)-1","v":4.5705887527704547E-2},{"$f":"(1+'Curves without VA'!AB61)*(1+S61)/(1+'Curves without VA'!J61)-1","v":3.8087125937930733E-2}]
[49,{"$f":"($A62*LN(1+'Curves without VA'!B62)-IF(ISNUMBER($A61),$A61*LN(1+'Curves without VA'!B61),0)+($A62<=B$2)*LN(1+B$5/10000)+IF(ISNUMBER($A61),$A61*B61))/$A62","v":3.3297260427220081E-2},{"$f":"($A62*LN(1+'Curves without VA'!C62)-IF(ISNUMBER($A61),$A61*LN(1+'Curves without VA'!C61),0)+($A62<=C$2)*LN(1+C$5/10000)+IF(ISNUMBER($A61),$A61*C61))/$A62","v":3.6171479677218142E-2},{"$f":"($A62*LN(1+'Curves without VA'!D62)-IF(ISNUMBER($A61),$A61*LN(1+'Curves without VA'!D61),0)+($A62<=D$2)*LN(1+D$5/10000)+IF(ISNUMBER($A61),$A61*D61))/$A62","v":3.1922781036905851E-2},{"$f":"($A62*LN(1+'Curves without VA'!E62)-IF(ISNUMBER($A61),$A61*LN(1+'Curves without VA'!E61),0)+($A62<=E$2)*LN(1+E$5/10000)+IF(ISNUMBER($A61),$A61*E61))/$A62","v":4.1681861531558673E-2},{"$f":"($A62*LN(1+'Curves without VA'!F62)-IF(ISNUMBER($A61),$A61*LN(1+'Curves without VA'!F61),0)+($A62<=F$2)*LN(1+F$5/10000)+IF(ISNUMBER($A61),$A61*F61))/$A62","v":4.7014823331611277E-2},{"$f":"($A62*LN(1+'Curves without VA'!G62)-IF(ISNUMBER($A61),$A61*LN(1+'Curves without VA'!G61),0)+($A62<=G$2)*LN(1+G$5/10000)+IF(ISNUMBER($A61),$A61*G61))/$A62","v":4.3979556588641167E-2},{"$f":"($A62*LN(1+'Curves without VA'!H62)-IF(ISNUMBER($A61),$A61*LN(1+'Curves without VA'!H61),0)+($A62<=H$2)*LN(1+H$5/10000)+IF(ISNUMBER($A61),$A61*H61))/$A62","v":3.6403944785716527E-2},{"$f":"($A62*LN(1+'Curves without VA'!I62)-IF(ISNUMBER($A61),$A61*LN(1+'Curves without VA'!I61),0)+($A62<=I$2)*LN(1+I$5/10000)+IF(ISNUMBER($A61),$A61*I61))/$A62","v":4.8580653765829283E-2},{"$f":"($A62*LN(1+'Curves without VA'!J62)-IF(ISNUMBER($A61),$A61*LN(1+'Curves without VA'!J61),0)+($A62<=J$2)*LN(1+J$5/10000)+IF(ISNUMBER($A61),$A61*J61))/$A62","v":3.9237659348768252E-2},3.4040540812010134E-2,3.9852758336748728E-2,3.3642210313345577E-2,4.4655632688737956E-2,4.8137545854918473E-2,4.7439950862827818E-2,4.2388129921941964E-2,5.8575242086397861E-2,4.6428825668861196E-2,{"$f":"(1+'Curves without VA'!K62)*(1+K62)/(1+'Curves without VA'!B62)-1","v":4.3036658466297117E-2},{"$f":"(1+'Curves without VA'!L62)*(1+L62)/(1+'Curves without VA'!C62)-1","v":5.320518619107828E-2},{"$f":"(1+'Curves without VA'!M62)*(1+M62)/(1+'Curves without VA'!D62)-1","v":4.4152775957121637E-2},{"$f":"(1+'Curves without VA'!N62)*(1+N62)/(1+'Curves without VA'!E62)-1","v":5.6463990206074843E-2},{"$f":"(1+'Curves without VA'!O62)*(1+O62)/(1+'Curves without VA'!F62)-1","v":6.4548419524451672E-2},{"$f":"(1+'Curves without VA'!P62)*(1+P62)/(1+'Curves without VA'!G62)-1","v":6.0879306803768518E-2},{"$f":"(1+'Curves without VA'!Q62)*(1+Q62)/(1+'Curves without VA'!H62)-1","v":5.5960590253995468E-2},{"$f":"(1+'Curves without VA'!R62)*(1+R62)/(1+'Curves without VA'!I62)-1","v":7.9899846927690588E-2},{"$f":"(1+'Curves without VA'!S62)*(1+S62)/(1+'Curves without VA'!J62)-1","v":6.1830626660745125E-2},{"$f":"(1+'Curves without VA'!T62)*(1+K62)/(1+'Curves without VA'!B62)-1","v":2.0739843579939743E-2},{"$f":"(1+'Curves without VA'!U62)*(1+L62)/(1+'Curves without VA'!C62)-1","v":2.8477488611695856E-2},{"$f":"(1+'Curves without VA'!V62)*(1+M62)/(1+'Curves without VA'!D62)-1","v":1.7768187759375387E-2},{"$f":"(1+'Curves without VA'!W62)*(1+N62)/(1+'Curves without VA'!E62)-1","v":2.5086431256374109E-2},{"$f":"(1+'Curves without VA'!X62)*(1+O62)/(1+'Curves without VA'!F62)-1","v":1.8887763267770863E-2},{"$f":"(1+'Curves without VA'!Y62)*(1+P62)/(1+'Curves without VA'!G62)-1","v":2.611518873943397E-2},{"$f":"(1+'Curves without VA'!Z62)*(1+Q62)/(1+'Curves without VA'!H62)-1","v":3.4659197463105862E-2},{"$f":"(1+'Curves without VA'!AA62)*(1+R62)/(1+'Curves without VA'!I62)-1","v":4.5618419620180095E-2},{"$f":"(1+'Curves without VA'!AB62)*(1+S62)/(1+'Curves without VA'!J62)-1","v":3.7961482362377952E-2}]
[50,{"$f":"($A63*LN(1+'Curves without VA'!B63)-IF(ISNUMBER($A62),$A62*LN(1+'Curves without VA'!B62),0)+($A63<=B$2)*LN(1+B$5/10000)+IF(ISNUMBER($A62),$A62*B62))/$A63","v":3.3280487108145268E-2},{"$f":"($A63*LN(1+'Curves without VA'!C63)-IF(ISNUMBER($A62),$A62*LN(1+'Curves without VA'!C62),0)+($A63<=C$2)*LN(1+C$5/10000)+IF(ISNUMBER($A62),$A62*C62))/$A63","v":3.6097294701089314E-2},{"$f":"($A63*LN(1+'Curves without VA'!D63)-IF(ISNUMBER($A62),$A62*LN(1+'Curves without VA'!D62),0)+($A63<=D$2)*LN(1+D$5/10000)+IF(ISNUMBER($A62),$A62*D62))/$A63","v":3.1916051106683385E-2},{"$f":"($A63*LN(1+'Curves without VA'!E63)-IF(ISNUMBER($A62),$A62*LN(1+'Curves without VA'!E62),0)+($A63<=E$2)*LN(1+E$5/10000)+IF(ISNUMBER($A62),$A62*E62))/$A63","v":4.1497051647641794E-2},{"$f":"($A63*LN(1+'Curves without VA'!F63)-IF(ISNUMBER($A62),$A62*LN(1+'Curves without VA'!F62),0)+($A63<=F$2)*LN(1+F$5/10000)+IF(ISNUMBER($A62),$A62*F62))/$A63","v":4.6850934743360287E-2},{"$f":"($A63*LN(1+'Curves without VA'!G63)-IF(ISNUMBER($A62),$A62*LN(1+'Curves without VA'!G62),0)+($A63<=G$2)*LN(1+G$5/10000)+IF(ISNUMBER($A62),$A62*G62))/$A63","v":4.3748792803582577E-2},{"$f":"($A63*LN(1+'Curves without VA'!H63)-IF(ISNUMBER($A62),$A62*LN(1+'Curves without VA'!H62),0)+($A63<=H$2)*LN(1+H$5/10000)+IF(ISNUMBER($A62),$A62*H62))/$A63","v":3.63251524677922E-2},{"$f":"($A63*LN(1+'Curves without VA'!I63)-IF(ISNUMBER($A62),$A62*LN(1+'Curves without VA'!I62),0)+($A63<=I$2)*LN(1+I$5/10000)+IF(ISNUMBER($A62),$A62*I62))/$A63","v":4.8427877731734126E-2},{"$f":"($A63*LN(1+'Curves without VA'!J63)-IF(ISNUMBER($A62),$A62*LN(1+'Curves without VA'!J62),0)+($A63<=J$2)*LN(1+J$5/10000)+IF(ISNUMBER($A62),$A62*J62))/$A63","v":3.910219273958291E-2},3.402034296569667E-2,3.9722664643801808E-2,3.3628515479635634E-2,4.4450875827626968E-2,4.7965782147675551E-2,4.7184393151261439E-2,4.2207029026192666E-2,5.825886303234995E-2,4.6167605768529407E-2,{"$f":"(1+'Curves without VA'!K63)*(1+K63)/(1+'Curves without VA'!B63)-1","v":4.2871370698507993E-2},{"$f":"(1+'Curves without VA'!L63)*(1+L63)/(1+'Curves without VA'!C63)-1","v":5.2849544364753642E-2},{"$f":"(1+'Curves without VA'!M63)*(1+M63)/(1+'Curves without VA'!D63)-1","v":4.3986189678093313E-2},{"$f":"(1+'Curves without VA'!N63)*(1+N63)/(1+'Curves without VA'!E63)-1","v":5.6076265557237992E-2},{"$f":"(1+'Curves without VA'!O63)*(1+O63)/(1+'Curves without VA'!F63)-1","v":6.4240043478687614E-2},{"$f":"(1+'Curves without VA'!P63)*(1+P63)/(1+'Curves without VA'!G63)-1","v":6.041951371365184E-2},{"$f":"(1+'Curves without VA'!Q63)*(1+Q63)/(1+'Curves without VA'!H63)-1","v":5.5544818288673747E-2},{"$f":"(1+'Curves without VA'!R63)*(1+R63)/(1+'Curves without VA'!I63)-1","v":7.9205857377868227E-2},{"$f":"(1+'Curves without VA'!S63)*(1+S63)/(1+'Curves without VA'!J63)-1","v":6.1297802576085303E-2},{"$f":"(1+'Curves without VA'!T63)*(1+K63)/(1+'Curves without VA'!B63)-1","v":2.093810104120597E-2},{"$f":"(1+'Curves without VA'!U63)*(1+L63)/(1+'Curves without VA'!C63)-1","v":2.8538474496080379E-2},{"$f":"(1+'Curves without VA'!V63)*(1+M63)/(1+'Curves without VA'!D63)-1","v":1.8000015021965687E-2},{"$f":"(1+'Curves without VA'!W63)*(1+N63)/(1+'Curves without VA'!E63)-1","v":2.5205642041679521E-2},{"$f":"(1+'Curves without VA'!X63)*(1+O63)/(1+'Curves without VA'!F63)-1","v":1.8501008471686342E-2},{"$f":"(1+'Curves without VA'!Y63)*(1+P63)/(1+'Curves without VA'!G63)-1","v":2.6223969851848272E-2},{"$f":"(1+'Curves without VA'!Z63)*(1+Q63)/(1+'Curves without VA'!H63)-1","v":3.4601851279559392E-2},{"$f":"(1+'Curves without VA'!AA63)*(1+R63)/(1+'Curves without VA'!I63)-1","v":4.5532514350906439E-2},{"$f":"(1+'Curves without VA'!AB63)*(1+S63)/(1+'Curves without VA'!J63)-1","v":3.7839939054677307E-2}]
[51,{"$f":"($A64*LN(1+'Curves without VA'!B64)-IF(ISNUMBER($A63),$A63*LN(1+'Curves without VA'!B63),0)+($A64<=B$2)*LN(1+B$5/10000)+IF(ISNUMBER($A63),$A63*B63))/$A64","v":3.3264389122657431E-2},{"$f":"($A64*LN(1+'Curves without VA'!C64)-IF(ISNUMBER($A63),$A63*LN(1+'Curves without VA'!C63),0)+($A64<=C$2)*LN(1+C$5/10000)+IF(ISNUMBER($A63),$A63*C63))/$A64","v":3.6026029068854083E-2},{"$f":"($A64*LN(1+'Curves without VA'!D64)-IF(ISNUMBER($A63),$A63*LN(1+'Curves without VA'!D63),0)+($A64<=D$2)*LN(1+D$5/10000)+IF(ISNUMBER($A63),$A63*D63))/$A64","v":3.1909406139427651E-2},{"$f":"($A64*LN(1+'Curves without VA'!E64)-IF(ISNUMBER($A63),$A63*LN(1+'Curves without VA'!E63),0)+($A64<=E$2)*LN(1+E$5/10000)+IF(ISNUMBER($A63),$A63*E63))/$A64","v":4.131954195239762E-2},{"$f":"($A64*LN(1+'Curves without VA'!F64)-IF(ISNUMBER($A63),$A63*LN(1+'Curves without VA'!F63),0)+($A64<=F$2)*LN(1+F$5/10000)+IF(ISNUMBER($A63),$A63*F63))/$A64","v":4.6564806904778905E-2},{"$f":"($A64*LN(1+'Curves without VA'!G64)-IF(ISNUMBER($A63),$A63*LN(1+'Curves without VA'!G63),0)+($A64<=G$2)*LN(1+G$5/10000)+IF(ISNUMBER($A63),$A63*G63))/$A64","v":4.3527131320966916E-2},{"$f":"($A64*LN(1+'Curves without VA'!H64)-IF(ISNUMBER($A63),$A63*LN(1+'Curves without VA'!H63),0)+($A64<=H$2)*LN(1+H$5/10000)+IF(ISNUMBER($A63),$A63*H63))/$A64","v":3.6249455888695874E-2},{"$f":"($A64*LN(1+'Curves without VA'!I64)-IF(ISNUMBER($A63),$A63*LN(1+'Curves without VA'!I63),0)+($A64<=I$2)*LN(1+I$5/10000)+IF(ISNUMBER($A63),$A63*I63))/$A64","v":4.828150159466553E-2},{"$f":"($A64*LN(1+'Curves without VA'!J64)-IF(ISNUMBER($A63),$A63*LN(1+'Curves without VA'!J63),0)+($A64<=J$2)*LN(1+J$5/10000)+IF(ISNUMBER($A63),$A63*J63))/$A64","v":3.8972044390451356E-2},3.4000873917387375E-2,3.9596931759699583E-2,3.3613399664853549E-2,4.4251160074153306E-2,4.7793857955253705E-2,4.693532105543885E-2,4.2032294445460083E-2,5.7953173414166059E-2,4.5915766198156183E-2,{"$f":"(1+'Curves without VA'!K64)*(1+K64)/(1+'Curves without VA'!B64)-1","v":4.2711963162778366E-2},{"$f":"(1+'Curves without VA'!L64)*(1+L64)/(1+'Curves without VA'!C64)-1","v":5.2505741278362494E-2},{"$f":"(1+'Curves without VA'!M64)*(1+M64)/(1+'Curves without VA'!D64)-1","v":4.3821306768311086E-2},{"$f":"(1+'Curves without VA'!N64)*(1+N64)/(1+'Curves without VA'!E64)-1","v":5.5698153355310254E-2},{"$f":"(1+'Curves without VA'!O64)*(1+O64)/(1+'Curves without VA'!F64)-1","v":6.4042746407794171E-2},{"$f":"(1+'Curves without VA'!P64)*(1+P64)/(1+'Curves without VA'!G64)-1","v":5.9970351658119814E-2},{"$f":"(1+'Curves without VA'!Q64)*(1+Q64)/(1+'Curves without VA'!H64)-1","v":5.5143691011552143E-2},{"$f":"(1+'Curves without VA'!R64)*(1+R64)/(1+'Curves without VA'!I64)-1","v":7.8534777149652513E-2},{"$f":"(1+'Curves without VA'!S64)*(1+S64)/(1+'Curves without VA'!J64)-1","v":6.0784002054502295E-2},{"$f":"(1+'Curves without VA'!T64)*(1+K64)/(1+'Curves without VA'!B64)-1","v":2.1130238074931196E-2},{"$f":"(1+'Curves without VA'!U64)*(1+L64)/(1+'Curves without VA'!C64)-1","v":2.85970086041889E-2},{"$f":"(1+'Curves without VA'!V64)*(1+M64)/(1+'Curves without VA'!D64)-1","v":1.8224972450644916E-2},{"$f":"(1+'Curves without VA'!W64)*(1+N64)/(1+'Curves without VA'!E64)-1","v":2.5321076351913829E-2},{"$f":"(1+'Curves without VA'!X64)*(1+O64)/(1+'Curves without VA'!F64)-1","v":1.8306462903221243E-2},{"$f":"(1+'Curves without VA'!Y64)*(1+P64)/(1+'Curves without VA'!G64)-1","v":2.632835691081481E-2},{"$f":"(1+'Curves without VA'!Z64)*(1+Q64)/(1+'Curves without VA'!H64)-1","v":3.4546151144592807E-2},{"$f":"(1+'Curves without VA'!AA64)*(1+R64)/(1+'Curves without VA'!I64)-1","v":4.5448278259320185E-2},{"$f":"(1+'Curves without VA'!AB64)*(1+S64)/(1+'Curves without VA'!J64)-1","v":3.7722350269799643E-2}]
[52,{"$f":"($A65*LN(1+'Curves without VA'!B65)-IF(ISNUMBER($A64),$A64*LN(1+'Curves without VA'!B64),0)+($A65<=B$2)*LN(1+B$5/10000)+IF(ISNUMBER($A64),$A64*B64))/$A65","v":3.3248925715597441E-2},{"$f":"($A65*LN(1+'Curves without VA'!C65)-IF(ISNUMBER($A64),$A64*LN(1+'Curves without VA'!C64),0)+($A65<=C$2)*LN(1+C$5/10000)+IF(ISNUMBER($A64),$A64*C64))/$A65","v":3.595751332200546E-2},{"$f":"($A65*LN(1+'Curves without VA'!D65)-IF(ISNUMBER($A64),$A64*LN(1+'Curves without VA'!D64),0)+($A65<=D$2)*LN(1+D$5/10000)+IF(ISNUMBER($A64),$A64*D64))/$A65","v":3.1902859516038766E-2},{"$f":"($A65*LN(1+'Curves without VA'!E65)-IF(ISNUMBER($A64),$A64*LN(1+'Curves without VA'!E64),0)+($A65<=E$2)*LN(1+E$5/10000)+IF(ISNUMBER($A64),$A64*E64))/$A65","v":4.1148905892806301E-2},{"$f":"($A65*LN(1+'Curves without VA'!F65)-IF(ISNUMBER($A64),$A64*LN(1+'Curves without VA'!F64),0)+($A65<=F$2)*LN(1+F$5/10000)+IF(ISNUMBER($A64),$A64*F64))/$A65","v":4.6290102199320865E-2},{"$f":"($A65*LN(1+'Curves without VA'!G65)-IF(ISNUMBER($A64),$A64*LN(1+'Curves without VA'!G64),0)+($A65<=G$2)*LN(1+G$5/10000)+IF(ISNUMBER($A64),$A64*G64))/$A65","v":4.331404161967229E-2},{"$f":"($A65*LN(1+'Curves without VA'!H65)-IF(ISNUMBER($A64),$A64*LN(1+'Curves without VA'!H64),0)+($A65<=H$2)*LN(1+H$5/10000)+IF(ISNUMBER($A64),$A64*H64))/$A65","v":3.6176675851070858E-2},{"$f":"($A65*LN(1+'Curves without VA'!I65)-IF(ISNUMBER($A64),$A64*LN(1+'Curves without VA'!I64),0)+($A65<=I$2)*LN(1+I$5/10000)+IF(ISNUMBER($A64),$A64*I64))/$A65","v":4.8141114377952814E-2},{"$f":"($A65*LN(1+'Curves without VA'!J65)-IF(ISNUMBER($A64),$A64*LN(1+'Curves without VA'!J64),0)+($A65<=J$2)*LN(1+J$5/10000)+IF(ISNUMBER($A64),$A64*J64))/$A65","v":3.8846906881638936E-2},3.3982098105529657E-2,3.9475384738867803E-2,3.3597144972159487E-2,4.405650321163046E-2,4.7615947221935517E-2,4.6692726676452301E-2,4.1863635748097261E-2,5.7657737467662118E-2,4.5672857405315348E-2,{"$f":"(1+'Curves without VA'!K65)*(1+K65)/(1+'Curves without VA'!B65)-1","v":4.2558159462706247E-2},{"$f":"(1+'Curves without VA'!L65)*(1+L65)/(1+'Curves without VA'!C65)-1","v":5.2173316388663737E-2},{"$f":"(1+'Curves without VA'!M65)*(1+M65)/(1+'Curves without VA'!D65)-1","v":4.3658525572195517E-2},{"$f":"(1+'Curves without VA'!N65)*(1+N65)/(1+'Curves without VA'!E65)-1","v":5.5329682035916816E-2},{"$f":"(1+'Curves without VA'!O65)*(1+O65)/(1+'Curves without VA'!F65)-1","v":6.3812822650591183E-2},{"$f":"(1+'Curves without VA'!P65)*(1+P65)/(1+'Curves without VA'!G65)-1","v":5.9531980573078291E-2},{"$f":"(1+'Curves without VA'!Q65)*(1+Q65)/(1+'Curves without VA'!H65)-1","v":5.475654199357094E-2},{"$f":"(1+'Curves without VA'!R65)*(1+R65)/(1+'Curves without VA'!I65)-1","v":7.7885751390644575E-2},{"$f":"(1+'Curves without VA'!S65)*(1+S65)/(1+'Curves without VA'!J65)-1","v":6.0288332953849944E-2},{"$f":"(1+'Curves without VA'!T65)*(1+K65)/(1+'Curves without VA'!B65)-1","v":2.1316441258180996E-2},{"$f":"(1+'Curves without VA'!U65)*(1+L65)/(1+'Curves without VA'!C65)-1","v":2.8653238677643467E-2},{"$f":"(1+'Curves without VA'!V65)*(1+M65)/(1+'Curves without VA'!D65)-1","v":1.8443233021836924E-2},{"$f":"(1+'Curves without VA'!W65)*(1+N65)/(1+'Curves without VA'!E65)-1","v":2.5432861140517016E-2},{"$f":"(1+'Curves without VA'!X65)*(1+O65)/(1+'Curves without VA'!F65)-1","v":1.8165170659075747E-2},{"$f":"(1+'Curves without VA'!Y65)*(1+P65)/(1+'Curves without VA'!G65)-1","v":2.6428616966791996E-2},{"$f":"(1+'Curves without VA'!Z65)*(1+Q65)/(1+'Curves without VA'!H65)-1","v":3.4492063905050108E-2},{"$f":"(1+'Curves without VA'!AA65)*(1+R65)/(1+'Curves without VA'!I65)-1","v":4.5365789365782394E-2},{"$f":"(1+'Curves without VA'!AB65)*(1+S65)/(1+'Curves without VA'!J65)-1","v":3.76085716711132E-2}]
[53,{"$f":"($A66*LN(1+'Curves without VA'!B66)-IF(ISNUMBER($A65),$A65*LN(1+'Curves without VA'!B65),0)+($A66<=B$2)*LN(1+B$5/10000)+IF(ISNUMBER($A65),$A65*B65))/$A66","v":3.3234059390975644E-2},{"$f":"($A66*LN(1+'Curves without VA'!C66)-IF(ISNUMBER($A65),$A65*LN(1+'Curves without VA'!C65),0)+($A66<=C$2)*LN(1+C$5/10000)+IF(ISNUMBER($A65),$A65*C65))/$A66","v":3.5891590897117666E-2},{"$f":"($A66*LN(1+'Curves without VA'!D66)-IF(ISNUMBER($A65),$A65*LN(1+'Curves without VA'!D65),0)+($A66<=D$2)*LN(1+D$5/10000)+IF(ISNUMBER($A65),$A65*D65))/$A66","v":3.1896421739046346E-2},{"$f":"($A66*LN(1+'Curves without VA'!E66)-IF(ISNUMBER($A65),$A65*LN(1+'Curves without VA'!E65),0)+($A66<=E$2)*LN(1+E$5/10000)+IF(ISNUMBER($A65),$A65*E65))/$A66","v":4.0984749659214115E-2},{"$f":"($A66*LN(1+'Curves without VA'!F66)-IF(ISNUMBER($A65),$A65*LN(1+'Curves without VA'!F65),0)+($A66<=F$2)*LN(1+F$5/10000)+IF(ISNUMBER($A65),$A65*F65))/$A66","v":4.6026131292647147E-2},{"$f":"($A66*LN(1+'Curves without VA'!G66)-IF(ISNUMBER($A65),$A65*LN(1+'Curves without VA'!G65),0)+($A66<=G$2)*LN(1+G$5/10000)+IF(ISNUMBER($A65),$A65*G65))/$A66","v":4.3109033768592285E-2},{"$f":"($A66*LN(1+'Curves without VA'!H66)-IF(ISNUMBER($A65),$A65*LN(1+'Curves without VA'!H65),0)+($A66<=H$2)*LN(1+H$5/10000)+IF(ISNUMBER($A65),$A65*H65))/$A66","v":3.6106646742907436E-2},{"$f":"($A66*LN(1+'Curves without VA'!I66)-IF(ISNUMBER($A65),$A65*LN(1+'Curves without VA'!I65),0)+($A66<=I$2)*LN(1+I$5/10000)+IF(ISNUMBER($A65),$A65*I65))/$A66","v":4.8006340389090442E-2},{"$f":"($A66*LN(1+'Curves without VA'!J66)-IF(ISNUMBER($A65),$A65*LN(1+'Curves without VA'!J65),0)+($A66<=J$2)*LN(1+J$5/10000)+IF(ISNUMBER($A65),$A65*J65))/$A66","v":3.8726496055917659E-2},3.3963981988822889E-2,3.9357853957566746E-2,3.357999176061055E-2,4.3866889935377129E-2,4.74336835136413E-2,4.6456564969457492E-2,4.1700776485058766E-2,5.7372133542895165E-2,4.543845424391546E-2,{"$f":"(1+'Curves without VA'!K66)*(1+K66)/(1+'Curves without VA'!B66)-1","v":4.2409697573528415E-2},{"$f":"(1+'Curves without VA'!L66)*(1+L66)/(1+'Curves without VA'!C66)-1","v":5.1851820800493664E-2},{"$f":"(1+'Curves without VA'!M66)*(1+M66)/(1+'Curves without VA'!D66)-1","v":4.3498163407022394E-2},{"$f":"(1+'Curves without VA'!N66)*(1+N66)/(1+'Curves without VA'!E66)-1","v":5.4970817578142039E-2},{"$f":"(1+'Curves without VA'!O66)*(1+O66)/(1+'Curves without VA'!F66)-1","v":6.3556254198235962E-2},{"$f":"(1+'Curves without VA'!P66)*(1+P66)/(1+'Curves without VA'!G66)-1","v":5.9104468201816474E-2},{"$f":"(1+'Curves without VA'!Q66)*(1+Q66)/(1+'Curves without VA'!H66)-1","v":5.4382736431702661E-2},{"$f":"(1+'Curves without VA'!R66)*(1+R66)/(1+'Curves without VA'!I66)-1","v":7.7257940602924124E-2},{"$f":"(1+'Curves without VA'!S66)*(1+S66)/(1+'Curves without VA'!J66)-1","v":5.9809948795296108E-2},{"$f":"(1+'Curves without VA'!T66)*(1+K66)/(1+'Curves without VA'!B66)-1","v":2.1496899967417438E-2},{"$f":"(1+'Curves without VA'!U66)*(1+L66)/(1+'Curves without VA'!C66)-1","v":2.8707300660198998E-2},{"$f":"(1+'Curves without VA'!V66)*(1+M66)/(1+'Curves without VA'!D66)-1","v":1.8654979279989492E-2},{"$f":"(1+'Curves without VA'!W66)*(1+N66)/(1+'Curves without VA'!E66)-1","v":2.5541123024325429E-2},{"$f":"(1+'Curves without VA'!X66)*(1+O66)/(1+'Curves without VA'!F66)-1","v":1.8069423639111903E-2},{"$f":"(1+'Curves without VA'!Y66)*(1+P66)/(1+'Curves without VA'!G66)-1","v":2.6524995517604344E-2},{"$f":"(1+'Curves without VA'!Z66)*(1+Q66)/(1+'Curves without VA'!H66)-1","v":3.4439552579552002E-2},{"$f":"(1+'Curves without VA'!AA66)*(1+R66)/(1+'Curves without VA'!I66)-1","v":4.5285101943313144E-2},{"$f":"(1+'Curves without VA'!AB66)*(1+S66)/(1+'Curves without VA'!J66)-1","v":3.7498461203698152E-2}]
[54,{"$f":"($A67*LN(1+'Curves without VA'!B67)-IF(ISNUMBER($A66),$A66*LN(1+'Curves without VA'!B66),0)+($A67<=B$2)*LN(1+B$5/10000)+IF(ISNUMBER($A66),$A66*B66))/$A67","v":3.3219755591454146E-2},{"$f":"($A67*LN(1+'Curves without VA'!C67)-IF(ISNUMBER($A66),$A66*LN(1+'Curves without VA'!C66),0)+($A67<=C$2)*LN(1+C$5/10000)+IF(ISNUMBER($A66),$A66*C66))/$A67","v":3.5828116921043408E-2},{"$f":"($A67*LN(1+'Curves without VA'!D67)-IF(ISNUMBER($A66),$A66*LN(1+'Curves without VA'!D66),0)+($A67<=D$2)*LN(1+D$5/10000)+IF(ISNUMBER($A66),$A66*D66))/$A67","v":3.1890100890154281E-2},{"$f":"($A67*LN(1+'Curves without VA'!E67)-IF(ISNUMBER($A66),$A66*LN(1+'Curves without VA'!E66),0)+($A67<=E$2)*LN(1+E$5/10000)+IF(ISNUMBER($A66),$A66*E66))/$A67","v":4.0826709097240836E-2},{"$f":"($A67*LN(1+'Curves without VA'!F67)-IF(ISNUMBER($A66),$A66*LN(1+'Curves without VA'!F66),0)+($A67<=F$2)*LN(1+F$5/10000)+IF(ISNUMBER($A66),$A66*F66))/$A67","v":4.5772260282019167E-2},{"$f":"($A67*LN(1+'Curves without VA'!G67)-IF(ISNUMBER($A66),$A66*LN(1+'Curves without VA'!G66),0)+($A67<=G$2)*LN(1+G$5/10000)+IF(ISNUMBER($A66),$A66*G66))/$A67","v":4.2911654612000832E-2},{"$f":"($A67*LN(1+'Curves without VA'!H67)-IF(ISNUMBER($A66),$A66*LN(1+'Curves without VA'!H66),0)+($A67<=H$2)*LN(1+H$5/10000)+IF(ISNUMBER($A66),$A66*H66))/$A67","v":3.6039215273401419E-2},{"$f":"($A67*LN(1+'Curves without VA'!I67)-IF(ISNUMBER($A66),$A66*LN(1+'Curves without VA'!I66),0)+($A67<=I$2)*LN(1+I$5/10000)+IF(ISNUMBER($A66),$A66*I66))/$A67","v":4.7876835516434825E-2},{"$f":"($A67*LN(1+'Curves without VA'!J67)-IF(ISNUMBER($A66),$A66*LN(1+'Curves without VA'!J66),0)+($A67<=J$2)*LN(1+J$5/10000)+IF(ISNUMBER($A66),$A66*J66))/$A67","v":3.8610548858392955E-2},3.39464939270675E-2,3.9244175430781514E-2,3.3562144600128185E-2,4.3682278180255718E-2,4.7248446701142699E-2,4.6226761069253275E-2,4.1543453712581169E-2,5.7095954738816124E-2,4.5212154698738294E-2,{"$f":"(1+'Curves without VA'!K67)*(1+K67)/(1+'Curves without VA'!B67)-1","v":4.2266329179356354E-2},{"$f":"(1+'Curves without VA'!L67)*(1+L67)/(1+'Curves without VA'!C67)-1","v":5.1540818580991798E-2},{"$f":"(1+'Curves without VA'!M67)*(1+M67)/(1+'Curves without VA'!D67)-1","v":4.3340469291621275E-2},{"$f":"(1+'Curves without VA'!N67)*(1+N67)/(1+'Curves without VA'!E67)-1","v":5.4621475518362717E-2},{"$f":"(1+'Curves without VA'!O67)*(1+O67)/(1+'Curves without VA'!F67)-1","v":6.3278157861528017E-2},{"$f":"(1+'Curves without VA'!P67)*(1+P67)/(1+'Curves without VA'!G67)-1","v":5.8687806919925034E-2},{"$f":"(1+'Curves without VA'!Q67)*(1+Q67)/(1+'Curves without VA'!H67)-1","v":5.4021670161037205E-2},{"$f":"(1+'Curves without VA'!R67)*(1+R67)/(1+'Curves without VA'!I67)-1","v":7.665052436688824E-2},{"$f":"(1+'Curves without VA'!S67)*(1+S67)/(1+'Curves without VA'!J67)-1","v":5.9348046798914922E-2},{"$f":"(1+'Curves without VA'!T67)*(1+K67)/(1+'Curves without VA'!B67)-1","v":2.1671804405108519E-2},{"$f":"(1+'Curves without VA'!U67)*(1+L67)/(1+'Curves without VA'!C67)-1","v":2.8759319856367815E-2},{"$f":"(1+'Curves without VA'!V67)*(1+M67)/(1+'Curves without VA'!D67)-1","v":1.8860400156342827E-2},{"$f":"(1+'Curves without VA'!W67)*(1+N67)/(1+'Curves without VA'!E67)-1","v":2.5645987373500878E-2},{"$f":"(1+'Curves without VA'!X67)*(1+O67)/(1+'Curves without VA'!F67)-1","v":1.8012570603529676E-2},{"$f":"(1+'Curves without VA'!Y67)*(1+P67)/(1+'Curves without VA'!G67)-1","v":2.6617718646942956E-2},{"$f":"(1+'Curves without VA'!Z67)*(1+Q67)/(1+'Curves without VA'!H67)-1","v":3.4388577361313066E-2},{"$f":"(1+'Curves without VA'!AA67)*(1+R67)/(1+'Curves without VA'!I67)-1","v":4.5206250546024895E-2},{"$f":"(1+'Curves without VA'!AB67)*(1+S67)/(1+'Curves without VA'!J67)-1","v":3.7391879767279645E-2}]
[55,{"$f":"($A68*LN(1+'Curves without VA'!B68)-IF(ISNUMBER($A67),$A67*LN(1+'Curves without VA'!B67),0)+($A68<=B$2)*LN(1+B$5/10000)+IF(ISNUMBER($A67),$A67*B67))/$A68","v":3.3205982414714501E-2},{"$f":"($A68*LN(1+'Curves without VA'!C68)-IF(ISNUMBER($A67),$A67*LN(1+'Curves without VA'!C67),0)+($A68<=C$2)*LN(1+C$5/10000)+IF(ISNUMBER($A67),$A67*C67))/$A68","v":3.5766957138651891E-2},{"$f":"($A68*LN(1+'Curves without VA'!D68)-IF(ISNUMBER($A67),$A67*LN(1+'Curves without VA'!D67),0)+($A68<=D$2)*LN(1+D$5/10000)+IF(ISNUMBER($A67),$A67*D67))/$A68","v":3.1883903018333305E-2},{"$f":"($A68*LN(1+'Curves without VA'!E68)-IF(ISNUMBER($A67),$A67*LN(1+'Curves without VA'!E67),0)+($A68<=E$2)*LN(1+E$5/10000)+IF(ISNUMBER($A67),$A67*E67))/$A68","v":4.0674446962325632E-2},{"$f":"($A68*LN(1+'Curves without VA'!F68)-IF(ISNUMBER($A67),$A67*LN(1+'Curves without VA'!F67),0)+($A68<=F$2)*LN(1+F$5/10000)+IF(ISNUMBER($A67),$A67*F67))/$A68","v":4.552790521015506E-2},{"$f":"($A68*LN(1+'Curves without VA'!G68)-IF(ISNUMBER($A67),$A67*LN(1+'Curves without VA'!G67),0)+($A68<=G$2)*LN(1+G$5/10000)+IF(ISNUMBER($A67),$A67*G67))/$A68","v":4.2721484376817248E-2},{"$f":"($A68*LN(1+'Curves without VA'!H68)-IF(ISNUMBER($A67),$A67*LN(1+'Curves without VA'!H67),0)+($A68<=H$2)*LN(1+H$5/10000)+IF(ISNUMBER($A67),$A67*H67))/$A68","v":3.5974239347357911E-2},{"$f":"($A68*LN(1+'Curves without VA'!I68)-IF(ISNUMBER($A67),$A67*LN(1+'Curves without VA'!I67),0)+($A68<=I$2)*LN(1+I$5/10000)+IF(ISNUMBER($A67),$A67*I67))/$A68","v":4.7752283974514816E-2},{"$f":"($A68*LN(1+'Curves without VA'!J68)-IF(ISNUMBER($A67),$A67*LN(1+'Curves without VA'!J67),0)+($A68<=J$2)*LN(1+J$5/10000)+IF(ISNUMBER($A67),$A67*J67))/$A68","v":3.8498821412622265E-2},3.3929604068060781E-2,3.9134191011326536E-2,3.354377736355918E-2,4.350260442230347E-2,4.7061399576887597E-2,4.6003216416458326E-2,4.1391417482747883E-2,5.6828809267769786E-2,4.4993578647405608E-2,{"$f":"(1+'Curves without VA'!K68)*(1+K68)/(1+'Curves without VA'!B68)-1","v":4.2127819013946466E-2},{"$f":"(1+'Curves without VA'!L68)*(1+L68)/(1+'Curves without VA'!C68)-1","v":5.1239887682517971E-2},{"$f":"(1+'Curves without VA'!M68)*(1+M68)/(1+'Curves without VA'!D68)-1","v":4.3185634751355506E-2},{"$f":"(1+'Curves without VA'!N68)*(1+N68)/(1+'Curves without VA'!E68)-1","v":5.4281531009714667E-2},{"$f":"(1+'Curves without VA'!O68)*(1+O68)/(1+'Curves without VA'!F68)-1","v":6.2982906429909891E-2},{"$f":"(1+'Curves without VA'!P68)*(1+P68)/(1+'Curves without VA'!G68)-1","v":5.8281927867714467E-2},{"$f":"(1+'Curves without VA'!Q68)*(1+Q68)/(1+'Curves without VA'!H68)-1","v":5.3672768572991858E-2},{"$f":"(1+'Curves without VA'!R68)*(1+R68)/(1+'Curves without VA'!I68)-1","v":7.6062704119637337E-2},{"$f":"(1+'Curves without VA'!S68)*(1+S68)/(1+'Curves without VA'!J68)-1","v":5.8901865897275307E-2},{"$f":"(1+'Curves without VA'!T68)*(1+K68)/(1+'Curves without VA'!B68)-1","v":2.1841344015662179E-2},{"$f":"(1+'Curves without VA'!U68)*(1+L68)/(1+'Curves without VA'!C68)-1","v":2.8809411956899567E-2},{"$f":"(1+'Curves without VA'!V68)*(1+M68)/(1+'Curves without VA'!D68)-1","v":1.9059688367591088E-2},{"$f":"(1+'Curves without VA'!W68)*(1+N68)/(1+'Curves without VA'!E68)-1","v":2.5747577596578086E-2},{"$f":"(1+'Curves without VA'!X68)*(1+O68)/(1+'Curves without VA'!F68)-1","v":1.798886983466419E-2},{"$f":"(1+'Curves without VA'!Y68)*(1+P68)/(1+'Curves without VA'!G68)-1","v":2.6706994915069115E-2},{"$f":"(1+'Curves without VA'!Z68)*(1+Q68)/(1+'Curves without VA'!H68)-1","v":3.4339096445126227E-2},{"$f":"(1+'Curves without VA'!AA68)*(1+R68)/(1+'Curves without VA'!I68)-1","v":4.5129253410652659E-2},{"$f":"(1+'Curves without VA'!AB68)*(1+S68)/(1+'Curves without VA'!J68)-1","v":3.7288691724918444E-2}]
[56,{"$f":"($A69*LN(1+'Curves without VA'!B69)-IF(ISNUMBER($A68),$A68*LN(1+'Curves without VA'!B68),0)+($A69<=B$2)*LN(1+B$5/10000)+IF(ISNUMBER($A68),$A68*B68))/$A69","v":3.3192710361899545E-2},{"$f":"($A69*LN(1+'Curves without VA'!C69)-IF(ISNUMBER($A68),$A68*LN(1+'Curves without VA'!C68),0)+($A69<=C$2)*LN(1+C$5/10000)+IF(ISNUMBER($A68),$A68*C68))/$A69","v":3.5707986956423805E-2},{"$f":"($A69*LN(1+'Curves without VA'!D69)-IF(ISNUMBER($A68),$A68*LN(1+'Curves without VA'!D68),0)+($A69<=D$2)*LN(1+D$5/10000)+IF(ISNUMBER($A68),$A68*D68))/$A69","v":3.1877832469145655E-2},{"$f":"($A69*LN(1+'Curves without VA'!E69)-IF(ISNUMBER($A68),$A68*LN(1+'Curves without VA'!E68),0)+($A69<=E$2)*LN(1+E$5/10000)+IF(ISNUMBER($A68),$A68*E68))/$A69","v":4.0527650473497191E-2},{"$f":"($A69*LN(1+'Curves without VA'!F69)-IF(ISNUMBER($A68),$A68*LN(1+'Curves without VA'!F68),0)+($A69<=F$2)*LN(1+F$5/10000)+IF(ISNUMBER($A68),$A68*F68))/$A69","v":4.5292527212607465E-2},{"$f":"($A69*LN(1+'Curves without VA'!G69)-IF(ISNUMBER($A68),$A68*LN(1+'Curves without VA'!G68),0)+($A69<=G$2)*LN(1+G$5/10000)+IF(ISNUMBER($A68),$A68*G68))/$A69","v":4.253813364844438E-2},{"$f":"($A69*LN(1+'Curves without VA'!H69)-IF(ISNUMBER($A68),$A68*LN(1+'Curves without VA'!H68),0)+($A69<=H$2)*LN(1+H$5/10000)+IF(ISNUMBER($A68),$A68*H68))/$A69","v":3.5911587060756131E-2},{"$f":"($A69*LN(1+'Curves without VA'!I69)-IF(ISNUMBER($A68),$A68*LN(1+'Curves without VA'!I68),0)+($A69<=I$2)*LN(1+I$5/10000)+IF(ISNUMBER($A68),$A68*I68))/$A69","v":4.7632395437312756E-2},{"$f":"($A69*LN(1+'Curves without VA'!J69)-IF(ISNUMBER($A68),$A68*LN(1+'Curves without VA'!J68),0)+($A69<=J$2)*LN(1+J$5/10000)+IF(ISNUMBER($A68),$A68*J68))/$A69","v":3.8391087303426559E-2},3.3913284240497221E-2,3.9027748494453895E-2,3.3525037585393047E-2,4.3327788117195176E-2,4.6873519175155032E-2,4.5785813875417691E-2,4.1244430314636649E-2,5.6570320604462543E-2,4.4782366665623963E-2,{"$f":"(1+'Curves without VA'!K69)*(1+K69)/(1+'Curves without VA'!B69)-1","v":4.1993944211667023E-2},{"$f":"(1+'Curves without VA'!L69)*(1+L69)/(1+'Curves without VA'!C69)-1","v":5.0948620548943557E-2},{"$f":"(1+'Curves without VA'!M69)*(1+M69)/(1+'Curves without VA'!D69)-1","v":4.3033802994390635E-2},{"$f":"(1+'Curves without VA'!N69)*(1+N69)/(1+'Curves without VA'!E69)-1","v":5.3950827237922994E-2},{"$f":"(1+'Curves without VA'!O69)*(1+O69)/(1+'Curves without VA'!F69)-1","v":6.2674232704305499E-2},{"$f":"(1+'Curves without VA'!P69)*(1+P69)/(1+'Curves without VA'!G69)-1","v":5.7886712815074182E-2},{"$f":"(1+'Curves without VA'!Q69)*(1+Q69)/(1+'Curves without VA'!H69)-1","v":5.3335485472404187E-2},{"$f":"(1+'Curves without VA'!R69)*(1+R69)/(1+'Curves without VA'!I69)-1","v":7.5493705162879898E-2},{"$f":"(1+'Curves without VA'!S69)*(1+S69)/(1+'Curves without VA'!J69)-1","v":5.8470684754536872E-2},{"$f":"(1+'Curves without VA'!T69)*(1+K69)/(1+'Curves without VA'!B69)-1","v":2.2005706224377253E-2},{"$f":"(1+'Curves without VA'!U69)*(1+L69)/(1+'Curves without VA'!C69)-1","v":2.8857683948448232E-2},{"$f":"(1+'Curves without VA'!V69)*(1+M69)/(1+'Curves without VA'!D69)-1","v":1.925303829834446E-2},{"$f":"(1+'Curves without VA'!W69)*(1+N69)/(1+'Curves without VA'!E69)-1","v":2.5846014586486499E-2},{"$f":"(1+'Curves without VA'!X69)*(1+O69)/(1+'Curves without VA'!F69)-1","v":1.799336320616618E-2},{"$f":"(1+'Curves without VA'!Y69)*(1+P69)/(1+'Curves without VA'!G69)-1","v":2.6793017034148825E-2},{"$f":"(1+'Curves without VA'!Z69)*(1+Q69)/(1+'Curves without VA'!H69)-1","v":3.4291066707307971E-2},{"$f":"(1+'Curves without VA'!AA69)*(1+R69)/(1+'Curves without VA'!I69)-1","v":4.5054115328731381E-2},{"$f":"(1+'Curves without VA'!AB69)*(1+S69)/(1+'Curves without VA'!J69)-1","v":3.7188765277320401E-2}]
[57,{"$f":"($A70*LN(1+'Curves without VA'!B70)-IF(ISNUMBER($A69),$A69*LN(1+'Curves without VA'!B69),0)+($A70<=B$2)*LN(1+B$5/10000)+IF(ISNUMBER($A69),$A69*B69))/$A70","v":3.3179912114019397E-2},{"$f":"($A70*LN(1+'Curves without VA'!C70)-IF(ISNUMBER($A69),$A69*LN(1+'Curves without VA'!C69),0)+($A70<=C$2)*LN(1+C$5/10000)+IF(ISNUMBER($A69),$A69*C69))/$A70","v":3.5651090587577559E-2},{"$f":"($A70*LN(1+'Curves without VA'!D70)-IF(ISNUMBER($A69),$A69*LN(1+'Curves without VA'!D69),0)+($A70<=D$2)*LN(1+D$5/10000)+IF(ISNUMBER($A69),$A69*D69))/$A70","v":3.1871892164271637E-2},{"$f":"($A70*LN(1+'Curves without VA'!E70)-IF(ISNUMBER($A69),$A69*LN(1+'Curves without VA'!E69),0)+($A70<=E$2)*LN(1+E$5/10000)+IF(ISNUMBER($A69),$A69*E69))/$A70","v":4.0386029129099194E-2},{"$f":"($A70*LN(1+'Curves without VA'!F70)-IF(ISNUMBER($A69),$A69*LN(1+'Curves without VA'!F69),0)+($A70<=F$2)*LN(1+F$5/10000)+IF(ISNUMBER($A69),$A69*F69))/$A70","v":4.5065628216184941E-2},{"$f":"($A70*LN(1+'Curves without VA'!G70)-IF(ISNUMBER($A69),$A69*LN(1+'Curves without VA'!G69),0)+($A70<=G$2)*LN(1+G$5/10000)+IF(ISNUMBER($A69),$A69*G69))/$A70","v":4.2361240669398066E-2},{"$f":"($A70*LN(1+'Curves without VA'!H70)-IF(ISNUMBER($A69),$A69*LN(1+'Curves without VA'!H69),0)+($A70<=H$2)*LN(1+H$5/10000)+IF(ISNUMBER($A69),$A69*H69))/$A70","v":3.5851135802537501E-2},{"$f":"($A70*LN(1+'Curves without VA'!I70)-IF(ISNUMBER($A69),$A69*LN(1+'Curves without VA'!I69),0)+($A70<=I$2)*LN(1+I$5/10000)+IF(ISNUMBER($A69),$A69*I69))/$A70","v":4.7516902507855743E-2},{"$f":"($A70*LN(1+'Curves without VA'!J70)-IF(ISNUMBER($A69),$A69*LN(1+'Curves without VA'!J69),0)+($A70<=J$2)*LN(1+J$5/10000)+IF(ISNUMBER($A69),$A69*J69))/$A70","v":3.8287136040950312E-2},3.3897507852759468E-2,3.8924701647099713E-2,3.3506050196318693E-2,4.3157735411898379E-2,4.6685623582408464E-2,4.5574422003922255E-2,4.110226665607053E-2,5.6320127464174696E-2,4.4578178879647767E-2,{"$f":"(1+'Curves without VA'!K70)*(1+K70)/(1+'Curves without VA'!B70)-1","v":4.1864493673633651E-2},{"$f":"(1+'Curves without VA'!L70)*(1+L70)/(1+'Curves without VA'!C70)-1","v":5.0666624466819021E-2},{"$f":"(1+'Curves without VA'!M70)*(1+M70)/(1+'Curves without VA'!D70)-1","v":4.2885076707364744E-2},{"$f":"(1+'Curves without VA'!N70)*(1+N70)/(1+'Curves without VA'!E70)-1","v":5.3629182453811763E-2},{"$f":"(1+'Curves without VA'!O70)*(1+O70)/(1+'Curves without VA'!F70)-1","v":6.2355318878167143E-2},{"$f":"(1+'Curves without VA'!P70)*(1+P70)/(1+'Curves without VA'!G70)-1","v":5.7502004115064898E-2},{"$f":"(1+'Curves without VA'!Q70)*(1+Q70)/(1+'Curves without VA'!H70)-1","v":5.3009301899468619E-2},{"$f":"(1+'Curves without VA'!R70)*(1+R70)/(1+'Curves without VA'!I70)-1","v":7.4942778044729819E-2},{"$f":"(1+'Curves without VA'!S70)*(1+S70)/(1+'Curves without VA'!J70)-1","v":5.8053819812099228E-2},{"$f":"(1+'Curves without VA'!T70)*(1+K70)/(1+'Curves without VA'!B70)-1","v":2.2165075444177562E-2},{"$f":"(1+'Curves without VA'!U70)*(1+L70)/(1+'Curves without VA'!C70)-1","v":2.8904234922249472E-2},{"$f":"(1+'Curves without VA'!V70)*(1+M70)/(1+'Curves without VA'!D70)-1","v":1.9440644287183284E-2},{"$f":"(1+'Curves without VA'!W70)*(1+N70)/(1+'Curves without VA'!E70)-1","v":2.5941416299190667E-2},{"$f":"(1+'Curves without VA'!X70)*(1+O70)/(1+'Curves without VA'!F70)-1","v":1.8021768367053159E-2},{"$f":"(1+'Curves without VA'!Y70)*(1+P70)/(1+'Curves without VA'!G70)-1","v":2.6875963355967203E-2},{"$f":"(1+'Curves without VA'!Z70)*(1+Q70)/(1+'Curves without VA'!H70)-1","v":3.4244444262652163E-2},{"$f":"(1+'Curves without VA'!AA70)*(1+R70)/(1+'Curves without VA'!I70)-1","v":4.498083007132303E-2},{"$f":"(1+'Curves without VA'!AB70)*(1+S70)/(1+'Curves without VA'!J70)-1","v":3.7091972727499645E-2}]
[58,{"$f":"($A71*LN(1+'Curves without VA'!B71)-IF(ISNUMBER($A70),$A70*LN(1+'Curves without VA'!B70),0)+($A71<=B$2)*LN(1+B$5/10000)+IF(ISNUMBER($A70),$A70*B70))/$A71","v":3.3167562332794234E-2},{"$f":"($A71*LN(1+'Curves without VA'!C71)-IF(ISNUMBER($A70),$A70*LN(1+'Curves without VA'!C70),0)+($A71<=C$2)*LN(1+C$5/10000)+IF(ISNUMBER($A70),$A70*C70))/$A71","v":3.5596160286385056E-2},{"$f":"($A71*LN(1+'Curves without VA'!D71)-IF(ISNUMBER($A70),$A70*LN(1+'Curves without VA'!D70),0)+($A71<=D$2)*LN(1+D$5/10000)+IF(ISNUMBER($A70),$A70*D70))/$A71","v":3.1866083838805195E-2},{"$f":"($A71*LN(1+'Curves without VA'!E71)-IF(ISNUMBER($A70),$A70*LN(1+'Curves without VA'!E70),0)+($A71<=E$2)*LN(1+E$5/10000)+IF(ISNUMBER($A70),$A70*E70))/$A71","v":4.0249312752400727E-2},{"$f":"($A71*LN(1+'Curves without VA'!F71)-IF(ISNUMBER($A70),$A70*LN(1+'Curves without VA'!F70),0)+($A71<=F$2)*LN(1+F$5/10000)+IF(ISNUMBER($A70),$A70*F70))/$A71","v":4.4846747117789347E-2},{"$f":"($A71*LN(1+'Curves without VA'!G71)-IF(ISNUMBER($A70),$A70*LN(1+'Curves without VA'!G70),0)+($A71<=G$2)*LN(1+G$5/10000)+IF(ISNUMBER($A70),$A70*G70))/$A71","v":4.2190468921315193E-2},{"$f":"($A71*LN(1+'Curves without VA'!H71)-IF(ISNUMBER($A70),$A70*LN(1+'Curves without VA'!H70),0)+($A71<=H$2)*LN(1+H$5/10000)+IF(ISNUMBER($A70),$A70*H70))/$A71","v":3.579277144974758E-2},{"$f":"($A71*LN(1+'Curves without VA'!I71)-IF(ISNUMBER($A70),$A70*LN(1+'Curves without VA'!I70),0)+($A71<=I$2)*LN(1+I$5/10000)+IF(ISNUMBER($A70),$A70*I70))/$A71","v":4.7405558479988542E-2},{"$f":"($A71*LN(1+'Curves without VA'!J71)-IF(ISNUMBER($A70),$A70*LN(1+'Curves without VA'!J70),0)+($A71<=J$2)*LN(1+J$5/10000)+IF(ISNUMBER($A70),$A70*J70))/$A71","v":3.8186771684049964E-2},3.3882249797444697E-2,3.8824910177490457E-2,3.3486920725812164E-2,4.2992342243959092E-2,4.6498394903320417E-2,4.5368898609011055E-2,4.0964712343818821E-2,5.607788364691535E-2,4.4380693868388832E-2,{"$f":"(1+'Curves without VA'!K71)*(1+K71)/(1+'Curves without VA'!B71)-1","v":4.1739267452665096E-2},{"$f":"(1+'Curves without VA'!L71)*(1+L71)/(1+'Curves without VA'!C71)-1","v":5.0393521712095435E-2},{"$f":"(1+'Curves without VA'!M71)*(1+M71)/(1+'Curves without VA'!D71)-1","v":4.2739524679484164E-2},{"$f":"(1+'Curves without VA'!N71)*(1+N71)/(1+'Curves without VA'!E71)-1","v":5.331639584088288E-2},{"$f":"(1+'Curves without VA'!O71)*(1+O71)/(1+'Curves without VA'!F71)-1","v":6.2028873374788462E-2},{"$f":"(1+'Curves without VA'!P71)*(1+P71)/(1+'Curves without VA'!G71)-1","v":5.7127613045415915E-2},{"$f":"(1+'Curves without VA'!Q71)*(1+Q71)/(1+'Curves without VA'!H71)-1","v":5.2693724936956787E-2},{"$f":"(1+'Curves without VA'!R71)*(1+R71)/(1+'Curves without VA'!I71)-1","v":7.4409199434602336E-2},{"$f":"(1+'Curves without VA'!S71)*(1+S71)/(1+'Curves without VA'!J71)-1","v":5.7650623376637844E-2},{"$f":"(1+'Curves without VA'!T71)*(1+K71)/(1+'Curves without VA'!B71)-1","v":2.231963230410261E-2},{"$f":"(1+'Curves without VA'!U71)*(1+L71)/(1+'Curves without VA'!C71)-1","v":2.8949156794532138E-2},{"$f":"(1+'Curves without VA'!V71)*(1+M71)/(1+'Curves without VA'!D71)-1","v":1.9622699249262743E-2},{"$f":"(1+'Curves without VA'!W71)*(1+N71)/(1+'Curves without VA'!E71)-1","v":2.6033897441372966E-2},{"$f":"(1+'Curves without VA'!X71)*(1+O71)/(1+'Curves without VA'!F71)-1","v":1.8070386290725216E-2},{"$f":"(1+'Curves without VA'!Y71)*(1+P71)/(1+'Curves without VA'!G71)-1","v":2.6955999195796387E-2},{"$f":"(1+'Curves without VA'!Z71)*(1+Q71)/(1+'Curves without VA'!H71)-1","v":3.4199184918508596E-2},{"$f":"(1+'Curves without VA'!AA71)*(1+R71)/(1+'Curves without VA'!I71)-1","v":4.4909382435168732E-2},{"$f":"(1+'Curves without VA'!AB71)*(1+S71)/(1+'Curves without VA'!J71)-1","v":3.6998190656240881E-2}]
[59,{"$f":"($A72*LN(1+'Curves without VA'!B72)-IF(ISNUMBER($A71),$A71*LN(1+'Curves without VA'!B71),0)+($A72<=B$2)*LN(1+B$5/10000)+IF(ISNUMBER($A71),$A71*B71))/$A72","v":3.3155637482901207E-2},{"$f":"($A72*LN(1+'Curves without VA'!C72)-IF(ISNUMBER($A71),$A71*LN(1+'Curves without VA'!C71),0)+($A72<=C$2)*LN(1+C$5/10000)+IF(ISNUMBER($A71),$A71*C71))/$A72","v":3.554309566101551E-2},{"$f":"($A72*LN(1+'Curves without VA'!D72)-IF(ISNUMBER($A71),$A71*LN(1+'Curves without VA'!D71),0)+($A72<=D$2)*LN(1+D$5/10000)+IF(ISNUMBER($A71),$A71*D71))/$A72","v":3.1860408242683283E-2},{"$f":"($A72*LN(1+'Curves without VA'!E72)-IF(ISNUMBER($A71),$A71*LN(1+'Curves without VA'!E71),0)+($A72<=E$2)*LN(1+E$5/10000)+IF(ISNUMBER($A71),$A71*E71))/$A72","v":4.0117249739415162E-2},{"$f":"($A72*LN(1+'Curves without VA'!F72)-IF(ISNUMBER($A71),$A71*LN(1+'Curves without VA'!F71),0)+($A72<=F$2)*LN(1+F$5/10000)+IF(ISNUMBER($A71),$A71*F71))/$A72","v":4.4635456383047264E-2},{"$f":"($A72*LN(1+'Curves without VA'!G72)-IF(ISNUMBER($A71),$A71*LN(1+'Curves without VA'!G71),0)+($A72<=G$2)*LN(1+G$5/10000)+IF(ISNUMBER($A71),$A71*G71))/$A72","v":4.2025504956314332E-2},{"$f":"($A72*LN(1+'Curves without VA'!H72)-IF(ISNUMBER($A71),$A71*LN(1+'Curves without VA'!H71),0)+($A72<=H$2)*LN(1+H$5/10000)+IF(ISNUMBER($A71),$A71*H71))/$A72","v":3.5736387644911827E-2},{"$f":"($A72*LN(1+'Curves without VA'!I72)-IF(ISNUMBER($A71),$A71*LN(1+'Curves without VA'!I71),0)+($A72<=I$2)*LN(1+I$5/10000)+IF(ISNUMBER($A71),$A71*I71))/$A72","v":4.72981353545502E-2},{"$f":"($A72*LN(1+'Curves without VA'!J72)-IF(ISNUMBER($A71),$A71*LN(1+'Curves without VA'!J71),0)+($A72<=J$2)*LN(1+J$5/10000)+IF(ISNUMBER($A71),$A71*J71))/$A72","v":3.8089811604056507E-2},3.3867486361425447E-2,3.8728239658012198E-2,3.346773805073755E-2,4.2831496924591761E-2,4.631239894611805E-2,4.5169093701643792E-2,4.0831564068337212E-2,5.5843257777560051E-2,4.4189607616432092E-2,{"$f":"(1+'Curves without VA'!K72)*(1+K72)/(1+'Curves without VA'!B72)-1","v":4.1618076159642747E-2},{"$f":"(1+'Curves without VA'!L72)*(1+L72)/(1+'Curves without VA'!C72)-1","v":5.0128949534111955E-2},{"$f":"(1+'Curves without VA'!M72)*(1+M72)/(1+'Curves without VA'!D72)-1","v":4.259718743144747E-2},{"$f":"(1+'Curves without VA'!N72)*(1+N72)/(1+'Curves without VA'!E72)-1","v":5.3012252401446691E-2},{"$f":"(1+'Curves without VA'!O72)*(1+O72)/(1+'Curves without VA'!F72)-1","v":6.1697196937982035E-2},{"$f":"(1+'Curves without VA'!P72)*(1+P72)/(1+'Curves without VA'!G72)-1","v":5.6763326789493807E-2},{"$f":"(1+'Curves without VA'!Q72)*(1+Q72)/(1+'Curves without VA'!H72)-1","v":5.2388286518687988E-2},{"$f":"(1+'Curves without VA'!R72)*(1+R72)/(1+'Curves without VA'!I72)-1","v":7.3892272589606955E-2},{"$f":"(1+'Curves without VA'!S72)*(1+S72)/(1+'Curves without VA'!J72)-1","v":5.7260481762228865E-2},{"$f":"(1+'Curves without VA'!T72)*(1+K72)/(1+'Curves without VA'!B72)-1","v":2.2469553061152281E-2},{"$f":"(1+'Curves without VA'!U72)*(1+L72)/(1+'Curves without VA'!C72)-1","v":2.8992534949600746E-2},{"$f":"(1+'Curves without VA'!V72)*(1+M72)/(1+'Curves without VA'!D72)-1","v":1.9799393579383651E-2},{"$f":"(1+'Curves without VA'!W72)*(1+N72)/(1+'Curves without VA'!E72)-1","v":2.6123569247551659E-2},{"$f":"(1+'Curves without VA'!X72)*(1+O72)/(1+'Curves without VA'!F72)-1","v":1.8136021885008402E-2},{"$f":"(1+'Curves without VA'!Y72)*(1+P72)/(1+'Curves without VA'!G72)-1","v":2.7033278012871476E-2},{"$f":"(1+'Curves without VA'!Z72)*(1+Q72)/(1+'Curves without VA'!H72)-1","v":3.4155244542841245E-2},{"$f":"(1+'Curves without VA'!AA72)*(1+R72)/(1+'Curves without VA'!I72)-1","v":4.4839749968285103E-2},{"$f":"(1+'Curves without VA'!AB72)*(1+S72)/(1+'Curves without VA'!J72)-1","v":3.6907300025321055E-2}]
[60,{"$f":"($A73*LN(1+'Curves without VA'!B73)-IF(ISNUMBER($A72),$A72*LN(1+'Curves without VA'!B72),0)+($A73<=B$2)*LN(1+B$5/10000)+IF(ISNUMBER($A72),$A72*B72))/$A73","v":3.3144115673011273E-2},{"$f":"($A73*LN(1+'Curves without VA'!C73)-IF(ISNUMBER($A72),$A72*LN(1+'Curves without VA'!C72),0)+($A73<=C$2)*LN(1+C$5/10000)+IF(ISNUMBER($A72),$A72*C72))/$A73","v":3.5491803055682107E-2},{"$f":"($A73*LN(1+'Curves without VA'!D73)-IF(ISNUMBER($A72),$A72*LN(1+'Curves without VA'!D72),0)+($A73<=D$2)*LN(1+D$5/10000)+IF(ISNUMBER($A72),$A72*D72))/$A73","v":3.1854865311644824E-2},{"$f":"($A73*LN(1+'Curves without VA'!E73)-IF(ISNUMBER($A72),$A72*LN(1+'Curves without VA'!E72),0)+($A73<=E$2)*LN(1+E$5/10000)+IF(ISNUMBER($A72),$A72*E72))/$A73","v":3.9989605484982996E-2},{"$f":"($A73*LN(1+'Curves without VA'!F73)-IF(ISNUMBER($A72),$A72*LN(1+'Curves without VA'!F72),0)+($A73<=F$2)*LN(1+F$5/10000)+IF(ISNUMBER($A72),$A72*F72))/$A73","v":4.44313590125585E-2},{"$f":"($A73*LN(1+'Curves without VA'!G73)-IF(ISNUMBER($A72),$A72*LN(1+'Curves without VA'!G72),0)+($A73<=G$2)*LN(1+G$5/10000)+IF(ISNUMBER($A72),$A72*G72))/$A73","v":4.1866056448267124E-2},{"$f":"($A73*LN(1+'Curves without VA'!H73)-IF(ISNUMBER($A72),$A72*LN(1+'Curves without VA'!H72),0)+($A73<=H$2)*LN(1+H$5/10000)+IF(ISNUMBER($A72),$A72*H72))/$A73","v":3.5681885146009652E-2},{"$f":"($A73*LN(1+'Curves without VA'!I73)-IF(ISNUMBER($A72),$A72*LN(1+'Curves without VA'!I72),0)+($A73<=I$2)*LN(1+I$5/10000)+IF(ISNUMBER($A72),$A72*I72))/$A73","v":4.7194422077528643E-2},{"$f":"($A73*LN(1+'Curves without VA'!J73)-IF(ISNUMBER($A72),$A72*LN(1+'Curves without VA'!J72),0)+($A73<=J$2)*LN(1+J$5/10000)+IF(ISNUMBER($A72),$A72*J72))/$A73","v":3.7996085372501945E-2},3.3853195141233527E-2,3.8634561411926116E-2,3.3448576756029302E-2,4.2675082286511623E-2,4.6128102105314595E-2,4.4974851945093208E-2,4.0702628847713029E-2,5.5615932966542214E-2,4.4004632518305886E-2,{"$f":"(1+'Curves without VA'!K73)*(1+K73)/(1+'Curves without VA'!B73)-1","v":4.1500740393024538E-2},{"$f":"(1+'Curves without VA'!L73)*(1+L73)/(1+'Curves without VA'!C73)-1","v":4.9872560011186007E-2},{"$f":"(1+'Curves without VA'!M73)*(1+M73)/(1+'Curves without VA'!D73)-1","v":4.2458081998252739E-2},{"$f":"(1+'Curves without VA'!N73)*(1+N73)/(1+'Curves without VA'!E73)-1","v":5.2716527015647774E-2},{"$f":"(1+'Curves without VA'!O73)*(1+O73)/(1+'Curves without VA'!F73)-1","v":6.1362239509147987E-2},{"$f":"(1+'Curves without VA'!P73)*(1+P73)/(1+'Curves without VA'!G73)-1","v":5.6408914268551547E-2},{"$f":"(1+'Curves without VA'!Q73)*(1+Q73)/(1+'Curves without VA'!H73)-1","v":5.2092542251614971E-2},{"$f":"(1+'Curves without VA'!R73)*(1+R73)/(1+'Curves without VA'!I73)-1","v":7.3391327493693703E-2},{"$f":"(1+'Curves without VA'!S73)*(1+S73)/(1+'Curves without VA'!J73)-1","v":5.6882813494917972E-2},{"$f":"(1+'Curves without VA'!T73)*(1+K73)/(1+'Curves without VA'!B73)-1","v":2.2615009163434507E-2},{"$f":"(1+'Curves without VA'!U73)*(1+L73)/(1+'Curves without VA'!C73)-1","v":2.9034448815027369E-2},{"$f":"(1+'Curves without VA'!V73)*(1+M73)/(1+'Curves without VA'!D73)-1","v":1.9970914288540031E-2},{"$f":"(1+'Curves without VA'!W73)*(1+N73)/(1+'Curves without VA'!E73)-1","v":2.6210539330321803E-2},{"$f":"(1+'Curves without VA'!X73)*(1+O73)/(1+'Curves without VA'!F73)-1","v":1.8215915727296084E-2},{"$f":"(1+'Curves without VA'!Y73)*(1+P73)/(1+'Curves without VA'!G73)-1","v":2.7107942465090629E-2},{"$f":"(1+'Curves without VA'!Z73)*(1+Q73)/(1+'Curves without VA'!H73)-1","v":3.4112579360386031E-2},{"$f":"(1+'Curves without VA'!AA73)*(1+R73)/(1+'Curves without VA'!I73)-1","v":4.4771904423941189E-2},{"$f":"(1+'Curves without VA'!AB73)*(1+S73)/(1+'Curves without VA'!J73)-1","v":3.6819186222504019E-2}]
[61,{"$f":"($A74*LN(1+'Curves without VA'!B74)-IF(ISNUMBER($A73),$A73*LN(1+'Curves without VA'!B73),0)+($A74<=B$2)*LN(1+B$5/10000)+IF(ISNUMBER($A73),$A73*B73))/$A74","v":3.3132976513353285E-2},{"$f":"($A74*LN(1+'Curves without VA'!C74)-IF(ISNUMBER($A73),$A73*LN(1+'Curves without VA'!C73),0)+($A74<=C$2)*LN(1+C$5/10000)+IF(ISNUMBER($A73),$A73*C73))/$A74","v":3.5442194994075173E-2},{"$f":"($A74*LN(1+'Curves without VA'!D74)-IF(ISNUMBER($A73),$A73*LN(1+'Curves without VA'!D73),0)+($A74<=D$2)*LN(1+D$5/10000)+IF(ISNUMBER($A73),$A73*D73))/$A74","v":3.1849454312265157E-2},{"$f":"($A74*LN(1+'Curves without VA'!E74)-IF(ISNUMBER($A73),$A73*LN(1+'Curves without VA'!E73),0)+($A74<=E$2)*LN(1+E$5/10000)+IF(ISNUMBER($A73),$A73*E73))/$A74","v":3.9866160966348207E-2},{"$f":"($A74*LN(1+'Curves without VA'!F74)-IF(ISNUMBER($A73),$A73*LN(1+'Curves without VA'!F73),0)+($A74<=F$2)*LN(1+F$5/10000)+IF(ISNUMBER($A73),$A73*F73))/$A74","v":4.4234085830764769E-2},{"$f":"($A74*LN(1+'Curves without VA'!G74)-IF(ISNUMBER($A73),$A73*LN(1+'Curves without VA'!G73),0)+($A74<=G$2)*LN(1+G$5/10000)+IF(ISNUMBER($A73),$A73*G73))/$A74","v":4.1711850438430793E-2},{"$f":"($A74*LN(1+'Curves without VA'!H74)-IF(ISNUMBER($A73),$A73*LN(1+'Curves without VA'!H73),0)+($A74<=H$2)*LN(1+H$5/10000)+IF(ISNUMBER($A73),$A73*H73))/$A74","v":3.5629171240683738E-2},{"$f":"($A74*LN(1+'Curves without VA'!I74)-IF(ISNUMBER($A73),$A73*LN(1+'Curves without VA'!I73),0)+($A74<=I$2)*LN(1+I$5/10000)+IF(ISNUMBER($A73),$A73*I73))/$A74","v":4.7094222972303562E-2},{"$f":"($A74*LN(1+'Curves without VA'!J74)-IF(ISNUMBER($A73),$A73*LN(1+'Curves without VA'!J73),0)+($A74<=J$2)*LN(1+J$5/10000)+IF(ISNUMBER($A73),$A73*J73))/$A74","v":3.7905433758544979E-2},3.3839354963526525E-2,3.8543752372597329E-2,3.3429499163536214E-2,4.2522977464687139E-2,4.5945885847866297E-2,4.4786014676917008E-2,4.0577723514333419E-2,5.5395606411142495E-2,4.3825496433654187E-2,{"$f":"(1+'Curves without VA'!K74)*(1+K74)/(1+'Curves without VA'!B74)-1","v":4.1387090192585463E-2},{"$f":"(1+'Curves without VA'!L74)*(1+L74)/(1+'Curves without VA'!C74)-1","v":4.9624019806045361E-2},{"$f":"(1+'Curves without VA'!M74)*(1+M74)/(1+'Curves without VA'!D74)-1","v":4.2322205992061601E-2},{"$f":"(1+'Curves without VA'!N74)*(1+N74)/(1+'Curves without VA'!E74)-1","v":5.2428987803359028E-2},{"$f":"(1+'Curves without VA'!O74)*(1+O74)/(1+'Curves without VA'!F74)-1","v":6.102564919943898E-2},{"$f":"(1+'Curves without VA'!P74)*(1+P74)/(1+'Curves without VA'!G74)-1","v":5.6064131003805917E-2},{"$f":"(1+'Curves without VA'!Q74)*(1+Q74)/(1+'Curves without VA'!H74)-1","v":5.180607026094286E-2},{"$f":"(1+'Curves without VA'!R74)*(1+R74)/(1+'Curves without VA'!I74)-1","v":7.2905720736569313E-2},{"$f":"(1+'Curves without VA'!S74)*(1+S74)/(1+'Curves without VA'!J74)-1","v":5.6517067585478253E-2},{"$f":"(1+'Curves without VA'!T74)*(1+K74)/(1+'Curves without VA'!B74)-1","v":2.2756166937847766E-2},{"$f":"(1+'Curves without VA'!U74)*(1+L74)/(1+'Curves without VA'!C74)-1","v":2.9074972377108876E-2},{"$f":"(1+'Curves without VA'!V74)*(1+M74)/(1+'Curves without VA'!D74)-1","v":2.0137444334590082E-2},{"$f":"(1+'Curves without VA'!W74)*(1+N74)/(1+'Curves without VA'!E74)-1","v":2.6294911590140302E-2},{"$f":"(1+'Curves without VA'!X74)*(1+O74)/(1+'Curves without VA'!F74)-1","v":1.8307685293659004E-2},{"$f":"(1+'Curves without VA'!Y74)*(1+P74)/(1+'Curves without VA'!G74)-1","v":2.7180125353147622E-2},{"$f":"(1+'Curves without VA'!Z74)*(1+Q74)/(1+'Curves without VA'!H74)-1","v":3.4071146188763946E-2},{"$f":"(1+'Curves without VA'!AA74)*(1+R74)/(1+'Curves without VA'!I74)-1","v":4.4705812984359605E-2},{"$f":"(1+'Curves without VA'!AB74)*(1+S74)/(1+'Curves without VA'!J74)-1","v":3.6733739059932269E-2}]
[62,{"$f":"($A75*LN(1+'Curves without VA'!B75)-IF(ISNUMBER($A74),$A74*LN(1+'Curves without VA'!B74),0)+($A75<=B$2)*LN(1+B$5/10000)+IF(ISNUMBER($A74),$A74*B74))/$A75","v":3.3122200987850944E-2},{"$f":"($A75*LN(1+'Curves without VA'!C75)-IF(ISNUMBER($A74),$A74*LN(1+'Curves without VA'!C74),0)+($A75<=C$2)*LN(1+C$5/10000)+IF(ISNUMBER($A74),$A74*C74))/$A75","v":3.5394189677110888E-2},{"$f":"($A75*LN(1+'Curves without VA'!D75)-IF(ISNUMBER($A74),$A74*LN(1+'Curves without VA'!D74),0)+($A75<=D$2)*LN(1+D$5/10000)+IF(ISNUMBER($A74),$A74*D74))/$A75","v":3.184417396493381E-2},{"$f":"($A75*LN(1+'Curves without VA'!E75)-IF(ISNUMBER($A74),$A74*LN(1+'Curves without VA'!E74),0)+($A75<=E$2)*LN(1+E$5/10000)+IF(ISNUMBER($A74),$A74*E74))/$A75","v":3.9746711466174076E-2},{"$f":"($A75*LN(1+'Curves without VA'!F75)-IF(ISNUMBER($A74),$A74*LN(1+'Curves without VA'!F74),0)+($A75<=F$2)*LN(1+F$5/10000)+IF(ISNUMBER($A74),$A74*F74))/$A75","v":4.404329305853056E-2},{"$f":"($A75*LN(1+'Curves without VA'!G75)-IF(ISNUMBER($A74),$A74*LN(1+'Curves without VA'!G74),0)+($A75<=G$2)*LN(1+G$5/10000)+IF(ISNUMBER($A74),$A74*G74))/$A75","v":4.156263175322298E-2},{"$f":"($A75*LN(1+'Curves without VA'!H75)-IF(ISNUMBER($A74),$A74*LN(1+'Curves without VA'!H74),0)+($A75<=H$2)*LN(1+H$5/10000)+IF(ISNUMBER($A74),$A74*H74))/$A75","v":3.5578159217401151E-2},{"$f":"($A75*LN(1+'Curves without VA'!I75)-IF(ISNUMBER($A74),$A74*LN(1+'Curves without VA'!I74),0)+($A75<=I$2)*LN(1+I$5/10000)+IF(ISNUMBER($A74),$A74*I74))/$A75","v":4.6997356341932688E-2},{"$f":"($A75*LN(1+'Curves without VA'!J75)-IF(ISNUMBER($A74),$A74*LN(1+'Curves without VA'!J74),0)+($A75<=J$2)*LN(1+J$5/10000)+IF(ISNUMBER($A74),$A74*J74))/$A75","v":3.7817707823683912E-2},3.3825945810400437E-2,3.8455694922317152E-2,3.3410557076680947E-2,4.2375059367527612E-2,4.5766059148058646E-2,4.4602421571823259E-2,4.0456674216863719E-2,5.5181988953705741E-2,4.3651941792432591E-2,{"$f":"(1+'Curves without VA'!K75)*(1+K75)/(1+'Curves without VA'!B75)-1","v":4.1276964517939163E-2},{"$f":"(1+'Curves without VA'!L75)*(1+L75)/(1+'Curves without VA'!C75)-1","v":4.9383009844278236E-2},{"$f":"(1+'Curves without VA'!M75)*(1+M75)/(1+'Curves without VA'!D75)-1","v":4.2189541052013224E-2},{"$f":"(1+'Curves without VA'!N75)*(1+N75)/(1+'Curves without VA'!E75)-1","v":5.2149398898527988E-2},{"$f":"(1+'Curves without VA'!O75)*(1+O75)/(1+'Curves without VA'!F75)-1","v":6.0688814475055697E-2},{"$f":"(1+'Curves without VA'!P75)*(1+P75)/(1+'Curves without VA'!G75)-1","v":5.5728723159014892E-2},{"$f":"(1+'Curves without VA'!Q75)*(1+Q75)/(1+'Curves without VA'!H75)-1","v":5.1528470065338894E-2},{"$f":"(1+'Curves without VA'!R75)*(1+R75)/(1+'Curves without VA'!I75)-1","v":7.2434835187660473E-2},{"$f":"(1+'Curves without VA'!S75)*(1+S75)/(1+'Curves without VA'!J75)-1","v":5.6162721873970867E-2},{"$f":"(1+'Curves without VA'!T75)*(1+K75)/(1+'Curves without VA'!B75)-1","v":2.2893187379942948E-2},{"$f":"(1+'Curves without VA'!U75)*(1+L75)/(1+'Curves without VA'!C75)-1","v":2.9114174643652735E-2},{"$f":"(1+'Curves without VA'!V75)*(1+M75)/(1+'Curves without VA'!D75)-1","v":2.0299162114027824E-2},{"$f":"(1+'Curves without VA'!W75)*(1+N75)/(1+'Curves without VA'!E75)-1","v":2.6376786173364142E-2},{"$f":"(1+'Curves without VA'!X75)*(1+O75)/(1+'Curves without VA'!F75)-1","v":1.8409274304115764E-2},{"$f":"(1+'Curves without VA'!Y75)*(1+P75)/(1+'Curves without VA'!G75)-1","v":2.7249950467292283E-2},{"$f":"(1+'Curves without VA'!Z75)*(1+Q75)/(1+'Curves without VA'!H75)-1","v":3.4030902624502923E-2},{"$f":"(1+'Curves without VA'!AA75)*(1+R75)/(1+'Curves without VA'!I75)-1","v":4.4641439289092588E-2},{"$f":"(1+'Curves without VA'!AB75)*(1+S75)/(1+'Curves without VA'!J75)-1","v":3.6650852735509609E-2}]
[63,{"$f":"($A76*LN(1+'Curves without VA'!B76)-IF(ISNUMBER($A75),$A75*LN(1+'Curves without VA'!B75),0)+($A76<=B$2)*LN(1+B$5/10000)+IF(ISNUMBER($A75),$A75*B75))/$A76","v":3.3111771339129618E-2},{"$f":"($A76*LN(1+'Curves without VA'!C76)-IF(ISNUMBER($A75),$A75*LN(1+'Curves without VA'!C75),0)+($A76<=C$2)*LN(1+C$5/10000)+IF(ISNUMBER($A75),$A75*C75))/$A76","v":3.5347710528914285E-2},{"$f":"($A76*LN(1+'Curves without VA'!D76)-IF(ISNUMBER($A75),$A75*LN(1+'Curves without VA'!D75),0)+($A76<=D$2)*LN(1+D$5/10000)+IF(ISNUMBER($A75),$A75*D75))/$A76","v":3.1839022548043244E-2},{"$f":"($A76*LN(1+'Curves without VA'!E76)-IF(ISNUMBER($A75),$A75*LN(1+'Curves without VA'!E75),0)+($A76<=E$2)*LN(1+E$5/10000)+IF(ISNUMBER($A75),$A75*E75))/$A76","v":3.9631065419260758E-2},{"$f":"($A76*LN(1+'Curves without VA'!F76)-IF(ISNUMBER($A75),$A75*LN(1+'Curves without VA'!F75),0)+($A76<=F$2)*LN(1+F$5/10000)+IF(ISNUMBER($A75),$A75*F75))/$A76","v":4.385866013572233E-2},{"$f":"($A76*LN(1+'Curves without VA'!G76)-IF(ISNUMBER($A75),$A75*LN(1+'Curves without VA'!G75),0)+($A76<=G$2)*LN(1+G$5/10000)+IF(ISNUMBER($A75),$A75*G75))/$A76","v":4.1418161574769227E-2},{"$f":"($A76*LN(1+'Curves without VA'!H76)-IF(ISNUMBER($A75),$A75*LN(1+'Curves without VA'!H75),0)+($A76<=H$2)*LN(1+H$5/10000)+IF(ISNUMBER($A75),$A75*H75))/$A76","v":3.5528767887209455E-2},{"$f":"($A76*LN(1+'Curves without VA'!I76)-IF(ISNUMBER($A75),$A75*LN(1+'Curves without VA'!I75),0)+($A76<=I$2)*LN(1+I$5/10000)+IF(ISNUMBER($A75),$A75*I75))/$A76","v":4.6903653220711237E-2},{"$f":"($A76*LN(1+'Curves without VA'!J76)-IF(ISNUMBER($A75),$A75*LN(1+'Curves without VA'!J75),0)+($A76<=J$2)*LN(1+J$5/10000)+IF(ISNUMBER($A75),$A75*J75))/$A76","v":3.7732768102916342E-2},3.3812948749299077E-2,3.8370276716493734E-2,3.3391793281508209E-2,4.223120388705226E-2,4.558886916514493E-2,4.4423912002208077E-2,4.0339315939385667E-2,5.4974804610037564E-2,4.3483724748855535E-2,{"$f":"(1+'Curves without VA'!K76)*(1+K76)/(1+'Curves without VA'!B76)-1","v":4.1170210751987346E-2},{"$f":"(1+'Curves without VA'!L76)*(1+L76)/(1+'Curves without VA'!C76)-1","v":4.9149224934808444E-2},{"$f":"(1+'Curves without VA'!M76)*(1+M76)/(1+'Curves without VA'!D76)-1","v":4.2060055771718341E-2},{"$f":"(1+'Curves without VA'!N76)*(1+N76)/(1+'Curves without VA'!E76)-1","v":5.1877522728436043E-2},{"$f":"(1+'Curves without VA'!O76)*(1+O76)/(1+'Curves without VA'!F76)-1","v":6.035290051155684E-2},{"$f":"(1+'Curves without VA'!P76)*(1+P76)/(1+'Curves without VA'!G76)-1","v":5.5402430890828747E-2},{"$f":"(1+'Curves without VA'!Q76)*(1+Q76)/(1+'Curves without VA'!H76)-1","v":5.1259361487399957E-2},{"$f":"(1+'Curves without VA'!R76)*(1+R76)/(1+'Curves without VA'!I76)-1","v":7.1978079510635284E-2},{"$f":"(1+'Curves without VA'!S76)*(1+S76)/(1+'Curves without VA'!J76)-1","v":5.5819281448109992E-2},{"$f":"(1+'Curves without VA'!T76)*(1+K76)/(1+'Curves without VA'!B76)-1","v":2.3026226027281105E-2},{"$f":"(1+'Curves without VA'!U76)*(1+L76)/(1+'Curves without VA'!C76)-1","v":2.9152120060235154E-2},{"$f":"(1+'Curves without VA'!V76)*(1+M76)/(1+'Curves without VA'!D76)-1","v":2.0456241087163152E-2},{"$f":"(1+'Curves without VA'!W76)*(1+N76)/(1+'Curves without VA'!E76)-1","v":2.6456259469141985E-2},{"$f":"(1+'Curves without VA'!X76)*(1+O76)/(1+'Curves without VA'!F76)-1","v":1.8518909017487983E-2},{"$f":"(1+'Curves without VA'!Y76)*(1+P76)/(1+'Curves without VA'!G76)-1","v":2.7317533348130807E-2},{"$f":"(1+'Curves without VA'!Z76)*(1+Q76)/(1+'Curves without VA'!H76)-1","v":3.3991807187334411E-2},{"$f":"(1+'Curves without VA'!AA76)*(1+R76)/(1+'Curves without VA'!I76)-1","v":4.4578744297686823E-2},{"$f":"(1+'Curves without VA'!AB76)*(1+S76)/(1+'Curves without VA'!J76)-1","v":3.6570425765221737E-2}]
[64,{"$f":"($A77*LN(1+'Curves without VA'!B77)-IF(ISNUMBER($A76),$A76*LN(1+'Curves without VA'!B76),0)+($A77<=B$2)*LN(1+B$5/10000)+IF(ISNUMBER($A76),$A76*B76))/$A77","v":3.3101670964917798E-2},{"$f":"($A77*LN(1+'Curves without VA'!C77)-IF(ISNUMBER($A76),$A76*LN(1+'Curves without VA'!C76),0)+($A77<=C$2)*LN(1+C$5/10000)+IF(ISNUMBER($A76),$A76*C76))/$A77","v":3.5302685785719434E-2},{"$f":"($A77*LN(1+'Curves without VA'!D77)-IF(ISNUMBER($A76),$A76*LN(1+'Curves without VA'!D76),0)+($A77<=D$2)*LN(1+D$5/10000)+IF(ISNUMBER($A76),$A76*D76))/$A77","v":3.1833997986172716E-2},{"$f":"($A77*LN(1+'Curves without VA'!E77)-IF(ISNUMBER($A76),$A76*LN(1+'Curves without VA'!E76),0)+($A77<=E$2)*LN(1+E$5/10000)+IF(ISNUMBER($A76),$A76*E76))/$A77","v":3.951904336922249E-2},{"$f":"($A77*LN(1+'Curves without VA'!F77)-IF(ISNUMBER($A76),$A76*LN(1+'Curves without VA'!F76),0)+($A77<=F$2)*LN(1+F$5/10000)+IF(ISNUMBER($A76),$A76*F76))/$A77","v":4.3679887764516499E-2},{"$f":"($A77*LN(1+'Curves without VA'!G77)-IF(ISNUMBER($A76),$A76*LN(1+'Curves without VA'!G76),0)+($A77<=G$2)*LN(1+G$5/10000)+IF(ISNUMBER($A76),$A76*G76))/$A77","v":4.1278216147301192E-2},{"$f":"($A77*LN(1+'Curves without VA'!H77)-IF(ISNUMBER($A76),$A76*LN(1+'Curves without VA'!H76),0)+($A77<=H$2)*LN(1+H$5/10000)+IF(ISNUMBER($A76),$A76*H76))/$A77","v":3.5480921150534431E-2},{"$f":"($A77*LN(1+'Curves without VA'!I77)-IF(ISNUMBER($A76),$A76*LN(1+'Curves without VA'!I76),0)+($A77<=I$2)*LN(1+I$5/10000)+IF(ISNUMBER($A76),$A76*I76))/$A77","v":4.6812956257017355E-2},{"$f":"($A77*LN(1+'Curves without VA'!J77)-IF(ISNUMBER($A76),$A76*LN(1+'Curves without VA'!J76),0)+($A77<=J$2)*LN(1+J$5/10000)+IF(ISNUMBER($A76),$A76*J76))/$A77","v":3.7650483862870787E-2},3.3800345867277093E-2,3.8287390497895757E-2,3.337324283869747E-2,4.2091286889060164E-2,4.5414510414392817E-2,4.4250326144307017E-2,4.0225492038937993E-2,5.4773790078691098E-2,4.3320614382536871E-2,{"$f":"(1+'Curves without VA'!K77)*(1+K77)/(1+'Curves without VA'!B77)-1","v":4.1066684229112971E-2},{"$f":"(1+'Curves without VA'!L77)*(1+L77)/(1+'Curves without VA'!C77)-1","v":4.8922373347930037E-2},{"$f":"(1+'Curves without VA'!M77)*(1+M77)/(1+'Curves without VA'!D77)-1","v":4.1933708181478568E-2},{"$f":"(1+'Curves without VA'!N77)*(1+N77)/(1+'Curves without VA'!E77)-1","v":5.1613121875954571E-2},{"$f":"(1+'Curves without VA'!O77)*(1+O77)/(1+'Curves without VA'!F77)-1","v":6.001888053505211E-2},{"$f":"(1+'Curves without VA'!P77)*(1+P77)/(1+'Curves without VA'!G77)-1","v":5.5084991114529691E-2},{"$f":"(1+'Curves without VA'!Q77)*(1+Q77)/(1+'Curves without VA'!H77)-1","v":5.0998383602982145E-2},{"$f":"(1+'Curves without VA'!R77)*(1+R77)/(1+'Curves without VA'!I77)-1","v":7.1534887555906312E-2},{"$f":"(1+'Curves without VA'!S77)*(1+S77)/(1+'Curves without VA'!J77)-1","v":5.5486277136107098E-2},{"$f":"(1+'Curves without VA'!T77)*(1+K77)/(1+'Curves without VA'!B77)-1","v":2.3155432900696438E-2},{"$f":"(1+'Curves without VA'!U77)*(1+L77)/(1+'Curves without VA'!C77)-1","v":2.9188868885260844E-2},{"$f":"(1+'Curves without VA'!V77)*(1+M77)/(1+'Curves without VA'!D77)-1","v":2.0608849513471306E-2},{"$f":"(1+'Curves without VA'!W77)*(1+N77)/(1+'Curves without VA'!E77)-1","v":2.6533424137354489E-2},{"$f":"(1+'Curves without VA'!X77)*(1+O77)/(1+'Curves without VA'!F77)-1","v":1.8635060485940214E-2},{"$f":"(1+'Curves without VA'!Y77)*(1+P77)/(1+'Curves without VA'!G77)-1","v":2.7382981971422637E-2},{"$f":"(1+'Curves without VA'!Z77)*(1+Q77)/(1+'Curves without VA'!H77)-1","v":3.39538194297897E-2},{"$f":"(1+'Curves without VA'!AA77)*(1+R77)/(1+'Curves without VA'!I77)-1","v":4.4517687011717655E-2},{"$f":"(1+'Curves without VA'!AB77)*(1+S77)/(1+'Curves without VA'!J77)-1","v":3.6492360892935949E-2}]
[65,{"$f":"($A78*LN(1+'Curves without VA'!B78)-IF(ISNUMBER($A77),$A77*LN(1+'Curves without VA'!B77),0)+($A78<=B$2)*LN(1+B$5/10000)+IF(ISNUMBER($A77),$A77*B77))/$A78","v":3.3091884324550049E-2},{"$f":"($A78*LN(1+'Curves without VA'!C78)-IF(ISNUMBER($A77),$A77*LN(1+'Curves without VA'!C77),0)+($A78<=C$2)*LN(1+C$5/10000)+IF(ISNUMBER($A77),$A77*C77))/$A78","v":3.5259048123028047E-2},{"$f":"($A78*LN(1+'Curves without VA'!D78)-IF(ISNUMBER($A77),$A77*LN(1+'Curves without VA'!D77),0)+($A78<=D$2)*LN(1+D$5/10000)+IF(ISNUMBER($A77),$A77*D77))/$A78","v":3.1829097924628291E-2},{"$f":"($A78*LN(1+'Curves without VA'!E78)-IF(ISNUMBER($A77),$A77*LN(1+'Curves without VA'!E77),0)+($A78<=E$2)*LN(1+E$5/10000)+IF(ISNUMBER($A77),$A77*E77))/$A78","v":3.9410477023092472E-2},{"$f":"($A78*LN(1+'Curves without VA'!F78)-IF(ISNUMBER($A77),$A77*LN(1+'Curves without VA'!F77),0)+($A78<=F$2)*LN(1+F$5/10000)+IF(ISNUMBER($A77),$A77*F77))/$A78","v":4.3506696147960301E-2},{"$f":"($A78*LN(1+'Curves without VA'!G78)-IF(ISNUMBER($A77),$A77*LN(1+'Curves without VA'!G77),0)+($A78<=G$2)*LN(1+G$5/10000)+IF(ISNUMBER($A77),$A77*G77))/$A78","v":4.1142585604585467E-2},{"$f":"($A78*LN(1+'Curves without VA'!H78)-IF(ISNUMBER($A77),$A77*LN(1+'Curves without VA'!H77),0)+($A78<=H$2)*LN(1+H$5/10000)+IF(ISNUMBER($A77),$A77*H77))/$A78","v":3.5434547604142913E-2},{"$f":"($A78*LN(1+'Curves without VA'!I78)-IF(ISNUMBER($A77),$A77*LN(1+'Curves without VA'!I77),0)+($A78<=I$2)*LN(1+I$5/10000)+IF(ISNUMBER($A77),$A77*I77))/$A78","v":4.6725118711848306E-2},{"$f":"($A78*LN(1+'Curves without VA'!J78)-IF(ISNUMBER($A77),$A77*LN(1+'Curves without VA'!J77),0)+($A78<=J$2)*LN(1+J$5/10000)+IF(ISNUMBER($A77),$A77*J77))/$A78","v":3.7570732428597271E-2},3.3788120209375494E-2,3.8206933904748386E-2,3.335493419605462E-2,4.195518501798734E-2,4.5243132645457873E-2,4.4081505870462223E-2,4.0115053802234568E-2,5.457869423977102E-2,4.3162391945065881E-2,{"$f":"(1+'Curves without VA'!K78)*(1+K78)/(1+'Curves without VA'!B78)-1","v":4.0966247787710852E-2},{"$f":"(1+'Curves without VA'!L78)*(1+L78)/(1+'Curves without VA'!C78)-1","v":4.8702176363572214E-2},{"$f":"(1+'Curves without VA'!M78)*(1+M78)/(1+'Curves without VA'!D78)-1","v":4.1810447850764154E-2},{"$f":"(1+'Curves without VA'!N78)*(1+N78)/(1+'Curves without VA'!E78)-1","v":5.1355960590792948E-2},{"$f":"(1+'Curves without VA'!O78)*(1+O78)/(1+'Curves without VA'!F78)-1","v":5.9687562850621934E-2},{"$f":"(1+'Curves without VA'!P78)*(1+P78)/(1+'Curves without VA'!G78)-1","v":5.4776139776204991E-2},{"$f":"(1+'Curves without VA'!Q78)*(1+Q78)/(1+'Curves without VA'!H78)-1","v":5.0745193731805749E-2},{"$f":"(1+'Curves without VA'!R78)*(1+R78)/(1+'Curves without VA'!I78)-1","v":7.1104717661829353E-2},{"$f":"(1+'Curves without VA'!S78)*(1+S78)/(1+'Curves without VA'!J78)-1","v":5.5163264073686546E-2},{"$f":"(1+'Curves without VA'!T78)*(1+K78)/(1+'Curves without VA'!B78)-1","v":2.32809525004396E-2},{"$f":"(1+'Curves without VA'!U78)*(1+L78)/(1+'Curves without VA'!C78)-1","v":2.922447752849644E-2},{"$f":"(1+'Curves without VA'!V78)*(1+M78)/(1+'Curves without VA'!D78)-1","v":2.0757150277615155E-2},{"$f":"(1+'Curves without VA'!W78)*(1+N78)/(1+'Curves without VA'!E78)-1","v":2.6608369161114309E-2},{"$f":"(1+'Curves without VA'!X78)*(1+O78)/(1+'Curves without VA'!F78)-1","v":1.8756411927487227E-2},{"$f":"(1+'Curves without VA'!Y78)*(1+P78)/(1+'Curves without VA'!G78)-1","v":2.7446397365527675E-2},{"$f":"(1+'Curves without VA'!Z78)*(1+Q78)/(1+'Curves without VA'!H78)-1","v":3.3916900018013063E-2},{"$f":"(1+'Curves without VA'!AA78)*(1+R78)/(1+'Curves without VA'!I78)-1","v":4.4458225077483648E-2},{"$f":"(1+'Curves without VA'!AB78)*(1+S78)/(1+'Curves without VA'!J78)-1","v":3.6416564983089872E-2}]
[66,{"$f":"($A79*LN(1+'Curves without VA'!B79)-IF(ISNUMBER($A78),$A78*LN(1+'Curves without VA'!B78),0)+($A79<=B$2)*LN(1+B$5/10000)+IF(ISNUMBER($A78),$A78*B78))/$A79","v":3.3082396854445591E-2},{"$f":"($A79*LN(1+'Curves without VA'!C79)-IF(ISNUMBER($A78),$A78*LN(1+'Curves without VA'!C78),0)+($A79<=C$2)*LN(1+C$5/10000)+IF(ISNUMBER($A78),$A78*C78))/$A79","v":3.5216734316938642E-2},{"$f":"($A79*LN(1+'Curves without VA'!D79)-IF(ISNUMBER($A78),$A78*LN(1+'Curves without VA'!D78),0)+($A79<=D$2)*LN(1+D$5/10000)+IF(ISNUMBER($A78),$A78*D78))/$A79","v":3.1824319792352868E-2},{"$f":"($A79*LN(1+'Curves without VA'!E79)-IF(ISNUMBER($A78),$A78*LN(1+'Curves without VA'!E78),0)+($A79<=E$2)*LN(1+E$5/10000)+IF(ISNUMBER($A78),$A78*E78))/$A79","v":3.9305208393304508E-2},{"$f":"($A79*LN(1+'Curves without VA'!F79)-IF(ISNUMBER($A78),$A78*LN(1+'Curves without VA'!F78),0)+($A79<=F$2)*LN(1+F$5/10000)+IF(ISNUMBER($A78),$A78*F78))/$A79","v":4.3338823401578429E-2},{"$f":"($A79*LN(1+'Curves without VA'!G79)-IF(ISNUMBER($A78),$A78*LN(1+'Curves without VA'!G78),0)+($A79<=G$2)*LN(1+G$5/10000)+IF(ISNUMBER($A78),$A78*G78))/$A79","v":4.1011072905380877E-2},{"$f":"($A79*LN(1+'Curves without VA'!H79)-IF(ISNUMBER($A78),$A78*LN(1+'Curves without VA'!H78),0)+($A79<=H$2)*LN(1+H$5/10000)+IF(ISNUMBER($A78),$A78*H78))/$A79","v":3.5389580183996301E-2},{"$f":"($A79*LN(1+'Curves without VA'!I79)-IF(ISNUMBER($A78),$A78*LN(1+'Curves without VA'!I78),0)+($A79<=I$2)*LN(1+I$5/10000)+IF(ISNUMBER($A78),$A78*I78))/$A79","v":4.6640003559484854E-2},{"$f":"($A79*LN(1+'Curves without VA'!J79)-IF(ISNUMBER($A78),$A78*LN(1+'Curves without VA'!J78),0)+($A79<=J$2)*LN(1+J$5/10000)+IF(ISNUMBER($A78),$A78*J78))/$A79","v":3.749339857171672E-2},3.3776255720872728E-2,3.8128809275729036E-2,3.3336890146696829E-2,4.1822776345794566E-2,4.5074847610862223E-2,4.3917295461740169E-2,4.0007860021951114E-2,5.4389277650144896E-2,4.3008850150129119E-2,{"$f":"(1+'Curves without VA'!K79)*(1+K79)/(1+'Curves without VA'!B79)-1","v":4.0868771346452837E-2},{"$f":"(1+'Curves without VA'!L79)*(1+L79)/(1+'Curves without VA'!C79)-1","v":4.8488367800082477E-2},{"$f":"(1+'Curves without VA'!M79)*(1+M79)/(1+'Curves without VA'!D79)-1","v":4.1690217666728646E-2},{"$f":"(1+'Curves without VA'!N79)*(1+N79)/(1+'Curves without VA'!E79)-1","v":5.1105806005540266E-2},{"$f":"(1+'Curves without VA'!O79)*(1+O79)/(1+'Curves without VA'!F79)-1","v":5.9359614158122298E-2},{"$f":"(1+'Curves without VA'!P79)*(1+P79)/(1+'Curves without VA'!G79)-1","v":5.4475613708451887E-2},{"$f":"(1+'Curves without VA'!Q79)*(1+Q79)/(1+'Curves without VA'!H79)-1","v":5.0499466470743659E-2},{"$f":"(1+'Curves without VA'!R79)*(1+R79)/(1+'Curves without VA'!I79)-1","v":7.0687051889730013E-2},{"$f":"(1+'Curves without VA'!S79)*(1+S79)/(1+'Curves without VA'!J79)-1","v":5.4849820344190281E-2},{"$f":"(1+'Curves without VA'!T79)*(1+K79)/(1+'Curves without VA'!B79)-1","v":2.3402923846345125E-2},{"$f":"(1+'Curves without VA'!U79)*(1+L79)/(1+'Curves without VA'!C79)-1","v":2.9258998857133678E-2},{"$f":"(1+'Curves without VA'!V79)*(1+M79)/(1+'Curves without VA'!D79)-1","v":2.0901300789770261E-2},{"$f":"(1+'Curves without VA'!W79)*(1+N79)/(1+'Curves without VA'!E79)-1","v":2.6681179918449205E-2},{"$f":"(1+'Curves without VA'!X79)*(1+O79)/(1+'Curves without VA'!F79)-1","v":1.8881830499390295E-2},{"$f":"(1+'Curves without VA'!Y79)*(1+P79)/(1+'Curves without VA'!G79)-1","v":2.7507874169076185E-2},{"$f":"(1+'Curves without VA'!Z79)*(1+Q79)/(1+'Curves without VA'!H79)-1","v":3.388101078876149E-2},{"$f":"(1+'Curves without VA'!AA79)*(1+R79)/(1+'Curves without VA'!I79)-1","v":4.4400315287433711E-2},{"$f":"(1+'Curves without VA'!AB79)*(1+S79)/(1+'Curves without VA'!J79)-1","v":3.634294890069123E-2}]
[67,{"$f":"($A80*LN(1+'Curves without VA'!B80)-IF(ISNUMBER($A79),$A79*LN(1+'Curves without VA'!B79),0)+($A80<=B$2)*LN(1+B$5/10000)+IF(ISNUMBER($A79),$A79*B79))/$A80","v":3.3073194891577617E-2},{"$f":"($A80*LN(1+'Curves without VA'!C80)-IF(ISNUMBER($A79),$A79*LN(1+'Curves without VA'!C79),0)+($A80<=C$2)*LN(1+C$5/10000)+IF(ISNUMBER($A79),$A79*C79))/$A80","v":3.5175684936046392E-2},{"$f":"($A80*LN(1+'Curves without VA'!D80)-IF(ISNUMBER($A79),$A79*LN(1+'Curves without VA'!D79),0)+($A80<=D$2)*LN(1+D$5/10000)+IF(ISNUMBER($A79),$A79*D79))/$A80","v":3.1819660854916852E-2},{"$f":"($A80*LN(1+'Curves without VA'!E80)-IF(ISNUMBER($A79),$A79*LN(1+'Curves without VA'!E79),0)+($A80<=E$2)*LN(1+E$5/10000)+IF(ISNUMBER($A79),$A79*E79))/$A80","v":3.9203089017773481E-2},{"$f":"($A80*LN(1+'Curves without VA'!F80)-IF(ISNUMBER($A79),$A79*LN(1+'Curves without VA'!F79),0)+($A80<=F$2)*LN(1+F$5/10000)+IF(ISNUMBER($A79),$A79*F79))/$A80","v":4.3176024118617838E-2},{"$f":"($A80*LN(1+'Curves without VA'!G80)-IF(ISNUMBER($A79),$A79*LN(1+'Curves without VA'!G79),0)+($A80<=G$2)*LN(1+G$5/10000)+IF(ISNUMBER($A79),$A79*G79))/$A80","v":4.0883492865490666E-2},{"$f":"($A80*LN(1+'Curves without VA'!H80)-IF(ISNUMBER($A79),$A79*LN(1+'Curves without VA'!H79),0)+($A80<=H$2)*LN(1+H$5/10000)+IF(ISNUMBER($A79),$A79*H79))/$A80","v":3.5345955840227442E-2},{"$f":"($A80*LN(1+'Curves without VA'!I80)-IF(ISNUMBER($A79),$A79*LN(1+'Curves without VA'!I79),0)+($A80<=I$2)*LN(1+I$5/10000)+IF(ISNUMBER($A79),$A79*I79))/$A80","v":4.6557482678476571E-2},{"$f":"($A80*LN(1+'Curves without VA'!J80)-IF(ISNUMBER($A79),$A79*LN(1+'Curves without VA'!J79),0)+($A80<=J$2)*LN(1+J$5/10000)+IF(ISNUMBER($A79),$A79*J79))/$A80","v":3.7418373953504232E-2},3.3764737193186178E-2,3.8052923454305665E-2,3.3319128654510699E-2,4.1693940889728554E-2,4.4909734880891339E-2,4.3757542169855279E-2,3.9903776592676632E-2,5.4205312040533027E-2,4.2859792505211436E-2,{"$f":"(1+'Curves without VA'!K80)*(1+K80)/(1+'Curves without VA'!B80)-1","v":4.0774131503556355E-2},{"$f":"(1+'Curves without VA'!L80)*(1+L80)/(1+'Curves without VA'!C80)-1","v":4.8280693531847607E-2},{"$f":"(1+'Curves without VA'!M80)*(1+M80)/(1+'Curves without VA'!D80)-1","v":4.1572955336288908E-2},{"$f":"(1+'Curves without VA'!N80)*(1+N80)/(1+'Curves without VA'!E80)-1","v":5.0862429103714524E-2},{"$f":"(1+'Curves without VA'!O80)*(1+O80)/(1+'Curves without VA'!F80)-1","v":5.9035579670098759E-2},{"$f":"(1+'Curves without VA'!P80)*(1+P80)/(1+'Curves without VA'!G80)-1","v":5.4183152134931412E-2},{"$f":"(1+'Curves without VA'!Q80)*(1+Q80)/(1+'Curves without VA'!H80)-1","v":5.0260892770441101E-2},{"$f":"(1+'Curves without VA'!R80)*(1+R80)/(1+'Curves without VA'!I80)-1","v":7.0281395213265707E-2},{"$f":"(1+'Curves without VA'!S80)*(1+S80)/(1+'Curves without VA'!J80)-1","v":5.4545545690098285E-2},{"$f":"(1+'Curves without VA'!T80)*(1+K80)/(1+'Curves without VA'!B80)-1","v":2.3521480552961771E-2},{"$f":"(1+'Curves without VA'!U80)*(1+L80)/(1+'Curves without VA'!C80)-1","v":2.9292482472955461E-2},{"$f":"(1+'Curves without VA'!V80)*(1+M80)/(1+'Curves without VA'!D80)-1","v":2.1041452946544359E-2},{"$f":"(1+'Curves without VA'!W80)*(1+N80)/(1+'Curves without VA'!E80)-1","v":2.6751938268718467E-2},{"$f":"(1+'Curves without VA'!X80)*(1+O80)/(1+'Curves without VA'!F80)-1","v":1.9010342860450002E-2},{"$f":"(1+'Curves without VA'!Y80)*(1+P80)/(1+'Curves without VA'!G80)-1","v":2.756750113547235E-2},{"$f":"(1+'Curves without VA'!Z80)*(1+Q80)/(1+'Curves without VA'!H80)-1","v":3.3846114786769466E-2},{"$f":"(1+'Curves without VA'!AA80)*(1+R80)/(1+'Curves without VA'!I80)-1","v":4.4343913995689599E-2},{"$f":"(1+'Curves without VA'!AB80)*(1+S80)/(1+'Curves without VA'!J80)-1","v":3.6271427382276178E-2}]
[68,{"$f":"($A81*LN(1+'Curves without VA'!B81)-IF(ISNUMBER($A80),$A80*LN(1+'Curves without VA'!B80),0)+($A81<=B$2)*LN(1+B$5/10000)+IF(ISNUMBER($A80),$A80*B80))/$A81","v":3.3064265604065071E-2},{"$f":"($A81*LN(1+'Curves without VA'!C81)-IF(ISNUMBER($A80),$A80*LN(1+'Curves without VA'!C80),0)+($A81<=C$2)*LN(1+C$5/10000)+IF(ISNUMBER($A80),$A80*C80))/$A81","v":3.5135844060741592E-2},{"$f":"($A81*LN(1+'Curves without VA'!D81)-IF(ISNUMBER($A80),$A80*LN(1+'Curves without VA'!D80),0)+($A81<=D$2)*LN(1+D$5/10000)+IF(ISNUMBER($A80),$A80*D80))/$A81","v":3.1815118259052443E-2},{"$f":"($A81*LN(1+'Curves without VA'!E81)-IF(ISNUMBER($A80),$A80*LN(1+'Curves without VA'!E80),0)+($A81<=E$2)*LN(1+E$5/10000)+IF(ISNUMBER($A80),$A80*E80))/$A81","v":3.9103979249908473E-2},{"$f":"($A81*LN(1+'Curves without VA'!F81)-IF(ISNUMBER($A80),$A80*LN(1+'Curves without VA'!F80),0)+($A81<=F$2)*LN(1+F$5/10000)+IF(ISNUMBER($A80),$A80*F80))/$A81","v":4.3018068071948037E-2},{"$f":"($A81*LN(1+'Curves without VA'!G81)-IF(ISNUMBER($A80),$A80*LN(1+'Curves without VA'!G80),0)+($A81<=G$2)*LN(1+G$5/10000)+IF(ISNUMBER($A80),$A80*G80))/$A81","v":4.0759671276335702E-2},{"$f":"($A81*LN(1+'Curves without VA'!H81)-IF(ISNUMBER($A80),$A80*LN(1+'Curves without VA'!H80),0)+($A81<=H$2)*LN(1+H$5/10000)+IF(ISNUMBER($A80),$A80*H80))/$A81","v":3.5303615240917796E-2},{"$f":"($A81*LN(1+'Curves without VA'!I81)-IF(ISNUMBER($A80),$A80*LN(1+'Curves without VA'!I80),0)+($A81<=I$2)*LN(1+I$5/10000)+IF(ISNUMBER($A80),$A80*I80))/$A81","v":4.6477436122647771E-2},{"$f":"($A81*LN(1+'Curves without VA'!J81)-IF(ISNUMBER($A80),$A80*LN(1+'Curves without VA'!J80),0)+($A81<=J$2)*LN(1+J$5/10000)+IF(ISNUMBER($A80),$A80*J80))/$A81","v":3.7345556617234689E-2},3.3753550213202477E-2,3.7979187594354702E-2,3.3301663565356465E-2,4.1568561019989181E-2,4.4747846838737892E-2,4.3602096652890721E-2,3.9802676126391878E-2,5.4026579818775788E-2,4.2715032682872245E-2,{"$f":"(1+'Curves without VA'!K81)*(1+K81)/(1+'Curves without VA'!B81)-1","v":4.0682211158229675E-2},{"$f":"(1+'Curves without VA'!L81)*(1+L81)/(1+'Curves without VA'!C81)-1","v":4.8078911002440439E-2},{"$f":"(1+'Curves without VA'!M81)*(1+M81)/(1+'Curves without VA'!D81)-1","v":4.1458594652291403E-2},{"$f":"(1+'Curves without VA'!N81)*(1+N81)/(1+'Curves without VA'!E81)-1","v":5.0625605479769131E-2},{"$f":"(1+'Curves without VA'!O81)*(1+O81)/(1+'Curves without VA'!F81)-1","v":5.8715900473571114E-2},{"$f":"(1+'Curves without VA'!P81)*(1+P81)/(1+'Curves without VA'!G81)-1","v":5.3898497879135476E-2},{"$f":"(1+'Curves without VA'!Q81)*(1+Q81)/(1+'Curves without VA'!H81)-1","v":5.0029179055304684E-2},{"$f":"(1+'Curves without VA'!R81)*(1+R81)/(1+'Curves without VA'!I81)-1","v":6.988727467878908E-2},{"$f":"(1+'Curves without VA'!S81)*(1+S81)/(1+'Curves without VA'!J81)-1","v":5.425006029388002E-2},{"$f":"(1+'Curves without VA'!T81)*(1+K81)/(1+'Curves without VA'!B81)-1","v":2.3636750932123585E-2},{"$f":"(1+'Curves without VA'!U81)*(1+L81)/(1+'Curves without VA'!C81)-1","v":2.9324974963733874E-2},{"$f":"(1+'Curves without VA'!V81)*(1+M81)/(1+'Curves without VA'!D81)-1","v":2.1177753140977584E-2},{"$f":"(1+'Curves without VA'!W81)*(1+N81)/(1+'Curves without VA'!E81)-1","v":2.6820722650075624E-2},{"$f":"(1+'Curves without VA'!X81)*(1+O81)/(1+'Curves without VA'!F81)-1","v":1.9141113999014747E-2},{"$f":"(1+'Curves without VA'!Y81)*(1+P81)/(1+'Curves without VA'!G81)-1","v":2.7625361590042141E-2},{"$f":"(1+'Curves without VA'!Z81)*(1+Q81)/(1+'Curves without VA'!H81)-1","v":3.3812176285999529E-2},{"$f":"(1+'Curves without VA'!AA81)*(1+R81)/(1+'Curves without VA'!I81)-1","v":4.4288977460721357E-2},{"$f":"(1+'Curves without VA'!AB81)*(1+S81)/(1+'Curves without VA'!J81)-1","v":3.6201918900789165E-2}]
[69,{"$f":"($A82*LN(1+'Curves without VA'!B82)-IF(ISNUMBER($A81),$A81*LN(1+'Curves without VA'!B81),0)+($A82<=B$2)*LN(1+B$5/10000)+IF(ISNUMBER($A81),$A81*B81))/$A82","v":3.3055596928128386E-2},{"$f":"($A82*LN(1+'Curves without VA'!C82)-IF(ISNUMBER($A81),$A81*LN(1+'Curves without VA'!C81),0)+($A82<=C$2)*LN(1+C$5/10000)+IF(ISNUMBER($A81),$A81*C81))/$A82","v":3.5097159027107847E-2},{"$f":"($A82*LN(1+'Curves without VA'!D82)-IF(ISNUMBER($A81),$A81*LN(1+'Curves without VA'!D81),0)+($A82<=D$2)*LN(1+D$5/10000)+IF(ISNUMBER($A81),$A81*D81))/$A82","v":3.1810689069976833E-2},{"$f":"($A82*LN(1+'Curves without VA'!E82)-IF(ISNUMBER($A81),$A81*LN(1+'Curves without VA'!E81),0)+($A82<=E$2)*LN(1+E$5/10000)+IF(ISNUMBER($A81),$A81*E81))/$A82","v":3.9007747611346358E-2},{"$f":"($A82*LN(1+'Curves without VA'!F82)-IF(ISNUMBER($A81),$A81*LN(1+'Curves without VA'!F81),0)+($A82<=F$2)*LN(1+F$5/10000)+IF(ISNUMBER($A81),$A81*F81))/$A82","v":4.2864739037718889E-2},{"$f":"($A82*LN(1+'Curves without VA'!G82)-IF(ISNUMBER($A81),$A81*LN(1+'Curves without VA'!G81),0)+($A82<=G$2)*LN(1+G$5/10000)+IF(ISNUMBER($A81),$A81*G81))/$A82","v":4.0639444101158495E-2},{"$f":"($A82*LN(1+'Curves without VA'!H82)-IF(ISNUMBER($A81),$A81*LN(1+'Curves without VA'!H81),0)+($A82<=H$2)*LN(1+H$5/10000)+IF(ISNUMBER($A81),$A81*H81))/$A82","v":3.5262502501744175E-2},{"$f":"($A82*LN(1+'Curves without VA'!I82)-IF(ISNUMBER($A81),$A81*LN(1+'Curves without VA'!I81),0)+($A82<=I$2)*LN(1+I$5/10000)+IF(ISNUMBER($A81),$A81*I81))/$A82","v":4.6399751463117749E-2},{"$f":"($A82*LN(1+'Curves without VA'!J82)-IF(ISNUMBER($A81),$A81*LN(1+'Curves without VA'!J81),0)+($A82<=J$2)*LN(1+J$5/10000)+IF(ISNUMBER($A81),$A81*J81))/$A82","v":3.7274850524780981E-2},3.3742681115827233E-2,3.790751696857364E-2,3.3284505219862481E-2,4.1446521775122092E-2,4.4589212970558512E-2,4.3450813305542679E-2,3.9704437587159358E-2,5.3852873582608929E-2,4.2574393929589949E-2,{"$f":"(1+'Curves without VA'!K82)*(1+K82)/(1+'Curves without VA'!B82)-1","v":4.0592899153407025E-2},{"$f":"(1+'Curves without VA'!L82)*(1+L82)/(1+'Curves without VA'!C82)-1","v":4.7882788738624171E-2},{"$f":"(1+'Curves without VA'!M82)*(1+M82)/(1+'Curves without VA'!D82)-1","v":4.1347066558355072E-2},{"$f":"(1+'Curves without VA'!N82)*(1+N82)/(1+'Curves without VA'!E82)-1","v":5.0395115924890543E-2},{"$f":"(1+'Curves without VA'!O82)*(1+O82)/(1+'Curves without VA'!F82)-1","v":5.8400928515139672E-2},{"$f":"(1+'Curves without VA'!P82)*(1+P82)/(1+'Curves without VA'!G82)-1","v":5.3621398324313674E-2},{"$f":"(1+'Curves without VA'!Q82)*(1+Q82)/(1+'Curves without VA'!H82)-1","v":4.9804046386421996E-2},{"$f":"(1+'Curves without VA'!R82)*(1+R82)/(1+'Curves without VA'!I82)-1","v":6.950423855018184E-2},{"$f":"(1+'Curves without VA'!S82)*(1+S82)/(1+'Curves without VA'!J82)-1","v":5.3963003625771222E-2},{"$f":"(1+'Curves without VA'!T82)*(1+K82)/(1+'Curves without VA'!B82)-1","v":2.3748858116694471E-2},{"$f":"(1+'Curves without VA'!U82)*(1+L82)/(1+'Curves without VA'!C82)-1","v":2.9356520131601282E-2},{"$f":"(1+'Curves without VA'!V82)*(1+M82)/(1+'Curves without VA'!D82)-1","v":2.1310342311999131E-2},{"$f":"(1+'Curves without VA'!W82)*(1+N82)/(1+'Curves without VA'!E82)-1","v":2.6887608184955614E-2},{"$f":"(1+'Curves without VA'!X82)*(1+O82)/(1+'Curves without VA'!F82)-1","v":1.9273428878747723E-2},{"$f":"(1+'Curves without VA'!Y82)*(1+P82)/(1+'Curves without VA'!G82)-1","v":2.7681533844911232E-2},{"$f":"(1+'Curves without VA'!Z82)*(1+Q82)/(1+'Curves without VA'!H82)-1","v":3.3779160797722696E-2},{"$f":"(1+'Curves without VA'!AA82)*(1+R82)/(1+'Curves without VA'!I82)-1","v":4.4235462126291036E-2},{"$f":"(1+'Curves without VA'!AB82)*(1+S82)/(1+'Curves without VA'!J82)-1","v":3.6134345526805056E-2}]
[70,{"$f":"($A83*LN(1+'Curves without VA'!B83)-IF(ISNUMBER($A82),$A82*LN(1+'Curves without VA'!B82),0)+($A83<=B$2)*LN(1+B$5/10000)+IF(ISNUMBER($A82),$A82*B82))/$A83","v":3.3047177510737713E-2},{"$f":"($A83*LN(1+'Curves without VA'!C83)-IF(ISNUMBER($A82),$A82*LN(1+'Curves without VA'!C82),0)+($A83<=C$2)*LN(1+C$5/10000)+IF(ISNUMBER($A82),$A82*C82))/$A83","v":3.5059580192936021E-2},{"$f":"($A83*LN(1+'Curves without VA'!D83)-IF(ISNUMBER($A82),$A82*LN(1+'Curves without VA'!D82),0)+($A83<=D$2)*LN(1+D$5/10000)+IF(ISNUMBER($A82),$A82*D82))/$A83","v":3.18063703025682E-2},{"$f":"($A83*LN(1+'Curves without VA'!E83)-IF(ISNUMBER($A82),$A82*LN(1+'Curves without VA'!E82),0)+($A83<=E$2)*LN(1+E$5/10000)+IF(ISNUMBER($A82),$A82*E82))/$A83","v":3.8914270201034336E-2},{"$f":"($A83*LN(1+'Curves without VA'!F83)-IF(ISNUMBER($A82),$A82*LN(1+'Curves without VA'!F82),0)+($A83<=F$2)*LN(1+F$5/10000)+IF(ISNUMBER($A82),$A82*F82))/$A83","v":4.2715833727690097E-2},{"$f":"($A83*LN(1+'Curves without VA'!G83)-IF(ISNUMBER($A82),$A82*LN(1+'Curves without VA'!G82),0)+($A83<=G$2)*LN(1+G$5/10000)+IF(ISNUMBER($A82),$A82*G82))/$A83","v":4.0522656740991959E-2},{"$f":"($A83*LN(1+'Curves without VA'!H83)-IF(ISNUMBER($A82),$A82*LN(1+'Curves without VA'!H82),0)+($A83<=H$2)*LN(1+H$5/10000)+IF(ISNUMBER($A82),$A82*H82))/$A83","v":3.5222564938893343E-2},{"$f":"($A83*LN(1+'Curves without VA'!I83)-IF(ISNUMBER($A82),$A82*LN(1+'Curves without VA'!I82),0)+($A83<=I$2)*LN(1+I$5/10000)+IF(ISNUMBER($A82),$A82*I82))/$A83","v":4.6324323193451492E-2},{"$f":"($A83*LN(1+'Curves without VA'!J83)-IF(ISNUMBER($A82),$A82*LN(1+'Curves without VA'!J82),0)+($A83<=J$2)*LN(1+J$5/10000)+IF(ISNUMBER($A82),$A82*J82))/$A83","v":3.7206165133029587E-2},3.373211693955569E-2,3.7837830780862891E-2,3.3267660981405989E-2,4.1327711100231923E-2,4.4433843548796759E-2,4.330355050142054E-2,3.960894594457276E-2,5.3683995644489002E-2,4.2437708510189465E-2,{"$f":"(1+'Curves without VA'!K83)*(1+K83)/(1+'Curves without VA'!B83)-1","v":4.050608993884186E-2},{"$f":"(1+'Curves without VA'!L83)*(1+L83)/(1+'Curves without VA'!C83)-1","v":4.7692105869433954E-2},{"$f":"(1+'Curves without VA'!M83)*(1+M83)/(1+'Curves without VA'!D83)-1","v":4.1238300041924525E-2},{"$f":"(1+'Curves without VA'!N83)*(1+N83)/(1+'Curves without VA'!E83)-1","v":5.0170746867221672E-2},{"$f":"(1+'Curves without VA'!O83)*(1+O83)/(1+'Curves without VA'!F83)-1","v":5.8090939535565322E-2},{"$f":"(1+'Curves without VA'!P83)*(1+P83)/(1+'Curves without VA'!G83)-1","v":5.3351606164372845E-2},{"$f":"(1+'Curves without VA'!Q83)*(1+Q83)/(1+'Curves without VA'!H83)-1","v":4.9585229666615716E-2},{"$f":"(1+'Curves without VA'!R83)*(1+R83)/(1+'Curves without VA'!I83)-1","v":6.9131855448988366E-2},{"$f":"(1+'Curves without VA'!S83)*(1+S83)/(1+'Curves without VA'!J83)-1","v":5.3684033355860139E-2},{"$f":"(1+'Curves without VA'!T83)*(1+K83)/(1+'Curves without VA'!B83)-1","v":2.3857920200303084E-2},{"$f":"(1+'Curves without VA'!U83)*(1+L83)/(1+'Curves without VA'!C83)-1","v":2.9387159200822355E-2},{"$f":"(1+'Curves without VA'!V83)*(1+M83)/(1+'Curves without VA'!D83)-1","v":2.1439356025281464E-2},{"$f":"(1+'Curves without VA'!W83)*(1+N83)/(1+'Curves without VA'!E83)-1","v":2.695266679109154E-2},{"$f":"(1+'Curves without VA'!X83)*(1+O83)/(1+'Curves without VA'!F83)-1","v":1.9406676518044064E-2},{"$f":"(1+'Curves without VA'!Y83)*(1+P83)/(1+'Curves without VA'!G83)-1","v":2.7736091576108235E-2},{"$f":"(1+'Curves without VA'!Z83)*(1+Q83)/(1+'Curves without VA'!H83)-1","v":3.3747035067920095E-2},{"$f":"(1+'Curves without VA'!AA83)*(1+R83)/(1+'Curves without VA'!I83)-1","v":4.4183324850122219E-2},{"$f":"(1+'Curves without VA'!AB83)*(1+S83)/(1+'Curves without VA'!J83)-1","v":3.6068632788047283E-2}]
[71,{"$f":"($A84*LN(1+'Curves without VA'!B84)-IF(ISNUMBER($A83),$A83*LN(1+'Curves without VA'!B83),0)+($A84<=B$2)*LN(1+B$5/10000)+IF(ISNUMBER($A83),$A83*B83))/$A84","v":3.3038996657363075E-2},{"$f":"($A84*LN(1+'Curves without VA'!C84)-IF(ISNUMBER($A83),$A83*LN(1+'Curves without VA'!C83),0)+($A84<=C$2)*LN(1+C$5/10000)+IF(ISNUMBER($A83),$A83*C83))/$A84","v":3.5023060723662097E-2},{"$f":"($A84*LN(1+'Curves without VA'!D84)-IF(ISNUMBER($A83),$A83*LN(1+'Curves without VA'!D83),0)+($A84<=D$2)*LN(1+D$5/10000)+IF(ISNUMBER($A83),$A83*D83))/$A84","v":3.180215894730317E-2},{"$f":"($A84*LN(1+'Curves without VA'!E84)-IF(ISNUMBER($A83),$A83*LN(1+'Curves without VA'!E83),0)+($A84<=E$2)*LN(1+E$5/10000)+IF(ISNUMBER($A83),$A83*E83))/$A84","v":3.8823430155017907E-2},{"$f":"($A84*LN(1+'Curves without VA'!F84)-IF(ISNUMBER($A83),$A83*LN(1+'Curves without VA'!F83),0)+($A84<=F$2)*LN(1+F$5/10000)+IF(ISNUMBER($A83),$A83*F83))/$A84","v":4.2571160818711207E-2},{"$f":"($A84*LN(1+'Curves without VA'!G84)-IF(ISNUMBER($A83),$A83*LN(1+'Curves without VA'!G83),0)+($A84<=G$2)*LN(1+G$5/10000)+IF(ISNUMBER($A83),$A83*G83))/$A84","v":4.0409163363426877E-2},{"$f":"($A84*LN(1+'Curves without VA'!H84)-IF(ISNUMBER($A83),$A83*LN(1+'Curves without VA'!H83),0)+($A84<=H$2)*LN(1+H$5/10000)+IF(ISNUMBER($A83),$A83*H83))/$A84","v":3.5183752842943283E-2},{"$f":"($A84*LN(1+'Curves without VA'!I84)-IF(ISNUMBER($A83),$A83*LN(1+'Curves without VA'!I83),0)+($A84<=I$2)*LN(1+I$5/10000)+IF(ISNUMBER($A83),$A83*I83))/$A84","v":4.6251052191026563E-2},{"$f":"($A84*LN(1+'Curves without VA'!J84)-IF(ISNUMBER($A83),$A83*LN(1+'Curves without VA'!J83),0)+($A84<=J$2)*LN(1+J$5/10000)+IF(ISNUMBER($A83),$A83*J83))/$A84","v":3.713941500617627E-2},3.3721845384871107E-2,3.7770051983573305E-2,3.3251135690956612E-2,4.1212020020800155E-2,4.4281732793180595E-2,4.31601707622431E-2,3.9516091845411161E-2,5.3519757570360316E-2,4.2304817185904176E-2,{"$f":"(1+'Curves without VA'!K84)*(1+K84)/(1+'Curves without VA'!B84)-1","v":4.0421683253612395E-2},{"$f":"(1+'Curves without VA'!L84)*(1+L84)/(1+'Curves without VA'!C84)-1","v":4.7506651653632881E-2},{"$f":"(1+'Curves without VA'!M84)*(1+M84)/(1+'Curves without VA'!D84)-1","v":4.1132222880771119E-2},{"$f":"(1+'Curves without VA'!N84)*(1+N84)/(1+'Curves without VA'!E84)-1","v":4.9952290690747247E-2},{"$f":"(1+'Curves without VA'!O84)*(1+O84)/(1+'Curves without VA'!F84)-1","v":5.7786144234369674E-2},{"$f":"(1+'Curves without VA'!P84)*(1+P84)/(1+'Curves without VA'!G84)-1","v":5.3088879979535486E-2},{"$f":"(1+'Curves without VA'!Q84)*(1+Q84)/(1+'Curves without VA'!H84)-1","v":4.9372476886553773E-2},{"$f":"(1+'Curves without VA'!R84)*(1+R84)/(1+'Curves without VA'!I84)-1","v":6.8769713498477048E-2},{"$f":"(1+'Curves without VA'!S84)*(1+S84)/(1+'Curves without VA'!J84)-1","v":5.3412824327748964E-2},{"$f":"(1+'Curves without VA'!T84)*(1+K84)/(1+'Curves without VA'!B84)-1","v":2.3964050388767477E-2},{"$f":"(1+'Curves without VA'!U84)*(1+L84)/(1+'Curves without VA'!C84)-1","v":2.9416931007103297E-2},{"$f":"(1+'Curves without VA'!V84)*(1+M84)/(1+'Curves without VA'!D84)-1","v":2.1564924578760802E-2},{"$f":"(1+'Curves without VA'!W84)*(1+N84)/(1+'Curves without VA'!E84)-1","v":2.7015967296023513E-2},{"$f":"(1+'Curves without VA'!X84)*(1+O84)/(1+'Curves without VA'!F84)-1","v":1.9540336173286432E-2},{"$f":"(1+'Curves without VA'!Y84)*(1+P84)/(1+'Curves without VA'!G84)-1","v":2.7789104166835443E-2},{"$f":"(1+'Curves without VA'!Z84)*(1+Q84)/(1+'Curves without VA'!H84)-1","v":3.3715767066076596E-2},{"$f":"(1+'Curves without VA'!AA84)*(1+R84)/(1+'Curves without VA'!I84)-1","v":4.4132523088350917E-2},{"$f":"(1+'Curves without VA'!AB84)*(1+S84)/(1+'Curves without VA'!J84)-1","v":3.6004709528762113E-2}]
[72,{"$f":"($A85*LN(1+'Curves without VA'!B85)-IF(ISNUMBER($A84),$A84*LN(1+'Curves without VA'!B84),0)+($A85<=B$2)*LN(1+B$5/10000)+IF(ISNUMBER($A84),$A84*B84))/$A85","v":3.3031044284304624E-2},{"$f":"($A85*LN(1+'Curves without VA'!C85)-IF(ISNUMBER($A84),$A84*LN(1+'Curves without VA'!C84),0)+($A85<=C$2)*LN(1+C$5/10000)+IF(ISNUMBER($A84),$A84*C84))/$A85","v":3.4987556396270575E-2},{"$f":"($A85*LN(1+'Curves without VA'!D85)-IF(ISNUMBER($A84),$A84*LN(1+'Curves without VA'!D84),0)+($A85<=D$2)*LN(1+D$5/10000)+IF(ISNUMBER($A84),$A84*D84))/$A85","v":3.179805199173226E-2},{"$f":"($A85*LN(1+'Curves without VA'!E85)-IF(ISNUMBER($A84),$A84*LN(1+'Curves without VA'!E84),0)+($A85<=E$2)*LN(1+E$5/10000)+IF(ISNUMBER($A84),$A84*E84))/$A85","v":3.8735117151923258E-2},{"$f":"($A85*LN(1+'Curves without VA'!F85)-IF(ISNUMBER($A84),$A84*LN(1+'Curves without VA'!F84),0)+($A85<=F$2)*LN(1+F$5/10000)+IF(ISNUMBER($A84),$A84*F84))/$A85","v":4.2430540069196457E-2},{"$f":"($A85*LN(1+'Curves without VA'!G85)-IF(ISNUMBER($A84),$A84*LN(1+'Curves without VA'!G84),0)+($A85<=G$2)*LN(1+G$5/10000)+IF(ISNUMBER($A84),$A84*G84))/$A85","v":4.0298826287993111E-2},{"$f":"($A85*LN(1+'Curves without VA'!H85)-IF(ISNUMBER($A84),$A84*LN(1+'Curves without VA'!H84),0)+($A85<=H$2)*LN(1+H$5/10000)+IF(ISNUMBER($A84),$A84*H84))/$A85","v":3.5146019271662159E-2},{"$f":"($A85*LN(1+'Curves without VA'!I85)-IF(ISNUMBER($A84),$A84*LN(1+'Curves without VA'!I84),0)+($A85<=I$2)*LN(1+I$5/10000)+IF(ISNUMBER($A84),$A84*I84))/$A85","v":4.6179845228537311E-2},{"$f":"($A85*LN(1+'Curves without VA'!J85)-IF(ISNUMBER($A84),$A84*LN(1+'Curves without VA'!J84),0)+($A85<=J$2)*LN(1+J$5/10000)+IF(ISNUMBER($A84),$A84*J84))/$A85","v":3.7074519460405832E-2},3.3711854775294814E-2,3.7704107100274387E-2,3.3234932058822775E-2,4.1099342762941804E-2,4.4132861581914984E-2,4.3020540866476553E-2,3.9425771302875834E-2,5.3359979733725416E-2,4.2175568724187151E-2,{"$f":"(1+'Curves without VA'!K85)*(1+K85)/(1+'Curves without VA'!B85)-1","v":4.0339583827088132E-2},{"$f":"(1+'Curves without VA'!L85)*(1+L85)/(1+'Curves without VA'!C85)-1","v":4.7326225018074597E-2},{"$f":"(1+'Curves without VA'!M85)*(1+M85)/(1+'Curves without VA'!D85)-1","v":4.1028762264521124E-2},{"$f":"(1+'Curves without VA'!N85)*(1+N85)/(1+'Curves without VA'!E85)-1","v":4.973954595338137E-2},{"$f":"(1+'Curves without VA'!O85)*(1+O85)/(1+'Curves without VA'!F85)-1","v":5.7486697905942963E-2},{"$f":"(1+'Curves without VA'!P85)*(1+P85)/(1+'Curves without VA'!G85)-1","v":5.2832984665401206E-2},{"$f":"(1+'Curves without VA'!Q85)*(1+Q85)/(1+'Curves without VA'!H85)-1","v":4.9165548410648796E-2},{"$f":"(1+'Curves without VA'!R85)*(1+R85)/(1+'Curves without VA'!I85)-1","v":6.8417419478449704E-2},{"$f":"(1+'Curves without VA'!S85)*(1+S85)/(1+'Curves without VA'!J85)-1","v":5.3149067590966714E-2},{"$f":"(1+'Curves without VA'!T85)*(1+K85)/(1+'Curves without VA'!B85)-1","v":2.4067357159683667E-2},{"$f":"(1+'Curves without VA'!U85)*(1+L85)/(1+'Curves without VA'!C85)-1","v":2.9445872170322351E-2},{"$f":"(1+'Curves without VA'!V85)*(1+M85)/(1+'Curves without VA'!D85)-1","v":2.1687173127207471E-2},{"$f":"(1+'Curves without VA'!W85)*(1+N85)/(1+'Curves without VA'!E85)-1","v":2.7077575553444921E-2},{"$f":"(1+'Curves without VA'!X85)*(1+O85)/(1+'Curves without VA'!F85)-1","v":1.9673965342389632E-2},{"$f":"(1+'Curves without VA'!Y85)*(1+P85)/(1+'Curves without VA'!G85)-1","v":2.7840637020402736E-2},{"$f":"(1+'Curves without VA'!Z85)*(1+Q85)/(1+'Curves without VA'!H85)-1","v":3.368532596711904E-2},{"$f":"(1+'Curves without VA'!AA85)*(1+R85)/(1+'Curves without VA'!I85)-1","v":4.4083015042621021E-2},{"$f":"(1+'Curves without VA'!AB85)*(1+S85)/(1+'Curves without VA'!J85)-1","v":3.5942507770218235E-2}]
[73,{"$f":"($A86*LN(1+'Curves without VA'!B86)-IF(ISNUMBER($A85),$A85*LN(1+'Curves without VA'!B85),0)+($A86<=B$2)*LN(1+B$5/10000)+IF(ISNUMBER($A85),$A85*B85))/$A86","v":3.302331087514062E-2},{"$f":"($A86*LN(1+'Curves without VA'!C86)-IF(ISNUMBER($A85),$A85*LN(1+'Curves without VA'!C85),0)+($A86<=C$2)*LN(1+C$5/10000)+IF(ISNUMBER($A85),$A85*C85))/$A86","v":3.4953025419433646E-2},{"$f":"($A86*LN(1+'Curves without VA'!D86)-IF(ISNUMBER($A85),$A85*LN(1+'Curves without VA'!D85),0)+($A86<=D$2)*LN(1+D$5/10000)+IF(ISNUMBER($A85),$A85*D85))/$A86","v":3.1794046438159258E-2},{"$f":"($A86*LN(1+'Curves without VA'!E86)-IF(ISNUMBER($A85),$A85*LN(1+'Curves without VA'!E85),0)+($A86<=E$2)*LN(1+E$5/10000)+IF(ISNUMBER($A85),$A85*E85))/$A86","v":3.864922695968321E-2},{"$f":"($A86*LN(1+'Curves without VA'!F86)-IF(ISNUMBER($A85),$A85*LN(1+'Curves without VA'!F85),0)+($A86<=F$2)*LN(1+F$5/10000)+IF(ISNUMBER($A85),$A85*F85))/$A86","v":4.2293801513624385E-2},{"$f":"($A86*LN(1+'Curves without VA'!G86)-IF(ISNUMBER($A85),$A85*LN(1+'Curves without VA'!G85),0)+($A86<=G$2)*LN(1+G$5/10000)+IF(ISNUMBER($A85),$A85*G85))/$A86","v":4.0191515422656518E-2},{"$f":"($A86*LN(1+'Curves without VA'!H86)-IF(ISNUMBER($A85),$A85*LN(1+'Curves without VA'!H85),0)+($A86<=H$2)*LN(1+H$5/10000)+IF(ISNUMBER($A85),$A85*H85))/$A86","v":3.5109319859903773E-2},{"$f":"($A86*LN(1+'Curves without VA'!I86)-IF(ISNUMBER($A85),$A85*LN(1+'Curves without VA'!I85),0)+($A86<=I$2)*LN(1+I$5/10000)+IF(ISNUMBER($A85),$A85*I85))/$A86","v":4.6110614530292013E-2},{"$f":"($A86*LN(1+'Curves without VA'!J86)-IF(ISNUMBER($A85),$A85*LN(1+'Curves without VA'!J85),0)+($A86<=J$2)*LN(1+J$5/10000)+IF(ISNUMBER($A85),$A85*J85))/$A86","v":3.7011402237842599E-2},3.3702134020914265E-2,3.7639926054519268E-2,3.3219051001942113E-2,4.0989576829273178E-2,4.3987199775399111E-2,4.2884531908028434E-2,3.9337885402730643E-2,5.3204490885949918E-2,4.2049819438436442E-2,{"$f":"(1+'Curves without VA'!K86)*(1+K86)/(1+'Curves without VA'!B86)-1","v":4.0259701097412393E-2},{"$f":"(1+'Curves without VA'!L86)*(1+L86)/(1+'Curves without VA'!C86)-1","v":4.715063410888054E-2},{"$f":"(1+'Curves without VA'!M86)*(1+M86)/(1+'Curves without VA'!D86)-1","v":4.0927845309663535E-2},{"$f":"(1+'Curves without VA'!N86)*(1+N86)/(1+'Curves without VA'!E86)-1","v":4.9532317521612246E-2},{"$f":"(1+'Curves without VA'!O86)*(1+O86)/(1+'Curves without VA'!F86)-1","v":5.7192708755152699E-2},{"$f":"(1+'Curves without VA'!P86)*(1+P86)/(1+'Curves without VA'!G86)-1","v":5.2583691739721772E-2},{"$f":"(1+'Curves without VA'!Q86)*(1+Q86)/(1+'Curves without VA'!H86)-1","v":4.896421630131953E-2},{"$f":"(1+'Curves without VA'!R86)*(1+R86)/(1+'Curves without VA'!I86)-1","v":6.807459799610327E-2},{"$f":"(1+'Curves without VA'!S86)*(1+S86)/(1+'Curves without VA'!J86)-1","v":5.2892469489299154E-2},{"$f":"(1+'Curves without VA'!T86)*(1+K86)/(1+'Curves without VA'!B86)-1","v":2.4167944427263777E-2},{"$f":"(1+'Curves without VA'!U86)*(1+L86)/(1+'Curves without VA'!C86)-1","v":2.9474017252356877E-2},{"$f":"(1+'Curves without VA'!V86)*(1+M86)/(1+'Curves without VA'!D86)-1","v":2.18062218211863E-2},{"$f":"(1+'Curves without VA'!W86)*(1+N86)/(1+'Curves without VA'!E86)-1","v":2.7137554560044519E-2},{"$f":"(1+'Curves without VA'!X86)*(1+O86)/(1+'Curves without VA'!F86)-1","v":1.9807189344549503E-2},{"$f":"(1+'Curves without VA'!Y86)*(1+P86)/(1+'Curves without VA'!G86)-1","v":2.7890751845912609E-2},{"$f":"(1+'Curves without VA'!Z86)*(1+Q86)/(1+'Curves without VA'!H86)-1","v":3.3655682127953224E-2},{"$f":"(1+'Curves without VA'!AA86)*(1+R86)/(1+'Curves without VA'!I86)-1","v":4.4034759775667842E-2},{"$f":"(1+'Curves without VA'!AB86)*(1+S86)/(1+'Curves without VA'!J86)-1","v":3.588196257330023E-2}]
[74,{"$f":"($A87*LN(1+'Curves without VA'!B87)-IF(ISNUMBER($A86),$A86*LN(1+'Curves without VA'!B86),0)+($A87<=B$2)*LN(1+B$5/10000)+IF(ISNUMBER($A86),$A86*B86))/$A87","v":3.3015787440881919E-2},{"$f":"($A87*LN(1+'Curves without VA'!C87)-IF(ISNUMBER($A86),$A86*LN(1+'Curves without VA'!C86),0)+($A87<=C$2)*LN(1+C$5/10000)+IF(ISNUMBER($A86),$A86*C86))/$A87","v":3.4919428268332206E-2},{"$f":"($A87*LN(1+'Curves without VA'!D87)-IF(ISNUMBER($A86),$A86*LN(1+'Curves without VA'!D86),0)+($A87<=D$2)*LN(1+D$5/10000)+IF(ISNUMBER($A86),$A86*D86))/$A87","v":3.1790139318089695E-2},{"$f":"($A87*LN(1+'Curves without VA'!E87)-IF(ISNUMBER($A86),$A86*LN(1+'Curves without VA'!E86),0)+($A87<=E$2)*LN(1+E$5/10000)+IF(ISNUMBER($A86),$A86*E86))/$A87","v":3.8565661019546824E-2},{"$f":"($A87*LN(1+'Curves without VA'!F87)-IF(ISNUMBER($A86),$A86*LN(1+'Curves without VA'!F86),0)+($A87<=F$2)*LN(1+F$5/10000)+IF(ISNUMBER($A86),$A86*F86))/$A87","v":4.216078472712468E-2},{"$f":"($A87*LN(1+'Curves without VA'!G87)-IF(ISNUMBER($A86),$A86*LN(1+'Curves without VA'!G86),0)+($A87<=G$2)*LN(1+G$5/10000)+IF(ISNUMBER($A86),$A86*G86))/$A87","v":4.0087107746533818E-2},{"$f":"($A87*LN(1+'Curves without VA'!H87)-IF(ISNUMBER($A86),$A86*LN(1+'Curves without VA'!H86),0)+($A87<=H$2)*LN(1+H$5/10000)+IF(ISNUMBER($A86),$A86*H86))/$A87","v":3.5073612644975528E-2},{"$f":"($A87*LN(1+'Curves without VA'!I87)-IF(ISNUMBER($A86),$A86*LN(1+'Curves without VA'!I86),0)+($A87<=I$2)*LN(1+I$5/10000)+IF(ISNUMBER($A86),$A86*I86))/$A87","v":4.6043277368586918E-2},{"$f":"($A87*LN(1+'Curves without VA'!J87)-IF(ISNUMBER($A86),$A86*LN(1+'Curves without VA'!J86),0)+($A87<=J$2)*LN(1+J$5/10000)+IF(ISNUMBER($A86),$A86*J86))/$A87","v":3.694999120699631E-2},3.3692672584230365E-2,3.7577442004919748E-2,3.320349193415395E-2,4.0882623038149157E-2,4.3844708206097538E-2,4.2752019313961664E-2,3.9252340025642374E-2,5.3053127743383666E-2,4.1927432755888283E-2,{"$f":"(1+'Curves without VA'!K87)*(1+K87)/(1+'Curves without VA'!B87)-1","v":4.0181948946569568E-2},{"$f":"(1+'Curves without VA'!L87)*(1+L87)/(1+'Curves without VA'!C87)-1","v":4.6979695856830705E-2},{"$f":"(1+'Curves without VA'!M87)*(1+M87)/(1+'Curves without VA'!D87)-1","v":4.0829399483841788E-2},{"$f":"(1+'Curves without VA'!N87)*(1+N87)/(1+'Curves without VA'!E87)-1","v":4.9330416636393259E-2},{"$f":"(1+'Curves without VA'!O87)*(1+O87)/(1+'Curves without VA'!F87)-1","v":5.6904245071737636E-2},{"$f":"(1+'Curves without VA'!P87)*(1+P87)/(1+'Curves without VA'!G87)-1","v":5.234077954749794E-2},{"$f":"(1+'Curves without VA'!Q87)*(1+Q87)/(1+'Curves without VA'!H87)-1","v":4.8768263680107449E-2},{"$f":"(1+'Curves without VA'!R87)*(1+R87)/(1+'Curves without VA'!I87)-1","v":6.7740890677025822E-2},{"$f":"(1+'Curves without VA'!S87)*(1+S87)/(1+'Curves without VA'!J87)-1","v":5.2642750802212923E-2},{"$f":"(1+'Curves without VA'!T87)*(1+K87)/(1+'Curves without VA'!B87)-1","v":2.4265911710052768E-2},{"$f":"(1+'Curves without VA'!U87)*(1+L87)/(1+'Curves without VA'!C87)-1","v":2.9501398901489617E-2},{"$f":"(1+'Curves without VA'!V87)*(1+M87)/(1+'Curves without VA'!D87)-1","v":2.192218595652129E-2},{"$f":"(1+'Curves without VA'!W87)*(1+N87)/(1+'Curves without VA'!E87)-1","v":2.7195964571764542E-2},{"$f":"(1+'Curves without VA'!X87)*(1+O87)/(1+'Curves without VA'!F87)-1","v":1.9939692265875442E-2},{"$f":"(1+'Curves without VA'!Y87)*(1+P87)/(1+'Curves without VA'!G87)-1","v":2.7939506919424151E-2},{"$f":"(1+'Curves without VA'!Z87)*(1+Q87)/(1+'Curves without VA'!H87)-1","v":3.3626807059821573E-2},{"$f":"(1+'Curves without VA'!AA87)*(1+R87)/(1+'Curves without VA'!I87)-1","v":4.3987717300373097E-2},{"$f":"(1+'Curves without VA'!AB87)*(1+S87)/(1+'Curves without VA'!J87)-1","v":3.5823011903973967E-2}]
[75,{"$f":"($A88*LN(1+'Curves without VA'!B88)-IF(ISNUMBER($A87),$A87*LN(1+'Curves without VA'!B87),0)+($A88<=B$2)*LN(1+B$5/10000)+IF(ISNUMBER($A87),$A87*B87))/$A88","v":3.3008465483471382E-2},{"$f":"($A88*LN(1+'Curves without VA'!C88)-IF(ISNUMBER($A87),$A87*LN(1+'Curves without VA'!C87),0)+($A88<=C$2)*LN(1+C$5/10000)+IF(ISNUMBER($A87),$A87*C87))/$A88","v":3.4886727532783615E-2},{"$f":"($A88*LN(1+'Curves without VA'!D88)-IF(ISNUMBER($A87),$A87*LN(1+'Curves without VA'!D87),0)+($A88<=D$2)*LN(1+D$5/10000)+IF(ISNUMBER($A87),$A87*D87))/$A88","v":3.1786327703936676E-2},{"$f":"($A88*LN(1+'Curves without VA'!E88)-IF(ISNUMBER($A87),$A87*LN(1+'Curves without VA'!E87),0)+($A88<=E$2)*LN(1+E$5/10000)+IF(ISNUMBER($A87),$A87*E87))/$A88","v":3.8484326063833119E-2},{"$f":"($A88*LN(1+'Curves without VA'!F88)-IF(ISNUMBER($A87),$A87*LN(1+'Curves without VA'!F87),0)+($A88<=F$2)*LN(1+F$5/10000)+IF(ISNUMBER($A87),$A87*F87))/$A88","v":4.203133815312169E-2},{"$f":"($A88*LN(1+'Curves without VA'!G88)-IF(ISNUMBER($A87),$A87*LN(1+'Curves without VA'!G87),0)+($A88<=G$2)*LN(1+G$5/10000)+IF(ISNUMBER($A87),$A87*G87))/$A88","v":3.998548683446021E-2},{"$f":"($A88*LN(1+'Curves without VA'!H88)-IF(ISNUMBER($A87),$A87*LN(1+'Curves without VA'!H87),0)+($A88<=H$2)*LN(1+H$5/10000)+IF(ISNUMBER($A87),$A87*H87))/$A88","v":3.5038857906029633E-2},{"$f":"($A88*LN(1+'Curves without VA'!I88)-IF(ISNUMBER($A87),$A87*LN(1+'Curves without VA'!I87),0)+($A88<=I$2)*LN(1+I$5/10000)+IF(ISNUMBER($A87),$A87*I87))/$A88","v":4.5977755695995541E-2},{"$f":"($A88*LN(1+'Curves without VA'!J88)-IF(ISNUMBER($A87),$A87*LN(1+'Curves without VA'!J87),0)+($A88<=J$2)*LN(1+J$5/10000)+IF(ISNUMBER($A87),$A87*J87))/$A88","v":3.6890218087223314E-2},3.3683460448174385E-2,3.7516591186727233E-2,3.3188253015861369E-2,4.0778385532842965E-2,4.3705340380716828E-2,4.2622882828800224E-2,3.9169045584994677E-2,5.290573459159531E-2,4.1808278811989119E-2,{"$f":"(1+'Curves without VA'!K88)*(1+K88)/(1+'Curves without VA'!B88)-1","v":4.0106245451143163E-2},{"$f":"(1+'Curves without VA'!L88)*(1+L88)/(1+'Curves without VA'!C88)-1","v":4.681323555794048E-2},{"$f":"(1+'Curves without VA'!M88)*(1+M88)/(1+'Curves without VA'!D88)-1","v":4.0733352952935897E-2},{"$f":"(1+'Curves without VA'!N88)*(1+N88)/(1+'Curves without VA'!E88)-1","v":4.9133660922709321E-2},{"$f":"(1+'Curves without VA'!O88)*(1+O88)/(1+'Curves without VA'!F88)-1","v":5.6621341418089832E-2},{"$f":"(1+'Curves without VA'!P88)*(1+P88)/(1+'Curves without VA'!G88)-1","v":5.2104033381862092E-2},{"$f":"(1+'Curves without VA'!Q88)*(1+Q88)/(1+'Curves without VA'!H88)-1","v":4.8577484124071368E-2},{"$f":"(1+'Curves without VA'!R88)*(1+R88)/(1+'Curves without VA'!I88)-1","v":6.7415955379368286E-2},{"$f":"(1+'Curves without VA'!S88)*(1+S88)/(1+'Curves without VA'!J88)-1","v":5.2399645936593187E-2},{"$f":"(1+'Curves without VA'!T88)*(1+K88)/(1+'Curves without VA'!B88)-1","v":2.4361354299596849E-2},{"$f":"(1+'Curves without VA'!U88)*(1+L88)/(1+'Curves without VA'!C88)-1","v":2.9528047984707317E-2},{"$f":"(1+'Curves without VA'!V88)*(1+M88)/(1+'Curves without VA'!D88)-1","v":2.2035176131065093E-2},{"$f":"(1+'Curves without VA'!W88)*(1+N88)/(1+'Curves without VA'!E88)-1","v":2.725286321862308E-2},{"$f":"(1+'Curves without VA'!X88)*(1+O88)/(1+'Curves without VA'!F88)-1","v":2.0071209089452369E-2},{"$f":"(1+'Curves without VA'!Y88)*(1+P88)/(1+'Curves without VA'!G88)-1","v":2.798695732303158E-2},{"$f":"(1+'Curves without VA'!Z88)*(1+Q88)/(1+'Curves without VA'!H88)-1","v":3.3598673397495116E-2},{"$f":"(1+'Curves without VA'!AA88)*(1+R88)/(1+'Curves without VA'!I88)-1","v":4.3941848646530168E-2},{"$f":"(1+'Curves without VA'!AB88)*(1+S88)/(1+'Curves without VA'!J88)-1","v":3.5765596502202346E-2}]
[76,{"$f":"($A89*LN(1+'Curves without VA'!B89)-IF(ISNUMBER($A88),$A88*LN(1+'Curves without VA'!B88),0)+($A89<=B$2)*LN(1+B$5/10000)+IF(ISNUMBER($A88),$A88*B88))/$A89","v":3.3001336962300294E-2},{"$f":"($A89*LN(1+'Curves without VA'!C89)-IF(ISNUMBER($A88),$A88*LN(1+'Curves without VA'!C88),0)+($A89<=C$2)*LN(1+C$5/10000)+IF(ISNUMBER($A88),$A88*C88))/$A89","v":3.485488777743715E-2},{"$f":"($A89*LN(1+'Curves without VA'!D89)-IF(ISNUMBER($A88),$A88*LN(1+'Curves without VA'!D88),0)+($A89<=D$2)*LN(1+D$5/10000)+IF(ISNUMBER($A88),$A88*D88))/$A89","v":3.1782608718398539E-2},{"$f":"($A89*LN(1+'Curves without VA'!E89)-IF(ISNUMBER($A88),$A88*LN(1+'Curves without VA'!E88),0)+($A89<=E$2)*LN(1+E$5/10000)+IF(ISNUMBER($A88),$A88*E88))/$A89","v":3.840513376427817E-2},{"$f":"($A89*LN(1+'Curves without VA'!F89)-IF(ISNUMBER($A88),$A88*LN(1+'Curves without VA'!F88),0)+($A89<=F$2)*LN(1+F$5/10000)+IF(ISNUMBER($A88),$A88*F88))/$A89","v":4.190531848779043E-2},{"$f":"($A89*LN(1+'Curves without VA'!G89)-IF(ISNUMBER($A88),$A88*LN(1+'Curves without VA'!G88),0)+($A89<=G$2)*LN(1+G$5/10000)+IF(ISNUMBER($A88),$A88*G88))/$A89","v":3.9886542419502312E-2},{"$f":"($A89*LN(1+'Curves without VA'!H89)-IF(ISNUMBER($A88),$A88*LN(1+'Curves without VA'!H88),0)+($A89<=H$2)*LN(1+H$5/10000)+IF(ISNUMBER($A88),$A88*H88))/$A89","v":3.5005018016178807E-2},{"$f":"($A89*LN(1+'Curves without VA'!I89)-IF(ISNUMBER($A88),$A88*LN(1+'Curves without VA'!I88),0)+($A89<=I$2)*LN(1+I$5/10000)+IF(ISNUMBER($A88),$A88*I88))/$A89","v":4.5913975809892919E-2},{"$f":"($A89*LN(1+'Curves without VA'!J89)-IF(ISNUMBER($A88),$A88*LN(1+'Curves without VA'!J88),0)+($A89<=J$2)*LN(1+J$5/10000)+IF(ISNUMBER($A88),$A88*J88))/$A89","v":3.6832018194988617E-2},3.3674488086150811E-2,3.7457312760006189E-2,3.3173331368617331E-2,4.0676771766213315E-2,4.3569043934444052E-2,4.249700647181287E-2,3.9087916779449117E-2,5.2762162906798027E-2,4.1692234069653944E-2,{"$f":"(1+'Curves without VA'!K89)*(1+K89)/(1+'Curves without VA'!B89)-1","v":4.0032512647879326E-2},{"$f":"(1+'Curves without VA'!L89)*(1+L89)/(1+'Curves without VA'!C89)-1","v":4.665108646985705E-2},{"$f":"(1+'Curves without VA'!M89)*(1+M89)/(1+'Curves without VA'!D89)-1","v":4.0639634862520868E-2},{"$f":"(1+'Curves without VA'!N89)*(1+N89)/(1+'Curves without VA'!E89)-1","v":4.8941874353285897E-2},{"$f":"(1+'Curves without VA'!O89)*(1+O89)/(1+'Curves without VA'!F89)-1","v":5.6344003963851197E-2},{"$f":"(1+'Curves without VA'!P89)*(1+P89)/(1+'Curves without VA'!G89)-1","v":5.1873245535563495E-2},{"$f":"(1+'Curves without VA'!Q89)*(1+Q89)/(1+'Curves without VA'!H89)-1","v":4.8391681095860895E-2},{"$f":"(1+'Curves without VA'!R89)*(1+R89)/(1+'Curves without VA'!I89)-1","v":6.7099465433416938E-2},{"$f":"(1+'Curves without VA'!S89)*(1+S89)/(1+'Curves without VA'!J89)-1","v":5.2162902166079217E-2},{"$f":"(1+'Curves without VA'!T89)*(1+K89)/(1+'Curves without VA'!B89)-1","v":2.4454363428503045E-2},{"$f":"(1+'Curves without VA'!U89)*(1+L89)/(1+'Curves without VA'!C89)-1","v":2.9553993709069193E-2},{"$f":"(1+'Curves without VA'!V89)*(1+M89)/(1+'Curves without VA'!D89)-1","v":2.2145298406135661E-2},{"$f":"(1+'Curves without VA'!W89)*(1+N89)/(1+'Curves without VA'!E89)-1","v":2.7308305617422812E-2},{"$f":"(1+'Curves without VA'!X89)*(1+O89)/(1+'Curves without VA'!F89)-1","v":2.0201518853157463E-2},{"$f":"(1+'Curves without VA'!Y89)*(1+P89)/(1+'Curves without VA'!G89)-1","v":2.803315516401228E-2},{"$f":"(1+'Curves without VA'!Z89)*(1+Q89)/(1+'Curves without VA'!H89)-1","v":3.3571254866148204E-2},{"$f":"(1+'Curves without VA'!AA89)*(1+R89)/(1+'Curves without VA'!I89)-1","v":4.3897115908937856E-2},{"$f":"(1+'Curves without VA'!AB89)*(1+S89)/(1+'Curves without VA'!J89)-1","v":3.5709659754753931E-2}]
[77,{"$f":"($A90*LN(1+'Curves without VA'!B90)-IF(ISNUMBER($A89),$A89*LN(1+'Curves without VA'!B89),0)+($A90<=B$2)*LN(1+B$5/10000)+IF(ISNUMBER($A89),$A89*B89))/$A90","v":3.2994394263458508E-2},{"$f":"($A90*LN(1+'Curves without VA'!C90)-IF(ISNUMBER($A89),$A89*LN(1+'Curves without VA'!C89),0)+($A90<=C$2)*LN(1+C$5/10000)+IF(ISNUMBER($A89),$A89*C89))/$A90","v":3.4823875412934122E-2},{"$f":"($A90*LN(1+'Curves without VA'!D90)-IF(ISNUMBER($A89),$A89*LN(1+'Curves without VA'!D89),0)+($A90<=D$2)*LN(1+D$5/10000)+IF(ISNUMBER($A89),$A89*D89))/$A90","v":3.1778979541866807E-2},{"$f":"($A90*LN(1+'Curves without VA'!E90)-IF(ISNUMBER($A89),$A89*LN(1+'Curves without VA'!E89),0)+($A90<=E$2)*LN(1+E$5/10000)+IF(ISNUMBER($A89),$A89*E89))/$A90","v":3.8328000408148294E-2},{"$f":"($A90*LN(1+'Curves without VA'!F90)-IF(ISNUMBER($A89),$A89*LN(1+'Curves without VA'!F89),0)+($A90<=F$2)*LN(1+F$5/10000)+IF(ISNUMBER($A89),$A89*F89))/$A90","v":4.1782590115777653E-2},{"$f":"($A90*LN(1+'Curves without VA'!G90)-IF(ISNUMBER($A89),$A89*LN(1+'Curves without VA'!G89),0)+($A90<=G$2)*LN(1+G$5/10000)+IF(ISNUMBER($A89),$A89*G89))/$A90","v":3.9790169989927966E-2},{"$f":"($A90*LN(1+'Curves without VA'!H90)-IF(ISNUMBER($A89),$A89*LN(1+'Curves without VA'!H89),0)+($A90<=H$2)*LN(1+H$5/10000)+IF(ISNUMBER($A89),$A89*H89))/$A90","v":3.4972057306176745E-2},{"$f":"($A90*LN(1+'Curves without VA'!I90)-IF(ISNUMBER($A89),$A89*LN(1+'Curves without VA'!I89),0)+($A90<=I$2)*LN(1+I$5/10000)+IF(ISNUMBER($A89),$A89*I89))/$A90","v":4.5851868045954737E-2},{"$f":"($A90*LN(1+'Curves without VA'!J90)-IF(ISNUMBER($A89),$A89*LN(1+'Curves without VA'!J89),0)+($A90<=J$2)*LN(1+J$5/10000)+IF(ISNUMBER($A89),$A89*J89))/$A90","v":3.6775330209936959E-2},3.3665746433972243E-2,3.7399548664415416E-2,3.3158723259398171E-2,4.0577692465546544E-2,4.3435761871506218E-2,4.2374278472653737E-2,3.9008872359527436E-2,5.2622270994358011E-2,4.1579180961881956E-2,{"$f":"(1+'Curves without VA'!K90)*(1+K90)/(1+'Curves without VA'!B90)-1","v":3.9960676313214316E-2},{"$f":"(1+'Curves without VA'!L90)*(1+L90)/(1+'Curves without VA'!C90)-1","v":4.649308942443664E-2},{"$f":"(1+'Curves without VA'!M90)*(1+M90)/(1+'Curves without VA'!D90)-1","v":4.0548175563603683E-2},{"$f":"(1+'Curves without VA'!N90)*(1+N90)/(1+'Curves without VA'!E90)-1","v":4.8754887175305628E-2},{"$f":"(1+'Curves without VA'!O90)*(1+O90)/(1+'Curves without VA'!F90)-1","v":5.6072215082526133E-2},{"$f":"(1+'Curves without VA'!P90)*(1+P90)/(1+'Curves without VA'!G90)-1","v":5.1648215295569067E-2},{"$f":"(1+'Curves without VA'!Q90)*(1+Q90)/(1+'Curves without VA'!H90)-1","v":4.8210667405859109E-2},{"$f":"(1+'Curves without VA'!R90)*(1+R90)/(1+'Curves without VA'!I90)-1","v":6.6791108908082375E-2},{"$f":"(1+'Curves without VA'!S90)*(1+S90)/(1+'Curves without VA'!J90)-1","v":5.1932278915370444E-2},{"$f":"(1+'Curves without VA'!T90)*(1+K90)/(1+'Curves without VA'!B90)-1","v":2.4545026436646245E-2},{"$f":"(1+'Curves without VA'!U90)*(1+L90)/(1+'Curves without VA'!C90)-1","v":2.957926373318398E-2},{"$f":"(1+'Curves without VA'!V90)*(1+M90)/(1+'Curves without VA'!D90)-1","v":2.2252654470443778E-2},{"$f":"(1+'Curves without VA'!W90)*(1+N90)/(1+'Curves without VA'!E90)-1","v":2.736234448182806E-2},{"$f":"(1+'Curves without VA'!X90)*(1+O90)/(1+'Curves without VA'!F90)-1","v":2.0330438699807996E-2},{"$f":"(1+'Curves without VA'!Y90)*(1+P90)/(1+'Curves without VA'!G90)-1","v":2.8078149775960126E-2},{"$f":"(1+'Curves without VA'!Z90)*(1+Q90)/(1+'Curves without VA'!H90)-1","v":3.3544526246612083E-2},{"$f":"(1+'Curves without VA'!AA90)*(1+R90)/(1+'Curves without VA'!I90)-1","v":4.3853482279902378E-2},{"$f":"(1+'Curves without VA'!AB90)*(1+S90)/(1+'Curves without VA'!J90)-1","v":3.5655147572210222E-2}]
[78,{"$f":"($A91*LN(1+'Curves without VA'!B91)-IF(ISNUMBER($A90),$A90*LN(1+'Curves without VA'!B90),0)+($A91<=B$2)*LN(1+B$5/10000)+IF(ISNUMBER($A90),$A90*B90))/$A91","v":3.2987630171454951E-2},{"$f":"($A91*LN(1+'Curves without VA'!C91)-IF(ISNUMBER($A90),$A90*LN(1+'Curves without VA'!C90),0)+($A91<=C$2)*LN(1+C$5/10000)+IF(ISNUMBER($A90),$A90*C90))/$A91","v":3.4793658577041239E-2},{"$f":"($A91*LN(1+'Curves without VA'!D91)-IF(ISNUMBER($A90),$A90*LN(1+'Curves without VA'!D90),0)+($A91<=D$2)*LN(1+D$5/10000)+IF(ISNUMBER($A90),$A90*D90))/$A91","v":3.1775437418163195E-2},{"$f":"($A91*LN(1+'Curves without VA'!E91)-IF(ISNUMBER($A90),$A90*LN(1+'Curves without VA'!E90),0)+($A91<=E$2)*LN(1+E$5/10000)+IF(ISNUMBER($A90),$A90*E90))/$A91","v":3.8252846599591543E-2},{"$f":"($A91*LN(1+'Curves without VA'!F91)-IF(ISNUMBER($A90),$A90*LN(1+'Curves without VA'!F90),0)+($A91<=F$2)*LN(1+F$5/10000)+IF(ISNUMBER($A90),$A90*F90))/$A91","v":4.166302459224959E-2},{"$f":"($A91*LN(1+'Curves without VA'!G91)-IF(ISNUMBER($A90),$A90*LN(1+'Curves without VA'!G90),0)+($A91<=G$2)*LN(1+G$5/10000)+IF(ISNUMBER($A90),$A90*G90))/$A91","v":3.9696270417502386E-2},{"$f":"($A91*LN(1+'Curves without VA'!H91)-IF(ISNUMBER($A90),$A90*LN(1+'Curves without VA'!H90),0)+($A91<=H$2)*LN(1+H$5/10000)+IF(ISNUMBER($A90),$A90*H90))/$A91","v":3.493994193861881E-2},{"$f":"($A91*LN(1+'Curves without VA'!I91)-IF(ISNUMBER($A90),$A90*LN(1+'Curves without VA'!I90),0)+($A91<=I$2)*LN(1+I$5/10000)+IF(ISNUMBER($A90),$A90*I90))/$A91","v":4.57913664977391E-2},{"$f":"($A91*LN(1+'Curves without VA'!J91)-IF(ISNUMBER($A90),$A90*LN(1+'Curves without VA'!J90),0)+($A91<=J$2)*LN(1+J$5/10000)+IF(ISNUMBER($A90),$A90*J90))/$A91","v":3.6720095958997487E-2},3.3657226863566869E-2,3.7343243480540522E-2,3.3144424258685801E-2,4.0481061581524758E-2,4.3305433621582123E-2,4.2254591189887281E-2,3.8931834907500518E-2,5.2485923644143506E-2,4.1469007556294679E-2,{"$f":"(1+'Curves without VA'!K91)*(1+K91)/(1+'Curves without VA'!B91)-1","v":3.9890665755965893E-2},{"$f":"(1+'Curves without VA'!L91)*(1+L91)/(1+'Curves without VA'!C91)-1","v":4.6339092456632702E-2},{"$f":"(1+'Curves without VA'!M91)*(1+M91)/(1+'Curves without VA'!D91)-1","v":4.0458906791133842E-2},{"$f":"(1+'Curves without VA'!N91)*(1+N91)/(1+'Curves without VA'!E91)-1","v":4.8572535807572592E-2},{"$f":"(1+'Curves without VA'!O91)*(1+O91)/(1+'Curves without VA'!F91)-1","v":5.5805937309620468E-2},{"$f":"(1+'Curves without VA'!P91)*(1+P91)/(1+'Curves without VA'!G91)-1","v":5.1428748891385379E-2},{"$f":"(1+'Curves without VA'!Q91)*(1+Q91)/(1+'Curves without VA'!H91)-1","v":4.8034264704808427E-2},{"$f":"(1+'Curves without VA'!R91)*(1+R91)/(1+'Curves without VA'!I91)-1","v":6.6490587905284171E-2},{"$f":"(1+'Curves without VA'!S91)*(1+S91)/(1+'Curves without VA'!J91)-1","v":5.1707547086955907E-2},{"$f":"(1+'Curves without VA'!T91)*(1+K91)/(1+'Curves without VA'!B91)-1","v":2.4633426934544289E-2},{"$f":"(1+'Curves without VA'!U91)*(1+L91)/(1+'Curves without VA'!C91)-1","v":2.9603884269731928E-2},{"$f":"(1+'Curves without VA'!V91)*(1+M91)/(1+'Curves without VA'!D91)-1","v":2.235734180476201E-2},{"$f":"(1+'Curves without VA'!W91)*(1+N91)/(1+'Curves without VA'!E91)-1","v":2.7415030229415605E-2},{"$f":"(1+'Curves without VA'!X91)*(1+O91)/(1+'Curves without VA'!F91)-1","v":2.0457818702487973E-2},{"$f":"(1+'Curves without VA'!Y91)*(1+P91)/(1+'Curves without VA'!G91)-1","v":2.8121987903624301E-2},{"$f":"(1+'Curves without VA'!Z91)*(1+Q91)/(1+'Curves without VA'!H91)-1","v":3.3518463339591076E-2},{"$f":"(1+'Curves without VA'!AA91)*(1+R91)/(1+'Curves without VA'!I91)-1","v":4.3810912068760866E-2},{"$f":"(1+'Curves without VA'!AB91)*(1+S91)/(1+'Curves without VA'!J91)-1","v":3.5602008270391172E-2}]
[79,{"$f":"($A92*LN(1+'Curves without VA'!B92)-IF(ISNUMBER($A91),$A91*LN(1+'Curves without VA'!B91),0)+($A92<=B$2)*LN(1+B$5/10000)+IF(ISNUMBER($A91),$A91*B91))/$A92","v":3.2981037843182501E-2},{"$f":"($A92*LN(1+'Curves without VA'!C92)-IF(ISNUMBER($A91),$A91*LN(1+'Curves without VA'!C91),0)+($A92<=C$2)*LN(1+C$5/10000)+IF(ISNUMBER($A91),$A91*C91))/$A92","v":3.4764207024866052E-2},{"$f":"($A92*LN(1+'Curves without VA'!D92)-IF(ISNUMBER($A91),$A91*LN(1+'Curves without VA'!D91),0)+($A92<=D$2)*LN(1+D$5/10000)+IF(ISNUMBER($A91),$A91*D91))/$A92","v":3.1771979658874946E-2},{"$f":"($A92*LN(1+'Curves without VA'!E92)-IF(ISNUMBER($A91),$A91*LN(1+'Curves without VA'!E91),0)+($A92<=E$2)*LN(1+E$5/10000)+IF(ISNUMBER($A91),$A91*E91))/$A92","v":3.8179596983956725E-2},{"$f":"($A92*LN(1+'Curves without VA'!F92)-IF(ISNUMBER($A91),$A91*LN(1+'Curves without VA'!F91),0)+($A92<=F$2)*LN(1+F$5/10000)+IF(ISNUMBER($A91),$A91*F91))/$A92","v":4.1546500166857264E-2},{"$f":"($A92*LN(1+'Curves without VA'!G92)-IF(ISNUMBER($A91),$A91*LN(1+'Curves without VA'!G91),0)+($A92<=G$2)*LN(1+G$5/10000)+IF(ISNUMBER($A91),$A91*G91))/$A92","v":3.9604749614298974E-2},{"$f":"($A92*LN(1+'Curves without VA'!H92)-IF(ISNUMBER($A91),$A91*LN(1+'Curves without VA'!H91),0)+($A92<=H$2)*LN(1+H$5/10000)+IF(ISNUMBER($A91),$A91*H91))/$A92","v":3.4908639791732123E-2},{"$f":"($A92*LN(1+'Curves without VA'!I92)-IF(ISNUMBER($A91),$A91*LN(1+'Curves without VA'!I91),0)+($A92<=I$2)*LN(1+I$5/10000)+IF(ISNUMBER($A91),$A91*I91))/$A92","v":4.573240875978328E-2},{"$f":"($A92*LN(1+'Curves without VA'!J92)-IF(ISNUMBER($A91),$A91*LN(1+'Curves without VA'!J91),0)+($A92<=J$2)*LN(1+J$5/10000)+IF(ISNUMBER($A91),$A91*J91))/$A92","v":3.6666260216916199E-2},3.3648921158335066E-2,3.728834429767347E-2,3.3130429375915149E-2,4.0386796224647137E-2,4.3177995937548008E-2,4.2137841016193889E-2,3.8856730629884373E-2,5.2352991802357307E-2,4.1361607240224307E-2,{"$f":"(1+'Curves without VA'!K92)*(1+K92)/(1+'Curves without VA'!B92)-1","v":3.9822413622404573E-2},{"$f":"(1+'Curves without VA'!L92)*(1+L92)/(1+'Curves without VA'!C92)-1","v":4.6188950449645994E-2},{"$f":"(1+'Curves without VA'!M92)*(1+M92)/(1+'Curves without VA'!D92)-1","v":4.037176180255031E-2},{"$f":"(1+'Curves without VA'!N92)*(1+N92)/(1+'Curves without VA'!E92)-1","v":4.8394662714397629E-2},{"$f":"(1+'Curves without VA'!O92)*(1+O92)/(1+'Curves without VA'!F92)-1","v":5.5545116748340506E-2},{"$f":"(1+'Curves without VA'!P92)*(1+P92)/(1+'Curves without VA'!G92)-1","v":5.1214659406056962E-2},{"$f":"(1+'Curves without VA'!Q92)*(1+Q92)/(1+'Curves without VA'!H92)-1","v":4.7862303005339335E-2},{"$f":"(1+'Curves without VA'!R92)*(1+R92)/(1+'Curves without VA'!I92)-1","v":6.6197617882741921E-2},{"$f":"(1+'Curves without VA'!S92)*(1+S92)/(1+'Curves without VA'!J92)-1","v":5.1488488427831935E-2},{"$f":"(1+'Curves without VA'!T92)*(1+K92)/(1+'Curves without VA'!B92)-1","v":2.4719644963128173E-2},{"$f":"(1+'Curves without VA'!U92)*(1+L92)/(1+'Curves without VA'!C92)-1","v":2.9627880179861732E-2},{"$f":"(1+'Curves without VA'!V92)*(1+M92)/(1+'Curves without VA'!D92)-1","v":2.2459453845888433E-2},{"$f":"(1+'Curves without VA'!W92)*(1+N92)/(1+'Curves without VA'!E92)-1","v":2.7466411085409037E-2},{"$f":"(1+'Curves without VA'!X92)*(1+O92)/(1+'Curves without VA'!F92)-1","v":2.0583537363625837E-2},{"$f":"(1+'Curves without VA'!Y92)*(1+P92)/(1+'Curves without VA'!G92)-1","v":2.8164713872978142E-2},{"$f":"(1+'Curves without VA'!Z92)*(1+Q92)/(1+'Curves without VA'!H92)-1","v":3.3493042929306327E-2},{"$f":"(1+'Curves without VA'!AA92)*(1+R92)/(1+'Curves without VA'!I92)-1","v":4.3769370710662114E-2},{"$f":"(1+'Curves without VA'!AB92)*(1+S92)/(1+'Curves without VA'!J92)-1","v":3.555019245631752E-2}]
[80,{"$f":"($A93*LN(1+'Curves without VA'!B93)-IF(ISNUMBER($A92),$A92*LN(1+'Curves without VA'!B92),0)+($A93<=B$2)*LN(1+B$5/10000)+IF(ISNUMBER($A92),$A92*B92))/$A93","v":3.297461078392E-2},{"$f":"($A93*LN(1+'Curves without VA'!C93)-IF(ISNUMBER($A92),$A92*LN(1+'Curves without VA'!C92),0)+($A93<=C$2)*LN(1+C$5/10000)+IF(ISNUMBER($A92),$A92*C92))/$A93","v":3.4735492027355805E-2},{"$f":"($A93*LN(1+'Curves without VA'!D93)-IF(ISNUMBER($A92),$A92*LN(1+'Curves without VA'!D92),0)+($A93<=D$2)*LN(1+D$5/10000)+IF(ISNUMBER($A92),$A92*D92))/$A93","v":3.1768603646502219E-2},{"$f":"($A93*LN(1+'Curves without VA'!E93)-IF(ISNUMBER($A92),$A92*LN(1+'Curves without VA'!E92),0)+($A93<=E$2)*LN(1+E$5/10000)+IF(ISNUMBER($A92),$A92*E92))/$A93","v":3.8108179993042071E-2},{"$f":"($A93*LN(1+'Curves without VA'!F93)-IF(ISNUMBER($A92),$A92*LN(1+'Curves without VA'!F92),0)+($A93<=F$2)*LN(1+F$5/10000)+IF(ISNUMBER($A92),$A92*F92))/$A93","v":4.1432901345690207E-2},{"$f":"($A93*LN(1+'Curves without VA'!G93)-IF(ISNUMBER($A92),$A92*LN(1+'Curves without VA'!G92),0)+($A93<=G$2)*LN(1+G$5/10000)+IF(ISNUMBER($A92),$A92*G92))/$A93","v":3.9515518215505002E-2},{"$f":"($A93*LN(1+'Curves without VA'!H93)-IF(ISNUMBER($A92),$A92*LN(1+'Curves without VA'!H92),0)+($A93<=H$2)*LN(1+H$5/10000)+IF(ISNUMBER($A92),$A92*H92))/$A93","v":3.4878120351905649E-2},{"$f":"($A93*LN(1+'Curves without VA'!I93)-IF(ISNUMBER($A92),$A92*LN(1+'Curves without VA'!I92),0)+($A93<=I$2)*LN(1+I$5/10000)+IF(ISNUMBER($A92),$A92*I92))/$A93","v":4.5674935691928029E-2},{"$f":"($A93*LN(1+'Curves without VA'!J93)-IF(ISNUMBER($A92),$A92*LN(1+'Curves without VA'!J92),0)+($A93<=J$2)*LN(1+J$5/10000)+IF(ISNUMBER($A92),$A92*J92))/$A93","v":3.6613770521774835E-2},3.3640821490050987E-2,3.7234800587899297E-2,3.3116733175361679E-2,4.0294816591896598E-2,4.305338365653566E-2,4.2023928273444477E-2,3.8783489161867468E-2,5.2223352259418432E-2,4.1256878425072196E-2,{"$f":"(1+'Curves without VA'!K93)*(1+K93)/(1+'Curves without VA'!B93)-1","v":3.9755855712973354E-2},{"$f":"(1+'Curves without VA'!L93)*(1+L93)/(1+'Curves without VA'!C93)-1","v":4.6042524796164441E-2},{"$f":"(1+'Curves without VA'!M93)*(1+M93)/(1+'Curves without VA'!D93)-1","v":4.0286675482588574E-2},{"$f":"(1+'Curves without VA'!N93)*(1+N93)/(1+'Curves without VA'!E93)-1","v":4.8221116261471852E-2},{"$f":"(1+'Curves without VA'!O93)*(1+O93)/(1+'Curves without VA'!F93)-1","v":5.5289685997220284E-2},{"$f":"(1+'Curves without VA'!P93)*(1+P93)/(1+'Curves without VA'!G93)-1","v":5.1005766657388207E-2},{"$f":"(1+'Curves without VA'!Q93)*(1+Q93)/(1+'Curves without VA'!H93)-1","v":4.769462023089388E-2},{"$f":"(1+'Curves without VA'!R93)*(1+R93)/(1+'Curves without VA'!I93)-1","v":6.5911927005325222E-2},{"$f":"(1+'Curves without VA'!S93)*(1+S93)/(1+'Curves without VA'!J93)-1","v":5.1274894933879933E-2},{"$f":"(1+'Curves without VA'!T93)*(1+K93)/(1+'Curves without VA'!B93)-1","v":2.4803757149322481E-2},{"$f":"(1+'Curves without VA'!U93)*(1+L93)/(1+'Curves without VA'!C93)-1","v":2.9651275060207372E-2},{"$f":"(1+'Curves without VA'!V93)*(1+M93)/(1+'Curves without VA'!D93)-1","v":2.2559080148774946E-2},{"$f":"(1+'Curves without VA'!W93)*(1+N93)/(1+'Curves without VA'!E93)-1","v":2.7516533182895708E-2},{"$f":"(1+'Curves without VA'!X93)*(1+O93)/(1+'Curves without VA'!F93)-1","v":2.0707497699940403E-2},{"$f":"(1+'Curves without VA'!Y93)*(1+P93)/(1+'Curves without VA'!G93)-1","v":2.8206369747885152E-2},{"$f":"(1+'Curves without VA'!Z93)*(1+Q93)/(1+'Curves without VA'!H93)-1","v":3.3468242746965249E-2},{"$f":"(1+'Curves without VA'!AA93)*(1+R93)/(1+'Curves without VA'!I93)-1","v":4.3728824766496865E-2},{"$f":"(1+'Curves without VA'!AB93)*(1+S93)/(1+'Curves without VA'!J93)-1","v":3.5499652918787206E-2}]
[81,{"$f":"($A94*LN(1+'Curves without VA'!B94)-IF(ISNUMBER($A93),$A93*LN(1+'Curves without VA'!B93),0)+($A94<=B$2)*LN(1+B$5/10000)+IF(ISNUMBER($A93),$A93*B93))/$A94","v":3.2968342825185834E-2},{"$f":"($A94*LN(1+'Curves without VA'!C94)-IF(ISNUMBER($A93),$A93*LN(1+'Curves without VA'!C93),0)+($A94<=C$2)*LN(1+C$5/10000)+IF(ISNUMBER($A93),$A93*C93))/$A94","v":3.4707486277355898E-2},{"$f":"($A94*LN(1+'Curves without VA'!D94)-IF(ISNUMBER($A93),$A93*LN(1+'Curves without VA'!D93),0)+($A94<=D$2)*LN(1+D$5/10000)+IF(ISNUMBER($A93),$A93*D93))/$A94","v":3.1765306836615076E-2},{"$f":"($A94*LN(1+'Curves without VA'!E94)-IF(ISNUMBER($A93),$A93*LN(1+'Curves without VA'!E93),0)+($A94<=E$2)*LN(1+E$5/10000)+IF(ISNUMBER($A93),$A93*E93))/$A94","v":3.8038527609438329E-2},{"$f":"($A94*LN(1+'Curves without VA'!F94)-IF(ISNUMBER($A93),$A93*LN(1+'Curves without VA'!F93),0)+($A94<=F$2)*LN(1+F$5/10000)+IF(ISNUMBER($A93),$A93*F93))/$A94","v":4.1322118487697186E-2},{"$f":"($A94*LN(1+'Curves without VA'!G94)-IF(ISNUMBER($A93),$A93*LN(1+'Curves without VA'!G93),0)+($A94<=G$2)*LN(1+G$5/10000)+IF(ISNUMBER($A93),$A93*G93))/$A94","v":3.9428491285944924E-2},{"$f":"($A94*LN(1+'Curves without VA'!H94)-IF(ISNUMBER($A93),$A93*LN(1+'Curves without VA'!H93),0)+($A94<=H$2)*LN(1+H$5/10000)+IF(ISNUMBER($A93),$A93*H93))/$A94","v":3.484835461420837E-2},{"$f":"($A94*LN(1+'Curves without VA'!I94)-IF(ISNUMBER($A93),$A93*LN(1+'Curves without VA'!I93),0)+($A94<=I$2)*LN(1+I$5/10000)+IF(ISNUMBER($A93),$A93*I93))/$A94","v":4.5618891202835486E-2},{"$f":"($A94*LN(1+'Curves without VA'!J94)-IF(ISNUMBER($A93),$A93*LN(1+'Curves without VA'!J93),0)+($A94<=J$2)*LN(1+J$5/10000)+IF(ISNUMBER($A93),$A93*J93))/$A94","v":3.6562577004202818E-2},3.3632920397205446E-2,3.7182564086315706E-2,3.310332987512421E-2,4.0205045886000601E-2,4.2931530343282454E-2,4.1912757100299292E-2,3.8712043383013484E-2,5.2096887353393573E-2,4.1154724268719356E-2,{"$f":"(1+'Curves without VA'!K94)*(1+K94)/(1+'Curves without VA'!B94)-1","v":3.9690930809958225E-2},{"$f":"(1+'Curves without VA'!L94)*(1+L94)/(1+'Curves without VA'!C94)-1","v":4.5899683075385056E-2},{"$f":"(1+'Curves without VA'!M94)*(1+M94)/(1+'Curves without VA'!D94)-1","v":4.0203584419675309E-2},{"$f":"(1+'Curves without VA'!N94)*(1+N94)/(1+'Curves without VA'!E94)-1","v":4.8051750558126161E-2},{"$f":"(1+'Curves without VA'!O94)*(1+O94)/(1+'Curves without VA'!F94)-1","v":5.5039566664036643E-2},{"$f":"(1+'Curves without VA'!P94)*(1+P94)/(1+'Curves without VA'!G94)-1","v":5.0801897055754441E-2},{"$f":"(1+'Curves without VA'!Q94)*(1+Q94)/(1+'Curves without VA'!H94)-1","v":4.7531061790547779E-2},{"$f":"(1+'Curves without VA'!R94)*(1+R94)/(1+'Curves without VA'!I94)-1","v":6.5633255524825351E-2},{"$f":"(1+'Curves without VA'!S94)*(1+S94)/(1+'Curves without VA'!J94)-1","v":5.1066568289670267E-2},{"$f":"(1+'Curves without VA'!T94)*(1+K94)/(1+'Curves without VA'!B94)-1","v":2.4885836857004406E-2},{"$f":"(1+'Curves without VA'!U94)*(1+L94)/(1+'Curves without VA'!C94)-1","v":2.9674091323200535E-2},{"$f":"(1+'Curves without VA'!V94)*(1+M94)/(1+'Curves without VA'!D94)-1","v":2.265630654589601E-2},{"$f":"(1+'Curves without VA'!W94)*(1+N94)/(1+'Curves without VA'!E94)-1","v":2.756544065938682E-2},{"$f":"(1+'Curves without VA'!X94)*(1+O94)/(1+'Curves without VA'!F94)-1","v":2.0829623837051559E-2},{"$f":"(1+'Curves without VA'!Y94)*(1+P94)/(1+'Curves without VA'!G94)-1","v":2.8246995474592751E-2},{"$f":"(1+'Curves without VA'!Z94)*(1+Q94)/(1+'Curves without VA'!H94)-1","v":3.3444041434365968E-2},{"$f":"(1+'Curves without VA'!AA94)*(1+R94)/(1+'Curves without VA'!I94)-1","v":4.368924191558432E-2},{"$f":"(1+'Curves without VA'!AB94)*(1+S94)/(1+'Curves without VA'!J94)-1","v":3.5450344523561217E-2}]
[82,{"$f":"($A95*LN(1+'Curves without VA'!B95)-IF(ISNUMBER($A94),$A94*LN(1+'Curves without VA'!B94),0)+($A95<=B$2)*LN(1+B$5/10000)+IF(ISNUMBER($A94),$A94*B94))/$A95","v":3.2962228104277451E-2},{"$f":"($A95*LN(1+'Curves without VA'!C95)-IF(ISNUMBER($A94),$A94*LN(1+'Curves without VA'!C94),0)+($A95<=C$2)*LN(1+C$5/10000)+IF(ISNUMBER($A94),$A94*C94))/$A95","v":3.4680163802583396E-2},{"$f":"($A95*LN(1+'Curves without VA'!D95)-IF(ISNUMBER($A94),$A94*LN(1+'Curves without VA'!D94),0)+($A95<=D$2)*LN(1+D$5/10000)+IF(ISNUMBER($A94),$A94*D94))/$A95","v":3.1762086759179367E-2},{"$f":"($A95*LN(1+'Curves without VA'!E95)-IF(ISNUMBER($A94),$A94*LN(1+'Curves without VA'!E94),0)+($A95<=E$2)*LN(1+E$5/10000)+IF(ISNUMBER($A94),$A94*E94))/$A95","v":3.7970575148312861E-2},{"$f":"($A95*LN(1+'Curves without VA'!F95)-IF(ISNUMBER($A94),$A94*LN(1+'Curves without VA'!F94),0)+($A95<=F$2)*LN(1+F$5/10000)+IF(ISNUMBER($A94),$A94*F94))/$A95","v":4.1214047432427008E-2},{"$f":"($A95*LN(1+'Curves without VA'!G95)-IF(ISNUMBER($A94),$A94*LN(1+'Curves without VA'!G94),0)+($A95<=G$2)*LN(1+G$5/10000)+IF(ISNUMBER($A94),$A94*G94))/$A95","v":3.9343588048276756E-2},{"$f":"($A95*LN(1+'Curves without VA'!H95)-IF(ISNUMBER($A94),$A94*LN(1+'Curves without VA'!H94),0)+($A95<=H$2)*LN(1+H$5/10000)+IF(ISNUMBER($A94),$A94*H94))/$A95","v":3.4819314990208128E-2},{"$f":"($A95*LN(1+'Curves without VA'!I95)-IF(ISNUMBER($A94),$A94*LN(1+'Curves without VA'!I94),0)+($A95<=I$2)*LN(1+I$5/10000)+IF(ISNUMBER($A94),$A94*I94))/$A95","v":4.5564222050881349E-2},{"$f":"($A95*LN(1+'Curves without VA'!J95)-IF(ISNUMBER($A94),$A94*LN(1+'Curves without VA'!J94),0)+($A95<=J$2)*LN(1+J$5/10000)+IF(ISNUMBER($A94),$A94*J94))/$A95","v":3.651263222910494E-2},3.3625210764694158E-2,3.7131588677192351E-2,3.309021343150742E-2,4.0117410229240091E-2,4.2812368832154446E-2,4.1804235334549356E-2,3.8642329243608886E-2,5.1973484688437432E-2,4.105505241485008E-2,{"$f":"(1+'Curves without VA'!K95)*(1+K95)/(1+'Curves without VA'!B95)-1","v":3.9627580515448013E-2},{"$f":"(1+'Curves without VA'!L95)*(1+L95)/(1+'Curves without VA'!C95)-1","v":4.5760298745439076E-2},{"$f":"(1+'Curves without VA'!M95)*(1+M95)/(1+'Curves without VA'!D95)-1","v":4.0122426958469459E-2},{"$f":"(1+'Curves without VA'!N95)*(1+N95)/(1+'Curves without VA'!E95)-1","v":4.788642528967002E-2},{"$f":"(1+'Curves without VA'!O95)*(1+O95)/(1+'Curves without VA'!F95)-1","v":5.4794671521706695E-2},{"$f":"(1+'Curves without VA'!P95)*(1+P95)/(1+'Curves without VA'!G95)-1","v":5.0602883443842339E-2},{"$f":"(1+'Curves without VA'!Q95)*(1+Q95)/(1+'Curves without VA'!H95)-1","v":4.7371480178311165E-2},{"$f":"(1+'Curves without VA'!R95)*(1+R95)/(1+'Curves without VA'!I95)-1","v":6.5361355187775416E-2},{"$f":"(1+'Curves without VA'!S95)*(1+S95)/(1+'Curves without VA'!J95)-1","v":5.0863319341587054E-2},{"$f":"(1+'Curves without VA'!T95)*(1+K95)/(1+'Curves without VA'!B95)-1","v":2.4965954333028506E-2},{"$f":"(1+'Curves without VA'!U95)*(1+L95)/(1+'Curves without VA'!C95)-1","v":2.969635027126527E-2},{"$f":"(1+'Curves without VA'!V95)*(1+M95)/(1+'Curves without VA'!D95)-1","v":2.2751215303156602E-2},{"$f":"(1+'Curves without VA'!W95)*(1+N95)/(1+'Curves without VA'!E95)-1","v":2.7613175749656715E-2},{"$f":"(1+'Curves without VA'!X95)*(1+O95)/(1+'Curves without VA'!F95)-1","v":2.0949858047629943E-2},{"$f":"(1+'Curves without VA'!Y95)*(1+P95)/(1+'Curves without VA'!G95)-1","v":2.8286629015143339E-2},{"$f":"(1+'Curves without VA'!Z95)*(1+Q95)/(1+'Curves without VA'!H95)-1","v":3.3420418507892347E-2},{"$f":"(1+'Curves without VA'!AA95)*(1+R95)/(1+'Curves without VA'!I95)-1","v":4.3650590942486023E-2},{"$f":"(1+'Curves without VA'!AB95)*(1+S95)/(1+'Curves without VA'!J95)-1","v":3.5402224113136871E-2}]
[83,{"$f":"($A96*LN(1+'Curves without VA'!B96)-IF(ISNUMBER($A95),$A95*LN(1+'Curves without VA'!B95),0)+($A96<=B$2)*LN(1+B$5/10000)+IF(ISNUMBER($A95),$A95*B95))/$A96","v":3.2956261045349822E-2},{"$f":"($A96*LN(1+'Curves without VA'!C96)-IF(ISNUMBER($A95),$A95*LN(1+'Curves without VA'!C95),0)+($A96<=C$2)*LN(1+C$5/10000)+IF(ISNUMBER($A95),$A95*C95))/$A96","v":3.4653499884921828E-2},{"$f":"($A96*LN(1+'Curves without VA'!D96)-IF(ISNUMBER($A95),$A95*LN(1+'Curves without VA'!D95),0)+($A96<=D$2)*LN(1+D$5/10000)+IF(ISNUMBER($A95),$A95*D95))/$A96","v":3.1758941019192355E-2},{"$f":"($A96*LN(1+'Curves without VA'!E96)-IF(ISNUMBER($A95),$A95*LN(1+'Curves without VA'!E95),0)+($A96<=E$2)*LN(1+E$5/10000)+IF(ISNUMBER($A95),$A95*E95))/$A96","v":3.7904261055144321E-2},{"$f":"($A96*LN(1+'Curves without VA'!F96)-IF(ISNUMBER($A95),$A95*LN(1+'Curves without VA'!F95),0)+($A96<=F$2)*LN(1+F$5/10000)+IF(ISNUMBER($A95),$A95*F95))/$A96","v":4.110858915626097E-2},{"$f":"($A96*LN(1+'Curves without VA'!G96)-IF(ISNUMBER($A95),$A95*LN(1+'Curves without VA'!G95),0)+($A96<=G$2)*LN(1+G$5/10000)+IF(ISNUMBER($A95),$A95*G95))/$A96","v":3.9260731631012277E-2},{"$f":"($A96*LN(1+'Curves without VA'!H96)-IF(ISNUMBER($A95),$A95*LN(1+'Curves without VA'!H95),0)+($A96<=H$2)*LN(1+H$5/10000)+IF(ISNUMBER($A95),$A95*H95))/$A96","v":3.4790975222472098E-2},{"$f":"($A96*LN(1+'Curves without VA'!I96)-IF(ISNUMBER($A95),$A95*LN(1+'Curves without VA'!I95),0)+($A96<=I$2)*LN(1+I$5/10000)+IF(ISNUMBER($A95),$A95*I95))/$A96","v":4.551087766080035E-2},{"$f":"($A96*LN(1+'Curves without VA'!J96)-IF(ISNUMBER($A95),$A95*LN(1+'Curves without VA'!J95),0)+($A96<=J$2)*LN(1+J$5/10000)+IF(ISNUMBER($A95),$A95*J95))/$A96","v":3.646389104885208E-2},3.3617685804762987E-2,3.7081830285859985E-2,3.3077377610787995E-2,4.0031838573444389E-2,4.2695831681995644E-2,4.1698274392039103E-2,3.8574285601050029E-2,5.1853036867670399E-2,4.0957774748112241E-2,{"$f":"(1+'Curves without VA'!K96)*(1+K96)/(1+'Curves without VA'!B96)-1","v":3.9565749098944281E-2},{"$f":"(1+'Curves without VA'!L96)*(1+L96)/(1+'Curves without VA'!C96)-1","v":4.5624250850782477E-2},{"$f":"(1+'Curves without VA'!M96)*(1+M96)/(1+'Curves without VA'!D96)-1","v":4.0043143232443956E-2},{"$f":"(1+'Curves without VA'!N96)*(1+N96)/(1+'Curves without VA'!E96)-1","v":4.772500554286685E-2},{"$f":"(1+'Curves without VA'!O96)*(1+O96)/(1+'Curves without VA'!F96)-1","v":5.4554906354379096E-2},{"$f":"(1+'Curves without VA'!P96)*(1+P96)/(1+'Curves without VA'!G96)-1","v":5.0408564922810317E-2},{"$f":"(1+'Curves without VA'!Q96)*(1+Q96)/(1+'Curves without VA'!H96)-1","v":4.7215734595529968E-2},{"$f":"(1+'Curves without VA'!R96)*(1+R96)/(1+'Curves without VA'!I96)-1","v":6.5095988670776039E-2},{"$f":"(1+'Curves without VA'!S96)*(1+S96)/(1+'Curves without VA'!J96)-1","v":5.0664967602261468E-2},{"$f":"(1+'Curves without VA'!T96)*(1+K96)/(1+'Curves without VA'!B96)-1","v":2.5044176848099564E-2},{"$f":"(1+'Curves without VA'!U96)*(1+L96)/(1+'Curves without VA'!C96)-1","v":2.9718072165449749E-2},{"$f":"(1+'Curves without VA'!V96)*(1+M96)/(1+'Curves without VA'!D96)-1","v":2.2843885271788489E-2},{"$f":"(1+'Curves without VA'!W96)*(1+N96)/(1+'Curves without VA'!E96)-1","v":2.7659778874818297E-2},{"$f":"(1+'Curves without VA'!X96)*(1+O96)/(1+'Curves without VA'!F96)-1","v":2.1068158175683971E-2},{"$f":"(1+'Curves without VA'!Y96)*(1+P96)/(1+'Curves without VA'!G96)-1","v":2.8325306470696088E-2},{"$f":"(1+'Curves without VA'!Z96)*(1+Q96)/(1+'Curves without VA'!H96)-1","v":3.3397354323094985E-2},{"$f":"(1+'Curves without VA'!AA96)*(1+R96)/(1+'Curves without VA'!I96)-1","v":4.3612841719097739E-2},{"$f":"(1+'Curves without VA'!AB96)*(1+S96)/(1+'Curves without VA'!J96)-1","v":3.5355250411029937E-2}]
[84,{"$f":"($A97*LN(1+'Curves without VA'!B97)-IF(ISNUMBER($A96),$A96*LN(1+'Curves without VA'!B96),0)+($A97<=B$2)*LN(1+B$5/10000)+IF(ISNUMBER($A96),$A96*B96))/$A97","v":3.2950436341895907E-2},{"$f":"($A97*LN(1+'Curves without VA'!C97)-IF(ISNUMBER($A96),$A96*LN(1+'Curves without VA'!C96),0)+($A97<=C$2)*LN(1+C$5/10000)+IF(ISNUMBER($A96),$A96*C96))/$A97","v":3.4627470985512949E-2},{"$f":"($A97*LN(1+'Curves without VA'!D97)-IF(ISNUMBER($A96),$A96*LN(1+'Curves without VA'!D96),0)+($A97<=D$2)*LN(1+D$5/10000)+IF(ISNUMBER($A96),$A96*D96))/$A97","v":3.1755867296746072E-2},{"$f":"($A97*LN(1+'Curves without VA'!E97)-IF(ISNUMBER($A96),$A96*LN(1+'Curves without VA'!E96),0)+($A97<=E$2)*LN(1+E$5/10000)+IF(ISNUMBER($A96),$A96*E96))/$A97","v":3.7839526718059291E-2},{"$f":"($A97*LN(1+'Curves without VA'!F97)-IF(ISNUMBER($A96),$A96*LN(1+'Curves without VA'!F96),0)+($A97<=F$2)*LN(1+F$5/10000)+IF(ISNUMBER($A96),$A96*F96))/$A97","v":4.1005649454600779E-2},{"$f":"($A97*LN(1+'Curves without VA'!G97)-IF(ISNUMBER($A96),$A96*LN(1+'Curves without VA'!G96),0)+($A97<=G$2)*LN(1+G$5/10000)+IF(ISNUMBER($A96),$A96*G96))/$A97","v":3.9179848834690653E-2},{"$f":"($A97*LN(1+'Curves without VA'!H97)-IF(ISNUMBER($A96),$A96*LN(1+'Curves without VA'!H96),0)+($A97<=H$2)*LN(1+H$5/10000)+IF(ISNUMBER($A96),$A96*H96))/$A97","v":3.4763310305194174E-2},{"$f":"($A97*LN(1+'Curves without VA'!I97)-IF(ISNUMBER($A96),$A96*LN(1+'Curves without VA'!I96),0)+($A97<=I$2)*LN(1+I$5/10000)+IF(ISNUMBER($A96),$A96*I96))/$A97","v":4.5458809954630197E-2},{"$f":"($A97*LN(1+'Curves without VA'!J97)-IF(ISNUMBER($A96),$A96*LN(1+'Curves without VA'!J96),0)+($A97<=J$2)*LN(1+J$5/10000)+IF(ISNUMBER($A96),$A96*J96))/$A97","v":3.6416310466974286E-2},3.3610339039129133E-2,3.7033246776111861E-2,3.3064816050089263E-2,3.9948262607527596E-2,4.258185155602634E-2,4.1594789143689193E-2,3.8507854065697789E-2,5.1735441239906699E-2,4.0862807164111503E-2,{"$f":"(1+'Curves without VA'!K97)*(1+K97)/(1+'Curves without VA'!B97)-1","v":3.9505383354051515E-2},{"$f":"(1+'Curves without VA'!L97)*(1+L97)/(1+'Curves without VA'!C97)-1","v":4.5491423744054238E-2},{"$f":"(1+'Curves without VA'!M97)*(1+M97)/(1+'Curves without VA'!D97)-1","v":3.9965675179842064E-2},{"$f":"(1+'Curves without VA'!N97)*(1+N97)/(1+'Curves without VA'!E97)-1","v":4.7567361627089744E-2},{"$f":"(1+'Curves without VA'!O97)*(1+O97)/(1+'Curves without VA'!F97)-1","v":5.4320171535495732E-2},{"$f":"(1+'Curves without VA'!P97)*(1+P97)/(1+'Curves without VA'!G97)-1","v":5.0218786668612792E-2},{"$f":"(1+'Curves without VA'!Q97)*(1+Q97)/(1+'Curves without VA'!H97)-1","v":4.7063690595081198E-2},{"$f":"(1+'Curves without VA'!R97)*(1+R97)/(1+'Curves without VA'!I97)-1","v":6.4836929042630942E-2},{"$f":"(1+'Curves without VA'!S97)*(1+S97)/(1+'Curves without VA'!J97)-1","v":5.0471340784419727E-2},{"$f":"(1+'Curves without VA'!T97)*(1+K97)/(1+'Curves without VA'!B97)-1","v":2.512056883238234E-2},{"$f":"(1+'Curves without VA'!U97)*(1+L97)/(1+'Curves without VA'!C97)-1","v":2.973927628896722E-2},{"$f":"(1+'Curves without VA'!V97)*(1+M97)/(1+'Curves without VA'!D97)-1","v":2.2934392035821372E-2},{"$f":"(1+'Curves without VA'!W97)*(1+N97)/(1+'Curves without VA'!E97)-1","v":2.7705288727660315E-2},{"$f":"(1+'Curves without VA'!X97)*(1+O97)/(1+'Curves without VA'!F97)-1","v":2.1184495397106318E-2},{"$f":"(1+'Curves without VA'!Y97)*(1+P97)/(1+'Curves without VA'!G97)-1","v":2.8363062195645661E-2},{"$f":"(1+'Curves without VA'!Z97)*(1+Q97)/(1+'Curves without VA'!H97)-1","v":3.3374830040027392E-2},{"$f":"(1+'Curves without VA'!AA97)*(1+R97)/(1+'Curves without VA'!I97)-1","v":4.3575965183001442E-2},{"$f":"(1+'Curves without VA'!AB97)*(1+S97)/(1+'Curves without VA'!J97)-1","v":3.5309383930480776E-2}]
[85,{"$f":"($A98*LN(1+'Curves without VA'!B98)-IF(ISNUMBER($A97),$A97*LN(1+'Curves without VA'!B97),0)+($A98<=B$2)*LN(1+B$5/10000)+IF(ISNUMBER($A97),$A97*B97))/$A98","v":3.2944748940509194E-2},{"$f":"($A98*LN(1+'Curves without VA'!C98)-IF(ISNUMBER($A97),$A97*LN(1+'Curves without VA'!C97),0)+($A98<=C$2)*LN(1+C$5/10000)+IF(ISNUMBER($A97),$A97*C97))/$A98","v":3.4602054675161149E-2},{"$f":"($A98*LN(1+'Curves without VA'!D98)-IF(ISNUMBER($A97),$A97*LN(1+'Curves without VA'!D97),0)+($A98<=D$2)*LN(1+D$5/10000)+IF(ISNUMBER($A97),$A97*D97))/$A98","v":3.1752863346619267E-2},{"$f":"($A98*LN(1+'Curves without VA'!E98)-IF(ISNUMBER($A97),$A97*LN(1+'Curves without VA'!E97),0)+($A98<=E$2)*LN(1+E$5/10000)+IF(ISNUMBER($A97),$A97*E97))/$A98","v":3.7776316293553762E-2},{"$f":"($A98*LN(1+'Curves without VA'!F98)-IF(ISNUMBER($A97),$A97*LN(1+'Curves without VA'!F97),0)+($A98<=F$2)*LN(1+F$5/10000)+IF(ISNUMBER($A97),$A97*F97))/$A98","v":4.0905138647732313E-2},{"$f":"($A98*LN(1+'Curves without VA'!G98)-IF(ISNUMBER($A97),$A97*LN(1+'Curves without VA'!G97),0)+($A98<=G$2)*LN(1+G$5/10000)+IF(ISNUMBER($A97),$A97*G97))/$A98","v":3.9100869914695358E-2},{"$f":"($A98*LN(1+'Curves without VA'!H98)-IF(ISNUMBER($A97),$A97*LN(1+'Curves without VA'!H97),0)+($A98<=H$2)*LN(1+H$5/10000)+IF(ISNUMBER($A97),$A97*H97))/$A98","v":3.4736296410437684E-2},{"$f":"($A98*LN(1+'Curves without VA'!I98)-IF(ISNUMBER($A97),$A97*LN(1+'Curves without VA'!I97),0)+($A98<=I$2)*LN(1+I$5/10000)+IF(ISNUMBER($A97),$A97*I97))/$A98","v":4.5407973195654289E-2},{"$f":"($A98*LN(1+'Curves without VA'!J98)-IF(ISNUMBER($A97),$A97*LN(1+'Curves without VA'!J97),0)+($A98<=J$2)*LN(1+J$5/10000)+IF(ISNUMBER($A97),$A97*J97))/$A98","v":3.6369849511491102E-2},3.3603164282196341E-2,3.6985797852891134E-2,3.3052522308855359E-2,3.9866616663686516E-2,4.247036153735162E-2,4.1493697791867623E-2,3.8442978855645293E-2,5.1620599659632171E-2,4.0770069353289307E-2,{"$f":"(1+'Curves without VA'!K98)*(1+K98)/(1+'Curves without VA'!B98)-1","v":3.9446432463663195E-2},{"$f":"(1+'Curves without VA'!L98)*(1+L98)/(1+'Curves without VA'!C98)-1","v":4.5361706821885672E-2},{"$f":"(1+'Curves without VA'!M98)*(1+M98)/(1+'Curves without VA'!D98)-1","v":3.9889966545859856E-2},{"$f":"(1+'Curves without VA'!N98)*(1+N98)/(1+'Curves without VA'!E98)-1","v":4.7413368893260754E-2},{"$f":"(1+'Curves without VA'!O98)*(1+O98)/(1+'Curves without VA'!F98)-1","v":5.4090363373994421E-2},{"$f":"(1+'Curves without VA'!P98)*(1+P98)/(1+'Curves without VA'!G98)-1","v":5.0033399741608031E-2},{"$f":"(1+'Curves without VA'!Q98)*(1+Q98)/(1+'Curves without VA'!H98)-1","v":4.6915219746103132E-2},{"$f":"(1+'Curves without VA'!R98)*(1+R98)/(1+'Curves without VA'!I98)-1","v":6.4583959252511258E-2},{"$f":"(1+'Curves without VA'!S98)*(1+S98)/(1+'Curves without VA'!J98)-1","v":5.0282274362347223E-2},{"$f":"(1+'Curves without VA'!T98)*(1+K98)/(1+'Curves without VA'!B98)-1","v":2.5195192005780909E-2},{"$f":"(1+'Curves without VA'!U98)*(1+L98)/(1+'Curves without VA'!C98)-1","v":2.9759981006094005E-2},{"$f":"(1+'Curves without VA'!V98)*(1+M98)/(1+'Curves without VA'!D98)-1","v":2.3022808054848021E-2},{"$f":"(1+'Curves without VA'!W98)*(1+N98)/(1+'Curves without VA'!E98)-1","v":2.7749742354275186E-2},{"$f":"(1+'Curves without VA'!X98)*(1+O98)/(1+'Curves without VA'!F98)-1","v":2.1298852273121005E-2},{"$f":"(1+'Curves without VA'!Y98)*(1+P98)/(1+'Curves without VA'!G98)-1","v":2.8399928903333649E-2},{"$f":"(1+'Curves without VA'!Z98)*(1+Q98)/(1+'Curves without VA'!H98)-1","v":3.3352827589449241E-2},{"$f":"(1+'Curves without VA'!AA98)*(1+R98)/(1+'Curves without VA'!I98)-1","v":4.3539933312900514E-2},{"$f":"(1+'Curves without VA'!AB98)*(1+S98)/(1+'Curves without VA'!J98)-1","v":3.5264586887466365E-2}]
[86,{"$f":"($A99*LN(1+'Curves without VA'!B99)-IF(ISNUMBER($A98),$A98*LN(1+'Curves without VA'!B98),0)+($A99<=B$2)*LN(1+B$5/10000)+IF(ISNUMBER($A98),$A98*B98))/$A99","v":3.2939194025821739E-2},{"$f":"($A99*LN(1+'Curves without VA'!C99)-IF(ISNUMBER($A98),$A98*LN(1+'Curves without VA'!C98),0)+($A99<=C$2)*LN(1+C$5/10000)+IF(ISNUMBER($A98),$A98*C98))/$A99","v":3.4577229569617667E-2},{"$f":"($A99*LN(1+'Curves without VA'!D99)-IF(ISNUMBER($A98),$A98*LN(1+'Curves without VA'!D98),0)+($A99<=D$2)*LN(1+D$5/10000)+IF(ISNUMBER($A98),$A98*D98))/$A99","v":3.1749926997485821E-2},{"$f":"($A99*LN(1+'Curves without VA'!E99)-IF(ISNUMBER($A98),$A98*LN(1+'Curves without VA'!E98),0)+($A99<=E$2)*LN(1+E$5/10000)+IF(ISNUMBER($A98),$A98*E98))/$A99","v":3.7714576544494803E-2},{"$f":"($A99*LN(1+'Curves without VA'!F99)-IF(ISNUMBER($A98),$A98*LN(1+'Curves without VA'!F98),0)+($A99<=F$2)*LN(1+F$5/10000)+IF(ISNUMBER($A98),$A98*F98))/$A99","v":4.0806971308306197E-2},{"$f":"($A99*LN(1+'Curves without VA'!G99)-IF(ISNUMBER($A98),$A98*LN(1+'Curves without VA'!G98),0)+($A99<=G$2)*LN(1+G$5/10000)+IF(ISNUMBER($A98),$A98*G98))/$A99","v":3.9023728379344085E-2},{"$f":"($A99*LN(1+'Curves without VA'!H99)-IF(ISNUMBER($A98),$A98*LN(1+'Curves without VA'!H98),0)+($A99<=H$2)*LN(1+H$5/10000)+IF(ISNUMBER($A98),$A98*H98))/$A99","v":3.4709910819539572E-2},{"$f":"($A99*LN(1+'Curves without VA'!I99)-IF(ISNUMBER($A98),$A98*LN(1+'Curves without VA'!I98),0)+($A99<=I$2)*LN(1+I$5/10000)+IF(ISNUMBER($A98),$A98*I98))/$A99","v":4.5358323844174826E-2},{"$f":"($A99*LN(1+'Curves without VA'!J99)-IF(ISNUMBER($A98),$A98*LN(1+'Curves without VA'!J98),0)+($A99<=J$2)*LN(1+J$5/10000)+IF(ISNUMBER($A98),$A98*J98))/$A99","v":3.6324469117092355E-2},3.3596155625296387E-2,3.6939444970033986E-2,3.3040489912214088E-2,3.9786837623185356E-2,4.2361295389204745E-2,4.1394921747128999E-2,3.8379606659880272E-2,5.1508418259637923E-2,4.0679484597802018E-2,{"$f":"(1+'Curves without VA'!K99)*(1+K99)/(1+'Curves without VA'!B99)-1","v":3.938884787313901E-2},{"$f":"(1+'Curves without VA'!L99)*(1+L99)/(1+'Curves without VA'!C99)-1","v":4.5234994274107709E-2},{"$f":"(1+'Curves without VA'!M99)*(1+M99)/(1+'Curves without VA'!D99)-1","v":3.9815962873471777E-2},{"$f":"(1+'Curves without VA'!N99)*(1+N99)/(1+'Curves without VA'!E99)-1","v":4.7262907552287015E-2},{"$f":"(1+'Curves without VA'!O99)*(1+O99)/(1+'Curves without VA'!F99)-1","v":5.3865375260016224E-2},{"$f":"(1+'Curves without VA'!P99)*(1+P99)/(1+'Curves without VA'!G99)-1","v":4.9852260892050637E-2},{"$f":"(1+'Curves without VA'!Q99)*(1+Q99)/(1+'Curves without VA'!H99)-1","v":4.6770199318067585E-2},{"$f":"(1+'Curves without VA'!R99)*(1+R99)/(1+'Curves without VA'!I99)-1","v":6.4336871643273508E-2},{"$f":"(1+'Curves without VA'!S99)*(1+S99)/(1+'Curves without VA'!J99)-1","v":5.0097611159279243E-2},{"$f":"(1+'Curves without VA'!T99)*(1+K99)/(1+'Curves without VA'!B99)-1","v":2.5268105502889382E-2},{"$f":"(1+'Curves without VA'!U99)*(1+L99)/(1+'Curves without VA'!C99)-1","v":2.9780203816812234E-2},{"$f":"(1+'Curves without VA'!V99)*(1+M99)/(1+'Curves without VA'!D99)-1","v":2.3109202801870676E-2},{"$f":"(1+'Curves without VA'!W99)*(1+N99)/(1+'Curves without VA'!E99)-1","v":2.7793175232045719E-2},{"$f":"(1+'Curves without VA'!X99)*(1+O99)/(1+'Curves without VA'!F99)-1","v":2.141122105893678E-2},{"$f":"(1+'Curves without VA'!Y99)*(1+P99)/(1+'Curves without VA'!G99)-1","v":2.8435937764075936E-2},{"$f":"(1+'Curves without VA'!Z99)*(1+Q99)/(1+'Curves without VA'!H99)-1","v":3.3331329639993079E-2},{"$f":"(1+'Curves without VA'!AA99)*(1+R99)/(1+'Curves without VA'!I99)-1","v":4.3504719101834732E-2},{"$f":"(1+'Curves without VA'!AB99)*(1+S99)/(1+'Curves without VA'!J99)-1","v":3.5220823117884104E-2}]
[87,{"$f":"($A100*LN(1+'Curves without VA'!B100)-IF(ISNUMBER($A99),$A99*LN(1+'Curves without VA'!B99),0)+($A100<=B$2)*LN(1+B$5/10000)+IF(ISNUMBER($A99),$A99*B99))/$A100","v":3.2933767006513348E-2},{"$f":"($A100*LN(1+'Curves without VA'!C100)-IF(ISNUMBER($A99),$A99*LN(1+'Curves without VA'!C99),0)+($A100<=C$2)*LN(1+C$5/10000)+IF(ISNUMBER($A99),$A99*C99))/$A100","v":3.4552975269348397E-2},{"$f":"($A100*LN(1+'Curves without VA'!D100)-IF(ISNUMBER($A99),$A99*LN(1+'Curves without VA'!D99),0)+($A100<=D$2)*LN(1+D$5/10000)+IF(ISNUMBER($A99),$A99*D99))/$A100","v":3.174705615081222E-2},{"$f":"($A100*LN(1+'Curves without VA'!E100)-IF(ISNUMBER($A99),$A99*LN(1+'Curves without VA'!E99),0)+($A100<=E$2)*LN(1+E$5/10000)+IF(ISNUMBER($A99),$A99*E99))/$A100","v":3.7654256689402588E-2},{"$f":"($A100*LN(1+'Curves without VA'!F100)-IF(ISNUMBER($A99),$A99*LN(1+'Curves without VA'!F99),0)+($A100<=F$2)*LN(1+F$5/10000)+IF(ISNUMBER($A99),$A99*F99))/$A100","v":4.0711066008586837E-2},{"$f":"($A100*LN(1+'Curves without VA'!G100)-IF(ISNUMBER($A99),$A99*LN(1+'Curves without VA'!G99),0)+($A100<=G$2)*LN(1+G$5/10000)+IF(ISNUMBER($A99),$A99*G99))/$A100","v":3.8948360802012277E-2},{"$f":"($A100*LN(1+'Curves without VA'!H100)-IF(ISNUMBER($A99),$A99*LN(1+'Curves without VA'!H99),0)+($A100<=H$2)*LN(1+H$5/10000)+IF(ISNUMBER($A99),$A99*H99))/$A100","v":3.4684131859255847E-2},{"$f":"($A100*LN(1+'Curves without VA'!I100)-IF(ISNUMBER($A99),$A99*LN(1+'Curves without VA'!I99),0)+($A100<=I$2)*LN(1+I$5/10000)+IF(ISNUMBER($A99),$A99*I99))/$A100","v":4.5309820424067324E-2},{"$f":"($A100*LN(1+'Curves without VA'!J100)-IF(ISNUMBER($A99),$A99*LN(1+'Curves without VA'!J99),0)+($A100<=J$2)*LN(1+J$5/10000)+IF(ISNUMBER($A99),$A99*J99))/$A100","v":3.6280132015457572E-2},3.3589307421887593E-2,3.6894151242844897E-2,3.3028712387347836E-2,3.9708864822475265E-2,4.2254587767808438E-2,4.129838550614684E-2,3.8317686509344195E-2,5.1398807235716104E-2,4.0590979580570785E-2,{"$f":"(1+'Curves without VA'!K100)*(1+K100)/(1+'Curves without VA'!B100)-1","v":3.9332583170967661E-2},{"$f":"(1+'Curves without VA'!L100)*(1+L100)/(1+'Curves without VA'!C100)-1","v":4.5111184845811891E-2},{"$f":"(1+'Curves without VA'!M100)*(1+M100)/(1+'Curves without VA'!D100)-1","v":3.9743611484980068E-2},{"$f":"(1+'Curves without VA'!N100)*(1+N100)/(1+'Curves without VA'!E100)-1","v":4.7115862494403249E-2},{"$f":"(1+'Curves without VA'!O100)*(1+O100)/(1+'Curves without VA'!F100)-1","v":5.3645098637291388E-2},{"$f":"(1+'Curves without VA'!P100)*(1+P100)/(1+'Curves without VA'!G100)-1","v":4.9675232363601163E-2},{"$f":"(1+'Curves without VA'!Q100)*(1+Q100)/(1+'Curves without VA'!H100)-1","v":4.662851198306428E-2},{"$f":"(1+'Curves without VA'!R100)*(1+R100)/(1+'Curves without VA'!I100)-1","v":6.4095467489027058E-2},{"$f":"(1+'Curves without VA'!S100)*(1+S100)/(1+'Curves without VA'!J100)-1","v":4.9917200959120223E-2},{"$f":"(1+'Curves without VA'!T100)*(1+K100)/(1+'Curves without VA'!B100)-1","v":2.5339365992660623E-2},{"$f":"(1+'Curves without VA'!U100)*(1+L100)/(1+'Curves without VA'!C100)-1","v":2.9799961407557696E-2},{"$f":"(1+'Curves without VA'!V100)*(1+M100)/(1+'Curves without VA'!D100)-1","v":2.3193642896112587E-2},{"$f":"(1+'Curves without VA'!W100)*(1+N100)/(1+'Curves without VA'!E100)-1","v":2.7835621344069805E-2},{"$f":"(1+'Curves without VA'!X100)*(1+O100)/(1+'Curves without VA'!F100)-1","v":2.1521602234783943E-2},{"$f":"(1+'Curves without VA'!Y100)*(1+P100)/(1+'Curves without VA'!G100)-1","v":2.8471118496155245E-2},{"$f":"(1+'Curves without VA'!Z100)*(1+Q100)/(1+'Curves without VA'!H100)-1","v":3.3310319566358659E-2},{"$f":"(1+'Curves without VA'!AA100)*(1+R100)/(1+'Curves without VA'!I100)-1","v":4.3470296528763663E-2},{"$f":"(1+'Curves without VA'!AB100)*(1+S100)/(1+'Curves without VA'!J100)-1","v":3.5178057998777268E-2}]
[88,{"$f":"($A101*LN(1+'Curves without VA'!B101)-IF(ISNUMBER($A100),$A100*LN(1+'Curves without VA'!B100),0)+($A101<=B$2)*LN(1+B$5/10000)+IF(ISNUMBER($A100),$A100*B100))/$A101","v":3.2928463502310663E-2},{"$f":"($A101*LN(1+'Curves without VA'!C101)-IF(ISNUMBER($A100),$A100*LN(1+'Curves without VA'!C100),0)+($A101<=C$2)*LN(1+C$5/10000)+IF(ISNUMBER($A100),$A100*C100))/$A101","v":3.4529272303425215E-2},{"$f":"($A101*LN(1+'Curves without VA'!D101)-IF(ISNUMBER($A100),$A100*LN(1+'Curves without VA'!D100),0)+($A101<=D$2)*LN(1+D$5/10000)+IF(ISNUMBER($A100),$A100*D100))/$A101","v":3.1744248779505775E-2},{"$f":"($A101*LN(1+'Curves without VA'!E101)-IF(ISNUMBER($A100),$A100*LN(1+'Curves without VA'!E100),0)+($A101<=E$2)*LN(1+E$5/10000)+IF(ISNUMBER($A100),$A100*E100))/$A101","v":3.7595308262104679E-2},{"$f":"($A101*LN(1+'Curves without VA'!F101)-IF(ISNUMBER($A100),$A100*LN(1+'Curves without VA'!F100),0)+($A101<=F$2)*LN(1+F$5/10000)+IF(ISNUMBER($A100),$A100*F100))/$A101","v":4.061734508579553E-2},{"$f":"($A101*LN(1+'Curves without VA'!G101)-IF(ISNUMBER($A100),$A100*LN(1+'Curves without VA'!G100),0)+($A101<=G$2)*LN(1+G$5/10000)+IF(ISNUMBER($A100),$A100*G100))/$A101","v":3.8874706646161855E-2},{"$f":"($A101*LN(1+'Curves without VA'!H101)-IF(ISNUMBER($A100),$A100*LN(1+'Curves without VA'!H100),0)+($A101<=H$2)*LN(1+H$5/10000)+IF(ISNUMBER($A100),$A100*H100))/$A101","v":3.4658938842272162E-2},{"$f":"($A101*LN(1+'Curves without VA'!I101)-IF(ISNUMBER($A100),$A100*LN(1+'Curves without VA'!I100),0)+($A101<=I$2)*LN(1+I$5/10000)+IF(ISNUMBER($A100),$A100*I100))/$A101","v":4.5262423399173086E-2},{"$f":"($A101*LN(1+'Curves without VA'!J101)-IF(ISNUMBER($A100),$A100*LN(1+'Curves without VA'!J100),0)+($A101<=J$2)*LN(1+J$5/10000)+IF(ISNUMBER($A100),$A100*J100))/$A101","v":3.6236802633062205E-2},3.358261427364595E-2,3.6849881365275117E-2,3.3017183293841068E-2,3.9632639960267113E-2,4.2150174394668838E-2,4.1204016531501964E-2,3.8257169655423029E-2,5.1291680642831627E-2,4.0504484205723612E-2,{"$f":"(1+'Curves without VA'!K101)*(1+K101)/(1+'Curves without VA'!B101)-1","v":3.9277593976448255E-2},{"$f":"(1+'Curves without VA'!L101)*(1+L101)/(1+'Curves without VA'!C101)-1","v":4.4990181611698654E-2},{"$f":"(1+'Curves without VA'!M101)*(1+M101)/(1+'Curves without VA'!D101)-1","v":3.9672861456047537E-2},{"$f":"(1+'Curves without VA'!N101)*(1+N101)/(1+'Curves without VA'!E101)-1","v":4.697212311055643E-2},{"$f":"(1+'Curves without VA'!O101)*(1+O101)/(1+'Curves without VA'!F101)-1","v":5.3429423825773537E-2},{"$f":"(1+'Curves without VA'!P101)*(1+P101)/(1+'Curves without VA'!G101)-1","v":4.950218169661702E-2},{"$f":"(1+'Curves without VA'!Q101)*(1+Q101)/(1+'Curves without VA'!H101)-1","v":4.6490045535219293E-2},{"$f":"(1+'Curves without VA'!R101)*(1+R101)/(1+'Curves without VA'!I101)-1","v":6.3859556555985852E-2},{"$f":"(1+'Curves without VA'!S101)*(1+S101)/(1+'Curves without VA'!J101)-1","v":4.9740900140990973E-2},{"$f":"(1+'Curves without VA'!T101)*(1+K101)/(1+'Curves without VA'!B101)-1","v":2.5409027792862471E-2},{"$f":"(1+'Curves without VA'!U101)*(1+L101)/(1+'Curves without VA'!C101)-1","v":2.9819269698398543E-2},{"$f":"(1+'Curves without VA'!V101)*(1+M101)/(1+'Curves without VA'!D101)-1","v":2.3276192230741177E-2},{"$f":"(1+'Curves without VA'!W101)*(1+N101)/(1+'Curves without VA'!E101)-1","v":2.787711325012765E-2},{"$f":"(1+'Curves without VA'!X101)*(1+O101)/(1+'Curves without VA'!F101)-1","v":2.1630003230786565E-2},{"$f":"(1+'Curves without VA'!Y101)*(1+P101)/(1+'Curves without VA'!G101)-1","v":2.8505499450367067E-2},{"$f":"(1+'Curves without VA'!Z101)*(1+Q101)/(1+'Curves without VA'!H101)-1","v":3.328978141858463E-2},{"$f":"(1+'Curves without VA'!AA101)*(1+R101)/(1+'Curves without VA'!I101)-1","v":4.3436640528998316E-2},{"$f":"(1+'Curves without VA'!AB101)*(1+S101)/(1+'Curves without VA'!J101)-1","v":3.5136258373444695E-2}]
[89,{"$f":"($A102*LN(1+'Curves without VA'!B102)-IF(ISNUMBER($A101),$A101*LN(1+'Curves without VA'!B101),0)+($A102<=B$2)*LN(1+B$5/10000)+IF(ISNUMBER($A101),$A101*B101))/$A102","v":3.2923279331886601E-2},{"$f":"($A102*LN(1+'Curves without VA'!C102)-IF(ISNUMBER($A101),$A101*LN(1+'Curves without VA'!C101),0)+($A102<=C$2)*LN(1+C$5/10000)+IF(ISNUMBER($A101),$A101*C101))/$A102","v":3.4506102077219665E-2},{"$f":"($A102*LN(1+'Curves without VA'!D102)-IF(ISNUMBER($A101),$A101*LN(1+'Curves without VA'!D101),0)+($A102<=D$2)*LN(1+D$5/10000)+IF(ISNUMBER($A101),$A101*D101))/$A102","v":3.1741502926367592E-2},{"$f":"($A102*LN(1+'Curves without VA'!E102)-IF(ISNUMBER($A101),$A101*LN(1+'Curves without VA'!E101),0)+($A102<=E$2)*LN(1+E$5/10000)+IF(ISNUMBER($A101),$A101*E101))/$A102","v":3.7537684980934183E-2},{"$f":"($A102*LN(1+'Curves without VA'!F102)-IF(ISNUMBER($A101),$A101*LN(1+'Curves without VA'!F101),0)+($A102<=F$2)*LN(1+F$5/10000)+IF(ISNUMBER($A101),$A101*F101))/$A102","v":4.0525734424035023E-2},{"$f":"($A102*LN(1+'Curves without VA'!G102)-IF(ISNUMBER($A101),$A101*LN(1+'Curves without VA'!G101),0)+($A102<=G$2)*LN(1+G$5/10000)+IF(ISNUMBER($A101),$A101*G101))/$A102","v":3.8802708102249096E-2},{"$f":"($A102*LN(1+'Curves without VA'!H102)-IF(ISNUMBER($A101),$A101*LN(1+'Curves without VA'!H101),0)+($A102<=H$2)*LN(1+H$5/10000)+IF(ISNUMBER($A101),$A101*H101))/$A102","v":3.4634312011733302E-2},{"$f":"($A102*LN(1+'Curves without VA'!I102)-IF(ISNUMBER($A101),$A101*LN(1+'Curves without VA'!I101),0)+($A102<=I$2)*LN(1+I$5/10000)+IF(ISNUMBER($A101),$A101*I101))/$A102","v":4.5216095058679635E-2},{"$f":"($A102*LN(1+'Curves without VA'!J102)-IF(ISNUMBER($A101),$A101*LN(1+'Curves without VA'!J101),0)+($A102<=J$2)*LN(1+J$5/10000)+IF(ISNUMBER($A101),$A101*J101))/$A102","v":3.6194446995885213E-2},3.3576071017394682E-2,3.6806601531482963E-2,3.3005896248842204E-2,3.9558107006037346E-2,4.2047992194182759E-2,4.1111745133848521E-2,3.8198009455422843E-2,5.1186956202205591E-2,4.0419931429707345E-2,{"$f":"(1+'Curves without VA'!K102)*(1+K102)/(1+'Curves without VA'!B102)-1","v":3.9223837833964659E-2},{"$f":"(1+'Curves without VA'!L102)*(1+L102)/(1+'Curves without VA'!C102)-1","v":4.4871891762157112E-2},{"$f":"(1+'Curves without VA'!M102)*(1+M102)/(1+'Curves without VA'!D102)-1","v":3.9603663583706927E-2},{"$f":"(1+'Curves without VA'!N102)*(1+N102)/(1+'Curves without VA'!E102)-1","v":4.6831583116733411E-2},{"$f":"(1+'Curves without VA'!O102)*(1+O102)/(1+'Curves without VA'!F102)-1","v":5.3218240714946408E-2},{"$f":"(1+'Curves without VA'!P102)*(1+P102)/(1+'Curves without VA'!G102)-1","v":4.9332981532651754E-2},{"$f":"(1+'Curves without VA'!Q102)*(1+Q102)/(1+'Curves without VA'!H102)-1","v":4.6354692626233485E-2},{"$f":"(1+'Curves without VA'!R102)*(1+R102)/(1+'Curves without VA'!I102)-1","v":6.3628956685655824E-2},{"$f":"(1+'Curves without VA'!S102)*(1+S102)/(1+'Curves without VA'!J102)-1","v":4.9568571335195655E-2},{"$f":"(1+'Curves without VA'!T102)*(1+K102)/(1+'Curves without VA'!B102)-1","v":2.5477142979446032E-2},{"$f":"(1+'Curves without VA'!U102)*(1+L102)/(1+'Curves without VA'!C102)-1","v":2.9838143886928625E-2},{"$f":"(1+'Curves without VA'!V102)*(1+M102)/(1+'Curves without VA'!D102)-1","v":2.3356912095491955E-2},{"$f":"(1+'Curves without VA'!W102)*(1+N102)/(1+'Curves without VA'!E102)-1","v":2.7917682154285695E-2},{"$f":"(1+'Curves without VA'!X102)*(1+O102)/(1+'Curves without VA'!F102)-1","v":2.1736437320783564E-2},{"$f":"(1+'Curves without VA'!Y102)*(1+P102)/(1+'Curves without VA'!G102)-1","v":2.8539107688652754E-2},{"$f":"(1+'Curves without VA'!Z102)*(1+Q102)/(1+'Curves without VA'!H102)-1","v":3.3269699892420013E-2},{"$f":"(1+'Curves without VA'!AA102)*(1+R102)/(1+'Curves without VA'!I102)-1","v":4.3403726963900491E-2},{"$f":"(1+'Curves without VA'!AB102)*(1+S102)/(1+'Curves without VA'!J102)-1","v":3.5095392480286369E-2}]
[90,{"$f":"($A103*LN(1+'Curves without VA'!B103)-IF(ISNUMBER($A102),$A102*LN(1+'Curves without VA'!B102),0)+($A103<=B$2)*LN(1+B$5/10000)+IF(ISNUMBER($A102),$A102*B102))/$A103","v":3.2918210501594651E-2},{"$f":"($A103*LN(1+'Curves without VA'!C103)-IF(ISNUMBER($A102),$A102*LN(1+'Curves without VA'!C102),0)+($A103<=C$2)*LN(1+C$5/10000)+IF(ISNUMBER($A102),$A102*C102))/$A103","v":3.4483446823593951E-2},{"$f":"($A103*LN(1+'Curves without VA'!D103)-IF(ISNUMBER($A102),$A102*LN(1+'Curves without VA'!D102),0)+($A103<=D$2)*LN(1+D$5/10000)+IF(ISNUMBER($A102),$A102*D102))/$A103","v":3.1738816702394576E-2},{"$f":"($A103*LN(1+'Curves without VA'!E103)-IF(ISNUMBER($A102),$A102*LN(1+'Curves without VA'!E102),0)+($A103<=E$2)*LN(1+E$5/10000)+IF(ISNUMBER($A102),$A102*E102))/$A103","v":3.7481342626725762E-2},{"$f":"($A103*LN(1+'Curves without VA'!F103)-IF(ISNUMBER($A102),$A102*LN(1+'Curves without VA'!F102),0)+($A103<=F$2)*LN(1+F$5/10000)+IF(ISNUMBER($A102),$A102*F102))/$A103","v":4.0436163251429104E-2},{"$f":"($A103*LN(1+'Curves without VA'!G103)-IF(ISNUMBER($A102),$A102*LN(1+'Curves without VA'!G102),0)+($A103<=G$2)*LN(1+G$5/10000)+IF(ISNUMBER($A102),$A102*G102))/$A103","v":3.8732309935581834E-2},{"$f":"($A103*LN(1+'Curves without VA'!H103)-IF(ISNUMBER($A102),$A102*LN(1+'Curves without VA'!H102),0)+($A103<=H$2)*LN(1+H$5/10000)+IF(ISNUMBER($A102),$A102*H102))/$A103","v":3.4610232489480558E-2},{"$f":"($A103*LN(1+'Curves without VA'!I103)-IF(ISNUMBER($A102),$A102*LN(1+'Curves without VA'!I102),0)+($A103<=I$2)*LN(1+I$5/10000)+IF(ISNUMBER($A102),$A102*I102))/$A103","v":4.517079941072373E-2},{"$f":"($A103*LN(1+'Curves without VA'!J103)-IF(ISNUMBER($A102),$A102*LN(1+'Curves without VA'!J102),0)+($A103<=J$2)*LN(1+J$5/10000)+IF(ISNUMBER($A102),$A102*J102))/$A103","v":3.6153032640475265E-2},3.356967271281408E-2,3.6764279361560348E-2,3.2994844947767943E-2,3.9485212110362378E-2,4.1947979401646407E-2,4.1021504356869798E-2,3.8140161264613504E-2,5.1084555118750652E-2,4.0337257102383006E-2,{"$f":"(1+'Curves without VA'!K103)*(1+K103)/(1+'Curves without VA'!B103)-1","v":3.9171274113430243E-2},{"$f":"(1+'Curves without VA'!L103)*(1+L103)/(1+'Curves without VA'!C103)-1","v":4.4756226400527455E-2},{"$f":"(1+'Curves without VA'!M103)*(1+M103)/(1+'Curves without VA'!D103)-1","v":3.9535970349626526E-2},{"$f":"(1+'Curves without VA'!N103)*(1+N103)/(1+'Curves without VA'!E103)-1","v":4.6694140381952742E-2},{"$f":"(1+'Curves without VA'!O103)*(1+O103)/(1+'Curves without VA'!F103)-1","v":5.301143934553032E-2},{"$f":"(1+'Curves without VA'!P103)*(1+P103)/(1+'Curves without VA'!G103)-1","v":4.9167509421334188E-2},{"$f":"(1+'Curves without VA'!Q103)*(1+Q103)/(1+'Curves without VA'!H103)-1","v":4.6222350516076816E-2},{"$f":"(1+'Curves without VA'!R103)*(1+R103)/(1+'Curves without VA'!I103)-1","v":6.3403493399369459E-2},{"$f":"(1+'Curves without VA'!S103)*(1+S103)/(1+'Curves without VA'!J103)-1","v":4.9400083099273795E-2},{"$f":"(1+'Curves without VA'!T103)*(1+K103)/(1+'Curves without VA'!B103)-1","v":2.5543761490932182E-2},{"$f":"(1+'Curves without VA'!U103)*(1+L103)/(1+'Curves without VA'!C103)-1","v":2.9856598489151898E-2},{"$f":"(1+'Curves without VA'!V103)*(1+M103)/(1+'Curves without VA'!D103)-1","v":2.3435861294230698E-2},{"$f":"(1+'Curves without VA'!W103)*(1+N103)/(1+'Curves without VA'!E103)-1","v":2.7957357969262908E-2},{"$f":"(1+'Curves without VA'!X103)*(1+O103)/(1+'Curves without VA'!F103)-1","v":2.1840922663435069E-2},{"$f":"(1+'Curves without VA'!Y103)*(1+P103)/(1+'Curves without VA'!G103)-1","v":2.8571969057296531E-2},{"$f":"(1+'Curves without VA'!Z103)*(1+Q103)/(1+'Curves without VA'!H103)-1","v":3.3250060300814122E-2},{"$f":"(1+'Curves without VA'!AA103)*(1+R103)/(1+'Curves without VA'!I103)-1","v":4.337153259017823E-2},{"$f":"(1+'Curves without VA'!AB103)*(1+S103)/(1+'Curves without VA'!J103)-1","v":3.5055429885230582E-2}]
[91,{"$f":"($A104*LN(1+'Curves without VA'!B104)-IF(ISNUMBER($A103),$A103*LN(1+'Curves without VA'!B103),0)+($A104<=B$2)*LN(1+B$5/10000)+IF(ISNUMBER($A103),$A103*B103))/$A104","v":3.2913253194966414E-2},{"$f":"($A104*LN(1+'Curves without VA'!C104)-IF(ISNUMBER($A103),$A103*LN(1+'Curves without VA'!C103),0)+($A104<=C$2)*LN(1+C$5/10000)+IF(ISNUMBER($A103),$A103*C103))/$A104","v":3.4461289557325851E-2},{"$f":"($A104*LN(1+'Curves without VA'!D104)-IF(ISNUMBER($A103),$A103*LN(1+'Curves without VA'!D103),0)+($A104<=D$2)*LN(1+D$5/10000)+IF(ISNUMBER($A103),$A103*D103))/$A104","v":3.1736188284967971E-2},{"$f":"($A104*LN(1+'Curves without VA'!E104)-IF(ISNUMBER($A103),$A103*LN(1+'Curves without VA'!E103),0)+($A104<=E$2)*LN(1+E$5/10000)+IF(ISNUMBER($A103),$A103*E103))/$A104","v":3.7426238928920531E-2},{"$f":"($A104*LN(1+'Curves without VA'!F104)-IF(ISNUMBER($A103),$A103*LN(1+'Curves without VA'!F103),0)+($A104<=F$2)*LN(1+F$5/10000)+IF(ISNUMBER($A103),$A103*F103))/$A104","v":4.0348563951236149E-2},{"$f":"($A104*LN(1+'Curves without VA'!G104)-IF(ISNUMBER($A103),$A103*LN(1+'Curves without VA'!G103),0)+($A104<=G$2)*LN(1+G$5/10000)+IF(ISNUMBER($A103),$A103*G103))/$A104","v":3.8663459344272642E-2},{"$f":"($A104*LN(1+'Curves without VA'!H104)-IF(ISNUMBER($A103),$A103*LN(1+'Curves without VA'!H103),0)+($A104<=H$2)*LN(1+H$5/10000)+IF(ISNUMBER($A103),$A103*H103))/$A104","v":3.4586682227707971E-2},{"$f":"($A104*LN(1+'Curves without VA'!I104)-IF(ISNUMBER($A103),$A103*LN(1+'Curves without VA'!I103),0)+($A104<=I$2)*LN(1+I$5/10000)+IF(ISNUMBER($A103),$A103*I103))/$A104","v":4.5126502083521348E-2},{"$f":"($A104*LN(1+'Curves without VA'!J104)-IF(ISNUMBER($A103),$A103*LN(1+'Curves without VA'!J103),0)+($A104<=J$2)*LN(1+J$5/10000)+IF(ISNUMBER($A103),$A103*J103))/$A104","v":3.6112528530889663E-2},3.3563414630879862E-2,3.6722883831215469E-2,3.2984023181178435E-2,3.9413903517379723E-2,4.1850075646050033E-2,4.0933229865329768E-2,3.8083582334447197E-2,5.0984401908328314E-2,4.0256399817475419E-2,{"$f":"(1+'Curves without VA'!K104)*(1+K104)/(1+'Curves without VA'!B104)-1","v":3.9119863916525999E-2},{"$f":"(1+'Curves without VA'!L104)*(1+L104)/(1+'Curves without VA'!C104)-1","v":4.4643100351011045E-2},{"$f":"(1+'Curves without VA'!M104)*(1+M104)/(1+'Curves without VA'!D104)-1","v":3.9469735879700485E-2},{"$f":"(1+'Curves without VA'!N104)*(1+N104)/(1+'Curves without VA'!E104)-1","v":4.6559696760473335E-2},{"$f":"(1+'Curves without VA'!O104)*(1+O104)/(1+'Curves without VA'!F104)-1","v":5.2808910394943842E-2},{"$f":"(1+'Curves without VA'!P104)*(1+P104)/(1+'Curves without VA'!G104)-1","v":4.9005647630537164E-2},{"$f":"(1+'Curves without VA'!Q104)*(1+Q104)/(1+'Curves without VA'!H104)-1","v":4.6092920837935036E-2},{"$f":"(1+'Curves without VA'!R104)*(1+R104)/(1+'Curves without VA'!I104)-1","v":6.3182999523213823E-2},{"$f":"(1+'Curves without VA'!S104)*(1+S104)/(1+'Curves without VA'!J104)-1","v":4.923530961289968E-2},{"$f":"(1+'Curves without VA'!T104)*(1+K104)/(1+'Curves without VA'!B104)-1","v":2.5608931227980358E-2},{"$f":"(1+'Curves without VA'!U104)*(1+L104)/(1+'Curves without VA'!C104)-1","v":2.9874647377590824E-2},{"$f":"(1+'Curves without VA'!V104)*(1+M104)/(1+'Curves without VA'!D104)-1","v":2.3513096257527843E-2},{"$f":"(1+'Curves without VA'!W104)*(1+N104)/(1+'Curves without VA'!E104)-1","v":2.7996169377675573E-2},{"$f":"(1+'Curves without VA'!X104)*(1+O104)/(1+'Curves without VA'!F104)-1","v":2.1943481471718984E-2},{"$f":"(1+'Curves without VA'!Y104)*(1+P104)/(1+'Curves without VA'!G104)-1","v":2.8604108255134708E-2},{"$f":"(1+'Curves without VA'!Z104)*(1+Q104)/(1+'Curves without VA'!H104)-1","v":3.3230848546525804E-2},{"$f":"(1+'Curves without VA'!AA104)*(1+R104)/(1+'Curves without VA'!I104)-1","v":4.3340035029068247E-2},{"$f":"(1+'Curves without VA'!AB104)*(1+S104)/(1+'Curves without VA'!J104)-1","v":3.5016341417585695E-2}]
[92,{"$f":"($A105*LN(1+'Curves without VA'!B105)-IF(ISNUMBER($A104),$A104*LN(1+'Curves without VA'!B104),0)+($A105<=B$2)*LN(1+B$5/10000)+IF(ISNUMBER($A104),$A104*B104))/$A105","v":3.2908403762914554E-2},{"$f":"($A105*LN(1+'Curves without VA'!C105)-IF(ISNUMBER($A104),$A104*LN(1+'Curves without VA'!C104),0)+($A105<=C$2)*LN(1+C$5/10000)+IF(ISNUMBER($A104),$A104*C104))/$A105","v":3.4439614032516455E-2},{"$f":"($A105*LN(1+'Curves without VA'!D105)-IF(ISNUMBER($A104),$A104*LN(1+'Curves without VA'!D104),0)+($A105<=D$2)*LN(1+D$5/10000)+IF(ISNUMBER($A104),$A104*D104))/$A105","v":3.1733615915961813E-2},{"$f":"($A105*LN(1+'Curves without VA'!E105)-IF(ISNUMBER($A104),$A104*LN(1+'Curves without VA'!E104),0)+($A105<=E$2)*LN(1+E$5/10000)+IF(ISNUMBER($A104),$A104*E104))/$A105","v":3.7372333459157164E-2},{"$f":"($A105*LN(1+'Curves without VA'!F105)-IF(ISNUMBER($A104),$A104*LN(1+'Curves without VA'!F104),0)+($A105<=F$2)*LN(1+F$5/10000)+IF(ISNUMBER($A104),$A104*F104))/$A105","v":4.0262871885812027E-2},{"$f":"($A105*LN(1+'Curves without VA'!G105)-IF(ISNUMBER($A104),$A104*LN(1+'Curves without VA'!G104),0)+($A105<=G$2)*LN(1+G$5/10000)+IF(ISNUMBER($A104),$A104*G104))/$A105","v":3.8596105826516361E-2},{"$f":"($A105*LN(1+'Curves without VA'!H105)-IF(ISNUMBER($A104),$A104*LN(1+'Curves without VA'!H104),0)+($A105<=H$2)*LN(1+H$5/10000)+IF(ISNUMBER($A104),$A104*H104))/$A105","v":3.4563643963778638E-2},{"$f":"($A105*LN(1+'Curves without VA'!I105)-IF(ISNUMBER($A104),$A104*LN(1+'Curves without VA'!I104),0)+($A105<=I$2)*LN(1+I$5/10000)+IF(ISNUMBER($A104),$A104*I104))/$A105","v":4.5083170233403608E-2},{"$f":"($A105*LN(1+'Curves without VA'!J105)-IF(ISNUMBER($A104),$A104*LN(1+'Curves without VA'!J104),0)+($A105<=J$2)*LN(1+J$5/10000)+IF(ISNUMBER($A104),$A104*J104))/$A105","v":3.6072904981056225E-2},3.3557292242988312E-2,3.6682385205204726E-2,3.2973424848370403E-2,3.9344131479606581E-2,4.1754222011452846E-2,4.0846859836453309E-2,3.8028231716577654E-2,5.088642423430767E-2,4.0177300771779612E-2,{"$f":"(1+'Curves without VA'!K105)*(1+K105)/(1+'Curves without VA'!B105)-1","v":3.9069569988368524E-2},{"$f":"(1+'Curves without VA'!L105)*(1+L105)/(1+'Curves without VA'!C105)-1","v":4.4532431976687548E-2},{"$f":"(1+'Curves without VA'!M105)*(1+M105)/(1+'Curves without VA'!D105)-1","v":3.94049159008798E-2},{"$f":"(1+'Curves without VA'!N105)*(1+N105)/(1+'Curves without VA'!E105)-1","v":4.6428157928641189E-2},{"$f":"(1+'Curves without VA'!O105)*(1+O105)/(1+'Curves without VA'!F105)-1","v":5.2610545579861112E-2},{"$f":"(1+'Curves without VA'!P105)*(1+P105)/(1+'Curves without VA'!G105)-1","v":4.8847282960581717E-2},{"$f":"(1+'Curves without VA'!Q105)*(1+Q105)/(1+'Curves without VA'!H105)-1","v":4.5966309376553216E-2},{"$f":"(1+'Curves without VA'!R105)*(1+R105)/(1+'Curves without VA'!I105)-1","v":6.296731483239526E-2},{"$f":"(1+'Curves without VA'!S105)*(1+S105)/(1+'Curves without VA'!J105)-1","v":4.9074130390457826E-2},{"$f":"(1+'Curves without VA'!T105)*(1+K105)/(1+'Curves without VA'!B105)-1","v":2.5672698148281992E-2},{"$f":"(1+'Curves without VA'!U105)*(1+L105)/(1+'Curves without VA'!C105)-1","v":2.9892303816838162E-2},{"$f":"(1+'Curves without VA'!V105)*(1+M105)/(1+'Curves without VA'!D105)-1","v":2.3588671150339691E-2},{"$f":"(1+'Curves without VA'!W105)*(1+N105)/(1+'Curves without VA'!E105)-1","v":2.803414389027914E-2},{"$f":"(1+'Curves without VA'!X105)*(1+O105)/(1+'Curves without VA'!F105)-1","v":2.2044139294355336E-2},{"$f":"(1+'Curves without VA'!Y105)*(1+P105)/(1+'Curves without VA'!G105)-1","v":2.8635548897160357E-2},{"$f":"(1+'Curves without VA'!Z105)*(1+Q105)/(1+'Curves without VA'!H105)-1","v":3.321205109584513E-2},{"$f":"(1+'Curves without VA'!AA105)*(1+R105)/(1+'Curves without VA'!I105)-1","v":4.3309212735625602E-2},{"$f":"(1+'Curves without VA'!AB105)*(1+S105)/(1+'Curves without VA'!J105)-1","v":3.4978099109164162E-2}]
[93,{"$f":"($A106*LN(1+'Curves without VA'!B106)-IF(ISNUMBER($A105),$A105*LN(1+'Curves without VA'!B105),0)+($A106<=B$2)*LN(1+B$5/10000)+IF(ISNUMBER($A105),$A105*B105))/$A106","v":3.2903658714583423E-2},{"$f":"($A106*LN(1+'Curves without VA'!C106)-IF(ISNUMBER($A105),$A105*LN(1+'Curves without VA'!C105),0)+($A106<=C$2)*LN(1+C$5/10000)+IF(ISNUMBER($A105),$A105*C105))/$A106","v":3.4418404702754687E-2},{"$f":"($A106*LN(1+'Curves without VA'!D106)-IF(ISNUMBER($A105),$A105*LN(1+'Curves without VA'!D105),0)+($A106<=D$2)*LN(1+D$5/10000)+IF(ISNUMBER($A105),$A105*D105))/$A106","v":3.1731097899794419E-2},{"$f":"($A106*LN(1+'Curves without VA'!E106)-IF(ISNUMBER($A105),$A105*LN(1+'Curves without VA'!E105),0)+($A106<=E$2)*LN(1+E$5/10000)+IF(ISNUMBER($A105),$A105*E105))/$A106","v":3.7319587531782258E-2},{"$f":"($A106*LN(1+'Curves without VA'!F106)-IF(ISNUMBER($A105),$A105*LN(1+'Curves without VA'!F105),0)+($A106<=F$2)*LN(1+F$5/10000)+IF(ISNUMBER($A105),$A105*F105))/$A106","v":4.0179025232399017E-2},{"$f":"($A106*LN(1+'Curves without VA'!G106)-IF(ISNUMBER($A105),$A105*LN(1+'Curves without VA'!G105),0)+($A106<=G$2)*LN(1+G$5/10000)+IF(ISNUMBER($A105),$A105*G105))/$A106","v":3.8530201056481597E-2},{"$f":"($A106*LN(1+'Curves without VA'!H106)-IF(ISNUMBER($A105),$A105*LN(1+'Curves without VA'!H105),0)+($A106<=H$2)*LN(1+H$5/10000)+IF(ISNUMBER($A105),$A105*H105))/$A106","v":3.4541101177961483E-2},{"$f":"($A106*LN(1+'Curves without VA'!I106)-IF(ISNUMBER($A105),$A105*LN(1+'Curves without VA'!I105),0)+($A106<=I$2)*LN(1+I$5/10000)+IF(ISNUMBER($A105),$A105*I105))/$A106","v":4.5040772459188388E-2},{"$f":"($A106*LN(1+'Curves without VA'!J106)-IF(ISNUMBER($A105),$A105*LN(1+'Curves without VA'!J105),0)+($A106<=J$2)*LN(1+J$5/10000)+IF(ISNUMBER($A105),$A105*J105))/$A106","v":3.6034133582150032E-2},3.3551301210718476E-2,3.6642754974323566E-2,3.2963043968156525E-2,3.9275848175284844E-2,4.1660361080203767E-2,4.0762334854795412E-2,3.7974070172331453E-2,5.0790552752934204E-2,4.0099903632568434E-2,{"$f":"(1+'Curves without VA'!K106)*(1+K106)/(1+'Curves without VA'!B106)-1","v":3.9020356634274389E-2},{"$f":"(1+'Curves without VA'!L106)*(1+L106)/(1+'Curves without VA'!C106)-1","v":4.4424143007148365E-2},{"$f":"(1+'Curves without VA'!M106)*(1+M106)/(1+'Curves without VA'!D106)-1","v":3.9341467696003996E-2},{"$f":"(1+'Curves without VA'!N106)*(1+N106)/(1+'Curves without VA'!E106)-1","v":4.6299433226676401E-2},{"$f":"(1+'Curves without VA'!O106)*(1+O106)/(1+'Curves without VA'!F106)-1","v":5.2416237987410907E-2},{"$f":"(1+'Curves without VA'!P106)*(1+P106)/(1+'Curves without VA'!G106)-1","v":4.8692306563035359E-2},{"$f":"(1+'Curves without VA'!Q106)*(1+Q106)/(1+'Curves without VA'!H106)-1","v":4.5842425859166314E-2},{"$f":"(1+'Curves without VA'!R106)*(1+R106)/(1+'Curves without VA'!I106)-1","v":6.2756285714106186E-2},{"$f":"(1+'Curves without VA'!S106)*(1+S106)/(1+'Curves without VA'!J106)-1","v":4.8916430010197187E-2},{"$f":"(1+'Curves without VA'!T106)*(1+K106)/(1+'Curves without VA'!B106)-1","v":2.5735106356956639E-2},{"$f":"(1+'Curves without VA'!U106)*(1+L106)/(1+'Curves without VA'!C106)-1","v":2.9909580496759292E-2},{"$f":"(1+'Curves without VA'!V106)*(1+M106)/(1+'Curves without VA'!D106)-1","v":2.3662637974910528E-2},{"$f":"(1+'Curves without VA'!W106)*(1+N106)/(1+'Curves without VA'!E106)-1","v":2.8071307901336828E-2},{"$f":"(1+'Curves without VA'!X106)*(1+O106)/(1+'Curves without VA'!F106)-1","v":2.2142924394790375E-2},{"$f":"(1+'Curves without VA'!Y106)*(1+P106)/(1+'Curves without VA'!G106)-1","v":2.8666313573898261E-2},{"$f":"(1+'Curves without VA'!Z106)*(1+Q106)/(1+'Curves without VA'!H106)-1","v":3.3193654953414864E-2},{"$f":"(1+'Curves without VA'!AA106)*(1+R106)/(1+'Curves without VA'!I106)-1","v":4.3279044968316249E-2},{"$f":"(1+'Curves without VA'!AB106)*(1+S106)/(1+'Curves without VA'!J106)-1","v":3.4940676136524962E-2}]
[94,{"$f":"($A107*LN(1+'Curves without VA'!B107)-IF(ISNUMBER($A106),$A106*LN(1+'Curves without VA'!B106),0)+($A107<=B$2)*LN(1+B$5/10000)+IF(ISNUMBER($A106),$A106*B106))/$A107","v":3.2899014708801862E-2},{"$f":"($A107*LN(1+'Curves without VA'!C107)-IF(ISNUMBER($A106),$A106*LN(1+'Curves without VA'!C106),0)+($A107<=C$2)*LN(1+C$5/10000)+IF(ISNUMBER($A106),$A106*C106))/$A107","v":3.4397646683835124E-2},{"$f":"($A107*LN(1+'Curves without VA'!D107)-IF(ISNUMBER($A106),$A106*LN(1+'Curves without VA'!D106),0)+($A107<=D$2)*LN(1+D$5/10000)+IF(ISNUMBER($A106),$A106*D106))/$A107","v":3.1728632601450112E-2},{"$f":"($A107*LN(1+'Curves without VA'!E107)-IF(ISNUMBER($A106),$A106*LN(1+'Curves without VA'!E106),0)+($A107<=E$2)*LN(1+E$5/10000)+IF(ISNUMBER($A106),$A106*E106))/$A107","v":3.7267964110754885E-2},{"$f":"($A107*LN(1+'Curves without VA'!F107)-IF(ISNUMBER($A106),$A106*LN(1+'Curves without VA'!F106),0)+($A107<=F$2)*LN(1+F$5/10000)+IF(ISNUMBER($A106),$A106*F106))/$A107","v":4.009696482981593E-2},{"$f":"($A107*LN(1+'Curves without VA'!G107)-IF(ISNUMBER($A106),$A106*LN(1+'Curves without VA'!G106),0)+($A107<=G$2)*LN(1+G$5/10000)+IF(ISNUMBER($A106),$A106*G106))/$A107","v":3.8465698768170249E-2},{"$f":"($A107*LN(1+'Curves without VA'!H107)-IF(ISNUMBER($A106),$A106*LN(1+'Curves without VA'!H106),0)+($A107<=H$2)*LN(1+H$5/10000)+IF(ISNUMBER($A106),$A106*H106))/$A107","v":3.4519038053870854E-2},{"$f":"($A107*LN(1+'Curves without VA'!I107)-IF(ISNUMBER($A106),$A106*LN(1+'Curves without VA'!I106),0)+($A107<=I$2)*LN(1+I$5/10000)+IF(ISNUMBER($A106),$A106*I106))/$A107","v":4.4999278722374379E-2},{"$f":"($A107*LN(1+'Curves without VA'!J107)-IF(ISNUMBER($A106),$A106*LN(1+'Curves without VA'!J106),0)+($A107<=J$2)*LN(1+J$5/10000)+IF(ISNUMBER($A106),$A106*J106))/$A107","v":3.5996187134610599E-2},3.3545437376191201E-2,3.6603965795763305E-2,3.2952874687245393E-2,3.920900762837265E-2,4.1568436960830235E-2,4.0679597810703072E-2,3.7921060087303449E-2,5.0696720967027931E-2,4.0024154412685142E-2,{"$f":"(1+'Curves without VA'!K107)*(1+K107)/(1+'Curves without VA'!B107)-1","v":3.8972189641295563E-2},{"$f":"(1+'Curves without VA'!L107)*(1+L107)/(1+'Curves without VA'!C107)-1","v":4.4318158375242778E-2},{"$f":"(1+'Curves without VA'!M107)*(1+M107)/(1+'Curves without VA'!D107)-1","v":3.9279350057283002E-2},{"$f":"(1+'Curves without VA'!N107)*(1+N107)/(1+'Curves without VA'!E107)-1","v":4.6173435505618476E-2},{"$f":"(1+'Curves without VA'!O107)*(1+O107)/(1+'Curves without VA'!F107)-1","v":5.2225882345040109E-2},{"$f":"(1+'Curves without VA'!P107)*(1+P107)/(1+'Curves without VA'!G107)-1","v":4.854061376453056E-2},{"$f":"(1+'Curves without VA'!Q107)*(1+Q107)/(1+'Curves without VA'!H107)-1","v":4.5721183758266726E-2},{"$f":"(1+'Curves without VA'!R107)*(1+R107)/(1+'Curves without VA'!I107)-1","v":6.2549764847985134E-2},{"$f":"(1+'Curves without VA'!S107)*(1+S107)/(1+'Curves without VA'!J107)-1","v":4.8762097858939368E-2},{"$f":"(1+'Curves without VA'!T107)*(1+K107)/(1+'Curves without VA'!B107)-1","v":2.5796198192603592E-2},{"$f":"(1+'Curves without VA'!U107)*(1+L107)/(1+'Curves without VA'!C107)-1","v":2.992648956351851E-2},{"$f":"(1+'Curves without VA'!V107)*(1+M107)/(1+'Curves without VA'!D107)-1","v":2.3735046669038251E-2},{"$f":"(1+'Curves without VA'!W107)*(1+N107)/(1+'Curves without VA'!E107)-1","v":2.8107686741231541E-2},{"$f":"(1+'Curves without VA'!X107)*(1+O107)/(1+'Curves without VA'!F107)-1","v":2.2239867215213538E-2},{"$f":"(1+'Curves without VA'!Y107)*(1+P107)/(1+'Curves without VA'!G107)-1","v":2.8696423906869661E-2},{"$f":"(1+'Curves without VA'!Z107)*(1+Q107)/(1+'Curves without VA'!H107)-1","v":3.317564763812908E-2},{"$f":"(1+'Curves without VA'!AA107)*(1+R107)/(1+'Curves without VA'!I107)-1","v":4.3249511759059889E-2},{"$f":"(1+'Curves without VA'!AB107)*(1+S107)/(1+'Curves without VA'!J107)-1","v":3.4904046766188745E-2}]
[95,{"$f":"($A108*LN(1+'Curves without VA'!B108)-IF(ISNUMBER($A107),$A107*LN(1+'Curves without VA'!B107),0)+($A108<=B$2)*LN(1+B$5/10000)+IF(ISNUMBER($A107),$A107*B107))/$A108","v":3.2894468546087186E-2},{"$f":"($A108*LN(1+'Curves without VA'!C108)-IF(ISNUMBER($A107),$A107*LN(1+'Curves without VA'!C107),0)+($A108<=C$2)*LN(1+C$5/10000)+IF(ISNUMBER($A107),$A107*C107))/$A108","v":3.4377325718836574E-2},{"$f":"($A108*LN(1+'Curves without VA'!D108)-IF(ISNUMBER($A107),$A107*LN(1+'Curves without VA'!D107),0)+($A108<=D$2)*LN(1+D$5/10000)+IF(ISNUMBER($A107),$A107*D107))/$A108","v":3.1726218444484415E-2},{"$f":"($A108*LN(1+'Curves without VA'!E108)-IF(ISNUMBER($A107),$A107*LN(1+'Curves without VA'!E107),0)+($A108<=E$2)*LN(1+E$5/10000)+IF(ISNUMBER($A107),$A107*E107))/$A108","v":3.7217427722473648E-2},{"$f":"($A108*LN(1+'Curves without VA'!F108)-IF(ISNUMBER($A107),$A107*LN(1+'Curves without VA'!F107),0)+($A108<=F$2)*LN(1+F$5/10000)+IF(ISNUMBER($A107),$A107*F107))/$A108","v":4.0016634035196869E-2},{"$f":"($A108*LN(1+'Curves without VA'!G108)-IF(ISNUMBER($A107),$A107*LN(1+'Curves without VA'!G107),0)+($A108<=G$2)*LN(1+G$5/10000)+IF(ISNUMBER($A107),$A107*G107))/$A108","v":3.8402554646652994E-2},{"$f":"($A108*LN(1+'Curves without VA'!H108)-IF(ISNUMBER($A107),$A107*LN(1+'Curves without VA'!H107),0)+($A108<=H$2)*LN(1+H$5/10000)+IF(ISNUMBER($A107),$A107*H107))/$A108","v":3.449743944141042E-2},{"$f":"($A108*LN(1+'Curves without VA'!I108)-IF(ISNUMBER($A107),$A107*LN(1+'Curves without VA'!I107),0)+($A108<=I$2)*LN(1+I$5/10000)+IF(ISNUMBER($A107),$A107*I107))/$A108","v":4.4958660272695565E-2},{"$f":"($A108*LN(1+'Curves without VA'!J108)-IF(ISNUMBER($A107),$A107*LN(1+'Curves without VA'!J107),0)+($A108<=J$2)*LN(1+J$5/10000)+IF(ISNUMBER($A107),$A107*J107))/$A108","v":3.5959039584457987E-2},3.35396967529904E-2,3.6565991436654954E-2,3.2942911286570453E-2,3.9143565631260202E-2,4.147839530302555E-2,4.0598593802431804E-2,3.786916539076457E-2,5.0604865087564121E-2,3.9950001352834441E-2,{"$f":"(1+'Curves without VA'!K108)*(1+K108)/(1+'Curves without VA'!B108)-1","v":3.8925036204242147E-2},{"$f":"(1+'Curves without VA'!L108)*(1+L108)/(1+'Curves without VA'!C108)-1","v":4.4214406062459632E-2},{"$f":"(1+'Curves without VA'!M108)*(1+M108)/(1+'Curves without VA'!D108)-1","v":3.9218523238960579E-2},{"$f":"(1+'Curves without VA'!N108)*(1+N108)/(1+'Curves without VA'!E108)-1","v":4.6050080979560759E-2},{"$f":"(1+'Curves without VA'!O108)*(1+O108)/(1+'Curves without VA'!F108)-1","v":5.2039375237741936E-2},{"$f":"(1+'Curves without VA'!P108)*(1+P108)/(1+'Curves without VA'!G108)-1","v":4.8392103895922522E-2},{"$f":"(1+'Curves without VA'!Q108)*(1+Q108)/(1+'Curves without VA'!H108)-1","v":4.5602500105487165E-2},{"$f":"(1+'Curves without VA'!R108)*(1+R108)/(1+'Curves without VA'!I108)-1","v":6.2347610903288109E-2},{"$f":"(1+'Curves without VA'!S108)*(1+S108)/(1+'Curves without VA'!J108)-1","v":4.8611027891377168E-2},{"$f":"(1+'Curves without VA'!T108)*(1+K108)/(1+'Curves without VA'!B108)-1","v":2.585601430919926E-2},{"$f":"(1+'Curves without VA'!U108)*(1+L108)/(1+'Curves without VA'!C108)-1","v":2.9943042648596041E-2},{"$f":"(1+'Curves without VA'!V108)*(1+M108)/(1+'Curves without VA'!D108)-1","v":2.3805945199837808E-2},{"$f":"(1+'Curves without VA'!W108)*(1+N108)/(1+'Curves without VA'!E108)-1","v":2.8143304726454765E-2},{"$f":"(1+'Curves without VA'!X108)*(1+O108)/(1+'Curves without VA'!F108)-1","v":2.2334999914676246E-2},{"$f":"(1+'Curves without VA'!Y108)*(1+P108)/(1+'Curves without VA'!G108)-1","v":2.872590060045499E-2},{"$f":"(1+'Curves without VA'!Z108)*(1+Q108)/(1+'Curves without VA'!H108)-1","v":3.3158017160084263E-2},{"$f":"(1+'Curves without VA'!AA108)*(1+R108)/(1+'Curves without VA'!I108)-1","v":4.3220593883840808E-2},{"$f":"(1+'Curves without VA'!AB108)*(1+S108)/(1+'Curves without VA'!J108)-1","v":3.4868186302675408E-2}]
[96,{"$f":"($A109*LN(1+'Curves without VA'!B109)-IF(ISNUMBER($A108),$A108*LN(1+'Curves without VA'!B108),0)+($A109<=B$2)*LN(1+B$5/10000)+IF(ISNUMBER($A108),$A108*B108))/$A109","v":3.2890017161161217E-2},{"$f":"($A109*LN(1+'Curves without VA'!C109)-IF(ISNUMBER($A108),$A108*LN(1+'Curves without VA'!C108),0)+($A109<=C$2)*LN(1+C$5/10000)+IF(ISNUMBER($A108),$A108*C108))/$A109","v":3.4357428145392298E-2},{"$f":"($A109*LN(1+'Curves without VA'!D109)-IF(ISNUMBER($A108),$A108*LN(1+'Curves without VA'!D108),0)+($A109<=D$2)*LN(1+D$5/10000)+IF(ISNUMBER($A108),$A108*D108))/$A109","v":3.1723853909033685E-2},{"$f":"($A109*LN(1+'Curves without VA'!E109)-IF(ISNUMBER($A108),$A108*LN(1+'Curves without VA'!E108),0)+($A109<=E$2)*LN(1+E$5/10000)+IF(ISNUMBER($A108),$A108*E108))/$A109","v":3.716794437408736E-2},{"$f":"($A109*LN(1+'Curves without VA'!F109)-IF(ISNUMBER($A108),$A108*LN(1+'Curves without VA'!F108),0)+($A109<=F$2)*LN(1+F$5/10000)+IF(ISNUMBER($A108),$A108*F108))/$A109","v":3.9937978590014196E-2},{"$f":"($A109*LN(1+'Curves without VA'!G109)-IF(ISNUMBER($A108),$A108*LN(1+'Curves without VA'!G108),0)+($A109<=G$2)*LN(1+G$5/10000)+IF(ISNUMBER($A108),$A108*G108))/$A109","v":3.8340726226139835E-2},{"$f":"($A109*LN(1+'Curves without VA'!H109)-IF(ISNUMBER($A108),$A108*LN(1+'Curves without VA'!H108),0)+($A109<=H$2)*LN(1+H$5/10000)+IF(ISNUMBER($A108),$A108*H108))/$A109","v":3.4476290822033982E-2},{"$f":"($A109*LN(1+'Curves without VA'!I109)-IF(ISNUMBER($A108),$A108*LN(1+'Curves without VA'!I108),0)+($A109<=I$2)*LN(1+I$5/10000)+IF(ISNUMBER($A108),$A108*I108))/$A109","v":4.491888957860618E-2},{"$f":"($A109*LN(1+'Curves without VA'!J109)-IF(ISNUMBER($A108),$A108*LN(1+'Curves without VA'!J108),0)+($A109<=J$2)*LN(1+J$5/10000)+IF(ISNUMBER($A108),$A108*J108))/$A109","v":3.592266596359156E-2},3.3534075517606121E-2,3.6528806720627527E-2,3.2933148185877448E-2,3.9079479670250272E-2,4.1390183301827754E-2,4.0519270041931676E-2,3.7818351479592893E-2,5.0514923902698516E-2,3.9877394810618805E-2,{"$f":"(1+'Curves without VA'!K109)*(1+K109)/(1+'Curves without VA'!B109)-1","v":3.8878864855902862E-2},{"$f":"(1+'Curves without VA'!L109)*(1+L109)/(1+'Curves without VA'!C109)-1","v":4.4112816952497358E-2},{"$f":"(1+'Curves without VA'!M109)*(1+M109)/(1+'Curves without VA'!D109)-1","v":3.9158948909612024E-2},{"$f":"(1+'Curves without VA'!N109)*(1+N109)/(1+'Curves without VA'!E109)-1","v":4.5929289083244118E-2},{"$f":"(1+'Curves without VA'!O109)*(1+O109)/(1+'Curves without VA'!F109)-1","v":5.1856615280167162E-2},{"$f":"(1+'Curves without VA'!P109)*(1+P109)/(1+'Curves without VA'!G109)-1","v":4.8246680126990293E-2},{"$f":"(1+'Curves without VA'!Q109)*(1+Q109)/(1+'Curves without VA'!H109)-1","v":4.5486295315936287E-2},{"$f":"(1+'Curves without VA'!R109)*(1+R109)/(1+'Curves without VA'!I109)-1","v":6.2149688251920354E-2},{"$f":"(1+'Curves without VA'!S109)*(1+S109)/(1+'Curves without VA'!J109)-1","v":4.8463118403063499E-2},{"$f":"(1+'Curves without VA'!T109)*(1+K109)/(1+'Curves without VA'!B109)-1","v":2.5914593754000625E-2},{"$f":"(1+'Curves without VA'!U109)*(1+L109)/(1+'Curves without VA'!C109)-1","v":2.9959250895950973E-2},{"$f":"(1+'Curves without VA'!V109)*(1+M109)/(1+'Curves without VA'!D109)-1","v":2.3875379653163442E-2},{"$f":"(1+'Curves without VA'!W109)*(1+N109)/(1+'Curves without VA'!E109)-1","v":2.8178185207079043E-2},{"$f":"(1+'Curves without VA'!X109)*(1+O109)/(1+'Curves without VA'!F109)-1","v":2.2428355971765956E-2},{"$f":"(1+'Curves without VA'!Y109)*(1+P109)/(1+'Curves without VA'!G109)-1","v":2.8754763490417501E-2},{"$f":"(1+'Curves without VA'!Z109)*(1+Q109)/(1+'Curves without VA'!H109)-1","v":3.3140751998559814E-2},{"$f":"(1+'Curves without VA'!AA109)*(1+R109)/(1+'Curves without VA'!I109)-1","v":4.319227283398952E-2},{"$f":"(1+'Curves without VA'!AB109)*(1+S109)/(1+'Curves without VA'!J109)-1","v":3.4833071039232166E-2}]
[97,{"$f":"($A110*LN(1+'Curves without VA'!B110)-IF(ISNUMBER($A109),$A109*LN(1+'Curves without VA'!B109),0)+($A110<=B$2)*LN(1+B$5/10000)+IF(ISNUMBER($A109),$A109*B109))/$A110","v":3.2885657615941546E-2},{"$f":"($A110*LN(1+'Curves without VA'!C110)-IF(ISNUMBER($A109),$A109*LN(1+'Curves without VA'!C109),0)+($A110<=C$2)*LN(1+C$5/10000)+IF(ISNUMBER($A109),$A109*C109))/$A110","v":3.4337940864988377E-2},{"$f":"($A110*LN(1+'Curves without VA'!D110)-IF(ISNUMBER($A109),$A109*LN(1+'Curves without VA'!D109),0)+($A110<=D$2)*LN(1+D$5/10000)+IF(ISNUMBER($A109),$A109*D109))/$A110","v":3.1721537529836301E-2},{"$f":"($A110*LN(1+'Curves without VA'!E110)-IF(ISNUMBER($A109),$A109*LN(1+'Curves without VA'!E109),0)+($A110<=E$2)*LN(1+E$5/10000)+IF(ISNUMBER($A109),$A109*E109))/$A110","v":3.7119481476890627E-2},{"$f":"($A110*LN(1+'Curves without VA'!F110)-IF(ISNUMBER($A109),$A109*LN(1+'Curves without VA'!F109),0)+($A110<=F$2)*LN(1+F$5/10000)+IF(ISNUMBER($A109),$A109*F109))/$A110","v":3.9860946494676822E-2},{"$f":"($A110*LN(1+'Curves without VA'!G110)-IF(ISNUMBER($A109),$A109*LN(1+'Curves without VA'!G109),0)+($A110<=G$2)*LN(1+G$5/10000)+IF(ISNUMBER($A109),$A109*G109))/$A110","v":3.8280172794385871E-2},{"$f":"($A110*LN(1+'Curves without VA'!H110)-IF(ISNUMBER($A109),$A109*LN(1+'Curves without VA'!H109),0)+($A110<=H$2)*LN(1+H$5/10000)+IF(ISNUMBER($A109),$A109*H109))/$A110","v":3.4455578276162885E-2},{"$f":"($A110*LN(1+'Curves without VA'!I110)-IF(ISNUMBER($A109),$A109*LN(1+'Curves without VA'!I109),0)+($A110<=I$2)*LN(1+I$5/10000)+IF(ISNUMBER($A109),$A109*I109))/$A110","v":4.48799402623173E-2},{"$f":"($A110*LN(1+'Curves without VA'!J110)-IF(ISNUMBER($A109),$A109*LN(1+'Curves without VA'!J109),0)+($A110<=J$2)*LN(1+J$5/10000)+IF(ISNUMBER($A109),$A109*J109))/$A110","v":3.5887042333786957E-2},3.352857000136944E-2,3.649238747721939E-2,3.2923579946833925E-2,3.9016708853820692E-2,4.1303749692790825E-2,4.0441575764296633E-2,3.7768585146455536E-2,5.0426838653828687E-2,3.9806287155899067E-2,{"$f":"(1+'Curves without VA'!K110)*(1+K110)/(1+'Curves without VA'!B110)-1","v":3.8833645401212369E-2},{"$f":"(1+'Curves without VA'!L110)*(1+L110)/(1+'Curves without VA'!C110)-1","v":4.4013324692582456E-2},{"$f":"(1+'Curves without VA'!M110)*(1+M110)/(1+'Curves without VA'!D110)-1","v":3.9100590104444111E-2},{"$f":"(1+'Curves without VA'!N110)*(1+N110)/(1+'Curves without VA'!E110)-1","v":4.5810982335027672E-2},{"$f":"(1+'Curves without VA'!O110)*(1+O110)/(1+'Curves without VA'!F110)-1","v":5.1677503250155521E-2},{"$f":"(1+'Curves without VA'!P110)*(1+P110)/(1+'Curves without VA'!G110)-1","v":4.8104249306824887E-2},{"$f":"(1+'Curves without VA'!Q110)*(1+Q110)/(1+'Curves without VA'!H110)-1","v":4.5372493022350913E-2},{"$f":"(1+'Curves without VA'!R110)*(1+R110)/(1+'Curves without VA'!I110)-1","v":6.1955866696507655E-2},{"$f":"(1+'Curves without VA'!S110)*(1+S110)/(1+'Curves without VA'!J110)-1","v":4.8318271816244485E-2},{"$f":"(1+'Curves without VA'!T110)*(1+K110)/(1+'Curves without VA'!B110)-1","v":2.5971974041633095E-2},{"$f":"(1+'Curves without VA'!U110)*(1+L110)/(1+'Curves without VA'!C110)-1","v":2.9975124987468682E-2},{"$f":"(1+'Curves without VA'!V110)*(1+M110)/(1+'Curves without VA'!D110)-1","v":2.3943394318842293E-2},{"$f":"(1+'Curves without VA'!W110)*(1+N110)/(1+'Curves without VA'!E110)-1","v":2.821235061184435E-2},{"$f":"(1+'Curves without VA'!X110)*(1+O110)/(1+'Curves without VA'!F110)-1","v":2.2519969843513232E-2},{"$f":"(1+'Curves without VA'!Y110)*(1+P110)/(1+'Curves without VA'!G110)-1","v":2.8783031589352026E-2},{"$f":"(1+'Curves without VA'!Z110)*(1+Q110)/(1+'Curves without VA'!H110)-1","v":3.3123841080987315E-2},{"$f":"(1+'Curves without VA'!AA110)*(1+R110)/(1+'Curves without VA'!I110)-1","v":4.3164530788200484E-2},{"$f":"(1+'Curves without VA'!AB110)*(1+S110)/(1+'Curves without VA'!J110)-1","v":3.4798678211106493E-2}]
[98,{"$f":"($A111*LN(1+'Curves without VA'!B111)-IF(ISNUMBER($A110),$A110*LN(1+'Curves without VA'!B110),0)+($A111<=B$2)*LN(1+B$5/10000)+IF(ISNUMBER($A110),$A110*B110))/$A111","v":3.2881387092969526E-2},{"$f":"($A111*LN(1+'Curves without VA'!C111)-IF(ISNUMBER($A110),$A110*LN(1+'Curves without VA'!C110),0)+($A111<=C$2)*LN(1+C$5/10000)+IF(ISNUMBER($A110),$A110*C110))/$A111","v":3.4318851314149537E-2},{"$f":"($A111*LN(1+'Curves without VA'!D111)-IF(ISNUMBER($A110),$A110*LN(1+'Curves without VA'!D110),0)+($A111<=D$2)*LN(1+D$5/10000)+IF(ISNUMBER($A110),$A110*D110))/$A111","v":3.1719267894279424E-2},{"$f":"($A111*LN(1+'Curves without VA'!E111)-IF(ISNUMBER($A110),$A110*LN(1+'Curves without VA'!E110),0)+($A111<=E$2)*LN(1+E$5/10000)+IF(ISNUMBER($A110),$A110*E110))/$A111","v":3.7072007774439315E-2},{"$f":"($A111*LN(1+'Curves without VA'!F111)-IF(ISNUMBER($A110),$A110*LN(1+'Curves without VA'!F110),0)+($A111<=F$2)*LN(1+F$5/10000)+IF(ISNUMBER($A110),$A110*F110))/$A111","v":3.9785487891065001E-2},{"$f":"($A111*LN(1+'Curves without VA'!G111)-IF(ISNUMBER($A110),$A110*LN(1+'Curves without VA'!G110),0)+($A111<=G$2)*LN(1+G$5/10000)+IF(ISNUMBER($A110),$A110*G110))/$A111","v":3.82208553029805E-2},{"$f":"($A111*LN(1+'Curves without VA'!H111)-IF(ISNUMBER($A110),$A110*LN(1+'Curves without VA'!H110),0)+($A111<=H$2)*LN(1+H$5/10000)+IF(ISNUMBER($A110),$A110*H110))/$A111","v":3.4435288452597884E-2},{"$f":"($A111*LN(1+'Curves without VA'!I111)-IF(ISNUMBER($A110),$A110*LN(1+'Curves without VA'!I110),0)+($A111<=I$2)*LN(1+I$5/10000)+IF(ISNUMBER($A110),$A110*I110))/$A111","v":4.484178703903078E-2},{"$f":"($A111*LN(1+'Curves without VA'!J111)-IF(ISNUMBER($A110),$A110*LN(1+'Curves without VA'!J110),0)+($A111<=J$2)*LN(1+J$5/10000)+IF(ISNUMBER($A110),$A110*J110))/$A111","v":3.5852145734123896E-2},3.3523176682845657E-2,3.6456710493979694E-2,3.2914201274888644E-2,3.8955213843657743E-2,4.1219044739699839E-2,4.0365462140837804E-2,3.7719834511982908E-2,5.0340552918300085E-2,3.9736632672083827E-2,{"$f":"(1+'Curves without VA'!K111)*(1+K111)/(1+'Curves without VA'!B111)-1","v":3.8789348855118089E-2},{"$f":"(1+'Curves without VA'!L111)*(1+L111)/(1+'Curves without VA'!C111)-1","v":4.3915865562117018E-2},{"$f":"(1+'Curves without VA'!M111)*(1+M111)/(1+'Curves without VA'!D111)-1","v":3.9043411177900111E-2},{"$f":"(1+'Curves without VA'!N111)*(1+N111)/(1+'Curves without VA'!E111)-1","v":4.5695086205209012E-2},{"$f":"(1+'Curves without VA'!O111)*(1+O111)/(1+'Curves without VA'!F111)-1","v":5.1501942189341454E-2},{"$f":"(1+'Curves without VA'!P111)*(1+P111)/(1+'Curves without VA'!G111)-1","v":4.7964721809965694E-2},{"$f":"(1+'Curves without VA'!Q111)*(1+Q111)/(1+'Curves without VA'!H111)-1","v":4.5261019918480416E-2},{"$f":"(1+'Curves without VA'!R111)*(1+R111)/(1+'Curves without VA'!I111)-1","v":6.1766021212718902E-2},{"$f":"(1+'Curves without VA'!S111)*(1+S111)/(1+'Curves without VA'!J111)-1","v":4.8176394477749129E-2},{"$f":"(1+'Curves without VA'!T111)*(1+K111)/(1+'Curves without VA'!B111)-1","v":2.6028191224530595E-2},{"$f":"(1+'Curves without VA'!U111)*(1+L111)/(1+'Curves without VA'!C111)-1","v":2.9990675166812197E-2},{"$f":"(1+'Curves without VA'!V111)*(1+M111)/(1+'Curves without VA'!D111)-1","v":2.4010031771884988E-2},{"$f":"(1+'Curves without VA'!W111)*(1+N111)/(1+'Curves without VA'!E111)-1","v":2.8245822490963413E-2},{"$f":"(1+'Curves without VA'!X111)*(1+O111)/(1+'Curves without VA'!F111)-1","v":2.2609876673255203E-2},{"$f":"(1+'Curves without VA'!Y111)*(1+P111)/(1+'Curves without VA'!G111)-1","v":2.8810723129274018E-2},{"$f":"(1+'Curves without VA'!Z111)*(1+Q111)/(1+'Curves without VA'!H111)-1","v":3.3107273762883027E-2},{"$f":"(1+'Curves without VA'!AA111)*(1+R111)/(1+'Curves without VA'!I111)-1","v":4.3137350585344958E-2},{"$f":"(1+'Curves without VA'!AB111)*(1+S111)/(1+'Curves without VA'!J111)-1","v":3.4764985951243554E-2}]
[99,{"$f":"($A112*LN(1+'Curves without VA'!B112)-IF(ISNUMBER($A111),$A111*LN(1+'Curves without VA'!B111),0)+($A112<=B$2)*LN(1+B$5/10000)+IF(ISNUMBER($A111),$A111*B111))/$A112","v":3.2877202889245713E-2},{"$f":"($A112*LN(1+'Curves without VA'!C112)-IF(ISNUMBER($A111),$A111*LN(1+'Curves without VA'!C111),0)+($A112<=C$2)*LN(1+C$5/10000)+IF(ISNUMBER($A111),$A111*C111))/$A112","v":3.4300147437374848E-2},{"$f":"($A112*LN(1+'Curves without VA'!D112)-IF(ISNUMBER($A111),$A111*LN(1+'Curves without VA'!D111),0)+($A112<=D$2)*LN(1+D$5/10000)+IF(ISNUMBER($A111),$A111*D111))/$A112","v":3.1717043640477789E-2},{"$f":"($A112*LN(1+'Curves without VA'!E112)-IF(ISNUMBER($A111),$A111*LN(1+'Curves without VA'!E111),0)+($A112<=E$2)*LN(1+E$5/10000)+IF(ISNUMBER($A111),$A111*E111))/$A112","v":3.7025493275046784E-2},{"$f":"($A112*LN(1+'Curves without VA'!F112)-IF(ISNUMBER($A111),$A111*LN(1+'Curves without VA'!F111),0)+($A112<=F$2)*LN(1+F$5/10000)+IF(ISNUMBER($A111),$A111*F111))/$A112","v":3.9711554952412242E-2},{"$f":"($A112*LN(1+'Curves without VA'!G112)-IF(ISNUMBER($A111),$A111*LN(1+'Curves without VA'!G111),0)+($A112<=G$2)*LN(1+G$5/10000)+IF(ISNUMBER($A111),$A111*G111))/$A112","v":3.8162736283097617E-2},{"$f":"($A112*LN(1+'Curves without VA'!H112)-IF(ISNUMBER($A111),$A111*LN(1+'Curves without VA'!H111),0)+($A112<=H$2)*LN(1+H$5/10000)+IF(ISNUMBER($A111),$A111*H111))/$A112","v":3.441540853978952E-2},{"$f":"($A112*LN(1+'Curves without VA'!I112)-IF(ISNUMBER($A111),$A111*LN(1+'Curves without VA'!I111),0)+($A112<=I$2)*LN(1+I$5/10000)+IF(ISNUMBER($A111),$A111*I111))/$A112","v":4.4804405660052012E-2},{"$f":"($A112*LN(1+'Curves without VA'!J112)-IF(ISNUMBER($A111),$A111*LN(1+'Curves without VA'!J111),0)+($A112<=J$2)*LN(1+J$5/10000)+IF(ISNUMBER($A111),$A111*J111))/$A112","v":3.5817954131602978E-2},3.3517892180659592E-2,3.6421753471119089E-2,3.2905007020080479E-2,3.8894956788432689E-2,4.1136020216155922E-2,4.0290882195723077E-2,3.7672068960698635E-2,5.0256012498383074E-2,3.9668387462975963E-2,{"$f":"(1+'Curves without VA'!K112)*(1+K112)/(1+'Curves without VA'!B112)-1","v":3.8745947383920898E-2},{"$f":"(1+'Curves without VA'!L112)*(1+L112)/(1+'Curves without VA'!C112)-1","v":4.3820378348265132E-2},{"$f":"(1+'Curves without VA'!M112)*(1+M112)/(1+'Curves without VA'!D112)-1","v":3.8987377756829256E-2},{"$f":"(1+'Curves without VA'!N112)*(1+N112)/(1+'Curves without VA'!E112)-1","v":4.5581528989629305E-2},{"$f":"(1+'Curves without VA'!O112)*(1+O112)/(1+'Curves without VA'!F112)-1","v":5.1329837475726725E-2},{"$f":"(1+'Curves without VA'!P112)*(1+P112)/(1+'Curves without VA'!G112)-1","v":4.7828011388299618E-2},{"$f":"(1+'Curves without VA'!Q112)*(1+Q112)/(1+'Curves without VA'!H112)-1","v":4.515180561114196E-2},{"$f":"(1+'Curves without VA'!R112)*(1+R112)/(1+'Curves without VA'!I112)-1","v":6.1580031705086968E-2},{"$f":"(1+'Curves without VA'!S112)*(1+S112)/(1+'Curves without VA'!J112)-1","v":4.8037396468191496E-2},{"$f":"(1+'Curves without VA'!T112)*(1+K112)/(1+'Curves without VA'!B112)-1","v":2.6083279959897343E-2},{"$f":"(1+'Curves without VA'!U112)*(1+L112)/(1+'Curves without VA'!C112)-1","v":3.0005911261802076E-2},{"$f":"(1+'Curves without VA'!V112)*(1+M112)/(1+'Curves without VA'!D112)-1","v":2.407533294983466E-2},{"$f":"(1+'Curves without VA'!W112)*(1+N112)/(1+'Curves without VA'!E112)-1","v":2.827862155676697E-2},{"$f":"(1+'Curves without VA'!X112)*(1+O112)/(1+'Curves without VA'!F112)-1","v":2.269811204110761E-2},{"$f":"(1+'Curves without VA'!Y112)*(1+P112)/(1+'Curves without VA'!G112)-1","v":2.8837855601565154E-2},{"$f":"(1+'Curves without VA'!Z112)*(1+Q112)/(1+'Curves without VA'!H112)-1","v":3.3091039808709422E-2},{"$f":"(1+'Curves without VA'!AA112)*(1+R112)/(1+'Curves without VA'!I112)-1","v":4.311071569811431E-2},{"$f":"(1+'Curves without VA'!AB112)*(1+S112)/(1+'Curves without VA'!J112)-1","v":3.4731973248274262E-2}]
[100,{"$f":"($A113*LN(1+'Curves without VA'!B113)-IF(ISNUMBER($A112),$A112*LN(1+'Curves without VA'!B112),0)+($A113<=B$2)*LN(1+B$5/10000)+IF(ISNUMBER($A112),$A112*B112))/$A113","v":3.2873102410443111E-2},{"$f":"($A113*LN(1+'Curves without VA'!C113)-IF(ISNUMBER($A112),$A112*LN(1+'Curves without VA'!C112),0)+($A113<=C$2)*LN(1+C$5/10000)+IF(ISNUMBER($A112),$A112*C112))/$A113","v":3.4281817661702241E-2},{"$f":"($A113*LN(1+'Curves without VA'!D113)-IF(ISNUMBER($A112),$A112*LN(1+'Curves without VA'!D112),0)+($A113<=D$2)*LN(1+D$5/10000)+IF(ISNUMBER($A112),$A112*D112))/$A113","v":3.1714863455392185E-2},{"$f":"($A113*LN(1+'Curves without VA'!E113)-IF(ISNUMBER($A112),$A112*LN(1+'Curves without VA'!E112),0)+($A113<=E$2)*LN(1+E$5/10000)+IF(ISNUMBER($A112),$A112*E112))/$A113","v":3.6979909188352388E-2},{"$f":"($A113*LN(1+'Curves without VA'!F113)-IF(ISNUMBER($A112),$A112*LN(1+'Curves without VA'!F112),0)+($A113<=F$2)*LN(1+F$5/10000)+IF(ISNUMBER($A112),$A112*F112))/$A113","v":3.9639101779995925E-2},{"$f":"($A113*LN(1+'Curves without VA'!G113)-IF(ISNUMBER($A112),$A112*LN(1+'Curves without VA'!G112),0)+($A113<=G$2)*LN(1+G$5/10000)+IF(ISNUMBER($A112),$A112*G112))/$A113","v":3.8105779766322866E-2},{"$f":"($A113*LN(1+'Curves without VA'!H113)-IF(ISNUMBER($A112),$A112*LN(1+'Curves without VA'!H112),0)+($A113<=H$2)*LN(1+H$5/10000)+IF(ISNUMBER($A112),$A112*H112))/$A113","v":3.4395926238834015E-2},{"$f":"($A113*LN(1+'Curves without VA'!I113)-IF(ISNUMBER($A112),$A112*LN(1+'Curves without VA'!I112),0)+($A113<=I$2)*LN(1+I$5/10000)+IF(ISNUMBER($A112),$A112*I112))/$A113","v":4.4767772859490372E-2},{"$f":"($A113*LN(1+'Curves without VA'!J113)-IF(ISNUMBER($A112),$A112*LN(1+'Curves without VA'!J112),0)+($A113<=J$2)*LN(1+J$5/10000)+IF(ISNUMBER($A112),$A112*J112))/$A113","v":3.5784446374729308E-2},3.3512713246723003E-2,3.6387494978562085E-2,3.2895992176966482E-2,3.8835901260279249E-2,4.1054629382174523E-2,4.0217790726112312E-2,3.7625259080475759E-2,5.0173165316173218E-2,3.9601509364835419E-2,{"$f":"(1+'Curves without VA'!K113)*(1+K113)/(1+'Curves without VA'!B113)-1","v":3.8703414249877666E-2},{"$f":"(1+'Curves without VA'!L113)*(1+L113)/(1+'Curves without VA'!C113)-1","v":4.3726804228091387E-2},{"$f":"(1+'Curves without VA'!M113)*(1+M113)/(1+'Curves without VA'!D113)-1","v":3.8932456694402262E-2},{"$f":"(1+'Curves without VA'!N113)*(1+N113)/(1+'Curves without VA'!E113)-1","v":4.5470241688483126E-2},{"$f":"(1+'Curves without VA'!O113)*(1+O113)/(1+'Curves without VA'!F113)-1","v":5.1161096872464951E-2},{"$f":"(1+'Curves without VA'!P113)*(1+P113)/(1+'Curves without VA'!G113)-1","v":4.7694035028694071E-2},{"$f":"(1+'Curves without VA'!Q113)*(1+Q113)/(1+'Curves without VA'!H113)-1","v":4.5044782480430312E-2},{"$f":"(1+'Curves without VA'!R113)*(1+R113)/(1+'Curves without VA'!I113)-1","v":6.1397782775609366E-2},{"$f":"(1+'Curves without VA'!S113)*(1+S113)/(1+'Curves without VA'!J113)-1","v":4.7901191421797717E-2},{"$f":"(1+'Curves without VA'!T113)*(1+K113)/(1+'Curves without VA'!B113)-1","v":2.6137273573348718E-2},{"$f":"(1+'Curves without VA'!U113)*(1+L113)/(1+'Curves without VA'!C113)-1","v":3.0020842705426265E-2},{"$f":"(1+'Curves without VA'!V113)*(1+M113)/(1+'Curves without VA'!D113)-1","v":2.4139337226414037E-2},{"$f":"(1+'Curves without VA'!W113)*(1+N113)/(1+'Curves without VA'!E113)-1","v":2.8310767722286245E-2},{"$f":"(1+'Curves without VA'!X113)*(1+O113)/(1+'Curves without VA'!F113)-1","v":2.278471175150143E-2},{"$f":"(1+'Curves without VA'!Y113)*(1+P113)/(1+'Curves without VA'!G113)-1","v":2.8864445794467564E-2},{"$f":"(1+'Curves without VA'!Z113)*(1+Q113)/(1+'Curves without VA'!H113)-1","v":3.3075129373624224E-2},{"$f":"(1+'Curves without VA'!AA113)*(1+R113)/(1+'Curves without VA'!I113)-1","v":4.3084610207522189E-2},{"$f":"(1+'Curves without VA'!AB113)*(1+S113)/(1+'Curves without VA'!J113)-1","v":3.4699619906675139E-2}]
[101,{"$f":"($A114*LN(1+'Curves without VA'!B114)-IF(ISNUMBER($A113),$A113*LN(1+'Curves without VA'!B113),0)+($A114<=B$2)*LN(1+B$5/10000)+IF(ISNUMBER($A113),$A113*B113))/$A114","v":3.2869083165470277E-2},{"$f":"($A114*LN(1+'Curves without VA'!C114)-IF(ISNUMBER($A113),$A113*LN(1+'Curves without VA'!C113),0)+($A114<=C$2)*LN(1+C$5/10000)+IF(ISNUMBER($A113),$A113*C113))/$A114","v":3.426385087278716E-2},{"$f":"($A114*LN(1+'Curves without VA'!D114)-IF(ISNUMBER($A113),$A113*LN(1+'Curves without VA'!D113),0)+($A114<=D$2)*LN(1+D$5/10000)+IF(ISNUMBER($A113),$A113*D113))/$A114","v":3.1712726072992227E-2},{"$f":"($A114*LN(1+'Curves without VA'!E114)-IF(ISNUMBER($A113),$A113*LN(1+'Curves without VA'!E113),0)+($A114<=E$2)*LN(1+E$5/10000)+IF(ISNUMBER($A113),$A113*E113))/$A114","v":3.6935227865680008E-2},{"$f":"($A114*LN(1+'Curves without VA'!F114)-IF(ISNUMBER($A113),$A113*LN(1+'Curves without VA'!F113),0)+($A114<=F$2)*LN(1+F$5/10000)+IF(ISNUMBER($A113),$A113*F113))/$A114","v":3.9568084306145758E-2},{"$f":"($A114*LN(1+'Curves without VA'!G114)-IF(ISNUMBER($A113),$A113*LN(1+'Curves without VA'!G113),0)+($A114<=G$2)*LN(1+G$5/10000)+IF(ISNUMBER($A113),$A113*G113))/$A114","v":3.8049951210205005E-2},{"$f":"($A114*LN(1+'Curves without VA'!H114)-IF(ISNUMBER($A113),$A113*LN(1+'Curves without VA'!H113),0)+($A114<=H$2)*LN(1+H$5/10000)+IF(ISNUMBER($A113),$A113*H113))/$A114","v":3.4376829738075911E-2},{"$f":"($A114*LN(1+'Curves without VA'!I114)-IF(ISNUMBER($A113),$A113*LN(1+'Curves without VA'!I113),0)+($A114<=I$2)*LN(1+I$5/10000)+IF(ISNUMBER($A113),$A113*I113))/$A114","v":4.473186630427918E-2},{"$f":"($A114*LN(1+'Curves without VA'!J114)-IF(ISNUMBER($A113),$A113*LN(1+'Curves without VA'!J113),0)+($A114<=J$2)*LN(1+J$5/10000)+IF(ISNUMBER($A113),$A113*J113))/$A114","v":3.575160214985356E-2},3.3507636759841031E-2,3.6353914415271582E-2,3.2887151883812971E-2,3.8778012193916522E-2,4.0974826956772459E-2,4.0146144225700509E-2,3.7579376605308745E-2,5.009196131407978E-2,3.9535957863334525E-2,{"$f":"(1+'Curves without VA'!K114)*(1+K114)/(1+'Curves without VA'!B114)-1","v":3.86617237588609E-2},{"$f":"(1+'Curves without VA'!L114)*(1+L114)/(1+'Curves without VA'!C114)-1","v":4.3635086656902189E-2},{"$f":"(1+'Curves without VA'!M114)*(1+M114)/(1+'Curves without VA'!D114)-1","v":3.8878616024951684E-2},{"$f":"(1+'Curves without VA'!N114)*(1+N114)/(1+'Curves without VA'!E114)-1","v":4.5361157890208004E-2},{"$f":"(1+'Curves without VA'!O114)*(1+O114)/(1+'Curves without VA'!F114)-1","v":5.0995630556521565E-2},{"$f":"(1+'Curves without VA'!P114)*(1+P114)/(1+'Curves without VA'!G114)-1","v":4.7562712816290986E-2},{"$f":"(1+'Curves without VA'!Q114)*(1+Q114)/(1+'Curves without VA'!H114)-1","v":4.4939885547592651E-2},{"$f":"(1+'Curves without VA'!R114)*(1+R114)/(1+'Curves without VA'!I114)-1","v":6.1219163504439011E-2},{"$f":"(1+'Curves without VA'!S114)*(1+S114)/(1+'Curves without VA'!J114)-1","v":4.7767696356207479E-2},{"$f":"(1+'Curves without VA'!T114)*(1+K114)/(1+'Curves without VA'!B114)-1","v":2.6190204119396654E-2},{"$f":"(1+'Curves without VA'!U114)*(1+L114)/(1+'Curves without VA'!C114)-1","v":3.0035478555579198E-2},{"$f":"(1+'Curves without VA'!V114)*(1+M114)/(1+'Curves without VA'!D114)-1","v":2.420208248163136E-2},{"$f":"(1+'Curves without VA'!W114)*(1+N114)/(1+'Curves without VA'!E114)-1","v":2.8342280137885867E-2},{"$f":"(1+'Curves without VA'!X114)*(1+O114)/(1+'Curves without VA'!F114)-1","v":2.2869711652945934E-2},{"$f":"(1+'Curves without VA'!Y114)*(1+P114)/(1+'Curves without VA'!G114)-1","v":2.8890509828300992E-2},{"$f":"(1+'Curves without VA'!Z114)*(1+Q114)/(1+'Curves without VA'!H114)-1","v":3.3059532986088547E-2},{"$f":"(1+'Curves without VA'!AA114)*(1+R114)/(1+'Curves without VA'!I114)-1","v":4.3059018778281777E-2},{"$f":"(1+'Curves without VA'!AB114)*(1+S114)/(1+'Curves without VA'!J114)-1","v":3.4667906508996316E-2}]
[102,{"$f":"($A115*LN(1+'Curves without VA'!B115)-IF(ISNUMBER($A114),$A114*LN(1+'Curves without VA'!B114),0)+($A115<=B$2)*LN(1+B$5/10000)+IF(ISNUMBER($A114),$A114*B114))/$A115","v":3.2865142761359836E-2},{"$f":"($A115*LN(1+'Curves without VA'!C115)-IF(ISNUMBER($A114),$A114*LN(1+'Curves without VA'!C114),0)+($A115<=C$2)*LN(1+C$5/10000)+IF(ISNUMBER($A114),$A114*C114))/$A115","v":3.4246236392392618E-2},{"$f":"($A115*LN(1+'Curves without VA'!D115)-IF(ISNUMBER($A114),$A114*LN(1+'Curves without VA'!D114),0)+($A115<=D$2)*LN(1+D$5/10000)+IF(ISNUMBER($A114),$A114*D114))/$A115","v":3.1710630272466303E-2},{"$f":"($A115*LN(1+'Curves without VA'!E115)-IF(ISNUMBER($A114),$A114*LN(1+'Curves without VA'!E114),0)+($A115<=E$2)*LN(1+E$5/10000)+IF(ISNUMBER($A114),$A114*E114))/$A115","v":3.6891422743920078E-2},{"$f":"($A115*LN(1+'Curves without VA'!F115)-IF(ISNUMBER($A114),$A114*LN(1+'Curves without VA'!F114),0)+($A115<=F$2)*LN(1+F$5/10000)+IF(ISNUMBER($A114),$A114*F114))/$A115","v":3.9498460203116502E-2},{"$f":"($A115*LN(1+'Curves without VA'!G115)-IF(ISNUMBER($A114),$A114*LN(1+'Curves without VA'!G114),0)+($A115<=G$2)*LN(1+G$5/10000)+IF(ISNUMBER($A114),$A114*G114))/$A115","v":3.7995217428204851E-2},{"$f":"($A115*LN(1+'Curves without VA'!H115)-IF(ISNUMBER($A114),$A114*LN(1+'Curves without VA'!H114),0)+($A115<=H$2)*LN(1+H$5/10000)+IF(ISNUMBER($A114),$A114*H114))/$A115","v":3.4358107689206829E-2},{"$f":"($A115*LN(1+'Curves without VA'!I115)-IF(ISNUMBER($A114),$A114*LN(1+'Curves without VA'!I114),0)+($A115<=I$2)*LN(1+I$5/10000)+IF(ISNUMBER($A114),$A114*I114))/$A115","v":4.4696664547272995E-2},{"$f":"($A115*LN(1+'Curves without VA'!J115)-IF(ISNUMBER($A114),$A114*LN(1+'Curves without VA'!J114),0)+($A115<=J$2)*LN(1+J$5/10000)+IF(ISNUMBER($A114),$A114*J114))/$A115","v":3.5719401940084682E-2},3.35026597196737E-2,3.6320991970715699E-2,3.2878481421183103E-2,3.8721255828351397E-2,4.0896569087377488E-2,4.0075900811575638E-2,3.753439436120698E-2,5.0012352360587098E-2,3.9471694015103864E-2,{"$f":"(1+'Curves without VA'!K115)*(1+K115)/(1+'Curves without VA'!B115)-1","v":3.8620851210902529E-2},{"$f":"(1+'Curves without VA'!L115)*(1+L115)/(1+'Curves without VA'!C115)-1","v":4.3545171262438842E-2},{"$f":"(1+'Curves without VA'!M115)*(1+M115)/(1+'Curves without VA'!D115)-1","v":3.882582491985298E-2},{"$f":"(1+'Curves without VA'!N115)*(1+N115)/(1+'Curves without VA'!E115)-1","v":4.5254213660337994E-2},{"$f":"(1+'Curves without VA'!O115)*(1+O115)/(1+'Curves without VA'!F115)-1","v":5.0833351130377569E-2},{"$f":"(1+'Curves without VA'!P115)*(1+P115)/(1+'Curves without VA'!G115)-1","v":4.7433967803368393E-2},{"$f":"(1+'Curves without VA'!Q115)*(1+Q115)/(1+'Curves without VA'!H115)-1","v":4.4837052350107376E-2},{"$f":"(1+'Curves without VA'!R115)*(1+R115)/(1+'Curves without VA'!I115)-1","v":6.1044067242015387E-2},{"$f":"(1+'Curves without VA'!S115)*(1+S115)/(1+'Curves without VA'!J115)-1","v":4.763683151164444E-2},{"$f":"(1+'Curves without VA'!T115)*(1+K115)/(1+'Curves without VA'!B115)-1","v":2.6242102438926773E-2},{"$f":"(1+'Curves without VA'!U115)*(1+L115)/(1+'Curves without VA'!C115)-1","v":3.00498275136174E-2},{"$f":"(1+'Curves without VA'!V115)*(1+M115)/(1+'Curves without VA'!D115)-1","v":2.4263605168508562E-2},{"$f":"(1+'Curves without VA'!W115)*(1+N115)/(1+'Curves without VA'!E115)-1","v":2.8373177226038271E-2},{"$f":"(1+'Curves without VA'!X115)*(1+O115)/(1+'Curves without VA'!F115)-1","v":2.2953147485781589E-2},{"$f":"(1+'Curves without VA'!Y115)*(1+P115)/(1+'Curves without VA'!G115)-1","v":2.8916063188561658E-2},{"$f":"(1+'Curves without VA'!Z115)*(1+Q115)/(1+'Curves without VA'!H115)-1","v":3.304424153129748E-2},{"$f":"(1+'Curves without VA'!AA115)*(1+R115)/(1+'Curves without VA'!I115)-1","v":4.3033926635061892E-2},{"$f":"(1+'Curves without VA'!AB115)*(1+S115)/(1+'Curves without VA'!J115)-1","v":3.463681438002908E-2}]
[103,{"$f":"($A116*LN(1+'Curves without VA'!B116)-IF(ISNUMBER($A115),$A115*LN(1+'Curves without VA'!B115),0)+($A116<=B$2)*LN(1+B$5/10000)+IF(ISNUMBER($A115),$A115*B115))/$A116","v":3.2861278898461008E-2},{"$f":"($A116*LN(1+'Curves without VA'!C116)-IF(ISNUMBER($A115),$A115*LN(1+'Curves without VA'!C115),0)+($A116<=C$2)*LN(1+C$5/10000)+IF(ISNUMBER($A115),$A115*C115))/$A116","v":3.42289639571925E-2},{"$f":"($A116*LN(1+'Curves without VA'!D116)-IF(ISNUMBER($A115),$A115*LN(1+'Curves without VA'!D115),0)+($A116<=D$2)*LN(1+D$5/10000)+IF(ISNUMBER($A115),$A115*D115))/$A116","v":3.1708574876483271E-2},{"$f":"($A116*LN(1+'Curves without VA'!E116)-IF(ISNUMBER($A115),$A115*LN(1+'Curves without VA'!E115),0)+($A116<=E$2)*LN(1+E$5/10000)+IF(ISNUMBER($A115),$A115*E115))/$A116","v":3.6848468292698826E-2},{"$f":"($A116*LN(1+'Curves without VA'!F116)-IF(ISNUMBER($A115),$A115*LN(1+'Curves without VA'!F115),0)+($A116<=F$2)*LN(1+F$5/10000)+IF(ISNUMBER($A115),$A115*F115))/$A116","v":3.9430188797409768E-2},{"$f":"($A116*LN(1+'Curves without VA'!G116)-IF(ISNUMBER($A115),$A115*LN(1+'Curves without VA'!G115),0)+($A116<=G$2)*LN(1+G$5/10000)+IF(ISNUMBER($A115),$A115*G115))/$A116","v":3.7941546523737983E-2},{"$f":"($A116*LN(1+'Curves without VA'!H116)-IF(ISNUMBER($A115),$A115*LN(1+'Curves without VA'!H115),0)+($A116<=H$2)*LN(1+H$5/10000)+IF(ISNUMBER($A115),$A115*H115))/$A116","v":3.4339749184757754E-2},{"$f":"($A116*LN(1+'Curves without VA'!I116)-IF(ISNUMBER($A115),$A115*LN(1+'Curves without VA'!I115),0)+($A116<=I$2)*LN(1+I$5/10000)+IF(ISNUMBER($A115),$A115*I115))/$A116","v":4.4662146983198626E-2},{"$f":"($A116*LN(1+'Curves without VA'!J116)-IF(ISNUMBER($A115),$A115*LN(1+'Curves without VA'!J115),0)+($A116<=J$2)*LN(1+J$5/10000)+IF(ISNUMBER($A115),$A115*J115))/$A116","v":3.5687826986597858E-2},3.3497779241030923E-2,3.6288708588360752E-2,3.2869976210022855E-2,3.8665599651092064E-2,4.0819813316774312E-2,4.0007020154285922E-2,3.7490286215015933E-2,4.9934292160992655E-2,3.9408680373589355E-2,{"$f":"(1+'Curves without VA'!K116)*(1+K116)/(1+'Curves without VA'!B116)-1","v":3.8580772853430201E-2},{"$f":"(1+'Curves without VA'!L116)*(1+L116)/(1+'Curves without VA'!C116)-1","v":4.3457005744606869E-2},{"$f":"(1+'Curves without VA'!M116)*(1+M116)/(1+'Curves without VA'!D116)-1","v":3.877405364454467E-2},{"$f":"(1+'Curves without VA'!N116)*(1+N116)/(1+'Curves without VA'!E116)-1","v":4.5149347435166742E-2},{"$f":"(1+'Curves without VA'!O116)*(1+O116)/(1+'Curves without VA'!F116)-1","v":5.067417361951998E-2},{"$f":"(1+'Curves without VA'!P116)*(1+P116)/(1+'Curves without VA'!G116)-1","v":4.730772588364851E-2},{"$f":"(1+'Curves without VA'!Q116)*(1+Q116)/(1+'Curves without VA'!H116)-1","v":4.4736222823542837E-2},{"$f":"(1+'Curves without VA'!R116)*(1+R116)/(1+'Curves without VA'!I116)-1","v":6.0872391412009064E-2},{"$f":"(1+'Curves without VA'!S116)*(1+S116)/(1+'Curves without VA'!J116)-1","v":4.7508520198883852E-2},{"$f":"(1+'Curves without VA'!T116)*(1+K116)/(1+'Curves without VA'!B116)-1","v":2.6292998213818919E-2},{"$f":"(1+'Curves without VA'!U116)*(1+L116)/(1+'Curves without VA'!C116)-1","v":3.0063897941820183E-2},{"$f":"(1+'Curves without VA'!V116)*(1+M116)/(1+'Curves without VA'!D116)-1","v":2.4323940376575814E-2},{"$f":"(1+'Curves without VA'!W116)*(1+N116)/(1+'Curves without VA'!E116)-1","v":2.8403476714340181E-2},{"$f":"(1+'Curves without VA'!X116)*(1+O116)/(1+'Curves without VA'!F116)-1","v":2.3035054754243056E-2},{"$f":"(1+'Curves without VA'!Y116)*(1+P116)/(1+'Curves without VA'!G116)-1","v":2.8941120757058458E-2},{"$f":"(1+'Curves without VA'!Z116)*(1+Q116)/(1+'Curves without VA'!H116)-1","v":3.3029246235392273E-2},{"$f":"(1+'Curves without VA'!AA116)*(1+R116)/(1+'Curves without VA'!I116)-1","v":4.3009319539620616E-2},{"$f":"(1+'Curves without VA'!AB116)*(1+S116)/(1+'Curves without VA'!J116)-1","v":3.4606325552825057E-2}]
[104,{"$f":"($A117*LN(1+'Curves without VA'!B117)-IF(ISNUMBER($A116),$A116*LN(1+'Curves without VA'!B116),0)+($A117<=B$2)*LN(1+B$5/10000)+IF(ISNUMBER($A116),$A116*B116))/$A117","v":3.2857489365912915E-2},{"$f":"($A117*LN(1+'Curves without VA'!C117)-IF(ISNUMBER($A116),$A116*LN(1+'Curves without VA'!C116),0)+($A117<=C$2)*LN(1+C$5/10000)+IF(ISNUMBER($A116),$A116*C116))/$A117","v":3.4212023698801941E-2},{"$f":"($A117*LN(1+'Curves without VA'!D117)-IF(ISNUMBER($A116),$A116*LN(1+'Curves without VA'!D116),0)+($A117<=D$2)*LN(1+D$5/10000)+IF(ISNUMBER($A116),$A116*D116))/$A117","v":3.1706558749508826E-2},{"$f":"($A117*LN(1+'Curves without VA'!E117)-IF(ISNUMBER($A116),$A116*LN(1+'Curves without VA'!E116),0)+($A117<=E$2)*LN(1+E$5/10000)+IF(ISNUMBER($A116),$A116*E116))/$A117","v":3.6806339964606645E-2},{"$f":"($A117*LN(1+'Curves without VA'!F117)-IF(ISNUMBER($A116),$A116*LN(1+'Curves without VA'!F116),0)+($A117<=F$2)*LN(1+F$5/10000)+IF(ISNUMBER($A116),$A116*F116))/$A117","v":3.9363230989165561E-2},{"$f":"($A117*LN(1+'Curves without VA'!G117)-IF(ISNUMBER($A116),$A116*LN(1+'Curves without VA'!G116),0)+($A117<=G$2)*LN(1+G$5/10000)+IF(ISNUMBER($A116),$A116*G116))/$A117","v":3.7888907828039636E-2},{"$f":"($A117*LN(1+'Curves without VA'!H117)-IF(ISNUMBER($A116),$A116*LN(1+'Curves without VA'!H116),0)+($A117<=H$2)*LN(1+H$5/10000)+IF(ISNUMBER($A116),$A116*H116))/$A117","v":3.432174373689096E-2},{"$f":"($A117*LN(1+'Curves without VA'!I117)-IF(ISNUMBER($A116),$A116*LN(1+'Curves without VA'!I116),0)+($A117<=I$2)*LN(1+I$5/10000)+IF(ISNUMBER($A116),$A116*I116))/$A117","v":4.4628293807254645E-2},{"$f":"($A117*LN(1+'Curves without VA'!J117)-IF(ISNUMBER($A116),$A116*LN(1+'Curves without VA'!J116),0)+($A117<=J$2)*LN(1+J$5/10000)+IF(ISNUMBER($A116),$A116*J116))/$A117","v":3.5656859252174836E-2},3.3492992548477485E-2,3.6257045931073151E-2,3.2861631809342207E-2,3.8611012344791806E-2,4.0744518548189834E-2,3.9939463411013953E-2,3.7447027025999446E-2,4.9857736172840283E-2,3.9346880918956995E-2,{"$f":"(1+'Curves without VA'!K117)*(1+K117)/(1+'Curves without VA'!B117)-1","v":3.8541465837046429E-2},{"$f":"(1+'Curves without VA'!L117)*(1+L117)/(1+'Curves without VA'!C117)-1","v":4.3370539780432704E-2},{"$f":"(1+'Curves without VA'!M117)*(1+M117)/(1+'Curves without VA'!D117)-1","v":3.8723273516756196E-2},{"$f":"(1+'Curves without VA'!N117)*(1+N117)/(1+'Curves without VA'!E117)-1","v":4.5046499920083916E-2},{"$f":"(1+'Curves without VA'!O117)*(1+O117)/(1+'Curves without VA'!F117)-1","v":5.0518015458072885E-2},{"$f":"(1+'Curves without VA'!P117)*(1+P117)/(1+'Curves without VA'!G117)-1","v":4.7183915671917154E-2},{"$f":"(1+'Curves without VA'!Q117)*(1+Q117)/(1+'Curves without VA'!H117)-1","v":4.463733918978674E-2},{"$f":"(1+'Curves without VA'!R117)*(1+R117)/(1+'Curves without VA'!I117)-1","v":6.0704037324495808E-2},{"$f":"(1+'Curves without VA'!S117)*(1+S117)/(1+'Curves without VA'!J117)-1","v":4.7382688655494221E-2},{"$f":"(1+'Curves without VA'!T117)*(1+K117)/(1+'Curves without VA'!B117)-1","v":2.6342920018850746E-2},{"$f":"(1+'Curves without VA'!U117)*(1+L117)/(1+'Curves without VA'!C117)-1","v":3.0077697879821397E-2},{"$f":"(1+'Curves without VA'!V117)*(1+M117)/(1+'Curves without VA'!D117)-1","v":2.4383121892289417E-2},{"$f":"(1+'Curves without VA'!W117)*(1+N117)/(1+'Curves without VA'!E117)-1","v":2.8433195666862421E-2},{"$f":"(1+'Curves without VA'!X117)*(1+O117)/(1+'Curves without VA'!F117)-1","v":2.3115468619593571E-2},{"$f":"(1+'Curves without VA'!Y117)*(1+P117)/(1+'Curves without VA'!G117)-1","v":2.8965696841214639E-2},{"$f":"(1+'Curves without VA'!Z117)*(1+Q117)/(1+'Curves without VA'!H117)-1","v":3.3014538650431691E-2},{"$f":"(1+'Curves without VA'!AA117)*(1+R117)/(1+'Curves without VA'!I117)-1","v":4.2985183768813107E-2},{"$f":"(1+'Curves without VA'!AB117)*(1+S117)/(1+'Curves without VA'!J117)-1","v":3.4576422736460888E-2}]
[105,{"$f":"($A118*LN(1+'Curves without VA'!B118)-IF(ISNUMBER($A117),$A117*LN(1+'Curves without VA'!B117),0)+($A118<=B$2)*LN(1+B$5/10000)+IF(ISNUMBER($A117),$A117*B117))/$A118","v":3.2853772037381511E-2},{"$f":"($A118*LN(1+'Curves without VA'!C118)-IF(ISNUMBER($A117),$A117*LN(1+'Curves without VA'!C117),0)+($A118<=C$2)*LN(1+C$5/10000)+IF(ISNUMBER($A117),$A117*C117))/$A118","v":3.4195406124948952E-2},{"$f":"($A118*LN(1+'Curves without VA'!D118)-IF(ISNUMBER($A117),$A117*LN(1+'Curves without VA'!D117),0)+($A118<=D$2)*LN(1+D$5/10000)+IF(ISNUMBER($A117),$A117*D117))/$A118","v":3.1704580796173214E-2},{"$f":"($A118*LN(1+'Curves without VA'!E118)-IF(ISNUMBER($A117),$A117*LN(1+'Curves without VA'!E117),0)+($A118<=E$2)*LN(1+E$5/10000)+IF(ISNUMBER($A117),$A117*E117))/$A118","v":3.6765014148285584E-2},{"$f":"($A118*LN(1+'Curves without VA'!F118)-IF(ISNUMBER($A117),$A117*LN(1+'Curves without VA'!F117),0)+($A118<=F$2)*LN(1+F$5/10000)+IF(ISNUMBER($A117),$A117*F117))/$A118","v":3.9297549176269472E-2},{"$f":"($A118*LN(1+'Curves without VA'!G118)-IF(ISNUMBER($A117),$A117*LN(1+'Curves without VA'!G117),0)+($A118<=G$2)*LN(1+G$5/10000)+IF(ISNUMBER($A117),$A117*G117))/$A118","v":3.7837271841590796E-2},{"$f":"($A118*LN(1+'Curves without VA'!H118)-IF(ISNUMBER($A117),$A117*LN(1+'Curves without VA'!H117),0)+($A118<=H$2)*LN(1+H$5/10000)+IF(ISNUMBER($A117),$A117*H117))/$A118","v":3.4304081257406895E-2},{"$f":"($A118*LN(1+'Curves without VA'!I118)-IF(ISNUMBER($A117),$A117*LN(1+'Curves without VA'!I117),0)+($A118<=I$2)*LN(1+I$5/10000)+IF(ISNUMBER($A117),$A117*I117))/$A118","v":4.4595085976172039E-2},{"$f":"($A118*LN(1+'Curves without VA'!J118)-IF(ISNUMBER($A117),$A117*LN(1+'Curves without VA'!J117),0)+($A118<=J$2)*LN(1+J$5/10000)+IF(ISNUMBER($A117),$A117*J117))/$A118","v":3.5626481386831069E-2},3.3488296971234899E-2,3.6225986348324968E-2,3.2853443913572589E-2,3.8557463736246689E-2,4.0670645009034834E-2,3.987319316174287E-2,3.7404592600014608E-2,4.9782641525782267E-2,3.9286260991799438E-2,{"$f":"(1+'Curves without VA'!K118)*(1+K118)/(1+'Curves without VA'!B118)-1","v":3.8502908173693395E-2},{"$f":"(1+'Curves without VA'!L118)*(1+L118)/(1+'Curves without VA'!C118)-1","v":4.3285724933954661E-2},{"$f":"(1+'Curves without VA'!M118)*(1+M118)/(1+'Curves without VA'!D118)-1","v":3.8673456866001432E-2},{"$f":"(1+'Curves without VA'!N118)*(1+N118)/(1+'Curves without VA'!E118)-1","v":4.4945613992411593E-2},{"$f":"(1+'Curves without VA'!O118)*(1+O118)/(1+'Curves without VA'!F118)-1","v":5.0364796464618111E-2},{"$f":"(1+'Curves without VA'!P118)*(1+P118)/(1+'Curves without VA'!G118)-1","v":4.7062468388795686E-2},{"$f":"(1+'Curves without VA'!Q118)*(1+Q118)/(1+'Curves without VA'!H118)-1","v":4.4540345851273644E-2},{"$f":"(1+'Curves without VA'!R118)*(1+R118)/(1+'Curves without VA'!I118)-1","v":6.0538909998795631E-2},{"$f":"(1+'Curves without VA'!S118)*(1+S118)/(1+'Curves without VA'!J118)-1","v":4.7259265909846748E-2},{"$f":"(1+'Curves without VA'!T118)*(1+K118)/(1+'Curves without VA'!B118)-1","v":2.6391895371021823E-2},{"$f":"(1+'Curves without VA'!U118)*(1+L118)/(1+'Curves without VA'!C118)-1","v":3.0091235060093258E-2},{"$f":"(1+'Curves without VA'!V118)*(1+M118)/(1+'Curves without VA'!D118)-1","v":2.4441182256517147E-2},{"$f":"(1+'Curves without VA'!W118)*(1+N118)/(1+'Curves without VA'!E118)-1","v":2.8462350513913881E-2},{"$f":"(1+'Curves without VA'!X118)*(1+O118)/(1+'Curves without VA'!F118)-1","v":2.3194423811531806E-2},{"$f":"(1+'Curves without VA'!Y118)*(1+P118)/(1+'Curves without VA'!G118)-1","v":2.8989805201664165E-2},{"$f":"(1+'Curves without VA'!Z118)*(1+Q118)/(1+'Curves without VA'!H118)-1","v":3.3000110640073244E-2},{"$f":"(1+'Curves without VA'!AA118)*(1+R118)/(1+'Curves without VA'!I118)-1","v":4.2961506093457613E-2},{"$f":"(1+'Curves without VA'!AB118)*(1+S118)/(1+'Curves without VA'!J118)-1","v":3.4547089285452914E-2}]
[106,{"$f":"($A119*LN(1+'Curves without VA'!B119)-IF(ISNUMBER($A118),$A118*LN(1+'Curves without VA'!B118),0)+($A119<=B$2)*LN(1+B$5/10000)+IF(ISNUMBER($A118),$A118*B118))/$A119","v":3.2850124867040927E-2},{"$f":"($A119*LN(1+'Curves without VA'!C119)-IF(ISNUMBER($A118),$A118*LN(1+'Curves without VA'!C118),0)+($A119<=C$2)*LN(1+C$5/10000)+IF(ISNUMBER($A118),$A118*C118))/$A119","v":3.4179102101716076E-2},{"$f":"($A119*LN(1+'Curves without VA'!D119)-IF(ISNUMBER($A118),$A118*LN(1+'Curves without VA'!D118),0)+($A119<=D$2)*LN(1+D$5/10000)+IF(ISNUMBER($A118),$A118*D118))/$A119","v":3.1702639959696688E-2},{"$f":"($A119*LN(1+'Curves without VA'!E119)-IF(ISNUMBER($A118),$A118*LN(1+'Curves without VA'!E118),0)+($A119<=E$2)*LN(1+E$5/10000)+IF(ISNUMBER($A118),$A118*E118))/$A119","v":3.6724468124181023E-2},{"$f":"($A119*LN(1+'Curves without VA'!F119)-IF(ISNUMBER($A118),$A118*LN(1+'Curves without VA'!F118),0)+($A119<=F$2)*LN(1+F$5/10000)+IF(ISNUMBER($A118),$A118*F118))/$A119","v":3.923310718285633E-2},{"$f":"($A119*LN(1+'Curves without VA'!G119)-IF(ISNUMBER($A118),$A118*LN(1+'Curves without VA'!G118),0)+($A119<=G$2)*LN(1+G$5/10000)+IF(ISNUMBER($A118),$A118*G118))/$A119","v":3.7786610178870153E-2},{"$f":"($A119*LN(1+'Curves without VA'!H119)-IF(ISNUMBER($A118),$A118*LN(1+'Curves without VA'!H118),0)+($A119<=H$2)*LN(1+H$5/10000)+IF(ISNUMBER($A118),$A118*H118))/$A119","v":3.4286752038882463E-2},{"$f":"($A119*LN(1+'Curves without VA'!I119)-IF(ISNUMBER($A118),$A118*LN(1+'Curves without VA'!I118),0)+($A119<=I$2)*LN(1+I$5/10000)+IF(ISNUMBER($A118),$A118*I118))/$A119","v":4.456250517156414E-2},{"$f":"($A119*LN(1+'Curves without VA'!J119)-IF(ISNUMBER($A118),$A118*LN(1+'Curves without VA'!J118),0)+($A119<=J$2)*LN(1+J$5/10000)+IF(ISNUMBER($A118),$A118*J118))/$A119","v":3.5596676695387644E-2},3.348368993835682E-2,3.6195512845103917E-2,3.2845408349666982E-2,3.8504924747660763E-2,4.0598154213734583E-2,3.9808173348306441E-2,3.7362959646128013E-2,4.9708966945622324E-2,3.9226787230415505E-2,{"$f":"(1+'Curves without VA'!K119)*(1+K119)/(1+'Curves without VA'!B119)-1","v":3.8465078697061506E-2},{"$f":"(1+'Curves without VA'!L119)*(1+L119)/(1+'Curves without VA'!C119)-1","v":4.3202514570782169E-2},{"$f":"(1+'Curves without VA'!M119)*(1+M119)/(1+'Curves without VA'!D119)-1","v":3.8624576994363613E-2},{"$f":"(1+'Curves without VA'!N119)*(1+N119)/(1+'Curves without VA'!E119)-1","v":4.4846634608591618E-2},{"$f":"(1+'Curves without VA'!O119)*(1+O119)/(1+'Curves without VA'!F119)-1","v":5.0214438809945028E-2},{"$f":"(1+'Curves without VA'!P119)*(1+P119)/(1+'Curves without VA'!G119)-1","v":4.6943317750519409E-2},{"$f":"(1+'Curves without VA'!Q119)*(1+Q119)/(1+'Curves without VA'!H119)-1","v":4.4445189290851284E-2},{"$f":"(1+'Curves without VA'!R119)*(1+R119)/(1+'Curves without VA'!I119)-1","v":6.037691799544942E-2},{"$f":"(1+'Curves without VA'!S119)*(1+S119)/(1+'Curves without VA'!J119)-1","v":4.7138183652434495E-2},{"$f":"(1+'Curves without VA'!T119)*(1+K119)/(1+'Curves without VA'!B119)-1","v":2.6439950776431465E-2},{"$f":"(1+'Curves without VA'!U119)*(1+L119)/(1+'Curves without VA'!C119)-1","v":3.0104516922537572E-2},{"$f":"(1+'Curves without VA'!V119)*(1+M119)/(1+'Curves without VA'!D119)-1","v":2.4498152819232288E-2},{"$f":"(1+'Curves without VA'!W119)*(1+N119)/(1+'Curves without VA'!E119)-1","v":2.8490957080312684E-2},{"$f":"(1+'Curves without VA'!X119)*(1+O119)/(1+'Curves without VA'!F119)-1","v":2.327195455540032E-2},{"$f":"(1+'Curves without VA'!Y119)*(1+P119)/(1+'Curves without VA'!G119)-1","v":2.9013459078265802E-2},{"$f":"(1+'Curves without VA'!Z119)*(1+Q119)/(1+'Curves without VA'!H119)-1","v":3.2985954365946313E-2},{"$f":"(1+'Curves without VA'!AA119)*(1+R119)/(1+'Curves without VA'!I119)-1","v":4.2938273758046819E-2},{"$f":"(1+'Curves without VA'!AB119)*(1+S119)/(1+'Curves without VA'!J119)-1","v":3.4518309170737949E-2}]
[107,{"$f":"($A120*LN(1+'Curves without VA'!B120)-IF(ISNUMBER($A119),$A119*LN(1+'Curves without VA'!B119),0)+($A120<=B$2)*LN(1+B$5/10000)+IF(ISNUMBER($A119),$A119*B119))/$A120","v":3.2846545885783875E-2},{"$f":"($A120*LN(1+'Curves without VA'!C120)-IF(ISNUMBER($A119),$A119*LN(1+'Curves without VA'!C119),0)+($A120<=C$2)*LN(1+C$5/10000)+IF(ISNUMBER($A119),$A119*C119))/$A120","v":3.4163102836778904E-2},{"$f":"($A120*LN(1+'Curves without VA'!D120)-IF(ISNUMBER($A119),$A119*LN(1+'Curves without VA'!D119),0)+($A120<=D$2)*LN(1+D$5/10000)+IF(ISNUMBER($A119),$A119*D119))/$A120","v":3.170073522036896E-2},{"$f":"($A120*LN(1+'Curves without VA'!E120)-IF(ISNUMBER($A119),$A119*LN(1+'Curves without VA'!E119),0)+($A120<=E$2)*LN(1+E$5/10000)+IF(ISNUMBER($A119),$A119*E119))/$A120","v":3.6684680022785639E-2},{"$f":"($A120*LN(1+'Curves without VA'!F120)-IF(ISNUMBER($A119),$A119*LN(1+'Curves without VA'!F119),0)+($A120<=F$2)*LN(1+F$5/10000)+IF(ISNUMBER($A119),$A119*F119))/$A120","v":3.9169870191908984E-2},{"$f":"($A120*LN(1+'Curves without VA'!G120)-IF(ISNUMBER($A119),$A119*LN(1+'Curves without VA'!G119),0)+($A120<=G$2)*LN(1+G$5/10000)+IF(ISNUMBER($A119),$A119*G119))/$A120","v":3.7736895516215813E-2},{"$f":"($A120*LN(1+'Curves without VA'!H120)-IF(ISNUMBER($A119),$A119*LN(1+'Curves without VA'!H119),0)+($A120<=H$2)*LN(1+H$5/10000)+IF(ISNUMBER($A119),$A119*H119))/$A120","v":3.4269746736868251E-2},{"$f":"($A120*LN(1+'Curves without VA'!I120)-IF(ISNUMBER($A119),$A119*LN(1+'Curves without VA'!I119),0)+($A120<=I$2)*LN(1+I$5/10000)+IF(ISNUMBER($A119),$A119*I119))/$A120","v":4.453053376540704E-2},{"$f":"($A120*LN(1+'Curves without VA'!J120)-IF(ISNUMBER($A119),$A119*LN(1+'Curves without VA'!J119),0)+($A120<=J$2)*LN(1+J$5/10000)+IF(ISNUMBER($A119),$A119*J119))/$A120","v":3.5567429106864071E-2},3.3479168974162699E-2,3.6165609052428493E-2,3.283752107400284E-2,3.8453367350095746E-2,4.0527008926017016E-2,3.9744369216207387E-2,3.732210573552952E-2,4.9636672682302541E-2,3.9168427511447002E-2,{"$f":"(1+'Curves without VA'!K120)*(1+K120)/(1+'Curves without VA'!B120)-1","v":3.8427957025101156E-2},{"$f":"(1+'Curves without VA'!L120)*(1+L120)/(1+'Curves without VA'!C120)-1","v":4.3120863777053486E-2},{"$f":"(1+'Curves without VA'!M120)*(1+M120)/(1+'Curves without VA'!D120)-1","v":3.8576608138595869E-2},{"$f":"(1+'Curves without VA'!N120)*(1+N120)/(1+'Curves without VA'!E120)-1","v":4.4749508715552944E-2},{"$f":"(1+'Curves without VA'!O120)*(1+O120)/(1+'Curves without VA'!F120)-1","v":5.0066866978250468E-2},{"$f":"(1+'Curves without VA'!P120)*(1+P120)/(1+'Curves without VA'!G120)-1","v":4.6826399863540535E-2},{"$f":"(1+'Curves without VA'!Q120)*(1+Q120)/(1+'Curves without VA'!H120)-1","v":4.4351817976959085E-2},{"$f":"(1+'Curves without VA'!R120)*(1+R120)/(1+'Curves without VA'!I120)-1","v":6.0217973256830648E-2},{"$f":"(1+'Curves without VA'!S120)*(1+S120)/(1+'Curves without VA'!J120)-1","v":4.7019376114061373E-2},{"$f":"(1+'Curves without VA'!T120)*(1+K120)/(1+'Curves without VA'!B120)-1","v":2.6487111774829097E-2},{"$f":"(1+'Curves without VA'!U120)*(1+L120)/(1+'Curves without VA'!C120)-1","v":3.0117550628249168E-2},{"$f":"(1+'Curves without VA'!V120)*(1+M120)/(1+'Curves without VA'!D120)-1","v":2.4554063791548009E-2},{"$f":"(1+'Curves without VA'!W120)*(1+N120)/(1+'Curves without VA'!E120)-1","v":2.8519030612231822E-2},{"$f":"(1+'Curves without VA'!X120)*(1+O120)/(1+'Curves without VA'!F120)-1","v":2.3348094513059303E-2},{"$f":"(1+'Curves without VA'!Y120)*(1+P120)/(1+'Curves without VA'!G120)-1","v":2.9036671214624166E-2},{"$f":"(1+'Curves without VA'!Z120)*(1+Q120)/(1+'Curves without VA'!H120)-1","v":3.2972062274675196E-2},{"$f":"(1+'Curves without VA'!AA120)*(1+R120)/(1+'Curves without VA'!I120)-1","v":4.2915474461284742E-2},{"$f":"(1+'Curves without VA'!AB120)*(1+S120)/(1+'Curves without VA'!J120)-1","v":3.449006695212975E-2}]
[108,{"$f":"($A121*LN(1+'Curves without VA'!B121)-IF(ISNUMBER($A120),$A120*LN(1+'Curves without VA'!B120),0)+($A121<=B$2)*LN(1+B$5/10000)+IF(ISNUMBER($A120),$A120*B120))/$A121","v":3.2843033197644929E-2},{"$f":"($A121*LN(1+'Curves without VA'!C121)-IF(ISNUMBER($A120),$A120*LN(1+'Curves without VA'!C120),0)+($A121<=C$2)*LN(1+C$5/10000)+IF(ISNUMBER($A120),$A120*C120))/$A121","v":3.4147399863576559E-2},{"$f":"($A121*LN(1+'Curves without VA'!D121)-IF(ISNUMBER($A120),$A120*LN(1+'Curves without VA'!D120),0)+($A121<=D$2)*LN(1+D$5/10000)+IF(ISNUMBER($A120),$A120*D120))/$A121","v":3.1698865594085614E-2},{"$f":"($A121*LN(1+'Curves without VA'!E121)-IF(ISNUMBER($A120),$A120*LN(1+'Curves without VA'!E120),0)+($A121<=E$2)*LN(1+E$5/10000)+IF(ISNUMBER($A120),$A120*E120))/$A121","v":3.6645628785210417E-2},{"$f":"($A121*LN(1+'Curves without VA'!F121)-IF(ISNUMBER($A120),$A120*LN(1+'Curves without VA'!F120),0)+($A121<=F$2)*LN(1+F$5/10000)+IF(ISNUMBER($A120),$A120*F120))/$A121","v":3.910780468167991E-2},{"$f":"($A121*LN(1+'Curves without VA'!G121)-IF(ISNUMBER($A120),$A120*LN(1+'Curves without VA'!G120),0)+($A121<=G$2)*LN(1+G$5/10000)+IF(ISNUMBER($A120),$A120*G120))/$A121","v":3.7688101542590405E-2},{"$f":"($A121*LN(1+'Curves without VA'!H121)-IF(ISNUMBER($A120),$A120*LN(1+'Curves without VA'!H120),0)+($A121<=H$2)*LN(1+H$5/10000)+IF(ISNUMBER($A120),$A120*H120))/$A121","v":3.4253056353076461E-2},{"$f":"($A121*LN(1+'Curves without VA'!I121)-IF(ISNUMBER($A120),$A120*LN(1+'Curves without VA'!I120),0)+($A121<=I$2)*LN(1+I$5/10000)+IF(ISNUMBER($A120),$A120*I120))/$A121","v":4.4499154787503825E-2},{"$f":"($A121*LN(1+'Curves without VA'!J121)-IF(ISNUMBER($A120),$A120*LN(1+'Curves without VA'!J120),0)+($A121<=J$2)*LN(1+J$5/10000)+IF(ISNUMBER($A120),$A120*J120))/$A121","v":3.5538723145572007E-2},3.3474731693916571E-2,3.6136259199381238E-2,3.2829778169137347E-2,3.8402764519022803E-2,4.0457173120962198E-2,3.9681747259095568E-2,3.7282009262608495E-2,4.9565720441609562E-2,3.9111150893673008E-2,{"$f":"(1+'Curves without VA'!K121)*(1+K121)/(1+'Curves without VA'!B121)-1","v":3.8391523524530013E-2},{"$f":"(1+'Curves without VA'!L121)*(1+L121)/(1+'Curves without VA'!C121)-1","v":4.3040729282558088E-2},{"$f":"(1+'Curves without VA'!M121)*(1+M121)/(1+'Curves without VA'!D121)-1","v":3.8529525433538492E-2},{"$f":"(1+'Curves without VA'!N121)*(1+N121)/(1+'Curves without VA'!E121)-1","v":4.465418516609998E-2},{"$f":"(1+'Curves without VA'!O121)*(1+O121)/(1+'Curves without VA'!F121)-1","v":4.9922007723068651E-2},{"$f":"(1+'Curves without VA'!P121)*(1+P121)/(1+'Curves without VA'!G121)-1","v":4.6711653123790553E-2},{"$f":"(1+'Curves without VA'!Q121)*(1+Q121)/(1+'Curves without VA'!H121)-1","v":4.426018227380446E-2},{"$f":"(1+'Curves without VA'!R121)*(1+R121)/(1+'Curves without VA'!I121)-1","v":6.0061990955914357E-2},{"$f":"(1+'Curves without VA'!S121)*(1+S121)/(1+'Curves without VA'!J121)-1","v":4.6902779950492191E-2},{"$f":"(1+'Curves without VA'!T121)*(1+K121)/(1+'Curves without VA'!B121)-1","v":2.653340298196416E-2},{"$f":"(1+'Curves without VA'!U121)*(1+L121)/(1+'Curves without VA'!C121)-1","v":3.0130343072504173E-2},{"$f":"(1+'Curves without VA'!V121)*(1+M121)/(1+'Curves without VA'!D121)-1","v":2.4608944295225754E-2},{"$f":"(1+'Curves without VA'!W121)*(1+N121)/(1+'Curves without VA'!E121)-1","v":2.8546585802707192E-2},{"$f":"(1+'Curves without VA'!X121)*(1+O121)/(1+'Curves without VA'!F121)-1","v":2.3422876735548215E-2},{"$f":"(1+'Curves without VA'!Y121)*(1+P121)/(1+'Curves without VA'!G121)-1","v":2.9059453881236985E-2},{"$f":"(1+'Curves without VA'!Z121)*(1+Q121)/(1+'Curves without VA'!H121)-1","v":3.2958427085526987E-2},{"$f":"(1+'Curves without VA'!AA121)*(1+R121)/(1+'Curves without VA'!I121)-1","v":4.2893096337424774E-2},{"$f":"(1+'Curves without VA'!AB121)*(1+S121)/(1+'Curves without VA'!J121)-1","v":3.4462347752173494E-2}]
[109,{"$f":"($A122*LN(1+'Curves without VA'!B122)-IF(ISNUMBER($A121),$A121*LN(1+'Curves without VA'!B121),0)+($A122<=B$2)*LN(1+B$5/10000)+IF(ISNUMBER($A121),$A121*B121))/$A122","v":3.283958497642419E-2},{"$f":"($A122*LN(1+'Curves without VA'!C122)-IF(ISNUMBER($A121),$A121*LN(1+'Curves without VA'!C121),0)+($A122<=C$2)*LN(1+C$5/10000)+IF(ISNUMBER($A121),$A121*C121))/$A122","v":3.4131985026356754E-2},{"$f":"($A122*LN(1+'Curves without VA'!D122)-IF(ISNUMBER($A121),$A121*LN(1+'Curves without VA'!D121),0)+($A122<=D$2)*LN(1+D$5/10000)+IF(ISNUMBER($A121),$A121*D121))/$A122","v":3.1697030130935937E-2},{"$f":"($A122*LN(1+'Curves without VA'!E122)-IF(ISNUMBER($A121),$A121*LN(1+'Curves without VA'!E121),0)+($A122<=E$2)*LN(1+E$5/10000)+IF(ISNUMBER($A121),$A121*E121))/$A122","v":3.660729412593617E-2},{"$f":"($A122*LN(1+'Curves without VA'!F122)-IF(ISNUMBER($A121),$A121*LN(1+'Curves without VA'!F121),0)+($A122<=F$2)*LN(1+F$5/10000)+IF(ISNUMBER($A121),$A121*F121))/$A122","v":3.9046878365682325E-2},{"$f":"($A122*LN(1+'Curves without VA'!G122)-IF(ISNUMBER($A121),$A121*LN(1+'Curves without VA'!G121),0)+($A122<=G$2)*LN(1+G$5/10000)+IF(ISNUMBER($A121),$A121*G121))/$A122","v":3.7640202913064962E-2},{"$f":"($A122*LN(1+'Curves without VA'!H122)-IF(ISNUMBER($A121),$A121*LN(1+'Curves without VA'!H121),0)+($A122<=H$2)*LN(1+H$5/10000)+IF(ISNUMBER($A121),$A121*H121))/$A122","v":3.4236672219493676E-2},{"$f":"($A122*LN(1+'Curves without VA'!I122)-IF(ISNUMBER($A121),$A121*LN(1+'Curves without VA'!I121),0)+($A122<=I$2)*LN(1+I$5/10000)+IF(ISNUMBER($A121),$A121*I121))/$A122","v":4.4468351894799828E-2},{"$f":"($A122*LN(1+'Curves without VA'!J122)-IF(ISNUMBER($A121),$A121*LN(1+'Curves without VA'!J121),0)+($A122<=J$2)*LN(1+J$5/10000)+IF(ISNUMBER($A121),$A121*J121))/$A122","v":3.5510543903801338E-2},3.3470375799733221E-2,3.6107448086573957E-2,3.2822175840457435E-2,3.8353090191886929E-2,4.0388611947076436E-2,3.9620275165790808E-2,3.7242649408065764E-2,4.9496073320395517E-2,3.9054927564774244E-2,{"$f":"(1+'Curves without VA'!K122)*(1+K122)/(1+'Curves without VA'!B122)-1","v":3.835575927719459E-2},{"$f":"(1+'Curves without VA'!L122)*(1+L122)/(1+'Curves without VA'!C122)-1","v":4.2962069387784574E-2},{"$f":"(1+'Curves without VA'!M122)*(1+M122)/(1+'Curves without VA'!D122)-1","v":3.8483304876858027E-2},{"$f":"(1+'Curves without VA'!N122)*(1+N122)/(1+'Curves without VA'!E122)-1","v":4.4560614638149421E-2},{"$f":"(1+'Curves without VA'!O122)*(1+O122)/(1+'Curves without VA'!F122)-1","v":4.9779790019057746E-2},{"$f":"(1+'Curves without VA'!P122)*(1+P122)/(1+'Curves without VA'!G122)-1","v":4.6599018120430102E-2},{"$f":"(1+'Curves without VA'!Q122)*(1+Q122)/(1+'Curves without VA'!H122)-1","v":4.4170234356241123E-2},{"$f":"(1+'Curves without VA'!R122)*(1+R122)/(1+'Curves without VA'!I122)-1","v":5.9908889352760619E-2},{"$f":"(1+'Curves without VA'!S122)*(1+S122)/(1+'Curves without VA'!J122)-1","v":4.6788334133189391E-2},{"$f":"(1+'Curves without VA'!T122)*(1+K122)/(1+'Curves without VA'!B122)-1","v":2.6578848129844346E-2},{"$f":"(1+'Curves without VA'!U122)*(1+L122)/(1+'Curves without VA'!C122)-1","v":3.0142900897025093E-2},{"$f":"(1+'Curves without VA'!V122)*(1+M122)/(1+'Curves without VA'!D122)-1","v":2.4662822409786456E-2},{"$f":"(1+'Curves without VA'!W122)*(1+N122)/(1+'Curves without VA'!E122)-1","v":2.8573636815862224E-2},{"$f":"(1+'Curves without VA'!X122)*(1+O122)/(1+'Curves without VA'!F122)-1","v":2.349633362590775E-2},{"$f":"(1+'Curves without VA'!Y122)*(1+P122)/(1+'Curves without VA'!G122)-1","v":2.9081818897341627E-2},{"$f":"(1+'Curves without VA'!Z122)*(1+Q122)/(1+'Curves without VA'!H122)-1","v":3.2945041778648987E-2},{"$f":"(1+'Curves without VA'!AA122)*(1+R122)/(1+'Curves without VA'!I122)-1","v":4.2871127938395315E-2},{"$f":"(1+'Curves without VA'!AB122)*(1+S122)/(1+'Curves without VA'!J122)-1","v":3.4435137231322965E-2}]
[110,{"$f":"($A123*LN(1+'Curves without VA'!B123)-IF(ISNUMBER($A122),$A122*LN(1+'Curves without VA'!B122),0)+($A123<=B$2)*LN(1+B$5/10000)+IF(ISNUMBER($A122),$A122*B122))/$A123","v":3.2836199462495032E-2},{"$f":"($A123*LN(1+'Curves without VA'!C123)-IF(ISNUMBER($A122),$A122*LN(1+'Curves without VA'!C122),0)+($A123<=C$2)*LN(1+C$5/10000)+IF(ISNUMBER($A122),$A122*C122))/$A123","v":3.4116850466036082E-2},{"$f":"($A123*LN(1+'Curves without VA'!D123)-IF(ISNUMBER($A122),$A122*LN(1+'Curves without VA'!D122),0)+($A123<=D$2)*LN(1+D$5/10000)+IF(ISNUMBER($A122),$A122*D122))/$A123","v":3.1695227913849072E-2},{"$f":"($A123*LN(1+'Curves without VA'!E123)-IF(ISNUMBER($A122),$A122*LN(1+'Curves without VA'!E122),0)+($A123<=E$2)*LN(1+E$5/10000)+IF(ISNUMBER($A122),$A122*E122))/$A123","v":3.6569656497600307E-2},{"$f":"($A123*LN(1+'Curves without VA'!F123)-IF(ISNUMBER($A122),$A122*LN(1+'Curves without VA'!F122),0)+($A123<=F$2)*LN(1+F$5/10000)+IF(ISNUMBER($A122),$A122*F122))/$A123","v":3.8987060136014134E-2},{"$f":"($A123*LN(1+'Curves without VA'!G123)-IF(ISNUMBER($A122),$A122*LN(1+'Curves without VA'!G122),0)+($A123<=G$2)*LN(1+G$5/10000)+IF(ISNUMBER($A122),$A122*G122))/$A123","v":3.759317520484607E-2},{"$f":"($A123*LN(1+'Curves without VA'!H123)-IF(ISNUMBER($A122),$A122*LN(1+'Curves without VA'!H122),0)+($A123<=H$2)*LN(1+H$5/10000)+IF(ISNUMBER($A122),$A122*H122))/$A123","v":3.4220585983363215E-2},{"$f":"($A123*LN(1+'Curves without VA'!I123)-IF(ISNUMBER($A122),$A122*LN(1+'Curves without VA'!I122),0)+($A123<=I$2)*LN(1+I$5/10000)+IF(ISNUMBER($A122),$A122*I122))/$A123","v":4.44381093424236E-2},{"$f":"($A123*LN(1+'Curves without VA'!J123)-IF(ISNUMBER($A122),$A122*LN(1+'Curves without VA'!J122),0)+($A123<=J$2)*LN(1+J$5/10000)+IF(ISNUMBER($A122),$A122*J122))/$A123","v":3.5482877015995284E-2},3.3466099076700395E-2,3.607916106096587E-2,3.2814710412760739E-2,3.8304319227607131E-2,4.0321291688596217E-2,3.9559921769745987E-2,3.720400610394492E-2,4.9427695745112077E-2,3.8999728790888977E-2,{"$f":"(1+'Curves without VA'!K123)*(1+K123)/(1+'Curves without VA'!B123)-1","v":3.8320646048201068E-2},{"$f":"(1+'Curves without VA'!L123)*(1+L123)/(1+'Curves without VA'!C123)-1","v":4.2884843894681834E-2},{"$f":"(1+'Curves without VA'!M123)*(1+M123)/(1+'Curves without VA'!D123)-1","v":3.8437923295084442E-2},{"$f":"(1+'Curves without VA'!N123)*(1+N123)/(1+'Curves without VA'!E123)-1","v":4.4468749557669884E-2},{"$f":"(1+'Curves without VA'!O123)*(1+O123)/(1+'Curves without VA'!F123)-1","v":4.9640145010572789E-2},{"$f":"(1+'Curves without VA'!P123)*(1+P123)/(1+'Curves without VA'!G123)-1","v":4.6488437543909411E-2},{"$f":"(1+'Curves without VA'!Q123)*(1+Q123)/(1+'Curves without VA'!H123)-1","v":4.4081928129085624E-2},{"$f":"(1+'Curves without VA'!R123)*(1+R123)/(1+'Curves without VA'!I123)-1","v":5.9758589658281513E-2},{"$f":"(1+'Curves without VA'!S123)*(1+S123)/(1+'Curves without VA'!J123)-1","v":4.6675979845767435E-2},{"$f":"(1+'Curves without VA'!T123)*(1+K123)/(1+'Curves without VA'!B123)-1","v":2.6623470105013203E-2},{"$f":"(1+'Curves without VA'!U123)*(1+L123)/(1+'Curves without VA'!C123)-1","v":3.0155230501569319E-2},{"$f":"(1+'Curves without VA'!V123)*(1+M123)/(1+'Curves without VA'!D123)-1","v":2.4715725217332229E-2},{"$f":"(1+'Curves without VA'!W123)*(1+N123)/(1+'Curves without VA'!E123)-1","v":2.8600197309940123E-2},{"$f":"(1+'Curves without VA'!X123)*(1+O123)/(1+'Curves without VA'!F123)-1","v":2.3568496910735037E-2},{"$f":"(1+'Curves without VA'!Y123)*(1+P123)/(1+'Curves without VA'!G123)-1","v":2.9103777651562357E-2},{"$f":"(1+'Curves without VA'!Z123)*(1+Q123)/(1+'Curves without VA'!H123)-1","v":3.293189958387388E-2},{"$f":"(1+'Curves without VA'!AA123)*(1+R123)/(1+'Curves without VA'!I123)-1","v":4.2849558216675687E-2},{"$f":"(1+'Curves without VA'!AB123)*(1+S123)/(1+'Curves without VA'!J123)-1","v":3.4408421564367853E-2}]
[111,{"$f":"($A124*LN(1+'Curves without VA'!B124)-IF(ISNUMBER($A123),$A123*LN(1+'Curves without VA'!B123),0)+($A124<=B$2)*LN(1+B$5/10000)+IF(ISNUMBER($A123),$A123*B123))/$A124","v":3.283287495979046E-2},{"$f":"($A124*LN(1+'Curves without VA'!C124)-IF(ISNUMBER($A123),$A123*LN(1+'Curves without VA'!C123),0)+($A124<=C$2)*LN(1+C$5/10000)+IF(ISNUMBER($A123),$A123*C123))/$A124","v":3.4101988606826936E-2},{"$f":"($A124*LN(1+'Curves without VA'!D124)-IF(ISNUMBER($A123),$A123*LN(1+'Curves without VA'!D123),0)+($A124<=D$2)*LN(1+D$5/10000)+IF(ISNUMBER($A123),$A123*D123))/$A124","v":3.1693458057288612E-2},{"$f":"($A124*LN(1+'Curves without VA'!E124)-IF(ISNUMBER($A123),$A123*LN(1+'Curves without VA'!E123),0)+($A124<=E$2)*LN(1+E$5/10000)+IF(ISNUMBER($A123),$A123*E123))/$A124","v":3.6532697057695553E-2},{"$f":"($A124*LN(1+'Curves without VA'!F124)-IF(ISNUMBER($A123),$A123*LN(1+'Curves without VA'!F123),0)+($A124<=F$2)*LN(1+F$5/10000)+IF(ISNUMBER($A123),$A123*F123))/$A124","v":3.8928320009801808E-2},{"$f":"($A124*LN(1+'Curves without VA'!G124)-IF(ISNUMBER($A123),$A123*LN(1+'Curves without VA'!G123),0)+($A124<=G$2)*LN(1+G$5/10000)+IF(ISNUMBER($A123),$A123*G123))/$A124","v":3.7546994875686829E-2},{"$f":"($A124*LN(1+'Curves without VA'!H124)-IF(ISNUMBER($A123),$A123*LN(1+'Curves without VA'!H123),0)+($A124<=H$2)*LN(1+H$5/10000)+IF(ISNUMBER($A123),$A123*H123))/$A124","v":3.4204789592977965E-2},{"$f":"($A124*LN(1+'Curves without VA'!I124)-IF(ISNUMBER($A123),$A123*LN(1+'Curves without VA'!I123),0)+($A124<=I$2)*LN(1+I$5/10000)+IF(ISNUMBER($A123),$A123*I123))/$A124","v":4.4408411956339773E-2},{"$f":"($A124*LN(1+'Curves without VA'!J124)-IF(ISNUMBER($A123),$A123*LN(1+'Curves without VA'!J123),0)+($A124<=J$2)*LN(1+J$5/10000)+IF(ISNUMBER($A123),$A123*J123))/$A124","v":3.545570863432513E-2},3.3461899389202854E-2,3.6051383991958952E-2,3.280737832679792E-2,3.8256427367924228E-2,4.0255179728204471E-2,3.9500657000838713E-2,3.7166060000468848E-2,4.9360553413472452E-2,3.8945526868800595E-2,{"$f":"(1+'Curves without VA'!K124)*(1+K124)/(1+'Curves without VA'!B124)-1","v":3.8286166255691034E-2},{"$f":"(1+'Curves without VA'!L124)*(1+L124)/(1+'Curves without VA'!C124)-1","v":4.2809014040924742E-2},{"$f":"(1+'Curves without VA'!M124)*(1+M124)/(1+'Curves without VA'!D124)-1","v":3.8393358310943482E-2},{"$f":"(1+'Curves without VA'!N124)*(1+N124)/(1+'Curves without VA'!E124)-1","v":4.4378544025150513E-2},{"$f":"(1+'Curves without VA'!O124)*(1+O124)/(1+'Curves without VA'!F124)-1","v":4.9503005957845403E-2},{"$f":"(1+'Curves without VA'!P124)*(1+P124)/(1+'Curves without VA'!G124)-1","v":4.6379856098164529E-2},{"$f":"(1+'Curves without VA'!Q124)*(1+Q124)/(1+'Curves without VA'!H124)-1","v":4.3995219150603226E-2},{"$f":"(1+'Curves without VA'!R124)*(1+R124)/(1+'Curves without VA'!I124)-1","v":5.9611015904893483E-2},{"$f":"(1+'Curves without VA'!S124)*(1+S124)/(1+'Curves without VA'!J124)-1","v":4.6565660385838425E-2},{"$f":"(1+'Curves without VA'!T124)*(1+K124)/(1+'Curves without VA'!B124)-1","v":2.6667290984946357E-2},{"$f":"(1+'Curves without VA'!U124)*(1+L124)/(1+'Curves without VA'!C124)-1","v":3.0167338054883697E-2},{"$f":"(1+'Curves without VA'!V124)*(1+M124)/(1+'Curves without VA'!D124)-1","v":2.4767678845209806E-2},{"$f":"(1+'Curves without VA'!W124)*(1+N124)/(1+'Curves without VA'!E124)-1","v":2.8626280459182807E-2},{"$f":"(1+'Curves without VA'!X124)*(1+O124)/(1+'Curves without VA'!F124)-1","v":2.3639397619231062E-2},{"$f":"(1+'Curves without VA'!Y124)*(1+P124)/(1+'Curves without VA'!G124)-1","v":2.9125341121415849E-2},{"$f":"(1+'Curves without VA'!Z124)*(1+Q124)/(1+'Curves without VA'!H124)-1","v":3.2918993970058041E-2},{"$f":"(1+'Curves without VA'!AA124)*(1+R124)/(1+'Curves without VA'!I124)-1","v":4.2828376508907695E-2},{"$f":"(1+'Curves without VA'!AB124)*(1+S124)/(1+'Curves without VA'!J124)-1","v":3.4382187418040999E-2}]
[112,{"$f":"($A125*LN(1+'Curves without VA'!B125)-IF(ISNUMBER($A124),$A124*LN(1+'Curves without VA'!B124),0)+($A125<=B$2)*LN(1+B$5/10000)+IF(ISNUMBER($A124),$A124*B124))/$A125","v":3.2829609832947908E-2},{"$f":"($A125*LN(1+'Curves without VA'!C125)-IF(ISNUMBER($A124),$A124*LN(1+'Curves without VA'!C124),0)+($A125<=C$2)*LN(1+C$5/10000)+IF(ISNUMBER($A124),$A124*C124))/$A125","v":3.4087392143581766E-2},{"$f":"($A125*LN(1+'Curves without VA'!D125)-IF(ISNUMBER($A124),$A124*LN(1+'Curves without VA'!D124),0)+($A125<=D$2)*LN(1+D$5/10000)+IF(ISNUMBER($A124),$A124*D124))/$A125","v":3.1691719706002E-2},{"$f":"($A125*LN(1+'Curves without VA'!E125)-IF(ISNUMBER($A124),$A124*LN(1+'Curves without VA'!E124),0)+($A125<=E$2)*LN(1+E$5/10000)+IF(ISNUMBER($A124),$A124*E124))/$A125","v":3.6496397637057289E-2},{"$f":"($A125*LN(1+'Curves without VA'!F125)-IF(ISNUMBER($A124),$A124*LN(1+'Curves without VA'!F124),0)+($A125<=F$2)*LN(1+F$5/10000)+IF(ISNUMBER($A124),$A124*F124))/$A125","v":3.887062907855976E-2},{"$f":"($A125*LN(1+'Curves without VA'!G125)-IF(ISNUMBER($A124),$A124*LN(1+'Curves without VA'!G124),0)+($A125<=G$2)*LN(1+G$5/10000)+IF(ISNUMBER($A124),$A124*G124))/$A125","v":3.7501639224530849E-2},{"$f":"($A125*LN(1+'Curves without VA'!H125)-IF(ISNUMBER($A124),$A124*LN(1+'Curves without VA'!H124),0)+($A125<=H$2)*LN(1+H$5/10000)+IF(ISNUMBER($A124),$A124*H124))/$A125","v":3.4189275284235508E-2},{"$f":"($A125*LN(1+'Curves without VA'!I125)-IF(ISNUMBER($A124),$A124*LN(1+'Curves without VA'!I124),0)+($A125<=I$2)*LN(1+I$5/10000)+IF(ISNUMBER($A124),$A124*I124))/$A125","v":4.4379245107509568E-2},{"$f":"($A125*LN(1+'Curves without VA'!J125)-IF(ISNUMBER($A124),$A124*LN(1+'Curves without VA'!J124),0)+($A125<=J$2)*LN(1+J$5/10000)+IF(ISNUMBER($A124),$A124*J124))/$A125","v":3.5429025405570608E-2},3.3457774677436047E-2,3.6024103248696981E-2,3.2800176135801884E-2,3.8209391200519249E-2,4.0190244510298179E-2,3.9442451839394321E-2,3.7128792434580449E-2,4.9294613239069696E-2,3.8892295080598327E-2,{"$f":"(1+'Curves without VA'!K125)*(1+K125)/(1+'Curves without VA'!B125)-1","v":3.825230294218307E-2},{"$f":"(1+'Curves without VA'!L125)*(1+L125)/(1+'Curves without VA'!C125)-1","v":4.2734542437487866E-2},{"$f":"(1+'Curves without VA'!M125)*(1+M125)/(1+'Curves without VA'!D125)-1","v":3.8349588311946459E-2},{"$f":"(1+'Curves without VA'!N125)*(1+N125)/(1+'Curves without VA'!E125)-1","v":4.4289953745450417E-2},{"$f":"(1+'Curves without VA'!O125)*(1+O125)/(1+'Curves without VA'!F125)-1","v":4.936830818146043E-2},{"$f":"(1+'Curves without VA'!P125)*(1+P125)/(1+'Curves without VA'!G125)-1","v":4.6273220416781724E-2},{"$f":"(1+'Curves without VA'!Q125)*(1+Q125)/(1+'Curves without VA'!H125)-1","v":4.3910064559932849E-2},{"$f":"(1+'Curves without VA'!R125)*(1+R125)/(1+'Curves without VA'!I125)-1","v":5.9466094823681592E-2},{"$f":"(1+'Curves without VA'!S125)*(1+S125)/(1+'Curves without VA'!J125)-1","v":4.6457321071933455E-2},{"$f":"(1+'Curves without VA'!T125)*(1+K125)/(1+'Curves without VA'!B125)-1","v":2.6710332072670484E-2},{"$f":"(1+'Curves without VA'!U125)*(1+L125)/(1+'Curves without VA'!C125)-1","v":3.017922950506513E-2},{"$f":"(1+'Curves without VA'!V125)*(1+M125)/(1+'Curves without VA'!D125)-1","v":2.4818708506609166E-2},{"$f":"(1+'Curves without VA'!W125)*(1+N125)/(1+'Curves without VA'!E125)-1","v":2.8651898974634715E-2},{"$f":"(1+'Curves without VA'!X125)*(1+O125)/(1+'Curves without VA'!F125)-1","v":2.3709066068659634E-2},{"$f":"(1+'Curves without VA'!Y125)*(1+P125)/(1+'Curves without VA'!G125)-1","v":2.9146519891768863E-2},{"$f":"(1+'Curves without VA'!Z125)*(1+Q125)/(1+'Curves without VA'!H125)-1","v":3.2906318634932763E-2},{"$f":"(1+'Curves without VA'!AA125)*(1+R125)/(1+'Curves without VA'!I125)-1","v":4.2807572520212611E-2},{"$f":"(1+'Curves without VA'!AB125)*(1+S125)/(1+'Curves without VA'!J125)-1","v":3.4356421929745196E-2}]
[113,{"$f":"($A126*LN(1+'Curves without VA'!B126)-IF(ISNUMBER($A125),$A125*LN(1+'Curves without VA'!B125),0)+($A126<=B$2)*LN(1+B$5/10000)+IF(ISNUMBER($A125),$A125*B125))/$A126","v":3.2826402504611635E-2},{"$f":"($A126*LN(1+'Curves without VA'!C126)-IF(ISNUMBER($A125),$A125*LN(1+'Curves without VA'!C125),0)+($A126<=C$2)*LN(1+C$5/10000)+IF(ISNUMBER($A125),$A125*C125))/$A126","v":3.407305402980966E-2},{"$f":"($A126*LN(1+'Curves without VA'!D126)-IF(ISNUMBER($A125),$A125*LN(1+'Curves without VA'!D125),0)+($A126<=D$2)*LN(1+D$5/10000)+IF(ISNUMBER($A125),$A125*D125))/$A126","v":3.1690012033818993E-2},{"$f":"($A126*LN(1+'Curves without VA'!E126)-IF(ISNUMBER($A125),$A125*LN(1+'Curves without VA'!E125),0)+($A126<=E$2)*LN(1+E$5/10000)+IF(ISNUMBER($A125),$A125*E125))/$A126","v":3.6460740710028236E-2},{"$f":"($A126*LN(1+'Curves without VA'!F126)-IF(ISNUMBER($A125),$A125*LN(1+'Curves without VA'!F125),0)+($A126<=F$2)*LN(1+F$5/10000)+IF(ISNUMBER($A125),$A125*F125))/$A126","v":3.8813959460283036E-2},{"$f":"($A126*LN(1+'Curves without VA'!G126)-IF(ISNUMBER($A125),$A125*LN(1+'Curves without VA'!G125),0)+($A126<=G$2)*LN(1+G$5/10000)+IF(ISNUMBER($A125),$A125*G125))/$A126","v":3.745708635424988E-2},{"$f":"($A126*LN(1+'Curves without VA'!H126)-IF(ISNUMBER($A125),$A125*LN(1+'Curves without VA'!H125),0)+($A126<=H$2)*LN(1+H$5/10000)+IF(ISNUMBER($A125),$A125*H125))/$A126","v":3.417403556790765E-2},{"$f":"($A126*LN(1+'Curves without VA'!I126)-IF(ISNUMBER($A125),$A125*LN(1+'Curves without VA'!I125),0)+($A126<=I$2)*LN(1+I$5/10000)+IF(ISNUMBER($A125),$A125*I125))/$A126","v":4.4350594687458396E-2},{"$f":"($A126*LN(1+'Curves without VA'!J126)-IF(ISNUMBER($A125),$A125*LN(1+'Curves without VA'!J125),0)+($A126<=J$2)*LN(1+J$5/10000)+IF(ISNUMBER($A125),$A125*J125))/$A126","v":3.5402814449231088E-2},3.3453722954102094E-2,3.5997305678507008E-2,3.2793100502024553E-2,3.8163188123824243E-2,4.012645550492433E-2,3.9385278272330959E-2,3.7092185400086297E-2,4.9229843298780995E-2,3.8840007650670749E-2,{"$f":"(1+'Curves without VA'!K126)*(1+K126)/(1+'Curves without VA'!B126)-1","v":3.8219039747378281E-2},{"$f":"(1+'Curves without VA'!L126)*(1+L126)/(1+'Curves without VA'!C126)-1","v":4.2661393009354232E-2},{"$f":"(1+'Curves without VA'!M126)*(1+M126)/(1+'Curves without VA'!D126)-1","v":3.8306592420218388E-2},{"$f":"(1+'Curves without VA'!N126)*(1+N126)/(1+'Curves without VA'!E126)-1","v":4.420293596088154E-2},{"$f":"(1+'Curves without VA'!O126)*(1+O126)/(1+'Curves without VA'!F126)-1","v":4.9235989005696812E-2},{"$f":"(1+'Curves without VA'!P126)*(1+P126)/(1+'Curves without VA'!G126)-1","v":4.6168478982960393E-2},{"$f":"(1+'Curves without VA'!Q126)*(1+Q126)/(1+'Curves without VA'!H126)-1","v":4.3826423008218818E-2},{"$f":"(1+'Curves without VA'!R126)*(1+R126)/(1+'Curves without VA'!I126)-1","v":5.9323755727707317E-2},{"$f":"(1+'Curves without VA'!S126)*(1+S126)/(1+'Curves without VA'!J126)-1","v":4.6350909155201903E-2},{"$f":"(1+'Curves without VA'!T126)*(1+K126)/(1+'Curves without VA'!B126)-1","v":2.6752613929693192E-2},{"$f":"(1+'Curves without VA'!U126)*(1+L126)/(1+'Curves without VA'!C126)-1","v":3.019091058936918E-2},{"$f":"(1+'Curves without VA'!V126)*(1+M126)/(1+'Curves without VA'!D126)-1","v":2.4868838539211735E-2},{"$f":"(1+'Curves without VA'!W126)*(1+N126)/(1+'Curves without VA'!E126)-1","v":2.8677065123923873E-2},{"$f":"(1+'Curves without VA'!X126)*(1+O126)/(1+'Curves without VA'!F126)-1","v":2.3777531855276868E-2},{"$f":"(1+'Curves without VA'!Y126)*(1+P126)/(1+'Curves without VA'!G126)-1","v":2.9167324172298725E-2},{"$f":"(1+'Curves without VA'!Z126)*(1+Q126)/(1+'Curves without VA'!H126)-1","v":3.2893867495437989E-2},{"$f":"(1+'Curves without VA'!AA126)*(1+R126)/(1+'Curves without VA'!I126)-1","v":4.2787136309189178E-2},{"$f":"(1+'Curves without VA'!AB126)*(1+S126)/(1+'Curves without VA'!J126)-1","v":3.4331112687337795E-2}]
[114,{"$f":"($A127*LN(1+'Curves without VA'!B127)-IF(ISNUMBER($A126),$A126*LN(1+'Curves without VA'!B126),0)+($A127<=B$2)*LN(1+B$5/10000)+IF(ISNUMBER($A126),$A126*B126))/$A127","v":3.2823251452874652E-2},{"$f":"($A127*LN(1+'Curves without VA'!C127)-IF(ISNUMBER($A126),$A126*LN(1+'Curves without VA'!C126),0)+($A127<=C$2)*LN(1+C$5/10000)+IF(ISNUMBER($A126),$A126*C126))/$A127","v":3.4058967466324933E-2},{"$f":"($A127*LN(1+'Curves without VA'!D127)-IF(ISNUMBER($A126),$A126*LN(1+'Curves without VA'!D126),0)+($A127<=D$2)*LN(1+D$5/10000)+IF(ISNUMBER($A126),$A126*D126))/$A127","v":3.1688334242499339E-2},{"$f":"($A127*LN(1+'Curves without VA'!E127)-IF(ISNUMBER($A126),$A126*LN(1+'Curves without VA'!E126),0)+($A127<=E$2)*LN(1+E$5/10000)+IF(ISNUMBER($A126),$A126*E126))/$A127","v":3.642570936619869E-2},{"$f":"($A127*LN(1+'Curves without VA'!F127)-IF(ISNUMBER($A126),$A126*LN(1+'Curves without VA'!F126),0)+($A127<=F$2)*LN(1+F$5/10000)+IF(ISNUMBER($A126),$A126*F126))/$A127","v":3.8758284254098281E-2},{"$f":"($A127*LN(1+'Curves without VA'!G127)-IF(ISNUMBER($A126),$A126*LN(1+'Curves without VA'!G126),0)+($A127<=G$2)*LN(1+G$5/10000)+IF(ISNUMBER($A126),$A126*G126))/$A127","v":3.7413315136348227E-2},{"$f":"($A127*LN(1+'Curves without VA'!H127)-IF(ISNUMBER($A126),$A126*LN(1+'Curves without VA'!H126),0)+($A127<=H$2)*LN(1+H$5/10000)+IF(ISNUMBER($A126),$A126*H126))/$A127","v":3.4159063217581151E-2},{"$f":"($A127*LN(1+'Curves without VA'!I127)-IF(ISNUMBER($A126),$A126*LN(1+'Curves without VA'!I126),0)+($A127<=I$2)*LN(1+I$5/10000)+IF(ISNUMBER($A126),$A126*I126))/$A127","v":4.4322447085164203E-2},{"$f":"($A127*LN(1+'Curves without VA'!J127)-IF(ISNUMBER($A126),$A126*LN(1+'Curves without VA'!J126),0)+($A127<=J$2)*LN(1+J$5/10000)+IF(ISNUMBER($A126),$A126*J126))/$A127","v":3.5377063336787681E-2},3.3449742301271179E-2,3.5970978586414626E-2,3.2786148193299169E-2,3.8117796313447805E-2,4.006378317247572E-2,3.9329109251337702E-2,3.7056221519316868E-2,4.9166212782807417E-2,3.8788639704894212E-2,{"$f":"(1+'Curves without VA'!K127)*(1+K127)/(1+'Curves without VA'!B127)-1","v":3.8186360882351389E-2},{"$f":"(1+'Curves without VA'!L127)*(1+L127)/(1+'Curves without VA'!C127)-1","v":4.258953093917528E-2},{"$f":"(1+'Curves without VA'!M127)*(1+M127)/(1+'Curves without VA'!D127)-1","v":3.8264350463528274E-2},{"$f":"(1+'Curves without VA'!N127)*(1+N127)/(1+'Curves without VA'!E127)-1","v":4.4117449387372165E-2},{"$f":"(1+'Curves without VA'!O127)*(1+O127)/(1+'Curves without VA'!F127)-1","v":4.9105987701249854E-2},{"$f":"(1+'Curves without VA'!P127)*(1+P127)/(1+'Curves without VA'!G127)-1","v":4.6065582053111509E-2},{"$f":"(1+'Curves without VA'!Q127)*(1+Q127)/(1+'Curves without VA'!H127)-1","v":4.3744254593237164E-2},{"$f":"(1+'Curves without VA'!R127)*(1+R127)/(1+'Curves without VA'!I127)-1","v":5.9183930401132567E-2},{"$f":"(1+'Curves without VA'!S127)*(1+S127)/(1+'Curves without VA'!J127)-1","v":4.6246373735618684E-2},{"$f":"(1+'Curves without VA'!T127)*(1+K127)/(1+'Curves without VA'!B127)-1","v":2.679415640733307E-2},{"$f":"(1+'Curves without VA'!U127)*(1+L127)/(1+'Curves without VA'!C127)-1","v":3.0202386843493967E-2},{"$f":"(1+'Curves without VA'!V127)*(1+M127)/(1+'Curves without VA'!D127)-1","v":2.4918092441984285E-2},{"$f":"(1+'Curves without VA'!W127)*(1+N127)/(1+'Curves without VA'!E127)-1","v":2.8701790750071732E-2},{"$f":"(1+'Curves without VA'!X127)*(1+O127)/(1+'Curves without VA'!F127)-1","v":2.384482384990827E-2},{"$f":"(1+'Curves without VA'!Y127)*(1+P127)/(1+'Curves without VA'!G127)-1","v":2.9187763814027434E-2},{"$f":"(1+'Curves without VA'!Z127)*(1+Q127)/(1+'Curves without VA'!H127)-1","v":3.2881634678518568E-2},{"$f":"(1+'Curves without VA'!AA127)*(1+R127)/(1+'Curves without VA'!I127)-1","v":4.2767058273561531E-2},{"$f":"(1+'Curves without VA'!AB127)*(1+S127)/(1+'Curves without VA'!J127)-1","v":3.4306247709909865E-2}]
[115,{"$f":"($A128*LN(1+'Curves without VA'!B128)-IF(ISNUMBER($A127),$A127*LN(1+'Curves without VA'!B127),0)+($A128<=B$2)*LN(1+B$5/10000)+IF(ISNUMBER($A127),$A127*B127))/$A128","v":3.2820155208859093E-2},{"$f":"($A128*LN(1+'Curves without VA'!C128)-IF(ISNUMBER($A127),$A127*LN(1+'Curves without VA'!C127),0)+($A128<=C$2)*LN(1+C$5/10000)+IF(ISNUMBER($A127),$A127*C127))/$A128","v":3.4045125890488741E-2},{"$f":"($A128*LN(1+'Curves without VA'!D128)-IF(ISNUMBER($A127),$A127*LN(1+'Curves without VA'!D127),0)+($A128<=D$2)*LN(1+D$5/10000)+IF(ISNUMBER($A127),$A127*D127))/$A128","v":3.1686685560626739E-2},{"$f":"($A128*LN(1+'Curves without VA'!E128)-IF(ISNUMBER($A127),$A127*LN(1+'Curves without VA'!E127),0)+($A128<=E$2)*LN(1+E$5/10000)+IF(ISNUMBER($A127),$A127*E127))/$A128","v":3.6391287283623966E-2},{"$f":"($A128*LN(1+'Curves without VA'!F128)-IF(ISNUMBER($A127),$A127*LN(1+'Curves without VA'!F127),0)+($A128<=F$2)*LN(1+F$5/10000)+IF(ISNUMBER($A127),$A127*F127))/$A128","v":3.8703577497315123E-2},{"$f":"($A128*LN(1+'Curves without VA'!G128)-IF(ISNUMBER($A127),$A127*LN(1+'Curves without VA'!G127),0)+($A128<=G$2)*LN(1+G$5/10000)+IF(ISNUMBER($A127),$A127*G127))/$A128","v":3.7370305177511283E-2},{"$f":"($A128*LN(1+'Curves without VA'!H128)-IF(ISNUMBER($A127),$A127*LN(1+'Curves without VA'!H127),0)+($A128<=H$2)*LN(1+H$5/10000)+IF(ISNUMBER($A127),$A127*H127))/$A128","v":3.4144351258226749E-2},{"$f":"($A128*LN(1+'Curves without VA'!I128)-IF(ISNUMBER($A127),$A127*LN(1+'Curves without VA'!I127),0)+($A128<=I$2)*LN(1+I$5/10000)+IF(ISNUMBER($A127),$A127*I127))/$A128","v":4.4294789165177595E-2},{"$f":"($A128*LN(1+'Curves without VA'!J128)-IF(ISNUMBER($A127),$A127*LN(1+'Curves without VA'!J127),0)+($A128<=J$2)*LN(1+J$5/10000)+IF(ISNUMBER($A127),$A127*J127))/$A128","v":3.5351760072048759E-2},3.3445830867404158E-2,3.5945109715676438E-2,3.2779316079645016E-2,3.8073194690142476E-2,4.0002198929220745E-2,3.9273918652983797E-2,3.7020884016210731E-2,4.9103691947202099E-2,3.8738167231892051E-2,{"$f":"(1+'Curves without VA'!K128)*(1+K128)/(1+'Curves without VA'!B128)-1","v":3.8154251105044334E-2},{"$f":"(1+'Curves without VA'!L128)*(1+L128)/(1+'Curves without VA'!C128)-1","v":4.251892261372614E-2},{"$f":"(1+'Curves without VA'!M128)*(1+M128)/(1+'Curves without VA'!D128)-1","v":3.8222842947497337E-2},{"$f":"(1+'Curves without VA'!N128)*(1+N128)/(1+'Curves without VA'!E128)-1","v":4.4033454153573182E-2},{"$f":"(1+'Curves without VA'!O128)*(1+O128)/(1+'Curves without VA'!F128)-1","v":4.8978245427724776E-2},{"$f":"(1+'Curves without VA'!P128)*(1+P128)/(1+'Curves without VA'!G128)-1","v":4.5964481583925076E-2},{"$f":"(1+'Curves without VA'!Q128)*(1+Q128)/(1+'Curves without VA'!H128)-1","v":4.3663520797323718E-2},{"$f":"(1+'Curves without VA'!R128)*(1+R128)/(1+'Curves without VA'!I128)-1","v":5.9046552993843759E-2},{"$f":"(1+'Curves without VA'!S128)*(1+S128)/(1+'Curves without VA'!J128)-1","v":4.6143665682435442E-2},{"$f":"(1+'Curves without VA'!T128)*(1+K128)/(1+'Curves without VA'!B128)-1","v":2.6834978676534282E-2},{"$f":"(1+'Curves without VA'!U128)*(1+L128)/(1+'Curves without VA'!C128)-1","v":3.0213663610377361E-2},{"$f":"(1+'Curves without VA'!V128)*(1+M128)/(1+'Curves without VA'!D128)-1","v":2.496649291021491E-2},{"$f":"(1+'Curves without VA'!W128)*(1+N128)/(1+'Curves without VA'!E128)-1","v":2.8726087289387525E-2},{"$f":"(1+'Curves without VA'!X128)*(1+O128)/(1+'Curves without VA'!F128)-1","v":2.3910970197466686E-2},{"$f":"(1+'Curves without VA'!Y128)*(1+P128)/(1+'Curves without VA'!G128)-1","v":2.9207848324981356E-2},{"$f":"(1+'Curves without VA'!Z128)*(1+Q128)/(1+'Curves without VA'!H128)-1","v":3.2869614512355705E-2},{"$f":"(1+'Curves without VA'!AA128)*(1+R128)/(1+'Curves without VA'!I128)-1","v":4.2747329136463064E-2},{"$f":"(1+'Curves without VA'!AB128)*(1+S128)/(1+'Curves without VA'!J128)-1","v":3.4281815429518803E-2}]
[116,{"$f":"($A129*LN(1+'Curves without VA'!B129)-IF(ISNUMBER($A128),$A128*LN(1+'Curves without VA'!B128),0)+($A129<=B$2)*LN(1+B$5/10000)+IF(ISNUMBER($A128),$A128*B128))/$A129","v":3.2817112354419149E-2},{"$f":"($A129*LN(1+'Curves without VA'!C129)-IF(ISNUMBER($A128),$A128*LN(1+'Curves without VA'!C128),0)+($A129<=C$2)*LN(1+C$5/10000)+IF(ISNUMBER($A128),$A128*C128))/$A129","v":3.403152296600688E-2},{"$f":"($A129*LN(1+'Curves without VA'!D129)-IF(ISNUMBER($A128),$A128*LN(1+'Curves without VA'!D128),0)+($A129<=D$2)*LN(1+D$5/10000)+IF(ISNUMBER($A128),$A128*D128))/$A129","v":3.1685065242551838E-2},{"$f":"($A129*LN(1+'Curves without VA'!E129)-IF(ISNUMBER($A128),$A128*LN(1+'Curves without VA'!E128),0)+($A129<=E$2)*LN(1+E$5/10000)+IF(ISNUMBER($A128),$A128*E128))/$A129","v":3.6357458703431517E-2},{"$f":"($A129*LN(1+'Curves without VA'!F129)-IF(ISNUMBER($A128),$A128*LN(1+'Curves without VA'!F128),0)+($A129<=F$2)*LN(1+F$5/10000)+IF(ISNUMBER($A128),$A128*F128))/$A129","v":3.864981412472928E-2},{"$f":"($A129*LN(1+'Curves without VA'!G129)-IF(ISNUMBER($A128),$A128*LN(1+'Curves without VA'!G128),0)+($A129<=G$2)*LN(1+G$5/10000)+IF(ISNUMBER($A128),$A128*G128))/$A129","v":3.732803678788868E-2},{"$f":"($A129*LN(1+'Curves without VA'!H129)-IF(ISNUMBER($A128),$A128*LN(1+'Curves without VA'!H128),0)+($A129<=H$2)*LN(1+H$5/10000)+IF(ISNUMBER($A128),$A128*H128))/$A129","v":3.4129892955360258E-2},{"$f":"($A129*LN(1+'Curves without VA'!I129)-IF(ISNUMBER($A128),$A128*LN(1+'Curves without VA'!I128),0)+($A129<=I$2)*LN(1+I$5/10000)+IF(ISNUMBER($A128),$A128*I128))/$A129","v":4.426760824690372E-2},{"$f":"($A129*LN(1+'Curves without VA'!J129)-IF(ISNUMBER($A128),$A128*LN(1+'Curves without VA'!J128),0)+($A129<=J$2)*LN(1+J$5/10000)+IF(ISNUMBER($A128),$A128*J128))/$A129","v":3.5326893072511467E-2},3.3441986864525042E-2,3.5919687229272856E-2,3.2772601129921197E-2,3.8029362889243856E-2,3.9941675113717157E-2,3.9219681240674653E-2,3.6986156690747896E-2,4.9042252068747239E-2,3.8688567046244016E-2,{"$f":"(1+'Curves without VA'!K129)*(1+K129)/(1+'Curves without VA'!B129)-1","v":3.8122695696995113E-2},{"$f":"(1+'Curves without VA'!L129)*(1+L129)/(1+'Curves without VA'!C129)-1","v":4.2449535573003239E-2},{"$f":"(1+'Curves without VA'!M129)*(1+M129)/(1+'Curves without VA'!D129)-1","v":3.8182051028931685E-2},{"$f":"(1+'Curves without VA'!N129)*(1+N129)/(1+'Curves without VA'!E129)-1","v":4.3950911742769438E-2},{"$f":"(1+'Curves without VA'!O129)*(1+O129)/(1+'Curves without VA'!F129)-1","v":4.8852705176267941E-2},{"$f":"(1+'Curves without VA'!P129)*(1+P129)/(1+'Curves without VA'!G129)-1","v":4.5865131162760475E-2},{"$f":"(1+'Curves without VA'!Q129)*(1+Q129)/(1+'Curves without VA'!H129)-1","v":4.3584184428410833E-2},{"$f":"(1+'Curves without VA'!R129)*(1+R129)/(1+'Curves without VA'!I129)-1","v":5.8911559921262624E-2},{"$f":"(1+'Curves without VA'!S129)*(1+S129)/(1+'Curves without VA'!J129)-1","v":4.6042737558638969E-2},{"$f":"(1+'Curves without VA'!T129)*(1+K129)/(1+'Curves without VA'!B129)-1","v":2.6875099256246537E-2},{"$f":"(1+'Curves without VA'!U129)*(1+L129)/(1+'Curves without VA'!C129)-1","v":3.0224746048534756E-2},{"$f":"(1+'Curves without VA'!V129)*(1+M129)/(1+'Curves without VA'!D129)-1","v":2.5014061868874116E-2},{"$f":"(1+'Curves without VA'!W129)*(1+N129)/(1+'Curves without VA'!E129)-1","v":2.8749965788494647E-2},{"$f":"(1+'Curves without VA'!X129)*(1+O129)/(1+'Curves without VA'!F129)-1","v":2.3975998319785141E-2},{"$f":"(1+'Curves without VA'!Y129)*(1+P129)/(1+'Curves without VA'!G129)-1","v":2.9227586885036017E-2},{"$f":"(1+'Curves without VA'!Z129)*(1+Q129)/(1+'Curves without VA'!H129)-1","v":3.2857801518018537E-2},{"$f":"(1+'Curves without VA'!AA129)*(1+R129)/(1+'Curves without VA'!I129)-1","v":4.2727939933316694E-2},{"$f":"(1+'Curves without VA'!AB129)*(1+S129)/(1+'Curves without VA'!J129)-1","v":3.4257804673807568E-2}]
[117,{"$f":"($A130*LN(1+'Curves without VA'!B130)-IF(ISNUMBER($A129),$A129*LN(1+'Curves without VA'!B129),0)+($A130<=B$2)*LN(1+B$5/10000)+IF(ISNUMBER($A129),$A129*B129))/$A130","v":3.2814121519965538E-2},{"$f":"($A130*LN(1+'Curves without VA'!C130)-IF(ISNUMBER($A129),$A129*LN(1+'Curves without VA'!C129),0)+($A130<=C$2)*LN(1+C$5/10000)+IF(ISNUMBER($A129),$A129*C129))/$A130","v":3.4018152573253004E-2},{"$f":"($A130*LN(1+'Curves without VA'!D130)-IF(ISNUMBER($A129),$A129*LN(1+'Curves without VA'!D129),0)+($A130<=D$2)*LN(1+D$5/10000)+IF(ISNUMBER($A129),$A129*D129))/$A130","v":3.1683472567374485E-2},{"$f":"($A130*LN(1+'Curves without VA'!E130)-IF(ISNUMBER($A129),$A129*LN(1+'Curves without VA'!E129),0)+($A130<=E$2)*LN(1+E$5/10000)+IF(ISNUMBER($A129),$A129*E129))/$A130","v":3.632420840573157E-2},{"$f":"($A130*LN(1+'Curves without VA'!F130)-IF(ISNUMBER($A129),$A129*LN(1+'Curves without VA'!F129),0)+($A130<=F$2)*LN(1+F$5/10000)+IF(ISNUMBER($A129),$A129*F129))/$A130","v":3.8596969930039401E-2},{"$f":"($A130*LN(1+'Curves without VA'!G130)-IF(ISNUMBER($A129),$A129*LN(1+'Curves without VA'!G129),0)+($A130<=G$2)*LN(1+G$5/10000)+IF(ISNUMBER($A129),$A129*G129))/$A130","v":3.7286490951005336E-2},{"$f":"($A130*LN(1+'Curves without VA'!H130)-IF(ISNUMBER($A129),$A129*LN(1+'Curves without VA'!H129),0)+($A130<=H$2)*LN(1+H$5/10000)+IF(ISNUMBER($A129),$A129*H129))/$A130","v":3.4115681804761565E-2},{"$f":"($A130*LN(1+'Curves without VA'!I130)-IF(ISNUMBER($A129),$A129*LN(1+'Curves without VA'!I129),0)+($A130<=I$2)*LN(1+I$5/10000)+IF(ISNUMBER($A129),$A129*I129))/$A130","v":4.4240892084964692E-2},{"$f":"($A130*LN(1+'Curves without VA'!J130)-IF(ISNUMBER($A129),$A129*LN(1+'Curves without VA'!J129),0)+($A130<=J$2)*LN(1+J$5/10000)+IF(ISNUMBER($A129),$A129*J129))/$A130","v":3.53024511516805E-2},3.3438208565534477E-2,3.5894699692310406E-2,3.2766000408545493E-2,3.7986281231509711E-2,3.9882184954154409E-2,3.9166372628361534E-2,3.6952023894652131E-2,4.8981865402053071E-2,3.8639816753537115E-2,{"$f":"(1+'Curves without VA'!K130)*(1+K130)/(1+'Curves without VA'!B130)-1","v":3.8091680441221687E-2},{"$f":"(1+'Curves without VA'!L130)*(1+L130)/(1+'Curves without VA'!C130)-1","v":4.2381338461815465E-2},{"$f":"(1+'Curves without VA'!M130)*(1+M130)/(1+'Curves without VA'!D130)-1","v":3.8141956490268303E-2},{"$f":"(1+'Curves without VA'!N130)*(1+N130)/(1+'Curves without VA'!E130)-1","v":4.3869784937466072E-2},{"$f":"(1+'Curves without VA'!O130)*(1+O130)/(1+'Curves without VA'!F130)-1","v":4.8729311712610857E-2},{"$f":"(1+'Curves without VA'!P130)*(1+P130)/(1+'Curves without VA'!G130)-1","v":4.57674859412045E-2},{"$f":"(1+'Curves without VA'!Q130)*(1+Q130)/(1+'Curves without VA'!H130)-1","v":4.3506209563997755E-2},{"$f":"(1+'Curves without VA'!R130)*(1+R130)/(1+'Curves without VA'!I130)-1","v":5.8778889769079745E-2},{"$f":"(1+'Curves without VA'!S130)*(1+S130)/(1+'Curves without VA'!J130)-1","v":4.5943543549184396E-2},{"$f":"(1+'Curves without VA'!T130)*(1+K130)/(1+'Curves without VA'!B130)-1","v":2.6914536040443027E-2},{"$f":"(1+'Curves without VA'!U130)*(1+L130)/(1+'Curves without VA'!C130)-1","v":3.0235639139966741E-2},{"$f":"(1+'Curves without VA'!V130)*(1+M130)/(1+'Curves without VA'!D130)-1","v":2.5060820504399173E-2},{"$f":"(1+'Curves without VA'!W130)*(1+N130)/(1+'Curves without VA'!E130)-1","v":2.8773436920533468E-2},{"$f":"(1+'Curves without VA'!X130)*(1+O130)/(1+'Curves without VA'!F130)-1","v":2.4039934921230799E-2},{"$f":"(1+'Curves without VA'!Y130)*(1+P130)/(1+'Curves without VA'!G130)-1","v":2.9246988359990844E-2},{"$f":"(1+'Curves without VA'!Z130)*(1+Q130)/(1+'Curves without VA'!H130)-1","v":3.2846190401502495E-2},{"$f":"(1+'Curves without VA'!AA130)*(1+R130)/(1+'Curves without VA'!I130)-1","v":4.2708881999295789E-2},{"$f":"(1+'Curves without VA'!AB130)*(1+S130)/(1+'Curves without VA'!J130)-1","v":3.4234204649474576E-2}]
[118,{"$f":"($A131*LN(1+'Curves without VA'!B131)-IF(ISNUMBER($A130),$A130*LN(1+'Curves without VA'!B130),0)+($A131<=B$2)*LN(1+B$5/10000)+IF(ISNUMBER($A130),$A130*B130))/$A131","v":3.281118138240089E-2},{"$f":"($A131*LN(1+'Curves without VA'!C131)-IF(ISNUMBER($A130),$A130*LN(1+'Curves without VA'!C130),0)+($A131<=C$2)*LN(1+C$5/10000)+IF(ISNUMBER($A130),$A130*C130))/$A131","v":3.40050088000831E-2},{"$f":"($A131*LN(1+'Curves without VA'!D131)-IF(ISNUMBER($A130),$A130*LN(1+'Curves without VA'!D130),0)+($A131<=D$2)*LN(1+D$5/10000)+IF(ISNUMBER($A130),$A130*D130))/$A131","v":3.1681906837974588E-2},{"$f":"($A131*LN(1+'Curves without VA'!E131)-IF(ISNUMBER($A130),$A130*LN(1+'Curves without VA'!E130),0)+($A131<=E$2)*LN(1+E$5/10000)+IF(ISNUMBER($A130),$A130*E130))/$A131","v":3.629152168675754E-2},{"$f":"($A131*LN(1+'Curves without VA'!F131)-IF(ISNUMBER($A130),$A130*LN(1+'Curves without VA'!F130),0)+($A131<=F$2)*LN(1+F$5/10000)+IF(ISNUMBER($A130),$A130*F130))/$A131","v":3.8545021529248207E-2},{"$f":"($A131*LN(1+'Curves without VA'!G131)-IF(ISNUMBER($A130),$A130*LN(1+'Curves without VA'!G130),0)+($A131<=G$2)*LN(1+G$5/10000)+IF(ISNUMBER($A130),$A130*G130))/$A131","v":3.7245649295206899E-2},{"$f":"($A131*LN(1+'Curves without VA'!H131)-IF(ISNUMBER($A130),$A130*LN(1+'Curves without VA'!H130),0)+($A131<=H$2)*LN(1+H$5/10000)+IF(ISNUMBER($A130),$A130*H130))/$A131","v":3.4101711522712845E-2},{"$f":"($A131*LN(1+'Curves without VA'!I131)-IF(ISNUMBER($A130),$A130*LN(1+'Curves without VA'!I130),0)+($A131<=I$2)*LN(1+I$5/10000)+IF(ISNUMBER($A130),$A130*I130))/$A131","v":4.4214628850585427E-2},{"$f":"($A131*LN(1+'Curves without VA'!J131)-IF(ISNUMBER($A130),$A130*LN(1+'Curves without VA'!J130),0)+($A131<=J$2)*LN(1+J$5/10000)+IF(ISNUMBER($A130),$A130*J130))/$A131","v":3.5278423502285154E-2},3.3434494301657569E-2,3.587013605528111E-2,3.2759511072280256E-2,3.7943930695298E-2,3.9823702536650796E-2,3.9113969245926139E-2,3.6918470508295442E-2,4.8922505138756067E-2,3.859189471715152E-2,{"$f":"(1+'Curves without VA'!K131)*(1+K131)/(1+'Curves without VA'!B131)-1","v":3.8061191601204136E-2},{"$f":"(1+'Curves without VA'!L131)*(1+L131)/(1+'Curves without VA'!C131)-1","v":4.2314300983740782E-2},{"$f":"(1+'Curves without VA'!M131)*(1+M131)/(1+'Curves without VA'!D131)-1","v":3.8102541715068439E-2},{"$f":"(1+'Curves without VA'!N131)*(1+N131)/(1+'Curves without VA'!E131)-1","v":4.3790037766520795E-2},{"$f":"(1+'Curves without VA'!O131)*(1+O131)/(1+'Curves without VA'!F131)-1","v":4.8608011520774763E-2},{"$f":"(1+'Curves without VA'!P131)*(1+P131)/(1+'Curves without VA'!G131)-1","v":4.5671502571647871E-2},{"$f":"(1+'Curves without VA'!Q131)*(1+Q131)/(1+'Curves without VA'!H131)-1","v":4.3429561497900782E-2},{"$f":"(1+'Curves without VA'!R131)*(1+R131)/(1+'Curves without VA'!I131)-1","v":5.8648483202625279E-2},{"$f":"(1+'Curves without VA'!S131)*(1+S131)/(1+'Curves without VA'!J131)-1","v":4.5846039392794635E-2},{"$f":"(1+'Curves without VA'!T131)*(1+K131)/(1+'Curves without VA'!B131)-1","v":2.6953306323846293E-2},{"$f":"(1+'Curves without VA'!U131)*(1+L131)/(1+'Curves without VA'!C131)-1","v":3.0246347697660658E-2},{"$f":"(1+'Curves without VA'!V131)*(1+M131)/(1+'Curves without VA'!D131)-1","v":2.5106789294967458E-2},{"$f":"(1+'Curves without VA'!W131)*(1+N131)/(1+'Curves without VA'!E131)-1","v":2.8796511000586555E-2},{"$f":"(1+'Curves without VA'!X131)*(1+O131)/(1+'Curves without VA'!F131)-1","v":2.4102805996635723E-2},{"$f":"(1+'Curves without VA'!Y131)*(1+P131)/(1+'Curves without VA'!G131)-1","v":2.9266061314924041E-2},{"$f":"(1+'Curves without VA'!Z131)*(1+Q131)/(1+'Curves without VA'!H131)-1","v":3.2834776046151593E-2},{"$f":"(1+'Curves without VA'!AA131)*(1+R131)/(1+'Curves without VA'!I131)-1","v":4.2690146957337971E-2},{"$f":"(1+'Curves without VA'!AB131)*(1+S131)/(1+'Curves without VA'!J131)-1","v":3.4211004926545163E-2}]
[119,{"$f":"($A132*LN(1+'Curves without VA'!B132)-IF(ISNUMBER($A131),$A131*LN(1+'Curves without VA'!B131),0)+($A132<=B$2)*LN(1+B$5/10000)+IF(ISNUMBER($A131),$A131*B131))/$A132","v":3.2808290663158567E-2},{"$f":"($A132*LN(1+'Curves without VA'!C132)-IF(ISNUMBER($A131),$A131*LN(1+'Curves without VA'!C131),0)+($A132<=C$2)*LN(1+C$5/10000)+IF(ISNUMBER($A131),$A131*C131))/$A132","v":3.3992085933113349E-2},{"$f":"($A132*LN(1+'Curves without VA'!D132)-IF(ISNUMBER($A131),$A131*LN(1+'Curves without VA'!D131),0)+($A132<=D$2)*LN(1+D$5/10000)+IF(ISNUMBER($A131),$A131*D131))/$A132","v":3.1680367380078546E-2},{"$f":"($A132*LN(1+'Curves without VA'!E132)-IF(ISNUMBER($A131),$A131*LN(1+'Curves without VA'!E131),0)+($A132<=E$2)*LN(1+E$5/10000)+IF(ISNUMBER($A131),$A131*E131))/$A132","v":3.6259384337159258E-2},{"$f":"($A132*LN(1+'Curves without VA'!F132)-IF(ISNUMBER($A131),$A131*LN(1+'Curves without VA'!F131),0)+($A132<=F$2)*LN(1+F$5/10000)+IF(ISNUMBER($A131),$A131*F131))/$A132","v":3.8493946325931581E-2},{"$f":"($A132*LN(1+'Curves without VA'!G132)-IF(ISNUMBER($A131),$A131*LN(1+'Curves without VA'!G131),0)+($A132<=G$2)*LN(1+G$5/10000)+IF(ISNUMBER($A131),$A131*G131))/$A132","v":3.7205494066546038E-2},{"$f":"($A132*LN(1+'Curves without VA'!H132)-IF(ISNUMBER($A131),$A131*LN(1+'Curves without VA'!H131),0)+($A132<=H$2)*LN(1+H$5/10000)+IF(ISNUMBER($A131),$A131*H131))/$A132","v":3.4087976036733802E-2},{"$f":"($A132*LN(1+'Curves without VA'!I132)-IF(ISNUMBER($A131),$A131*LN(1+'Curves without VA'!I131),0)+($A132<=I$2)*LN(1+I$5/10000)+IF(ISNUMBER($A131),$A131*I131))/$A132","v":4.4188807113931909E-2},{"$f":"($A132*LN(1+'Curves without VA'!J132)-IF(ISNUMBER($A131),$A131*LN(1+'Curves without VA'!J131),0)+($A132<=J$2)*LN(1+J$5/10000)+IF(ISNUMBER($A131),$A131*J131))/$A132","v":3.5254799680343257E-2},3.3430842460015597E-2,3.584598563813457E-2,3.2753130367096039E-2,3.7902292890015676E-2,3.976620277451981E-2,3.906244830615635E-2,3.6885481918733198E-2,4.8864145368701317E-2,3.8544780026685155E-2,{"$f":"(1+'Curves without VA'!K132)*(1+K132)/(1+'Curves without VA'!B132)-1","v":3.8031215900899307E-2},{"$f":"(1+'Curves without VA'!L132)*(1+L132)/(1+'Curves without VA'!C132)-1","v":4.2248393857310607E-2},{"$f":"(1+'Curves without VA'!M132)*(1+M132)/(1+'Curves without VA'!D132)-1","v":3.8063789664548375E-2},{"$f":"(1+'Curves without VA'!N132)*(1+N132)/(1+'Curves without VA'!E132)-1","v":4.3711635454702469E-2},{"$f":"(1+'Curves without VA'!O132)*(1+O132)/(1+'Curves without VA'!F132)-1","v":4.8488752747622987E-2},{"$f":"(1+'Curves without VA'!P132)*(1+P132)/(1+'Curves without VA'!G132)-1","v":4.5577139146748769E-2},{"$f":"(1+'Curves without VA'!Q132)*(1+Q132)/(1+'Curves without VA'!H132)-1","v":4.3354206689607544E-2},{"$f":"(1+'Curves without VA'!R132)*(1+R132)/(1+'Curves without VA'!I132)-1","v":5.8520282880644592E-2},{"$f":"(1+'Curves without VA'!S132)*(1+S132)/(1+'Curves without VA'!J132)-1","v":4.5750182317122912E-2},{"$f":"(1+'Curves without VA'!T132)*(1+K132)/(1+'Curves without VA'!B132)-1","v":2.6991426826435516E-2},{"$f":"(1+'Curves without VA'!U132)*(1+L132)/(1+'Curves without VA'!C132)-1","v":3.0256876372713126E-2},{"$f":"(1+'Curves without VA'!V132)*(1+M132)/(1+'Curves without VA'!D132)-1","v":2.5151988039350703E-2},{"$f":"(1+'Curves without VA'!W132)*(1+N132)/(1+'Curves without VA'!E132)-1","v":2.8819198000364921E-2},{"$f":"(1+'Curves without VA'!X132)*(1+O132)/(1+'Curves without VA'!F132)-1","v":2.4164636841133236E-2},{"$f":"(1+'Curves without VA'!Y132)*(1+P132)/(1+'Curves without VA'!G132)-1","v":2.928481402686467E-2},{"$f":"(1+'Curves without VA'!Z132)*(1+Q132)/(1+'Curves without VA'!H132)-1","v":3.2823553505431091E-2},{"$f":"(1+'Curves without VA'!AA132)*(1+R132)/(1+'Curves without VA'!I132)-1","v":4.2671726706691615E-2},{"$f":"(1+'Curves without VA'!AB132)*(1+S132)/(1+'Curves without VA'!J132)-1","v":3.4188195423395129E-2}]
[120,{"$f":"($A133*LN(1+'Curves without VA'!B133)-IF(ISNUMBER($A132),$A132*LN(1+'Curves without VA'!B132),0)+($A133<=B$2)*LN(1+B$5/10000)+IF(ISNUMBER($A132),$A132*B132))/$A133","v":3.2805448126341751E-2},{"$f":"($A133*LN(1+'Curves without VA'!C133)-IF(ISNUMBER($A132),$A132*LN(1+'Curves without VA'!C132),0)+($A133<=C$2)*LN(1+C$5/10000)+IF(ISNUMBER($A132),$A132*C132))/$A133","v":3.3979378449435903E-2},{"$f":"($A133*LN(1+'Curves without VA'!D133)-IF(ISNUMBER($A132),$A132*LN(1+'Curves without VA'!D132),0)+($A133<=D$2)*LN(1+D$5/10000)+IF(ISNUMBER($A132),$A132*D132))/$A133","v":3.1678853541369019E-2},{"$f":"($A133*LN(1+'Curves without VA'!E133)-IF(ISNUMBER($A132),$A132*LN(1+'Curves without VA'!E132),0)+($A133<=E$2)*LN(1+E$5/10000)+IF(ISNUMBER($A132),$A132*E132))/$A133","v":3.6227782621384819E-2},{"$f":"($A133*LN(1+'Curves without VA'!F133)-IF(ISNUMBER($A132),$A132*LN(1+'Curves without VA'!F132),0)+($A133<=F$2)*LN(1+F$5/10000)+IF(ISNUMBER($A132),$A132*F132))/$A133","v":3.8443722478262159E-2},{"$f":"($A133*LN(1+'Curves without VA'!G133)-IF(ISNUMBER($A132),$A132*LN(1+'Curves without VA'!G132),0)+($A133<=G$2)*LN(1+G$5/10000)+IF(ISNUMBER($A132),$A132*G132))/$A133","v":3.7166008103026775E-2},{"$f":"($A133*LN(1+'Curves without VA'!H133)-IF(ISNUMBER($A132),$A132*LN(1+'Curves without VA'!H132),0)+($A133<=H$2)*LN(1+H$5/10000)+IF(ISNUMBER($A132),$A132*H132))/$A133","v":3.4074469476776434E-2},{"$f":"($A133*LN(1+'Curves without VA'!I133)-IF(ISNUMBER($A132),$A132*LN(1+'Curves without VA'!I132),0)+($A133<=I$2)*LN(1+I$5/10000)+IF(ISNUMBER($A132),$A132*I132))/$A133","v":4.4163415827352517E-2},{"$f":"($A133*LN(1+'Curves without VA'!J133)-IF(ISNUMBER($A132),$A132*LN(1+'Curves without VA'!J132),0)+($A133<=J$2)*LN(1+J$5/10000)+IF(ISNUMBER($A132),$A132*J132))/$A133","v":3.5231569590022417E-2},3.3427251481319198E-2,3.5822238115116756E-2,3.2746855625113147E-2,3.7861350030781615E-2,3.9709661378518835E-2,3.9011787773237439E-2,3.6853043998810842E-2,4.8806761043001634E-2,3.8498452467925492E-2,{"$f":"(1+'Curves without VA'!K133)*(1+K133)/(1+'Curves without VA'!B133)-1","v":3.8001740505734682E-2},{"$f":"(1+'Curves without VA'!L133)*(1+L133)/(1+'Curves without VA'!C133)-1","v":4.2183588774309166E-2},{"$f":"(1+'Curves without VA'!M133)*(1+M133)/(1+'Curves without VA'!D133)-1","v":3.80256838550872E-2},{"$f":"(1+'Curves without VA'!N133)*(1+N133)/(1+'Curves without VA'!E133)-1","v":4.3634544374562489E-2},{"$f":"(1+'Curves without VA'!O133)*(1+O133)/(1+'Curves without VA'!F133)-1","v":4.8371485148424265E-2},{"$f":"(1+'Curves without VA'!P133)*(1+P133)/(1+'Curves without VA'!G133)-1","v":4.5484355141639732E-2},{"$f":"(1+'Curves without VA'!Q133)*(1+Q133)/(1+'Curves without VA'!H133)-1","v":4.3280112716115537E-2},{"$f":"(1+'Curves without VA'!R133)*(1+R133)/(1+'Curves without VA'!I133)-1","v":5.8394233373224802E-2},{"$f":"(1+'Curves without VA'!S133)*(1+S133)/(1+'Curves without VA'!J133)-1","v":4.5655930977092973E-2},{"$f":"(1+'Curves without VA'!T133)*(1+K133)/(1+'Curves without VA'!B133)-1","v":2.7028913716792946E-2},{"$f":"(1+'Curves without VA'!U133)*(1+L133)/(1+'Curves without VA'!C133)-1","v":3.0267229661089967E-2},{"$f":"(1+'Curves without VA'!V133)*(1+M133)/(1+'Curves without VA'!D133)-1","v":2.5196435884411228E-2},{"$f":"(1+'Curves without VA'!W133)*(1+N133)/(1+'Curves without VA'!E133)-1","v":2.8841507562199054E-2},{"$f":"(1+'Curves without VA'!X133)*(1+O133)/(1+'Curves without VA'!F133)-1","v":2.4225452061557906E-2},{"$f":"(1+'Curves without VA'!Y133)*(1+P133)/(1+'Curves without VA'!G133)-1","v":2.9303254496831688E-2},{"$f":"(1+'Curves without VA'!Z133)*(1+Q133)/(1+'Curves without VA'!H133)-1","v":3.2812517996036794E-2},{"$f":"(1+'Curves without VA'!AA133)*(1+R133)/(1+'Curves without VA'!I133)-1","v":4.2653613411961722E-2},{"$f":"(1+'Curves without VA'!AB133)*(1+S133)/(1+'Curves without VA'!J133)-1","v":3.416576639249902E-2}]
[121,{"$f":"($A134*LN(1+'Curves without VA'!B134)-IF(ISNUMBER($A133),$A133*LN(1+'Curves without VA'!B133),0)+($A134<=B$2)*LN(1+B$5/10000)+IF(ISNUMBER($A133),$A133*B133))/$A134","v":3.2802652576955513E-2},{"$f":"($A134*LN(1+'Curves without VA'!C134)-IF(ISNUMBER($A133),$A133*LN(1+'Curves without VA'!C133),0)+($A134<=C$2)*LN(1+C$5/10000)+IF(ISNUMBER($A133),$A133*C133))/$A134","v":3.396688100874419E-2},{"$f":"($A134*LN(1+'Curves without VA'!D134)-IF(ISNUMBER($A133),$A133*LN(1+'Curves without VA'!D133),0)+($A134<=D$2)*LN(1+D$5/10000)+IF(ISNUMBER($A133),$A133*D133))/$A134","v":3.1677364690631281E-2},{"$f":"($A134*LN(1+'Curves without VA'!E134)-IF(ISNUMBER($A133),$A133*LN(1+'Curves without VA'!E133),0)+($A134<=E$2)*LN(1+E$5/10000)+IF(ISNUMBER($A133),$A133*E133))/$A134","v":3.6196703258086438E-2},{"$f":"($A134*LN(1+'Curves without VA'!F134)-IF(ISNUMBER($A133),$A133*LN(1+'Curves without VA'!F133),0)+($A134<=F$2)*LN(1+F$5/10000)+IF(ISNUMBER($A133),$A133*F133))/$A134","v":3.8394328867685082E-2},{"$f":"($A134*LN(1+'Curves without VA'!G134)-IF(ISNUMBER($A133),$A133*LN(1+'Curves without VA'!G133),0)+($A134<=G$2)*LN(1+G$5/10000)+IF(ISNUMBER($A133),$A133*G133))/$A134","v":3.7127174810128102E-2},{"$f":"($A134*LN(1+'Curves without VA'!H134)-IF(ISNUMBER($A133),$A133*LN(1+'Curves without VA'!H133),0)+($A134<=H$2)*LN(1+H$5/10000)+IF(ISNUMBER($A133),$A133*H133))/$A134","v":3.4061186166859332E-2},{"$f":"($A134*LN(1+'Curves without VA'!I134)-IF(ISNUMBER($A133),$A133*LN(1+'Curves without VA'!I133),0)+($A134<=I$2)*LN(1+I$5/10000)+IF(ISNUMBER($A133),$A133*I133))/$A134","v":4.413844430946165E-2},{"$f":"($A134*LN(1+'Curves without VA'!J134)-IF(ISNUMBER($A133),$A133*LN(1+'Curves without VA'!J133),0)+($A134<=J$2)*LN(1+J$5/10000)+IF(ISNUMBER($A133),$A133*J133))/$A134","v":3.52087234692521E-2},3.3423719857672118E-2,3.5798883500337553E-2,3.2740684261628461E-2,3.7821084914241299E-2,3.9654054828079044E-2,3.8961966332686115E-2,3.6821143087281571E-2,4.8750327938872129E-2,3.8452892494281743E-2,{"$f":"(1+'Curves without VA'!K134)*(1+K134)/(1+'Curves without VA'!B134)-1","v":3.7972753004519744E-2},{"$f":"(1+'Curves without VA'!L134)*(1+L134)/(1+'Curves without VA'!C134)-1","v":4.2119858360071705E-2},{"$f":"(1+'Curves without VA'!M134)*(1+M134)/(1+'Curves without VA'!D134)-1","v":3.7988208336687146E-2},{"$f":"(1+'Curves without VA'!N134)*(1+N134)/(1+'Curves without VA'!E134)-1","v":4.355873200049909E-2},{"$f":"(1+'Curves without VA'!O134)*(1+O134)/(1+'Curves without VA'!F134)-1","v":4.8256160033547824E-2},{"$f":"(1+'Curves without VA'!P134)*(1+P134)/(1+'Curves without VA'!G134)-1","v":4.5393111358757787E-2},{"$f":"(1+'Curves without VA'!Q134)*(1+Q134)/(1+'Curves without VA'!H134)-1","v":4.3207248226098116E-2},{"$f":"(1+'Curves without VA'!R134)*(1+R134)/(1+'Curves without VA'!I134)-1","v":5.8270281083660613E-2},{"$f":"(1+'Curves without VA'!S134)*(1+S134)/(1+'Curves without VA'!J134)-1","v":4.5563245396236907E-2},{"$f":"(1+'Curves without VA'!T134)*(1+K134)/(1+'Curves without VA'!B134)-1","v":2.7065782634350999E-2},{"$f":"(1+'Curves without VA'!U134)*(1+L134)/(1+'Curves without VA'!C134)-1","v":3.0277411910056395E-2},{"$f":"(1+'Curves without VA'!V134)*(1+M134)/(1+'Curves without VA'!D134)-1","v":2.5240151351315854E-2},{"$f":"(1+'Curves without VA'!W134)*(1+N134)/(1+'Curves without VA'!E134)-1","v":2.8863449012362929E-2},{"$f":"(1+'Curves without VA'!X134)*(1+O134)/(1+'Curves without VA'!F134)-1","v":2.4285275589105426E-2},{"$f":"(1+'Curves without VA'!Y134)*(1+P134)/(1+'Curves without VA'!G134)-1","v":2.9321390461266583E-2},{"$f":"(1+'Curves without VA'!Z134)*(1+Q134)/(1+'Curves without VA'!H134)-1","v":3.2801664891329629E-2},{"$f":"(1+'Curves without VA'!AA134)*(1+R134)/(1+'Curves without VA'!I134)-1","v":4.2635799492647619E-2},{"$f":"(1+'Curves without VA'!AB134)*(1+S134)/(1+'Curves without VA'!J134)-1","v":3.4143708406852102E-2}]
[122,{"$f":"($A135*LN(1+'Curves without VA'!B135)-IF(ISNUMBER($A134),$A134*LN(1+'Curves without VA'!B134),0)+($A135<=B$2)*LN(1+B$5/10000)+IF(ISNUMBER($A134),$A134*B134))/$A135","v":3.2799902859224954E-2},{"$f":"($A135*LN(1+'Curves without VA'!C135)-IF(ISNUMBER($A134),$A134*LN(1+'Curves without VA'!C134),0)+($A135<=C$2)*LN(1+C$5/10000)+IF(ISNUMBER($A134),$A134*C134))/$A135","v":3.3954588445847075E-2},{"$f":"($A135*LN(1+'Curves without VA'!D135)-IF(ISNUMBER($A134),$A134*LN(1+'Curves without VA'!D134),0)+($A135<=D$2)*LN(1+D$5/10000)+IF(ISNUMBER($A134),$A134*D134))/$A135","v":3.1675900216935553E-2},{"$f":"($A135*LN(1+'Curves without VA'!E135)-IF(ISNUMBER($A134),$A134*LN(1+'Curves without VA'!E134),0)+($A135<=E$2)*LN(1+E$5/10000)+IF(ISNUMBER($A134),$A134*E134))/$A135","v":3.616613340149083E-2},{"$f":"($A135*LN(1+'Curves without VA'!F135)-IF(ISNUMBER($A134),$A134*LN(1+'Curves without VA'!F134),0)+($A135<=F$2)*LN(1+F$5/10000)+IF(ISNUMBER($A134),$A134*F134))/$A135","v":3.8345745069148181E-2},{"$f":"($A135*LN(1+'Curves without VA'!G135)-IF(ISNUMBER($A134),$A134*LN(1+'Curves without VA'!G134),0)+($A135<=G$2)*LN(1+G$5/10000)+IF(ISNUMBER($A134),$A134*G134))/$A135","v":3.70889781375323E-2},{"$f":"($A135*LN(1+'Curves without VA'!H135)-IF(ISNUMBER($A134),$A134*LN(1+'Curves without VA'!H134),0)+($A135<=H$2)*LN(1+H$5/10000)+IF(ISNUMBER($A134),$A134*H134))/$A135","v":3.4048120617112133E-2},{"$f":"($A135*LN(1+'Curves without VA'!I135)-IF(ISNUMBER($A134),$A134*LN(1+'Curves without VA'!I134),0)+($A135<=I$2)*LN(1+I$5/10000)+IF(ISNUMBER($A134),$A134*I134))/$A135","v":4.4113882230019573E-2},{"$f":"($A135*LN(1+'Curves without VA'!J135)-IF(ISNUMBER($A134),$A134*LN(1+'Curves without VA'!J134),0)+($A135<=J$2)*LN(1+J$5/10000)+IF(ISNUMBER($A134),$A134*J134))/$A135","v":3.518625187604283E-2},3.3420246130481557E-2,3.5775912134023091E-2,3.2734613772226862E-2,3.7781480895483277E-2,3.9599360343509415E-2,3.8912963362655928E-2,3.6789765969880595E-2,4.869482262614433E-2,3.8408081199597044E-2,{"$f":"(1+'Curves without VA'!K135)*(1+K135)/(1+'Curves without VA'!B135)-1","v":3.7944241392234401E-2},{"$f":"(1+'Curves without VA'!L135)*(1+L135)/(1+'Curves without VA'!C135)-1","v":4.205717613567117E-2},{"$f":"(1+'Curves without VA'!M135)*(1+M135)/(1+'Curves without VA'!D135)-1","v":3.7951347672347646E-2},{"$f":"(1+'Curves without VA'!N135)*(1+N135)/(1+'Curves without VA'!E135)-1","v":4.3484166864921736E-2},{"$f":"(1+'Curves without VA'!O135)*(1+O135)/(1+'Curves without VA'!F135)-1","v":4.8142730216392815E-2},{"$f":"(1+'Curves without VA'!P135)*(1+P135)/(1+'Curves without VA'!G135)-1","v":4.5303369875163479E-2},{"$f":"(1+'Curves without VA'!Q135)*(1+Q135)/(1+'Curves without VA'!H135)-1","v":4.3135582896282276E-2},{"$f":"(1+'Curves without VA'!R135)*(1+R135)/(1+'Curves without VA'!I135)-1","v":5.8148374174045392E-2},{"$f":"(1+'Curves without VA'!S135)*(1+S135)/(1+'Curves without VA'!J135)-1","v":4.5472086910872234E-2},{"$f":"(1+'Curves without VA'!T135)*(1+K135)/(1+'Curves without VA'!B135)-1","v":2.7102048710599069E-2},{"$f":"(1+'Curves without VA'!U135)*(1+L135)/(1+'Curves without VA'!C135)-1","v":3.0287427324280136E-2},{"$f":"(1+'Curves without VA'!V135)*(1+M135)/(1+'Curves without VA'!D135)-1","v":2.5283152360533689E-2},{"$f":"(1+'Curves without VA'!W135)*(1+N135)/(1+'Curves without VA'!E135)-1","v":2.8885031373777403E-2},{"$f":"(1+'Curves without VA'!X135)*(1+O135)/(1+'Curves without VA'!F135)-1","v":2.4344130692988797E-2},{"$f":"(1+'Curves without VA'!Y135)*(1+P135)/(1+'Curves without VA'!G135)-1","v":2.9339229402904676E-2},{"$f":"(1+'Curves without VA'!Z135)*(1+Q135)/(1+'Curves without VA'!H135)-1","v":3.2790989715071994E-2},{"$f":"(1+'Curves without VA'!AA135)*(1+R135)/(1+'Curves without VA'!I135)-1","v":4.2618277613140298E-2},{"$f":"(1+'Curves without VA'!AB135)*(1+S135)/(1+'Curves without VA'!J135)-1","v":3.4122012347036268E-2}]
[123,{"$f":"($A136*LN(1+'Curves without VA'!B136)-IF(ISNUMBER($A135),$A135*LN(1+'Curves without VA'!B135),0)+($A136<=B$2)*LN(1+B$5/10000)+IF(ISNUMBER($A135),$A135*B135))/$A136","v":3.2797197854996983E-2},{"$f":"($A136*LN(1+'Curves without VA'!C136)-IF(ISNUMBER($A135),$A135*LN(1+'Curves without VA'!C135),0)+($A136<=C$2)*LN(1+C$5/10000)+IF(ISNUMBER($A135),$A135*C135))/$A136","v":3.3942495763547645E-2},{"$f":"($A136*LN(1+'Curves without VA'!D136)-IF(ISNUMBER($A135),$A135*LN(1+'Curves without VA'!D135),0)+($A136<=D$2)*LN(1+D$5/10000)+IF(ISNUMBER($A135),$A135*D135))/$A136","v":3.1674459528855427E-2},{"$f":"($A136*LN(1+'Curves without VA'!E136)-IF(ISNUMBER($A135),$A135*LN(1+'Curves without VA'!E135),0)+($A136<=E$2)*LN(1+E$5/10000)+IF(ISNUMBER($A135),$A135*E135))/$A136","v":3.6136060623681611E-2},{"$f":"($A136*LN(1+'Curves without VA'!F136)-IF(ISNUMBER($A135),$A135*LN(1+'Curves without VA'!F135),0)+($A136<=F$2)*LN(1+F$5/10000)+IF(ISNUMBER($A135),$A135*F135))/$A136","v":3.8297951322798313E-2},{"$f":"($A136*LN(1+'Curves without VA'!G136)-IF(ISNUMBER($A135),$A135*LN(1+'Curves without VA'!G135),0)+($A136<=G$2)*LN(1+G$5/10000)+IF(ISNUMBER($A135),$A135*G135))/$A136","v":3.7051402556990687E-2},{"$f":"($A136*LN(1+'Curves without VA'!H136)-IF(ISNUMBER($A135),$A135*LN(1+'Curves without VA'!H135),0)+($A136<=H$2)*LN(1+H$5/10000)+IF(ISNUMBER($A135),$A135*H135))/$A136","v":3.4035267516209007E-2},{"$f":"($A136*LN(1+'Curves without VA'!I136)-IF(ISNUMBER($A135),$A135*LN(1+'Curves without VA'!I135),0)+($A136<=I$2)*LN(1+I$5/10000)+IF(ISNUMBER($A135),$A135*I135))/$A136","v":4.4089719595562807E-2},{"$f":"($A136*LN(1+'Curves without VA'!J136)-IF(ISNUMBER($A135),$A135*LN(1+'Curves without VA'!J135),0)+($A136<=J$2)*LN(1+J$5/10000)+IF(ISNUMBER($A135),$A135*J135))/$A136","v":3.5164145675473581E-2},3.3416828888468419E-2,3.5753314669420666E-2,3.2728641729979469E-2,3.774252186599858E-2,3.9545555859170189E-2,3.8864758906549168E-2,3.6758899861302208E-2,4.8640222435367253E-2,3.8364000292265832E-2,{"$f":"(1+'Curves without VA'!K136)*(1+K136)/(1+'Curves without VA'!B136)-1","v":3.7916194053637442E-2},{"$f":"(1+'Curves without VA'!L136)*(1+L136)/(1+'Curves without VA'!C136)-1","v":4.1995516481898587E-2},{"$f":"(1+'Curves without VA'!M136)*(1+M136)/(1+'Curves without VA'!D136)-1","v":3.7915086918308472E-2},{"$f":"(1+'Curves without VA'!N136)*(1+N136)/(1+'Curves without VA'!E136)-1","v":4.3410818516399496E-2},{"$f":"(1+'Curves without VA'!O136)*(1+O136)/(1+'Curves without VA'!F136)-1","v":4.8031149962626252E-2},{"$f":"(1+'Curves without VA'!P136)*(1+P136)/(1+'Curves without VA'!G136)-1","v":4.5215093992242439E-2},{"$f":"(1+'Curves without VA'!Q136)*(1+Q136)/(1+'Curves without VA'!H136)-1","v":4.3065087389911216E-2},{"$f":"(1+'Curves without VA'!R136)*(1+R136)/(1+'Curves without VA'!I136)-1","v":5.8028462494383648E-2},{"$f":"(1+'Curves without VA'!S136)*(1+S136)/(1+'Curves without VA'!J136)-1","v":4.5382418116955092E-2},{"$f":"(1+'Curves without VA'!T136)*(1+K136)/(1+'Curves without VA'!B136)-1","v":2.7137726589303579E-2},{"$f":"(1+'Curves without VA'!U136)*(1+L136)/(1+'Curves without VA'!C136)-1","v":3.0297279971643443E-2},{"$f":"(1+'Curves without VA'!V136)*(1+M136)/(1+'Curves without VA'!D136)-1","v":2.5325456255673284E-2},{"$f":"(1+'Curves without VA'!W136)*(1+N136)/(1+'Curves without VA'!E136)-1","v":2.8906263378111419E-2},{"$f":"(1+'Curves without VA'!X136)*(1+O136)/(1+'Curves without VA'!F136)-1","v":2.4402039994873892E-2},{"$f":"(1+'Curves without VA'!Y136)*(1+P136)/(1+'Curves without VA'!G136)-1","v":2.9356778561109964E-2},{"$f":"(1+'Curves without VA'!Z136)*(1+Q136)/(1+'Curves without VA'!H136)-1","v":3.2780488135451202E-2},{"$f":"(1+'Curves without VA'!AA136)*(1+R136)/(1+'Curves without VA'!I136)-1","v":4.2601040673157176E-2},{"$f":"(1+'Curves without VA'!AB136)*(1+S136)/(1+'Curves without VA'!J136)-1","v":3.4100669388897442E-2}]
[124,{"$f":"($A137*LN(1+'Curves without VA'!B137)-IF(ISNUMBER($A136),$A136*LN(1+'Curves without VA'!B136),0)+($A137<=B$2)*LN(1+B$5/10000)+IF(ISNUMBER($A136),$A136*B136))/$A137","v":3.2794536482220249E-2},{"$f":"($A137*LN(1+'Curves without VA'!C137)-IF(ISNUMBER($A136),$A136*LN(1+'Curves without VA'!C136),0)+($A137<=C$2)*LN(1+C$5/10000)+IF(ISNUMBER($A136),$A136*C136))/$A137","v":3.3930598125867302E-2},{"$f":"($A137*LN(1+'Curves without VA'!D137)-IF(ISNUMBER($A136),$A136*LN(1+'Curves without VA'!D136),0)+($A137<=D$2)*LN(1+D$5/10000)+IF(ISNUMBER($A136),$A136*D136))/$A137","v":3.1673042053718591E-2},{"$f":"($A137*LN(1+'Curves without VA'!E137)-IF(ISNUMBER($A136),$A136*LN(1+'Curves without VA'!E136),0)+($A137<=E$2)*LN(1+E$5/10000)+IF(ISNUMBER($A136),$A136*E136))/$A137","v":3.6106472897737302E-2},{"$f":"($A137*LN(1+'Curves without VA'!F137)-IF(ISNUMBER($A136),$A136*LN(1+'Curves without VA'!F136),0)+($A137<=F$2)*LN(1+F$5/10000)+IF(ISNUMBER($A136),$A136*F136))/$A137","v":3.825092850705894E-2},{"$f":"($A137*LN(1+'Curves without VA'!G137)-IF(ISNUMBER($A136),$A136*LN(1+'Curves without VA'!G136),0)+($A137<=G$2)*LN(1+G$5/10000)+IF(ISNUMBER($A136),$A136*G136))/$A137","v":3.7014433041261993E-2},{"$f":"($A137*LN(1+'Curves without VA'!H137)-IF(ISNUMBER($A136),$A136*LN(1+'Curves without VA'!H136),0)+($A137<=H$2)*LN(1+H$5/10000)+IF(ISNUMBER($A136),$A136*H136))/$A137","v":3.4022621724167444E-2},{"$f":"($A137*LN(1+'Curves without VA'!I137)-IF(ISNUMBER($A136),$A136*LN(1+'Curves without VA'!I136),0)+($A137<=I$2)*LN(1+I$5/10000)+IF(ISNUMBER($A136),$A136*I136))/$A137","v":4.4065946735736647E-2},{"$f":"($A137*LN(1+'Curves without VA'!J137)-IF(ISNUMBER($A136),$A136*LN(1+'Curves without VA'!J136),0)+($A137<=J$2)*LN(1+J$5/10000)+IF(ISNUMBER($A136),$A136*J136))/$A137","v":3.5142396027309002E-2},3.3413466765772837E-2,3.5731082060318498E-2,3.2722765782730701E-2,3.7704192232637102E-2,3.9492619997596456E-2,3.8817333646867569E-2,3.672853238803242E-2,4.8586505427416604E-2,3.8320632070582894E-2,{"$f":"(1+'Curves without VA'!K137)*(1+K137)/(1+'Curves without VA'!B137)-1","v":3.7888599747655016E-2},{"$f":"(1+'Curves without VA'!L137)*(1+L137)/(1+'Curves without VA'!C137)-1","v":4.1934854604937177E-2},{"$f":"(1+'Curves without VA'!M137)*(1+M137)/(1+'Curves without VA'!D137)-1","v":3.7879411605139079E-2},{"$f":"(1+'Curves without VA'!N137)*(1+N137)/(1+'Curves without VA'!E137)-1","v":4.333865747971144E-2},{"$f":"(1+'Curves without VA'!O137)*(1+O137)/(1+'Curves without VA'!F137)-1","v":4.7921374940779415E-2},{"$f":"(1+'Curves without VA'!P137)*(1+P137)/(1+'Curves without VA'!G137)-1","v":4.5128248187661368E-2},{"$f":"(1+'Curves without VA'!Q137)*(1+Q137)/(1+'Curves without VA'!H137)-1","v":4.2995733317182649E-2},{"$f":"(1+'Curves without VA'!R137)*(1+R137)/(1+'Curves without VA'!I137)-1","v":5.7910497515049952E-2},{"$f":"(1+'Curves without VA'!S137)*(1+S137)/(1+'Curves without VA'!J137)-1","v":4.5294202819467611E-2},{"$f":"(1+'Curves without VA'!T137)*(1+K137)/(1+'Curves without VA'!B137)-1","v":2.7172830445789664E-2},{"$f":"(1+'Curves without VA'!U137)*(1+L137)/(1+'Curves without VA'!C137)-1","v":3.0306973788766012E-2},{"$f":"(1+'Curves without VA'!V137)*(1+M137)/(1+'Curves without VA'!D137)-1","v":2.5367079826226657E-2},{"$f":"(1+'Curves without VA'!W137)*(1+N137)/(1+'Curves without VA'!E137)-1","v":2.8927153477328993E-2},{"$f":"(1+'Curves without VA'!X137)*(1+O137)/(1+'Curves without VA'!F137)-1","v":2.4459025483891894E-2},{"$f":"(1+'Curves without VA'!Y137)*(1+P137)/(1+'Curves without VA'!G137)-1","v":2.9374044941705701E-2},{"$f":"(1+'Curves without VA'!Z137)*(1+Q137)/(1+'Curves without VA'!H137)-1","v":3.2770155959383152E-2},{"$f":"(1+'Curves without VA'!AA137)*(1+R137)/(1+'Curves without VA'!I137)-1","v":4.2584081798605844E-2},{"$f":"(1+'Curves without VA'!AB137)*(1+S137)/(1+'Curves without VA'!J137)-1","v":3.4079670991796318E-2}]
[125,{"$f":"($A138*LN(1+'Curves without VA'!B138)-IF(ISNUMBER($A137),$A137*LN(1+'Curves without VA'!B137),0)+($A138<=B$2)*LN(1+B$5/10000)+IF(ISNUMBER($A137),$A137*B137))/$A138","v":3.2791917693497021E-2},{"$f":"($A138*LN(1+'Curves without VA'!C138)-IF(ISNUMBER($A137),$A137*LN(1+'Curves without VA'!C137),0)+($A138<=C$2)*LN(1+C$5/10000)+IF(ISNUMBER($A137),$A137*C137))/$A138","v":3.3918890851595287E-2},{"$f":"($A138*LN(1+'Curves without VA'!D138)-IF(ISNUMBER($A137),$A137*LN(1+'Curves without VA'!D137),0)+($A138<=D$2)*LN(1+D$5/10000)+IF(ISNUMBER($A137),$A137*D137))/$A138","v":3.1671647236890282E-2},{"$f":"($A138*LN(1+'Curves without VA'!E138)-IF(ISNUMBER($A137),$A137*LN(1+'Curves without VA'!E137),0)+($A138<=E$2)*LN(1+E$5/10000)+IF(ISNUMBER($A137),$A137*E137))/$A138","v":3.6077358581684128E-2},{"$f":"($A138*LN(1+'Curves without VA'!F138)-IF(ISNUMBER($A137),$A137*LN(1+'Curves without VA'!F137),0)+($A138<=F$2)*LN(1+F$5/10000)+IF(ISNUMBER($A137),$A137*F137))/$A138","v":3.8204658113009708E-2},{"$f":"($A138*LN(1+'Curves without VA'!G138)-IF(ISNUMBER($A137),$A137*LN(1+'Curves without VA'!G137),0)+($A138<=G$2)*LN(1+G$5/10000)+IF(ISNUMBER($A137),$A137*G137))/$A138","v":3.6978055044060334E-2},{"$f":"($A138*LN(1+'Curves without VA'!H138)-IF(ISNUMBER($A137),$A137*LN(1+'Curves without VA'!H137),0)+($A138<=H$2)*LN(1+H$5/10000)+IF(ISNUMBER($A137),$A137*H137))/$A138","v":3.4010178265493955E-2},{"$f":"($A138*LN(1+'Curves without VA'!I138)-IF(ISNUMBER($A137),$A137*LN(1+'Curves without VA'!I137),0)+($A138<=I$2)*LN(1+I$5/10000)+IF(ISNUMBER($A137),$A137*I137))/$A138","v":4.4042554290295591E-2},{"$f":"($A138*LN(1+'Curves without VA'!J138)-IF(ISNUMBER($A137),$A137*LN(1+'Curves without VA'!J137),0)+($A138<=J$2)*LN(1+J$5/10000)+IF(ISNUMBER($A137),$A137*J137))/$A138","v":3.5120994374210297E-2},3.341015844014894E-2,3.5709205549149692E-2,3.2716983650471709E-2,3.7666476897509904E-2,3.9440532044557219E-2,3.8770668880247383E-2,3.6698651571990482E-2,4.8533650364525061E-2,3.8277959399259709E-2,{"$f":"(1+'Curves without VA'!K138)*(1+K138)/(1+'Curves without VA'!B138)-1","v":3.7861447592507869E-2},{"$f":"(1+'Curves without VA'!L138)*(1+L138)/(1+'Curves without VA'!C138)-1","v":4.1875166503639427E-2},{"$f":"(1+'Curves without VA'!M138)*(1+M138)/(1+'Curves without VA'!D138)-1","v":3.7844307719629322E-2},{"$f":"(1+'Curves without VA'!N138)*(1+N138)/(1+'Curves without VA'!E138)-1","v":4.3267655217690271E-2},{"$f":"(1+'Curves without VA'!O138)*(1+O138)/(1+'Curves without VA'!F138)-1","v":4.7813362174247587E-2},{"$f":"(1+'Curves without VA'!P138)*(1+P138)/(1+'Curves without VA'!G138)-1","v":4.5042798069487633E-2},{"$f":"(1+'Curves without VA'!Q138)*(1+Q138)/(1+'Curves without VA'!H138)-1","v":4.2927493197553623E-2},{"$f":"(1+'Curves without VA'!R138)*(1+R138)/(1+'Curves without VA'!I138)-1","v":5.7794432262404438E-2},{"$f":"(1+'Curves without VA'!S138)*(1+S138)/(1+'Curves without VA'!J138)-1","v":4.5207405984202254E-2},{"$f":"(1+'Curves without VA'!T138)*(1+K138)/(1+'Curves without VA'!B138)-1","v":2.7207374005335794E-2},{"$f":"(1+'Curves without VA'!U138)*(1+L138)/(1+'Curves without VA'!C138)-1","v":3.0316512586266109E-2},{"$f":"(1+'Curves without VA'!V138)*(1+M138)/(1+'Curves without VA'!D138)-1","v":2.5408039329270382E-2},{"$f":"(1+'Curves without VA'!W138)*(1+N138)/(1+'Curves without VA'!E138)-1","v":2.8947709854694859E-2},{"$f":"(1+'Curves without VA'!X138)*(1+O138)/(1+'Curves without VA'!F138)-1","v":2.4515108532076502E-2},{"$f":"(1+'Curves without VA'!Y138)*(1+P138)/(1+'Curves without VA'!G138)-1","v":2.9391035326336468E-2},{"$f":"(1+'Curves without VA'!Z138)*(1+Q138)/(1+'Curves without VA'!H138)-1","v":3.2759989127069566E-2},{"$f":"(1+'Curves without VA'!AA138)*(1+R138)/(1+'Curves without VA'!I138)-1","v":4.2567394332844399E-2},{"$f":"(1+'Curves without VA'!AB138)*(1+S138)/(1+'Curves without VA'!J138)-1","v":3.4059008887410203E-2}]
[126,{"$f":"($A139*LN(1+'Curves without VA'!B139)-IF(ISNUMBER($A138),$A138*LN(1+'Curves without VA'!B138),0)+($A139<=B$2)*LN(1+B$5/10000)+IF(ISNUMBER($A138),$A138*B138))/$A139","v":3.278934047470531E-2},{"$f":"($A139*LN(1+'Curves without VA'!C139)-IF(ISNUMBER($A138),$A138*LN(1+'Curves without VA'!C138),0)+($A139<=C$2)*LN(1+C$5/10000)+IF(ISNUMBER($A138),$A138*C138))/$A139","v":3.3907369408144497E-2},{"$f":"($A139*LN(1+'Curves without VA'!D139)-IF(ISNUMBER($A138),$A138*LN(1+'Curves without VA'!D138),0)+($A139<=D$2)*LN(1+D$5/10000)+IF(ISNUMBER($A138),$A138*D138))/$A139","v":3.1670274541087555E-2},{"$f":"($A139*LN(1+'Curves without VA'!E139)-IF(ISNUMBER($A138),$A138*LN(1+'Curves without VA'!E138),0)+($A139<=E$2)*LN(1+E$5/10000)+IF(ISNUMBER($A138),$A138*E138))/$A139","v":3.6048706403209049E-2},{"$f":"($A139*LN(1+'Curves without VA'!F139)-IF(ISNUMBER($A138),$A138*LN(1+'Curves without VA'!F138),0)+($A139<=F$2)*LN(1+F$5/10000)+IF(ISNUMBER($A138),$A138*F138))/$A139","v":3.8159122219995435E-2},{"$f":"($A139*LN(1+'Curves without VA'!G139)-IF(ISNUMBER($A138),$A138*LN(1+'Curves without VA'!G138),0)+($A139<=G$2)*LN(1+G$5/10000)+IF(ISNUMBER($A138),$A138*G138))/$A139","v":3.694225448096336E-2},{"$f":"($A139*LN(1+'Curves without VA'!H139)-IF(ISNUMBER($A138),$A138*LN(1+'Curves without VA'!H138),0)+($A139<=H$2)*LN(1+H$5/10000)+IF(ISNUMBER($A138),$A138*H138))/$A139","v":3.3997932322655459E-2},{"$f":"($A139*LN(1+'Curves without VA'!I139)-IF(ISNUMBER($A138),$A138*LN(1+'Curves without VA'!I138),0)+($A139<=I$2)*LN(1+I$5/10000)+IF(ISNUMBER($A138),$A138*I138))/$A139","v":4.4019533196729417E-2},{"$f":"($A139*LN(1+'Curves without VA'!J139)-IF(ISNUMBER($A138),$A138*LN(1+'Curves without VA'!J138),0)+($A139<=J$2)*LN(1+J$5/10000)+IF(ISNUMBER($A138),$A138*J138))/$A139","v":3.5099932430509052E-2},3.3406902631244018E-2,3.5687676655648648E-2,3.2711293122802632E-2,3.7629361238792569E-2,3.9389271925030833E-2,3.8724746493614015E-2,3.6669245814936469E-2,4.8481636682662588E-2,3.8235965687043683E-2,{"$f":"(1+'Curves without VA'!K139)*(1+K139)/(1+'Curves without VA'!B139)-1","v":3.7834727051531791E-2},{"$f":"(1+'Curves without VA'!L139)*(1+L139)/(1+'Curves without VA'!C139)-1","v":4.1816428938331818E-2},{"$f":"(1+'Curves without VA'!M139)*(1+M139)/(1+'Curves without VA'!D139)-1","v":3.7809761687451093E-2},{"$f":"(1+'Curves without VA'!N139)*(1+N139)/(1+'Curves without VA'!E139)-1","v":4.3197784094789915E-2},{"$f":"(1+'Curves without VA'!O139)*(1+O139)/(1+'Curves without VA'!F139)-1","v":4.7707069994713525E-2},{"$f":"(1+'Curves without VA'!P139)*(1+P139)/(1+'Curves without VA'!G139)-1","v":4.4958710332350105E-2},{"$f":"(1+'Curves without VA'!Q139)*(1+Q139)/(1+'Curves without VA'!H139)-1","v":4.2860340423811705E-2},{"$f":"(1+'Curves without VA'!R139)*(1+R139)/(1+'Curves without VA'!I139)-1","v":5.7680221257405906E-2},{"$f":"(1+'Curves without VA'!S139)*(1+S139)/(1+'Curves without VA'!J139)-1","v":4.5121993691810802E-2},{"$f":"(1+'Curves without VA'!T139)*(1+K139)/(1+'Curves without VA'!B139)-1","v":2.7241370560725509E-2},{"$f":"(1+'Curves without VA'!U139)*(1+L139)/(1+'Curves without VA'!C139)-1","v":3.032590005376834E-2},{"$f":"(1+'Curves without VA'!V139)*(1+M139)/(1+'Curves without VA'!D139)-1","v":2.5448350510177686E-2},{"$f":"(1+'Curves without VA'!W139)*(1+N139)/(1+'Curves without VA'!E139)-1","v":2.8967940435276507E-2},{"$f":"(1+'Curves without VA'!X139)*(1+O139)/(1+'Curves without VA'!F139)-1","v":2.4570309910073806E-2},{"$f":"(1+'Curves without VA'!Y139)*(1+P139)/(1+'Curves without VA'!G139)-1","v":2.9407756281373709E-2},{"$f":"(1+'Curves without VA'!Z139)*(1+Q139)/(1+'Curves without VA'!H139)-1","v":3.2749983706808816E-2},{"$f":"(1+'Curves without VA'!AA139)*(1+R139)/(1+'Curves without VA'!I139)-1","v":4.2550971828325901E-2},{"$f":"(1+'Curves without VA'!AB139)*(1+S139)/(1+'Curves without VA'!J139)-1","v":3.4038675069047564E-2}]
[127,{"$f":"($A140*LN(1+'Curves without VA'!B140)-IF(ISNUMBER($A139),$A139*LN(1+'Curves without VA'!B139),0)+($A140<=B$2)*LN(1+B$5/10000)+IF(ISNUMBER($A139),$A139*B139))/$A140","v":3.2786803843686277E-2},{"$f":"($A140*LN(1+'Curves without VA'!C140)-IF(ISNUMBER($A139),$A139*LN(1+'Curves without VA'!C139),0)+($A140<=C$2)*LN(1+C$5/10000)+IF(ISNUMBER($A139),$A139*C139))/$A140","v":3.3896029405700266E-2},{"$f":"($A140*LN(1+'Curves without VA'!D140)-IF(ISNUMBER($A139),$A139*LN(1+'Curves without VA'!D139),0)+($A140<=D$2)*LN(1+D$5/10000)+IF(ISNUMBER($A139),$A139*D139))/$A140","v":3.1668923445722114E-2},{"$f":"($A140*LN(1+'Curves without VA'!E140)-IF(ISNUMBER($A139),$A139*LN(1+'Curves without VA'!E139),0)+($A140<=E$2)*LN(1+E$5/10000)+IF(ISNUMBER($A139),$A139*E139))/$A140","v":3.6020505445099923E-2},{"$f":"($A140*LN(1+'Curves without VA'!F140)-IF(ISNUMBER($A139),$A139*LN(1+'Curves without VA'!F139),0)+($A140<=F$2)*LN(1+F$5/10000)+IF(ISNUMBER($A139),$A139*F139))/$A140","v":3.8114303472395812E-2},{"$f":"($A140*LN(1+'Curves without VA'!G140)-IF(ISNUMBER($A139),$A139*LN(1+'Curves without VA'!G139),0)+($A140<=G$2)*LN(1+G$5/10000)+IF(ISNUMBER($A139),$A139*G139))/$A140","v":3.6907017711218321E-2},{"$f":"($A140*LN(1+'Curves without VA'!H140)-IF(ISNUMBER($A139),$A139*LN(1+'Curves without VA'!H139),0)+($A140<=H$2)*LN(1+H$5/10000)+IF(ISNUMBER($A139),$A139*H139))/$A140","v":3.3985879229859683E-2},{"$f":"($A140*LN(1+'Curves without VA'!I140)-IF(ISNUMBER($A139),$A139*LN(1+'Curves without VA'!I139),0)+($A140<=I$2)*LN(1+I$5/10000)+IF(ISNUMBER($A139),$A139*I139))/$A140","v":4.3996874678479882E-2},{"$f":"($A140*LN(1+'Curves without VA'!J140)-IF(ISNUMBER($A139),$A139*LN(1+'Curves without VA'!J139),0)+($A140<=J$2)*LN(1+J$5/10000)+IF(ISNUMBER($A139),$A139*J139))/$A140","v":3.5079202171509657E-2},3.3403698098958268E-2,3.5666487166030825E-2,3.2705692056479441E-2,3.7592831092386092E-2,3.9338820180071732E-2,3.8679548941408015E-2,3.6640303883602732E-2,4.8430444465195954E-2,3.8194634865382104E-2,{"$f":"(1+'Curves without VA'!K140)*(1+K140)/(1+'Curves without VA'!B140)-1","v":3.7808427919664656E-2},{"$f":"(1+'Curves without VA'!L140)*(1+L140)/(1+'Curves without VA'!C140)-1","v":4.1758619401052854E-2},{"$f":"(1+'Curves without VA'!M140)*(1+M140)/(1+'Curves without VA'!D140)-1","v":3.7775760356556498E-2},{"$f":"(1+'Curves without VA'!N140)*(1+N140)/(1+'Curves without VA'!E140)-1","v":4.3129017342277809E-2},{"$f":"(1+'Curves without VA'!O140)*(1+O140)/(1+'Curves without VA'!F140)-1","v":4.7602457997005576E-2},{"$f":"(1+'Curves without VA'!P140)*(1+P140)/(1+'Curves without VA'!G140)-1","v":4.4875952715560219E-2},{"$f":"(1+'Curves without VA'!Q140)*(1+Q140)/(1+'Curves without VA'!H140)-1","v":4.2794249227823045E-2},{"$f":"(1+'Curves without VA'!R140)*(1+R140)/(1+'Curves without VA'!I140)-1","v":5.7567820457068652E-2},{"$f":"(1+'Curves without VA'!S140)*(1+S140)/(1+'Curves without VA'!J140)-1","v":4.5037933094004945E-2},{"$f":"(1+'Curves without VA'!T140)*(1+K140)/(1+'Curves without VA'!B140)-1","v":2.7274832988999131E-2},{"$f":"(1+'Curves without VA'!U140)*(1+L140)/(1+'Curves without VA'!C140)-1","v":3.0335139764672503E-2},{"$f":"(1+'Curves without VA'!V140)*(1+M140)/(1+'Curves without VA'!D140)-1","v":2.5488028622392411E-2},{"$f":"(1+'Curves without VA'!W140)*(1+N140)/(1+'Curves without VA'!E140)-1","v":2.8987852895966171E-2},{"$f":"(1+'Curves without VA'!X140)*(1+O140)/(1+'Curves without VA'!F140)-1","v":2.4624649803014487E-2},{"$f":"(1+'Curves without VA'!Y140)*(1+P140)/(1+'Curves without VA'!G140)-1","v":2.9424214166407392E-2},{"$f":"(1+'Curves without VA'!Z140)*(1+Q140)/(1+'Curves without VA'!H140)-1","v":3.2740135890038102E-2},{"$f":"(1+'Curves without VA'!AA140)*(1+R140)/(1+'Curves without VA'!I140)-1","v":4.2534808038612537E-2},{"$f":"(1+'Curves without VA'!AB140)*(1+S140)/(1+'Curves without VA'!J140)-1","v":3.4018661781458182E-2}]
[128,{"$f":"($A141*LN(1+'Curves without VA'!B141)-IF(ISNUMBER($A140),$A140*LN(1+'Curves without VA'!B140),0)+($A141<=B$2)*LN(1+B$5/10000)+IF(ISNUMBER($A140),$A140*B140))/$A141","v":3.2784306848993645E-2},{"$f":"($A141*LN(1+'Curves without VA'!C141)-IF(ISNUMBER($A140),$A140*LN(1+'Curves without VA'!C140),0)+($A141<=C$2)*LN(1+C$5/10000)+IF(ISNUMBER($A140),$A140*C140))/$A141","v":3.3884866591640403E-2},{"$f":"($A141*LN(1+'Curves without VA'!D141)-IF(ISNUMBER($A140),$A140*LN(1+'Curves without VA'!D140),0)+($A141<=D$2)*LN(1+D$5/10000)+IF(ISNUMBER($A140),$A140*D140))/$A141","v":3.1667593446272277E-2},{"$f":"($A141*LN(1+'Curves without VA'!E141)-IF(ISNUMBER($A140),$A140*LN(1+'Curves without VA'!E140),0)+($A141<=E$2)*LN(1+E$5/10000)+IF(ISNUMBER($A140),$A140*E140))/$A141","v":3.599274513136743E-2},{"$f":"($A141*LN(1+'Curves without VA'!F141)-IF(ISNUMBER($A140),$A140*LN(1+'Curves without VA'!F140),0)+($A141<=F$2)*LN(1+F$5/10000)+IF(ISNUMBER($A140),$A140*F140))/$A141","v":3.8070185057491802E-2},{"$f":"($A141*LN(1+'Curves without VA'!G141)-IF(ISNUMBER($A140),$A140*LN(1+'Curves without VA'!G140),0)+($A141<=G$2)*LN(1+G$5/10000)+IF(ISNUMBER($A140),$A140*G140))/$A141","v":3.6872331520406768E-2},{"$f":"($A141*LN(1+'Curves without VA'!H141)-IF(ISNUMBER($A140),$A140*LN(1+'Curves without VA'!H140),0)+($A141<=H$2)*LN(1+H$5/10000)+IF(ISNUMBER($A140),$A140*H140))/$A141","v":3.3974014467127153E-2},{"$f":"($A141*LN(1+'Curves without VA'!I141)-IF(ISNUMBER($A140),$A140*LN(1+'Curves without VA'!I140),0)+($A141<=I$2)*LN(1+I$5/10000)+IF(ISNUMBER($A140),$A140*I140))/$A141","v":4.3974570233718611E-2},{"$f":"($A141*LN(1+'Curves without VA'!J141)-IF(ISNUMBER($A140),$A140*LN(1+'Curves without VA'!J140),0)+($A141<=J$2)*LN(1+J$5/10000)+IF(ISNUMBER($A140),$A140*J140))/$A141","v":3.5058795823295325E-2},3.3400543641881164E-2,3.5645629122668998E-2,3.2700178373046951E-2,3.7556872734393121E-2,3.9289157944547348E-2,3.8635059223824708E-2,3.6611814895512795E-2,4.8380054417757501E-2,3.8153951368073757E-2,{"$f":"(1+'Curves without VA'!K141)*(1+K141)/(1+'Curves without VA'!B141)-1","v":3.7782540310550949E-2},{"$f":"(1+'Curves without VA'!L141)*(1+L141)/(1+'Curves without VA'!C141)-1","v":4.1701716087163554E-2},{"$f":"(1+'Curves without VA'!M141)*(1+M141)/(1+'Curves without VA'!D141)-1","v":3.7742290981285453E-2},{"$f":"(1+'Curves without VA'!N141)*(1+N141)/(1+'Curves without VA'!E141)-1","v":4.3061329024981276E-2},{"$f":"(1+'Curves without VA'!O141)*(1+O141)/(1+'Curves without VA'!F141)-1","v":4.7499486995392637E-2},{"$f":"(1+'Curves without VA'!P141)*(1+P141)/(1+'Curves without VA'!G141)-1","v":4.4794493963085991E-2},{"$f":"(1+'Curves without VA'!Q141)*(1+Q141)/(1+'Curves without VA'!H141)-1","v":4.2729194647860069E-2},{"$f":"(1+'Curves without VA'!R141)*(1+R141)/(1+'Curves without VA'!I141)-1","v":5.7457187198603155E-2},{"$f":"(1+'Curves without VA'!S141)*(1+S141)/(1+'Curves without VA'!J141)-1","v":4.4955192371779917E-2},{"$f":"(1+'Curves without VA'!T141)*(1+K141)/(1+'Curves without VA'!B141)-1","v":2.7307773767447419E-2},{"$f":"(1+'Curves without VA'!U141)*(1+L141)/(1+'Curves without VA'!C141)-1","v":3.0344235180701284E-2},{"$f":"(1+'Curves without VA'!V141)*(1+M141)/(1+'Curves without VA'!D141)-1","v":2.5527088446310353E-2},{"$f":"(1+'Curves without VA'!W141)*(1+N141)/(1+'Curves without VA'!E141)-1","v":2.9007454675047617E-2},{"$f":"(1+'Curves without VA'!X141)*(1+O141)/(1+'Curves without VA'!F141)-1","v":2.4678147826437513E-2},{"$f":"(1+'Curves without VA'!Y141)*(1+P141)/(1+'Curves without VA'!G141)-1","v":2.9440415142330201E-2},{"$f":"(1+'Curves without VA'!Z141)*(1+Q141)/(1+'Curves without VA'!H141)-1","v":3.2730441986598802E-2},{"$f":"(1+'Curves without VA'!AA141)*(1+R141)/(1+'Curves without VA'!I141)-1","v":4.2518896910731963E-2},{"$f":"(1+'Curves without VA'!AB141)*(1+S141)/(1+'Curves without VA'!J141)-1","v":3.3998961511107817E-2}]
[129,{"$f":"($A142*LN(1+'Curves without VA'!B142)-IF(ISNUMBER($A141),$A141*LN(1+'Curves without VA'!B141),0)+($A142<=B$2)*LN(1+B$5/10000)+IF(ISNUMBER($A141),$A141*B141))/$A142","v":3.27818485687007E-2},{"$f":"($A142*LN(1+'Curves without VA'!C142)-IF(ISNUMBER($A141),$A141*LN(1+'Curves without VA'!C141),0)+($A142<=C$2)*LN(1+C$5/10000)+IF(ISNUMBER($A141),$A141*C141))/$A142","v":3.3873876845217185E-2},{"$f":"($A142*LN(1+'Curves without VA'!D142)-IF(ISNUMBER($A141),$A141*LN(1+'Curves without VA'!D141),0)+($A142<=D$2)*LN(1+D$5/10000)+IF(ISNUMBER($A141),$A141*D141))/$A142","v":3.1666284053680126E-2},{"$f":"($A142*LN(1+'Curves without VA'!E142)-IF(ISNUMBER($A141),$A141*LN(1+'Curves without VA'!E141),0)+($A142<=E$2)*LN(1+E$5/10000)+IF(ISNUMBER($A141),$A141*E141))/$A142","v":3.5965415214012413E-2},{"$f":"($A142*LN(1+'Curves without VA'!F142)-IF(ISNUMBER($A141),$A141*LN(1+'Curves without VA'!F141),0)+($A142<=F$2)*LN(1+F$5/10000)+IF(ISNUMBER($A141),$A141*F141))/$A142","v":3.8026750684366506E-2},{"$f":"($A142*LN(1+'Curves without VA'!G142)-IF(ISNUMBER($A141),$A141*LN(1+'Curves without VA'!G141),0)+($A142<=G$2)*LN(1+G$5/10000)+IF(ISNUMBER($A141),$A141*G141))/$A142","v":3.6838183103911772E-2},{"$f":"($A142*LN(1+'Curves without VA'!H142)-IF(ISNUMBER($A141),$A141*LN(1+'Curves without VA'!H141),0)+($A142<=H$2)*LN(1+H$5/10000)+IF(ISNUMBER($A141),$A141*H141))/$A142","v":3.3962333654638396E-2},{"$f":"($A142*LN(1+'Curves without VA'!I142)-IF(ISNUMBER($A141),$A141*LN(1+'Curves without VA'!I141),0)+($A142<=I$2)*LN(1+I$5/10000)+IF(ISNUMBER($A141),$A141*I141))/$A142","v":4.3952611624649585E-2},{"$f":"($A142*LN(1+'Curves without VA'!J142)-IF(ISNUMBER($A141),$A141*LN(1+'Curves without VA'!J141),0)+($A142<=J$2)*LN(1+J$5/10000)+IF(ISNUMBER($A141),$A141*J141))/$A142","v":3.5038705853006835E-2},3.3397438095797982E-2,3.5625094814240477E-2,3.2694750056555533E-2,3.7521472864369798E-2,3.9240266925720801E-2,3.8591260866020605E-2,3.658376830544996E-2,4.8330447844263658E-2,3.8113900111857113E-2,{"$f":"(1+'Curves without VA'!K142)*(1+K142)/(1+'Curves without VA'!B142)-1","v":3.7757054644245391E-2},{"$f":"(1+'Curves without VA'!L142)*(1+L142)/(1+'Curves without VA'!C142)-1","v":4.1645697868249343E-2},{"$f":"(1+'Curves without VA'!M142)*(1+M142)/(1+'Curves without VA'!D142)-1","v":3.7709341207144087E-2},{"$f":"(1+'Curves without VA'!N142)*(1+N142)/(1+'Curves without VA'!E142)-1","v":4.2994694009508061E-2},{"$f":"(1+'Curves without VA'!O142)*(1+O142)/(1+'Curves without VA'!F142)-1","v":4.7398118981312631E-2},{"$f":"(1+'Curves without VA'!P142)*(1+P142)/(1+'Curves without VA'!G142)-1","v":4.4714303785297504E-2},{"$f":"(1+'Curves without VA'!Q142)*(1+Q142)/(1+'Curves without VA'!H142)-1","v":4.2665152497435077E-2},{"$f":"(1+'Curves without VA'!R142)*(1+R142)/(1+'Curves without VA'!I142)-1","v":5.7348280146116037E-2},{"$f":"(1+'Curves without VA'!S142)*(1+S142)/(1+'Curves without VA'!J142)-1","v":4.4873740695567932E-2},{"$f":"(1+'Curves without VA'!T142)*(1+K142)/(1+'Curves without VA'!B142)-1","v":2.7340204988884453E-2},{"$f":"(1+'Curves without VA'!U142)*(1+L142)/(1+'Curves without VA'!C142)-1","v":3.0353189656232127E-2},{"$f":"(1+'Curves without VA'!V142)*(1+M142)/(1+'Curves without VA'!D142)-1","v":2.5565544307317278E-2},{"$f":"(1+'Curves without VA'!W142)*(1+N142)/(1+'Curves without VA'!E142)-1","v":2.902675298132773E-2},{"$f":"(1+'Curves without VA'!X142)*(1+O142)/(1+'Curves without VA'!F142)-1","v":2.4730823042192984E-2},{"$f":"(1+'Curves without VA'!Y142)*(1+P142)/(1+'Curves without VA'!G142)-1","v":2.9456365179050037E-2},{"$f":"(1+'Curves without VA'!Z142)*(1+Q142)/(1+'Curves without VA'!H142)-1","v":3.2720898420217193E-2},{"$f":"(1+'Curves without VA'!AA142)*(1+R142)/(1+'Curves without VA'!I142)-1","v":4.2503232577874916E-2},{"$f":"(1+'Curves without VA'!AB142)*(1+S142)/(1+'Curves without VA'!J142)-1","v":3.3979566976892084E-2}]
[130,{"$f":"($A143*LN(1+'Curves without VA'!B143)-IF(ISNUMBER($A142),$A142*LN(1+'Curves without VA'!B142),0)+($A143<=B$2)*LN(1+B$5/10000)+IF(ISNUMBER($A142),$A142*B142))/$A143","v":3.2779428109263403E-2},{"$f":"($A143*LN(1+'Curves without VA'!C143)-IF(ISNUMBER($A142),$A142*LN(1+'Curves without VA'!C142),0)+($A143<=C$2)*LN(1+C$5/10000)+IF(ISNUMBER($A142),$A142*C142))/$A143","v":3.3863056172484467E-2},{"$f":"($A143*LN(1+'Curves without VA'!D143)-IF(ISNUMBER($A142),$A142*LN(1+'Curves without VA'!D142),0)+($A143<=D$2)*LN(1+D$5/10000)+IF(ISNUMBER($A142),$A142*D142))/$A143","v":3.1664994793776477E-2},{"$f":"($A143*LN(1+'Curves without VA'!E143)-IF(ISNUMBER($A142),$A142*LN(1+'Curves without VA'!E142),0)+($A143<=E$2)*LN(1+E$5/10000)+IF(ISNUMBER($A142),$A142*E142))/$A143","v":3.5938505760405713E-2},{"$f":"($A143*LN(1+'Curves without VA'!F143)-IF(ISNUMBER($A142),$A142*LN(1+'Curves without VA'!F142),0)+($A143<=F$2)*LN(1+F$5/10000)+IF(ISNUMBER($A142),$A142*F142))/$A143","v":3.7983984563786488E-2},{"$f":"($A143*LN(1+'Curves without VA'!G143)-IF(ISNUMBER($A142),$A142*LN(1+'Curves without VA'!G142),0)+($A143<=G$2)*LN(1+G$5/10000)+IF(ISNUMBER($A142),$A142*G142))/$A143","v":3.6804560051152152E-2},{"$f":"($A143*LN(1+'Curves without VA'!H143)-IF(ISNUMBER($A142),$A142*LN(1+'Curves without VA'!H142),0)+($A143<=H$2)*LN(1+H$5/10000)+IF(ISNUMBER($A142),$A142*H142))/$A143","v":3.3950832547342817E-2},{"$f":"($A143*LN(1+'Curves without VA'!I143)-IF(ISNUMBER($A142),$A142*LN(1+'Curves without VA'!I142),0)+($A143<=I$2)*LN(1+I$5/10000)+IF(ISNUMBER($A142),$A142*I142))/$A143","v":4.3930990867312426E-2},{"$f":"($A143*LN(1+'Curves without VA'!J143)-IF(ISNUMBER($A142),$A142*LN(1+'Curves without VA'!J142),0)+($A143<=J$2)*LN(1+J$5/10000)+IF(ISNUMBER($A142),$A142*J142))/$A143","v":3.5018924959570014E-2},3.3394380332266715E-2,3.5604876766319515E-2,3.2689405151359097E-2,3.7486618589316789E-2,3.9192129382650265E-2,3.8548137898240187E-2,3.6556153892542742E-2,4.8281606624020146E-2,3.8074466477886704E-2,{"$f":"(1+'Curves without VA'!K143)*(1+K143)/(1+'Curves without VA'!B143)-1","v":3.773196163547099E-2},{"$f":"(1+'Curves without VA'!L143)*(1+L143)/(1+'Curves without VA'!C143)-1","v":4.1590544266250307E-2},{"$f":"(1+'Curves without VA'!M143)*(1+M143)/(1+'Curves without VA'!D143)-1","v":3.7676899056232616E-2},{"$f":"(1+'Curves without VA'!N143)*(1+N143)/(1+'Curves without VA'!E143)-1","v":4.2929087933874621E-2},{"$f":"(1+'Curves without VA'!O143)*(1+O143)/(1+'Curves without VA'!F143)-1","v":4.7298317082513419E-2},{"$f":"(1+'Curves without VA'!P143)*(1+P143)/(1+'Curves without VA'!G143)-1","v":4.463535282239639E-2},{"$f":"(1+'Curves without VA'!Q143)*(1+Q143)/(1+'Curves without VA'!H143)-1","v":4.2602099335551591E-2},{"$f":"(1+'Curves without VA'!R143)*(1+R143)/(1+'Curves without VA'!I143)-1","v":5.7241059239723446E-2},{"$f":"(1+'Curves without VA'!S143)*(1+S143)/(1+'Curves without VA'!J143)-1","v":4.4793548187214816E-2},{"$f":"(1+'Curves without VA'!T143)*(1+K143)/(1+'Curves without VA'!B143)-1","v":2.7372138376236865E-2},{"$f":"(1+'Curves without VA'!U143)*(1+L143)/(1+'Curves without VA'!C143)-1","v":3.0362006442431477E-2},{"$f":"(1+'Curves without VA'!V143)*(1+M143)/(1+'Curves without VA'!D143)-1","v":2.5603410093019585E-2},{"$f":"(1+'Curves without VA'!W143)*(1+N143)/(1+'Curves without VA'!E143)-1","v":2.9045754802862644E-2},{"$f":"(1+'Curves without VA'!X143)*(1+O143)/(1+'Curves without VA'!F143)-1","v":2.4782693974236158E-2},{"$f":"(1+'Curves without VA'!Y143)*(1+P143)/(1+'Curves without VA'!G143)-1","v":2.9472070062841249E-2},{"$f":"(1+'Curves without VA'!Z143)*(1+Q143)/(1+'Curves without VA'!H143)-1","v":3.2711501724183467E-2},{"$f":"(1+'Curves without VA'!AA143)*(1+R143)/(1+'Curves without VA'!I143)-1","v":4.2487809352400818E-2},{"$f":"(1+'Curves without VA'!AB143)*(1+S143)/(1+'Curves without VA'!J143)-1","v":3.3960471121274427E-2}]
[131,{"$f":"($A144*LN(1+'Curves without VA'!B144)-IF(ISNUMBER($A143),$A143*LN(1+'Curves without VA'!B143),0)+($A144<=B$2)*LN(1+B$5/10000)+IF(ISNUMBER($A143),$A143*B143))/$A144","v":3.2777044604435354E-2},{"$f":"($A144*LN(1+'Curves without VA'!C144)-IF(ISNUMBER($A143),$A143*LN(1+'Curves without VA'!C143),0)+($A144<=C$2)*LN(1+C$5/10000)+IF(ISNUMBER($A143),$A143*C143))/$A144","v":3.3852400701456703E-2},{"$f":"($A144*LN(1+'Curves without VA'!D144)-IF(ISNUMBER($A143),$A143*LN(1+'Curves without VA'!D143),0)+($A144<=D$2)*LN(1+D$5/10000)+IF(ISNUMBER($A143),$A143*D143))/$A144","v":3.1663725206728742E-2},{"$f":"($A144*LN(1+'Curves without VA'!E144)-IF(ISNUMBER($A143),$A143*LN(1+'Curves without VA'!E143),0)+($A144<=E$2)*LN(1+E$5/10000)+IF(ISNUMBER($A143),$A143*E143))/$A144","v":3.5912007141246857E-2},{"$f":"($A144*LN(1+'Curves without VA'!F144)-IF(ISNUMBER($A143),$A143*LN(1+'Curves without VA'!F143),0)+($A144<=F$2)*LN(1+F$5/10000)+IF(ISNUMBER($A143),$A143*F143))/$A144","v":3.7941871389010902E-2},{"$f":"($A144*LN(1+'Curves without VA'!G144)-IF(ISNUMBER($A143),$A143*LN(1+'Curves without VA'!G143),0)+($A144<=G$2)*LN(1+G$5/10000)+IF(ISNUMBER($A143),$A143*G143))/$A144","v":3.6771450330537206E-2},{"$f":"($A144*LN(1+'Curves without VA'!H144)-IF(ISNUMBER($A143),$A143*LN(1+'Curves without VA'!H143),0)+($A144<=H$2)*LN(1+H$5/10000)+IF(ISNUMBER($A143),$A143*H143))/$A144","v":3.393950702981452E-2},{"$f":"($A144*LN(1+'Curves without VA'!I144)-IF(ISNUMBER($A143),$A143*LN(1+'Curves without VA'!I143),0)+($A144<=I$2)*LN(1+I$5/10000)+IF(ISNUMBER($A143),$A143*I143))/$A144","v":4.3909700221855731E-2},{"$f":"($A144*LN(1+'Curves without VA'!J144)-IF(ISNUMBER($A143),$A143*LN(1+'Curves without VA'!J143),0)+($A144<=J$2)*LN(1+J$5/10000)+IF(ISNUMBER($A143),$A143*J143))/$A144","v":3.4999446064849227E-2},3.3391369257256942E-2,3.5584967732394279E-2,3.2684141759993679E-2,3.7452297408371527E-2,3.9144728106383475E-2,3.8505674836815107E-2,3.6528961747934519E-2,4.8233513189861243E-2,3.8035636294047936E-2,{"$f":"(1+'Curves without VA'!K144)*(1+K144)/(1+'Curves without VA'!B144)-1","v":3.7707252282416448E-2},{"$f":"(1+'Curves without VA'!L144)*(1+L144)/(1+'Curves without VA'!C144)-1","v":4.1536235428760282E-2},{"$f":"(1+'Curves without VA'!M144)*(1+M144)/(1+'Curves without VA'!D144)-1","v":3.7644952913288732E-2},{"$f":"(1+'Curves without VA'!N144)*(1+N144)/(1+'Curves without VA'!E144)-1","v":4.2864487178466248E-2},{"$f":"(1+'Curves without VA'!O144)*(1+O144)/(1+'Curves without VA'!F144)-1","v":4.7200045523592582E-2},{"$f":"(1+'Curves without VA'!P144)*(1+P144)/(1+'Curves without VA'!G144)-1","v":4.4557612609444019E-2},{"$f":"(1+'Curves without VA'!Q144)*(1+Q144)/(1+'Curves without VA'!H144)-1","v":4.2540012438308628E-2},{"$f":"(1+'Curves without VA'!R144)*(1+R144)/(1+'Curves without VA'!I144)-1","v":5.7135485646965911E-2},{"$f":"(1+'Curves without VA'!S144)*(1+S144)/(1+'Curves without VA'!J144)-1","v":4.471458588368038E-2},{"$f":"(1+'Curves without VA'!T144)*(1+K144)/(1+'Curves without VA'!B144)-1","v":2.7403585296483124E-2},{"$f":"(1+'Curves without VA'!U144)*(1+L144)/(1+'Curves without VA'!C144)-1","v":3.0370688691196746E-2},{"$f":"(1+'Curves without VA'!V144)*(1+M144)/(1+'Curves without VA'!D144)-1","v":2.5640699269712686E-2},{"$f":"(1+'Curves without VA'!W144)*(1+N144)/(1+'Curves without VA'!E144)-1","v":2.906446691528819E-2},{"$f":"(1+'Curves without VA'!X144)*(1+O144)/(1+'Curves without VA'!F144)-1","v":2.483377862426539E-2},{"$f":"(1+'Curves without VA'!Y144)*(1+P144)/(1+'Curves without VA'!G144)-1","v":2.948753540335991E-2},{"$f":"(1+'Curves without VA'!Z144)*(1+Q144)/(1+'Curves without VA'!H144)-1","v":3.2702248537223033E-2},{"$f":"(1+'Curves without VA'!AA144)*(1+R144)/(1+'Curves without VA'!I144)-1","v":4.2472621719151782E-2},{"$f":"(1+'Curves without VA'!AB144)*(1+S144)/(1+'Curves without VA'!J144)-1","v":3.3941667101816675E-2}]
[132,{"$f":"($A145*LN(1+'Curves without VA'!B145)-IF(ISNUMBER($A144),$A144*LN(1+'Curves without VA'!B144),0)+($A145<=B$2)*LN(1+B$5/10000)+IF(ISNUMBER($A144),$A144*B144))/$A145","v":3.2774697214233012E-2},{"$f":"($A145*LN(1+'Curves without VA'!C145)-IF(ISNUMBER($A144),$A144*LN(1+'Curves without VA'!C144),0)+($A145<=C$2)*LN(1+C$5/10000)+IF(ISNUMBER($A144),$A144*C144))/$A145","v":3.3841906677488036E-2},{"$f":"($A145*LN(1+'Curves without VA'!D145)-IF(ISNUMBER($A144),$A144*LN(1+'Curves without VA'!D144),0)+($A145<=D$2)*LN(1+D$5/10000)+IF(ISNUMBER($A144),$A144*D144))/$A145","v":3.1662474846511884E-2},{"$f":"($A145*LN(1+'Curves without VA'!E145)-IF(ISNUMBER($A144),$A144*LN(1+'Curves without VA'!E144),0)+($A145<=E$2)*LN(1+E$5/10000)+IF(ISNUMBER($A144),$A144*E144))/$A145","v":3.5885910019069447E-2},{"$f":"($A145*LN(1+'Curves without VA'!F145)-IF(ISNUMBER($A144),$A144*LN(1+'Curves without VA'!F144),0)+($A145<=F$2)*LN(1+F$5/10000)+IF(ISNUMBER($A144),$A144*F144))/$A145","v":3.7900396317474473E-2},{"$f":"($A145*LN(1+'Curves without VA'!G145)-IF(ISNUMBER($A144),$A144*LN(1+'Curves without VA'!G144),0)+($A145<=G$2)*LN(1+G$5/10000)+IF(ISNUMBER($A144),$A144*G144))/$A145","v":3.6738842275107597E-2},{"$f":"($A145*LN(1+'Curves without VA'!H145)-IF(ISNUMBER($A144),$A144*LN(1+'Curves without VA'!H144),0)+($A145<=H$2)*LN(1+H$5/10000)+IF(ISNUMBER($A144),$A144*H144))/$A145","v":3.3928353111341653E-2},{"$f":"($A145*LN(1+'Curves without VA'!I145)-IF(ISNUMBER($A144),$A144*LN(1+'Curves without VA'!I144),0)+($A145<=I$2)*LN(1+I$5/10000)+IF(ISNUMBER($A144),$A144*I144))/$A145","v":4.3888732183257534E-2},{"$f":"($A145*LN(1+'Curves without VA'!J145)-IF(ISNUMBER($A144),$A144*LN(1+'Curves without VA'!J144),0)+($A145<=J$2)*LN(1+J$5/10000)+IF(ISNUMBER($A144),$A144*J144))/$A145","v":3.4980262305201786E-2},3.3388403809852418E-2,3.5565360685284819E-2,3.2678958041131967E-2,3.7418497198170586E-2,3.9098046400918962E-2,3.8463856665996721E-2,3.6502182263007166E-2,4.8186150507268266E-2,3.7997395818071045E-2,{"$f":"(1+'Curves without VA'!K145)*(1+K145)/(1+'Curves without VA'!B145)-1","v":3.7682917856028952E-2},{"$f":"(1+'Curves without VA'!L145)*(1+L145)/(1+'Curves without VA'!C145)-1","v":4.1482752105427512E-2},{"$f":"(1+'Curves without VA'!M145)*(1+M145)/(1+'Curves without VA'!D145)-1","v":3.7613491512317632E-2},{"$f":"(1+'Curves without VA'!N145)*(1+N145)/(1+'Curves without VA'!E145)-1","v":4.2800868838269945E-2},{"$f":"(1+'Curves without VA'!O145)*(1+O145)/(1+'Curves without VA'!F145)-1","v":4.7103269587911001E-2},{"$f":"(1+'Curves without VA'!P145)*(1+P145)/(1+'Curves without VA'!G145)-1","v":4.4481055542920256E-2},{"$f":"(1+'Curves without VA'!Q145)*(1+Q145)/(1+'Curves without VA'!H145)-1","v":4.2478869771779282E-2},{"$f":"(1+'Curves without VA'!R145)*(1+R145)/(1+'Curves without VA'!I145)-1","v":5.7031521716396805E-2},{"$f":"(1+'Curves without VA'!S145)*(1+S145)/(1+'Curves without VA'!J145)-1","v":4.4636825702379035E-2},{"$f":"(1+'Curves without VA'!T145)*(1+K145)/(1+'Curves without VA'!B145)-1","v":2.7434556773975549E-2},{"$f":"(1+'Curves without VA'!U145)*(1+L145)/(1+'Curves without VA'!C145)-1","v":3.0379239458921736E-2},{"$f":"(1+'Curves without VA'!V145)*(1+M145)/(1+'Curves without VA'!D145)-1","v":2.5677424898122192E-2},{"$f":"(1+'Curves without VA'!W145)*(1+N145)/(1+'Curves without VA'!E145)-1","v":2.9082895889786631E-2},{"$f":"(1+'Curves without VA'!X145)*(1+O145)/(1+'Curves without VA'!F145)-1","v":2.4884094487151787E-2},{"$f":"(1+'Curves without VA'!Y145)*(1+P145)/(1+'Curves without VA'!G145)-1","v":2.9502766640339351E-2},{"$f":"(1+'Curves without VA'!Z145)*(1+Q145)/(1+'Curves without VA'!H145)-1","v":3.269313559954945E-2},{"$f":"(1+'Curves without VA'!AA145)*(1+R145)/(1+'Curves without VA'!I145)-1","v":4.2457664329052625E-2},{"$f":"(1+'Curves without VA'!AB145)*(1+S145)/(1+'Curves without VA'!J145)-1","v":3.3923148283090621E-2}]
[133,{"$f":"($A146*LN(1+'Curves without VA'!B146)-IF(ISNUMBER($A145),$A145*LN(1+'Curves without VA'!B145),0)+($A146<=B$2)*LN(1+B$5/10000)+IF(ISNUMBER($A145),$A145*B145))/$A146","v":3.2772385123945695E-2},{"$f":"($A146*LN(1+'Curves without VA'!C146)-IF(ISNUMBER($A145),$A145*LN(1+'Curves without VA'!C145),0)+($A146<=C$2)*LN(1+C$5/10000)+IF(ISNUMBER($A145),$A145*C145))/$A146","v":3.3831570458860927E-2},{"$f":"($A146*LN(1+'Curves without VA'!D146)-IF(ISNUMBER($A145),$A145*LN(1+'Curves without VA'!D145),0)+($A146<=D$2)*LN(1+D$5/10000)+IF(ISNUMBER($A145),$A145*D145))/$A146","v":3.1661243280403623E-2},{"$f":"($A146*LN(1+'Curves without VA'!E146)-IF(ISNUMBER($A145),$A145*LN(1+'Curves without VA'!E145),0)+($A146<=E$2)*LN(1+E$5/10000)+IF(ISNUMBER($A145),$A145*E145))/$A146","v":3.5860205337265909E-2},{"$f":"($A146*LN(1+'Curves without VA'!F146)-IF(ISNUMBER($A145),$A145*LN(1+'Curves without VA'!F145),0)+($A146<=F$2)*LN(1+F$5/10000)+IF(ISNUMBER($A145),$A145*F145))/$A146","v":3.7859544953303917E-2},{"$f":"($A146*LN(1+'Curves without VA'!G146)-IF(ISNUMBER($A145),$A145*LN(1+'Curves without VA'!G145),0)+($A146<=G$2)*LN(1+G$5/10000)+IF(ISNUMBER($A145),$A145*G145))/$A146","v":3.6706724568822617E-2},{"$f":"($A146*LN(1+'Curves without VA'!H146)-IF(ISNUMBER($A145),$A145*LN(1+'Curves without VA'!H145),0)+($A146<=H$2)*LN(1+H$5/10000)+IF(ISNUMBER($A145),$A145*H145))/$A146","v":3.3917366921237001E-2},{"$f":"($A146*LN(1+'Curves without VA'!I146)-IF(ISNUMBER($A145),$A145*LN(1+'Curves without VA'!I145),0)+($A146<=I$2)*LN(1+I$5/10000)+IF(ISNUMBER($A145),$A145*I145))/$A146","v":4.3868079472467389E-2},{"$f":"($A146*LN(1+'Curves without VA'!J146)-IF(ISNUMBER($A145),$A145*LN(1+'Curves without VA'!J145),0)+($A146<=J$2)*LN(1+J$5/10000)+IF(ISNUMBER($A145),$A145*J145))/$A146","v":3.4961367023413945E-2},3.3385482961010293E-2,3.5546048808942299E-2,3.2673852207616871E-2,3.7385206198847332E-2,3.9052068064905354E-2,3.8422668820579764E-2,3.6475806118130727E-2,4.8139502054416416E-2,3.7959731721399548E-2,{"$f":"(1+'Curves without VA'!K146)*(1+K146)/(1+'Curves without VA'!B146)-1","v":3.7658949889794124E-2},{"$f":"(1+'Curves without VA'!L146)*(1+L146)/(1+'Curves without VA'!C146)-1","v":4.1430075625406459E-2},{"$f":"(1+'Curves without VA'!M146)*(1+M146)/(1+'Curves without VA'!D146)-1","v":3.7582503923791144E-2},{"$f":"(1+'Curves without VA'!N146)*(1+N146)/(1+'Curves without VA'!E146)-1","v":4.2738210696318779E-2},{"$f":"(1+'Curves without VA'!O146)*(1+O146)/(1+'Curves without VA'!F146)-1","v":4.7007955580848915E-2},{"$f":"(1+'Curves without VA'!P146)*(1+P146)/(1+'Curves without VA'!G146)-1","v":4.4405654848731935E-2},{"$f":"(1+'Curves without VA'!Q146)*(1+Q146)/(1+'Curves without VA'!H146)-1","v":4.2418649966106781E-2},{"$f":"(1+'Curves without VA'!R146)*(1+R146)/(1+'Curves without VA'!I146)-1","v":5.6929130933240035E-2},{"$f":"(1+'Curves without VA'!S146)*(1+S146)/(1+'Curves without VA'!J146)-1","v":4.4560240408074936E-2},{"$f":"(1+'Curves without VA'!T146)*(1+K146)/(1+'Curves without VA'!B146)-1","v":2.7465063503179898E-2},{"$f":"(1+'Curves without VA'!U146)*(1+L146)/(1+'Curves without VA'!C146)-1","v":3.038766171008711E-2},{"$f":"(1+'Curves without VA'!V146)*(1+M146)/(1+'Curves without VA'!D146)-1","v":2.5713599648457652E-2},{"$f":"(1+'Curves without VA'!W146)*(1+N146)/(1+'Curves without VA'!E146)-1","v":2.9101048100698135E-2},{"$f":"(1+'Curves without VA'!X146)*(1+O146)/(1+'Curves without VA'!F146)-1","v":2.4933658566114403E-2},{"$f":"(1+'Curves without VA'!Y146)*(1+P146)/(1+'Curves without VA'!G146)-1","v":2.9517769049982601E-2},{"$f":"(1+'Curves without VA'!Z146)*(1+Q146)/(1+'Curves without VA'!H146)-1","v":3.268415974909411E-2},{"$f":"(1+'Curves without VA'!AA146)*(1+R146)/(1+'Curves without VA'!I146)-1","v":4.2442931992984878E-2},{"$f":"(1+'Curves without VA'!AB146)*(1+S146)/(1+'Curves without VA'!J146)-1","v":3.3904908228945763E-2}]
[134,{"$f":"($A147*LN(1+'Curves without VA'!B147)-IF(ISNUMBER($A146),$A146*LN(1+'Curves without VA'!B146),0)+($A147<=B$2)*LN(1+B$5/10000)+IF(ISNUMBER($A146),$A146*B146))/$A147","v":3.2770107543192838E-2},{"$f":"($A147*LN(1+'Curves without VA'!C147)-IF(ISNUMBER($A146),$A146*LN(1+'Curves without VA'!C146),0)+($A147<=C$2)*LN(1+C$5/10000)+IF(ISNUMBER($A146),$A146*C146))/$A147","v":3.3821388512571493E-2},{"$f":"($A147*LN(1+'Curves without VA'!D147)-IF(ISNUMBER($A146),$A146*LN(1+'Curves without VA'!D146),0)+($A147<=D$2)*LN(1+D$5/10000)+IF(ISNUMBER($A146),$A146*D146))/$A147","v":3.1660030088497951E-2},{"$f":"($A147*LN(1+'Curves without VA'!E147)-IF(ISNUMBER($A146),$A146*LN(1+'Curves without VA'!E146),0)+($A147<=E$2)*LN(1+E$5/10000)+IF(ISNUMBER($A146),$A146*E146))/$A147","v":3.5834884309604763E-2},{"$f":"($A147*LN(1+'Curves without VA'!F147)-IF(ISNUMBER($A146),$A146*LN(1+'Curves without VA'!F146),0)+($A147<=F$2)*LN(1+F$5/10000)+IF(ISNUMBER($A146),$A146*F146))/$A147","v":3.7819303330618413E-2},{"$f":"($A147*LN(1+'Curves without VA'!G147)-IF(ISNUMBER($A146),$A146*LN(1+'Curves without VA'!G146),0)+($A147<=G$2)*LN(1+G$5/10000)+IF(ISNUMBER($A146),$A146*G146))/$A147","v":3.6675086233463286E-2},{"$f":"($A147*LN(1+'Curves without VA'!H147)-IF(ISNUMBER($A146),$A146*LN(1+'Curves without VA'!H146),0)+($A147<=H$2)*LN(1+H$5/10000)+IF(ISNUMBER($A146),$A146*H146))/$A147","v":3.3906544704360275E-2},{"$f":"($A147*LN(1+'Curves without VA'!I147)-IF(ISNUMBER($A146),$A146*LN(1+'Curves without VA'!I146),0)+($A147<=I$2)*LN(1+I$5/10000)+IF(ISNUMBER($A146),$A146*I146))/$A147","v":4.3847735027947483E-2},{"$f":"($A147*LN(1+'Curves without VA'!J147)-IF(ISNUMBER($A146),$A146*LN(1+'Curves without VA'!J146),0)+($A147<=J$2)*LN(1+J$5/10000)+IF(ISNUMBER($A146),$A146*J146))/$A147","v":3.4942753760998639E-2},3.3382605712375391E-2,3.5527025490609487E-2,3.26688225245646E-2,3.735241300063441E-2,3.9006777374057666E-2,3.838209716927854E-2,3.644982427191179E-2,4.8093551803105816E-2,3.7922631073775914E-2,{"$f":"(1+'Curves without VA'!K147)*(1+K147)/(1+'Curves without VA'!B147)-1","v":3.7635340169962284E-2},{"$f":"(1+'Curves without VA'!L147)*(1+L147)/(1+'Curves without VA'!C147)-1","v":4.1378187875805272E-2},{"$f":"(1+'Curves without VA'!M147)*(1+M147)/(1+'Curves without VA'!D147)-1","v":3.7551979542380876E-2},{"$f":"(1+'Curves without VA'!N147)*(1+N147)/(1+'Curves without VA'!E147)-1","v":4.2676491198282207E-2},{"$f":"(1+'Curves without VA'!O147)*(1+O147)/(1+'Curves without VA'!F147)-1","v":4.6914070794376261E-2},{"$f":"(1+'Curves without VA'!P147)*(1+P147)/(1+'Curves without VA'!G147)-1","v":4.4331384551604902E-2},{"$f":"(1+'Curves without VA'!Q147)*(1+Q147)/(1+'Curves without VA'!H147)-1","v":4.2359332290745844E-2},{"$f":"(1+'Curves without VA'!R147)*(1+R147)/(1+'Curves without VA'!I147)-1","v":5.6828277877011724E-2},{"$f":"(1+'Curves without VA'!S147)*(1+S147)/(1+'Curves without VA'!J147)-1","v":4.4484803581246402E-2},{"$f":"(1+'Curves without VA'!T147)*(1+K147)/(1+'Curves without VA'!B147)-1","v":2.7495115860851405E-2},{"$f":"(1+'Curves without VA'!U147)*(1+L147)/(1+'Curves without VA'!C147)-1","v":3.0395958320693417E-2},{"$f":"(1+'Curves without VA'!V147)*(1+M147)/(1+'Curves without VA'!D147)-1","v":2.574923581480637E-2},{"$f":"(1+'Curves without VA'!W147)*(1+N147)/(1+'Curves without VA'!E147)-1","v":2.9118929732798726E-2},{"$f":"(1+'Curves without VA'!X147)*(1+O147)/(1+'Curves without VA'!F147)-1","v":2.4982487387614771E-2},{"$f":"(1+'Curves without VA'!Y147)*(1+P147)/(1+'Curves without VA'!G147)-1","v":2.953254775106573E-2},{"$f":"(1+'Curves without VA'!Z147)*(1+Q147)/(1+'Curves without VA'!H147)-1","v":3.2675317917891578E-2},{"$f":"(1+'Curves without VA'!AA147)*(1+R147)/(1+'Curves without VA'!I147)-1","v":4.2428419675922369E-2},{"$f":"(1+'Curves without VA'!AB147)*(1+S147)/(1+'Curves without VA'!J147)-1","v":3.3886940695117662E-2}]
[135,{"$f":"($A148*LN(1+'Curves without VA'!B148)-IF(ISNUMBER($A147),$A147*LN(1+'Curves without VA'!B147),0)+($A148<=B$2)*LN(1+B$5/10000)+IF(ISNUMBER($A147),$A147*B147))/$A148","v":3.2767863705020821E-2},{"$f":"($A148*LN(1+'Curves without VA'!C148)-IF(ISNUMBER($A147),$A147*LN(1+'Curves without VA'!C147),0)+($A148<=C$2)*LN(1+C$5/10000)+IF(ISNUMBER($A147),$A147*C147))/$A148","v":3.3811357410302265E-2},{"$f":"($A148*LN(1+'Curves without VA'!D148)-IF(ISNUMBER($A147),$A147*LN(1+'Curves without VA'!D147),0)+($A148<=D$2)*LN(1+D$5/10000)+IF(ISNUMBER($A147),$A147*D147))/$A148","v":3.1658834863242842E-2},{"$f":"($A148*LN(1+'Curves without VA'!E148)-IF(ISNUMBER($A147),$A147*LN(1+'Curves without VA'!E147),0)+($A148<=E$2)*LN(1+E$5/10000)+IF(ISNUMBER($A147),$A147*E147))/$A148","v":3.5809938410213793E-2},{"$f":"($A148*LN(1+'Curves without VA'!F148)-IF(ISNUMBER($A147),$A147*LN(1+'Curves without VA'!F147),0)+($A148<=F$2)*LN(1+F$5/10000)+IF(ISNUMBER($A147),$A147*F147))/$A148","v":3.7779657897577798E-2},{"$f":"($A148*LN(1+'Curves without VA'!G148)-IF(ISNUMBER($A147),$A147*LN(1+'Curves without VA'!G147),0)+($A148<=G$2)*LN(1+G$5/10000)+IF(ISNUMBER($A147),$A147*G147))/$A148","v":3.6643916616117718E-2},{"$f":"($A148*LN(1+'Curves without VA'!H148)-IF(ISNUMBER($A147),$A147*LN(1+'Curves without VA'!H147),0)+($A148<=H$2)*LN(1+H$5/10000)+IF(ISNUMBER($A147),$A147*H147))/$A148","v":3.3895882816836677E-2},{"$f":"($A148*LN(1+'Curves without VA'!I148)-IF(ISNUMBER($A147),$A147*LN(1+'Curves without VA'!I147),0)+($A148<=I$2)*LN(1+I$5/10000)+IF(ISNUMBER($A147),$A147*I147))/$A148","v":4.3827691997593482E-2},{"$f":"($A148*LN(1+'Curves without VA'!J148)-IF(ISNUMBER($A147),$A147*LN(1+'Curves without VA'!J147),0)+($A148<=J$2)*LN(1+J$5/10000)+IF(ISNUMBER($A147),$A147*J147))/$A148","v":3.4924416250833236E-2},3.3379771095147337E-2,3.5508284313327199E-2,3.2663867307542338E-2,3.7320106531044672E-2,3.8962159064259927E-2,3.8342127998820308E-2,3.6424227950915045E-2,4.8048284200529645E-2,3.7886081328508681E-2,{"$f":"(1+'Curves without VA'!K148)*(1+K148)/(1+'Curves without VA'!B148)-1","v":3.7612080726211472E-2},{"$f":"(1+'Curves without VA'!L148)*(1+L148)/(1+'Curves without VA'!C148)-1","v":4.1327071281080707E-2},{"$f":"(1+'Curves without VA'!M148)*(1+M148)/(1+'Curves without VA'!D148)-1","v":3.7521908075204502E-2},{"$f":"(1+'Curves without VA'!N148)*(1+N148)/(1+'Curves without VA'!E148)-1","v":4.261568942815841E-2},{"$f":"(1+'Curves without VA'!O148)*(1+O148)/(1+'Curves without VA'!F148)-1","v":4.6821583472904438E-2},{"$f":"(1+'Curves without VA'!P148)*(1+P148)/(1+'Curves without VA'!G148)-1","v":4.4258219445789448E-2},{"$f":"(1+'Curves without VA'!Q148)*(1+Q148)/(1+'Curves without VA'!H148)-1","v":4.2300896630802276E-2},{"$f":"(1+'Curves without VA'!R148)*(1+R148)/(1+'Curves without VA'!I148)-1","v":5.67289281810055E-2},{"$f":"(1+'Curves without VA'!S148)*(1+S148)/(1+'Curves without VA'!J148)-1","v":4.4410489587855873E-2},{"$f":"(1+'Curves without VA'!T148)*(1+K148)/(1+'Curves without VA'!B148)-1","v":2.7524723917688121E-2},{"$f":"(1+'Curves without VA'!U148)*(1+L148)/(1+'Curves without VA'!C148)-1","v":3.0404132081541135E-2},{"$f":"(1+'Curves without VA'!V148)*(1+M148)/(1+'Curves without VA'!D148)-1","v":2.5784345328907943E-2},{"$f":"(1+'Curves without VA'!W148)*(1+N148)/(1+'Curves without VA'!E148)-1","v":2.9136546788262274E-2},{"$f":"(1+'Curves without VA'!X148)*(1+O148)/(1+'Curves without VA'!F148)-1","v":2.5030597015942568E-2},{"$f":"(1+'Curves without VA'!Y148)*(1+P148)/(1+'Curves without VA'!G148)-1","v":2.9547107710772513E-2},{"$f":"(1+'Curves without VA'!Z148)*(1+Q148)/(1+'Curves without VA'!H148)-1","v":3.2666607128634118E-2},{"$f":"(1+'Curves without VA'!AA148)*(1+R148)/(1+'Curves without VA'!I148)-1","v":4.2414122491320372E-2},{"$f":"(1+'Curves without VA'!AB148)*(1+S148)/(1+'Curves without VA'!J148)-1","v":3.3869239622163594E-2}]
[136,{"$f":"($A149*LN(1+'Curves without VA'!B149)-IF(ISNUMBER($A148),$A148*LN(1+'Curves without VA'!B148),0)+($A149<=B$2)*LN(1+B$5/10000)+IF(ISNUMBER($A148),$A148*B148))/$A149","v":3.2765652865041531E-2},{"$f":"($A149*LN(1+'Curves without VA'!C149)-IF(ISNUMBER($A148),$A148*LN(1+'Curves without VA'!C148),0)+($A149<=C$2)*LN(1+C$5/10000)+IF(ISNUMBER($A148),$A148*C148))/$A149","v":3.3801473824573207E-2},{"$f":"($A149*LN(1+'Curves without VA'!D149)-IF(ISNUMBER($A148),$A148*LN(1+'Curves without VA'!D148),0)+($A149<=D$2)*LN(1+D$5/10000)+IF(ISNUMBER($A148),$A148*D148))/$A149","v":3.165765720899362E-2},{"$f":"($A149*LN(1+'Curves without VA'!E149)-IF(ISNUMBER($A148),$A148*LN(1+'Curves without VA'!E148),0)+($A149<=E$2)*LN(1+E$5/10000)+IF(ISNUMBER($A148),$A148*E148))/$A149","v":3.5785359364004225E-2},{"$f":"($A149*LN(1+'Curves without VA'!F149)-IF(ISNUMBER($A148),$A148*LN(1+'Curves without VA'!F148),0)+($A149<=F$2)*LN(1+F$5/10000)+IF(ISNUMBER($A148),$A148*F148))/$A149","v":3.7740595501134351E-2},{"$f":"($A149*LN(1+'Curves without VA'!G149)-IF(ISNUMBER($A148),$A148*LN(1+'Curves without VA'!G148),0)+($A149<=G$2)*LN(1+G$5/10000)+IF(ISNUMBER($A148),$A148*G148))/$A149","v":3.6613205377217746E-2},{"$f":"($A149*LN(1+'Curves without VA'!H149)-IF(ISNUMBER($A148),$A148*LN(1+'Curves without VA'!H148),0)+($A149<=H$2)*LN(1+H$5/10000)+IF(ISNUMBER($A148),$A148*H148))/$A149","v":3.3885377721967126E-2},{"$f":"($A149*LN(1+'Curves without VA'!I149)-IF(ISNUMBER($A148),$A148*LN(1+'Curves without VA'!I148),0)+($A149<=I$2)*LN(1+I$5/10000)+IF(ISNUMBER($A148),$A148*I148))/$A149","v":4.3807943731013682E-2},{"$f":"($A149*LN(1+'Curves without VA'!J149)-IF(ISNUMBER($A148),$A148*LN(1+'Curves without VA'!J148),0)+($A149<=J$2)*LN(1+J$5/10000)+IF(ISNUMBER($A148),$A148*J148))/$A149","v":3.4906348410125569E-2},3.3376978168997207E-2,3.548981904876447E-2,3.2658984920812317E-2,3.7288276042599877E-2,3.891819831533061E-2,3.8302747998721687E-2,3.6399008639834918E-2,4.8003684151837644E-2,3.7850070308384165E-2,{"$f":"(1+'Curves without VA'!K149)*(1+K149)/(1+'Curves without VA'!B149)-1","v":3.7589163822713934E-2},{"$f":"(1+'Curves without VA'!L149)*(1+L149)/(1+'Curves without VA'!C149)-1","v":4.1276708783331451E-2},{"$f":"(1+'Curves without VA'!M149)*(1+M149)/(1+'Curves without VA'!D149)-1","v":3.7492279530566108E-2},{"$f":"(1+'Curves without VA'!N149)*(1+N149)/(1+'Curves without VA'!E149)-1","v":4.2555785085004461E-2},{"$f":"(1+'Curves without VA'!O149)*(1+O149)/(1+'Curves without VA'!F149)-1","v":4.6730462780383508E-2},{"$f":"(1+'Curves without VA'!P149)*(1+P149)/(1+'Curves without VA'!G149)-1","v":4.4186135067025178E-2},{"$f":"(1+'Curves without VA'!Q149)*(1+Q149)/(1+'Curves without VA'!H149)-1","v":4.2243323464405069E-2},{"$f":"(1+'Curves without VA'!R149)*(1+R149)/(1+'Curves without VA'!I149)-1","v":5.663104849354661E-2},{"$f":"(1+'Curves without VA'!S149)*(1+S149)/(1+'Curves without VA'!J149)-1","v":4.4337273550439038E-2},{"$f":"(1+'Curves without VA'!T149)*(1+K149)/(1+'Curves without VA'!B149)-1","v":2.7553897449477116E-2},{"$f":"(1+'Curves without VA'!U149)*(1+L149)/(1+'Curves without VA'!C149)-1","v":3.0412185701361949E-2},{"$f":"(1+'Curves without VA'!V149)*(1+M149)/(1+'Curves without VA'!D149)-1","v":2.5818939773332827E-2},{"$f":"(1+'Curves without VA'!W149)*(1+N149)/(1+'Curves without VA'!E149)-1","v":2.9153905093323607E-2},{"$f":"(1+'Curves without VA'!X149)*(1+O149)/(1+'Curves without VA'!F149)-1","v":2.5078003067471322E-2},{"$f":"(1+'Curves without VA'!Y149)*(1+P149)/(1+'Curves without VA'!G149)-1","v":2.9561453750269306E-2},{"$f":"(1+'Curves without VA'!Z149)*(1+Q149)/(1+'Curves without VA'!H149)-1","v":3.2658024491361681E-2},{"$f":"(1+'Curves without VA'!AA149)*(1+R149)/(1+'Curves without VA'!I149)-1","v":4.2400035695734806E-2},{"$f":"(1+'Curves without VA'!AB149)*(1+S149)/(1+'Curves without VA'!J149)-1","v":3.3851799128697735E-2}]
[137,{"$f":"($A150*LN(1+'Curves without VA'!B150)-IF(ISNUMBER($A149),$A149*LN(1+'Curves without VA'!B149),0)+($A150<=B$2)*LN(1+B$5/10000)+IF(ISNUMBER($A149),$A149*B149))/$A150","v":3.2763474300607699E-2},{"$f":"($A150*LN(1+'Curves without VA'!C150)-IF(ISNUMBER($A149),$A149*LN(1+'Curves without VA'!C149),0)+($A150<=C$2)*LN(1+C$5/10000)+IF(ISNUMBER($A149),$A149*C149))/$A150","v":3.3791734525060825E-2},{"$f":"($A150*LN(1+'Curves without VA'!D150)-IF(ISNUMBER($A149),$A149*LN(1+'Curves without VA'!D149),0)+($A150<=D$2)*LN(1+D$5/10000)+IF(ISNUMBER($A149),$A149*D149))/$A150","v":3.1656496741587221E-2},{"$f":"($A150*LN(1+'Curves without VA'!E150)-IF(ISNUMBER($A149),$A149*LN(1+'Curves without VA'!E149),0)+($A150<=E$2)*LN(1+E$5/10000)+IF(ISNUMBER($A149),$A149*E149))/$A150","v":3.5761139137517321E-2},{"$f":"($A150*LN(1+'Curves without VA'!F150)-IF(ISNUMBER($A149),$A149*LN(1+'Curves without VA'!F149),0)+($A150<=F$2)*LN(1+F$5/10000)+IF(ISNUMBER($A149),$A149*F149))/$A150","v":3.7702103372458586E-2},{"$f":"($A150*LN(1+'Curves without VA'!G150)-IF(ISNUMBER($A149),$A149*LN(1+'Curves without VA'!G149),0)+($A150<=G$2)*LN(1+G$5/10000)+IF(ISNUMBER($A149),$A149*G149))/$A150","v":3.6582942479101703E-2},{"$f":"($A150*LN(1+'Curves without VA'!H150)-IF(ISNUMBER($A149),$A149*LN(1+'Curves without VA'!H149),0)+($A150<=H$2)*LN(1+H$5/10000)+IF(ISNUMBER($A149),$A149*H149))/$A150","v":3.387502598631649E-2},{"$f":"($A150*LN(1+'Curves without VA'!I150)-IF(ISNUMBER($A149),$A149*LN(1+'Curves without VA'!I149),0)+($A150<=I$2)*LN(1+I$5/10000)+IF(ISNUMBER($A149),$A149*I149))/$A150","v":4.3788483772148924E-2},{"$f":"($A150*LN(1+'Curves without VA'!J150)-IF(ISNUMBER($A149),$A149*LN(1+'Curves without VA'!J149),0)+($A150<=J$2)*LN(1+J$5/10000)+IF(ISNUMBER($A149),$A149*J149))/$A150","v":3.4888544333685351E-2},3.3374226021030795E-2,3.5471623650361606E-2,3.2654173775642947E-2,3.7256911101080536E-2,3.8874880735425332E-2,3.8263944246712533E-2,3.6374158072094209E-2,4.7959737003457459E-2,3.7814586192193023E-2,{"$f":"(1+'Curves without VA'!K150)*(1+K150)/(1+'Curves without VA'!B150)-1","v":3.7566581949594946E-2},{"$f":"(1+'Curves without VA'!L150)*(1+L150)/(1+'Curves without VA'!C150)-1","v":4.1227083823444977E-2},{"$f":"(1+'Curves without VA'!M150)*(1+M150)/(1+'Curves without VA'!D150)-1","v":3.7463084207161712E-2},{"$f":"(1+'Curves without VA'!N150)*(1+N150)/(1+'Curves without VA'!E150)-1","v":4.2496758460659922E-2},{"$f":"(1+'Curves without VA'!O150)*(1+O150)/(1+'Curves without VA'!F150)-1","v":4.6640678768607557E-2},{"$f":"(1+'Curves without VA'!P150)*(1+P150)/(1+'Curves without VA'!G150)-1","v":4.4115107665693154E-2},{"$f":"(1+'Curves without VA'!Q150)*(1+Q150)/(1+'Curves without VA'!H150)-1","v":4.2186593841065267E-2},{"$f":"(1+'Curves without VA'!R150)*(1+R150)/(1+'Curves without VA'!I150)-1","v":5.6534606440930446E-2},{"$f":"(1+'Curves without VA'!S150)*(1+S150)/(1+'Curves without VA'!J150)-1","v":4.4265131320461837E-2},{"$f":"(1+'Curves without VA'!T150)*(1+K150)/(1+'Curves without VA'!B150)-1","v":2.7582645947761497E-2},{"$f":"(1+'Curves without VA'!U150)*(1+L150)/(1+'Curves without VA'!C150)-1","v":3.0420121809819012E-2},{"$f":"(1+'Curves without VA'!V150)*(1+M150)/(1+'Curves without VA'!D150)-1","v":2.5853030394095589E-2},{"$f":"(1+'Curves without VA'!W150)*(1+N150)/(1+'Curves without VA'!E150)-1","v":2.9171010304645639E-2},{"$f":"(1+'Curves without VA'!X150)*(1+O150)/(1+'Curves without VA'!F150)-1","v":2.5124720724566396E-2},{"$f":"(1+'Curves without VA'!Y150)*(1+P150)/(1+'Curves without VA'!G150)-1","v":2.957559055003478E-2},{"$f":"(1+'Curves without VA'!Z150)*(1+Q150)/(1+'Curves without VA'!H150)-1","v":3.2649567200303986E-2},{"$f":"(1+'Curves without VA'!AA150)*(1+R150)/(1+'Curves without VA'!I150)-1","v":4.2386154683674349E-2},{"$f":"(1+'Curves without VA'!AB150)*(1+S150)/(1+'Curves without VA'!J150)-1","v":3.3834613504926114E-2}]
[138,{"$f":"($A151*LN(1+'Curves without VA'!B151)-IF(ISNUMBER($A150),$A150*LN(1+'Curves without VA'!B150),0)+($A151<=B$2)*LN(1+B$5/10000)+IF(ISNUMBER($A150),$A150*B150))/$A151","v":3.2761327310024312E-2},{"$f":"($A151*LN(1+'Curves without VA'!C151)-IF(ISNUMBER($A150),$A150*LN(1+'Curves without VA'!C150),0)+($A151<=C$2)*LN(1+C$5/10000)+IF(ISNUMBER($A150),$A150*C150))/$A151","v":3.3782136375078001E-2},{"$f":"($A151*LN(1+'Curves without VA'!D151)-IF(ISNUMBER($A150),$A150*LN(1+'Curves without VA'!D150),0)+($A151<=D$2)*LN(1+D$5/10000)+IF(ISNUMBER($A150),$A150*D150))/$A151","v":3.1655353087933304E-2},{"$f":"($A151*LN(1+'Curves without VA'!E151)-IF(ISNUMBER($A150),$A150*LN(1+'Curves without VA'!E150),0)+($A151<=E$2)*LN(1+E$5/10000)+IF(ISNUMBER($A150),$A150*E150))/$A151","v":3.5737269930165995E-2},{"$f":"($A151*LN(1+'Curves without VA'!F151)-IF(ISNUMBER($A150),$A150*LN(1+'Curves without VA'!F150),0)+($A151<=F$2)*LN(1+F$5/10000)+IF(ISNUMBER($A150),$A150*F150))/$A151","v":3.7664169112997081E-2},{"$f":"($A151*LN(1+'Curves without VA'!G151)-IF(ISNUMBER($A150),$A150*LN(1+'Curves without VA'!G150),0)+($A151<=G$2)*LN(1+G$5/10000)+IF(ISNUMBER($A150),$A150*G150))/$A151","v":3.6553118175072001E-2},{"$f":"($A151*LN(1+'Curves without VA'!H151)-IF(ISNUMBER($A150),$A150*LN(1+'Curves without VA'!H150),0)+($A151<=H$2)*LN(1+H$5/10000)+IF(ISNUMBER($A150),$A150*H150))/$A151","v":3.3864824275970727E-2},{"$f":"($A151*LN(1+'Curves without VA'!I151)-IF(ISNUMBER($A150),$A150*LN(1+'Curves without VA'!I150),0)+($A151<=I$2)*LN(1+I$5/10000)+IF(ISNUMBER($A150),$A150*I150))/$A151","v":4.3769305852214266E-2},{"$f":"($A151*LN(1+'Curves without VA'!J151)-IF(ISNUMBER($A150),$A150*LN(1+'Curves without VA'!J150),0)+($A151<=J$2)*LN(1+J$5/10000)+IF(ISNUMBER($A150),$A150*J150))/$A151","v":3.4870998287488963E-2},3.3371513764797411E-2,3.5453692246765867E-2,3.2649432328685446E-2,3.722600157427669E-2,3.8832192346052397E-2,3.8225704194780663E-2,3.6349668220848175E-2,4.7916428527132737E-2,3.7779617501839002E-2,{"$f":"(1+'Curves without VA'!K151)*(1+K151)/(1+'Curves without VA'!B151)-1","v":3.7544327814760026E-2},{"$f":"(1+'Curves without VA'!L151)*(1+L151)/(1+'Curves without VA'!C151)-1","v":4.1178180323056424E-2},{"$f":"(1+'Curves without VA'!M151)*(1+M151)/(1+'Curves without VA'!D151)-1","v":3.7434312683735094E-2},{"$f":"(1+'Curves without VA'!N151)*(1+N151)/(1+'Curves without VA'!E151)-1","v":4.2438590418420352E-2},{"$f":"(1+'Curves without VA'!O151)*(1+O151)/(1+'Curves without VA'!F151)-1","v":4.6552202346693994E-2},{"$f":"(1+'Curves without VA'!P151)*(1+P151)/(1+'Curves without VA'!G151)-1","v":4.4045114181111789E-2},{"$f":"(1+'Curves without VA'!Q151)*(1+Q151)/(1+'Curves without VA'!H151)-1","v":4.2130689360970752E-2},{"$f":"(1+'Curves without VA'!R151)*(1+R151)/(1+'Curves without VA'!I151)-1","v":5.6439570591961363E-2},{"$f":"(1+'Curves without VA'!S151)*(1+S151)/(1+'Curves without VA'!J151)-1","v":4.4194039451871392E-2},{"$f":"(1+'Curves without VA'!T151)*(1+K151)/(1+'Curves without VA'!B151)-1","v":2.7610978630056682E-2},{"$f":"(1+'Curves without VA'!U151)*(1+L151)/(1+'Curves without VA'!C151)-1","v":3.0427942960369547E-2},{"$f":"(1+'Curves without VA'!V151)*(1+M151)/(1+'Curves without VA'!D151)-1","v":2.5886628112735455E-2},{"$f":"(1+'Curves without VA'!W151)*(1+N151)/(1+'Curves without VA'!E151)-1","v":2.9187867915426491E-2},{"$f":"(1+'Curves without VA'!X151)*(1+O151)/(1+'Curves without VA'!F151)-1","v":2.5170764749142149E-2},{"$f":"(1+'Curves without VA'!Y151)*(1+P151)/(1+'Curves without VA'!G151)-1","v":2.9589522654959621E-2},{"$f":"(1+'Curves without VA'!Z151)*(1+Q151)/(1+'Curves without VA'!H151)-1","v":3.2641232530850273E-2},{"$f":"(1+'Curves without VA'!AA151)*(1+R151)/(1+'Curves without VA'!I151)-1","v":4.2372474982668162E-2},{"$f":"(1+'Curves without VA'!AB151)*(1+S151)/(1+'Curves without VA'!J151)-1","v":3.3817677206454455E-2}]
[139,{"$f":"($A152*LN(1+'Curves without VA'!B152)-IF(ISNUMBER($A151),$A151*LN(1+'Curves without VA'!B151),0)+($A152<=B$2)*LN(1+B$5/10000)+IF(ISNUMBER($A151),$A151*B151))/$A152","v":3.2759211211794335E-2},{"$f":"($A152*LN(1+'Curves without VA'!C152)-IF(ISNUMBER($A151),$A151*LN(1+'Curves without VA'!C151),0)+($A152<=C$2)*LN(1+C$5/10000)+IF(ISNUMBER($A151),$A151*C151))/$A152","v":3.3772676328205145E-2},{"$f":"($A152*LN(1+'Curves without VA'!D152)-IF(ISNUMBER($A151),$A151*LN(1+'Curves without VA'!D151),0)+($A152<=D$2)*LN(1+D$5/10000)+IF(ISNUMBER($A151),$A151*D151))/$A152","v":3.1654225885622479E-2},{"$f":"($A152*LN(1+'Curves without VA'!E152)-IF(ISNUMBER($A151),$A151*LN(1+'Curves without VA'!E151),0)+($A152<=E$2)*LN(1+E$5/10000)+IF(ISNUMBER($A151),$A151*E151))/$A152","v":3.571374416585682E-2},{"$f":"($A152*LN(1+'Curves without VA'!F152)-IF(ISNUMBER($A151),$A151*LN(1+'Curves without VA'!F151),0)+($A152<=F$2)*LN(1+F$5/10000)+IF(ISNUMBER($A151),$A151*F151))/$A152","v":3.7626780681138013E-2},{"$f":"($A152*LN(1+'Curves without VA'!G152)-IF(ISNUMBER($A151),$A151*LN(1+'Curves without VA'!G151),0)+($A152<=G$2)*LN(1+G$5/10000)+IF(ISNUMBER($A151),$A151*G151))/$A152","v":3.6523722998928983E-2},{"$f":"($A152*LN(1+'Curves without VA'!H152)-IF(ISNUMBER($A151),$A151*LN(1+'Curves without VA'!H151),0)+($A152<=H$2)*LN(1+H$5/10000)+IF(ISNUMBER($A151),$A151*H151))/$A152","v":3.3854769352958308E-2},{"$f":"($A152*LN(1+'Curves without VA'!I152)-IF(ISNUMBER($A151),$A151*LN(1+'Curves without VA'!I151),0)+($A152<=I$2)*LN(1+I$5/10000)+IF(ISNUMBER($A151),$A151*I151))/$A152","v":4.3750403882948527E-2},{"$f":"($A152*LN(1+'Curves without VA'!J152)-IF(ISNUMBER($A151),$A151*LN(1+'Curves without VA'!J151),0)+($A152<=J$2)*LN(1+J$5/10000)+IF(ISNUMBER($A151),$A151*J151))/$A152","v":3.485370470252333E-2},3.3368840539340194E-2,3.5436019135550056E-2,3.264475908041109E-2,3.7195537621209196E-2,3.8790119567677639E-2,3.8188015655804097E-2,3.6325531290375634E-2,4.7873744904646909E-2,3.7745153090001482E-2,{"$f":"(1+'Curves without VA'!K152)*(1+K152)/(1+'Curves without VA'!B152)-1","v":3.7522394336071629E-2},{"$f":"(1+'Curves without VA'!L152)*(1+L152)/(1+'Curves without VA'!C152)-1","v":4.1129982667279741E-2},{"$f":"(1+'Curves without VA'!M152)*(1+M152)/(1+'Curves without VA'!D152)-1","v":3.740595580915862E-2},{"$f":"(1+'Curves without VA'!N152)*(1+N152)/(1+'Curves without VA'!E152)-1","v":4.2381262372605422E-2},{"$f":"(1+'Curves without VA'!O152)*(1+O152)/(1+'Curves without VA'!F152)-1","v":4.646500525169861E-2},{"$f":"(1+'Curves without VA'!P152)*(1+P152)/(1+'Curves without VA'!G152)-1","v":4.3976132216909436E-2},{"$f":"(1+'Curves without VA'!Q152)*(1+Q152)/(1+'Curves without VA'!H152)-1","v":4.207559215517187E-2},{"$f":"(1+'Curves without VA'!R152)*(1+R152)/(1+'Curves without VA'!I152)-1","v":5.6345910424010048E-2},{"$f":"(1+'Curves without VA'!S152)*(1+S152)/(1+'Curves without VA'!J152)-1","v":4.4123975175785812E-2},{"$f":"(1+'Curves without VA'!T152)*(1+K152)/(1+'Curves without VA'!B152)-1","v":2.7638904449627688E-2},{"$f":"(1+'Curves without VA'!U152)*(1+L152)/(1+'Curves without VA'!C152)-1","v":3.0435651633007765E-2},{"$f":"(1+'Curves without VA'!V152)*(1+M152)/(1+'Curves without VA'!D152)-1","v":2.5919743537881512E-2},{"$f":"(1+'Curves without VA'!W152)*(1+N152)/(1+'Curves without VA'!E152)-1","v":2.9204483261237479E-2},{"$f":"(1+'Curves without VA'!X152)*(1+O152)/(1+'Curves without VA'!F152)-1","v":2.5216149495848938E-2},{"$f":"(1+'Curves without VA'!Y152)*(1+P152)/(1+'Curves without VA'!G152)-1","v":2.9603254479223073E-2},{"$f":"(1+'Curves without VA'!Z152)*(1+Q152)/(1+'Curves without VA'!H152)-1","v":3.2633017836651845E-2},{"$f":"(1+'Curves without VA'!AA152)*(1+R152)/(1+'Curves without VA'!I152)-1","v":4.2358992248534344E-2},{"$f":"(1+'Curves without VA'!AB152)*(1+S152)/(1+'Curves without VA'!J152)-1","v":3.380098484836136E-2}]
[140,{"$f":"($A153*LN(1+'Curves without VA'!B153)-IF(ISNUMBER($A152),$A152*LN(1+'Curves without VA'!B152),0)+($A153<=B$2)*LN(1+B$5/10000)+IF(ISNUMBER($A152),$A152*B152))/$A153","v":3.275712534389727E-2},{"$f":"($A153*LN(1+'Curves without VA'!C153)-IF(ISNUMBER($A152),$A152*LN(1+'Curves without VA'!C152),0)+($A153<=C$2)*LN(1+C$5/10000)+IF(ISNUMBER($A152),$A152*C152))/$A153","v":3.3763351425065667E-2},{"$f":"($A153*LN(1+'Curves without VA'!D153)-IF(ISNUMBER($A152),$A152*LN(1+'Curves without VA'!D152),0)+($A153<=D$2)*LN(1+D$5/10000)+IF(ISNUMBER($A152),$A152*D152))/$A153","v":3.1653114782550652E-2},{"$f":"($A153*LN(1+'Curves without VA'!E153)-IF(ISNUMBER($A152),$A152*LN(1+'Curves without VA'!E152),0)+($A153<=E$2)*LN(1+E$5/10000)+IF(ISNUMBER($A152),$A152*E152))/$A153","v":3.5690554484971077E-2},{"$f":"($A153*LN(1+'Curves without VA'!F153)-IF(ISNUMBER($A152),$A152*LN(1+'Curves without VA'!F152),0)+($A153<=F$2)*LN(1+F$5/10000)+IF(ISNUMBER($A152),$A152*F152))/$A153","v":3.7589926379445783E-2},{"$f":"($A153*LN(1+'Curves without VA'!G153)-IF(ISNUMBER($A152),$A152*LN(1+'Curves without VA'!G152),0)+($A153<=G$2)*LN(1+G$5/10000)+IF(ISNUMBER($A152),$A152*G152))/$A153","v":3.6494747754949937E-2},{"$f":"($A153*LN(1+'Curves without VA'!H153)-IF(ISNUMBER($A152),$A152*LN(1+'Curves without VA'!H152),0)+($A153<=H$2)*LN(1+H$5/10000)+IF(ISNUMBER($A152),$A152*H152))/$A153","v":3.3844858071822533E-2},{"$f":"($A153*LN(1+'Curves without VA'!I153)-IF(ISNUMBER($A152),$A152*LN(1+'Curves without VA'!I152),0)+($A153<=I$2)*LN(1+I$5/10000)+IF(ISNUMBER($A152),$A152*I152))/$A153","v":4.3731771950153514E-2},{"$f":"($A153*LN(1+'Curves without VA'!J153)-IF(ISNUMBER($A152),$A152*LN(1+'Curves without VA'!J152),0)+($A153<=J$2)*LN(1+J$5/10000)+IF(ISNUMBER($A152),$A152*J152))/$A153","v":3.4836658168890554E-2},3.3366205508288393E-2,3.5418598777195331E-2,3.2640152573607972E-2,3.7165509681805542E-2,3.8748649205893493E-2,3.8150866790744642E-2,3.6301739707835123E-2,4.7831672713194884E-2,3.7711182128325138E-2,{"$f":"(1+'Curves without VA'!K153)*(1+K153)/(1+'Curves without VA'!B153)-1","v":3.7500774633859146E-2},{"$f":"(1+'Curves without VA'!L153)*(1+L153)/(1+'Curves without VA'!C153)-1","v":4.1082475688174469E-2},{"$f":"(1+'Curves without VA'!M153)*(1+M153)/(1+'Curves without VA'!D153)-1","v":3.7378004692922406E-2},{"$f":"(1+'Curves without VA'!N153)*(1+N153)/(1+'Curves without VA'!E153)-1","v":4.2324756268988351E-2},{"$f":"(1+'Curves without VA'!O153)*(1+O153)/(1+'Curves without VA'!F153)-1","v":4.6379060020326879E-2},{"$f":"(1+'Curves without VA'!P153)*(1+P153)/(1+'Curves without VA'!G153)-1","v":4.3908140017433928E-2},{"$f":"(1+'Curves without VA'!Q153)*(1+Q153)/(1+'Curves without VA'!H153)-1","v":4.2021284866609498E-2},{"$f":"(1+'Curves without VA'!R153)*(1+R153)/(1+'Curves without VA'!I153)-1","v":5.625359629051685E-2},{"$f":"(1+'Curves without VA'!S153)*(1+S153)/(1+'Curves without VA'!J153)-1","v":4.4054916376266906E-2},{"$f":"(1+'Curves without VA'!T153)*(1+K153)/(1+'Curves without VA'!B153)-1","v":2.7666432104857419E-2},{"$f":"(1+'Curves without VA'!U153)*(1+L153)/(1+'Curves without VA'!C153)-1","v":3.044325023689054E-2},{"$f":"(1+'Curves without VA'!V153)*(1+M153)/(1+'Curves without VA'!D153)-1","v":2.5952386976333397E-2},{"$f":"(1+'Curves without VA'!W153)*(1+N153)/(1+'Curves without VA'!E153)-1","v":2.9220861525618869E-2},{"$f":"(1+'Curves without VA'!X153)*(1+O153)/(1+'Curves without VA'!F153)-1","v":2.5260888924897973E-2},{"$f":"(1+'Curves without VA'!Y153)*(1+P153)/(1+'Curves without VA'!G153)-1","v":2.9616790310961427E-2},{"$f":"(1+'Curves without VA'!Z153)*(1+Q153)/(1+'Curves without VA'!H153)-1","v":3.262492054684496E-2},{"$f":"(1+'Curves without VA'!AA153)*(1+R153)/(1+'Curves without VA'!I153)-1","v":4.2345702260853324E-2},{"$f":"(1+'Curves without VA'!AB153)*(1+S153)/(1+'Curves without VA'!J153)-1","v":3.3784531199524848E-2}]
[141,{"$f":"($A154*LN(1+'Curves without VA'!B154)-IF(ISNUMBER($A153),$A153*LN(1+'Curves without VA'!B153),0)+($A154<=B$2)*LN(1+B$5/10000)+IF(ISNUMBER($A153),$A153*B153))/$A154","v":3.2755069063097726E-2},{"$f":"($A154*LN(1+'Curves without VA'!C154)-IF(ISNUMBER($A153),$A153*LN(1+'Curves without VA'!C153),0)+($A154<=C$2)*LN(1+C$5/10000)+IF(ISNUMBER($A153),$A153*C153))/$A154","v":3.3754158790239436E-2},{"$f":"($A154*LN(1+'Curves without VA'!D154)-IF(ISNUMBER($A153),$A153*LN(1+'Curves without VA'!D153),0)+($A154<=D$2)*LN(1+D$5/10000)+IF(ISNUMBER($A153),$A153*D153))/$A154","v":3.165201943655814E-2},{"$f":"($A154*LN(1+'Curves without VA'!E154)-IF(ISNUMBER($A153),$A153*LN(1+'Curves without VA'!E153),0)+($A154<=E$2)*LN(1+E$5/10000)+IF(ISNUMBER($A153),$A153*E153))/$A154","v":3.5667693736686143E-2},{"$f":"($A154*LN(1+'Curves without VA'!F154)-IF(ISNUMBER($A153),$A153*LN(1+'Curves without VA'!F153),0)+($A154<=F$2)*LN(1+F$5/10000)+IF(ISNUMBER($A153),$A153*F153))/$A154","v":3.7553594842444596E-2},{"$f":"($A154*LN(1+'Curves without VA'!G154)-IF(ISNUMBER($A153),$A153*LN(1+'Curves without VA'!G153),0)+($A154<=G$2)*LN(1+G$5/10000)+IF(ISNUMBER($A153),$A153*G153))/$A154","v":3.6466183508296508E-2},{"$f":"($A154*LN(1+'Curves without VA'!H154)-IF(ISNUMBER($A153),$A153*LN(1+'Curves without VA'!H153),0)+($A154<=H$2)*LN(1+H$5/10000)+IF(ISNUMBER($A153),$A153*H153))/$A154","v":3.3835087376340701E-2},{"$f":"($A154*LN(1+'Curves without VA'!I154)-IF(ISNUMBER($A153),$A153*LN(1+'Curves without VA'!I153),0)+($A154<=I$2)*LN(1+I$5/10000)+IF(ISNUMBER($A153),$A153*I153))/$A154","v":4.3713404307510299E-2},{"$f":"($A154*LN(1+'Curves without VA'!J154)-IF(ISNUMBER($A153),$A153*LN(1+'Curves without VA'!J153),0)+($A154<=J$2)*LN(1+J$5/10000)+IF(ISNUMBER($A153),$A153*J153))/$A154","v":3.4819853430167066E-2},3.3363607858985844E-2,3.5401425789330032E-2,3.2635611391936381E-2,3.7135908467003542E-2,3.8707768438132062E-2,3.8114246096375481E-2,3.6278286115369873E-2,4.7790198911374038E-2,3.7677694096108993E-2,{"$f":"(1+'Curves without VA'!K154)*(1+K154)/(1+'Curves without VA'!B154)-1","v":3.7479462023746635E-2},{"$f":"(1+'Curves without VA'!L154)*(1+L154)/(1+'Curves without VA'!C154)-1","v":4.1035644648908187E-2},{"$f":"(1+'Curves without VA'!M154)*(1+M154)/(1+'Curves without VA'!D154)-1","v":3.7350450696013393E-2},{"$f":"(1+'Curves without VA'!N154)*(1+N154)/(1+'Curves without VA'!E154)-1","v":4.2269054566040465E-2},{"$f":"(1+'Curves without VA'!O154)*(1+O154)/(1+'Curves without VA'!F154)-1","v":4.6294339961707509E-2},{"$f":"(1+'Curves without VA'!P154)*(1+P154)/(1+'Curves without VA'!G154)-1","v":4.3841116445144435E-2},{"$f":"(1+'Curves without VA'!Q154)*(1+Q154)/(1+'Curves without VA'!H154)-1","v":4.1967750631948908E-2},{"$f":"(1+'Curves without VA'!R154)*(1+R154)/(1+'Curves without VA'!I154)-1","v":5.6162599389873558E-2},{"$f":"(1+'Curves without VA'!S154)*(1+S154)/(1+'Curves without VA'!J154)-1","v":4.3986841567119406E-2},{"$f":"(1+'Curves without VA'!T154)*(1+K154)/(1+'Curves without VA'!B154)-1","v":2.7693570048223259E-2},{"$f":"(1+'Curves without VA'!U154)*(1+L154)/(1+'Curves without VA'!C154)-1","v":3.0450741112849178E-2},{"$f":"(1+'Curves without VA'!V154)*(1+M154)/(1+'Curves without VA'!D154)-1","v":2.5984568443679468E-2},{"$f":"(1+'Curves without VA'!W154)*(1+N154)/(1+'Curves without VA'!E154)-1","v":2.923700774543958E-2},{"$f":"(1+'Curves without VA'!X154)*(1+O154)/(1+'Curves without VA'!F154)-1","v":2.5304996614510245E-2},{"$f":"(1+'Curves without VA'!Y154)*(1+P154)/(1+'Curves without VA'!G154)-1","v":2.9630134316737999E-2},{"$f":"(1+'Curves without VA'!Z154)*(1+Q154)/(1+'Curves without VA'!H154)-1","v":3.2616938163387843E-2},{"$f":"(1+'Curves without VA'!AA154)*(1+R154)/(1+'Curves without VA'!I154)-1","v":4.2332600918619345E-2},{"$f":"(1+'Curves without VA'!AB154)*(1+S154)/(1+'Curves without VA'!J154)-1","v":3.3768311177183152E-2}]
[142,{"$f":"($A155*LN(1+'Curves without VA'!B155)-IF(ISNUMBER($A154),$A154*LN(1+'Curves without VA'!B154),0)+($A155<=B$2)*LN(1+B$5/10000)+IF(ISNUMBER($A154),$A154*B154))/$A155","v":3.2753041744282889E-2},{"$f":"($A155*LN(1+'Curves without VA'!C155)-IF(ISNUMBER($A154),$A154*LN(1+'Curves without VA'!C154),0)+($A155<=C$2)*LN(1+C$5/10000)+IF(ISNUMBER($A154),$A154*C154))/$A155","v":3.3745095629307012E-2},{"$f":"($A155*LN(1+'Curves without VA'!D155)-IF(ISNUMBER($A154),$A154*LN(1+'Curves without VA'!D154),0)+($A155<=D$2)*LN(1+D$5/10000)+IF(ISNUMBER($A154),$A154*D154))/$A155","v":3.1650939515085082E-2},{"$f":"($A155*LN(1+'Curves without VA'!E155)-IF(ISNUMBER($A154),$A154*LN(1+'Curves without VA'!E154),0)+($A155<=E$2)*LN(1+E$5/10000)+IF(ISNUMBER($A154),$A154*E154))/$A155","v":3.56451549716231E-2},{"$f":"($A155*LN(1+'Curves without VA'!F155)-IF(ISNUMBER($A154),$A154*LN(1+'Curves without VA'!F154),0)+($A155<=F$2)*LN(1+F$5/10000)+IF(ISNUMBER($A154),$A154*F154))/$A155","v":3.7517775024916329E-2},{"$f":"($A155*LN(1+'Curves without VA'!G155)-IF(ISNUMBER($A154),$A154*LN(1+'Curves without VA'!G154),0)+($A155<=G$2)*LN(1+G$5/10000)+IF(ISNUMBER($A154),$A154*G154))/$A155","v":3.6438021575827526E-2},{"$f":"($A155*LN(1+'Curves without VA'!H155)-IF(ISNUMBER($A154),$A154*LN(1+'Curves without VA'!H154),0)+($A155<=H$2)*LN(1+H$5/10000)+IF(ISNUMBER($A154),$A154*H154))/$A155","v":3.3825454296382541E-2},{"$f":"($A155*LN(1+'Curves without VA'!I155)-IF(ISNUMBER($A154),$A154*LN(1+'Curves without VA'!I154),0)+($A155<=I$2)*LN(1+I$5/10000)+IF(ISNUMBER($A154),$A154*I154))/$A155","v":4.3695295370656542E-2},{"$f":"($A155*LN(1+'Curves without VA'!J155)-IF(ISNUMBER($A154),$A154*LN(1+'Curves without VA'!J154),0)+($A155<=J$2)*LN(1+J$5/10000)+IF(ISNUMBER($A154),$A154*J154))/$A155","v":3.4803285377998913E-2},3.3361046801659189E-2,3.5384494941208988E-2,3.2631134158538799E-2,3.7106724949266923E-2,3.8667464800898221E-2,3.8078142393519032E-2,3.6255163362547194E-2,4.7749310825762947E-2,3.7644678769473749E-2,{"$f":"(1+'Curves without VA'!K155)*(1+K155)/(1+'Curves without VA'!B155)-1","v":3.7458450009785427E-2},{"$f":"(1+'Curves without VA'!L155)*(1+L155)/(1+'Curves without VA'!C155)-1","v":4.0989475228585759E-2},{"$f":"(1+'Curves without VA'!M155)*(1+M155)/(1+'Curves without VA'!D155)-1","v":3.7323285422166341E-2},{"$f":"(1+'Curves without VA'!N155)*(1+N155)/(1+'Curves without VA'!E155)-1","v":4.2214140216956464E-2},{"$f":"(1+'Curves without VA'!O155)*(1+O155)/(1+'Curves without VA'!F155)-1","v":4.621081913118763E-2},{"$f":"(1+'Curves without VA'!P155)*(1+P155)/(1+'Curves without VA'!G155)-1","v":4.3775040958938582E-2},{"$f":"(1+'Curves without VA'!Q155)*(1+Q155)/(1+'Curves without VA'!H155)-1","v":4.1914973064181238E-2},{"$f":"(1+'Curves without VA'!R155)*(1+R155)/(1+'Curves without VA'!I155)-1","v":5.6072891735610808E-2},{"$f":"(1+'Curves without VA'!S155)*(1+S155)/(1+'Curves without VA'!J155)-1","v":4.3919729869671187E-2},{"$f":"(1+'Curves without VA'!T155)*(1+K155)/(1+'Curves without VA'!B155)-1","v":2.7720326494896641E-2},{"$f":"(1+'Curves without VA'!U155)*(1+L155)/(1+'Curves without VA'!C155)-1","v":3.0458126535794383E-2},{"$f":"(1+'Curves without VA'!V155)*(1+M155)/(1+'Curves without VA'!D155)-1","v":2.6016297674471334E-2},{"$f":"(1+'Curves without VA'!W155)*(1+N155)/(1+'Curves without VA'!E155)-1","v":2.9252926816034197E-2},{"$f":"(1+'Curves without VA'!X155)*(1+O155)/(1+'Curves without VA'!F155)-1","v":2.5348485772999751E-2},{"$f":"(1+'Curves without VA'!Y155)*(1+P155)/(1+'Curves without VA'!G155)-1","v":2.9643290545824597E-2},{"$f":"(1+'Curves without VA'!Z155)*(1+Q155)/(1+'Curves without VA'!H155)-1","v":3.2609068258513396E-2},{"$f":"(1+'Curves without VA'!AA155)*(1+R155)/(1+'Curves without VA'!I155)-1","v":4.2319684236078459E-2},{"$f":"(1+'Curves without VA'!AB155)*(1+S155)/(1+'Curves without VA'!J155)-1","v":3.375231984172844E-2}]
[143,{"$f":"($A156*LN(1+'Curves without VA'!B156)-IF(ISNUMBER($A155),$A155*LN(1+'Curves without VA'!B155),0)+($A156<=B$2)*LN(1+B$5/10000)+IF(ISNUMBER($A155),$A155*B155))/$A156","v":3.2751042779829272E-2},{"$f":"($A156*LN(1+'Curves without VA'!C156)-IF(ISNUMBER($A155),$A155*LN(1+'Curves without VA'!C155),0)+($A156<=C$2)*LN(1+C$5/10000)+IF(ISNUMBER($A155),$A155*C155))/$A156","v":3.3736159226015312E-2},{"$f":"($A156*LN(1+'Curves without VA'!D156)-IF(ISNUMBER($A155),$A155*LN(1+'Curves without VA'!D155),0)+($A156<=D$2)*LN(1+D$5/10000)+IF(ISNUMBER($A155),$A155*D155))/$A156","v":3.1649874694839014E-2},{"$f":"($A156*LN(1+'Curves without VA'!E156)-IF(ISNUMBER($A155),$A155*LN(1+'Curves without VA'!E155),0)+($A156<=E$2)*LN(1+E$5/10000)+IF(ISNUMBER($A155),$A155*E155))/$A156","v":3.5622931434800727E-2},{"$f":"($A156*LN(1+'Curves without VA'!F156)-IF(ISNUMBER($A155),$A155*LN(1+'Curves without VA'!F155),0)+($A156<=F$2)*LN(1+F$5/10000)+IF(ISNUMBER($A155),$A155*F155))/$A156","v":3.7482456190692563E-2},{"$f":"($A156*LN(1+'Curves without VA'!G156)-IF(ISNUMBER($A155),$A155*LN(1+'Curves without VA'!G155),0)+($A156<=G$2)*LN(1+G$5/10000)+IF(ISNUMBER($A155),$A155*G155))/$A156","v":3.6410253517297438E-2},{"$f":"($A156*LN(1+'Curves without VA'!H156)-IF(ISNUMBER($A155),$A155*LN(1+'Curves without VA'!H155),0)+($A156<=H$2)*LN(1+H$5/10000)+IF(ISNUMBER($A155),$A155*H155))/$A156","v":3.3815955944899487E-2},{"$f":"($A156*LN(1+'Curves without VA'!I156)-IF(ISNUMBER($A155),$A155*LN(1+'Curves without VA'!I155),0)+($A156<=I$2)*LN(1+I$5/10000)+IF(ISNUMBER($A155),$A155*I155))/$A156","v":4.3677439711515623E-2},{"$f":"($A156*LN(1+'Curves without VA'!J156)-IF(ISNUMBER($A155),$A155*LN(1+'Curves without VA'!J155),0)+($A156<=J$2)*LN(1+J$5/10000)+IF(ISNUMBER($A155),$A155*J155))/$A156","v":3.478694904692408E-2},3.3358521568617183E-2,3.5367801148422418E-2,3.2626719534702531E-2,3.7077950353490596E-2,3.8627726177502097E-2,3.8042544815769741E-2,3.623236449911027E-2,4.7708996138060344E-2,3.7612126210979868E-2,{"$f":"(1+'Curves without VA'!K156)*(1+K156)/(1+'Curves without VA'!B156)-1","v":3.7437732277865621E-2},{"$f":"(1+'Curves without VA'!L156)*(1+L156)/(1+'Curves without VA'!C156)-1","v":4.0943953507710962E-2},{"$f":"(1+'Curves without VA'!M156)*(1+M156)/(1+'Curves without VA'!D156)-1","v":3.7296500709468994E-2},{"$f":"(1+'Curves without VA'!N156)*(1+N156)/(1+'Curves without VA'!E156)-1","v":4.2159996652419984E-2},{"$f":"(1+'Curves without VA'!O156)*(1+O156)/(1+'Curves without VA'!F156)-1","v":4.6128472305116075E-2},{"$f":"(1+'Curves without VA'!P156)*(1+P156)/(1+'Curves without VA'!G156)-1","v":4.3709893593377069E-2},{"$f":"(1+'Curves without VA'!Q156)*(1+Q156)/(1+'Curves without VA'!H156)-1","v":4.1862936235947279E-2},{"$f":"(1+'Curves without VA'!R156)*(1+R156)/(1+'Curves without VA'!I156)-1","v":5.598444612783382E-2},{"$f":"(1+'Curves without VA'!S156)*(1+S156)/(1+'Curves without VA'!J156)-1","v":4.3853560991482743E-2},{"$f":"(1+'Curves without VA'!T156)*(1+K156)/(1+'Curves without VA'!B156)-1","v":2.774670943098978E-2},{"$f":"(1+'Curves without VA'!U156)*(1+L156)/(1+'Curves without VA'!C156)-1","v":3.0465408717023745E-2},{"$f":"(1+'Curves without VA'!V156)*(1+M156)/(1+'Curves without VA'!D156)-1","v":2.6047584131981161E-2},{"$f":"(1+'Curves without VA'!W156)*(1+N156)/(1+'Curves without VA'!E156)-1","v":2.9268623496125912E-2},{"$f":"(1+'Curves without VA'!X156)*(1+O156)/(1+'Curves without VA'!F156)-1","v":2.5391369250484352E-2},{"$f":"(1+'Curves without VA'!Y156)*(1+P156)/(1+'Curves without VA'!G156)-1","v":2.9656262934300015E-2},{"$f":"(1+'Curves without VA'!Z156)*(1+Q156)/(1+'Curves without VA'!H156)-1","v":3.2601308472281376E-2},{"$f":"(1+'Curves without VA'!AA156)*(1+R156)/(1+'Curves without VA'!I156)-1","v":4.230694833873283E-2},{"$f":"(1+'Curves without VA'!AB156)*(1+S156)/(1+'Curves without VA'!J156)-1","v":3.3736552391713248E-2}]
[144,{"$f":"($A157*LN(1+'Curves without VA'!B157)-IF(ISNUMBER($A156),$A156*LN(1+'Curves without VA'!B156),0)+($A157<=B$2)*LN(1+B$5/10000)+IF(ISNUMBER($A156),$A156*B156))/$A157","v":3.2749071578995308E-2},{"$f":"($A157*LN(1+'Curves without VA'!C157)-IF(ISNUMBER($A156),$A156*LN(1+'Curves without VA'!C156),0)+($A157<=C$2)*LN(1+C$5/10000)+IF(ISNUMBER($A156),$A156*C156))/$A157","v":3.3727346939565576E-2},{"$f":"($A157*LN(1+'Curves without VA'!D157)-IF(ISNUMBER($A156),$A156*LN(1+'Curves without VA'!D156),0)+($A157<=D$2)*LN(1+D$5/10000)+IF(ISNUMBER($A156),$A156*D156))/$A157","v":3.1648824661476727E-2},{"$f":"($A157*LN(1+'Curves without VA'!E157)-IF(ISNUMBER($A156),$A156*LN(1+'Curves without VA'!E156),0)+($A157<=E$2)*LN(1+E$5/10000)+IF(ISNUMBER($A156),$A156*E156))/$A157","v":3.5601016558885853E-2},{"$f":"($A157*LN(1+'Curves without VA'!F157)-IF(ISNUMBER($A156),$A156*LN(1+'Curves without VA'!F156),0)+($A157<=F$2)*LN(1+F$5/10000)+IF(ISNUMBER($A156),$A156*F156))/$A157","v":3.7447627901914381E-2},{"$f":"($A157*LN(1+'Curves without VA'!G157)-IF(ISNUMBER($A156),$A156*LN(1+'Curves without VA'!G156),0)+($A157<=G$2)*LN(1+G$5/10000)+IF(ISNUMBER($A156),$A156*G156))/$A157","v":3.6382871126920908E-2},{"$f":"($A157*LN(1+'Curves without VA'!H157)-IF(ISNUMBER($A156),$A156*LN(1+'Curves without VA'!H156),0)+($A157<=H$2)*LN(1+H$5/10000)+IF(ISNUMBER($A156),$A156*H156))/$A157","v":3.3806589515039266E-2},{"$f":"($A157*LN(1+'Curves without VA'!I157)-IF(ISNUMBER($A156),$A156*LN(1+'Curves without VA'!I156),0)+($A157<=I$2)*LN(1+I$5/10000)+IF(ISNUMBER($A156),$A156*I156))/$A157","v":4.3659832052861863E-2},{"$f":"($A157*LN(1+'Curves without VA'!J157)-IF(ISNUMBER($A156),$A156*LN(1+'Curves without VA'!J156),0)+($A157<=J$2)*LN(1+J$5/10000)+IF(ISNUMBER($A156),$A156*J156))/$A157","v":3.4770839609410964E-2},3.3356031413486864E-2,3.5351339467824205E-2,3.2622366218575172E-2,3.7049576148278973E-2,3.8588540786272718E-2,3.8007442798678515E-2,3.6209882768032831E-2,4.7669242872757867E-2,3.7580026759679086E-2,{"$f":"(1+'Curves without VA'!K157)*(1+K157)/(1+'Curves without VA'!B157)-1","v":3.7417302689408682E-2},{"$f":"(1+'Curves without VA'!L157)*(1+L157)/(1+'Curves without VA'!C157)-1","v":4.0899065954249192E-2},{"$f":"(1+'Curves without VA'!M157)*(1+M157)/(1+'Curves without VA'!D157)-1","v":3.7270088622308295E-2},{"$f":"(1+'Curves without VA'!N157)*(1+N157)/(1+'Curves without VA'!E157)-1","v":4.210660776407793E-2},{"$f":"(1+'Curves without VA'!O157)*(1+O157)/(1+'Curves without VA'!F157)-1","v":4.6047274956577899E-2},{"$f":"(1+'Curves without VA'!P157)*(1+P157)/(1+'Curves without VA'!G157)-1","v":4.3645654938756051E-2},{"$f":"(1+'Curves without VA'!Q157)*(1+Q157)/(1+'Curves without VA'!H157)-1","v":4.181162466355981E-2},{"$f":"(1+'Curves without VA'!R157)*(1+R157)/(1+'Curves without VA'!I157)-1","v":5.5897236125842742E-2},{"$f":"(1+'Curves without VA'!S157)*(1+S157)/(1+'Curves without VA'!J157)-1","v":4.3788315205943951E-2},{"$f":"(1+'Curves without VA'!T157)*(1+K157)/(1+'Curves without VA'!B157)-1","v":2.7772726621460908E-2},{"$f":"(1+'Curves without VA'!U157)*(1+L157)/(1+'Curves without VA'!C157)-1","v":3.0472589806428863E-2},{"$f":"(1+'Curves without VA'!V157)*(1+M157)/(1+'Curves without VA'!D157)-1","v":2.6078437017556411E-2},{"$f":"(1+'Curves without VA'!W157)*(1+N157)/(1+'Curves without VA'!E157)-1","v":2.9284102412545199E-2},{"$f":"(1+'Curves without VA'!X157)*(1+O157)/(1+'Curves without VA'!F157)-1","v":2.5433659550236687E-2},{"$f":"(1+'Curves without VA'!Y157)*(1+P157)/(1+'Curves without VA'!G157)-1","v":2.9669055308980008E-2},{"$f":"(1+'Curves without VA'!Z157)*(1+Q157)/(1+'Curves without VA'!H157)-1","v":3.2593656510236935E-2},{"$f":"(1+'Curves without VA'!AA157)*(1+R157)/(1+'Curves without VA'!I157)-1","v":4.2294389459508253E-2},{"$f":"(1+'Curves without VA'!AB157)*(1+S157)/(1+'Curves without VA'!J157)-1","v":3.3721004159064316E-2}]
[145,{"$f":"($A158*LN(1+'Curves without VA'!B158)-IF(ISNUMBER($A157),$A157*LN(1+'Curves without VA'!B157),0)+($A158<=B$2)*LN(1+B$5/10000)+IF(ISNUMBER($A157),$A157*B157))/$A158","v":3.274712756733808E-2},{"$f":"($A158*LN(1+'Curves without VA'!C158)-IF(ISNUMBER($A157),$A157*LN(1+'Curves without VA'!C157),0)+($A158<=C$2)*LN(1+C$5/10000)+IF(ISNUMBER($A157),$A157*C157))/$A158","v":3.3718656202009555E-2},{"$f":"($A158*LN(1+'Curves without VA'!D158)-IF(ISNUMBER($A157),$A157*LN(1+'Curves without VA'!D157),0)+($A158<=D$2)*LN(1+D$5/10000)+IF(ISNUMBER($A157),$A157*D157))/$A158","v":3.1647789109299183E-2},{"$f":"($A158*LN(1+'Curves without VA'!E158)-IF(ISNUMBER($A157),$A157*LN(1+'Curves without VA'!E157),0)+($A158<=E$2)*LN(1+E$5/10000)+IF(ISNUMBER($A157),$A157*E157))/$A158","v":3.5579403957721016E-2},{"$f":"($A158*LN(1+'Curves without VA'!F158)-IF(ISNUMBER($A157),$A157*LN(1+'Curves without VA'!F157),0)+($A158<=F$2)*LN(1+F$5/10000)+IF(ISNUMBER($A157),$A157*F157))/$A158","v":3.7413280008736054E-2},{"$f":"($A158*LN(1+'Curves without VA'!G158)-IF(ISNUMBER($A157),$A157*LN(1+'Curves without VA'!G157),0)+($A158<=G$2)*LN(1+G$5/10000)+IF(ISNUMBER($A157),$A157*G157))/$A158","v":3.6355866425286668E-2},{"$f":"($A158*LN(1+'Curves without VA'!H158)-IF(ISNUMBER($A157),$A157*LN(1+'Curves without VA'!H157),0)+($A158<=H$2)*LN(1+H$5/10000)+IF(ISNUMBER($A157),$A157*H157))/$A158","v":3.3797352277381634E-2},{"$f":"($A158*LN(1+'Curves without VA'!I158)-IF(ISNUMBER($A157),$A157*LN(1+'Curves without VA'!I157),0)+($A158<=I$2)*LN(1+I$5/10000)+IF(ISNUMBER($A157),$A157*I157))/$A158","v":4.3642467263110302E-2},{"$f":"($A158*LN(1+'Curves without VA'!J158)-IF(ISNUMBER($A157),$A157*LN(1+'Curves without VA'!J157),0)+($A158<=J$2)*LN(1+J$5/10000)+IF(ISNUMBER($A157),$A157*J157))/$A158","v":3.4754952371102509E-2},3.3353575610477915E-2,3.5335105092669572E-2,3.2618072943926935E-2,3.7021594037580208E-2,3.8549897169228409E-2,3.7972826069380572E-2,3.6187711598858696E-2,4.7630039385318623E-2,3.7548371021575822E-2,{"$f":"(1+'Curves without VA'!K158)*(1+K158)/(1+'Curves without VA'!B158)-1","v":3.7397155275317839E-2},{"$f":"(1+'Curves without VA'!L158)*(1+L158)/(1+'Curves without VA'!C158)-1","v":4.0854799410267706E-2},{"$f":"(1+'Curves without VA'!M158)*(1+M158)/(1+'Curves without VA'!D158)-1","v":3.7244041443636799E-2},{"$f":"(1+'Curves without VA'!N158)*(1+N158)/(1+'Curves without VA'!E158)-1","v":4.2053957888687599E-2},{"$f":"(1+'Curves without VA'!O158)*(1+O158)/(1+'Curves without VA'!F158)-1","v":4.5967203232044396E-2},{"$f":"(1+'Curves without VA'!P158)*(1+P158)/(1+'Curves without VA'!G158)-1","v":4.358230612199776E-2},{"$f":"(1+'Curves without VA'!Q158)*(1+Q158)/(1+'Curves without VA'!H158)-1","v":4.1761023291681187E-2},{"$f":"(1+'Curves without VA'!R158)*(1+R158)/(1+'Curves without VA'!I158)-1","v":5.5811236021885646E-2},{"$f":"(1+'Curves without VA'!S158)*(1+S158)/(1+'Curves without VA'!J158)-1","v":4.3723973332712385E-2},{"$f":"(1+'Curves without VA'!T158)*(1+K158)/(1+'Curves without VA'!B158)-1","v":2.7798385617699095E-2},{"$f":"(1+'Curves without VA'!U158)*(1+L158)/(1+'Curves without VA'!C158)-1","v":3.0479671894613869E-2},{"$f":"(1+'Curves without VA'!V158)*(1+M158)/(1+'Curves without VA'!D158)-1","v":2.6108865279591775E-2},{"$f":"(1+'Curves without VA'!W158)*(1+N158)/(1+'Curves without VA'!E158)-1","v":2.9299368064761522E-2},{"$f":"(1+'Curves without VA'!X158)*(1+O158)/(1+'Curves without VA'!F158)-1","v":2.5475368839674495E-2},{"$f":"(1+'Curves without VA'!Y158)*(1+P158)/(1+'Curves without VA'!G158)-1","v":2.9681671391186937E-2},{"$f":"(1+'Curves without VA'!Z158)*(1+Q158)/(1+'Curves without VA'!H158)-1","v":3.2586110141159974E-2},{"$f":"(1+'Curves without VA'!AA158)*(1+R158)/(1+'Curves without VA'!I158)-1","v":4.2282003935075751E-2},{"$f":"(1+'Curves without VA'!AB158)*(1+S158)/(1+'Curves without VA'!J158)-1","v":3.3705670604495142E-2}]
[146,{"$f":"($A159*LN(1+'Curves without VA'!B159)-IF(ISNUMBER($A158),$A158*LN(1+'Curves without VA'!B158),0)+($A159<=B$2)*LN(1+B$5/10000)+IF(ISNUMBER($A158),$A158*B158))/$A159","v":3.2745210186154811E-2},{"$f":"($A159*LN(1+'Curves without VA'!C159)-IF(ISNUMBER($A158),$A158*LN(1+'Curves without VA'!C158),0)+($A159<=C$2)*LN(1+C$5/10000)+IF(ISNUMBER($A158),$A158*C158))/$A159","v":3.3710084515755259E-2},{"$f":"($A159*LN(1+'Curves without VA'!D159)-IF(ISNUMBER($A158),$A158*LN(1+'Curves without VA'!D158),0)+($A159<=D$2)*LN(1+D$5/10000)+IF(ISNUMBER($A158),$A158*D158))/$A159","v":3.1646767740958516E-2},{"$f":"($A159*LN(1+'Curves without VA'!E159)-IF(ISNUMBER($A158),$A158*LN(1+'Curves without VA'!E158),0)+($A159<=E$2)*LN(1+E$5/10000)+IF(ISNUMBER($A158),$A158*E158))/$A159","v":3.5558087420119115E-2},{"$f":"($A159*LN(1+'Curves without VA'!F159)-IF(ISNUMBER($A158),$A158*LN(1+'Curves without VA'!F158),0)+($A159<=F$2)*LN(1+F$5/10000)+IF(ISNUMBER($A158),$A158*F158))/$A159","v":3.7379402639455862E-2},{"$f":"($A159*LN(1+'Curves without VA'!G159)-IF(ISNUMBER($A158),$A158*LN(1+'Curves without VA'!G158),0)+($A159<=G$2)*LN(1+G$5/10000)+IF(ISNUMBER($A158),$A158*G158))/$A159","v":3.6329231651605551E-2},{"$f":"($A159*LN(1+'Curves without VA'!H159)-IF(ISNUMBER($A158),$A158*LN(1+'Curves without VA'!H158),0)+($A159<=H$2)*LN(1+H$5/10000)+IF(ISNUMBER($A158),$A158*H158))/$A159","v":3.3788241577285216E-2},{"$f":"($A159*LN(1+'Curves without VA'!I159)-IF(ISNUMBER($A158),$A158*LN(1+'Curves without VA'!I158),0)+($A159<=I$2)*LN(1+I$5/10000)+IF(ISNUMBER($A158),$A158*I158))/$A159","v":4.3625340351323379E-2},{"$f":"($A159*LN(1+'Curves without VA'!J159)-IF(ISNUMBER($A158),$A158*LN(1+'Curves without VA'!J158),0)+($A159<=J$2)*LN(1+J$5/10000)+IF(ISNUMBER($A158),$A158*J158))/$A159","v":3.4739282766254632E-2},3.3351153453679894E-2,3.5319093347949249E-2,3.2613838478962931E-2,3.6993995952658176E-2,3.8511784181189279E-2,3.7938684636641185E-2,3.6165844601315555E-2,4.7591374350841598E-2,3.7517149860478938E-2,{"$f":"(1+'Curves without VA'!K159)*(1+K159)/(1+'Curves without VA'!B159)-1","v":3.7377284230175167E-2},{"$f":"(1+'Curves without VA'!L159)*(1+L159)/(1+'Curves without VA'!C159)-1","v":4.0811141079116764E-2},{"$f":"(1+'Curves without VA'!M159)*(1+M159)/(1+'Curves without VA'!D159)-1","v":3.7218351667553717E-2},{"$f":"(1+'Curves without VA'!N159)*(1+N159)/(1+'Curves without VA'!E159)-1","v":4.2002031792910621E-2},{"$f":"(1+'Curves without VA'!O159)*(1+O159)/(1+'Curves without VA'!F159)-1","v":4.5888233928903066E-2},{"$f":"(1+'Curves without VA'!P159)*(1+P159)/(1+'Curves without VA'!G159)-1","v":4.3519828788306514E-2},{"$f":"(1+'Curves without VA'!Q159)*(1+Q159)/(1+'Curves without VA'!H159)-1","v":4.171111747863443E-2},{"$f":"(1+'Curves without VA'!R159)*(1+R159)/(1+'Curves without VA'!I159)-1","v":5.5726420815983113E-2},{"$f":"(1+'Curves without VA'!S159)*(1+S159)/(1+'Curves without VA'!J159)-1","v":4.3660516718958986E-2},{"$f":"(1+'Curves without VA'!T159)*(1+K159)/(1+'Curves without VA'!B159)-1","v":2.7823693764798429E-2},{"$f":"(1+'Curves without VA'!U159)*(1+L159)/(1+'Curves without VA'!C159)-1","v":3.0486657014925589E-2},{"$f":"(1+'Curves without VA'!V159)*(1+M159)/(1+'Curves without VA'!D159)-1","v":2.6138877622140955E-2},{"$f":"(1+'Curves without VA'!W159)*(1+N159)/(1+'Curves without VA'!E159)-1","v":2.9314424829220975E-2},{"$f":"(1+'Curves without VA'!X159)*(1+O159)/(1+'Curves without VA'!F159)-1","v":2.5516508960993001E-2},{"$f":"(1+'Curves without VA'!Y159)*(1+P159)/(1+'Curves without VA'!G159)-1","v":2.969411480035733E-2},{"$f":"(1+'Curves without VA'!Z159)*(1+Q159)/(1+'Curves without VA'!H159)-1","v":3.2578667194909761E-2},{"$f":"(1+'Curves without VA'!AA159)*(1+R159)/(1+'Curves without VA'!I159)-1","v":4.2269788202325964E-2},{"$f":"(1+'Curves without VA'!AB159)*(1+S159)/(1+'Curves without VA'!J159)-1","v":3.3690547313101726E-2}]
[147,{"$f":"($A160*LN(1+'Curves without VA'!B160)-IF(ISNUMBER($A159),$A159*LN(1+'Curves without VA'!B159),0)+($A160<=B$2)*LN(1+B$5/10000)+IF(ISNUMBER($A159),$A159*B159))/$A160","v":3.2743318891948384E-2},{"$f":"($A160*LN(1+'Curves without VA'!C160)-IF(ISNUMBER($A159),$A159*LN(1+'Curves without VA'!C159),0)+($A160<=C$2)*LN(1+C$5/10000)+IF(ISNUMBER($A159),$A159*C159))/$A160","v":3.3701629451173984E-2},{"$f":"($A160*LN(1+'Curves without VA'!D160)-IF(ISNUMBER($A159),$A159*LN(1+'Curves without VA'!D159),0)+($A160<=D$2)*LN(1+D$5/10000)+IF(ISNUMBER($A159),$A159*D159))/$A160","v":3.164576026717545E-2},{"$f":"($A160*LN(1+'Curves without VA'!E160)-IF(ISNUMBER($A159),$A159*LN(1+'Curves without VA'!E159),0)+($A160<=E$2)*LN(1+E$5/10000)+IF(ISNUMBER($A159),$A159*E159))/$A160","v":3.5537060903911365E-2},{"$f":"($A160*LN(1+'Curves without VA'!F160)-IF(ISNUMBER($A159),$A159*LN(1+'Curves without VA'!F159),0)+($A160<=F$2)*LN(1+F$5/10000)+IF(ISNUMBER($A159),$A159*F159))/$A160","v":3.7345986191047127E-2},{"$f":"($A160*LN(1+'Curves without VA'!G160)-IF(ISNUMBER($A159),$A159*LN(1+'Curves without VA'!G159),0)+($A160<=G$2)*LN(1+G$5/10000)+IF(ISNUMBER($A159),$A159*G159))/$A160","v":3.6302959256272312E-2},{"$f":"($A160*LN(1+'Curves without VA'!H160)-IF(ISNUMBER($A159),$A159*LN(1+'Curves without VA'!H159),0)+($A160<=H$2)*LN(1+H$5/10000)+IF(ISNUMBER($A159),$A159*H159))/$A160","v":3.3779254832344591E-2},{"$f":"($A160*LN(1+'Curves without VA'!I160)-IF(ISNUMBER($A159),$A159*LN(1+'Curves without VA'!I159),0)+($A160<=I$2)*LN(1+I$5/10000)+IF(ISNUMBER($A159),$A159*I159))/$A160","v":4.3608446462421499E-2},{"$f":"($A160*LN(1+'Curves without VA'!J160)-IF(ISNUMBER($A159),$A159*LN(1+'Curves without VA'!J159),0)+($A160<=J$2)*LN(1+J$5/10000)+IF(ISNUMBER($A159),$A159*J159))/$A160","v":3.4723826353361825E-2},3.3348764256385888E-2,3.5303299685915501E-2,3.2609661625177422E-2,3.6966774044388195E-2,3.8474190979311151E-2,3.7905008781305094E-2,3.6144275559187866E-2,4.7553236753186123E-2,3.7486354389227428E-2,{"$f":"(1+'Curves without VA'!K160)*(1+K160)/(1+'Curves without VA'!B160)-1","v":3.7357683906673156E-2},{"$f":"(1+'Curves without VA'!L160)*(1+L160)/(1+'Curves without VA'!C160)-1","v":4.0768078513137906E-2},{"$f":"(1+'Curves without VA'!M160)*(1+M160)/(1+'Curves without VA'!D160)-1","v":3.7193011992176617E-2},{"$f":"(1+'Curves without VA'!N160)*(1+N160)/(1+'Curves without VA'!E160)-1","v":4.1950814658714863E-2},{"$f":"(1+'Curves without VA'!O160)*(1+O160)/(1+'Curves without VA'!F160)-1","v":4.5810344473837139E-2},{"$f":"(1+'Curves without VA'!P160)*(1+P160)/(1+'Curves without VA'!G160)-1","v":4.3458205083575896E-2},{"$f":"(1+'Curves without VA'!Q160)*(1+Q160)/(1+'Curves without VA'!H160)-1","v":4.1661892982307602E-2},{"$f":"(1+'Curves without VA'!R160)*(1+R160)/(1+'Curves without VA'!I160)-1","v":5.5642766191783988E-2},{"$f":"(1+'Curves without VA'!S160)*(1+S160)/(1+'Curves without VA'!J160)-1","v":4.3597927221375343E-2},{"$f":"(1+'Curves without VA'!T160)*(1+K160)/(1+'Curves without VA'!B160)-1","v":2.7848658208537991E-2},{"$f":"(1+'Curves without VA'!U160)*(1+L160)/(1+'Curves without VA'!C160)-1","v":3.0493547145400202E-2},{"$f":"(1+'Curves without VA'!V160)*(1+M160)/(1+'Curves without VA'!D160)-1","v":2.6168482513179159E-2},{"$f":"(1+'Curves without VA'!W160)*(1+N160)/(1+'Curves without VA'!E160)-1","v":2.9329276963518058E-2},{"$f":"(1+'Curves without VA'!X160)*(1+O160)/(1+'Curves without VA'!F160)-1","v":2.5557091441456903E-2},{"$f":"(1+'Curves without VA'!Y160)*(1+P160)/(1+'Curves without VA'!G160)-1","v":2.9706389057508664E-2},{"$f":"(1+'Curves without VA'!Z160)*(1+Q160)/(1+'Curves without VA'!H160)-1","v":3.257132556035347E-2},{"$f":"(1+'Curves without VA'!AA160)*(1+R160)/(1+'Curves without VA'!I160)-1","v":4.2257738794978961E-2},{"$f":"(1+'Curves without VA'!AB160)*(1+S160)/(1+'Curves without VA'!J160)-1","v":3.3675629990140177E-2}]
[148,{"$f":"($A161*LN(1+'Curves without VA'!B161)-IF(ISNUMBER($A160),$A160*LN(1+'Curves without VA'!B160),0)+($A161<=B$2)*LN(1+B$5/10000)+IF(ISNUMBER($A160),$A160*B160))/$A161","v":3.2741453155912238E-2},{"$f":"($A161*LN(1+'Curves without VA'!C161)-IF(ISNUMBER($A160),$A160*LN(1+'Curves without VA'!C160),0)+($A161<=C$2)*LN(1+C$5/10000)+IF(ISNUMBER($A160),$A160*C160))/$A161","v":3.3693288644303154E-2},{"$f":"($A161*LN(1+'Curves without VA'!D161)-IF(ISNUMBER($A160),$A160*LN(1+'Curves without VA'!D160),0)+($A161<=D$2)*LN(1+D$5/10000)+IF(ISNUMBER($A160),$A160*D160))/$A161","v":3.1644766406470397E-2},{"$f":"($A161*LN(1+'Curves without VA'!E161)-IF(ISNUMBER($A160),$A160*LN(1+'Curves without VA'!E160),0)+($A161<=E$2)*LN(1+E$5/10000)+IF(ISNUMBER($A160),$A160*E160))/$A161","v":3.5516318530236894E-2},{"$f":"($A161*LN(1+'Curves without VA'!F161)-IF(ISNUMBER($A160),$A160*LN(1+'Curves without VA'!F160),0)+($A161<=F$2)*LN(1+F$5/10000)+IF(ISNUMBER($A160),$A160*F160))/$A161","v":3.7313021320075974E-2},{"$f":"($A161*LN(1+'Curves without VA'!G161)-IF(ISNUMBER($A160),$A160*LN(1+'Curves without VA'!G160),0)+($A161<=G$2)*LN(1+G$5/10000)+IF(ISNUMBER($A160),$A160*G160))/$A161","v":3.627704189373035E-2},{"$f":"($A161*LN(1+'Curves without VA'!H161)-IF(ISNUMBER($A160),$A160*LN(1+'Curves without VA'!H160),0)+($A161<=H$2)*LN(1+H$5/10000)+IF(ISNUMBER($A160),$A160*H160))/$A161","v":3.3770389529950186E-2},{"$f":"($A161*LN(1+'Curves without VA'!I161)-IF(ISNUMBER($A160),$A160*LN(1+'Curves without VA'!I160),0)+($A161<=I$2)*LN(1+I$5/10000)+IF(ISNUMBER($A160),$A160*I160))/$A161","v":4.3591780872587374E-2},{"$f":"($A161*LN(1+'Curves without VA'!J161)-IF(ISNUMBER($A160),$A160*LN(1+'Curves without VA'!J160),0)+($A161<=J$2)*LN(1+J$5/10000)+IF(ISNUMBER($A160),$A160*J160))/$A161","v":3.4708578810960511E-2},3.3346407350445251E-2,3.52877196817869E-2,3.2605541216255141E-2,3.6939920675862492E-2,3.843710701302494E-2,3.7871789047128512E-2,3.6122998424436004E-2,4.7515615874535788E-2,3.7455975961270482E-2,{"$f":"(1+'Curves without VA'!K161)*(1+K161)/(1+'Curves without VA'!B161)-1","v":3.7338348810277866E-2},{"$f":"(1+'Curves without VA'!L161)*(1+L161)/(1+'Curves without VA'!C161)-1","v":4.0725599601864726E-2},{"$f":"(1+'Curves without VA'!M161)*(1+M161)/(1+'Curves without VA'!D161)-1","v":3.7168015312797342E-2},{"$f":"(1+'Curves without VA'!N161)*(1+N161)/(1+'Curves without VA'!E161)-1","v":4.1900292069367628E-2},{"$f":"(1+'Curves without VA'!O161)*(1+O161)/(1+'Curves without VA'!F161)-1","v":4.5733512902019768E-2},{"$f":"(1+'Curves without VA'!P161)*(1+P161)/(1+'Curves without VA'!G161)-1","v":4.3397417637493829E-2},{"$f":"(1+'Curves without VA'!Q161)*(1+Q161)/(1+'Curves without VA'!H161)-1","v":4.1613335946632191E-2},{"$f":"(1+'Curves without VA'!R161)*(1+R161)/(1+'Curves without VA'!I161)-1","v":5.5560248493395692E-2},{"$f":"(1+'Curves without VA'!S161)*(1+S161)/(1+'Curves without VA'!J161)-1","v":4.3536187188911946E-2},{"$f":"(1+'Curves without VA'!T161)*(1+K161)/(1+'Curves without VA'!B161)-1","v":2.7873285902086042E-2},{"$f":"(1+'Curves without VA'!U161)*(1+L161)/(1+'Curves without VA'!C161)-1","v":3.0500344210633523E-2},{"$f":"(1+'Curves without VA'!V161)*(1+M161)/(1+'Curves without VA'!D161)-1","v":2.6197688192531876E-2},{"$f":"(1+'Curves without VA'!W161)*(1+N161)/(1+'Curves without VA'!E161)-1","v":2.9343928610392478E-2},{"$f":"(1+'Curves without VA'!X161)*(1+O161)/(1+'Curves without VA'!F161)-1","v":2.559712750334997E-2},{"$f":"(1+'Curves without VA'!Y161)*(1+P161)/(1+'Curves without VA'!G161)-1","v":2.9718497588564707E-2},{"$f":"(1+'Curves without VA'!Z161)*(1+Q161)/(1+'Curves without VA'!H161)-1","v":3.2564083183379777E-2},{"$f":"(1+'Curves without VA'!AA161)*(1+R161)/(1+'Curves without VA'!I161)-1","v":4.2245852340331957E-2},{"$f":"(1+'Curves without VA'!AB161)*(1+S161)/(1+'Curves without VA'!J161)-1","v":3.3660914456972391E-2}]
[149,{"$f":"($A162*LN(1+'Curves without VA'!B162)-IF(ISNUMBER($A161),$A161*LN(1+'Curves without VA'!B161),0)+($A162<=B$2)*LN(1+B$5/10000)+IF(ISNUMBER($A161),$A161*B161))/$A162","v":3.2739612463438109E-2},{"$f":"($A162*LN(1+'Curves without VA'!C162)-IF(ISNUMBER($A161),$A161*LN(1+'Curves without VA'!C161),0)+($A162<=C$2)*LN(1+C$5/10000)+IF(ISNUMBER($A161),$A161*C161))/$A162","v":3.368505979464357E-2},{"$f":"($A162*LN(1+'Curves without VA'!D162)-IF(ISNUMBER($A161),$A161*LN(1+'Curves without VA'!D161),0)+($A162<=D$2)*LN(1+D$5/10000)+IF(ISNUMBER($A161),$A161*D161))/$A162","v":3.1643785884902666E-2},{"$f":"($A162*LN(1+'Curves without VA'!E162)-IF(ISNUMBER($A161),$A161*LN(1+'Curves without VA'!E161),0)+($A162<=E$2)*LN(1+E$5/10000)+IF(ISNUMBER($A161),$A161*E161))/$A162","v":3.549585457806121E-2},{"$f":"($A162*LN(1+'Curves without VA'!F162)-IF(ISNUMBER($A161),$A161*LN(1+'Curves without VA'!F161),0)+($A162<=F$2)*LN(1+F$5/10000)+IF(ISNUMBER($A161),$A161*F161))/$A162","v":3.728049893398535E-2},{"$f":"($A162*LN(1+'Curves without VA'!G162)-IF(ISNUMBER($A161),$A161*LN(1+'Curves without VA'!G161),0)+($A162<=G$2)*LN(1+G$5/10000)+IF(ISNUMBER($A161),$A161*G161))/$A162","v":3.6251472415625312E-2},{"$f":"($A162*LN(1+'Curves without VA'!H162)-IF(ISNUMBER($A161),$A161*LN(1+'Curves without VA'!H161),0)+($A162<=H$2)*LN(1+H$5/10000)+IF(ISNUMBER($A161),$A161*H161))/$A162","v":3.3761643224944786E-2},{"$f":"($A162*LN(1+'Curves without VA'!I162)-IF(ISNUMBER($A161),$A161*LN(1+'Curves without VA'!I161),0)+($A162<=I$2)*LN(1+I$5/10000)+IF(ISNUMBER($A161),$A161*I161))/$A162","v":4.3575338984856667E-2},{"$f":"($A162*LN(1+'Curves without VA'!J162)-IF(ISNUMBER($A161),$A161*LN(1+'Curves without VA'!J161),0)+($A162<=J$2)*LN(1+J$5/10000)+IF(ISNUMBER($A161),$A161*J161))/$A162","v":3.4693535933599473E-2},3.3344082085640991E-2,3.5272349029625616E-2,3.2601476117011696E-2,3.6913428415287886E-2,3.8400522014361949E-2,3.7839016231974387E-2,3.6102007311554107E-2,4.7478501285381336E-2,3.7426006162586845E-2,{"$f":"(1+'Curves without VA'!K162)*(1+K162)/(1+'Curves without VA'!B162)-1","v":3.7319273594098368E-2},{"$f":"(1+'Curves without VA'!L162)*(1+L162)/(1+'Curves without VA'!C162)-1","v":4.068369256069948E-2},{"$f":"(1+'Curves without VA'!M162)*(1+M162)/(1+'Curves without VA'!D162)-1","v":3.7143354715309052E-2},{"$f":"(1+'Curves without VA'!N162)*(1+N162)/(1+'Curves without VA'!E162)-1","v":4.1850449995984862E-2},{"$f":"(1+'Curves without VA'!O162)*(1+O162)/(1+'Curves without VA'!F162)-1","v":4.5657717837089828E-2},{"$f":"(1+'Curves without VA'!P162)*(1+P162)/(1+'Curves without VA'!G162)-1","v":4.3337449547321327E-2},{"$f":"(1+'Curves without VA'!Q162)*(1+Q162)/(1+'Curves without VA'!H162)-1","v":4.1565432888605702E-2},{"$f":"(1+'Curves without VA'!R162)*(1+R162)/(1+'Curves without VA'!I162)-1","v":5.5478844703146679E-2},{"$f":"(1+'Curves without VA'!S162)*(1+S162)/(1+'Curves without VA'!J162)-1","v":4.3475279446211657E-2},{"$f":"(1+'Curves without VA'!T162)*(1+K162)/(1+'Curves without VA'!B162)-1","v":2.7897583612431331E-2},{"$f":"(1+'Curves without VA'!U162)*(1+L162)/(1+'Curves without VA'!C162)-1","v":3.0507050083572684E-2},{"$f":"(1+'Curves without VA'!V162)*(1+M162)/(1+'Curves without VA'!D162)-1","v":2.6226502679493002E-2},{"$f":"(1+'Curves without VA'!W162)*(1+N162)/(1+'Curves without VA'!E162)-1","v":2.9358383801571408E-2},{"$f":"(1+'Curves without VA'!X162)*(1+O162)/(1+'Curves without VA'!F162)-1","v":2.5636628073591572E-2},{"$f":"(1+'Curves without VA'!Y162)*(1+P162)/(1+'Curves without VA'!G162)-1","v":2.9730443727541189E-2},{"$f":"(1+'Curves without VA'!Z162)*(1+Q162)/(1+'Curves without VA'!H162)-1","v":3.255693806499238E-2},{"$f":"(1+'Curves without VA'!AA162)*(1+R162)/(1+'Curves without VA'!I162)-1","v":4.2234125556136703E-2},{"$f":"(1+'Curves without VA'!AB162)*(1+S162)/(1+'Curves without VA'!J162)-1","v":3.3646396647177612E-2}]
[150,{"$f":"($A163*LN(1+'Curves without VA'!B163)-IF(ISNUMBER($A162),$A162*LN(1+'Curves without VA'!B162),0)+($A163<=B$2)*LN(1+B$5/10000)+IF(ISNUMBER($A162),$A162*B162))/$A163","v":3.2737796313641487E-2},{"$f":"($A163*LN(1+'Curves without VA'!C163)-IF(ISNUMBER($A162),$A162*LN(1+'Curves without VA'!C162),0)+($A163<=C$2)*LN(1+C$5/10000)+IF(ISNUMBER($A162),$A162*C162))/$A163","v":3.3676940663043733E-2},{"$f":"($A163*LN(1+'Curves without VA'!D163)-IF(ISNUMBER($A162),$A162*LN(1+'Curves without VA'!D162),0)+($A163<=D$2)*LN(1+D$5/10000)+IF(ISNUMBER($A162),$A162*D162))/$A163","v":3.1642818435821729E-2},{"$f":"($A163*LN(1+'Curves without VA'!E163)-IF(ISNUMBER($A162),$A162*LN(1+'Curves without VA'!E162),0)+($A163<=E$2)*LN(1+E$5/10000)+IF(ISNUMBER($A162),$A162*E162))/$A163","v":3.5475663478915571E-2},{"$f":"($A163*LN(1+'Curves without VA'!F163)-IF(ISNUMBER($A162),$A162*LN(1+'Curves without VA'!F162),0)+($A163<=F$2)*LN(1+F$5/10000)+IF(ISNUMBER($A162),$A162*F162))/$A163","v":3.7248410182726427E-2},{"$f":"($A163*LN(1+'Curves without VA'!G163)-IF(ISNUMBER($A162),$A162*LN(1+'Curves without VA'!G162),0)+($A163<=G$2)*LN(1+G$5/10000)+IF(ISNUMBER($A162),$A162*G162))/$A163","v":3.6226243864229304E-2},{"$f":"($A163*LN(1+'Curves without VA'!H163)-IF(ISNUMBER($A162),$A162*LN(1+'Curves without VA'!H162),0)+($A163<=H$2)*LN(1+H$5/10000)+IF(ISNUMBER($A162),$A162*H162))/$A163","v":3.3753013537376614E-2},{"$f":"($A163*LN(1+'Curves without VA'!I163)-IF(ISNUMBER($A162),$A162*LN(1+'Curves without VA'!I162),0)+($A163<=I$2)*LN(1+I$5/10000)+IF(ISNUMBER($A162),$A162*I162))/$A163","v":4.3559116324886418E-2},{"$f":"($A163*LN(1+'Curves without VA'!J163)-IF(ISNUMBER($A162),$A162*LN(1+'Curves without VA'!J162),0)+($A163<=J$2)*LN(1+J$5/10000)+IF(ISNUMBER($A162),$A162*J162))/$A163","v":3.4678693627973586E-2},3.3341787829092251E-2,3.5257183538379921E-2,3.2597465222375721E-2,3.6887290029167019E-2,3.8364425988652417E-2,3.780668137935983E-2,3.6081296492151083E-2,4.7441882834903248E-2,3.7396436803925903E-2,{"$f":"(1+'Curves without VA'!K163)*(1+K163)/(1+'Curves without VA'!B163)-1","v":3.7300453053967342E-2},{"$f":"(1+'Curves without VA'!L163)*(1+L163)/(1+'Curves without VA'!C163)-1","v":4.0642345920039791E-2},{"$f":"(1+'Curves without VA'!M163)*(1+M163)/(1+'Curves without VA'!D163)-1","v":3.7119023469890156E-2},{"$f":"(1+'Curves without VA'!N163)*(1+N163)/(1+'Curves without VA'!E163)-1","v":4.1801274784612819E-2},{"$f":"(1+'Curves without VA'!O163)*(1+O163)/(1+'Curves without VA'!F163)-1","v":4.5582938471884882E-2},{"$f":"(1+'Curves without VA'!P163)*(1+P163)/(1+'Curves without VA'!G163)-1","v":4.3278284362317843E-2},{"$f":"(1+'Curves without VA'!Q163)*(1+Q163)/(1+'Curves without VA'!H163)-1","v":4.1518170685830746E-2},{"$f":"(1+'Curves without VA'!R163)*(1+R163)/(1+'Curves without VA'!I163)-1","v":5.53985324202384E-2},{"$f":"(1+'Curves without VA'!S163)*(1+S163)/(1+'Curves without VA'!J163)-1","v":4.3415187277708212E-2},{"$f":"(1+'Curves without VA'!T163)*(1+K163)/(1+'Curves without VA'!B163)-1","v":2.7921557926563256E-2},{"$f":"(1+'Curves without VA'!U163)*(1+L163)/(1+'Curves without VA'!C163)-1","v":3.051366658723742E-2},{"$f":"(1+'Curves without VA'!V163)*(1+M163)/(1+'Curves without VA'!D163)-1","v":2.6254933780138323E-2},{"$f":"(1+'Curves without VA'!W163)*(1+N163)/(1+'Curves without VA'!E163)-1","v":2.9372646461456764E-2},{"$f":"(1+'Curves without VA'!X163)*(1+O163)/(1+'Curves without VA'!F163)-1","v":2.5675603793035018E-2},{"$f":"(1+'Curves without VA'!Y163)*(1+P163)/(1+'Curves without VA'!G163)-1","v":2.974223071961335E-2},{"$f":"(1+'Curves without VA'!Z163)*(1+Q163)/(1+'Curves without VA'!H163)-1","v":3.2549888259475246E-2},{"$f":"(1+'Curves without VA'!AA163)*(1+R163)/(1+'Curves without VA'!I163)-1","v":4.222255524759766E-2},{"$f":"(1+'Curves without VA'!AB163)*(1+S163)/(1+'Curves without VA'!J163)-1","v":3.3632072602812091E-2}]