{"text_format":"1","workbook":"xlsx","n_sheets":8,"sheets":["Interne documentatie","Invulinstructie","Invoer","Configuratie en berekeningen","Uitvoer","Kale curves (zonder UFR, VA)","Curves met UFR, zonder VA","Curves met UFR, met VA"],"not_rendered":{"charts":2,"images":0,"macros":1,"external_links":0,"defined_names":0,"comments":0,"pivot_tables":0},"unopened":[],"bounds":{"document_bytes":16777216,"sheet_cells":100000,"rows_first":2000,"rows_last":500,"rows_between":2000,"halvings":0,"cell_chars":16384,"cell_head_chars":4096},"cells_cut":0,"cells_raw":0,"read":"whole","date_system":"1900"}

{"sheet":"Interne documentatie","index":0,"n_rows":2,"n_cols":2,"rows_kept":2,"cut":false,"hidden":false,"merged":[]}
[]
[null,"Interne documentatie"]

{"sheet":"Invulinstructie","index":1,"n_rows":43,"n_cols":7,"rows_kept":43,"cut":false,"hidden":false,"merged":[[1,1,2,3],[1,6,2,8]]}
[]
[null,"Invulinstructie",null,null,null,null,"Versienummer: V-2026.1.0"]
[]
[]
[null,null,"Gele velden betreffen invulvelden"]
[null,null,"Terracotta velden betreffen verwijzingen"]
[null,null,"Grijze cellen zijn afgeleide velden, hierin staan berekeningen "]
[null,null,"Blauwe cellen bevatten een meerkeuze menu, door op de cellen te klikken kunt u een keuze maken uit een aantal mogelijkheden"]
[null,null,"Groene velden bevatten vaste parameters en tabelwaarden"]
[null,null,"Roze cellen bevatten uitkomsten"]
[]
[null,"Dit hulpprogramma is bedoeld om de omvang te berekenen van het effect van de UFR op de Beste Schatting."]
[null,"De uitkomsten laten zien hoe dit UFR-effect voor de rapportagejaren 2025 tot en met 2045 zal veranderen."]
[]
[null,"Toelichting"]
[null,"De UFR-methodiek bepaalt met welke rente de toekomstige kasstromen moeten worden verdisconteerd."]
[null,"Daarmee is deze methodiek van belang om de hoogte van de Beste Schatting te bepalen."]
[null,"Naarmate de kasstromen die nu nog (ver) in de toekomst liggen dichterbij komen, neemt ook het effect dat de UFR heeft op de Beste Schatting af"]
[]
[null,"Daarnaast is de UFR zelf ook onderhevig aan verandering"]
[null,"De methodiek voor de berekening van de UFR is door EIOPA vastgesteld. Jaarlijks bepaalt EIOPA de hoogte van de UFR. De maximale verandering in de UFR is vastgesteld op 0,15%."]
[null,"De UFR voor 2024 is volgens de methodiek van EIOPA berekend op 3,30%. "]
[null,"Dit betekent dat vanaf 1-1-2024, dus voor de kwartaalrapportages van 2024, gerekend moet worden met een UFR van 3,30%."]
[]
[null,"Invoer"]
[null,"In Tabblad 'Invoer' plakt u de gegevens uit staat TV-3 van de Nationale Staat."]
[]
[null,"Configuratie"]
[null,"U hebt mogelijkheid voor aanpassing van de VA (volatiliteitsaanpassing) en de rentecurve."]
[null,"Standaard staan deze ingevuld op de waarden van 31-12-2025."]
[]
[null,"De nieuwste waarden van de VA en de rentecurve kunt u vinden op <https://www.toezicht.dnb.nl/2/50-235853.jsp>. Download de Excelsheet in de bijlage."]
[null,"- De VA is te vinden in tabblad 'termstructure_alternative_VA' in Kolom C."]
[null,"- De rentecurve is te vinden op 'termstructure_alternative'. Pak hiervoor alle 120 kolommen vanaf Kolom F. Kies bij het kopieëren/plakken voor de optie \"Transponeren\" om van de lange rij een lange kolom te maken."]
[]
[null,"NB: de VA is hier de volatiliteitsaanpassing, zie paragraaf 2.3.6 van de 'Toelichting bij het invullen van de Solvency II Basic verzekeringstaten'."]
[null,"NB: indien u de rentecurve aanpast (bijvoorbeeld naar die van 30-06-2025), adviseren we ook de kasstromen in te vullen zoals op dat moment bekend."]
[]
[null,"Uitvoer"]
[null,"Het hulpprogramma genereert vervolgens de volgende uitkomsten:"]
[null,"- de omvang van de Beste Schatting voor 2025 tot en met 2045, zowel met UFR als zonder UFR;"]
[null,"- de omvang van het UFR-effect voor 2025 tot en met 2045;"]
[null,"- de verandering in deze omvang (de UFR-drag)."]

{"sheet":"Invoer","index":2,"n_rows":119,"n_cols":23,"rows_kept":119,"cut":false,"hidden":false,"merged":[[4,1,6,1],[4,2,4,5],[4,6,4,9],[4,10,4,13],[4,14,4,17],[4,22,6,22],[5,2,5,3],[5,4,5,5],[5,6,5,7],[5,8,5,9],[5,10,5,11],[5,12,5,13],[5,14,5,15],[5,16,5,17],[5,18,5,19],[4,18,4,21],[5,20,5,21]]}
["TV-3","Projectie toekomstige bruto kasstromen Leven (Beste schatting - leven, natura-uitvaart en arbeidsongeschiktheid)"]
[null,"Invullen in euro's"]
[]
[null,null,null,null,null,null,null," ",null,null,null,null,null,null,null," "]
[null,"Jaar (projectie van de niet-verdisconteerde verwachte kasstromen)","Verzekeringen met winstdeling",null,null,null,"Geïndexeerde en unit-linkedverzekeringen",null,null,null,"Overige levensverzekeringen",null,null,null,"Arbeidsongeschiktheidsverzekeringen",null,null,null,"Natura-uitvaartverzekeringen",null,null,null,"Totaal verhaalbare herverzeke-ringsbedragen (na aanpassing)"]
[null,null,"Uitgaande kasstromen",null,"Inkomende kasstromen",null,"Uitgaande kasstromen",null,"Inkomende kasstromen",null,"Uitgaande kasstromen",null,"Inkomende kasstromen",null,"Uitgaande kasstromen",null,"Inkomende kasstromen",null,"Uitgaande kasstromen",null,"Inkomende kasstromen"]
[null,null,"Toekomstige uitkeringen","Toekomstige kosten en andere uitgaande kasstromen","Toekomstige premies","Andere inkomende kasstromen","Toekomstige uitkeringen","Toekomstige kosten en andere uitgaande kasstromen","Toekomstige premies","Andere inkomende kasstromen","Toekomstige uitkeringen","Toekomstige kosten en andere uitgaande kasstromen","Toekomstige premies","Andere inkomende kasstromen","Toekomstige uitkeringen","Toekomstige kosten en andere uitgaande kasstromen","Toekomstige premies","Andere inkomende kasstromen","Toekomstige uitkeringen","Toekomstige kosten en andere uitgaande kasstromen","Toekomstige premies","Andere inkomende kasstromen"]
[null,null,"A1","A2","A3","A4","B1","B2","B3","B4","C1","C2","C3","C4","D1","D2","D3","D4","E1","E2","E3","E4","F"]
[1,1]
[2,2]
[3,3]
[4,4]
[5,5]
[6,6]
[7,7]
[8,8]
[9,9]
[10,10]
[11,11]
[12,12]
[13,13]
[14,14]
[15,15]
[16,16]
[17,17]
[18,18]
[19,19]
[20,20]
[21,21]
[22,22]
[23,23]
[24,24]
[25,25]
[26,26]
[27,27]
[28,28]
[29,29]
[30,30]
[31,31]
[32,32]
[33,33]
[34,34,null,null,null,null,null,null,null,null,null,null,null,null,null,null," "]
[35,35]
[36,36]
[37,37]
[38,38]
[39,39]
[40,40]
[41,41]
[42,42]
[43,43]
[44,44]
[45,45]
[46,46]
[47,47]
[48,48]
[49,49]
[50,50]
[51,51]
[52,52]
[53,53]
[54,54]
[55,55]
[56,56]
[57,57]
[58,58]
[59,59]
[60,60]
[61,61]
[62,62]
[63,63]
[64,64]
[65,65]
[66,66]
[67,67]
[68,68]
[69,69]
[70,70]
[71,71]
[72,72]
[73,73]
[74,74]
[75,75]
[76,76]
[77,77]
[78,78]
[79,79]
[80,80]
[81,81]
[82,82]
[83,83]
[84,84]
[85,85]
[86,86]
[87,87]
[88,88]
[89,89]
[90,90]
[91,91]
[92,92]
[93,93]
[94,94]
[95,95]
[96,96]
[97,97]
[98,98]
[99,99]
[100,100]
[101,101]
[102,102]
[103,103]
[104,104]
[105,105]
[106,106]
[107,107]
[108,108]
[109,109]
[110,110]
[111,"111 en verder"]

{"sheet":"Configuratie en berekeningen","index":3,"n_rows":147,"n_cols":16,"rows_kept":147,"cut":false,"hidden":false,"merged":[[1,8,1,15],[1,2,1,5]]}
[]
[null,null,"Configuratie",null,null,null,null,null,"Berekeningen"]
[null,null,null,null,null,null,null,null,null,"Met VA","Zonder VA"]
[null,null,"Keuze VA","Met VA","Hoogte VA:",14,"basispunten"]
[]
[null,null,"Totaal",{"$f":"SUM(D8:D147)","v":0}]
[null,null,"jaar","totaal van de kasstromen","kale rentecurve",null,null,null,"jaar","UFR","LLP","Beste Schatting zonder UFR, VA","Beste Schatting met UFR, VA (indien van toepassing)","jaar","UFR-effect","UFR-drag"]
[null,1,2025,{"$f":"Invoer!W9\n+SUM(Invoer!E9:F9,Invoer!I9:J9,Invoer!M9:N9,Invoer!Q9:R9,Invoer!U9:V9)\n-SUM(Invoer!C9:D9,Invoer!G9:H9,Invoer!K9:L9,Invoer!O9:P9,Invoer!S9:T9)","v":0},2.0759999999976624E-2,null,null,null,{"$f":"C8","v":2025},3.3000000000000002E-2,20,{"$f":"SUMPRODUCT(D8:D127,'Kale curves (zonder UFR, VA)'!Y$19:Y$138)","v":0},{"$f":"SUMPRODUCT(D8:D127,'Curves met UFR, met VA'!Y$25:Y$144)","v":0},{"$f":"I8","v":2025},{"$f":"L8-M8","v":0}]
[null,{"$f":"B8+1","v":2},{"$f":"C8+1","v":2026},{"$f":"Invoer!W10\n+SUM(Invoer!E10:F10,Invoer!I10:J10,Invoer!M10:N10,Invoer!Q10:R10,Invoer!U10:V10)\n-SUM(Invoer!C10:D10,Invoer!G10:H10,Invoer!K10:L10,Invoer!O10:P10,Invoer!S10:T10)","v":0},2.1629999999978278E-2,null,null,null,{"$f":"I8+1","v":2026},{"$f":"J8","v":3.3000000000000002E-2},{"$f":"K8","v":20},{"$f":"SUMPRODUCT(D9:D128,'Kale curves (zonder UFR, VA)'!Z$19:Z$138)","v":0},{"$f":"SUMPRODUCT(D9:D128,'Curves met UFR, met VA'!Z$25:Z$144)","v":0},{"$f":"N8+1","v":2026},0,{"$f":"O8-O9","v":0}]
[null,{"$f":"B9+1","v":3},2027,{"$f":"Invoer!W11\n+SUM(Invoer!E11:F11,Invoer!I11:J11,Invoer!M11:N11,Invoer!Q11:R11,Invoer!U11:V11)\n-SUM(Invoer!C11:D11,Invoer!G11:H11,Invoer!K11:L11,Invoer!O11:P11,Invoer!S11:T11)","v":0},2.282999999995905E-2,null,null,null,{"$f":"I9+1","v":2027},{"$f":"J9","v":3.3000000000000002E-2},{"$f":"K9","v":20},{"$f":"SUMPRODUCT(D10:D129,'Kale curves (zonder UFR, VA)'!AA$19:AA$138)","v":0},{"$f":"SUMPRODUCT(D10:D129,'Curves met UFR, met VA'!AA$25:AA$144)","v":0},{"$f":"N9+1","v":2027},0,{"$f":"O9-O10","v":0}]
[null,4,2028,{"$f":"Invoer!W12\n+SUM(Invoer!E12:F12,Invoer!I12:J12,Invoer!M12:N12,Invoer!Q12:R12,Invoer!U12:V12)\n-SUM(Invoer!C12:D12,Invoer!G12:H12,Invoer!K12:L12,Invoer!O12:P12,Invoer!S12:T12)","v":0},2.3859999999947368E-2,null,null,null,2028,{"$f":"J10","v":3.3000000000000002E-2},20,{"$f":"SUMPRODUCT(D11:D130,'Kale curves (zonder UFR, VA)'!AB$19:AB$138)","v":0},{"$f":"SUMPRODUCT(D11:D130,'Curves met UFR, met VA'!AB$25:AB$144)","v":0},2028,0,0]
[null,5,2029,{"$f":"Invoer!W13\n+SUM(Invoer!E13:F13,Invoer!I13:J13,Invoer!M13:N13,Invoer!Q13:R13,Invoer!U13:V13)\n-SUM(Invoer!C13:D13,Invoer!G13:H13,Invoer!K13:L13,Invoer!O13:P13,Invoer!S13:T13)","v":0},2.4789999999933254E-2,null,null,null,2029,{"$f":"J11","v":3.3000000000000002E-2},20,{"$f":"SUMPRODUCT(D12:D131,'Kale curves (zonder UFR, VA)'!AC$19:AC$138)","v":0},{"$f":"SUMPRODUCT(D12:D131,'Curves met UFR, met VA'!AC$25:AC$144)","v":0},2029,0,0]
[null,6,2030,{"$f":"Invoer!W14\n+SUM(Invoer!E14:F14,Invoer!I14:J14,Invoer!M14:N14,Invoer!Q14:R14,Invoer!U14:V14)\n-SUM(Invoer!C14:D14,Invoer!G14:H14,Invoer!K14:L14,Invoer!O14:P14,Invoer!S14:T14)","v":0},2.5649999999918238E-2,null,null,null,2030,3.3000000000000002E-2,20,{"$f":"SUMPRODUCT(D13:D132,'Kale curves (zonder UFR, VA)'!AD$19:AD$138)","v":0},{"$f":"SUMPRODUCT(D13:D132,'Curves met UFR, met VA'!AD$25:AD$144)","v":0},2030,0,0]
[null,7,2031,{"$f":"Invoer!W15\n+SUM(Invoer!E15:F15,Invoer!I15:J15,Invoer!M15:N15,Invoer!Q15:R15,Invoer!U15:V15)\n-SUM(Invoer!C15:D15,Invoer!G15:H15,Invoer!K15:L15,Invoer!O15:P15,Invoer!S15:T15)","v":0},2.6509999999891499E-2,null,null,null,2031,3.3000000000000002E-2,20,{"$f":"SUMPRODUCT(D14:D133,'Kale curves (zonder UFR, VA)'!AE$19:AE$138)","v":0},{"$f":"SUMPRODUCT(D14:D133,'Curves met UFR, met VA'!AE$25:AE$144)","v":0},2031,0,0]
[null,8,2032,{"$f":"Invoer!W16\n+SUM(Invoer!E16:F16,Invoer!I16:J16,Invoer!M16:N16,Invoer!Q16:R16,Invoer!U16:V16)\n-SUM(Invoer!C16:D16,Invoer!G16:H16,Invoer!K16:L16,Invoer!O16:P16,Invoer!S16:T16)","v":0},2.7239999999890019E-2,null,null,null,2032,3.3000000000000002E-2,20,{"$f":"SUMPRODUCT(D15:D134,'Kale curves (zonder UFR, VA)'!AF$19:AF$138)","v":0},{"$f":"SUMPRODUCT(D15:D134,'Curves met UFR, met VA'!AF$25:AF$144)","v":0},2032,0,0]
[null,9,2033,{"$f":"Invoer!W17\n+SUM(Invoer!E17:F17,Invoer!I17:J17,Invoer!M17:N17,Invoer!Q17:R17,Invoer!U17:V17)\n-SUM(Invoer!C17:D17,Invoer!G17:H17,Invoer!K17:L17,Invoer!O17:P17,Invoer!S17:T17)","v":0},2.7929999999874111E-2,null,null,null,2033,3.3000000000000002E-2,20,{"$f":"SUMPRODUCT(D16:D135,'Kale curves (zonder UFR, VA)'!AG$19:AG$138)","v":0},{"$f":"SUMPRODUCT(D16:D135,'Curves met UFR, met VA'!AG$25:AG$144)","v":0},2033,0,0]
[null,10,2034,{"$f":"Invoer!W18\n+SUM(Invoer!E18:F18,Invoer!I18:J18,Invoer!M18:N18,Invoer!Q18:R18,Invoer!U18:V18)\n-SUM(Invoer!C18:D18,Invoer!G18:H18,Invoer!K18:L18,Invoer!O18:P18,Invoer!S18:T18)","v":0},2.8629999999841171E-2,null,null,null,2034,3.3000000000000002E-2,20,{"$f":"SUMPRODUCT(D17:D136,'Kale curves (zonder UFR, VA)'!AH$19:AH$138)","v":0},{"$f":"SUMPRODUCT(D17:D136,'Curves met UFR, met VA'!AH$25:AH$144)","v":0},2034,0,0]
[null,11,2035,{"$f":"Invoer!W19\n+SUM(Invoer!E19:F19,Invoer!I19:J19,Invoer!M19:N19,Invoer!Q19:R19,Invoer!U19:V19)\n-SUM(Invoer!C19:D19,Invoer!G19:H19,Invoer!K19:L19,Invoer!O19:P19,Invoer!S19:T19)","v":0},2.9209999999858072E-2,null,null,null,2035,3.3000000000000002E-2,20,{"$f":"SUMPRODUCT(D18:D137,'Kale curves (zonder UFR, VA)'!AI$19:AI$138)","v":0},{"$f":"SUMPRODUCT(D18:D137,'Curves met UFR, met VA'!AI$25:AI$144)","v":0},2035,0,0]
[null,12,2036,{"$f":"Invoer!W20\n+SUM(Invoer!E20:F20,Invoer!I20:J20,Invoer!M20:N20,Invoer!Q20:R20,Invoer!U20:V20)\n-SUM(Invoer!C20:D20,Invoer!G20:H20,Invoer!K20:L20,Invoer!O20:P20,Invoer!S20:T20)","v":0},2.9749999999850951E-2,null,null,null,2036,3.3000000000000002E-2,20,{"$f":"SUMPRODUCT(D19:D138,'Kale curves (zonder UFR, VA)'!AJ$19:AJ$138)","v":0},{"$f":"SUMPRODUCT(D19:D138,'Curves met UFR, met VA'!AJ$25:AJ$144)","v":0},2036,0,0]
[null,13,2037,{"$f":"Invoer!W21\n+SUM(Invoer!E21:F21,Invoer!I21:J21,Invoer!M21:N21,Invoer!Q21:R21,Invoer!U21:V21)\n-SUM(Invoer!C21:D21,Invoer!G21:H21,Invoer!K21:L21,Invoer!O21:P21,Invoer!S21:T21)","v":0},3.0329999999803903E-2,null,null,null,2037,3.3000000000000002E-2,20,{"$f":"SUMPRODUCT(D20:D139,'Kale curves (zonder UFR, VA)'!AK$19:AK$138)","v":0},{"$f":"SUMPRODUCT(D20:D139,'Curves met UFR, met VA'!AK$25:AK$144)","v":0},2037,0,0]
[null,14,2038,{"$f":"Invoer!W22\n+SUM(Invoer!E22:F22,Invoer!I22:J22,Invoer!M22:N22,Invoer!Q22:R22,Invoer!U22:V22)\n-SUM(Invoer!C22:D22,Invoer!G22:H22,Invoer!K22:L22,Invoer!O22:P22,Invoer!S22:T22)","v":0},3.0759895362778567E-2,null,null,null,2038,3.3000000000000002E-2,20,{"$f":"SUMPRODUCT(D21:D140,'Kale curves (zonder UFR, VA)'!AL$19:AL$138)","v":0},{"$f":"SUMPRODUCT(D21:D140,'Curves met UFR, met VA'!AL$25:AL$144)","v":0},2038,0,0]
[null,15,2039,{"$f":"Invoer!W23\n+SUM(Invoer!E23:F23,Invoer!I23:J23,Invoer!M23:N23,Invoer!Q23:R23,Invoer!U23:V23)\n-SUM(Invoer!C23:D23,Invoer!G23:H23,Invoer!K23:L23,Invoer!O23:P23,Invoer!S23:T23)","v":0},3.106999999990534E-2,null,null,null,2039,3.3000000000000002E-2,20,{"$f":"SUMPRODUCT(D22:D141,'Kale curves (zonder UFR, VA)'!AM$19:AM$138)","v":0},{"$f":"SUMPRODUCT(D22:D141,'Curves met UFR, met VA'!AM$25:AM$144)","v":0},2039,0,0]
[null,16,2040,{"$f":"Invoer!W24\n+SUM(Invoer!E24:F24,Invoer!I24:J24,Invoer!M24:N24,Invoer!Q24:R24,Invoer!U24:V24)\n-SUM(Invoer!C24:D24,Invoer!G24:H24,Invoer!K24:L24,Invoer!O24:P24,Invoer!S24:T24)","v":0},3.1331458152366709E-2,null,null,null,2040,3.3000000000000002E-2,20,{"$f":"SUMPRODUCT(D23:D142,'Kale curves (zonder UFR, VA)'!AN$19:AN$138)","v":0},{"$f":"SUMPRODUCT(D23:D142,'Curves met UFR, met VA'!AN$25:AN$144)","v":0},2040,0,0]
[null,17,2041,{"$f":"Invoer!W25\n+SUM(Invoer!E25:F25,Invoer!I25:J25,Invoer!M25:N25,Invoer!Q25:R25,Invoer!U25:V25)\n-SUM(Invoer!C25:D25,Invoer!G25:H25,Invoer!K25:L25,Invoer!O25:P25,Invoer!S25:T25)","v":0},3.1560763699272298E-2,null,null,null,2041,3.3000000000000002E-2,20,{"$f":"SUMPRODUCT(D24:D143,'Kale curves (zonder UFR, VA)'!AO$19:AO$138)","v":0},{"$f":"SUMPRODUCT(D24:D143,'Curves met UFR, met VA'!AO$25:AO$144)","v":0},2041,0,0]
[null,18,2042,{"$f":"Invoer!W26\n+SUM(Invoer!E26:F26,Invoer!I26:J26,Invoer!M26:N26,Invoer!Q26:R26,Invoer!U26:V26)\n-SUM(Invoer!C26:D26,Invoer!G26:H26,Invoer!K26:L26,Invoer!O26:P26,Invoer!S26:T26)","v":0},3.1761735806270952E-2,null,null,null,2042,3.3000000000000002E-2,20,{"$f":"SUMPRODUCT(D25:D144,'Kale curves (zonder UFR, VA)'!AP$19:AP$138)","v":0},{"$f":"SUMPRODUCT(D25:D144,'Curves met UFR, met VA'!AP$25:AP$144)","v":0},2042,0,0]
[null,19,2043,{"$f":"Invoer!W27\n+SUM(Invoer!E27:F27,Invoer!I27:J27,Invoer!M27:N27,Invoer!Q27:R27,Invoer!U27:V27)\n-SUM(Invoer!C27:D27,Invoer!G27:H27,Invoer!K27:L27,Invoer!O27:P27,Invoer!S27:T27)","v":0},3.1937362210422648E-2,null,null,null,2043,3.3000000000000002E-2,20,{"$f":"SUMPRODUCT(D26:D145,'Kale curves (zonder UFR, VA)'!AQ$19:AQ$138)","v":0},{"$f":"SUMPRODUCT(D26:D145,'Curves met UFR, met VA'!AQ$25:AQ$144)","v":0},2043,0,0]
[null,20,2044,{"$f":"Invoer!W28\n+SUM(Invoer!E28:F28,Invoer!I28:J28,Invoer!M28:N28,Invoer!Q28:R28,Invoer!U28:V28)\n-SUM(Invoer!C28:D28,Invoer!G28:H28,Invoer!K28:L28,Invoer!O28:P28,Invoer!S28:T28)","v":0},3.2089999999955321E-2,null,null,null,2044,3.3000000000000002E-2,20,{"$f":"SUMPRODUCT(D27:D146,'Kale curves (zonder UFR, VA)'!AR$19:AR$138)","v":0},{"$f":"SUMPRODUCT(D27:D146,'Curves met UFR, met VA'!AR$25:AR$144)","v":0},2044,0,0]
[null,21,2045,{"$f":"Invoer!W29\n+SUM(Invoer!E29:F29,Invoer!I29:J29,Invoer!M29:N29,Invoer!Q29:R29,Invoer!U29:V29)\n-SUM(Invoer!C29:D29,Invoer!G29:H29,Invoer!K29:L29,Invoer!O29:P29,Invoer!S29:T29)","v":0},3.2221835167084656E-2,null,null,null,2045,3.3000000000000002E-2,20,{"$f":"SUMPRODUCT(D28:D147,'Kale curves (zonder UFR, VA)'!AS$19:AS$138)","v":0},{"$f":"SUMPRODUCT(D28:D147,'Curves met UFR, met VA'!AS$25:AS$144)","v":0},2045,0,0]
[null,22,2046,{"$f":"Invoer!W30\n+SUM(Invoer!E30:F30,Invoer!I30:J30,Invoer!M30:N30,Invoer!Q30:R30,Invoer!U30:V30)\n-SUM(Invoer!C30:D30,Invoer!G30:H30,Invoer!K30:L30,Invoer!O30:P30,Invoer!S30:T30)","v":0},3.2335826328448336E-2]
[null,23,2047,{"$f":"Invoer!W31\n+SUM(Invoer!E31:F31,Invoer!I31:J31,Invoer!M31:N31,Invoer!Q31:R31,Invoer!U31:V31)\n-SUM(Invoer!C31:D31,Invoer!G31:H31,Invoer!K31:L31,Invoer!O31:P31,Invoer!S31:T31)","v":0},3.2434679496355034E-2]
[null,24,2048,{"$f":"Invoer!W32\n+SUM(Invoer!E32:F32,Invoer!I32:J32,Invoer!M32:N32,Invoer!Q32:R32,Invoer!U32:V32)\n-SUM(Invoer!C32:D32,Invoer!G32:H32,Invoer!K32:L32,Invoer!O32:P32,Invoer!S32:T32)","v":0},3.2520626642953854E-2]
[null,25,2049,{"$f":"Invoer!W33\n+SUM(Invoer!E33:F33,Invoer!I33:J33,Invoer!M33:N33,Invoer!Q33:R33,Invoer!U33:V33)\n-SUM(Invoer!C33:D33,Invoer!G33:H33,Invoer!K33:L33,Invoer!O33:P33,Invoer!S33:T33)","v":0},3.2595521681098027E-2]
[null,26,2050,{"$f":"Invoer!W34\n+SUM(Invoer!E34:F34,Invoer!I34:J34,Invoer!M34:N34,Invoer!Q34:R34,Invoer!U34:V34)\n-SUM(Invoer!C34:D34,Invoer!G34:H34,Invoer!K34:L34,Invoer!O34:P34,Invoer!S34:T34)","v":0},3.2660914279271314E-2]
[null,27,2051,{"$f":"Invoer!W35\n+SUM(Invoer!E35:F35,Invoer!I35:J35,Invoer!M35:N35,Invoer!Q35:R35,Invoer!U35:V35)\n-SUM(Invoer!C35:D35,Invoer!G35:H35,Invoer!K35:L35,Invoer!O35:P35,Invoer!S35:T35)","v":0},3.2718107246618056E-2]
[null,28,2052,{"$f":"Invoer!W36\n+SUM(Invoer!E36:F36,Invoer!I36:J36,Invoer!M36:N36,Invoer!Q36:R36,Invoer!U36:V36)\n-SUM(Invoer!C36:D36,Invoer!G36:H36,Invoer!K36:L36,Invoer!O36:P36,Invoer!S36:T36)","v":0},3.2768201588646129E-2]
[null,29,2053,{"$f":"Invoer!W37\n+SUM(Invoer!E37:F37,Invoer!I37:J37,Invoer!M37:N37,Invoer!Q37:R37,Invoer!U37:V37)\n-SUM(Invoer!C37:D37,Invoer!G37:H37,Invoer!K37:L37,Invoer!O37:P37,Invoer!S37:T37)","v":0},3.2812132205299216E-2]
[null,30,2054,{"$f":"Invoer!W38\n+SUM(Invoer!E38:F38,Invoer!I38:J38,Invoer!M38:N38,Invoer!Q38:R38,Invoer!U38:V38)\n-SUM(Invoer!C38:D38,Invoer!G38:H38,Invoer!K38:L38,Invoer!O38:P38,Invoer!S38:T38)","v":0},3.285069641225169E-2]
[null,31,2055,{"$f":"Invoer!W39\n+SUM(Invoer!E39:F39,Invoer!I39:J39,Invoer!M39:N39,Invoer!Q39:R39,Invoer!U39:V39)\n-SUM(Invoer!C39:D39,Invoer!G39:H39,Invoer!K39:L39,Invoer!O39:P39,Invoer!S39:T39)","v":0},3.2884576904619767E-2]
[null,32,2056,{"$f":"Invoer!W40\n+SUM(Invoer!E40:F40,Invoer!I40:J40,Invoer!M40:N40,Invoer!Q40:R40,Invoer!U40:V40)\n-SUM(Invoer!C40:D40,Invoer!G40:H40,Invoer!K40:L40,Invoer!O40:P40,Invoer!S40:T40)","v":0},3.2914360378277774E-2]
[null,33,2057,{"$f":"Invoer!W41\n+SUM(Invoer!E41:F41,Invoer!I41:J41,Invoer!M41:N41,Invoer!Q41:R41,Invoer!U41:V41)\n-SUM(Invoer!C41:D41,Invoer!G41:H41,Invoer!K41:L41,Invoer!O41:P41,Invoer!S41:T41)","v":0},3.2940552729954664E-2]
[null,34,2058,{"$f":"Invoer!W42\n+SUM(Invoer!E42:F42,Invoer!I42:J42,Invoer!M42:N42,Invoer!Q42:R42,Invoer!U42:V42)\n-SUM(Invoer!C42:D42,Invoer!G42:H42,Invoer!K42:L42,Invoer!O42:P42,Invoer!S42:T42)","v":0},3.2963591540934756E-2]
[null,35,2059,{"$f":"Invoer!W43\n+SUM(Invoer!E43:F43,Invoer!I43:J43,Invoer!M43:N43,Invoer!Q43:R43,Invoer!U43:V43)\n-SUM(Invoer!C43:D43,Invoer!G43:H43,Invoer!K43:L43,Invoer!O43:P43,Invoer!S43:T43)","v":0},3.2983856388388189E-2]
[null,36,2060,{"$f":"Invoer!W44\n+SUM(Invoer!E44:F44,Invoer!I44:J44,Invoer!M44:N44,Invoer!Q44:R44,Invoer!U44:V44)\n-SUM(Invoer!C44:D44,Invoer!G44:H44,Invoer!K44:L44,Invoer!O44:P44,Invoer!S44:T44)","v":0},3.3001677407642704E-2]
[null,37,2061,{"$f":"Invoer!W45\n+SUM(Invoer!E45:F45,Invoer!I45:J45,Invoer!M45:N45,Invoer!Q45:R45,Invoer!U45:V45)\n-SUM(Invoer!C45:D45,Invoer!G45:H45,Invoer!K45:L45,Invoer!O45:P45,Invoer!S45:T45)","v":0},3.3017342437333452E-2]
[null,38,2062,{"$f":"Invoer!W46\n+SUM(Invoer!E46:F46,Invoer!I46:J46,Invoer!M46:N46,Invoer!Q46:R46,Invoer!U46:V46)\n-SUM(Invoer!C46:D46,Invoer!G46:H46,Invoer!K46:L46,Invoer!O46:P46,Invoer!S46:T46)","v":0},3.3031103009570462E-2]
[null,39,2063,{"$f":"Invoer!W47\n+SUM(Invoer!E47:F47,Invoer!I47:J47,Invoer!M47:N47,Invoer!Q47:R47,Invoer!U47:V47)\n-SUM(Invoer!C47:D47,Invoer!G47:H47,Invoer!K47:L47,Invoer!O47:P47,Invoer!S47:T47)","v":0},3.3043179393542843E-2]
[null,40,2064,{"$f":"Invoer!W48\n+SUM(Invoer!E48:F48,Invoer!I48:J48,Invoer!M48:N48,Invoer!Q48:R48,Invoer!U48:V48)\n-SUM(Invoer!C48:D48,Invoer!G48:H48,Invoer!K48:L48,Invoer!O48:P48,Invoer!S48:T48)","v":0},3.3053764859334755E-2]
[null,41,2065,{"$f":"Invoer!W49\n+SUM(Invoer!E49:F49,Invoer!I49:J49,Invoer!M49:N49,Invoer!Q49:R49,Invoer!U49:V49)\n-SUM(Invoer!C49:D49,Invoer!G49:H49,Invoer!K49:L49,Invoer!O49:P49,Invoer!S49:T49)","v":0},3.3063029296183322E-2]
[null,42,2066,{"$f":"Invoer!W50\n+SUM(Invoer!E50:F50,Invoer!I50:J50,Invoer!M50:N50,Invoer!Q50:R50,Invoer!U50:V50)\n-SUM(Invoer!C50:D50,Invoer!G50:H50,Invoer!K50:L50,Invoer!O50:P50,Invoer!S50:T50)","v":0},3.3071122293844901E-2]
[null,43,2067,{"$f":"Invoer!W51\n+SUM(Invoer!E51:F51,Invoer!I51:J51,Invoer!M51:N51,Invoer!Q51:R51,Invoer!U51:V51)\n-SUM(Invoer!C51:D51,Invoer!G51:H51,Invoer!K51:L51,Invoer!O51:P51,Invoer!S51:T51)","v":0},3.3078175775505203E-2]
[null,44,2068,{"$f":"Invoer!W52\n+SUM(Invoer!E52:F52,Invoer!I52:J52,Invoer!M52:N52,Invoer!Q52:R52,Invoer!U52:V52)\n-SUM(Invoer!C52:D52,Invoer!G52:H52,Invoer!K52:L52,Invoer!O52:P52,Invoer!S52:T52)","v":0},3.3084306254561158E-2]
[null,45,2069,{"$f":"Invoer!W53\n+SUM(Invoer!E53:F53,Invoer!I53:J53,Invoer!M53:N53,Invoer!Q53:R53,Invoer!U53:V53)\n-SUM(Invoer!C53:D53,Invoer!G53:H53,Invoer!K53:L53,Invoer!O53:P53,Invoer!S53:T53)","v":0},3.3089616774726549E-2]
[null,46,2070,{"$f":"Invoer!W54\n+SUM(Invoer!E54:F54,Invoer!I54:J54,Invoer!M54:N54,Invoer!Q54:R54,Invoer!U54:V54)\n-SUM(Invoer!C54:D54,Invoer!G54:H54,Invoer!K54:L54,Invoer!O54:P54,Invoer!S54:T54)","v":0},3.309419858252749E-2]
[null,47,2071,{"$f":"Invoer!W55\n+SUM(Invoer!E55:F55,Invoer!I55:J55,Invoer!M55:N55,Invoer!Q55:R55,Invoer!U55:V55)\n-SUM(Invoer!C55:D55,Invoer!G55:H55,Invoer!K55:L55,Invoer!O55:P55,Invoer!S55:T55)","v":0},3.3098132572889627E-2]
[null,48,2072,{"$f":"Invoer!W56\n+SUM(Invoer!E56:F56,Invoer!I56:J56,Invoer!M56:N56,Invoer!Q56:R56,Invoer!U56:V56)\n-SUM(Invoer!C56:D56,Invoer!G56:H56,Invoer!K56:L56,Invoer!O56:P56,Invoer!S56:T56)","v":0},3.3101490541690426E-2]
[null,49,2073,{"$f":"Invoer!W57\n+SUM(Invoer!E57:F57,Invoer!I57:J57,Invoer!M57:N57,Invoer!Q57:R57,Invoer!U57:V57)\n-SUM(Invoer!C57:D57,Invoer!G57:H57,Invoer!K57:L57,Invoer!O57:P57,Invoer!S57:T57)","v":0},3.3104336273577895E-2]
[null,50,2074,{"$f":"Invoer!W58\n+SUM(Invoer!E58:F58,Invoer!I58:J58,Invoer!M58:N58,Invoer!Q58:R58,Invoer!U58:V58)\n-SUM(Invoer!C58:D58,Invoer!G58:H58,Invoer!K58:L58,Invoer!O58:P58,Invoer!S58:T58)","v":0},3.3106726488812077E-2]
[null,51,2075,{"$f":"Invoer!W59\n+SUM(Invoer!E59:F59,Invoer!I59:J59,Invoer!M59:N59,Invoer!Q59:R59,Invoer!U59:V59)\n-SUM(Invoer!C59:D59,Invoer!G59:H59,Invoer!K59:L59,Invoer!O59:P59,Invoer!S59:T59)","v":0},3.3108711669115332E-2]
[null,52,2076,{"$f":"Invoer!W60\n+SUM(Invoer!E60:F60,Invoer!I60:J60,Invoer!M60:N60,Invoer!Q60:R60,Invoer!U60:V60)\n-SUM(Invoer!C60:D60,Invoer!G60:H60,Invoer!K60:L60,Invoer!O60:P60,Invoer!S60:T60)","v":0},3.3110336779408556E-2]
[null,53,2077,{"$f":"Invoer!W61\n+SUM(Invoer!E61:F61,Invoer!I61:J61,Invoer!M61:N61,Invoer!Q61:R61,Invoer!U61:V61)\n-SUM(Invoer!C61:D61,Invoer!G61:H61,Invoer!K61:L61,Invoer!O61:P61,Invoer!S61:T61)","v":0},3.3111641899741917E-2]
[null,54,2078,{"$f":"Invoer!W62\n+SUM(Invoer!E62:F62,Invoer!I62:J62,Invoer!M62:N62,Invoer!Q62:R62,Invoer!U62:V62)\n-SUM(Invoer!C62:D62,Invoer!G62:H62,Invoer!K62:L62,Invoer!O62:P62,Invoer!S62:T62)","v":0},3.3112662779565039E-2]
[null,55,2079,{"$f":"Invoer!W63\n+SUM(Invoer!E63:F63,Invoer!I63:J63,Invoer!M63:N63,Invoer!Q63:R63,Invoer!U63:V63)\n-SUM(Invoer!C63:D63,Invoer!G63:H63,Invoer!K63:L63,Invoer!O63:P63,Invoer!S63:T63)","v":0},3.3113431324702791E-2]
[null,56,2080,{"$f":"Invoer!W64\n+SUM(Invoer!E64:F64,Invoer!I64:J64,Invoer!M64:N64,Invoer!Q64:R64,Invoer!U64:V64)\n-SUM(Invoer!C64:D64,Invoer!G64:H64,Invoer!K64:L64,Invoer!O64:P64,Invoer!S64:T64)","v":0},3.3113976025880065E-2]
[null,57,2081,{"$f":"Invoer!W65\n+SUM(Invoer!E65:F65,Invoer!I65:J65,Invoer!M65:N65,Invoer!Q65:R65,Invoer!U65:V65)\n-SUM(Invoer!C65:D65,Invoer!G65:H65,Invoer!K65:L65,Invoer!O65:P65,Invoer!S65:T65)","v":0},3.311432233638234E-2]
[null,58,2082,{"$f":"Invoer!W66\n+SUM(Invoer!E66:F66,Invoer!I66:J66,Invoer!M66:N66,Invoer!Q66:R66,Invoer!U66:V66)\n-SUM(Invoer!C66:D66,Invoer!G66:H66,Invoer!K66:L66,Invoer!O66:P66,Invoer!S66:T66)","v":0},3.311449300536573E-2]
[null,59,2083,{"$f":"Invoer!W67\n+SUM(Invoer!E67:F67,Invoer!I67:J67,Invoer!M67:N67,Invoer!Q67:R67,Invoer!U67:V67)\n-SUM(Invoer!C67:D67,Invoer!G67:H67,Invoer!K67:L67,Invoer!O67:P67,Invoer!S67:T67)","v":0},3.3114508372422025E-2]
[null,60,2084,{"$f":"Invoer!W68\n+SUM(Invoer!E68:F68,Invoer!I68:J68,Invoer!M68:N68,Invoer!Q68:R68,Invoer!U68:V68)\n-SUM(Invoer!C68:D68,Invoer!G68:H68,Invoer!K68:L68,Invoer!O68:P68,Invoer!S68:T68)","v":0},3.3114386628238179E-2]
[null,61,2085,{"$f":"Invoer!W69\n+SUM(Invoer!E69:F69,Invoer!I69:J69,Invoer!M69:N69,Invoer!Q69:R69,Invoer!U69:V69)\n-SUM(Invoer!C69:D69,Invoer!G69:H69,Invoer!K69:L69,Invoer!O69:P69,Invoer!S69:T69)","v":0},3.3114144045538474E-2]
[null,62,2086,{"$f":"Invoer!W70\n+SUM(Invoer!E70:F70,Invoer!I70:J70,Invoer!M70:N70,Invoer!Q70:R70,Invoer!U70:V70)\n-SUM(Invoer!C70:D70,Invoer!G70:H70,Invoer!K70:L70,Invoer!O70:P70,Invoer!S70:T70)","v":0},3.311379518393176E-2]
[null,63,2087,{"$f":"Invoer!W71\n+SUM(Invoer!E71:F71,Invoer!I71:J71,Invoer!M71:N71,Invoer!Q71:R71,Invoer!U71:V71)\n-SUM(Invoer!C71:D71,Invoer!G71:H71,Invoer!K71:L71,Invoer!O71:P71,Invoer!S71:T71)","v":0},3.3113353071813068E-2]
[null,64,2088,{"$f":"Invoer!W72\n+SUM(Invoer!E72:F72,Invoer!I72:J72,Invoer!M72:N72,Invoer!Q72:R72,Invoer!U72:V72)\n-SUM(Invoer!C72:D72,Invoer!G72:H72,Invoer!K72:L72,Invoer!O72:P72,Invoer!S72:T72)","v":0},3.3112829368065588E-2]
[null,65,2089,{"$f":"Invoer!W73\n+SUM(Invoer!E73:F73,Invoer!I73:J73,Invoer!M73:N73,Invoer!Q73:R73,Invoer!U73:V73)\n-SUM(Invoer!C73:D73,Invoer!G73:H73,Invoer!K73:L73,Invoer!O73:P73,Invoer!S73:T73)","v":0},3.3112234505938698E-2]
[null,66,2090,{"$f":"Invoer!W74\n+SUM(Invoer!E74:F74,Invoer!I74:J74,Invoer!M74:N74,Invoer!Q74:R74,Invoer!U74:V74)\n-SUM(Invoer!C74:D74,Invoer!G74:H74,Invoer!K74:L74,Invoer!O74:P74,Invoer!S74:T74)","v":0},3.3111577821199445E-2]
[null,{"$f":"B73+1","v":67},2091,{"$f":"Invoer!W75\n+SUM(Invoer!E75:F75,Invoer!I75:J75,Invoer!M75:N75,Invoer!Q75:R75,Invoer!U75:V75)\n-SUM(Invoer!C75:D75,Invoer!G75:H75,Invoer!K75:L75,Invoer!O75:P75,Invoer!S75:T75)","v":0},3.3110867666373611E-2]
[null,68,2092,{"$f":"Invoer!W76\n+SUM(Invoer!E76:F76,Invoer!I76:J76,Invoer!M76:N76,Invoer!Q76:R76,Invoer!U76:V76)\n-SUM(Invoer!C76:D76,Invoer!G76:H76,Invoer!K76:L76,Invoer!O76:P76,Invoer!S76:T76)","v":0},3.3110111512671958E-2]
[null,69,2093,{"$f":"Invoer!W77\n+SUM(Invoer!E77:F77,Invoer!I77:J77,Invoer!M77:N77,Invoer!Q77:R77,Invoer!U77:V77)\n-SUM(Invoer!C77:D77,Invoer!G77:H77,Invoer!K77:L77,Invoer!O77:P77,Invoer!S77:T77)","v":0},3.3109316041008752E-2]
[null,70,2094,{"$f":"Invoer!W78\n+SUM(Invoer!E78:F78,Invoer!I78:J78,Invoer!M78:N78,Invoer!Q78:R78,Invoer!U78:V78)\n-SUM(Invoer!C78:D78,Invoer!G78:H78,Invoer!K78:L78,Invoer!O78:P78,Invoer!S78:T78)","v":0},3.3108487223337368E-2]
[null,71,2095,{"$f":"Invoer!W79\n+SUM(Invoer!E79:F79,Invoer!I79:J79,Invoer!M79:N79,Invoer!Q79:R79,Invoer!U79:V79)\n-SUM(Invoer!C79:D79,Invoer!G79:H79,Invoer!K79:L79,Invoer!O79:P79,Invoer!S79:T79)","v":0},3.310763039538811E-2]
[null,72,2096,{"$f":"Invoer!W80\n+SUM(Invoer!E80:F80,Invoer!I80:J80,Invoer!M80:N80,Invoer!Q80:R80,Invoer!U80:V80)\n-SUM(Invoer!C80:D80,Invoer!G80:H80,Invoer!K80:L80,Invoer!O80:P80,Invoer!S80:T80)","v":0},3.3106750321766132E-2]
[null,73,2097,{"$f":"Invoer!W81\n+SUM(Invoer!E81:F81,Invoer!I81:J81,Invoer!M81:N81,Invoer!Q81:R81,Invoer!U81:V81)\n-SUM(Invoer!C81:D81,Invoer!G81:H81,Invoer!K81:L81,Invoer!O81:P81,Invoer!S81:T81)","v":0},3.3105851254239926E-2]
[null,74,2098,{"$f":"Invoer!W82\n+SUM(Invoer!E82:F82,Invoer!I82:J82,Invoer!M82:N82,Invoer!Q82:R82,Invoer!U82:V82)\n-SUM(Invoer!C82:D82,Invoer!G82:H82,Invoer!K82:L82,Invoer!O82:P82,Invoer!S82:T82)","v":0},3.3104936983978872E-2]
[null,75,2099,{"$f":"Invoer!W83\n+SUM(Invoer!E83:F83,Invoer!I83:J83,Invoer!M83:N83,Invoer!Q83:R83,Invoer!U83:V83)\n-SUM(Invoer!C83:D83,Invoer!G83:H83,Invoer!K83:L83,Invoer!O83:P83,Invoer!S83:T83)","v":0},3.3104010888384439E-2]
[null,76,2100,{"$f":"Invoer!W84\n+SUM(Invoer!E84:F84,Invoer!I84:J84,Invoer!M84:N84,Invoer!Q84:R84,Invoer!U84:V84)\n-SUM(Invoer!C84:D84,Invoer!G84:H84,Invoer!K84:L84,Invoer!O84:P84,Invoer!S84:T84)","v":0},3.3103075973101914E-2]
[null,77,2101,{"$f":"Invoer!W85\n+SUM(Invoer!E85:F85,Invoer!I85:J85,Invoer!M85:N85,Invoer!Q85:R85,Invoer!U85:V85)\n-SUM(Invoer!C85:D85,Invoer!G85:H85,Invoer!K85:L85,Invoer!O85:P85,Invoer!S85:T85)","v":0},3.3102134909728909E-2]
[null,78,2102,{"$f":"Invoer!W86\n+SUM(Invoer!E86:F86,Invoer!I86:J86,Invoer!M86:N86,Invoer!Q86:R86,Invoer!U86:V86)\n-SUM(Invoer!C86:D86,Invoer!G86:H86,Invoer!K86:L86,Invoer!O86:P86,Invoer!S86:T86)","v":0},3.310119006967982E-2]
[null,79,2103,{"$f":"Invoer!W87\n+SUM(Invoer!E87:F87,Invoer!I87:J87,Invoer!M87:N87,Invoer!Q87:R87,Invoer!U87:V87)\n-SUM(Invoer!C87:D87,Invoer!G87:H87,Invoer!K87:L87,Invoer!O87:P87,Invoer!S87:T87)","v":0},3.3100243554603059E-2]
[null,80,2104,{"$f":"Invoer!W88\n+SUM(Invoer!E88:F88,Invoer!I88:J88,Invoer!M88:N88,Invoer!Q88:R88,Invoer!U88:V88)\n-SUM(Invoer!C88:D88,Invoer!G88:H88,Invoer!K88:L88,Invoer!O88:P88,Invoer!S88:T88)","v":0},3.3099297223727842E-2]
[null,81,2105,{"$f":"Invoer!W89\n+SUM(Invoer!E89:F89,Invoer!I89:J89,Invoer!M89:N89,Invoer!Q89:R89,Invoer!U89:V89)\n-SUM(Invoer!C89:D89,Invoer!G89:H89,Invoer!K89:L89,Invoer!O89:P89,Invoer!S89:T89)","v":0},3.3098352718447188E-2]
[null,82,2106,{"$f":"Invoer!W90\n+SUM(Invoer!E90:F90,Invoer!I90:J90,Invoer!M90:N90,Invoer!Q90:R90,Invoer!U90:V90)\n-SUM(Invoer!C90:D90,Invoer!G90:H90,Invoer!K90:L90,Invoer!O90:P90,Invoer!S90:T90)","v":0},3.3097411484432904E-2]
[null,83,2107,{"$f":"Invoer!W91\n+SUM(Invoer!E91:F91,Invoer!I91:J91,Invoer!M91:N91,Invoer!Q91:R91,Invoer!U91:V91)\n-SUM(Invoer!C91:D91,Invoer!G91:H91,Invoer!K91:L91,Invoer!O91:P91,Invoer!S91:T91)","v":0},3.3096474791531882E-2]
[null,84,2108,{"$f":"Invoer!W92\n+SUM(Invoer!E92:F92,Invoer!I92:J92,Invoer!M92:N92,Invoer!Q92:R92,Invoer!U92:V92)\n-SUM(Invoer!C92:D92,Invoer!G92:H92,Invoer!K92:L92,Invoer!O92:P92,Invoer!S92:T92)","v":0},3.3095543751677559E-2]
[null,85,2109,{"$f":"Invoer!W93\n+SUM(Invoer!E93:F93,Invoer!I93:J93,Invoer!M93:N93,Invoer!Q93:R93,Invoer!U93:V93)\n-SUM(Invoer!C93:D93,Invoer!G93:H93,Invoer!K93:L93,Invoer!O93:P93,Invoer!S93:T93)","v":0},3.3094619335012121E-2]
[null,86,2110,{"$f":"Invoer!W94\n+SUM(Invoer!E94:F94,Invoer!I94:J94,Invoer!M94:N94,Invoer!Q94:R94,Invoer!U94:V94)\n-SUM(Invoer!C94:D94,Invoer!G94:H94,Invoer!K94:L94,Invoer!O94:P94,Invoer!S94:T94)","v":0},3.3093702384408896E-2]
[null,87,2111,{"$f":"Invoer!W95\n+SUM(Invoer!E95:F95,Invoer!I95:J95,Invoer!M95:N95,Invoer!Q95:R95,Invoer!U95:V95)\n-SUM(Invoer!C95:D95,Invoer!G95:H95,Invoer!K95:L95,Invoer!O95:P95,Invoer!S95:T95)","v":0},3.3092793628550776E-2]
[null,88,2112,{"$f":"Invoer!W96\n+SUM(Invoer!E96:F96,Invoer!I96:J96,Invoer!M96:N96,Invoer!Q96:R96,Invoer!U96:V96)\n-SUM(Invoer!C96:D96,Invoer!G96:H96,Invoer!K96:L96,Invoer!O96:P96,Invoer!S96:T96)","v":0},3.3091893693713681E-2]
[null,89,2113,{"$f":"Invoer!W97\n+SUM(Invoer!E97:F97,Invoer!I97:J97,Invoer!M97:N97,Invoer!Q97:R97,Invoer!U97:V97)\n-SUM(Invoer!C97:D97,Invoer!G97:H97,Invoer!K97:L97,Invoer!O97:P97,Invoer!S97:T97)","v":0},3.3091003114386286E-2]
[null,90,2114,{"$f":"Invoer!W98\n+SUM(Invoer!E98:F98,Invoer!I98:J98,Invoer!M98:N98,Invoer!Q98:R98,Invoer!U98:V98)\n-SUM(Invoer!C98:D98,Invoer!G98:H98,Invoer!K98:L98,Invoer!O98:P98,Invoer!S98:T98)","v":0},3.3090122342837036E-2]
[null,91,2115,{"$f":"Invoer!W99\n+SUM(Invoer!E99:F99,Invoer!I99:J99,Invoer!M99:N99,Invoer!Q99:R99,Invoer!U99:V99)\n-SUM(Invoer!C99:D99,Invoer!G99:H99,Invoer!K99:L99,Invoer!O99:P99,Invoer!S99:T99)","v":0},3.3089251757740579E-2]
[null,92,2116,{"$f":"Invoer!W100\n+SUM(Invoer!E100:F100,Invoer!I100:J100,Invoer!M100:N100,Invoer!Q100:R100,Invoer!U100:V100)\n-SUM(Invoer!C100:D100,Invoer!G100:H100,Invoer!K100:L100,Invoer!O100:P100,Invoer!S100:T100)","v":0},3.3088391671950435E-2]
[null,93,2117,{"$f":"Invoer!W101\n+SUM(Invoer!E101:F101,Invoer!I101:J101,Invoer!M101:N101,Invoer!Q101:R101,Invoer!U101:V101)\n-SUM(Invoer!C101:D101,Invoer!G101:H101,Invoer!K101:L101,Invoer!O101:P101,Invoer!S101:T101)","v":0},3.3087542339506282E-2]
[null,94,2118,{"$f":"Invoer!W102\n+SUM(Invoer!E102:F102,Invoer!I102:J102,Invoer!M102:N102,Invoer!Q102:R102,Invoer!U102:V102)\n-SUM(Invoer!C102:D102,Invoer!G102:H102,Invoer!K102:L102,Invoer!O102:P102,Invoer!S102:T102)","v":0},3.3086703961952013E-2]
[null,95,2119,{"$f":"Invoer!W103\n+SUM(Invoer!E103:F103,Invoer!I103:J103,Invoer!M103:N103,Invoer!Q103:R103,Invoer!U103:V103)\n-SUM(Invoer!C103:D103,Invoer!G103:H103,Invoer!K103:L103,Invoer!O103:P103,Invoer!S103:T103)","v":0},3.3085876694028071E-2]
[null,96,2120,{"$f":"Invoer!W104\n+SUM(Invoer!E104:F104,Invoer!I104:J104,Invoer!M104:N104,Invoer!Q104:R104,Invoer!U104:V104)\n-SUM(Invoer!C104:D104,Invoer!G104:H104,Invoer!K104:L104,Invoer!O104:P104,Invoer!S104:T104)","v":0},3.3085060648803344E-2]
[null,97,2121,{"$f":"Invoer!W105\n+SUM(Invoer!E105:F105,Invoer!I105:J105,Invoer!M105:N105,Invoer!Q105:R105,Invoer!U105:V105)\n-SUM(Invoer!C105:D105,Invoer!G105:H105,Invoer!K105:L105,Invoer!O105:P105,Invoer!S105:T105)","v":0},3.3084255902302795E-2]
[null,98,2122,{"$f":"Invoer!W106\n+SUM(Invoer!E106:F106,Invoer!I106:J106,Invoer!M106:N106,Invoer!Q106:R106,Invoer!U106:V106)\n-SUM(Invoer!C106:D106,Invoer!G106:H106,Invoer!K106:L106,Invoer!O106:P106,Invoer!S106:T106)","v":0},3.308346249767169E-2]
[null,99,2123,{"$f":"Invoer!W107\n+SUM(Invoer!E107:F107,Invoer!I107:J107,Invoer!M107:N107,Invoer!Q107:R107,Invoer!U107:V107)\n-SUM(Invoer!C107:D107,Invoer!G107:H107,Invoer!K107:L107,Invoer!O107:P107,Invoer!S107:T107)","v":0},3.3082680448933255E-2]
[null,100,2124,{"$f":"Invoer!W108\n+SUM(Invoer!E108:F108,Invoer!I108:J108,Invoer!M108:N108,Invoer!Q108:R108,Invoer!U108:V108)\n-SUM(Invoer!C108:D108,Invoer!G108:H108,Invoer!K108:L108,Invoer!O108:P108,Invoer!S108:T108)","v":0},3.3081909744371751E-2]
[null,101,2125,{"$f":"Invoer!W109\n+SUM(Invoer!E109:F109,Invoer!I109:J109,Invoer!M109:N109,Invoer!Q109:R109,Invoer!U109:V109)\n-SUM(Invoer!C109:D109,Invoer!G109:H109,Invoer!K109:L109,Invoer!O109:P109,Invoer!S109:T109)","v":0},3.3081150349576482E-2]
[null,102,2126,{"$f":"Invoer!W110\n+SUM(Invoer!E110:F110,Invoer!I110:J110,Invoer!M110:N110,Invoer!Q110:R110,Invoer!U110:V110)\n-SUM(Invoer!C110:D110,Invoer!G110:H110,Invoer!K110:L110,Invoer!O110:P110,Invoer!S110:T110)","v":0},3.3080402210186044E-2]
[null,103,2127,{"$f":"Invoer!W111\n+SUM(Invoer!E111:F111,Invoer!I111:J111,Invoer!M111:N111,Invoer!Q111:R111,Invoer!U111:V111)\n-SUM(Invoer!C111:D111,Invoer!G111:H111,Invoer!K111:L111,Invoer!O111:P111,Invoer!S111:T111)","v":0},3.3079665254355239E-2]
[null,104,2128,{"$f":"Invoer!W112\n+SUM(Invoer!E112:F112,Invoer!I112:J112,Invoer!M112:N112,Invoer!Q112:R112,Invoer!U112:V112)\n-SUM(Invoer!C112:D112,Invoer!G112:H112,Invoer!K112:L112,Invoer!O112:P112,Invoer!S112:T112)","v":0},3.3078939394975748E-2]
[null,105,2129,{"$f":"Invoer!W113\n+SUM(Invoer!E113:F113,Invoer!I113:J113,Invoer!M113:N113,Invoer!Q113:R113,Invoer!U113:V113)\n-SUM(Invoer!C113:D113,Invoer!G113:H113,Invoer!K113:L113,Invoer!O113:P113,Invoer!S113:T113)","v":0},3.3078224531672085E-2]
[null,106,2130,{"$f":"Invoer!W114\n+SUM(Invoer!E114:F114,Invoer!I114:J114,Invoer!M114:N114,Invoer!Q114:R114,Invoer!U114:V114)\n-SUM(Invoer!C114:D114,Invoer!G114:H114,Invoer!K114:L114,Invoer!O114:P114,Invoer!S114:T114)","v":0},3.3077520552594386E-2]
[null,107,2131,{"$f":"Invoer!W115\n+SUM(Invoer!E115:F115,Invoer!I115:J115,Invoer!M115:N115,Invoer!Q115:R115,Invoer!U115:V115)\n-SUM(Invoer!C115:D115,Invoer!G115:H115,Invoer!K115:L115,Invoer!O115:P115,Invoer!S115:T115)","v":0},3.3076827336031345E-2]
[null,108,2132,{"$f":"Invoer!W116\n+SUM(Invoer!E116:F116,Invoer!I116:J116,Invoer!M116:N116,Invoer!Q116:R116,Invoer!U116:V116)\n-SUM(Invoer!C116:D116,Invoer!G116:H116,Invoer!K116:L116,Invoer!O116:P116,Invoer!S116:T116)","v":0},3.3076144751854608E-2]
[null,109,2133,{"$f":"Invoer!W117\n+SUM(Invoer!E117:F117,Invoer!I117:J117,Invoer!M117:N117,Invoer!Q117:R117,Invoer!U117:V117)\n-SUM(Invoer!C117:D117,Invoer!G117:H117,Invoer!K117:L117,Invoer!O117:P117,Invoer!S117:T117)","v":0},3.3075472662815297E-2]
[null,110,2134,{"$f":"Invoer!W118\n+SUM(Invoer!E118:F118,Invoer!I118:J118,Invoer!M118:N118,Invoer!Q118:R118,Invoer!U118:V118)\n-SUM(Invoer!C118:D118,Invoer!G118:H118,Invoer!K118:L118,Invoer!O118:P118,Invoer!S118:T118)","v":0},3.307481092570641E-2]
[null,111,2135,{"$f":"(Invoer!W$119\n+SUM(Invoer!E$119:F$119,Invoer!I$119:J$119,Invoer!M$119:N$119,Invoer!Q$119:R$119,Invoer!U$119:V$119)\n-SUM(Invoer!C$119:D$119,Invoer!G$119:H$119,Invoer!K$119:L$119,Invoer!O$119:P$119,Invoer!S$119:T$119))/10","v":0},3.3074159392402436E-2]
[null,112,2136,{"$f":"(Invoer!W$119\n+SUM(Invoer!E$119:F$119,Invoer!I$119:J$119,Invoer!M$119:N$119,Invoer!Q$119:R$119,Invoer!U$119:V$119)\n-SUM(Invoer!C$119:D$119,Invoer!G$119:H$119,Invoer!K$119:L$119,Invoer!O$119:P$119,Invoer!S$119:T$119))/10","v":0},3.3073517910789052E-2]
[null,113,2137,{"$f":"(Invoer!W$119\n+SUM(Invoer!E$119:F$119,Invoer!I$119:J$119,Invoer!M$119:N$119,Invoer!Q$119:R$119,Invoer!U$119:V$119)\n-SUM(Invoer!C$119:D$119,Invoer!G$119:H$119,Invoer!K$119:L$119,Invoer!O$119:P$119,Invoer!S$119:T$119))/10","v":0},3.307288632559291E-2]
[null,114,2138,{"$f":"(Invoer!W$119\n+SUM(Invoer!E$119:F$119,Invoer!I$119:J$119,Invoer!M$119:N$119,Invoer!Q$119:R$119,Invoer!U$119:V$119)\n-SUM(Invoer!C$119:D$119,Invoer!G$119:H$119,Invoer!K$119:L$119,Invoer!O$119:P$119,Invoer!S$119:T$119))/10","v":0},3.3072264479124147E-2]
[null,115,2139,{"$f":"(Invoer!W$119\n+SUM(Invoer!E$119:F$119,Invoer!I$119:J$119,Invoer!M$119:N$119,Invoer!Q$119:R$119,Invoer!U$119:V$119)\n-SUM(Invoer!C$119:D$119,Invoer!G$119:H$119,Invoer!K$119:L$119,Invoer!O$119:P$119,Invoer!S$119:T$119))/10","v":0},3.3071652211933866E-2]
[null,116,{"$f":"C122+1","v":2140},{"$f":"(Invoer!W$119\n+SUM(Invoer!E$119:F$119,Invoer!I$119:J$119,Invoer!M$119:N$119,Invoer!Q$119:R$119,Invoer!U$119:V$119)\n-SUM(Invoer!C$119:D$119,Invoer!G$119:H$119,Invoer!K$119:L$119,Invoer!O$119:P$119,Invoer!S$119:T$119))/10","v":0},3.3071049363401883E-2]
[null,117,2141,{"$f":"(Invoer!W$119\n+SUM(Invoer!E$119:F$119,Invoer!I$119:J$119,Invoer!M$119:N$119,Invoer!Q$119:R$119,Invoer!U$119:V$119)\n-SUM(Invoer!C$119:D$119,Invoer!G$119:H$119,Invoer!K$119:L$119,Invoer!O$119:P$119,Invoer!S$119:T$119))/10","v":0},3.3070455772256535E-2]
[null,118,2142,{"$f":"(Invoer!W$119\n+SUM(Invoer!E$119:F$119,Invoer!I$119:J$119,Invoer!M$119:N$119,Invoer!Q$119:R$119,Invoer!U$119:V$119)\n-SUM(Invoer!C$119:D$119,Invoer!G$119:H$119,Invoer!K$119:L$119,Invoer!O$119:P$119,Invoer!S$119:T$119))/10","v":0},3.3069871277034799E-2]
[null,119,2143,{"$f":"(Invoer!W$119\n+SUM(Invoer!E$119:F$119,Invoer!I$119:J$119,Invoer!M$119:N$119,Invoer!Q$119:R$119,Invoer!U$119:V$119)\n-SUM(Invoer!C$119:D$119,Invoer!G$119:H$119,Invoer!K$119:L$119,Invoer!O$119:P$119,Invoer!S$119:T$119))/10","v":0},3.3069295716491087E-2]
[null,120,2144,{"$f":"(Invoer!W$119\n+SUM(Invoer!E$119:F$119,Invoer!I$119:J$119,Invoer!M$119:N$119,Invoer!Q$119:R$119,Invoer!U$119:V$119)\n-SUM(Invoer!C$119:D$119,Invoer!G$119:H$119,Invoer!K$119:L$119,Invoer!O$119:P$119,Invoer!S$119:T$119))/10","v":0},3.306872892995294E-2]
[null,121,2145,0,{"$f":"E127-($E$126-$E$127)","v":3.3068162143414792E-2}]
[null,122,2146,0,{"$f":"E128-($E$126-$E$127)","v":3.3067595356876645E-2}]
[null,123,2147,0,3.3067028570338497E-2]
[null,124,2148,0,3.3066461783800349E-2]
[null,125,2149,0,3.3065894997262202E-2]
[null,126,2150,0,3.3065328210724054E-2]
[null,127,2151,0,3.3064761424185907E-2]
[null,128,2152,0,3.3064194637647759E-2]
[null,129,2153,0,3.3063627851109612E-2]
[null,130,2154,0,3.3063061064571464E-2]
[null,131,2155,0,3.3062494278033316E-2]
[null,132,2156,0,3.3061927491495169E-2]
[null,133,2157,0,3.3061360704957021E-2]
[null,134,2158,0,3.3060793918418874E-2]
[null,135,2159,0,3.3060227131880726E-2]
[null,136,2160,0,3.3059660345342579E-2]
[null,137,2161,0,3.3059093558804431E-2]
[null,138,2162,0,3.3058526772266283E-2]
[null,139,2163,0,3.3057959985728136E-2]
[null,140,2164,0,3.3057393199189988E-2]

{"sheet":"Uitvoer","index":4,"n_rows":39,"n_cols":7,"rows_kept":39,"cut":false,"hidden":false,"merged":[[15,1,15,6],[1,1,1,6],[8,3,12,5]]}
[]
[null,"Beschrijving van uitkomsten"]
[]
[null,null,null,"Beste Schatting\nzonder UFR","Omvang UFR-effect\nin dat jaar","Beste Schatting\nmet UFR"]
[null,"Rapportagejaar 2020",null,{"$f":"'Configuratie en berekeningen'!L8","v":0},{"$f":"'Configuratie en berekeningen'!O8","v":0},{"$f":"D5-E5","v":0}]
[null,"Rapportagejaar 2021",null,{"$f":"'Configuratie en berekeningen'!L9","v":0},{"$f":"'Configuratie en berekeningen'!O9","v":0},{"$f":"D6-E6","v":0}]
[null,"Verschil",null,{"$f":"D6-D5","v":0},{"$f":"E6-E5","v":0},{"$f":"F6-F5","v":0}]
[]
[null,null,null,{"$f":"\"Dit betekent dat de Beste Schatting eind 2021 EUR \"&ROUND(ABS(F7/1000000),1)&\" mln \"&IF(F7>0,\"hoger\",\"lager\")&\" zal liggen dan eind 2020. De afname van het UFR-effect tussen 2020 en 2021 is daarbij becijferd op EUR \"&ROUND(-E7/1000000,1)&\" mln.\"","v":"Dit betekent dat de Beste Schatting eind 2021 EUR 0 mln lager zal liggen dan eind 2020. De afname van het UFR-effect tussen 2020 en 2021 is daarbij becijferd op EUR 0 mln."}]
[]
[]
[]
[]
[]
[]
[null,"Alle uitkomsten"]
[]
[null,null,null,"Beste Schatting\nzonder UFR","Beste Schatting\nmet UFR","UFR-effect","Afname in UFR-effect (UFR-drag)"]
[null,"Rapportagejaar 2020",null,{"$f":"'Configuratie en berekeningen'!L8","v":0},{"$f":"'Configuratie en berekeningen'!M8","v":0},{"$f":"D19-E19","v":0}]
[null,"Rapportagejaar 2021",null,{"$f":"'Configuratie en berekeningen'!L9","v":0},{"$f":"'Configuratie en berekeningen'!M9","v":0},{"$f":"D20-E20","v":0},{"$f":"F19-F20","v":0}]
[null,"Rapportagejaar 2022",null,{"$f":"'Configuratie en berekeningen'!L10","v":0},{"$f":"'Configuratie en berekeningen'!M10","v":0},0,{"$f":"F20-F21","v":0}]
[null,"Rapportagejaar 2023",null,{"$f":"'Configuratie en berekeningen'!L11","v":0},{"$f":"'Configuratie en berekeningen'!M11","v":0},0,0]
[null,"Rapportagejaar 2024",null,{"$f":"'Configuratie en berekeningen'!L12","v":0},{"$f":"'Configuratie en berekeningen'!M12","v":0},0,0]
[null,"Rapportagejaar 2025",null,{"$f":"'Configuratie en berekeningen'!L13","v":0},{"$f":"'Configuratie en berekeningen'!M13","v":0},0,0]
[null,"Rapportagejaar 2026",null,{"$f":"'Configuratie en berekeningen'!L14","v":0},{"$f":"'Configuratie en berekeningen'!M14","v":0},0,0]
[null,"Rapportagejaar 2027",null,{"$f":"'Configuratie en berekeningen'!L15","v":0},{"$f":"'Configuratie en berekeningen'!M15","v":0},0,0]
[null,"Rapportagejaar 2028",null,{"$f":"'Configuratie en berekeningen'!L16","v":0},{"$f":"'Configuratie en berekeningen'!M16","v":0},0,0]
[null,"Rapportagejaar 2029",null,{"$f":"'Configuratie en berekeningen'!L17","v":0},{"$f":"'Configuratie en berekeningen'!M17","v":0},0,0]
[null,"Rapportagejaar 2030",null,{"$f":"'Configuratie en berekeningen'!L18","v":0},{"$f":"'Configuratie en berekeningen'!M18","v":0},0,0]
[null,"Rapportagejaar 2031",null,{"$f":"'Configuratie en berekeningen'!L19","v":0},{"$f":"'Configuratie en berekeningen'!M19","v":0},0,0]
[null,"Rapportagejaar 2032",null,{"$f":"'Configuratie en berekeningen'!L20","v":0},{"$f":"'Configuratie en berekeningen'!M20","v":0},0,0]
[null,"Rapportagejaar 2033",null,{"$f":"'Configuratie en berekeningen'!L21","v":0},{"$f":"'Configuratie en berekeningen'!M21","v":0},0,0]
[null,"Rapportagejaar 2034",null,{"$f":"'Configuratie en berekeningen'!L22","v":0},{"$f":"'Configuratie en berekeningen'!M22","v":0},0,0]
[null,"Rapportagejaar 2035",null,{"$f":"'Configuratie en berekeningen'!L23","v":0},{"$f":"'Configuratie en berekeningen'!M23","v":0},0,0]
[null,"Rapportagejaar 2036",null,{"$f":"'Configuratie en berekeningen'!L24","v":0},{"$f":"'Configuratie en berekeningen'!M24","v":0},0,0]
[null,"Rapportagejaar 2037",null,{"$f":"'Configuratie en berekeningen'!L25","v":0},{"$f":"'Configuratie en berekeningen'!M25","v":0},0,0]
[null,"Rapportagejaar 2038",null,{"$f":"'Configuratie en berekeningen'!L26","v":0},{"$f":"'Configuratie en berekeningen'!M26","v":0},0,0]
[null,"Rapportagejaar 2039",null,{"$f":"'Configuratie en berekeningen'!L27","v":0},{"$f":"'Configuratie en berekeningen'!M27","v":0},0,0]
[null,"Rapportagejaar 2040",null,{"$f":"'Configuratie en berekeningen'!L28","v":0},{"$f":"'Configuratie en berekeningen'!M28","v":0},0,0]

{"sheet":"Kale curves (zonder UFR, VA)","index":5,"n_rows":158,"n_cols":45,"rows_kept":158,"cut":false,"hidden":false,"merged":[]}
[]
[null,"Rentetermijnstructuur zonder UFR en zonder VA"]
[]
[]
[]
[]
[]
[]
[]
[]
[]
[]
[]
[]
[]
[null,"Rentes",null,null,null,null,null,null,null,null,null,null,null,null,null,null,null,null,null,null,null,null,null,null,"Discount factors"]
[]
[null,1,2,3,4,5,6,7,8,9,10,11,12,13,14,15,16,17,18,19,20,21,null,null,1,2,3,4,5,6,7,8,9,10,11,12,13,14,15,16,17,18,19,20,21]
[1,{"$f":"'Configuratie en berekeningen'!E8","v":2.0759999999976624E-2},{"$f":"((1+B20)^$A20/(1+B$19)^$A$19)^(1/($A20-$A$19))-1","v":2.2500741506308541E-2},{"$f":"((1+C20)^$A20/(1+C$19)^$A$19)^(1/($A20-$A$19))-1","v":2.5234230192274776E-2},2.6956227500497087E-2,2.8518455120392527E-2,2.996083775314462E-2,3.1685164357386553E-2,3.2364556547039847E-2,3.3466711274705352E-2,3.4951489876668074E-2,3.502801749199147E-2,3.5708732132836873E-2,3.7315533833920389E-2,3.636488500084889E-2,3.5421273691527366E-2,3.5261295911400703E-2,3.523659393933154E-2,3.5184258424900028E-2,3.5103754483847505E-2,3.4994411485587573E-2,3.4862077795816182E-2,null,1,{"$f":"(1+B19)^-$A19","v":0.97966221246916307},{"$f":"(1+C19)^-$A19","v":0.97799440079313649},{"$f":"(1+D19)^-$A19","v":0.97538686336336788},{"$f":"(1+E19)^-$A19","v":0.97375133741960385},{"$f":"(1+F19)^-$A19","v":0.97227229615723876},{"$f":"(1+G19)^-$A19","v":0.9709107019850346},{"$f":"(1+H19)^-$A19","v":0.96928795193335704},{"$f":"(1+I19)^-$A19","v":0.96865007003408765},{"$f":"(1+J19)^-$A19","v":0.96761703990114334},{"$f":"(1+K19)^-$A19","v":0.96622886172101352},{"$f":"(1+L19)^-$A19","v":0.96615742095864332},{"$f":"(1+M19)^-$A19","v":0.96552241858644772},{"$f":"(1+N19)^-$A19","v":0.96402682441667287},{"$f":"(1+O19)^-$A19","v":0.96491111815234931},{"$f":"(1+P19)^-$A19","v":0.96579047138442309},{"$f":"(1+Q19)^-$A19","v":0.96593971391506706},{"$f":"(1+R19)^-$A19","v":0.96596276238144985},{"$f":"(1+S19)^-$A19","v":0.96601159828450722},{"$f":"(1+T19)^-$A19","v":0.96608672866677803},{"$f":"(1+U19)^-$A19","v":0.96618879184539941},{"$f":"(1+V19)^-$A19","v":0.96631234389217358}]
[2,{"$f":"'Configuratie en berekeningen'!E9","v":2.1629999999978278E-2},{"$f":"((1+B21)^$A21/(1+B$19)^$A$19)^(1/($A21-$A$19))-1","v":2.3866573626295517E-2},2.6094867613436046E-2,2.7737044474450023E-2,2.9239393766275157E-2,3.0822640505642207E-2,3.2024804545885521E-2,3.2915486906474278E-2,3.4208834119926035E-2,3.4989752977018895E-2,3.5368318869470894E-2,3.6511821625217378E-2,3.6840100464572645E-2,3.5892971902383497E-2,3.5341281711554151E-2,3.5248944851689723E-2,3.521042585138523E-2,3.514400567176712E-2,3.5049081540837745E-2,3.4928242525554598E-2,3.4797312256922508E-2,null,2,{"$f":"(1+B20)^-$A20","v":0.95810415846345764},0.95392289097655403,{"$f":"(1+D20)^-$A20","v":0.94978426270159177},0.94675144871914052,0.94398957758262625,0.94109204583725226,0.93890084252344364,0.93728231346641921,0.93493951104553819,0.93352918509617999,0.93284664981923393,0.93078951109299868,0.93020020107675028,0.93190196364442823,0.93289537163096736,0.9330617943473456,0.933131231971422,0.93325098484084534,0.93342216918842846,0.93364015609047524,0.93387643325985636]
[3,{"$f":"'Configuratie en berekeningen'!E10","v":2.282999999995905E-2},{"$f":"((1+B22)^$A22/(1+B$19)^$A$19)^(1/($A22-$A$19))-1","v":2.4895424046206482E-2},2.6902094904727614E-2,2.847777489893133E-2,3.0054005719077903E-2,3.1336356463826487E-2,3.250521645368476E-2,3.3593709138503458E-2,3.4481823179601356E-2,3.5229357222008595E-2,3.6016984046346012E-2,3.6462840435819377E-2,3.6366942315763318E-2,3.5682370425442089E-2,3.5306384611255348E-2,3.5227382260315077E-2,3.5174867507496543E-2,3.5094138540775033E-2,3.4986743204762139E-2,3.4863007828946246E-2,3.4735486363956625E-2,null,3,0.9345222098990712,0.92888369088359424,0.92344892595088679,0.91921111368124908,0.91499772430149839,0.91158887610877737,0.90849645400322399,0.9056292228518964,0.90329874674409238,0.90134335661509934,0.89928919349296832,0.89812914791322396,0.8983784906797998,0.90016111615958827,0.90114219019351849,0.90134851525568949,0.90148569931207134,0.90169664153190543,0.90197736414938712,0.90230094278423134,0.90263458433974975]
[4,{"$f":"'Configuratie en berekeningen'!E11","v":2.3859999999947368E-2},{"$f":"((1+B23)^$A23/(1+B$19)^$A$19)^(1/($A23-$A$19))-1","v":2.5799983581044295E-2},2.766592795963585E-2,2.9278686231584805E-2,3.0631158165987937E-2,3.1868533114612907E-2,3.3116242197481327E-2,3.3952099779998912E-2,3.4788414093771758E-2,3.5750507710058388E-2,3.6103948334556657E-2,3.6202350564453978E-2,3.6090420062326212E-2,3.5570908311557181E-2,3.527585171399461E-2,3.5196473932001204E-2,3.5129750552545858E-2,3.5036118476425404E-2,3.4923189242783925E-2,3.4800211571033746E-2,3.4676456461455674E-2,null,4,0.90999225173754439,0.90312787899840308,0.89658644494230166,0.89098025777447809,0.8863126097256776,0.882068929907185,0.87781549462911224,0.87498039429536878,0.87215519066246283,0.8689191737867189,0.86773414123562453,0.86740457312720309,0.86777946227469516,0.86952211835388515,0.87051380743044215,0.87078083849202648,0.87100537868423522,0.87132059515839622,0.8717009660873678,0.8721154185210972,0.87253273971823397]
[5,{"$f":"'Configuratie en berekeningen'!E12","v":2.4789999999933254E-2},{"$f":"((1+B24)^$A24/(1+B$19)^$A$19)^(1/($A24-$A$19))-1","v":2.6630807510207521E-2},2.8468520632501937E-2,2.9895121485889353E-2,3.1197645704362564E-2,3.2484388898937011E-2,3.3498314551930752E-2,3.4303187739290752E-2,3.529334503339987E-2,3.5873354024118953E-2,3.5967377407323697E-2,3.6014071225063837E-2,3.5919598519884133E-2,3.5493566782596853E-2,3.5241429979074868E-2,3.5156058287065139E-2,3.5076210462970714E-2,3.4975397811430442E-2,3.4860913031673935E-2,3.4740039651142363E-2,3.4620085683535473E-2,null,5,0.88476025608215825,0.87685652298059424,0.86905043894933343,0.86304808909223851,0.85761118384981716,0.8522804581036918,0.84810795436839914,0.84481318651578763,0.84078099885285196,0.8384297715625586,0.8380493653003116,0.83786052521511101,0.83824264651675384,0.83996845129476727,0.84099183647973741,0.84133868630473518,0.84166324901905354,0.84207324347620705,0.84253913169890471,0.84303135363391735,0.84352017271195867]
[6,{"$f":"'Configuratie en berekeningen'!E13","v":2.5649999999918238E-2},{"$f":"((1+B25)^$A25/(1+B$19)^$A$19)^(1/($A25-$A$19))-1","v":2.7471477454215298E-2},2.9116837392194395E-2,3.0489528132054966E-2,3.1822339545018341E-2,3.2907892479337342E-2,3.3866389606374225E-2,3.4804637248475379E-2,3.5471858058901962E-2,3.57979935970556E-2,3.5849663724489167E-2,3.5884451140917761E-2,3.5797005573328766E-2,3.5428587873160389E-2,3.52002561364404E-2,3.5107055739644233E-2,3.5018925922487121E-2,3.4914796915895607E-2,3.4800649913564685E-2,3.4682463914347483E-2,3.4566243699880372E-2,null,6,0.85902320132118615,0.84992646329926524,0.84180576855142675,0.83510003725976889,0.82864867797041974,0.82343708933491433,0.81886724332418059,0.81442257342214508,0.81127893372435433,0.80974748430013799,0.80950516416488594,0.8093420674271613,0.80975211871188513,0.811482373294661,0.81255688644020108,0.81299595797029034,0.81341139639578386,0.81390257322970017,0.81444140259571662,0.81499973656979052,0.81554921931204405]
[7,{"$f":"'Configuratie en berekeningen'!E14","v":2.6509999999891499E-2},{"$f":"((1+B26)^$A26/(1+B$19)^$A$19)^(1/($A26-$A$19))-1","v":2.8169066286825251E-2},2.97371252063372E-2,3.1125771539429081E-2,3.2279684946040721E-2,3.3307548222652805E-2,3.4358421443529519E-2,3.5027385888494633E-2,3.5464631569407601E-2,3.572130546776231E-2,3.57620601033668E-2,3.5784394621219739E-2,3.5697941284217105E-2,3.5366551525569445E-2,3.515193817972917E-2,3.5053546732283225E-2,3.4960761794314843E-2,3.4855442424940319E-2,3.4742637781834507E-2,3.4627399680060345E-2,3.4514806461411363E-2,null,7,0.83264083947184908,0.82328132819865885,0.81454560593743719,0.80689775842468314,0.80060506958869038,0.79504697004843017,0.7894099882006449,0.78584539596927627,0.78352546382589705,0.78216725332831982,0.78195184453876243,0.78183382411419966,0.78229077539735681,0.78404517385740602,0.78518374948175718,0.78570637152979894,0.78619957794633177,0.78675984103056373,0.78736042936699435,0.78797451489756221,0.78857503498492487]
[8,{"$f":"'Configuratie en berekeningen'!E15","v":2.7239999999890019E-2},{"$f":"((1+B27)^$A27/(1+B$19)^$A$19)^(1/($A27-$A$19))-1","v":2.8829783942303289E-2},3.0387481352547541E-2,3.1612746571088923E-2,3.2707694206937754E-2,3.380769829958874E-2,3.4609016792996217E-2,3.5076613668325374E-2,3.5439212428254541E-2,3.5660704117647546E-2,3.568981726011522E-2,3.5699290134146189E-2,3.5609973913441006E-2,3.5303478863033755E-2,3.5099505459203151E-2,3.499832378725265E-2,3.4903078688791389E-2,3.479783005743986E-2,3.4686932039952323E-2,3.4574744933368873E-2,3.4465655947276019E-2,null,8,0.80653760746764935,0.79662104179746629,0.78703747364478405,0.77959025725690256,0.77300214312184323,0.76644660579788626,0.76171047439531803,0.75896199540844622,0.75683836237315694,0.75554444066933524,0.75537455112440832,0.75531928149952365,0.75584057915297331,0.75763252966749695,0.75882772692950895,0.75942139540162656,0.75998070937267392,0.76059930679878629,0.76125172137017705,0.76191236033152832,0.76255537389348238]
[9,{"$f":"'Configuratie en berekeningen'!E16","v":2.7929999999874111E-2},{"$f":"((1+B28)^$A28/(1+B$19)^$A$19)^(1/($A28-$A$19))-1","v":2.9508181427614577E-2},3.0902067322552629E-2,3.2067054969789233E-2,3.3218663935814519E-2,3.4091518277540533E-2,3.4699236084124063E-2,3.5097132290494493E-2,3.5416697304596179E-2,3.560775488029333E-2,3.5624682791056461E-2,3.5620946583879931E-2,3.5526847660330096E-2,3.5240026855153816E-2,3.5045309688066517E-2,3.4942874480692998E-2,3.4846572415165866E-2,3.4742178726201445E-2,3.4633510418650371E-2,3.4524393220395799E-2,3.4418679914539396E-2,null,9,0.78041953230679495,0.76971824243897369,0.76040209573445072,0.75271187069311507,0.74519480130103255,0.73955285140451266,0.73565271812470667,0.73311153271724272,0.73107767519422784,0.72986469270595833,0.72975732901391499,0.72978102404956013,0.73037808165012807,0.7322013104765579,0.73344194744435254,0.73409554899241014,0.73471060746077121,0.73537799205763721,0.73607341972346985,0.73677245541736025,0.73745038834553678]
[10,{"$f":"'Configuratie en berekeningen'!E17","v":2.8629999999841171E-2},{"$f":"((1+B29)^$A29/(1+B$19)^$A$19)^(1/($A29-$A$19))-1","v":3.0058837750973844E-2},3.1381728255697405E-2,3.2590705631571293E-2,3.3532855751355672E-2,3.4224416933595236E-2,3.4755428332312377E-2,3.5111077609897068E-2,3.5393451068201909E-2,3.5557343799535568E-2,3.5561638392883843E-2,3.5545034670126263E-2,3.5447390541293755E-2,3.517719157594601E-2,3.4990704453452315E-2,3.4888037287509777E-2,3.4791609619977848E-2,3.4688572031077447E-2,3.4582314751318011E-2,3.4476238657024316E-2,3.4373771651743157E-2,null,10,0.7540638763656401,0.74366899197965919,0.73418527057172989,0.72563443440501663,0.71904674896469922,0.71425309697165729,0.71059617608622083,0.70815844127724648,0.70622951348449747,0.70511259334568233,0.70508335206028028,0.7051964118773616,0.70586170417244265,0.70770628960836657,0.70898248630258676,0.70968615398102275,0.71034775660251881,0.71105546064181135,0.71178609122594738,0.71251629976149422,0.71322244649561273]
[11,{"$f":"'Configuratie en berekeningen'!E18","v":2.9209999999858072E-2},{"$f":"((1+B30)^$A30/(1+B$19)^$A$19)^(1/($A30-$A$19))-1","v":3.0571188395182025E-2},3.1919759578929119E-2,3.2933244134351725E-2,3.3704387695780547E-2,3.4318635730023361E-2,3.4799161417337521E-2,3.5117730197478325E-2,3.5367111665090434E-2,3.550615548513858E-2,3.5498022438497756E-2,3.547114614256297E-2,3.5371404040396515E-2,3.5115554627575873E-2,3.4936501974431655E-2,3.4834299566863569E-2,3.4738380214409004E-2,3.4637022436726506E-2,3.4533269826993118E-2,3.443017807254245E-2,3.4330829737272195E-2,null,11,0.7285444100275047,0.7180290837639457,0.70777429492276067,0.70017273347159414,0.69444849863005287,0.68992543215175361,0.68640944518994063,0.68408926769689715,0.68227896037016766,0.68127188467964084,0.68133074656872117,0.6815252998001281,0.68224784699086016,0.68410508360866185,0.68540812518832983,0.68615310879284597,0.68685309696797814,0.68759361962186005,0.68835254115833933,0.68910753389661594,0.68983596652294599]
[12,{"$f":"'Configuratie en berekeningen'!E19","v":2.9749999999850951E-2},{"$f":"((1+B31)^$A31/(1+B$19)^$A$19)^(1/($A31-$A$19))-1","v":3.1131538413099014E-2},3.228945735883415E-2,3.3140351385986033E-2,3.3834040569917789E-2,3.4395101148531504E-2,3.4831247362192341E-2,3.5116565547468559E-2,3.533604819143199E-2,3.545246703713012E-2,3.5434211509978164E-2,3.5399510517962751E-2,3.5298707883770541E-2,3.5055458662943018E-2,3.4883201365367267E-2,3.478194643245347E-2,3.468697346281191E-2,3.4587503237135664E-2,3.4486292694882126E-2,3.4386111962621424E-2,3.4289757803336984E-2,null,12,0.7034259608173925,0.69219929745977005,0.68293928631341283,0.67622015431005067,0.67079538409546158,0.66644227627852337,0.66307948522551596,0.66088956274534771,0.65921028442158747,0.65832143171262358,0.65846072597295824,0.65872559130201225,0.6594956513185608,0.66135792046617603,0.66268013438293039,0.66345868398692709,0.6641898322057912,0.66495653846756875,0.66573764312181283,0.66651177906630787,0.66725726568550248]
[13,{"$f":"'Configuratie en berekeningen'!E20","v":3.0329999999803903E-2},{"$f":"((1+B32)^$A32/(1+B$19)^$A$19)^(1/($A32-$A$19))-1","v":3.153316359668934E-2},3.2530029631574697E-2,3.330334658423606E-2,3.3941861795108386E-2,3.4455784189898031E-2,3.4852206901189176E-2,3.5107168569342262E-2,3.5299581224512711E-2,3.5397071084464438E-2,3.5370929398117257E-2,3.5330242446837579E-2,3.5229135638935816E-2,3.4997101783218465E-2,3.4831111434248774E-2,3.4731140798794913E-2,3.4637418838966871E-2,3.4539965654737603E-2,3.444129756476455E-2,3.4343944896092493E-2,3.4250464306167183E-2,null,13,0.67812149521903931,0.66791079809617737,0.6595762552555734,0.6531879023978524,0.64796336221357653,0.64379096847218131,0.64059229072756985,0.6385440881721608,0.63700303505725042,0.6362237577448433,0.63643261841180954,0.63675783630834137,0.63756677586982224,0.63942742944478215,0.64076207515182371,0.64156733650615883,0.64232325476174046,0.64311028467026343,0.64390818425604301,0.64469649138274043,0.64545442280945786]
[14,{"$f":"'Configuratie en berekeningen'!E21","v":3.0759895362778567E-2},{"$f":"((1+B33)^$A33/(1+B$19)^$A$19)^(1/($A33-$A$19))-1","v":3.1810400904036751E-2},3.2724880889062335E-2,3.3441315873984578E-2,3.4030554941012481E-2,3.450205432741571E-2,3.4862363723514367E-2,3.5089660160690483E-2,3.5259068746442912E-2,3.5340963795752467E-2,3.5308652023751552E-2,3.5263385165157812E-2,3.5162532090918353E-2,3.4940591371356522E-2,3.4780420747016372E-2,3.4681969016067571E-2,3.4589709268141977E-2,3.4494348509463757E-2,3.4398198508434508E-2,3.4303585651988877E-2,3.4212862302904101E-2,null,14,0.65432697019494657,0.6450618845360564,0.63711089930673825,0.6309551905543731,0.62594012316174064,0.62195791067650597,0.61893309144354591,0.61703303452013258,0.61562094918384858,0.61493956445016618,0.61520830890287204,0.61558501544819377,0.61642519425256992,0.61827845040436658,0.61961962034913187,0.62044554094555071,0.62122058709600803,0.62202277422165531,0.62283272434290204,0.62363082896553923,0.62439715291675424]
[15,{"$f":"'Configuratie en berekeningen'!E22","v":3.106999999990534E-2},{"$f":"((1+B34)^$A34/(1+B$19)^$A$19)^(1/($A34-$A$19))-1","v":3.2040102273229509E-2},3.289213867176155E-2,3.3557420690765172E-2,3.4102066947180987E-2,3.4534870849908028E-2,3.4862344661665157E-2,3.5065849034200625E-2,3.5215907947059089E-2,3.5284837379760736E-2,3.5247692321917157E-2,3.5198936463852304E-2,3.5098751565867614E-2,3.488597629161494E-2,3.4731239567530992E-2,3.4634468153831088E-2,3.4543814977306297E-2,3.445058392796696E-2,3.4356910991507839E-2,3.4264947216079644E-2,3.4176869235555962E-2,null,15,0.63194275298412173,0.6230908922062689,0.61542540423766545,0.60951003207333643,0.60471244592660478,0.60092876229522074,0.59808268630524308,0.59632127554138681,0.59502600107136872,0.59443202403253104,0.59475203090621398,0.59517234443236222,0.59603701114858265,0.59787786070021531,0.59922039145816763,0.60006163617766783,0.6008508372513236,0.60166363550638102,0.60248146745106912,0.60328553080834546,0.60405669282229879]
[16,{"$f":"'Configuratie en berekeningen'!E23","v":3.1331458152366709E-2},{"$f":"((1+B35)^$A35/(1+B$19)^$A$19)^(1/($A35-$A$19))-1","v":3.2239593531895538E-2},3.3035247350800878E-2,3.365399883956055E-2,3.4157815934230173E-2,3.4555318252702083E-2,3.4854232066556579E-2,3.5037467987561577E-2,3.5171110849360199E-2,3.5229177185758243E-2,3.5188253201265507E-2,3.513686482426337E-2,3.5037656788345473E-2,3.4833266921045603E-2,3.4683625979056165E-2,3.4588642964374694E-2,3.4499692065093068E-2,3.4408600828385039E-2,3.4317352750447006E-2,3.4227946701647305E-2,3.4142406722282193E-2,null,16,0.6104186020281771,0.60188259945029088,0.59450807837251685,0.58883955297531043,0.58426638754370197,0.58068488080571978,0.57800702786379821,0.57637197760988468,0.57518255551680297,0.57466657782877295,0.5750301773226808,0.57548709657121733,0.57637029543986362,0.57819441794158932,0.57953381046373753,0.58038568584017136,0.58118466737821006,0.58200408530920145,0.58282614491063478,0.58363280624410363,0.58440569664833308]
[17,{"$f":"'Configuratie en berekeningen'!E24","v":3.1560763699272298E-2},{"$f":"((1+B36)^$A36/(1+B$19)^$A$19)^(1/($A36-$A$19))-1","v":3.2412577009807153E-2},3.3156809734827819E-2,3.3732798566108002E-2,3.4199229832209355E-2,3.4565742854589576E-2,3.4839972470819935E-2,3.5005808416322726E-2,3.5125419567798799E-2,3.5174324447655447E-2,3.5130461723157813E-2,3.5077119769443499E-2,3.4979118053832803E-2,3.4782448025002743E-2,3.4637602702720205E-2,3.4544476777724098E-2,3.4457287968486128E-2,3.436832709954718E-2,3.4279444287511174E-2,3.4192505228856973E-2,3.4109400356154174E-2,null,17,0.58964163902416233,0.58142557187460941,0.57434636460087518,0.56893017628000031,0.56458382240476945,0.56119320917552462,0.55867041372926463,0.55715062268373794,0.55605717296879786,0.55561075368972634,0.55601112901822514,0.55649844165448203,0.5573949286236759,0.55919861706165619,0.56053096511235212,0.56138935133913148,0.56219427396256449,0.56301681576711959,0.56383990852697707,0.56464623399222147,0.56541814030810977]
[18,{"$f":"'Configuratie en berekeningen'!E25","v":3.1761735806270952E-2},{"$f":"((1+B37)^$A37/(1+B$19)^$A$19)^(1/($A37-$A$19))-1","v":3.2561903142746873E-2},3.3258813074372506E-2,3.3795503959533679E-2,3.4228851560503593E-2,3.4568304067633671E-2,3.4821048112126718E-2,3.4971844770468108E-2,3.5079383070905301E-2,3.5120518030907766E-2,3.5074391804029714E-2,3.5019638681867082E-2,3.4923012595587721E-2,3.4733487261564777E-2,3.45931682331031E-2,3.4501938690789213E-2,3.441654503583913E-2,3.4329690985263284E-2,3.4243109135195793E-2,3.4158547781816262E-2,3.4077779511506145E-2,null,18,0.56960066212882776,0.56170752869554808,0.55492702011451756,0.54976425215211744,0.54563261007293729,0.54241908357215007,0.54003938597951584,0.53862481953918129,0.53761843282249544,0.5372340002954954,0.53766509915639915,0.53817729959255245,0.5390824670241432,0.54086256030557556,0.54218448626001536,0.54304577615608718,0.54385327862561494,0.54467589121273474,0.54549723305156173,0.54630066987176551,0.54706923410457653]
[19,{"$f":"'Configuratie en berekeningen'!E26","v":3.1937362210422648E-2},{"$f":"((1+B38)^$A38/(1+B$19)^$A$19)^(1/($A38-$A$19))-1","v":3.2689787250053559E-2},3.3343133469829533E-2,3.3844801050243456E-2,3.4249005609588545E-2,3.4564676736905886E-2,3.479860084454045E-2,3.4936319642170366E-2,3.5033409627674983E-2,3.5067922917693561E-2,3.5020079670182724E-2,3.4964351391008064E-2,3.4869224076235161E-2,3.4686340927530868E-2,3.4550304387051201E-2,3.4460988418588023E-2,3.4377402906659693E-2,3.4292621969377102E-2,3.4208273977924142E-2,3.412600305440483E-2,3.4047477157890027E-2,null,19,0.55028364032246713,0.54271551852081878,0.53623282949596185,0.53131048379827128,0.52737904786419998,0.5243300193409387,0.5220825481916066,0.52076413260512688,0.51983677310017673,0.51950753674500327,0.51996399179282649,0.52049620737869828,0.52140601645725537,0.52315983888200801,0.52446843613710847,0.52532948036739924,0.52613662847843201,0.52695665395991509,0.52777382702488385,0.52857216235528859,0.52933534267455584]
[20,{"$f":"'Configuratie en berekeningen'!E27","v":3.2089999999955321E-2},{"$f":"((1+B39)^$A39/(1+B$19)^$A$19)^(1/($A39-$A$19))-1","v":3.27982934005564E-2},3.341256000415016E-2,3.3883139771180293E-2,3.4261523237659741E-2,3.4556173900299969E-2,3.4773518818008498E-2,3.48998032591048E-2,3.4987803447217303E-2,3.5016650072549504E-2,3.496753460304558E-2,3.4911183313200089E-2,3.4817642162616513E-2,3.4640957913776083E-2,3.4508981523578619E-2,3.4421579628442611E-2,3.4339800118462049E-2,3.4257051339017242E-2,3.4174868683671589E-2,3.4094803291475406E-2,3.401842968160973E-2,null,20,0.53167788561545304,0.52443270476851245,0.51823326626406896,0.5135360531848423,0.50979155184878266,0.50689553335884907,0.5047703995331736,0.50353992666978065,0.50268434491153346,0.50240421592589768,0.50288127333975774,0.50342919807533304,0.50434011813976054,0.50606542514867103,0.50735820647616525,0.50821626439269385,0.50902050511440522,0.50983563817703847,0.51064655119414581,0.51143787521979911,0.51219391158478245]
[21,{"$f":"'Configuratie en berekeningen'!E28","v":3.2221835167084656E-2},{"$f":"((1+B40)^$A40/(1+B$19)^$A$19)^(1/($A40-$A$19))-1","v":3.2890318850652189E-2},3.3469637308990441E-2,3.3912476549434745E-2,3.4267861422759616E-2,3.4543834424248798E-2,3.4746498330761266E-2,3.4862735912626119E-2,3.4942790780591038E-2,3.496677056281583E-2,3.4916746546457933E-2,3.4860057628428587E-2,3.4768162158393734E-2,3.4597282469239321E-2,3.4469162213641491E-2,3.4383662265356607E-2,3.4303675200908712E-2,3.4222912535900818E-2,3.4142826278089178E-2,3.4064884129483053E-2,3.3990576714762799E-2,null,21,0.51376690384470747,0.50682923271099745,0.50089632013996777,0.49641020541796838,0.49284048413065779,0.49008698295201997,0.48807518423842428,0.48692522590359583,0.48613488024807183,0.48589840031988829,0.48639185564774262,0.48695169065647609,0.48786064475314667,0.48955557431468721,0.49083042555305101,0.49168312108711204,0.49248224141400154,0.49329049107752743,0.49409334378738473,0.49487601662466951,0.49562339995460486]
[22,{"$f":"'Configuratie en berekeningen'!E29","v":3.2335826328448336E-2},{"$f":"((1+B41)^$A41/(1+B$19)^$A$19)^(1/($A41-$A$19))-1","v":3.296850788990624E-2},3.3516421866482737E-2,3.393438788808445E-2,3.4269189331460614E-2,3.4528486684084259E-2,3.4718088751161114E-2,3.4825458749973226E-2,3.4898538838553872E-2,3.4918325763437341E-2,3.4867691576354831E-2,3.4810896802623947E-2,3.4720684678331892E-2,3.4555256155001324E-2,3.4430803855430625E-2,3.4347184192026647E-2,3.4268967422842245E-2,3.4190141365557647E-2,3.4112082881824213E-2,3.4036184439065087E-2,3.3963860971678139E-2,null,22,0.49652144746170285,0.48987379647477386,0.48419199320419831,0.47990408055675249,0.47649799623153472,0.47387741975040382,0.47197075496078306,0.47089458579830701,0.47016357181023127,0.46996584903288924,0.47047198957611169,0.47104038965520284,0.47194470568206903,0.47360773474358853,0.47486287328648508,0.47570815537969274,0.47650024541774993,0.47729990073378703,0.47809315199657187,0.47886577401244851,0.47960321854172394]
[23,{"$f":"'Configuratie en berekeningen'!E30","v":3.2434679496355034E-2},{"$f":"((1+B42)^$A42/(1+B$19)^$A$19)^(1/($A42-$A$19))-1","v":3.3035020717809394E-2},3.3554589462734707E-2,3.3950154283171718E-2,3.426645218221025E-2,3.4510795575916742E-2,3.4688725660555253E-2,3.4788236472210965E-2,3.4855169712933787E-2,3.4871334839625234E-2,3.4820335885445974E-2,3.4763623656852705E-2,3.4675115353865582E-2,3.4514819237272176E-2,3.4393860558461498E-2,3.4312092354428891E-2,3.4235617300175436E-2,3.4158676110013886E-2,3.4082577624474641E-2,3.4008646171160395E-2,3.3938228092600164E-2,null,23,0.47991084728514438,0.47353705826257553,0.4680921358495323,0.46399056110821824,0.46073788699779283,0.45824145701538155,0.45643244864494775,0.45542397676145757,0.45474696369583223,0.45458361495974653,0.45509916803662465,0.45567319366921938,0.45657056054403572,0.45820046603190012,0.45943440362556909,0.46027051073928177,0.46105393059720123,0.461843529889086,0.46262586908617137,0.46338725428799304,0.46411367278283472]
[24,{"$f":"'Configuratie en berekeningen'!E31","v":3.2520626642953854E-2},{"$f":"((1+B43)^$A43/(1+B$19)^$A$19)^(1/($A43-$A$19))-1","v":3.3091635545461129E-2},3.3585515749533057E-2,3.396082311908688E-2,3.4260419091883376E-2,3.4491297719794201E-2,3.4658755652575035E-2,3.4751274299649193E-2,3.4812770760479284E-2,3.4825800303233567E-2,3.4774638718108264E-2,3.4718162117751916E-2,3.4631364563059375E-2,3.4475911685198257E-2,3.4358284511986303E-2,3.4278333613585232E-2,3.4203566936592322E-2,3.4128457574237547E-2,3.4054252544089669E-2,3.3982214207646466E-2,3.3913626494459725E-2,null,24,0.463906362183653,0.45779148791614316,0.4525702980295534,0.44864413366398237,0.44553547360678314,0.44315514912261306,0.44143697369645907,0.44049067823175636,0.43986285189491031,0.43972995110220725,0.44025203759544262,0.44082911187184709,0.44171754021497295,0.44331336412000472,0.44452487353123982,0.44535030182047813,0.44612365191966019,0.44690195520369136,0.44767227660096731,0.44842142878497782,0.44913591033073169]
[25,{"$f":"'Configuratie en berekeningen'!E32","v":3.2595521681098027E-2},{"$f":"((1+B44)^$A44/(1+B$19)^$A$19)^(1/($A44-$A$19))-1","v":3.3139826170936804E-2},3.3610337434337945E-2,3.3967256423044878E-2,3.4251719387755841E-2,3.4470428160001232E-2,3.4628455125677249E-2,3.471473081117038E-2,3.4771402441419186E-2,3.4781712184190461E-2,3.4730554551523074E-2,3.4674437740607855E-2,3.458934718030382E-2,3.4438473886310828E-2,3.4324026984253297E-2,3.4245855339094078E-2,3.4172760245928746E-2,3.4099429086904331E-2,3.4027052478187825E-2,3.3956836217108544E-2,3.3890007228543295E-2,null,25,0.44848102190147937,0.44261121743818388,0.43760159430088658,0.43384076329248161,0.43086747439134537,0.4285958820137783,0.42696230734899554,0.42607318229339841,0.42549019364139218,0.42538422515620128,0.42591031780959426,0.42648818776041719,0.4273659746340811,0.42892699276555907,0.43011507792639386,0.43092855270602076,0.43169064716222838,0.43245661142696362,0.43321399119896065,0.43395008257683226,0.43465187267444499]
[26,{"$f":"'Configuratie en berekeningen'!E33","v":3.2660914279271314E-2},{"$f":"((1+B45)^$A45/(1+B$19)^$A$19)^(1/($A45-$A$19))-1","v":3.3180821621292544E-2},3.3629999308114611E-2,3.3970167552033859E-2,3.424087048932023E-2,3.4448540851971909E-2,3.4598044687212504E-2,3.4678727769873907E-2,3.4731104299850157E-2,3.4739051191849279E-2,3.4688034728050487E-2,3.4632378068375491E-2,3.4548982342526013E-2,3.4402447157690919E-2,3.4291039054040073E-2,3.4214605830541478E-2,3.4143143090028527E-2,3.4071536469634456E-2,3.4000924950390088E-2,3.3932462516083728E-2,3.3867323844846364E-2,null,26,0.43360948453916209,0.42797190900441617,0.42316258130702394,0.41955777943917955,0.41671190232907385,0.41454227354936363,0.4129876022388968,0.41215110586955095,0.41160902476628525,0.4115268415724006,0.41205472755593181,0.41263142945025383,0.4134971267423741,0.4150228207761415,0.41618669005095504,0.41698714021969319,0.41773698298411172,0.41848974003731931,0.41923341568132899,0.41995576773266319,0.42064425046945758]
[27,{"$f":"'Configuratie en berekeningen'!E34","v":3.2718107246618056E-2},{"$f":"((1+B46)^$A46/(1+B$19)^$A$19)^(1/($A46-$A$19))-1","v":3.3215652504095861E-2},3.3645290779189985E-2,3.3970149680123463E-2,3.4228299545427499E-2,3.4425924547489162E-2,3.4567700308119287E-2,3.4643357718046275E-2,3.4691899569576634E-2,3.469779113010274E-2,3.4647028683117309E-2,3.4591912871188013E-2,3.4510193229611685E-2,3.4367774107780358E-2,3.4259272145769737E-2,3.4184534613286299E-2,3.4114663355767405E-2,3.4044727984622547E-2,3.3975820055461847E-2,3.3909045935946125E-2,3.3845532262902767E-2,null,27,0.41926790724991764,0.41385063514344039,0.40923114648688164,0.40577377221160371,0.40304796815808192,0.40097408280088409,0.39949310129536475,0.39870511066652459,0.39820038428215387,0.39813917037313057,0.39866691768413559,0.39924074589084352,0.40009313197327434,0.40158316445719378,0.40272220671402076,0.40350874183541768,0.40424550531474451,0.40498434193659283,0.40571369383359362,0.40642176015779879,0.40709644224125047]
[28,{"$f":"'Configuratie en berekeningen'!E35","v":3.2768201588646129E-2},{"$f":"((1+B47)^$A47/(1+B$19)^$A$19)^(1/($A47-$A$19))-1","v":3.3245187387121344E-2},3.3656874534771175E-2,3.3967698135594748E-2,3.4214360388435061E-2,3.4402815229731987E-2,3.4537562042115555E-2,3.4608689900880396E-2,3.465379875091168E-2,3.4657900754741844E-2,3.460748487167975E-2,3.4552974298143635E-2,3.4472906857389463E-2,3.4334398888007822E-2,3.4228678419118141E-2,3.4155592641739396E-2,3.4087270988141016E-2,3.4018954267655444E-2,3.3951690344692143E-2,3.3886541695488992E-2,3.3824590648887431E-2,null,28,0.40543382885639156,0.40022576989432562,0.39578640691259714,0.3924684980381854,0.38985599218435935,0.3878721274168625,0.3864600601433188,0.38571683012251018,0.38524624550514541,0.38520348207976612,0.38572940939150341,0.38629888844266286,0.38713694277086658,0.38859113478520635,0.38970489798496405,0.39047678775517575,0.39119979365830354,0.39192413382610075,0.39263866872984082,0.39333201969363446,0.39399251615804459]
[29,{"$f":"'Configuratie en berekeningen'!E36","v":3.2812132205299216E-2},{"$f":"((1+B48)^$A48/(1+B$19)^$A$19)^(1/($A48-$A$19))-1","v":3.3270161610942761E-2},3.3665309229585993E-2,3.396322807265717E-2,3.4199346936654829E-2,3.4379405932315477E-2,3.4507740898893635E-2,3.4574774924108098E-2,3.4616802408665936E-2,3.4619345209562447E-2,3.4569351467862441E-2,3.4515496964381276E-2,3.4437053881906321E-2,3.4302267362568806E-2,3.4199211049891209E-2,3.4127732434096725E-2,3.4060917991561412E-2,3.3994168251531676E-2,3.3928490712944681E-2,3.3864907279201661E-2,3.3804459298722556E-2,null,29,0.39208606322184919,0.38707688987055278,0.38280861727039672,0.37962279379056724,0.37711732393898562,0.37521820828292762,0.37387067629567444,0.37316880268892771,0.37272945308963684,0.37270288816867131,0.37322553777695433,0.37378939730829081,0.37461227766345362,0.37603058886411933,0.37711876091074625,0.37787541676993508,0.37858411895461774,0.37929350792801458,0.37999284418571971,0.38067115318287037,0.38131717459870224]
[30,{"$f":"'Configuratie en berekeningen'!E37","v":3.285069641225169E-2},{"$f":"((1+B49)^$A49/(1+B$19)^$A$19)^(1/($A49-$A$19))-1","v":3.3291200298984469E-2},3.3671067595301363E-2,3.3957088567050153E-2,3.4183503874996246E-2,3.4355854554208642E-2,3.4478324303701902E-2,3.4541648442712791E-2,3.4580903374840544E-2,3.4582087141285189E-2,3.4532576892470246E-2,3.4479417990247896E-2,3.4402568414053425E-2,3.4271327217063829E-2,3.417082442911723E-2,3.4100908156009524E-2,3.4035558408217037E-2,3.3970325083482411E-2,3.3906178288317657E-2,3.3844102321111791E-2,3.3785100526983802E-2,null,30,0.37920460232626851,0.37438468426581106,0.37027908609661969,0.36721849854968919,0.36481426892724761,0.3629950407738527,0.36170802448377404,0.3610444108390447,0.36063366541237785,0.36062128653143932,0.36113940008506451,0.36169655236179532,0.36250357446620801,0.36388608526661609,0.36494847688682075,0.36568943555581279,0.36638340467149605,0.36707749474852208,0.36776134907624874,0.36842438023542212,0.36905572126762204]
[31,{"$f":"'Configuratie en berekeningen'!E38","v":3.2884576904619767E-2},{"$f":"((1+B50)^$A50/(1+B$19)^$A$19)^(1/($A50-$A$19))-1","v":3.330883687499453E-2},3.3674551005223874E-2,3.3949573944020539E-2,3.41670352297474E-2,3.4332290124606812E-2,3.4449380464171897E-2,3.4509334101228806E-2,3.4546088492153793E-2,3.4546087567528527E-2,3.449711020889179E-2,3.4444677005013524E-2,3.4369387843753207E-2,3.4241528021316636E-2,3.4143474300265986E-2,3.4075075666112564E-2,3.4011148279989412E-2,3.3947382039238638E-2,3.38847123249848E-2,3.3824088494096127E-2,3.376647856138848E-2,null,31,0.36677052810241312,0.36213087293329355,0.35818009946938739,0.35523838227766297,0.3529300217868836,0.35118619196516143,0.34995599753916384,0.34932782525835077,0.34894330179889388,0.34894331146680152,0.34945580819950589,0.35000532796484612,0.35079594722898982,0.35214284290085857,0.35317937234575203,0.35390428109161254,0.35458319083534412,0.35526172860841304,0.35592990426272353,0.35657750145519762,0.35719403063245397]
[32,{"$f":"'Configuratie en berekeningen'!E39","v":3.2914360378277774E-2},{"$f":"((1+B51)^$A51/(1+B$19)^$A$19)^(1/($A51-$A$19))-1","v":3.3323528070947184E-2},3.3676101270500913E-2,3.3940932945293989E-2,3.4150111299555475E-2,3.4308817858383911E-2,3.4420961885066159E-2,3.4477845890972247E-2,3.4512340000494746E-2,3.4511306553453247E-2,3.4462901417768643E-2,3.4411216124392796E-2,3.4337452673091517E-2,3.4212821257804116E-2,3.4117117849472134E-2,3.4050192533024104E-2,3.3987645598778204E-2,3.3925298435601547E-2,3.3864054099644436E-2,3.3804829404522785E-2,3.3748559442593473E-2,null,32,0.35476593218121827,0.35029813175658808,0.3464948514360876,0.34366608073050714,0.34144860524068527,0.33977602323462336,0.33859925229799959,0.33800395372542441,0.3376434941348081,0.33765428777840495,0.33816024498830055,0.3387013513988581,0.33947514658277445,0.34078670307848363,0.34179738246043423,0.34250598591458348,0.34316960073499214,0.34383241569408646,0.34448479189702508,0.34511686891115823,0.34571851948262916]
[33,{"$f":"'Configuratie en berekeningen'!E40","v":3.2940552729954664E-2},{"$f":"((1+B52)^$A52/(1+B$19)^$A$19)^(1/($A52-$A$19))-1","v":3.3335666170458467E-2},3.3676010256130429E-2,3.3931376194710872E-2,3.4132874292749804E-2,3.4285523260220607E-2,3.4393108213254253E-2,3.444719004948138E-2,3.4479636643594436E-2,3.4477703739196786E-2,3.4429901673361796E-2,3.4378979908854967E-2,3.4306706357859484E-2,3.4185160324289088E-2,3.4091713759968556E-2,3.4026218031091071E-2,3.3965010248779404E-2,3.3904035542923427E-2,3.3844166811839882E-2,3.3786290492011206E-2,3.373131092911219E-2,null,33,0.34317384278047364,0.33887002460814186,0.33520738052811194,0.33248603601317583,0.33035481428950358,0.32874963774025739,0.32762316005189335,0.32705839424023686,0.32672004245006825,0.32674018859434395,0.32723882414272742,0.32777086457859028,0.32852752317217798,0.3298040944914441,0.33078901758843154,0.3314811459583053,0.33212931006014773,0.33277630440515155,0.33341282689410101,0.33402935865750105,0.33461612042523864]
[34,{"$f":"'Configuratie en berekeningen'!E41","v":3.2963591540934756E-2},{"$f":"((1+B53)^$A53/(1+B$19)^$A$19)^(1/($A53-$A$19))-1","v":3.3345589057765412E-2},3.367452776679869E-2,3.3921082314160911E-2,3.4115442938803975E-2,3.4262475474756249E-2,3.4365848552344813E-2,3.4417366597906396E-2,3.4447954554999161E-2,3.4445238750232088E-2,3.439806343912033E-2,3.4347915308005517E-2,3.4277095157033477E-2,3.4158500517171619E-2,3.4067222239281048E-2,3.400311312030535E-2,3.3943203943432421E-2,3.3883556498513823E-2,3.3825015488242682E-2,3.3768438934168588E-2,3.3714702407110719E-2,null,34,0.33197815804709113,0.32783094126102785,0.32430251177901209,0.32168344223740913,0.31963416514658144,0.31809283231254026,0.31701376111573287,0.31647739200079844,0.31615937410440009,0.31618759656235113,0.31667825318663484,0.31720068874541535,0.31793999389220323,0.31918200083377068,0.32014133221011942,0.32081689074230757,0.3214495182582916,0.32208065779652539,0.32270133038408738,0.32330234512565686,0.32387425715280382]
[35,{"$f":"'Configuratie en berekeningen'!E42","v":3.2983856388388189E-2},{"$f":"((1+B54)^$A54/(1+B$19)^$A$19)^(1/($A54-$A$19))-1","v":3.3353588512181398E-2},3.3671868049832021E-2,3.3910202961118907E-2,3.4097916280530161E-2,3.4239730035033666E-2,3.4339203354478709E-2,3.438837059019284E-2,3.4417267968858578E-2,3.4413871515411198E-2,3.4367340595903073E-2,3.4317971595044128E-2,3.4248567989778822E-2,3.4132799000560432E-2,3.4043605025653401E-2,3.3980840414588487E-2,3.3922190159070942E-2,3.386382622165196E-2,3.380656689099526E-2,3.3751243556094268E-2,3.3698704804859592E-2,null,35,0.32116358523162591,0.31716604068302434,0.31376580371987794,0.31124419579648294,0.30927284846367181,0.30779205334379234,0.30675772312566346,0.30624779986816075,0.30594850623911846,0.30598366810832067,0.30646579936457635,0.30697819186816172,0.30770001067473968,0.30890793082965018,0.3098418961380987,0.31050085570454938,0.31111792191476528,0.31173322793286895,0.31233810497274284,0.31292367722829223,0.31348082133313243]
[36,{"$f":"'Configuratie en berekeningen'!E43","v":3.3001677407642704E-2},{"$f":"((1+B55)^$A55/(1+B$19)^$A$19)^(1/($A55-$A$19))-1","v":3.3359917090328262E-2},3.3668215185434169E-2,3.3898866998818722E-2,3.4080376807708701E-2,3.4217331127609496E-2,3.4313185972884241E-2,3.4360193131429906E-2,3.4387549790895866E-2,3.4383562511894894E-2,3.4337688513242259E-2,3.4289100294374375E-2,3.4221076299623565E-2,3.4108014764840044E-2,3.4020825378745068E-2,3.3959364141645798E-2,3.3901934066759232E-2,3.384481133075723E-2,3.3788789430085453E-2,3.3734674744458237E-2,3.3683290511640207E-2,null,36,0.31071558513561642,0.30686119919839927,0.30358349987798611,0.30115484981907148,0.29925768644352052,0.29783435629926897,0.29684230271830625,0.29635704199534607,0.29607501119306789,0.29611610047645387,0.29658925814589138,0.29709125850575147,0.29779553159483252,0.29896989045305677,0.29987876779616285,0.30052115648819849,0.30112268998011987,0.30172223198987419,0.3023114116558599,0.30288165603056205,0.30342415098545461]
[37,{"$f":"'Configuratie en berekeningen'!E44","v":3.3017342437333452E-2},{"$f":"((1+B56)^$A56/(1+B$19)^$A$19)^(1/($A56-$A$19))-1","v":3.3364793864502529E-2},3.3663727575991897E-2,3.3887183964494083E-2,3.406289305807042E-2,3.4195313467110688E-2,3.428780394067088E-2,3.4332822210298319E-2,3.4358772057232256E-2,3.4354272951955256E-2,3.4309064091758712E-2,3.4261255104735655E-2,3.4194573925421246E-2,3.4084108577691286E-2,3.3998848058488296E-2,3.3938650096806633E-2,3.388240246350005E-2,3.3826480063048114E-2,3.3771653079706532E-2,3.3718704365975016E-2,3.3668433300878764E-2,null,37,0.30062032132764371,0.29690296305385361,0.29374248435169098,0.29140257240747447,0.28957609347360308,0.28820736851108586,0.28725531027669715,0.28679308032750872,0.28652698461009563,0.28657310129698516,0.28703692410727488,0.28752826190967901,0.28821499408966117,0.28935635714434449,0.29024046938572878,0.29086636501273283,0.29145244068483495,0.29203632995332357,0.29260994824774067,0.29316501385735211,0.29369301022011957]
[38,{"$f":"'Configuratie en berekeningen'!E45","v":3.3031103009570462E-2},{"$f":"((1+B57)^$A57/(1+B$19)^$A$19)^(1/($A57-$A$19))-1","v":3.3368409229078244E-2},3.3658541701677924E-2,3.3875246966256434E-2,3.404552178503395E-2,3.4173703853431103E-2,3.4263060027506897E-2,3.4306243381048374E-2,3.4330906302840525E-2,3.4325964923445529E-2,3.4281425783087016E-2,3.4234391819635057E-2,3.4169016978797151E-2,3.4061042929848684E-2,3.3977639295090567E-2,3.3918665592775454E-2,3.3863563703646848E-2,3.3808802196932275E-2,3.3755129298534303E-2,3.3703305690060414E-2,3.3654108257318294E-2,null,38,0.29086461367398703,0.28727850497101848,0.28423024107654332,0.28197510830466638,0.28021603995170907,0.27889925494967654,0.2779850774593105,0.27754438370922391,0.27729301599227879,0.27734336045207281,0.27779756397937794,0.27827803816632807,0.27894729010264024,0.28005625584804744,0.28091596377552097,0.28152548717495812,0.28209621999745266,0.28266460378074537,0.28322282919699998,0.28376289471801697,0.28427657023038422]
[39,{"$f":"'Configuratie en berekeningen'!E46","v":3.3043179393542843E-2},{"$f":"((1+B58)^$A58/(1+B$19)^$A$19)^(1/($A58-$A$19))-1","v":3.3370928943420308E-2},3.3652775275251789E-2,3.3863135112398357E-2,3.4028309771170218E-2,3.415252246970657E-2,3.4238953115207638E-2,3.4280440323100958E-2,3.430392385691361E-2,3.4298601493268022E-2,3.425473359227893E-2,3.4208468246485157E-2,3.4144363727782956E-2,3.4038781977319355E-2,3.3957166752563106E-2,3.3899379406729713E-2,3.3845387631169288E-2,3.3791748977284097E-2,3.373919095380451E-2,3.3688453315496636E-2,3.364029170804117E-2,null,39,0.28143589577474015,0.27797558430894326,0.27503481643583516,0.27286074366940183,0.27116601900646603,0.26989868669738365,0.26902042725611852,0.26859989936088524,0.26836216147686992,0.26841602403266368,0.2688603916642105,0.26932986219803701,0.26998174298321592,0.27105893671348352,0.27189463296543254,0.27248794204086157,0.27304348149550622,0.27359653790325317,0.27413956667514483,0.27466483594084828,0.27516439143522331]
[40,{"$f":"'Configuratie en berekeningen'!E47","v":3.3053764859334755E-2},{"$f":"((1+B59)^$A59/(1+B$19)^$A$19)^(1/($A59-$A$19))-1","v":3.3372497546068081E-2},3.3646529902383593E-2,3.3850915556107752E-2,3.4011295350528048E-2,3.4131783967560558E-2,3.421547892497423E-2,3.4255395300725411E-2,3.4277796078919787E-2,3.4272146781228141E-2,3.4228949066645198E-2,3.4183444125518214E-2,3.4120574486317778E-2,3.4017291481457379E-2,3.3937399487595776E-2,3.3880761725894715E-2,3.3827845513250576E-2,3.3775293043677435E-2,3.3723812249082163E-2,3.3674123100925213E-2,3.3626961157114277E-2,null,40,0.2723221759365087,0.2689825104974139,0.26614478490269239,0.26404827367029643,0.26241501584508814,0.26119481187555305,0.26035064634101868,0.25994902650906981,0.25972391863652133,0.25978067019957596,0.26021504504840187,0.2606734254593388,0.26130808598965799,0.26235415431429748,0.26316625799021498,0.26374354240214448,0.26428406753102729,0.26482200095688008,0.26535005283389063,0.26586075091967193,0.26634640668198134]
[41,{"$f":"'Configuratie en berekeningen'!E48","v":3.3063029296183322E-2},{"$f":"((1+B60)^$A60/(1+B$19)^$A$19)^(1/($A60-$A$19))-1","v":3.3373241248664476E-2},3.3639893333038628E-2,3.3838645222360686E-2,3.3994509690620456E-2,3.4111498376955707E-2,3.4192630622626341E-2,3.4231089540809334E-2,3.425249454636714E-2,3.4246566010199819E-2,3.4204035274180367E-2,3.4159281049261914E-2,3.4097611509372738E-2,3.3996538747928184E-2,3.3918307905221434E-2,3.3862784092471232E-2,3.3810909975551029E-2,3.3759408361611287E-2,3.3708968655603799E-2,3.3660292098953715E-2,3.3614095223733598E-2,null,41,0.263512001349407,0.26028810943512637,0.25754921743178161,0.25552697263814189,0.25395247948660288,0.2527772288012165,0.25196545951204552,0.25158159197679369,0.25136820312204966,0.2514272867797992,0.25185156445425011,0.25229881518092884,0.25291644225613463,0.2539320482573082,0.25472100014116622,0.2552824765832305,0.25580819158369078,0.25633122864294461,0.2568445431368796,0.25734091288442718,0.25781290542510038]
[42,{"$f":"'Configuratie en berekeningen'!E49","v":3.3071122293844901E-2},{"$f":"((1+B61)^$A61/(1+B$19)^$A$19)^(1/($A61-$A$19))-1","v":3.3373270397413224E-2},3.3632941373149761E-2,3.3826372271013039E-2,3.3977977875116583E-2,3.4091671870873697E-2,3.4170399323088185E-2,3.4207503543246087E-2,3.4227991203168218E-2,3.4221825537359862E-2,3.4179956774030629E-2,3.4135942383218598E-2,3.4075438893411691E-2,3.3976492565384486E-2,3.3899863712407274E-2,3.3845419348567551E-2,3.3794554939387877E-2,3.3744070156728201E-2,3.3694636847027226E-2,3.3646938493753886E-2,3.3601673583640634E-2,null,42,0.2549944251686303,0.25188169257693577,0.24923765234625481,0.24728656654110442,0.24576829666282349,0.24463596117082226,0.24385500603131915,0.24348782755851636,0.24328532698424518,0.24334625044528721,0.24376037258612759,0.24419649502742172,0.24479730609911482,0.24578312506309585,0.24654938339550095,0.24709529139548081,0.24760642170456995,0.24811480762631177,0.24861364068063929,0.2490959396148309,0.24955451880595961]
[43,{"$f":"'Configuratie en berekeningen'!E50","v":3.3078175775505203E-2},{"$f":"((1+B62)^$A62/(1+B$19)^$A$19)^(1/($A62-$A$19))-1","v":3.3372681573491381E-2},3.3625739512891606E-2,3.3814137339999162E-2,3.3961719820640779E-2,3.4072307409355629E-2,3.4148774511385982E-2,3.4184617335733192E-2,3.4204258475814209E-2,3.4197892870281743E-2,3.4156679581022642E-2,3.4113393188192509E-2,3.4054022481940782E-2,3.3957123144483292E-2,3.3882039870439806E-2,3.382864158165666E-2,3.3778755561006291E-2,3.372925485196121E-2,3.3680794637499956E-2,3.3634041541931614E-2,3.3589676913670541E-2,null,43,0.24675897623040016,0.24375302846146388,0.24120006849042477,0.23931720757076125,0.23785276769018912,0.23676143508843187,0.23600981769489784,0.23565834902155455,0.23546597852691101,0.23552830733658434,0.23593225584283306,0.23635728704826325,0.23694152554978062,0.23789824121192493,0.23864227795371212,0.23917287614484536,0.23966966496245454,0.2401636603892347,0.24064828142666858,0.24111677902469139,0.2415622055649006]
[44,{"$f":"'Configuratie en berekeningen'!E51","v":3.3084306254561158E-2},{"$f":"((1+B63)^$A63/(1+B$19)^$A$19)^(1/($A63-$A$19))-1","v":3.337155939083658E-2},3.3618344317577709E-2,3.3801974604549256E-2,3.3945751054951012E-2,3.405340528293177E-2,3.4127744394241599E-2,3.4162410682597288E-2,3.4181269363169564E-2,3.4174736671001682E-2,3.4134171125821178E-2,3.4091600144605883E-2,3.4033329775909005E-2,3.3938402057715589E-2,3.3864810546806456E-2,3.3812426070945811E-2,3.3763488173024436E-2,3.3714940007594452E-2,3.3667420922860236E-2,3.3621581516531718E-2,3.3578086839274102E-2,null,44,0.23879563115861632,0.23589231645455619,0.23342686044132546,0.23160945064727628,0.23019658413491226,0.22914445777351364,0.22842079847909949,0.22808413659073842,0.22790120355795268,0.22796455500629179,0.22835834687933121,0.22877235481238631,0.22934028600984371,0.23026858725873939,0.23099088479429819,0.23150644760795386,0.23198915281322635,0.23246903096539615,0.23293972027463444,0.23339469555026285,0.23382723872298139]
[45,{"$f":"'Configuratie en berekeningen'!E52","v":3.3089616774726549E-2},{"$f":"((1+B64)^$A64/(1+B$19)^$A$19)^(1/($A64-$A$19))-1","v":3.3369978039285986E-2},3.3610804619008672E-2,3.3789912681901901E-2,3.3930083378870712E-2,3.4034963571875076E-2,3.4107296193809589E-2,3.4140863255476717E-2,3.415899750467899E-2,3.4152326750539697E-2,3.4112400211987248E-2,3.4070531479055255E-2,3.4013329848719298E-2,3.3920302180413087E-2,3.3848151067113141E-2,3.3796749234925816E-2,3.3748730228152279E-2,3.370110426412265E-2,3.3654495624860781E-2,3.3609539654022358E-2,3.3566885884828368E-2,null,45,0.23109478864234584,0.22829016250633646,0.22590881559216014,0.22415423167079523,0.22279080811115959,0.22177619779932392,0.22107920562452515,0.22075651678726463,0.22058238791756887,0.22064642556970818,0.22103010831217126,0.22143318762753206,0.22198509493795704,0.22288567292986727,0.22358672116381847,0.22408753589980662,0.22455642731947226,0.22502247148644655,0.22547951791233095,0.22592125728230331,0.22634119297695737]
[46,{"$f":"'Configuratie en berekeningen'!E53","v":3.309419858252749E-2},{"$f":"((1+B65)^$A65/(1+B$19)^$A$19)^(1/($A65-$A$19))-1","v":3.3368002612693903E-2},3.3603162538468734E-2,3.3777975405810734E-2,3.3914725430430614E-2,3.4016978534817888E-2,3.4087416393032033E-2,3.4119954772334982E-2,3.4137417230870382E-2,3.4130634055904219E-2,3.4091336970957009E-2,3.4050156893270955E-2,3.3993993265625244E-2,3.3902797633210913E-2,3.3832037867430387E-2,3.378158858034741E-2,3.3734460245171682E-2,3.3687727287850189E-2,3.3641999638276632E-2,3.3597898104078538E-2,3.355605742664669E-2,null,46,0.2236472456859028,0.22093755673894136,0.21863709293900255,0.21694284736303518,0.21562685306737017,0.21464816672720208,0.21397663203266942,0.21366714550463953,0.21350124117452957,0.21356566996054116,0.2139393174728684,0.21433158575463906,0.21486776748255379,0.21574131312219777,0.21642160692804707,0.21690797116276045,0.21736332815494941,0.21781582947891001,0.21825952838414625,0.21868832378725245,0.21909593275515993]
[47,{"$f":"'Configuratie en berekeningen'!E54","v":3.3098132572889627E-2},{"$f":"((1+B66)^$A66/(1+B$19)^$A$19)^(1/($A66-$A$19))-1","v":3.3365690254858693E-2},3.3595454367211675E-2,3.3766182490988728E-2,3.3899683166496386E-2,3.3999444937911516E-2,3.4068090940464479E-2,3.409966511010798E-2,3.4116503599356252E-2,3.4109630651239176E-2,3.407095281574124E-2,3.4030447495587257E-2,3.3975292007313307E-2,3.3885863726134113E-2,3.3816448447424374E-2,3.3766922652739728E-2,3.3720657757200234E-2,3.3674789719136511E-2,3.3629914780737957E-2,3.3586639882072777E-2,3.3545585648479204E-2,null,47,0.21644417565240343,0.21382585270003346,0.21160320341854921,0.20996693655793164,0.2086964659297979,0.20775220201523187,0.20710498986163742,0.2068079922160731,0.20664978139172321,0.2067143431991805,0.20707805212267788,0.20745964653602525,0.2079804129846749,0.20882761473327119,0.20948765171632108,0.20995987101361785,0.21040198033385352,0.21084123585519141,0.21127188732524735,0.21168803456694801,0.21208360088776601]
[48,{"$f":"'Configuratie en berekeningen'!E55","v":3.3101490541690426E-2},{"$f":"((1+B67)^$A67/(1+B$19)^$A$19)^(1/($A67-$A$19))-1","v":3.3363091150574231E-2},3.3587711325950176E-2,3.375455010423134E-2,3.3884960274559894E-2,3.3982356333828845E-2,3.4049305421062881E-2,3.4079974395386792E-2,3.409623241897175E-2,3.4089289694446467E-2,3.4051220393992221E-2,3.4011375734999572E-2,3.3957199397433468E-2,3.3869476904487605E-2,3.3801361324478529E-2,3.3752730988597879E-2,3.3707303262210164E-2,3.3662273123168829E-2,3.3618223745206066E-2,3.3575748824071328E-2,3.3535455499426492E-2,null,48,0.20947710793921967,0.20694674813323272,0.20479899165925533,0.20321846281388545,0.20199171048507214,0.2010804510911656,0.20045649521856673,0.20017132521762121,0.20002032087150068,0.20008479058989939,0.2004386770502378,0.20080975136357163,0.20131542228182489,0.20213696425670491,0.20277724279805523,0.20323562869084594,0.20366478261060036,0.20409109354764726,0.20450900081268236,0.20491279811197391,0.20529660784786383]
[49,{"$f":"'Configuratie en berekeningen'!E56","v":3.3104336273577895E-2},{"$f":"((1+B68)^$A68/(1+B$19)^$A$19)^(1/($A68-$A$19))-1","v":3.3360249384642771E-2},3.3579960221307825E-2,3.3743091356182253E-2,3.3870558525285643E-2,3.3965705298343751E-2,3.4031045198335663E-2,3.4060863076781578E-2,3.4076580264219558E-2,3.4069585410380743E-2,3.4032113540960029E-2,3.3992915337810237E-2,3.3939690033924386E-2,3.3853614696598866E-2,3.3786755989007045E-2,3.3738994069297368E-2,3.3694378175748163E-2,3.3650159943208191E-2,3.3606910054906125E-2,3.3565209544254682E-2,3.3525652654117444E-2,null,49,0.20273790913950182,0.20029226713083201,0.19821661902156001,0.19668969823251287,0.19550495189474049,0.19462535649011939,0.19402365385597486,0.19374969782041984,0.19360545279983926,0.19366963477111632,0.19401383148077556,0.19437455342029844,0.19486545574961794,0.19566201608412068,0.19628303363544164,0.19672790184945793,0.19714439650073692,0.19755806673862683,0.19796353478995235,0.19835528150648579,0.19872762152421333]
[50,{"$f":"'Configuratie en berekeningen'!E57","v":3.3106726488812077E-2},{"$f":"((1+B69)^$A69/(1+B$19)^$A$19)^(1/($A69-$A$19))-1","v":3.3357203687990777E-2},3.3572224014275509E-2,3.3731816725450781E-2,3.3856478074662855E-2,3.3949483630957511E-2,3.401329553236776E-2,3.4042311982000584E-2,3.4057524481814205E-2,3.4050493061520193E-2,3.4013607232714849E-2,3.3975041246893323E-2,3.392273972390103E-2,3.3838255663498407E-2,3.377261286108757E-2,3.3725693276759783E-2,3.3681864785841009E-2,3.3638433456148809E-2,3.3595958020643746E-2,3.3555007394614922E-2,3.3516163475014515E-2,null,50,0.19621876555785558,0.19385474354723148,0.19184854781489805,0.19037320837965874,0.18922884224507067,0.1883796419670058,0.18779924778806079,0.18753593541354682,0.18739803871596233,0.18746176354980293,0.1877964172325442,0.18814696613432261,0.18862343202453852,0.18939568145950866,0.18999793306165644,0.19042960195587924,0.19083373587758334,0.19123507064449288,0.19162840502437889,0.19200840054678894,0.19236955748992157]
[51,{"$f":"'Configuratie en berekeningen'!E58","v":3.3108711669115332E-2},{"$f":"((1+B70)^$A70/(1+B$19)^$A$19)^(1/($A70-$A$19))-1","v":3.3353988086986641E-2},3.3564522313336509E-2,3.3720734424911081E-2,3.3842717723199911E-2,3.3933682524990516E-2,3.3996041677488487E-2,3.4024302362168024E-2,3.4039043190827734E-2,3.403198891681547E-2,3.3995677539989222E-2,3.3957729563523165E-2,3.3906325421953598E-2,3.3823379350552685E-2,3.3758913248488787E-2,3.3712810850911712E-2,3.3669746209977758E-2,3.3627077730344013E-2,3.3585352700364446E-2,3.3545128426798465E-2,3.3506974976768689E-2,null,51,0.18991216696112292,0.18762680556326497,0.18568752658985713,0.18426183821449998,0.18315630704453956,0.1823362995021679,0.18177632275090386,0.18152312332646728,0.18139119674070908,0.18145431845788543,0.1817795875615312,0.18212015229040968,0.1825825173556424,0.18333111803715788,0.18391509503851644,0.18433388423893571,0.184725957103966,0.18511526181430998,0.18549676756078867,0.18586531033902037,0.18621556973380876]
[52,{"$f":"'Configuratie en berekeningen'!E59","v":3.3110336779408556E-2},{"$f":"((1+B71)^$A71/(1+B$19)^$A$19)^(1/($A71-$A$19))-1","v":3.3350632469560493E-2},3.3556871802931099E-2,3.3709850718474321E-2,3.382927513841727E-2,3.391829271170721E-2,3.3979268962743392E-2,3.4006815925507361E-2,3.4021115277651059E-2,3.401405021933912E-2,3.3978301582850312E-2,3.3940957491742862E-2,3.389042517167673E-2,3.3808966241043015E-2,3.3745639306185682E-2,3.3700329848888932E-2,3.3658006354147174E-2,3.3616077585569615E-2,3.3575079860834522E-2,3.3535559356008271E-2,3.3498074792484234E-2,null,52,0.18381089145662971,0.18160136130200691,0.17972657641360884,0.17834869894145688,0.17728053258978638,0.17648857712633934,0.17594817643765814,0.17570459542645528,0.17557829050349816,0.17564068397369353,0.17595673664149636,0.17628751374882234,0.17673611553812002,0.17746171999870997,0.17802790895124276,0.17843413815769235,0.17881444966111665,0.17919202890800781,0.17956200963805985,0.17991939634391169,0.18025904182463709]
[53,{"$f":"'Configuratie en berekeningen'!E60","v":3.3111641899741917E-2},{"$f":"((1+B72)^$A72/(1+B$19)^$A$19)^(1/($A72-$A$19))-1","v":3.3347163079634923E-2},3.354928661630141E-2,3.3699170195340633E-2,3.3816147045934164E-2,3.3903304582309168E-2,3.3962962857835954E-2,3.398983486214191E-2,3.4003720386816871E-2,3.3996655153190281E-2,3.3961457486409774E-2,3.3924703285217017E-2,3.3875018050248951E-2,3.3794997711707353E-2,3.3732773997352972E-2,3.3688234106003412E-2,3.3646629873837819E-2,3.3605418555026079E-2,3.356512594135963E-2,3.3526287526835397E-2,3.3489451141793802E-2,null,53,0.17790799140053529,0.17577158540622989,0.17395897804544522,0.17262715570776421,0.17159495412815104,0.1708299674980743,0.17030834744618817,0.17007392339267965,0.16995291871283774,0.1700144773572573,0.17032148963077415,0.1706426817259403,0.1710778583858773,0.1717811086884683,0.17232999040239139,0.17272397834953959,0.17309282724071517,0.17345898392163953,0.17381774103759096,0.17416426583975578,0.17449357848057384]
[54,{"$f":"'Configuratie en berekeningen'!E61","v":3.3112662779565039E-2},{"$f":"((1+B73)^$A73/(1+B$19)^$A$19)^(1/($A73-$A$19))-1","v":3.3343602949647E-2},3.3541778660379329E-2,3.3688696007676988E-2,3.3803329393619519E-2,3.3888708291055503E-2,3.3947109026770894E-2,3.3973341861518902E-2,3.3986838908520944E-2,3.3979782810056314E-2,3.3945124337714461E-2,3.3908946196486767E-2,3.3860084115939992E-2,3.3781455990174569E-2,3.3720301055890411E-2,3.3676508198421606E-2,3.3635602136921294E-2,3.3595086849301126E-2,3.3555478019417606E-2,3.3517300880910872E-2,3.3481092800669243E-2,null,54,0.17219678024827922,0.17013090649614113,0.16837825993713487,0.16709081607674192,0.16609324475181789,0.16535419717289074,0.1648506048825622,0.1646249066136875,0.16450890532076987,0.16456953905256938,0.1648676932818007,0.16517950759532124,0.16560159670371968,0.16628312373035567,0.16681517246959424,0.16719723602564723,0.16755491926882696,0.16790995382992663,0.16825778583578066,0.16859373977692585,0.16891299751832833]
[55,{"$f":"'Configuratie en berekeningen'!E62","v":3.3113431324702791E-2},{"$f":"((1+B74)^$A74/(1+B$19)^$A$19)^(1/($A74-$A$19))-1","v":3.3339972279486041E-2},3.3534357899248413E-2,3.3678430076773402E-2,3.3790817492613368E-2,3.3874493842255049E-2,3.3931693371106686E-2,3.3957320123687795E-2,3.397045196355486E-2,3.3963413155748023E-2,3.3929282143895234E-2,3.3893666428586711E-2,3.3845604358352377E-2,3.3768324114290316E-2,3.3708204950457343E-2,3.3665137407510093E-2,3.3624909188367136E-2,3.358506932218952E-2,3.3546123778101178E-2,3.3508587926311284E-2,3.3472989072837134E-2,null,55,0.16667082026739363,0.16467299543380912,0.16297818698991848,0.16173351921344473,0.16076930496452349,0.16005521650918664,0.15956893856880097,0.15935156266019473,0.1592402902359415,0.15929992361424283,0.15958940705351449,0.15989205417115324,0.16030139172385885,0.16096181459241385,0.16147749739538245,0.16184795078359282,0.1621947628328971,0.16253897261903569,0.16287617453478809,0.16320184499922014,0.16351132215904196]
[56,{"$f":"'Configuratie en berekeningen'!E63","v":3.3113976025880065E-2},{"$f":"((1+B75)^$A75/(1+B$19)^$A$19)^(1/($A75-$A$19))-1","v":3.3336288768962108E-2},3.352703260174561E-2,3.366837327198402E-2,3.3778606138453515E-2,3.3860651163479361E-2,3.3916702064405335E-2,3.3941753365493543E-2,3.3954541386244319E-2,3.3947526996941146E-2,3.391391179168779E-2,3.3878845088910259E-2,3.3831560651290671E-2,3.3755585893268325E-2,3.3696470850000937E-2,3.3654107685821888E-2,3.3614537716696979E-2,3.357535343826612E-2,3.3537051475303503E-2,3.3500137708583066E-2,3.3465129762746626E-2,null,56,0.16132391104060953,0.15939175432755726,0.15775275000632127,0.15654932572522506,0.1556172528673303,0.15492719016084078,0.15445754980828114,0.15424811828929363,0.15414132054409246,0.15419989112004867,0.15448089468978093,0.15477458743999425,0.15517150697386889,0.15581143256822075,0.15631120867988924,0.15667036280932953,0.15700659498572614,0.15734027368481732,0.15766713654767914,0.15798280680988847,0.15828277366919322]
[57,{"$f":"'Configuratie en berekeningen'!E64","v":3.311432233638234E-2},{"$f":"((1+B76)^$A76/(1+B$19)^$A$19)^(1/($A76-$A$19))-1","v":3.3332567909892363E-2},3.3519809557968516E-2,3.3658525566132802E-2,3.376668971506902E-2,3.384717016697536E-2,3.3902121579249211E-2,3.3926625822570777E-2,3.3939089705865566E-2,3.3932105948356606E-2,3.3898995008325494E-2,3.3864464145272333E-2,3.3817935708104763E-2,3.374322587061207E-2,3.3685084590769909E-2,3.3643405624658396E-2,3.3604475022098734E-2,3.356592724216001E-2,3.3528249914518637E-2,3.3491939783331315E-2,3.345750514998147E-2,null,57,0.1561500786938762,0.15428130621590189,0.15269615578077717,0.15153250810512714,0.15063141491487037,0.1499644881112468,0.14951084266620424,0.14930900094018118,0.14920644219865931,0.14926389903375051,0.14953661623096337,0.14982156870911356,0.15020640054655426,0.1508264231470573,0.15131074354959151,0.15165890544329153,0.15198484540243992,0.15230828257336446,0.1526250930165618,0.15293104186137546,0.15322176431702336]
[58,{"$f":"'Configuratie en berekeningen'!E65","v":3.311449300536573E-2},{"$f":"((1+B77)^$A77/(1+B$19)^$A$19)^(1/($A77-$A$19))-1","v":3.3328823243033101E-2},3.3512694268768906E-2,3.364888617053885E-2,3.3755062283996828E-2,3.3834040800984955E-2,3.3887938707974241E-2,3.3911922247870763E-2,3.3924080126970901E-2,3.3917132400499872E-2,3.3884514323868409E-2,3.3850506384072832E-2,3.3804713039372825E-2,3.373122928876704E-2,3.3674032644771978E-2,3.3633018423148808E-2,3.3594708986153243E-2,3.3556779329405595E-2,3.351970841720231E-2,3.3483984190268989E-2,3.3450105965050492E-2,null,58,0.1511435657901028,0.14933598537623749,0.14780281777824386,0.14667754173076269,0.14580631719796619,0.14516167720741815,0.144723415726525,0.14452883068526801,0.14443029214714059,0.14448659448645493,0.14475122042797467,0.14502764714287372,0.14540071774458246,0.14600141874689929,0.14647072577772138,0.14680819808745812,0.14712412936814206,0.14743761004325051,0.1477446499434584,0.14804115134988519,0.14832289062619783]
[59,{"$f":"'Configuratie en berekeningen'!E66","v":3.3114508372422025E-2},{"$f":"((1+B78)^$A78/(1+B$19)^$A$19)^(1/($A78-$A$19))-1","v":3.3325066584350527E-2},3.3505691111749503E-2,3.3639453652362095E-2,3.3743717660847938E-2,3.3821253092414905E-2,3.387414057809135E-2,3.3897627907377048E-2,3.3909496508930603E-2,3.3902589488113311E-2,3.3870453034956949E-2,3.3836955370475819E-2,3.3791876912818708E-2,3.3719582055430131E-2,3.3663302089629754E-2,3.3622933858814097E-2,3.3585228043066628E-2,3.3547898818822697E-2,3.3511416796590865E-2,3.3476261428657228E-2,3.3442923366468813E-2,null,59,0.14629882183494716,0.14455032820857089,0.14306734735461837,0.14197909637574618,0.14113667721249237,0.14051351315671248,0.14009005429024549,0.13990241260337152,0.13980769086238101,0.13986280694684888,0.14011953753125994,0.1403876526609554,0.14074928407490078,0.14133123178676682,0.14178595883398462,0.14211303943186623,0.14241924107629697,0.14272304542986533,0.14302059161567313,0.1433079144971437,0.14358092691000474]
[60,{"$f":"'Configuratie en berekeningen'!E67","v":3.3114386628238179E-2},{"$f":"((1+B79)^$A79/(1+B$19)^$A$19)^(1/($A79-$A$19))-1","v":3.3321308224512736E-2},3.3498803486780915E-2,3.3630226036597488E-2,3.3732649480756383E-2,3.3808797182092842E-2,3.38607146632528E-2,3.3883728573510963E-2,3.3895323344993233E-2,3.3888461059418784E-2,3.3856795169991294E-2,3.3823795410533153E-2,3.3779412315332102E-2,3.3708270711451771E-2,3.3652880579822186E-2,3.3613140259530105E-2,3.3576021152367241E-2,3.3539275326327944E-2,3.3503365332912205E-2,3.3468762434050392E-2,3.3435948919074976E-2,null,60,0.1416104943459528,0.13991906464914383,0.13848454547710501,0.13743202819462264,0.13661739607799789,0.13601493295206404,0.1356057229828587,0.13542472954514939,0.13533363525017467,0.13538754125370447,0.13563657242934588,0.13589658917430875,0.13624709857029305,0.13681084807680235,0.13725141934277499,0.13756840098123974,0.13786514721892515,0.13815955029425225,0.13844787430860267,0.13872628230322034,0.13899081907047733]
[61,{"$f":"'Configuratie en berekeningen'!E68","v":3.3114144045538474E-2},{"$f":"((1+B80)^$A80/(1+B$19)^$A$19)^(1/($A80-$A$19))-1","v":3.3317557104947992E-2},3.3492033943649302E-2,3.3621200894725645E-2,3.3721851254294055E-2,3.3796663353687251E-2,3.3847648790447549E-2,3.3870210516698807E-2,3.3881545741079933E-2,3.387473164622179E-2,3.3843525455728551E-2,3.3811011515160416E-2,3.3767304916977325E-2,3.3697282400290574E-2,3.3642756319231415E-2,3.3603626476858661E-2,3.3567077772980403E-2,3.3530898940116849E-2,3.349554474990124E-2,3.3461478556289004E-2,3.3429174573506915E-2,null,61,0.13707342044079671,0.13543711007299111,0.13404939490641959,0.13303137214573402,0.13224355117297615,0.13166104769447531,0.13126555874194587,0.13109093526304877,0.13100329190740362,0.13105597098614682,0.1312974981137254,0.13154962813697471,0.1318893274172325,0.1324354205060343,0.13286225083127301,0.13316942086350758,0.13345698085161414,0.13374225233994522,0.13402162025042197,0.13429137155530674,0.13454767864814607]
[62,{"$f":"'Configuratie en berekeningen'!E69","v":3.311379518393176E-2},{"$f":"((1+B81)^$A81/(1+B$19)^$A$19)^(1/($A81-$A$19))-1","v":3.3313820973368546E-2},3.3485384294096532E-2,3.3612375421737006E-2,3.3711316415154124E-2,3.3784842057183351E-2,3.3834931144051339E-2,3.3857060495467772E-2,3.3868149394503222E-2,3.3861386434933305E-2,3.3830629285271252E-2,3.3798589365880982E-2,3.3755541036906589E-2,3.3686604838926604E-2,3.363291803498214E-2,3.3594381860671652E-2,3.3558387838624304E-2,3.3522760197131296E-2,3.3487946192567231E-2,3.3454401538664413E-2,3.3422592646768612E-2,null,62,0.13268261890453531,0.13109955764818573,0.12975705280615232,0.12877233481980294,0.12801038915637528,0.12744713578460132,0.12706486415814908,0.12689634788080259,0.12681199070698443,0.1268634321492407,0.12709764944888799,0.12734210239362706,0.12767129787071865,0.12820026300984133,0.128613757749758,0.12891139790377684,0.1291900355174106,0.12946643958279028,0.12973711183404107,0.12999845907865626,0.13024677710916915]
[63,{"$f":"'Configuratie en berekeningen'!E70","v":3.3113353071813068E-2},{"$f":"((1+B82)^$A82/(1+B$19)^$A$19)^(1/($A82-$A$19))-1","v":3.3310106521282856E-2},3.3478855710191491E-2,3.3603746503047427E-2,3.3701038360690383E-2,3.3773323927711596E-2,3.3822550267242901E-2,3.3844265745391899E-2,3.3855120572766184E-2,3.384841123854021E-2,3.381809268741387E-2,3.3786515282278273E-2,3.3744107611044516E-2,3.3676226290201505E-2,3.3623354952503792E-2,3.3585396235024989E-2,3.3549941734452693E-2,3.3514850060764712E-2,3.3480561206133075E-2,3.344752349818747E-2,3.3416195803835702E-2,null,63,0.12843328269934945,0.12690167110783623,0.12560284374786448,0.12465028764462484,0.12391331934795755,0.12336863645742172,0.122999101145206,0.12283644367948275,0.12275521868794757,0.12280541715441527,0.12303251722807833,0.12326950030420651,0.12358849243876067,0.12410084480009512,0.12450139974831401,0.1247897859483644,0.12505975961508345,0.12532755475961824,0.1255897860630216,0.1258429762168648,0.12608354035741326]
[64,{"$f":"'Configuratie en berekeningen'!E71","v":3.3112829368065588E-2},{"$f":"((1+B83)^$A83/(1+B$19)^$A$19)^(1/($A83-$A$19))-1","v":3.3306419505668705E-2},3.3472448810750954E-2,3.3595310772578379E-2,3.369101048628198E-2,3.3762099800397349E-2,3.3810495061223689E-2,3.3831813967155844E-2,3.3842446092568368E-2,3.3835792469538939E-2,3.3805902297331158E-2,3.377477619104563E-2,3.3732992161482622E-2,3.366613553650355E-2,3.3614056771781753E-2,3.3576659875213188E-2,3.3541730274897708E-2,3.3507159899725192E-2,3.3473381716085493E-2,3.3440836906906135E-2,3.3409977040249617E-2,null,64,0.124320771883538,0.122838877909106,0.12158225308303242,0.1206607604391754,0.11994790744224464,0.11942114363641973,0.11906388491686232,0.1189068511791308,0.11882861423078109,0.11887756907595592,0.11909774249677353,0.11932746012892542,0.11963654332006247,0.12013278484267763,0.12052078619503152,0.12080018842487969,0.12106175099811249,0.12132118996294877,0.12157522921904206,0.12182050352951912,0.12205354345999214]
[65,{"$f":"'Configuratie en berekeningen'!E72","v":3.3112234505938698E-2},{"$f":"((1+B84)^$A84/(1+B$19)^$A$19)^(1/($A84-$A$19))-1","v":3.3302764856728118E-2},3.3466163737263077E-2,3.3587064663137989E-2,3.368122621434777E-2,3.3751160721810614E-2,3.3798754782623286E-2,3.3819693313970056E-2,3.3830113299109454E-2,3.3823517113857893E-2,3.3794045328542577E-2,3.3763359596597375E-2,3.3722182767466968E-2,3.3656321854748983E-2,3.3605013644736115E-2,3.3568163485968361E-2,3.3533744682640476E-2,3.3499681468000642E-2,3.3466400009275477E-2,3.3434334574224289E-2,3.3403929665617671E-2,null,65,0.12034060690966399,{"$f":"(1+C83)^-$A83","v":0.11890676275101887},{"$f":"(1+D83)^-$A83","v":0.11769092065580501},{"$f":"(1+E83)^-$A83","v":0.11679943529256839},{"$f":"(1+F83)^-$A83","v":0.11610986953310513},{"$f":"(1+G83)^-$A83","v":0.1156004000856964},{"$f":"(1+H83)^-$A83","v":0.11525497825026496},{"$f":"(1+I83)^-$A83","v":0.1151033454966997},{"$f":"(1+J83)^-$A83","v":0.11502796149991988},{"$f":"(1+K83)^-$A83","v":0.11507567616620017},{"$f":"(1+L83)^-$A83","v":0.11528911112770791},{"$f":"(1+M83)^-$A83","v":0.11551176465770895},{"$f":"(1+N83)^-$A83","v":0.11581122708021881},{"$f":"(1+O83)^-$A83","v":0.11629184656804864},{"$f":"(1+P83)^-$A83","v":0.11666767092219209},{"$f":"(1+Q83)^-$A83","v":0.11693835312517403},{"$f":"(1+R83)^-$A83","v":0.11719175179201523},{"$f":"(1+S83)^-$A83","v":0.11744308148969183},{"$f":"(1+T83)^-$A83","v":0.11768917173937231},{"$f":"(1+U83)^-$A83","v":0.11792676569605982},{"$f":"(1+V83)^-$A83","v":0.11815250557578792}]
[66,{"$f":"'Configuratie en berekeningen'!E73","v":3.3111577821199445E-2},{"$f":"((1+B85)^$A85/(1+B$19)^$A$19)^(1/($A85-$A$19))-1","v":3.3299146773368538E-2},3.3460000220605357E-2,3.3579004450080552E-2,3.3671679018723699E-2,3.3740497958514748E-2,3.3787319039416008E-2,3.380789237851145E-2,3.3818110045786831E-2,3.3811572705745307E-2,3.3782509546147921E-2,3.375225355313427E-2,3.3711668037909925E-2,3.3646774992592388E-2,3.3596216153699787E-2,3.3559898180738568E-2,3.3525976568659077E-2,3.3492406885865522E-2,3.3459608716025713E-2,3.3428009630137812E-2,3.3398047288010657E-2,null,66,{"$f":"(1+B84)^-$A84","v":0.11648846227420805},0.11510106142556753,0.11392463483263134,0.11306214074547669,0.11239506642801571,0.11190229184023444,0.11156828601717275,0.11142184296277573,0.11134918513656118,0.1113956666137529,0.11160254863207394,0.11181833606995654,0.1121084595525476,0.11257393280176245,0.11293794718767941,0.11320016719918537,0.11344564341837222,0.11368910489273037,0.11392748329356046,0.11415762661577736,0.11437628507670639]
[67,{"$f":"'Configuratie en berekeningen'!E74","v":3.3110867666373611E-2},{"$f":"((1+B86)^$A86/(1+B$19)^$A$19)^(1/($A86-$A$19))-1","v":3.3295568807866438E-2},3.3453957639681287E-2,3.3571126289083653E-2,3.3662362445025851E-2,3.3730103003151601E-2,3.3776177785606931E-2,3.3796400179570529E-2,3.3806424674328817E-2,3.3799947303643885E-2,3.3771283241261774E-2,3.3741446638116734E-2,3.3701437085332131E-2,3.3637485145819879E-2,3.3587655290931329E-2,3.3551855461997127E-2,3.3518417913291243E-2,3.3485328621887911E-2,3.3453000793161713E-2,3.3421855509377485E-2,3.3392323799170454E-2,null,67,0.11276016049372151,0.11141765497871577,0.11027932682687895,0.10944484625364605,0.10879949823276207,0.10832284289620095,0.10799984996602795,0.10785839598076945,0.10778834518661397,0.10783360352993324,0.1080341151932362,0.10824323101117717,0.10852429095097947,0.10897508090269559,0.10932764284009679,0.1095816523484537,0.1098194418148566,0.11005527022494345,0.1102861680495995,0.1105090846940269,0.11072087485268521]
[68,{"$f":"'Configuratie en berekeningen'!E75","v":3.3110111512671958E-2},{"$f":"((1+B87)^$A87/(1+B$19)^$A$19)^(1/($A87-$A$19))-1","v":3.3292033940983234E-2},3.3448035072938698E-2,3.356342624879094E-2,3.3653270127543378E-2,3.3719967578417887E-2,3.3765321314948027E-2,3.3785206148514213E-2,3.3795045995434814E-2,3.378862946701644E-2,3.3760355206624348E-2,3.3730927927061227E-2,3.3691479501172017E-2,3.3628442936862957E-2,3.357932243912698E-2,3.3544027202531357E-2,3.351106104828272E-2,3.3478439475855604E-2,3.3446569507951107E-2,3.3415865936372358E-2,3.3386753360507671E-2,null,68,0.10915166638457437,0.10785256415992413,0.10675106529863032,0.1059436569147337,0.10531929918896858,0.10485821014479473,0.10454584373901679,0.10440918811387184,0.10434163224950747,0.10438568015019704,0.10458000090998912,0.10478263587436998,0.10505490118317548,0.10549145809779888,0.10583291567669643,0.10607896020895535,0.1063092928411226,0.1065377174662667,0.10676136012001292,0.10697726830598225,0.10718239779160015]
[69,{"$f":"'Configuratie en berekeningen'!E76","v":3.3109316041008752E-2},{"$f":"((1+B88)^$A88/(1+B$19)^$A$19)^(1/($A88-$A$19))-1","v":3.328854464863884E-2},3.3442231343635331E-2,3.3555900338965383E-2,3.3644395803114291E-2,3.37100836392763E-2,3.3754740253856497E-2,3.3774300115695599E-2,3.3783963269941264E-2,3.3777608234121903E-2,3.3749714713332102E-2,3.3720686969609615E-2,3.3681785332377645E-2,3.3619639394379064E-2,3.3571209352876163E-2,3.3536405627681454E-2,3.3503898639732466E-2,3.3471732562606382E-2,3.3440308422873821E-2,3.3410034911015352E-2,3.3381330389835817E-2,null,69,0.10565908162538348,0.10440194414076279,0.10333605121130686,0.10255480844135351,0.10195073274841701,0.10150467853426701,0.10120256810991966,0.10107052938595666,0.10100536283500067,0.10104821523804093,0.10123652123763022,0.10143286227473985,0.1016965953531055,0.10211935700292415,0.10245004898417663,0.10268836791346705,0.10291146786152915,0.10313271212456168,0.10334931917943427,0.10355843142935851,0.10375710242603524]
[70,{"$f":"'Configuratie en berekeningen'!E77","v":3.3108487223337368E-2},{"$f":"((1+B89)^$A89/(1+B$19)^$A$19)^(1/($A89-$A$19))-1","v":3.3285102961119639E-2},3.343654505959659E-2,3.3548544534706126E-2,3.3635733322411987E-2,3.370044337365341E-2,3.3744425553727808E-2,3.3763672296890368E-2,3.3773166190548709E-2,3.3766873100709027E-2,3.3739351488656366E-2,3.3710713766797795E-2,3.3672345059219122E-2,3.3611065933845108E-2,3.356330814104358E-2,3.3528983298448223E-2,3.3496923671932022E-2,3.3465201296686953E-2,3.3434211381194512E-2,3.3404356695170723E-2,3.3376049548802689E-2,null,70,0.102278639583022,0.10106207948473155,0.10003061292844334,9.9274662364679411E-2,9.8690186869213839E-2,9.8258656446290699E-2,9.7966446429333803E-2,9.7838851783942693E-2,9.7775974915926961E-2,9.7817648680030025E-2,9.8000112615815524E-2,9.8190342707337883E-2,9.8445799443001941E-2,9.8855191320084967E-2,9.9175447252844537E-2,9.9406273824744817E-2,9.9622359495733184E-2,9.9836641002140833E-2,0.10004642624545169,0.10024894943839023,0.10044135873932805]
[71,{"$f":"'Configuratie en berekeningen'!E78","v":3.310763039538811E-2},{"$f":"((1+B90)^$A90/(1+B$19)^$A$19)^(1/($A90-$A$19))-1","v":3.3281710515682628E-2},3.3430974648113398E-2,3.3541354797236078E-2,3.3627276658973804E-2,3.3691039201882544E-2,3.373436848277489E-2,3.3753313279839325E-2,3.3762644864123059E-2,3.375641399961804E-2,3.3729255694895821E-2,3.3700998749470967E-2,3.3663149574245432E-2,3.3602714339136197E-2,3.3555611249991735E-2,3.3521753095467011E-2,3.34901294320189E-2,3.3458839377810801E-2,3.3428272493287503E-2,3.3398825799892062E-2,3.3370905730987666E-2,null,71,9.9006700384747195E-2,9.7829379351922929E-2,9.683120153534204E-2,9.6099701454088082E-2,9.553416952036084E-2,9.5116671273684089E-2,9.4834020265168739E-2,9.4710704949964225E-2,9.4650023665861227E-2,9.4690537261309729E-2,9.4867328273166615E-2,9.5051626377883822E-2,9.5299056165404072E-2,9.5695491702002158E-2,9.6005632055769438E-2,9.6229193430853274E-2,9.6438477529312491E-2,9.6646008120022539E-2,9.6849179615215344E-2,9.7045315051661321E-2,9.7231654123707059E-2]
[72,{"$f":"'Configuratie en berekeningen'!E79","v":3.3106750321766132E-2},{"$f":"((1+B91)^$A91/(1+B$19)^$A$19)^(1/($A91-$A$19))-1","v":3.3278368603293584E-2},3.3425518386567488E-2,3.3534327091674809E-2,3.3619019916297788E-2,3.3681863775085974E-2,3.3724560617523602E-2,3.374321401095548E-2,3.3752389794589055E-2,3.374622128125182E-2,3.3719417909229499E-2,3.3691532757776921E-2,3.365419016235105E-2,3.3594576745000326E-2,3.3548111447650353E-2,3.3514708203775001E-2,3.3483509495417119E-2,3.3452640777069886E-2,3.3422486123674044E-2,3.3393436973311763E-2,3.3365894050609191E-2,null,72,9.5839746220390626E-2,9.4700372923636492E-2,9.3734386371459227E-2,9.3026525339722166E-2,9.2479304382097893E-2,9.2075365187717972E-2,9.180194522711542E-2,9.1682752052664379E-2,9.1624177371437687E-2,9.1663550611895642E-2,9.1834834199181009E-2,9.2013375197826736E-2,9.2253020976472963E-2,9.2636901775855249E-2,9.2937238084526891E-2,9.3153755395068857E-2,9.3356444976757061E-2,9.3557430792637591E-2,9.3754190950696481E-2,9.3944134426914142E-2,9.4124589483968304E-2]
[73,{"$f":"'Configuratie en berekeningen'!E80","v":3.3105851254239926E-2},{"$f":"((1+B92)^$A92/(1+B$19)^$A$19)^(1/($A92-$A$19))-1","v":3.3275078210182274E-2},3.3420174429276139E-2,3.3527457402183547E-2,3.3610957333263025E-2,3.3672909972679799E-2,3.3714993834062845E-2,3.3733365782254277E-2,3.3742391866411925E-2,3.3736285694901946E-2,3.3709829104513034E-2,3.3682307021708491E-2,3.36454584818493E-2,3.3586645620429456E-2,3.3540801808360721E-2,3.3507842098344121E-2,3.3477057712026026E-2,3.3446599723856218E-2,3.3416846878738804E-2,3.3388185189151542E-2,3.3361009831836652E-2,null,73,9.27743768600236E-2,9.1671705033067569E-2,9.0736850760703827E-2,9.0051846325701637E-2,8.9522326730578916E-2,8.9131491084050204E-2,8.8866986964740879E-2,8.8751765827658965E-2,8.8695213509911927E-2,8.8733467314612721E-2,8.8899405274832491E-2,8.907235993510966E-2,8.9304458242777357E-2,8.9676174318131741E-2,8.9967009334233322E-2,9.0176697752975904E-2,9.0372994289766875E-2,9.0567635846152558E-2,9.0758181505928973E-2,9.0942123396459934E-2,9.111687548021169E-2]
[74,{"$f":"'Configuratie en berekeningen'!E81","v":3.3104936983978872E-2},{"$f":"((1+B93)^$A93/(1+B$19)^$A$19)^(1/($A93-$A$19))-1","v":3.3271840054780455E-2},3.3414940831008488E-2,3.352074174480757E-2,3.3603083288116231E-2,3.3664170899149415E-2,3.3705660299144569E-2,3.3723760218535848E-2,3.373264232867812E-2,3.3726598370884986E-2,3.3700480631005281E-2,3.3673313142602579E-2,3.3636946546546032E-2,3.3578913752851713E-2,3.3533675698466991E-2,3.3501148530344693E-2,3.3470768193107681E-2,3.3440710693463771E-2,3.3411349595071416E-2,3.3383065635843368E-2,3.3356248598657601E-2,null,74,8.9807305373515361E-2,8.8740131989571064E-2,8.7835387927706343E-2,8.7172485382816467E-2,8.6660079496207965E-2,8.6281908697231804E-2,8.6026017329560639E-2,8.5914624778064164E-2,8.5860014983130534E-2,8.5897171166375852E-2,8.6057921553606032E-2,8.6225456513119719E-2,8.645023755374448E-2,8.681016757351738E-2,8.7091795430737043E-2,8.7294864249906318E-2,8.7484963704306362E-2,8.7673455973938538E-2,8.7857978490096661E-2,8.8036103836953886E-2,8.82053289038182E-2]
[75,{"$f":"'Configuratie en berekeningen'!E82","v":3.3104010888384439E-2},{"$f":"((1+B94)^$A94/(1+B$19)^$A$19)^(1/($A94-$A$19))-1","v":3.3268654620569604E-2},3.3409815567561285E-2,3.3514176178309096E-2,3.3595392301218219E-2,3.3655639880235899E-2,3.3696552461202289E-2,3.3714389264862366E-2,3.372313277975425E-2,3.3717150803489249E-2,3.3691364198943807E-2,3.3664543075591524E-2,3.3628646708724119E-2,3.3571374233113849E-2,3.3526726762625803E-2,3.3494621514094325E-2,3.346463529885102E-2,3.3434968395317011E-2,3.34059893284262E-2,3.3378073706215261E-2,3.3351606065262995E-2,null,75,8.6935354039708479E-2,8.5902517584789159E-2,8.5026897089135023E-2,8.4385368310321854E-2,8.3889509485887206E-2,8.3523580874421535E-2,8.3276010692252947E-2,8.3168309526537643E-2,8.3115566499890034E-2,8.3151647584816718E-2,8.3307364685697577E-2,8.3469642450264087E-2,8.3687330172977692E-2,8.4035841710967382E-2,8.4308548093356195E-2,8.4505200812407394E-2,8.4689293720113343E-2,8.4871826223264876E-2,8.5050511560412267E-2,8.5223000167905461E-2,8.5386869181134653E-2]
[76,{"$f":"'Configuratie en berekeningen'!E83","v":3.3103075973101914E-2},{"$f":"((1+B95)^$A95/(1+B$19)^$A$19)^(1/($A95-$A$19))-1","v":3.3265522185290219E-2},3.3404796553741178E-2,3.3507756813234701E-2,3.3587879036738544E-2,3.3647310458639001E-2,3.3687663041353844E-2,3.3705245174338705E-2,3.3713855152548211E-2,3.3707934834664499E-2,3.3682471861974594E-2,3.3655989112921558E-2,3.3620551643005259E-2,3.3564020441218867E-2,3.3519948910788022E-2,3.3488255314665816E-2,3.345865362655509E-2,3.3429367761816486E-2,3.3400761343248986E-2,3.3373204987700689E-2,3.3347078126936269E-2,null,76,8.4155450433785459E-2,8.3155829269988213E-2,8.2308379709968169E-2,8.1687522057357437E-2,8.1207663760048773E-2,8.0853569999728453E-2,8.0614040406737753E-2,8.050989931104198E-2,8.045895109892387E-2,8.0493980153238817E-2,8.0644814478086801E-2,8.0801993433656238E-2,8.1012805621806419E-2,8.1350255410561137E-2,8.1614317727050051E-2,8.1804752147675214E-2,8.1983023706982835E-2,8.2159780607388225E-2,8.2332809439380497E-2,8.2499835973581376E-2,8.2658514999489105E-2]
[77,{"$f":"'Configuratie en berekeningen'!E84","v":3.3102134909728909E-2},{"$f":"((1+B96)^$A96/(1+B$19)^$A$19)^(1/($A96-$A$19))-1","v":3.3262442846919704E-2},3.3399881659046615E-2,3.3501479819454172E-2,3.3580538303443319E-2,3.3639176389339998E-2,3.3678985024433006E-2,3.3696320496241938E-2,3.370480170032164E-2,3.36989426384664E-2,3.3673796001361556E-2,3.3647643868114363E-2,3.3612654331043768E-2,3.3556846032773091E-2,3.3513336305827313E-2,3.3482044436107472E-2,3.3452817999426898E-2,3.3423903937754407E-2,3.3395661102735286E-2,3.3368455253061091E-2,3.3342660851419792E-2,null,77,8.1464623682344126E-2,8.0497134494703873E-2,7.9676935915451857E-2,7.9076071195069125E-2,7.8611686156146221E-2,7.8269034561156609E-2,7.8037275413560037E-2,7.7936568616841451E-2,7.7887346805738764E-2,7.7921347296863716E-2,7.8067445584178621E-2,7.8219680020440621E-2,7.8423828388928293E-2,7.8750562575248692E-2,7.9006250138189585E-2,7.9190658465415065E-2,7.9363288632166892E-2,7.9534448837788888E-2,7.970199665126261E-2,7.9863730743090833E-2,8.0017381050548217E-2]
[78,{"$f":"'Configuratie en berekeningen'!E85","v":3.310119006967982E-2},{"$f":"((1+B97)^$A97/(1+B$19)^$A$19)^(1/($A97-$A$19))-1","v":3.3259416546763676E-2},3.3395068721333132E-2,3.3495341432353776E-2,3.3573365054717641E-2,3.3631231634621894E-2,3.3670511650111035E-2,3.3687608064476793E-2,3.3695964983084803E-2,3.3690166706192848E-2,3.3665329310961667E-2,3.363950026092466E-2,3.3604948047001093E-2,3.3549844926111794E-2,3.3506883351773098E-2,3.3475983610263382E-2,3.3447123455944583E-2,3.3418572270263125E-2,3.3390684259406278E-2,3.3363820451591364E-2,3.333835047071787E-2,null,78,7.8860000876509309E-2,7.7923597197665798E-2,7.71297610500567E-2,7.6548234531357104E-2,7.6098813950786173E-2,7.5767225852778633E-2,7.5542976975331882E-2,7.5445583938148472E-2,7.5398023416500454E-2,7.5431019084268747E-2,7.5572524316759732E-2,7.5719964460886441E-2,7.5917654760443987E-2,7.6234009161864152E-2,7.6481583368556455E-2,7.6660152316714747E-2,7.6827315903836776E-2,7.6993053171552542E-2,7.7155290372717053E-2,7.7311896723861878E-2,7.7460674886409217E-2]
[79,{"$f":"'Configuratie en berekeningen'!E86","v":3.3100243554603059E-2},{"$f":"((1+B98)^$A98/(1+B$19)^$A$19)^(1/($A98-$A$19))-1","v":3.3256443089995313E-2},3.339035555868497E-2,3.3489337957862464E-2,3.3566354387931208E-2,3.3623470358872698E-2,3.3662236404117252E-2,3.3679100986405031E-2,3.36873378545266E-2,3.3681599832206643E-2,3.3657064782920409E-2,3.3631551503048307E-2,3.3597426343764836E-2,3.3543011290060765E-2,3.3500584682634393E-2,3.347006778615258E-2,3.3441565239750393E-2,3.341336829928343E-2,3.3385826646172401E-2,3.3359296700767649E-2,3.3334143373323855E-2,null,79,7.6338803634221519E-2,7.5432474441467917E-2,7.4664142375544154E-2,7.4101321860624167E-2,7.3666374653344635E-2,7.3345484805158789E-2,7.3128495537824398E-2,7.3034300662824639E-2,7.2988339403046595E-2,7.3020354147966857E-2,7.3157405578610599E-2,7.3300197637714531E-2,7.3491629764863509E-2,7.3797930126216188E-2,7.4037644642361317E-2,7.4210555545014795E-2,7.4372422325774443E-2,7.4532905369053715E-2,7.4689997392979574E-2,7.4841635884029326E-2,7.498569388385877E-2]
[80,{"$f":"'Configuratie en berekeningen'!E87","v":3.3099297223727842E-2},{"$f":"((1+B99)^$A99/(1+B$19)^$A$19)^(1/($A99-$A$19))-1","v":3.3253522163905869E-2},3.3385739979708395E-2,3.3483465776457111E-2,3.3559501543264147E-2,3.36158869232146E-2,3.3654153009617271E-2,3.3670792632018554E-2,3.3678913449487036E-2,3.3673235100405208E-2,3.364899569405666E-2,3.362379108455027E-2,3.3590083039862328E-2,3.3536339532316051E-2,3.3494435151774082E-2,3.3464292119868455E-2,3.3436138790061465E-2,3.3408287748521781E-2,3.3381084267844141E-2,3.3354880278328114E-2,3.3330036096850479E-2,null,80,7.3898344803352889E-2,7.3021113183303232E-2,7.2277455900713883E-2,7.1732730841547659E-2,7.1311782924278533E-2,7.1001238937738034E-2,7.0791267710355016E-2,7.0700160074432375E-2,7.0655738933189632E-2,7.068679671868372E-2,7.0819529905412626E-2,7.0957816116430733E-2,7.1143184228099565E-2,7.1439746477227103E-2,7.1671847421519636E-2,7.1839276344528788E-2,7.1996011158606293E-2,7.2151403757456989E-2,7.2303511179271737E-2,7.2450336979335075E-2,7.2589822312574159E-2]
[81,{"$f":"'Configuratie en berekeningen'!E88","v":3.3098352718447188E-2},{"$f":"((1+B100)^$A100/(1+B$19)^$A$19)^(1/($A100-$A$19))-1","v":3.3250653354125914E-2},3.338121979242592E-2,3.3477721346286682E-2,3.3552801902063889E-2,3.3608475880031463E-2,3.364625541874533E-2,3.3662676623484877E-2,3.3670685171948378E-2,3.3665065871313571E-2,3.3641115592905724E-2,3.361621276096094E-2,3.3582912207048343E-2,3.3529824288400567E-2,3.3488429821799892E-2,3.3458651964990649E-2,3.343083973256844E-2,3.3403326516856735E-2,3.3376453293081365E-2,3.3350567614760296E-2,3.3326025321031461E-2,null,81,7.1536025298115924E-2,7.0686947174470993E-2,6.996716333602622E-2,6.9439943996292483E-2,6.9032537612003328E-2,6.8731999427071491E-2,6.8528813359906793E-2,6.8440686465944839E-2,6.8397749001025979E-2,6.8427873768123995E-2,6.8556420615908997E-2,6.8690339301855724E-2,6.8869831933574113E-2,6.9156962435542507E-2,6.9381688564698799E-2,6.9543806421570112E-2,6.9695569283251727E-2,6.9846030395870215E-2,6.9993309043171081E-2,7.0135472720458239E-2,7.0270528503290255E-2]
[82,{"$f":"'Configuratie en berekeningen'!E89","v":3.3097411484432904E-2},{"$f":"((1+B101)^$A101/(1+B$19)^$A$19)^(1/($A101-$A$19))-1","v":3.324783615903093E-2},3.3376792811943279E-2,3.3472101205522797E-2,3.3546250984826775E-2,3.3601231967421707E-2,3.3638537804328683E-2,3.3654746825051873E-2,3.3662646683527253E-2,3.3657085769776662E-2,3.3633418287380312E-2,3.3608810541025935E-2,3.3575908158522072E-2,3.3523460411160944E-2,3.3482563954960298E-2,3.3453142863478336E-2,3.3425663870781053E-2,3.3398480670188579E-2,3.3371930046753429E-2,3.3346355286166585E-2,3.3322107861085692E-2,null,82,6.9249331061632433E-2,6.8427493982012214E-2,6.773080916667179E-2,6.7220525825157321E-2,6.6826218902435924E-2,6.6535358285468596E-2,6.6338732813488205E-2,6.6253484360017337E-2,6.6211976662241101E-2,6.6241192255376682E-2,6.6365681064655221E-2,6.6495366696146252E-2,6.66691668830387E-2,6.6947162692262127E-2,6.7164745585756011E-2,6.7321718254611362E-2,6.7468664462573782E-2,6.7614348338015509E-2,6.7756949404005035E-2,6.7894597036931084E-2,6.8025362112036677E-2]
[83,{"$f":"'Configuratie en berekeningen'!E90","v":3.3096474791531882E-2},{"$f":"((1+B102)^$A102/(1+B$19)^$A$19)^(1/($A102-$A$19))-1","v":3.3245070002535293E-2},3.3372456867023725E-2,3.3466601974048826E-2,3.3539844448858158E-2,3.3594150103628984E-2,3.3630994551812066E-2,3.3646997333308226E-2,3.3654791892461677E-2,3.3649288673214706E-2,3.3625897833033269E-2,3.3601578675065635E-2,3.3569065437727641E-2,3.3517242960793281E-2,3.3476833004017159E-2,3.3447760537003823E-2,3.3420607177816919E-2,3.3393746433698634E-2,3.3367511002681649E-2,3.3342240007498081E-2,3.3318280661410071E-2,null,83,6.7035830148138312E-2,6.6240352126193364E-2,6.5566017838236415E-2,6.5072120030942315E-2,6.4690485575857465E-2,6.4408985644740943E-2,6.4218704163770179E-2,6.4136235830975122E-2,6.4096106369670558E-2,6.4124436472441843E-2,6.4244991992847986E-2,6.4370575254054985E-2,6.4538860653927263E-2,6.4808009763570373E-2,6.5018674007531127E-2,6.5170662449209646E-2,6.5312942697211426E-2,6.5453998988645054E-2,6.5592069145557166E-2,6.5725342433875122E-2,6.5851951476905979E-2]
[84,{"$f":"'Configuratie en berekeningen'!E91","v":3.3095543751677559E-2},{"$f":"((1+B103)^$A103/(1+B$19)^$A$19)^(1/($A103-$A$19))-1","v":3.3242354245441419E-2},3.3368209805706872E-2,3.3461220354566557E-2,3.3533578085681359E-2,3.3587225381475294E-2,3.3623620251388653E-2,3.3639422467808489E-2,3.3647114943059053E-2,3.3641668700430394E-2,3.3618548521888059E-2,3.3594511643901814E-2,3.3562378807731053E-2,3.3511167195364733E-2,3.3471232603556E-2,3.3442500878727799E-2,3.341566578859867E-2,3.3389120184496024E-2,3.3363192776755923E-2,3.3338218626123295E-2,3.3314540789604941E-2,null,84,6.489316991868295E-2,6.4123198328097528E-2,6.3470491049385014E-2,6.2992446847814826E-2,6.2623072365970811E-2,6.2350627140215151E-2,6.2166480673320465E-2,6.2086697923893736E-2,6.2047897404792801E-2,6.2075365484525295E-2,6.2192108973082409E-2,6.2313716831393452E-2,6.2476659849139499E-2,6.2737241437389929E-2,6.2941204807257206E-2,6.308836518389549E-2,6.3226125671984518E-2,6.3362699550087512E-2,6.3496381062446053E-2,6.3625417438133824E-2,6.3748001063741941E-2]
[85,{"$f":"'Configuratie en berekeningen'!E92","v":3.3094619335012121E-2},{"$f":"((1+B104)^$A104/(1+B$19)^$A$19)^(1/($A104-$A$19))-1","v":3.3239688195506156E-2},3.3364049500074877E-2,3.345595313321148E-2,3.3527447818237022E-2,3.3580453062824311E-2,3.3616409690357507E-2,3.3632016762036976E-2,3.3639610205605797E-2,3.3634220200938758E-2,3.361136487179639E-2,3.3587604148343386E-2,3.3555843241131145E-2,3.3505228561793166E-2,3.3465758561733505E-2,3.3437359945476919E-2,3.3410835992438548E-2,3.3384598444640146E-2,3.3358972120388852E-2,3.3334288115731026E-2,3.3310885430788195E-2,null,85,6.281907434470288E-2,6.2073784861889879E-2,6.1442005146473737E-2,6.0979300469688871E-2,6.0621787416461466E-2,6.0358101390471999E-2,6.0179888272955596E-2,6.0102700166620511E-2,6.0065181400918287E-2,6.0091810661091094E-2,6.0204859944166307E-2,6.0322615722744284E-2,6.0480383635548585E-2,6.0732668308427044E-2,6.0930141949827085E-2,6.1072625743554841E-2,6.1206008289348156E-2,6.1338240555415459E-2,6.146767139286427E-2,6.1592604130335633E-2,6.1711288997609644E-2]
[86,{"$f":"'Configuratie en berekeningen'!E93","v":3.3093702384408896E-2},{"$f":"((1+B105)^$A105/(1+B$19)^$A$19)^(1/($A105-$A$19))-1","v":3.3237071116357875E-2},3.3359973850278113E-2,3.3450797179738423E-2,3.3521449697921923E-2,3.3573828573102427E-2,3.3609357845697518E-2,3.3624774954721826E-2,3.3632272266718388E-2,3.3626937744783758E-2,3.3604341616317424E-2,3.3580851099194176E-2,3.3549453910463933E-2,3.3499422687282232E-2,3.3460406852425129E-2,3.3432333950306425E-2,3.3406114225998707E-2,3.3380177874503092E-2,3.3354845914308928E-2,3.333044557053122E-2,3.3307311882207591E-2,null,86,6.081134141413342E-2,6.0089937006753968E-2,5.9478408615221634E-2,5.9030546573546686E-2,5.8684509830605074E-2,5.8429297568476486E-2,5.8256823150168099E-2,5.8182142170609727E-2,5.8145859954185114E-2,5.8171673293925016E-2,5.8281142832165657E-2,5.8395166284830699E-2,5.8547921367724555E-2,5.8792171397989493E-2,5.898336000555196E-2,5.9121314136895982E-2,5.9250456286527281E-2,5.9378483485047324E-2,5.9503797434343995E-2,5.9624755759822075E-2,5.9739664676750195E-2]
[87,{"$f":"'Configuratie en berekeningen'!E94","v":3.3092793628550776E-2},{"$f":"((1+B106)^$A106/(1+B$19)^$A$19)^(1/($A106-$A$19))-1","v":3.3234502235389929E-2},3.3355980787899142E-2,3.34457494473408E-2,3.3515579901504333E-2,3.3567347495887967E-2,3.3602459876874935E-2,3.3617691981489228E-2,3.3625095920102765E-2,3.3619816112838041E-2,3.3597473695086588E-2,3.3574247607740526E-2,3.3543206179101226E-2,3.3493745371173E-2,3.3455173607754851E-2,3.3427419255435353E-2,3.3401497066593011E-2,3.3375855266474019E-2,3.3350811162656591E-2,3.3326688199755816E-2,3.3303817548111514E-2,null,87,5.8867840635168971E-2,5.8169550593773489E-2,5.75776196649972E-2,5.7144119933366024E-2,5.6809187309757002E-2,5.6562173060148241E-2,5.6395249423645467E-2,5.6322991316814064E-2,5.6287902318763912E-2,5.6312922298523686E-2,5.6418923254203203E-2,5.6529330642174629E-2,5.66772302933643E-2,5.6913699855340304E-2,5.7098801849139388E-2,5.7232368794745025E-2,5.7357403933237683E-2,5.7481358463548037E-2,5.7602685239562398E-2,5.7719794439278799E-2,5.7831046466140283E-2]
[88,{"$f":"'Configuratie en berekeningen'!E95","v":3.3091893693713681E-2},{"$f":"((1+B107)^$A107/(1+B$19)^$A$19)^(1/($A107-$A$19))-1","v":3.3231980750742407E-2},3.335206827874071E-2,3.3440806972159232E-2,3.3509834727946108E-2,3.3561005567591229E-2,3.3595711118885374E-2,3.3610762966832297E-2,3.3618076157727828E-2,3.3612850287558782E-2,3.3590756244633813E-2,3.3567788976722968E-2,3.3537095592593325E-2,3.3488192577193487E-2,3.3450055110996635E-2,3.3422612365521909E-2,3.339698122582857E-2,3.3371627538968607E-2,3.3346864987382485E-2,3.33230133224236E-2,3.3300399934889535E-2,null,88,5.6986510633033366E-2,5.631058964336403E-2,5.5737623901465944E-2,5.5318022120596798E-2,5.4993833876834028E-2,5.4754751206532191E-2,5.4593196900235244E-2,5.4523280523142439E-2,5.4489343182680748E-2,5.4513591995434291E-2,5.4616232301761998E-2,5.4723136471630636E-2,5.4866333337347598E-2,5.5095268737412578E-2,5.5274476436723959E-2,5.5403794346182887E-2,5.552485180688712E-2,5.5644862033749062E-2,5.5762327389161502E-2,5.5875708916275364E-2,5.5983419467645054E-2]
[89,{"$f":"'Configuratie en berekeningen'!E96","v":3.3091003114386286E-2},{"$f":"((1+B108)^$A108/(1+B$19)^$A$19)^(1/($A108-$A$19))-1","v":3.3229505837465645E-2},3.3348234325103476E-2,3.3435966872523037E-2,3.3504210595163286E-2,3.3554798672240427E-2,3.3589107075514768E-2,3.3603983216407451E-2,3.3611208161392625E-2,3.3606035444161408E-2,3.3584184589658506E-2,3.3561470691740203E-2,3.3531117870442717E-2,3.3482760426095215E-2,3.3445047789812277E-2,3.3417909921276134E-2,3.3392563543555687E-2,3.336749173074316E-2,3.3343004622914174E-2,3.3319418362378617E-2,3.3297056646445666E-2,null,89,5.5165356835461074E-2,5.4511084089147226E-2,5.3956472083674829E-2,5.3550319287399402E-2,5.3236527681093951E-2,5.3005119126014431E-2,5.2848758910965014E-2,5.2781106090015344E-2,5.2748280521001271E-2,5.2771779968422104E-2,5.287116440019831E-2,5.2974674862846113E-2,5.3113316961311247E-2,5.3334956863845387E-2,5.3508456658086019E-2,5.3633659469520922E-2,5.375086464245471E-2,5.3867055005267506E-2,5.3980780838861736E-2,5.4090552418817862E-2,5.4194833364144671E-2]
[90,{"$f":"'Configuratie en berekeningen'!E97","v":3.3090122342837036E-2},{"$f":"((1+B109)^$A109/(1+B$19)^$A$19)^(1/($A109-$A$19))-1","v":3.3227076652956322E-2},3.3344476967617664E-2,3.3431226347969689E-2,3.349870403675137E-2,3.3548722836370004E-2,3.3582643412836122E-2,3.3597348209646105E-2,3.3604487294650376E-2,3.3599366942221209E-2,3.3577754234711321E-2,3.3555288413077422E-2,3.352526889828944E-2,3.3477445188640154E-2,3.3440148209828324E-2,3.3413308693377664E-2,3.338824098212112E-2,3.3363444995480496E-2,3.3339227411101957E-2,3.3315900843565505E-2,3.3293785379802099E-2,null,90,5.3402449242866835E-2,5.2769127584385442E-2,5.22322779618438E-2,5.183914002904081E-2,5.1535408880737515E-2,5.1311425613282773E-2,5.1160090222768427E-2,5.1094625620845331E-2,5.1062873523358705E-2,5.1085644996268109E-2,5.118187524161015E-2,5.1282098251633983E-2,5.1416329095853343E-2,5.1630904744560051E-2,5.1798877261139881E-2,5.1920094815419905E-2,5.2033569254242074E-2,5.2146060374795224E-2,5.225616483807452E-2,5.2362440572365283E-2,5.246340033493261E-2]
[91,{"$f":"'Configuratie en berekeningen'!E98","v":3.3089251757740579E-2},{"$f":"((1+B110)^$A110/(1+B$19)^$A$19)^(1/($A110-$A$19))-1","v":3.3224692341745188E-2},3.3340794286682573E-2,3.3426582678079519E-2,3.3493311698684858E-2,3.3542774224032401E-2,3.3576315952939639E-2,3.3590853592649017E-2,3.3597909095106626E-2,3.3592840317655526E-2,3.357146085627738E-2,3.354923796793674E-2,3.3519544720475691E-2,3.3472243278938052E-2,3.3435353068514306E-2,3.3408805576699674E-2,3.3384010620895799E-2,3.3359484596656275E-2,3.3335530796400947E-2,3.3312458385539978E-2,3.3290583920930317E-2,null,91,5.1695920279386839E-2,5.1082875387353996E-2,5.0563216192380744E-2,5.0182673322084016E-2,4.9888677600128023E-2,4.9671879111805865E-2,4.952540502283094E-2,4.9462056014542934E-2,4.943134059272971E-2,4.9453405055448041E-2,4.954657978814616E-2,4.9643618423465367E-2,4.9773577142657503E-2,4.9981312577083041E-2,5.0143932846108831E-2,5.0261290999422635E-2,5.0371152526947335E-2,5.0480061315447425E-2,5.0586658917565218E-2,5.06895493857102E-2,5.0787293039837748E-2]
[92,{"$f":"'Configuratie en berekeningen'!E99","v":3.3088391671950435E-2},{"$f":"((1+B111)^$A111/(1+B$19)^$A$19)^(1/($A111-$A$19))-1","v":3.3222352039701031E-2},3.3337184403565701E-2,3.3422033221149006E-2,3.3488030336022545E-2,3.353694913194305E-2,3.3570120667870462E-2,3.358449517138884E-2,3.3591469267050478E-2,3.358645127508475E-2,3.3565300295241185E-2,3.3543315343040447E-2,3.3513941532981262E-2,3.3467151248099958E-2,3.3430659189368273E-2,3.3404397584801959E-2,3.3379869651082306E-2,3.3355607902644246E-2,3.3331912321296064E-2,3.3309088699209566E-2,3.3287450140776942E-2,null,92,5.0043962721261888E-2,4.9450542322240783E-2,4.8947520326816277E-2,4.8579166535220555E-2,4.8294591958479731E-2,4.8084745756810376E-2,4.7942974972749096E-2,4.7881671527026139E-2,4.7851957412784807E-2,4.7873335390870408E-2,4.7963550343070711E-2,4.8057504584477835E-2,4.8183326043862842E-2,4.8384438311095304E-2,4.854187592672226E-2,4.8655496661451338E-2,4.8761859473454093E-2,4.8867299232830515E-2,4.897050094363354E-2,4.9070113303258778E-2,4.9164742669747297E-2]
[93,{"$f":"'Configuratie en berekeningen'!E100","v":3.3087542339506282E-2},{"$f":"((1+B112)^$A112/(1+B$19)^$A$19)^(1/($A112-$A$19))-1","v":3.322005487772306E-2},3.3333645481197438E-2,3.3417575412741707E-2,3.3482856809631922E-2,3.3531243984739278E-2,3.3564053673802663E-2,3.3578268905182895E-2,3.3585163674415774E-2,3.3580195680551261E-2,3.3559268549704147E-2,3.3537516677597301E-2,3.3508455676701354E-2,3.3462165778207709E-2,3.3426063516370119E-2,3.3400081844705554E-2,3.3375815370762618E-2,3.3351812382067969E-2,3.3328369621957288E-2,3.3305789582771972E-2,3.3284381991486756E-2,null,93,4.8444827699206085E-2,4.7870400812334221E-2,4.7383480871595905E-2,4.7026923509704069E-2,4.6751466167110615E-2,4.6548347486042856E-2,4.6411127329576543E-2,4.6351801899162527E-2,4.6323055081108899E-2,4.6343766652083382E-2,4.6431114687047373E-2,4.6522081497410085E-2,4.6643896416229097E-2,4.6838595777665755E-2,4.6991015056106859E-2,4.7101016589754359E-2,4.7203991357065905E-2,4.7306071885352206E-2,4.7405985236453313E-2,4.7502423321473315E-2,4.7594037061148661E-2]
[94,{"$f":"'Configuratie en berekeningen'!E101","v":3.3086703961952013E-2},{"$f":"((1+B113)^$A113/(1+B$19)^$A$19)^(1/($A113-$A$19))-1","v":3.3217799984964769E-2},3.3330175724707756E-2,3.3413206764138614E-2,3.3477788082928006E-2,3.3525655330388204E-2,3.3558111225419296E-2,3.3572170900439513E-2,3.3578988334060034E-2,3.3574069554571206E-2,3.3553361768148937E-2,3.3531838256608992E-2,3.3503083631057251E-2,3.3457283676563421E-2,3.3421563108716468E-2,3.3395855591906054E-2,3.3371845180195425E-2,3.3348095599383232E-2,3.3324900424098303E-2,3.3302558917857272E-2,3.3281377502817344E-2,null,94,4.6896822771596812E-2,4.6340778982509719E-2,4.5869443415758764E-2,4.5524302706551299E-2,4.5257668692579946E-2,4.5061060215476387E-2,4.4928243131259572E-2,4.4870830548509329E-2,4.484301830575832E-2,4.4863083092504114E-2,4.4947654277165967E-2,4.5035727680093417E-2,4.5153662747679658E-2,4.5342152880902285E-2,4.5489713014904003E-2,4.5596209907094135E-2,4.5695903875790533E-2,4.5794731566518011E-2,4.5891460750386415E-2,4.5984825167156705E-2,4.6073518872456483E-2]
[95,{"$f":"'Configuratie en berekeningen'!E102","v":3.3085876694028071E-2},{"$f":"((1+B114)^$A114/(1+B$19)^$A$19)^(1/($A114-$A$19))-1","v":3.321558649164924E-2},3.3326773381738395E-2,3.340892486069702E-2,3.3472821218665461E-2,3.352017983572142E-2,3.3552289710505168E-2,3.3566197404667486E-2,3.3572939409336922E-2,3.3568069065517125E-2,3.354757624292648E-2,3.3526276504498798E-2,3.3497822007910294E-2,3.3452501870231188E-2,3.3417155135793353E-2,3.3391716165637852E-2,3.336795657734215E-2,3.3344455210667867E-2,3.3321502539039205E-2,3.3299394665860182E-2,3.3278434778727384E-2,null,95,4.5398310065550153E-2,4.4860058828109804E-2,4.4403806823747768E-2,4.4069715417892924E-2,4.3811620482981234E-2,4.3621312077525815E-2,4.3492755443913102E-2,4.3437192822413345E-2,4.341028366280815E-2,4.3429720829255558E-2,4.3511602506394423E-2,4.3596873664176777E-2,4.3711051653991292E-2,4.3893529849640775E-2,4.4036385059515362E-2,4.4139488316871041E-2,4.4236005406511084E-2,4.4331683347091679E-2,4.4425329314051749E-2,4.451571753544524E-2,4.460158382002178E-2]
[96,{"$f":"'Configuratie en berekeningen'!E103","v":3.3085060648803344E-2},{"$f":"((1+B115)^$A115/(1+B$19)^$A$19)^(1/($A115-$A$19))-1","v":3.3213413531520297E-2},3.3323436742549672E-2,3.3404727360157871E-2,3.3467953375769355E-2,3.3514814282107341E-2,3.3546585644748328E-2,3.3560344800732889E-2,3.3567013203962492E-2,3.3562190523301672E-2,3.3541908404051579E-2,3.3520827979044876E-2,3.3492667545782728E-2,3.3447817400824587E-2,3.3412836872401375E-2,3.3387661004362412E-2,3.3364147153603696E-2,3.3340888959617176E-2,3.331817385996505E-2,3.3296294864453735E-2,3.327555199412302E-2,null,96,4.3947704483042672E-2,4.3426674447525862E-2,4.2985021490775176E-2,4.2661624039823348E-2,4.2411793255007511E-2,4.2227581719312741E-2,4.2103147668571372E-2,4.2049374310178717E-2,4.2023337912537533E-2,4.2042166161410592E-2,4.2121443021240393E-2,4.2204000311919176E-2,4.2314540193387679E-2,4.2491197547164163E-2,4.2629497228217655E-2,4.2729314407110468E-2,4.2822755306976601E-2,4.2915383374982491E-2,4.3006043928072453E-2,4.3093550385458507E-2,4.3176678971803335E-2]
[97,{"$f":"'Configuratie en berekeningen'!E104","v":3.3084255902302795E-2},{"$f":"((1+B116)^$A116/(1+B$19)^$A$19)^(1/($A116-$A$19))-1","v":3.3211280243957697E-2},3.3320164139965414E-2,3.3400611990900275E-2,3.3463181806221876E-2,3.3509555561262561E-2,3.3540995666735629E-2,3.3554609601361252E-2,3.3561206156151879E-2,3.3556430373359314E-2,3.3536354813289204E-2,3.3515489365611995E-2,3.3487617104344114E-2,3.3443227419555743E-2,3.3408605694203564E-2,3.3383687641473481E-2,3.3360414589763243E-2,3.3337394673736753E-2,3.3314912358366033E-2,3.329325762426083E-2,3.327272739177034E-2,null,97,4.2543471969441374E-2,4.2039110335950924E-2,4.1611587658190612E-2,4.1298540404427354E-2,4.1056707839403642E-2,4.0878396658672073E-2,4.0757951905191811E-2,4.0705909212045747E-2,4.0680716372136022E-2,4.0698953944459694E-2,4.0775708095501406E-2,4.0855637188893575E-2,4.0962654237053767E-2,4.1133675836751524E-2,4.1267564703176295E-2,4.1364200010276263E-2,4.1454662273557367E-2,4.1544337230850499E-2,4.1632107118524282E-2,4.1716823291663443E-2,4.1797301096657281E-2]
[98,{"$f":"'Configuratie en berekeningen'!E105","v":3.308346249767169E-2},{"$f":"((1+B117)^$A117/(1+B$19)^$A$19)^(1/($A117-$A$19))-1","v":3.3209185775809447E-2},3.3316953949167116E-2,3.3396576550160706E-2,3.3458503852012988E-2,3.3504400671196199E-2,3.3535516533147014E-2,3.3548988443871774E-2,3.3555514833020217E-2,3.3550785190901822E-2,3.3530912158527215E-2,3.3510257471647487E-2,3.3482667659173515E-2,3.3438729182517113E-2,3.3404459073391291E-2,3.3379793701203697E-2,3.335675665212845E-2,3.3333970260720491E-2,3.3311716080640652E-2,3.3290281125696763E-2,3.3269959279354611E-2,null,98,4.1184127841952571E-2,4.0695899737823435E-2,4.0282053786559711E-2,3.9979024168665486E-2,3.9744932582553377E-2,3.9572331695741508E-2,3.9455747371729348E-2,3.94053787629065E-2,3.9381001342811056E-2,3.9398666018984244E-2,3.9472977058043653E-2,3.9550360990680142E-2,3.9653966893488622E-2,3.9819532001166245E-2,3.9949150226364014E-2,4.0042704616965435E-2,4.0130282752818699E-2,4.0217098337517299E-2,4.0302069344213272E-2,4.0384083848977598E-2,4.0461995067406074E-2]
[99,{"$f":"'Configuratie en berekeningen'!E106","v":3.3082680448933255E-2},{"$f":"((1+B118)^$A118/(1+B$19)^$A$19)^(1/($A118-$A$19))-1","v":3.320712928296099E-2},3.3313804587360663E-2,3.3392618902239546E-2,3.3453916942152828E-2,3.3499346712290157E-2,3.3530145114138543E-2,3.3543478085133582E-2,3.3549935925231811E-2,3.3545251675446197E-2,3.3525577248401994E-2,3.3505129221448771E-2,3.3477816296771268E-2,3.3434320046187516E-2,3.3400394574550685E-2,3.3375976894731485E-2,3.3353171188858166E-2,3.333061370499224E-2,3.3308583144870507E-2,3.3287363615960075E-2,3.3267246026681185E-2,null,99,3.9868235175578998E-2,3.939562305570378E-2,3.8995014984202818E-2,3.8701681257912859E-2,3.8475081802114883E-2,3.8308007378029772E-2,3.8195158876255492E-2,3.8146409708726958E-2,3.8122820589343742E-2,3.8139929691533167E-2,3.8211874772739338E-2,3.82867940215477E-2,3.8387096984842092E-2,3.8547379214157296E-2,3.8672862567526139E-2,3.8763433841588861E-2,3.8848219405074484E-2,3.8932266421376198E-2,3.9014527455863146E-2,3.9093926129831147E-2,3.9169352315844418E-2]
[100,{"$f":"'Configuratie en berekeningen'!E107","v":3.3081909744371751E-2},{"$f":"((1+B119)^$A119/(1+B$19)^$A$19)^(1/($A119-$A$19))-1","v":3.3205109931670806E-2},3.3310714513340889E-2,3.3388736976688094E-2,3.3449418589755808E-2,3.3494390883514802E-2,3.3524878388902835E-2,3.353807539673781E-2,3.3544466241893778E-2,3.3539826645586635E-2,3.3520347007184093E-2,3.3500101651178005E-2,3.3473060209805894E-2,3.3429997463147787E-2,3.3396409850731335E-2,3.3372235016474905E-2,3.3349656126457017E-2,3.332732306442221E-2,3.3305511737746318E-2,3.3284503406168398E-2,3.3264586063008528E-2,null,100,3.8594403244352052E-2,3.8136906313394399E-2,3.7749111489044813E-2,3.7465162362137823E-2,3.7245814294645629E-2,3.7084088516975137E-2,3.6974855340183119E-2,3.6927672833764857E-2,3.6904845870159318E-2,3.6921416265890211E-2,3.6991070168633532E-2,3.7063602723316866E-2,3.7160707573409786E-2,3.7315875062183805E-2,3.7437355042347298E-2,3.7525037938247623E-2,3.7607119618163126E-2,3.7688486023953083E-2,3.7768123205509027E-2,3.784498919141295E-2,3.791800933794727E-2]
[101,{"$f":"'Configuratie en berekeningen'!E108","v":3.3081150349576482E-2},{"$f":"((1+B120)^$A120/(1+B$19)^$A$19)^(1/($A120-$A$19))-1","v":3.3203126899705504E-2},3.3307682226959345E-2,3.3384928766501565E-2,3.3445006389197562E-2,3.3489530478771234E-2,3.3519713441411803E-2,3.3532777360377297E-2,3.3539102705669954E-2,3.353450703401295E-2,3.3515218469903463E-2,3.3495171904109666E-2,3.3468396692587943E-2,3.3425758978003151E-2,3.3392502639702393E-2,3.3368565940551154E-2,3.3346209466443177E-2,3.332409646719614E-2,3.3302500111642708E-2,3.3281698868629306E-2,3.3261967552563831E-2,null,101,3.7361286015709184E-2,3.6918419671201394E-2,3.654302720180546E-2,3.6268161482693052E-2,3.6055831893297328E-2,3.5899282754132164E-2,3.579354837070544E-2,3.5747881536727005E-2,3.5725791516158928E-2,3.5741839622880751E-2,3.5809274818595305E-2,3.5879496252662041E-2,3.597350453652657E-2,3.6123720114578019E-2,3.624132407909833E-2,3.6326210365137661E-2,3.6405674069672371E-2,3.6484445061959948E-2,3.6561541804361837E-2,3.6635955631414183E-2,3.6706683283004797E-2]
[102,{"$f":"'Configuratie en berekeningen'!E109","v":3.3080402210186044E-2},{"$f":"((1+B121)^$A121/(1+B$19)^$A$19)^(1/($A121-$A$19))-1","v":3.3201179377288836E-2},3.3304706268520112E-2,3.3381192326315201E-2,3.3440678013342717E-2,3.348476288336677E-2,3.3514647456327928E-2,3.3527581063418133E-2,3.3533842348119069E-2,3.352928988275794E-2,3.3510188777696515E-2,3.3490337226101952E-2,3.3463823136758997E-2,3.3421602223503211E-2,3.3388670760372108E-2,3.3364967617410368E-2,3.3342829282172026E-2,3.3320932108834356E-2,3.3299546581828876E-2,3.3278938213322284E-2,3.3259389276015128E-2,null,102,3.6167580695954257E-2,3.5738875991397245E-2,3.5375488268560164E-2,3.5109414527874958E-2,3.4903878073757631E-2,3.4752339175136628E-2,3.4649990880690547E-2,3.4605790454150694E-2,3.4584413056513386E-2,3.4599954847026215E-2,3.4665241564767267E-2,3.4733225105137856E-2,3.4824235188173229E-2,3.4969656540484305E-2,3.5083507832156219E-2,3.5165686395744356E-2,3.524261533600493E-2,3.5318873434177264E-2,3.5393510527534137E-2,3.5465585973858495E-2,3.5534093157274335E-2]
[103,{"$f":"'Configuratie en berekeningen'!E110","v":3.3079665254355239E-2},{"$f":"((1+B122)^$A122/(1+B$19)^$A$19)^(1/($A122-$A$19))-1","v":3.3199266567890628E-2},3.3301785218109892E-2,3.3377525770613259E-2,3.3436431210853046E-2,3.3480085570615215E-2,3.3509677715075625E-2,3.352248369466615E-2,3.3528682305240975E-2,3.3524172338660341E-2,3.3505255173372106E-2,3.348559496128245E-2,3.345933702719206E-2,3.3417524916828478E-2,3.3384912109386544E-2,3.3361438070627303E-2,3.3339513715809677E-2,3.3317828249350034E-2,3.3296639401951378E-2,3.3276220161989167E-2,3.3256850061387677E-2,null,103,3.5012026324892927E-2,3.4597029451975389E-2,3.4245261710868349E-2,3.3987697955452145E-2,3.3788736606645144E-2,3.3642046969746084E-2,3.3542975754338997E-2,3.350019412927973E-2,3.347950588979233E-2,3.3494556898408787E-2,3.3557763189155931E-2,3.3623579784308098E-2,3.3711686945665315E-2,3.3852466771032118E-2,3.3962684840703243E-2,3.4042241775279314E-2,3.4116716546678728E-2,3.4190541673603234E-2,3.4262831933734979E-2,3.433264253694842E-2,3.4398999014347398E-2]
[104,{"$f":"'Configuratie en berekeningen'!E111","v":3.3078939394975748E-2},{"$f":"((1+B123)^$A123/(1+B$19)^$A$19)^(1/($A123-$A$19))-1","v":3.3197387688871594E-2},3.329891769487503E-2,3.3373927271957537E-2,3.343226380357156E-2,3.3475496098556601E-2,3.3504801592078248E-2,3.3517482540313726E-2,3.3523619813218053E-2,3.3519151649034074E-2,3.3500414997180927E-2,3.348094254794165E-2,3.345493593807003E-2,3.3413524856064525E-2,3.3381224657883513E-2,3.3357975393841111E-2,3.3336260975448173E-2,3.3314773185830759E-2,3.3293777234840283E-2,3.3273543485539792E-2,3.3254348781787124E-2,null,104,3.3893402417782978E-2,3.3491674206924733E-2,3.3151154101710156E-2,3.2901827460439056E-2,3.2709230254704513E-2,3.2567234136312288E-2,3.2471334556939326E-2,3.2429925724854161E-2,3.2409903998838967E-2,3.2424479328161206E-2,3.2485671127804171E-2,3.2549389514408097E-2,3.26346860399492E-2,3.2770972205098725E-2,3.2877672731129542E-2,3.295469142082047E-2,3.3026790082351896E-2,3.3098293038060604E-2,3.316831031500643E-2,3.3235927298363124E-2,3.3300200638541673E-2]
[105,{"$f":"'Configuratie en berekeningen'!E112","v":3.3078224531672085E-2},{"$f":"((1+B124)^$A124/(1+B$19)^$A$19)^(1/($A124-$A$19))-1","v":3.3195541972000031E-2},3.3296102356257906E-2,3.3370395059241442E-2,3.3428173683978546E-2,3.3470992106802822E-2,3.3500016551144096E-2,3.351257498005844E-2,3.3518652204347354E-2,3.3514225157536437E-2,3.3495665682788056E-2,3.3476377514606082E-2,3.3450617529159787E-2,3.340959991683512E-2,3.3377606448395936E-2,3.3354577747838343E-2,3.3333059402941734E-2,3.3311765523934778E-2,3.3290958794271353E-2,3.3270907001712091E-2,3.3251884353250771E-2,null,105,3.2810527652852181E-2,3.2421643091302986E-2,3.2092010285560073E-2,3.1850656706484189E-2,3.1664219513202717E-2,3.1526766229068637E-2,3.1433936287194361E-2,3.1393855778273437E-2,3.1374478707851074E-2,3.1388593036061327E-2,3.1447834227019106E-2,3.1509520995101473E-2,3.1592096267927944E-2,3.1724031957241099E-2,3.182732696164231E-2,3.1901888163680246E-2,3.1971718573156137E-2,3.2040972459796313E-2,3.210878827788248E-2,3.2174280623162341E-2,3.2236536270572255E-2]
[106,{"$f":"'Configuratie en berekeningen'!E113","v":3.3077520552594386E-2},{"$f":"((1+B125)^$A125/(1+B$19)^$A$19)^(1/($A125-$A$19))-1","v":3.3193728663858391E-2},3.3293337897198905E-2,3.3366927415965142E-2,3.3424158812732863E-2,3.3466571313496507E-2,3.3495320141999851E-2,3.3507758483388272E-2,3.3513776903152159E-2,3.350939030022948E-2,3.3491004753419151E-2,3.3471897476302193E-2,3.3446379542256599E-2,3.340574804909191E-2,3.3374055591900431E-2,3.3351233521858203E-2,3.3329907549953575E-2,3.3308803921944241E-2,3.3288182842562186E-2,3.3268309572860755E-2,3.3249455732726529E-2,null,106,3.1762258602711597E-2,3.1385806369473225E-2,3.1066712141000753E-2,3.0833076099329303E-2,3.0652601391949037E-2,3.0519545146752567E-2,3.0429686170613476E-2,3.0390890997643291E-2,3.0372137480215014E-2,3.0385805068763573E-2,3.0443157540269106E-2,3.0502877196825467E-2,3.0582817785432287E-2,3.071054164635903E-2,3.0810539607653974E-2,3.0882752691927806E-2,3.0950386266652374E-2,3.1017461883296134E-2,3.1083145514437614E-2,3.1146580032544915E-2,3.1206881374117562E-2]
[107,{"$f":"'Configuratie en berekeningen'!E114","v":3.3076827336031345E-2},{"$f":"((1+B126)^$A126/(1+B$19)^$A$19)^(1/($A126-$A$19))-1","v":3.3191947026150359E-2},3.329062304930952E-2,3.3363522678548474E-2,3.342021721628452E-2,3.3462231512385587E-2,3.3490709996965462E-2,3.3503030606025774E-2,3.3508991422673162E-2,3.3504644601809686E-2,3.3486429818188945E-2,3.3467500130992311E-2,3.3442219797794381E-2,3.3401967274052868E-2,3.3370560520830317E-2,3.3347941217934274E-2,3.3326804022297374E-2,3.3305887088304287E-2,3.3285448188302924E-2,3.3265750103875558E-2,3.3247061916157561E-2,null,107,3.0747488508046712E-2,3.0383070524950751E-2,3.0074177384368874E-2,2.9848011600800528E-2,2.9673308237507575E-2,2.9544507961094493E-2,2.9457524492535889E-2,2.9419973097295112E-2,2.9401822755649957E-2,2.9415057457327635E-2,2.947058116430323E-2,2.9528396195378729E-2,2.9605785939455689E-2,2.9729432223698726E-2,2.9826268279985496E-2,2.9896207255971079E-2,2.9961713162850286E-2,3.0026679078111785E-2,3.0090297612799115E-2,3.0151739012121329E-2,3.0210147442009356E-2]
[108,{"$f":"'Configuratie en berekeningen'!E115","v":3.3076144751854608E-2},{"$f":"((1+B127)^$A127/(1+B$19)^$A$19)^(1/($A127-$A$19))-1","v":3.3190196335917133E-2},3.3287956580030809E-2,3.3360179234672493E-2,3.3416346984566081E-2,3.3457970570004658E-2,3.3486183827764249E-2,3.3498388986529681E-2,3.3504293360913096E-2,3.349998567201351E-2,3.3481938568600933E-2,3.3463183256173146E-2,3.3438136191612955E-2,3.339824602707564E-2,3.3367119685359992E-2,3.3344699393587307E-2,3.3323747477430388E-2,3.330301377930045E-2,3.328275368421707E-2,3.3263227540209162E-2,3.3244701936675725E-2,null,108,2.9765146092080131E-2,2.9412377090372126E-2,2.9113358412938252E-2,2.8894423581936928E-2,2.8725306594169043E-2,2.8600625783789385E-2,2.8516425469411206E-2,2.8480077671390099E-2,2.8462510825381562E-2,2.8475326092641425E-2,2.8529079113171596E-2,2.8585050044415881E-2,2.865997013832328E-2,2.8779697876352959E-2,2.8873472098350464E-2,2.8941208640928792E-2,2.9004653867434081E-2,2.9067576489796479E-2,2.9129194905834613E-2,2.9188705858466234E-2,2.9245280840741981E-2]
[109,{"$f":"'Configuratie en berekeningen'!E116","v":3.3075472662815297E-2},{"$f":"((1+B128)^$A128/(1+B$19)^$A$19)^(1/($A128-$A$19))-1","v":3.3188475885682411E-2},3.3285337291773853E-2,3.3356895521658325E-2,3.3412546268756671E-2,3.3453786422966258E-2,3.3481739422468459E-2,3.3493831343033964E-2,3.3499680397444109E-2,3.3495411202187686E-2,3.3477528775199827E-2,3.345894470563282E-2,3.3434117125905827E-2,3.3394582669508566E-2,3.3363731592546575E-2,3.3341506659281261E-2,3.3320736622082014E-2,3.3300182796866196E-2,3.3280098225133337E-2,3.3260740866015048E-2,3.3242374862901158E-2,null,109,2.8814194414331449E-2,2.8472701516137528E-2,2.8183241186278147E-2,2.7971305713860101E-2,2.7807596102339124E-2,2.7686902670609938E-2,2.7605396157004643E-2,2.7570213104352165E-2,2.7553210743981715E-2,2.7565619637468897E-2,2.7617658228886472E-2,2.7671843684569562E-2,2.7744400751412143E-2,2.7860334247360421E-2,2.7951143535757571E-2,2.8016747058914989E-2,2.807819648181803E-2,2.813914012772625E-2,2.8198821356822772E-2,2.8256462562696188E-2,2.8311261692054349E-2]
[110,{"$f":"'Configuratie en berekeningen'!E117","v":3.307481092570641E-2},{"$f":"((1+B129)^$A129/(1+B$19)^$A$19)^(1/($A129-$A$19))-1","v":3.3186784983525675E-2},3.3282764021054234E-2,3.3353670024881321E-2,3.3408813279122818E-2,3.344967707535651E-2,3.3477374642564506E-2,3.3489355470131654E-2,3.3495150290166142E-2,3.3490918962008287E-2,3.3473198284382111E-2,3.3454772927159704E-2,3.3430160840163925E-2,3.3390975622296315E-2,3.3360394803744198E-2,3.3338361676013895E-2,3.3317770210017805E-2,3.3297392986505248E-2,3.3277480746071175E-2,3.3258289102394034E-2,3.3240079797323352E-2,null,110,2.7893629762273529E-2,2.7563052076382807E-2,2.7282844144419918E-2,2.7077683895077139E-2,2.6919208433036138E-2,2.680237456137247E-2,2.6723475394283731E-2,2.6689419516821824E-2,2.6672963276648535E-2,2.6684978473896757E-2,2.6735357127454257E-2,2.6787840915735221E-2,2.685810955167009E-2,2.6970369162724741E-2,2.7058307348688009E-2,2.7121845076897935E-2,2.7181361528817147E-2,2.72403884886438E-2,2.7298193480890538E-2,2.7354023729864931E-2,2.7407102790450416E-2]
[111,{"$f":"'Configuratie en berekeningen'!E118","v":3.3074159392402436E-2},{"$f":"((1+B130)^$A130/(1+B$19)^$A$19)^(1/($A130-$A$19))-1","v":3.3185122953098833E-2},3.3280235637620503E-2,3.3350501276225852E-2,3.3405146282931675E-2,3.344564059622801E-2,3.3473087420140546E-2,3.3484959235890122E-2,3.3490700872204071E-2,3.3486506796351012E-2,3.3468935621421059E-2,3.3450666115763639E-2,3.3426265637331198E-2,3.3387423363296032E-2,3.3357107932156849E-2,3.3335263153043249E-2,3.3314847039917606E-2,3.3294643235327825E-2,3.3274900220435333E-2,3.3255871305723606E-2,3.3237815874777032E-2,null,111,2.7002480579551631E-2,2.6682468810954464E-2,2.6411217161564297E-2,2.621261521394597E-2,2.6059206257252023E-2,2.5946108254543944E-2,2.5869732781750299E-2,2.5836767745942232E-2,2.5820839880737904E-2,2.5832473684965093E-2,2.5881271292197534E-2,2.5932106892988249E-2,2.6000159337286635E-2,2.6108861599132394E-2,2.6194019541632807E-2,2.6255556578967935E-2,2.6313200912833856E-2,2.6370371514754968E-2,2.6426359301058626E-2,2.6480435533088195E-2,2.6531848555446297E-2]
[112,{"$f":"'Configuratie en berekeningen'!E119","v":3.3073517910789052E-2},{"$f":"((1+B131)^$A131/(1+B$19)^$A$19)^(1/($A131-$A$19))-1","v":3.3183489133590038E-2},3.3277751043584436E-2,3.334738785257807E-2,3.3401543602434414E-2,3.3441675117188652E-2,3.3468875755191529E-2,3.348064057899558E-2,3.3486330048944524E-2,3.3482163312128499E-2,3.3464738969145591E-2,3.3446622530930226E-2,3.3422429880970883E-2,3.3383924424734701E-2,3.3353869640524891E-2,3.3332209845731819E-2,3.3311965953368494E-2,3.3291932470198571E-2,3.3272355658296116E-2,3.3253486566085622E-2,3.3235582260999985E-2,null,112,2.6139806429478895E-2,2.5830022502141763E-2,2.5567440534081547E-2,2.5375186945092103E-2,2.5226682248989777E-2,2.5117200415294489E-2,2.5043267693042461E-2,2.5011358358815565E-2,2.4995941720369747E-2,2.5007231300552674E-2,2.5054497515753383E-2,2.5103736726969979E-2,2.5169642936546281E-2,2.5274900684821511E-2,2.5357366364861592E-2,2.5416965761932191E-2,2.547279691341784E-2,2.5528169585256364E-2,2.5582397337832689E-2,2.5634774701211581E-2,2.568457401745013E-2]
[113,{"$f":"'Configuratie en berekeningen'!E120","v":3.307288632559291E-2},{"$f":"((1+B132)^$A132/(1+B$19)^$A$19)^(1/($A132-$A$19))-1","v":3.3181882879644631E-2},3.3275309172552836E-2,3.3344328374358412E-2,3.3398003612919114E-2,3.3437778830087472E-2,3.346473771303482E-2,3.3476397506017941E-2,3.3482026567421386E-2,3.3477886685573832E-2,3.3460606574720719E-2,3.344264049376755E-2,3.3418651992583648E-2,3.3380477390805074E-2,3.335067863893193E-2,3.3329200553502414E-2,3.3309125832972741E-2,3.3289259655970849E-2,3.3269846104769574E-2,3.3251134005775063E-2,3.3233378151262594E-2,null,113,2.5304696992576391E-2,2.500481368494362E-2,2.4750624001632211E-2,2.4564515578613364E-2,2.4420758120819966E-2,2.431477661585129E-2,2.4243208318687325E-2,2.4212320698003803E-2,2.4197423127163633E-2,2.4208378615638619E-2,2.4254161532554264E-2,2.4301854523051409E-2,2.4365682244634923E-2,2.4467604732517457E-2,2.4547463344378389E-2,2.4605186163163265E-2,2.4659261211116151E-2,2.4712892540268781E-2,2.4765415631203744E-2,2.4816147538984066E-2,2.4864383836206146E-2]
[114,{"$f":"'Configuratie en berekeningen'!E121","v":3.3072264479124147E-2},{"$f":"((1+B133)^$A133/(1+B$19)^$A$19)^(1/($A133-$A$19))-1","v":3.3180303561246127E-2},3.3272908988765781E-2,3.3341321504094967E-2,3.3394524740833154E-2,3.3433949984789324E-2,3.3460671421830623E-2,3.3472218942046439E-2,3.3477788655128515E-2,3.347367515692401E-2,3.3456536746826915E-2,3.3438718384303012E-2,3.3414930449065405E-2,3.3377080895384825E-2,3.3347533682726027E-2,3.3326234117913911E-2,3.3306325600541031E-2,3.3286623793823189E-2,3.3267370638480731E-2,3.324881277788605E-2,3.3231202769074208E-2,null,114,2.4496271096970956E-2,2.420597168973249E-2,2.3959905800264494E-2,2.3779745880949051E-2,2.3640583690844239E-2,2.3537990407065813E-2,2.3468710740921855E-2,2.3438835606771419E-2,2.3424439656870567E-2,2.3435070889597624E-2,2.3479417090503378E-2,2.3525612451348724E-2,2.3587427291370946E-2,2.3686120303428395E-2,2.3763454343023058E-2,2.3819359719622488E-2,2.3871733944634058E-2,2.3923678736079083E-2,2.397455079404923E-2,2.4023688978684489E-2,2.40704113507327E-2]
[115,{"$f":"'Configuratie en berekeningen'!E122","v":3.3071652211933866E-2},{"$f":"((1+B134)^$A134/(1+B$19)^$A$19)^(1/($A134-$A$19))-1","v":3.3178750563564341E-2},3.3270549486243528E-2,3.3338365945035475E-2,3.3391105461973103E-2,3.3430186887033253E-2,3.3456666003134794E-2,3.3468103203908361E-2,3.3473614601224222E-2,3.3469527027637724E-2,3.3452527852983804E-2,3.3434854638921152E-2,3.3411263780299238E-2,3.337373361987428E-2,3.3344433570557497E-2,3.3323309420820735E-2,3.3303564215391601E-2,3.3284023919680772E-2,3.3264928370104974E-2,3.3246522064972917E-2,3.3229055364955906E-2,null,115,2.3713675780529575E-2,2.3432653716189373E-2,2.3194451746397182E-2,2.3020049986339861E-2,2.2885335980004744E-2,2.2786022420152367E-2,2.2718980960990121E-2,2.2690085114137001E-2,2.2676173924065846E-2,2.2686490449230132E-2,2.2729445052467281E-2,2.2774189846596387E-2,2.2834055338865223E-2,2.2929621301288502E-2,2.3004510651689337E-2,2.3058655857136331E-2,2.310938279822931E-2,2.3159694130712793E-2,2.3208967095925428E-2,2.3256561662186127E-2,2.3301817659756495E-2]
[116,{"$f":"'Configuratie en berekeningen'!E123","v":3.3071049363401883E-2},{"$f":"((1+B135)^$A135/(1+B$19)^$A$19)^(1/($A135-$A$19))-1","v":3.3177223286775526E-2},3.3268229687941631E-2,3.3335460439804843E-2,3.3387744299734345E-2,3.3426478907735646E-2,3.3452719882362647E-2,3.3464048666483226E-2,3.3469502753872726E-2,3.346544065775503E-2,3.3448578317014199E-2,3.3431047747934484E-2,3.3407650566868563E-2,3.3370434291152939E-2,3.3341377142505291E-2,3.3320425382639351E-2,3.330084067273309E-2,3.3281459102715738E-2,3.3262518440987154E-2,3.3244261077781667E-2,3.3226935215274978E-2,null,116,2.2956085383625854E-2,2.2684043937442961E-2,2.2453454350643897E-2,2.2284626517826724E-2,2.2154218338731924E-2,2.2058101753219511E-2,2.1993226129475751E-2,2.1965277459651648E-2,2.195183473422958E-2,2.1961845820595939E-2,2.2003452526609794E-2,2.2046792336917753E-2,2.2104770008157901E-2,2.2197308095469007E-2,2.2269830109754685E-2,2.232227060887549E-2,2.2371402118413049E-2,2.2420131398867265E-2,2.2467855576258761E-2,2.2513955052482024E-2,2.2557790731667145E-2]
[117,{"$f":"'Configuratie en berekeningen'!E124","v":3.3070455772256535E-2},{"$f":"((1+B136)^$A136/(1+B$19)^$A$19)^(1/($A136-$A$19))-1","v":3.317572114585654E-2},3.326594864492316E-2,3.3332603769094638E-2,3.3384430911975294E-2,3.3422824633357662E-2,3.3448831538771762E-2,3.3460053760219655E-2,3.34654515177224E-2,3.3461414463394012E-2,3.3444686616637798E-2,3.3427296253275784E-2,3.3404089437895079E-2,3.3367181679629931E-2,3.3338363278309302E-2,3.3317580960700921E-2,3.3298154002129987E-2,3.3278928443926326E-2,3.3260140021831974E-2,3.3242029054043609E-2,3.3224841621138257E-2,null,117,2.2222700671503285E-2,2.1959352633394255E-2,2.1736131960447234E-2,2.1572699736826226E-2,2.1446481240472531E-2,2.1353458620284555E-2,2.1290678802513736E-2,2.1263646252688215E-2,2.1250656243690193E-2,2.1260370888718825E-2,2.1300672024647461E-2,2.1342651000574073E-2,2.1398800433873207E-2,2.1488406672266348E-2,2.1558636253716686E-2,2.1609425762139062E-2,2.165701205900486E-2,2.1704209075246991E-2,2.1750433186003327E-2,2.1795084573730871E-2,2.1837544543036998E-2]
[118,{"$f":"'Configuratie en berekeningen'!E125","v":3.3069871277034799E-2},{"$f":"((1+B137)^$A137/(1+B$19)^$A$19)^(1/($A137-$A$19))-1","v":3.3174243570362805E-2},3.3263705435538027E-2,3.3329785914934185E-2,3.3381164083904347E-2,3.34192226982859E-2,3.344499950317914E-2,3.3456116968781924E-2,3.3461459351511458E-2,3.3457446914374467E-2,3.3440851281185013E-2,3.3423598746316285E-2,3.3400579068975977E-2,3.3363974597401924E-2,3.3335390895691042E-2,3.3314775147685216E-2,3.3295503266045579E-2,3.3276431074790169E-2,3.3257792311458534E-2,3.3239825257330047E-2,3.3222773907348291E-2,null,118,2.1512747985221643E-2,2.1257815352218171E-2,2.1041727930582819E-2,2.088353979085476E-2,2.0761376243642833E-2,2.0671347901886447E-2,2.0610596126903254E-2,2.0584449658720683E-2,2.0571897146542242E-2,2.0581324084268014E-2,2.0620360647135082E-2,2.0661021549762085E-2,2.0715400446039142E-2,2.0802167813413514E-2,2.0870177493162785E-2,2.09193680325305E-2,2.0965457753630051E-2,2.1011170725391402E-2,2.1055941956851225E-2,2.1099190778907088E-2,2.1140318244773609E-2]
[119,{"$f":"'Configuratie en berekeningen'!E126","v":3.3069295716491087E-2},{"$f":"((1+B138)^$A138/(1+B$19)^$A$19)^(1/($A138-$A$19))-1","v":3.3172790004182495E-2},3.3261490403983629E-2,3.3327005898631024E-2,3.3377942641571234E-2,3.3415671782817347E-2,3.344122235579472E-2,3.3452236826813309E-2,3.3457524765795998E-2,3.3453536531959482E-2,3.3437070889432263E-2,3.3419953865781338E-2,3.339711818023483E-2,3.3360811896502085E-2,3.3332458948755361E-2,3.3312006970134922E-2,3.3292887558462603E-2,3.3273966155982215E-2,3.3255474535616836E-2,3.3237648975970702E-2,3.3220731421404803E-2,null,119,2.0825478420215128E-2,2.0578692099122477E-2,2.036953037252601E-2,2.0216417883919022E-2,2.0098178889232054E-2,2.0011048353901609E-2,1.9952259051376778E-2,1.9926969611732171E-2,1.9914839887665504E-2,1.9923987596357707E-2,1.9961799294888977E-2,2.0001183540646485E-2,2.0053847778147532E-2,2.0137866300965767E-2,2.0203726313201872E-2,2.0251368264639698E-2,2.0296008514767244E-2,2.0340284143123843E-2,2.0383648197110259E-2,2.042553854414525E-2,2.0465375355052499E-2]
[120,{"$f":"'Configuratie en berekeningen'!E127","v":3.306872892995294E-2},{"$f":"((1+B139)^$A139/(1+B$19)^$A$19)^(1/($A139-$A$19))-1","v":3.317135121840753E-2},3.3259302845747962E-2,3.332426277412126E-2,3.337476545016127E-2,3.3412170611246017E-2,3.343749872416435E-2,3.3448411917811782E-2,3.3453646320788399E-2,3.3449681886714266E-2,3.3433344067536064E-2,3.3416360295780878E-2,3.3393705534464635E-2,3.3357692467234301E-2,3.3329566426473889E-2,3.3309275487046763E-2,3.3290306003567416E-2,3.3271532876155474E-2,3.3253185945870234E-2,3.3235499522019651E-2,3.3218713532557009E-2,null,120,2.016016703154826E-2,1.9921286651116289E-2,1.9718828428238664E-2,1.9570628573087865E-2,1.9456187931561224E-2,1.9371861841759316E-2,1.9314971563194124E-2,1.929051105190498E-2,1.9278789901014622E-2,1.9287666610603865E-2,1.9324291905751353E-2,1.9362439608721818E-2,1.9413443300647728E-2,1.9494800147715406E-2,1.9558578502485643E-2,1.9604720658371644E-2,1.964795705851553E-2,1.9690840573759534E-2,1.9732841713370367E-2,1.9773416288960642E-2,1.9812002978143343E-2]
[121,{"$f":"'Configuratie en berekeningen'!E128","v":3.3068162143414792E-2},{"$f":"((1+B140)^$A140/(1+B$19)^$A$19)^(1/($A140-$A$19))-1","v":3.316992684656328E-2},{"$f":"((1+C140)^$A140/(1+C$19)^$A$19)^(1/($A140-$A$19))-1","v":3.3257142079612168E-2},{"$f":"((1+D140)^$A140/(1+D$19)^$A$19)^(1/($A140-$A$19))-1","v":3.3321555626617982E-2},{"$f":"((1+E140)^$A140/(1+E$19)^$A$19)^(1/($A140-$A$19))-1","v":3.337163141238042E-2},{"$f":"((1+F140)^$A140/(1+F$19)^$A$19)^(1/($A140-$A$19))-1","v":3.3408717950045741E-2},{"$f":"((1+G140)^$A140/(1+G$19)^$A$19)^(1/($A140-$A$19))-1","v":3.3433827281212247E-2},{"$f":"((1+H140)^$A140/(1+H$19)^$A$19)^(1/($A140-$A$19))-1","v":3.3444640872109632E-2},{"$f":"((1+I140)^$A140/(1+I$19)^$A$19)^(1/($A140-$A$19))-1","v":3.3449822624308068E-2},{"$f":"((1+J140)^$A140/(1+J$19)^$A$19)^(1/($A140-$A$19))-1","v":3.3445881596465554E-2},{"$f":"((1+K140)^$A140/(1+K$19)^$A$19)^(1/($A140-$A$19))-1","v":3.3429669487078373E-2},{"$f":"((1+L140)^$A140/(1+L$19)^$A$19)^(1/($A140-$A$19))-1","v":3.3412816763933817E-2},{"$f":"((1+M140)^$A140/(1+M$19)^$A$19)^(1/($A140-$A$19))-1","v":3.3390339935364555E-2},{"$f":"((1+N140)^$A140/(1+N$19)^$A$19)^(1/($A140-$A$19))-1","v":3.335461523659089E-2},{"$f":"((1+O140)^$A140/(1+O$19)^$A$19)^(1/($A140-$A$19))-1","v":3.3326712351246623E-2},{"$f":"((1+P140)^$A140/(1+P$19)^$A$19)^(1/($A140-$A$19))-1","v":3.3306579788528801E-2},{"$f":"((1+Q140)^$A140/(1+Q$19)^$A$19)^(1/($A140-$A$19))-1","v":3.3287757754500547E-2},{"$f":"((1+R140)^$A140/(1+R$19)^$A$19)^(1/($A140-$A$19))-1","v":3.3269130450789497E-2},{"$f":"((1+S140)^$A140/(1+S$19)^$A$19)^(1/($A140-$A$19))-1","v":3.3250925818526067E-2},{"$f":"((1+T140)^$A140/(1+T$19)^$A$19)^(1/($A140-$A$19))-1","v":3.3233376230272116E-2}]
[122,{"$f":"'Configuratie en berekeningen'!E129","v":3.3067595356876645E-2},3.3168516534191728E-2,3.3255007446693297E-2,3.3318883571331392E-2,3.3368539466917424E-2,3.3405312606140436E-2,3.3430206743380042E-2,3.3440922364955661E-2,3.3446052329826559E-2,3.3442134324366046E-2,3.3426045863204967E-2,3.3409322039582356E-2,3.3387020225862152E-2,3.3351579166751133E-2,3.3323895777530588E-2,3.3303918994523452E-2,3.328524199217342E-2,3.3266758121088147E-2,3.3248693453618694E-2]
[123,{"$f":"'Configuratie en berekeningen'!E130","v":3.3067028570338497E-2},3.3167119938361855E-2,3.3252898309537482E-2,3.3316245752249563E-2,3.336548858697963E-2,3.3401953425258979E-2,3.3426635868860188E-2,3.3437255114687314E-2,3.3442334134613727E-2,3.3438438777052326E-2,3.3422471952850641E-2,3.3405874932097346E-2,3.3383745286520217E-2,3.3348583253650199E-2,3.3321115790533762E-2,3.330129225359868E-2,3.3282757924136819E-2,3.3264415152932436E-2]
[124,{"$f":"'Configuratie en berekeningen'!E131","v":3.3066461783800349E-2},3.3165736727205575E-2,3.3250814051256183E-2,3.3313641340976918E-2,3.3362477778901667E-2,3.3398639290372234E-2,3.3423113455909315E-2,3.3433637880992739E-2,3.3438666777972026E-2,3.3434793702888044E-2,3.3418946553057438E-2,3.3402474289263351E-2,3.3380514034019093E-2,3.3345626525614458E-2,3.3318371504980071E-2,3.3298698741789812E-2,3.3280304783506409E-2]
[125,{"$f":"'Configuratie en berekeningen'!E132","v":3.3065894997262202E-2},3.3164366579475413E-2,3.3248754074703513E-2,3.3311069535629123E-2,3.33595060808205E-2,3.3395369120200691E-2,3.3419638341246394E-2,3.3430069463259438E-2,3.343504903955119E-2,3.3431197890297915E-2,3.3415468499368606E-2,3.3399118995743438E-2,3.3377325419708281E-2,3.3342708042070512E-2,3.331566206392389E-2,3.3296137661501968E-2]
[126,{"$f":"'Configuratie en berekeningen'!E133","v":3.3065328210724054E-2},3.3163009184122627E-2,3.3246717801690862E-2,3.3308529559782363E-2,3.3356572561412445E-2,3.339214186779671E-2,3.3416209398527519E-2,3.3426548698993974E-2,3.3431479737750847E-2,3.3427650166175882E-2,3.3412036664301592E-2,3.339580797161168E-2,3.3374178428235091E-2,3.33398268923073E-2,3.3312986637628494E-2]
[127,{"$f":"'Configuratie en berekeningen'!E134","v":3.3064761424185907E-2},3.3161664239895527E-2,3.3244704672243053E-2,3.3306020661469482E-2,3.3353676318690351E-2,3.3388956519193158E-2,3.341282553688929E-2,3.3423074462324509E-2,3.3427957728192847E-2,3.3424149394371439E-2,3.3408649955888992E-2,3.3392540170962492E-2,3.3371072076230357E-2,3.3336982194301701E-2]
[128,{"$f":"'Configuratie en berekeningen'!E135","v":3.3064194637647759E-2},3.3160331454957115E-2,3.3242714143885355E-2,3.3303542112225193E-2,3.3350816478859402E-2,3.3385812092114442E-2,3.3409485699563479E-2,3.3419645662569053E-2,3.3424481902267766E-2,3.3420694474243229E-2,3.3405307316294763E-2,3.3389314580580143E-2,3.3368005411060109E-2]
[129,{"$f":"'Configuratie en berekeningen'!E136","v":3.3063627851109612E-2},3.315901054652004E-2,3.3240745690965356E-2,3.3301093206174803E-2,3.3347992195222664E-2,3.3382707634747044E-2,3.3406188862556307E-2,3.3416261242871004E-2,3.3421051185746453E-2,3.3417284339285702E-2,3.3402007720489513E-2,3.3386130218671317E-2]
[130,{"$f":"'Configuratie en berekeningen'!E137","v":3.3063061064571464E-2},{"$f":"((1+B149)^$A149/(1+B$19)^$A$19)^(1/($A149-$A$19))-1","v":3.3157701240498438E-2},{"$f":"((1+C149)^$A149/(1+C$19)^$A$19)^(1/($A149-$A$19))-1","v":3.3238798804005931E-2},3.3298673259166023E-2,3.3345202647137917E-2,3.3379642224569794E-2,3.3402934033386344E-2,3.3412920178897521E-2,3.3417664537459091E-2,3.3413917955814831E-2,3.3398750174987724E-2]
[131,{"$f":"'Configuratie en berekeningen'!E138","v":3.3062494278033316E-2},3.3156403271175972E-2,{"$f":"((1+C150)^$A150/(1+C$19)^$A$19)^(1/($A150-$A$19))-1","v":3.3236872989088173E-2},3.3296281607938072E-2,3.3342447039025558E-2,3.3376614967233431E-2,3.339972024988147E-2,3.3409621477598517E-2,3.3414320948033982E-2,3.3410594321713782E-2]
[132,{"$f":"'Configuratie en berekeningen'!E139","v":3.3061927491495169E-2},3.3155116380888749E-2,{"$f":"((1+C151)^$A151/(1+C$19)^$A$19)^(1/($A151-$A$19))-1","v":3.3234967767261203E-2},3.3293917609331869E-2,3.3339724599417142E-2,3.337362499549501E-2,3.3396546579031572E-2,3.3406364176022274E-2,3.3411019438690737E-2]
[133,{"$f":"'Configuratie en berekeningen'!E140","v":3.3061360704957021E-2},3.3153840319722239E-2,{"$f":"((1+C152)^$A152/(1+C$19)^$A$19)^(1/($A152-$A$19))-1","v":3.3233082673979952E-2},3.3291580639533525E-2,3.3337034580049218E-2,3.337067146819761E-2,3.3393412115891641E-2,3.3403147340182127E-2]
[134,{"$f":"'Configuratie en berekeningen'!E141","v":3.3060793918418874E-2},3.3152574845222604E-2,{"$f":"((1+C153)^$A153/(1+C$19)^$A$19)^(1/($A153-$A$19))-1","v":3.3231217258567813E-2},{"$f":"((1+D153)^$A153/(1+D$19)^$A$19)^(1/($A153-$A$19))-1","v":3.3289270093352696E-2},{"$f":"((1+E153)^$A153/(1+E$19)^$A$19)^(1/($A153-$A$19))-1","v":3.3334376254998022E-2},{"$f":"((1+F153)^$A153/(1+F$19)^$A$19)^(1/($A153-$A$19))-1","v":3.3367753569297554E-2},{"$f":"((1+G153)^$A153/(1+G$19)^$A$19)^(1/($A153-$A$19))-1","v":3.3390315982534391E-2}]
[135,{"$f":"'Configuratie en berekeningen'!E142","v":3.3060227131880726E-2},3.3151319722119821E-2,{"$f":"((1+C154)^$A154/(1+C$19)^$A$19)^(1/($A154-$A$19))-1","v":3.3229371083702608E-2},{"$f":"((1+D154)^$A154/(1+D$19)^$A$19)^(1/($A154-$A$19))-1","v":3.3286985383532475E-2},{"$f":"((1+E154)^$A154/(1+E$19)^$A$19)^(1/($A154-$A$19))-1","v":3.3331748919851245E-2},{"$f":"((1+F154)^$A154/(1+F$19)^$A$19)^(1/($A154-$A$19))-1","v":3.3364870506933819E-2}]
[136,{"$f":"'Configuratie en berekeningen'!E143","v":3.3059660345342579E-2},3.3150074722064549E-2,{"$f":"((1+C155)^$A155/(1+C$19)^$A$19)^(1/($A155-$A$19))-1","v":3.3227543724925646E-2},{"$f":"((1+D155)^$A155/(1+D$19)^$A$19)^(1/($A155-$A$19))-1","v":3.328472594008991E-2},{"$f":"((1+E155)^$A155/(1+E$19)^$A$19)^(1/($A155-$A$19))-1","v":3.3329151890917341E-2}]
[137,{"$f":"'Configuratie en berekeningen'!E144","v":3.3059093558804431E-2},3.3148839623374338E-2,{"$f":"((1+C156)^$A156/(1+C$19)^$A$19)^(1/($A156-$A$19))-1","v":3.3225734770171655E-2},{"$f":"((1+D156)^$A156/(1+D$19)^$A$19)^(1/($A156-$A$19))-1","v":3.3282491209686071E-2}]
[138,{"$f":"'Configuratie en berekeningen'!E145","v":3.3058526772266283E-2},3.3147614210792486E-2,{"$f":"((1+C157)^$A157/(1+C$19)^$A$19)^(1/($A157-$A$19))-1","v":3.3223943819321144E-2}]
[139,{"$f":"'Configuratie en berekeningen'!E146","v":3.3057959985728136E-2},3.314639827525756E-2]
[140,{"$f":"'Configuratie en berekeningen'!E147","v":3.3057393199189988E-2}]

{"sheet":"Curves met UFR, zonder VA","index":6,"n_rows":203,"n_cols":45,"rows_kept":203,"cut":false,"hidden":false,"merged":[]}
[]
[null,"Rentetermijnstructuur met UFR, zonder VA"]
[null,null,null,null,null,null,null,null,null,null,null,null,"Input annual rates","Zero","Zero, Bond, Swap"]
[null,null,null,null,null,null,null,null,null,null,null,null,"Coupon frequency",0,"coupons per year (only used for Bond and Swap, set to 0 for Zero instrument)"]
[null,null,null,null,null,null,null,null,null,null,null,null,"CRA applied to input rates",0,"basispoints"]
[null,null,null,null,null,null,null,null,null,null,null,null,"Mininum alpha",0.134742]
[null,null,null,null,null,null,null,null,null,null,null,null,"Bandwith convergence UFR",100,"basispoint intensity"]
[null,null,null,null,null,null,null,null,null,null,null,null,"Convergence at T=",40,"years"]
[]
[]
[]
[]
[]
[]
[]
[]
[]
[]
[null,"Rentes",null,null,null,null,null,null,null,null,null,null,null,null,null,null,null,null,null,null,null,null,null,null,"Discount factors"]
[]
["UFR",{"$f":"'Configuratie en berekeningen'!J8","v":3.3000000000000002E-2},{"$f":"'Configuratie en berekeningen'!J9","v":3.3000000000000002E-2},{"$f":"'Configuratie en berekeningen'!J10","v":3.3000000000000002E-2},{"$f":"'Configuratie en berekeningen'!J11","v":3.3000000000000002E-2},{"$f":"'Configuratie en berekeningen'!J12","v":3.3000000000000002E-2},{"$f":"'Configuratie en berekeningen'!J13","v":3.3000000000000002E-2},{"$f":"'Configuratie en berekeningen'!J14","v":3.3000000000000002E-2},{"$f":"'Configuratie en berekeningen'!J15","v":3.3000000000000002E-2},{"$f":"'Configuratie en berekeningen'!J16","v":3.3000000000000002E-2},{"$f":"'Configuratie en berekeningen'!J17","v":3.3000000000000002E-2},{"$f":"'Configuratie en berekeningen'!J18","v":3.3000000000000002E-2},{"$f":"'Configuratie en berekeningen'!J19","v":3.3000000000000002E-2},{"$f":"'Configuratie en berekeningen'!J20","v":3.3000000000000002E-2},{"$f":"'Configuratie en berekeningen'!J21","v":3.3000000000000002E-2},{"$f":"'Configuratie en berekeningen'!J22","v":3.3000000000000002E-2},{"$f":"'Configuratie en berekeningen'!J23","v":3.3000000000000002E-2},{"$f":"'Configuratie en berekeningen'!J24","v":3.3000000000000002E-2},{"$f":"'Configuratie en berekeningen'!J25","v":3.3000000000000002E-2},{"$f":"'Configuratie en berekeningen'!J26","v":3.3000000000000002E-2},{"$f":"'Configuratie en berekeningen'!J27","v":3.3000000000000002E-2},{"$f":"'Configuratie en berekeningen'!J28","v":3.3000000000000002E-2}]
["LLP",{"$f":"'Configuratie en berekeningen'!$K$8","v":20},{"$f":"'Configuratie en berekeningen'!$K$9","v":20},{"$f":"'Configuratie en berekeningen'!$K$10","v":20},{"$f":"'Configuratie en berekeningen'!$K$11","v":20},{"$f":"'Configuratie en berekeningen'!$K$12","v":20},{"$f":"'Configuratie en berekeningen'!$K$13","v":20},{"$f":"'Configuratie en berekeningen'!$K$14","v":20},{"$f":"'Configuratie en berekeningen'!$K$15","v":20},{"$f":"'Configuratie en berekeningen'!$K$16","v":20},{"$f":"'Configuratie en berekeningen'!$K$17","v":20},{"$f":"'Configuratie en berekeningen'!$K$18","v":20},{"$f":"'Configuratie en berekeningen'!$K$19","v":20},{"$f":"'Configuratie en berekeningen'!$K$20","v":20},{"$f":"'Configuratie en berekeningen'!$K$21","v":20},{"$f":"'Configuratie en berekeningen'!$K$22","v":20},{"$f":"'Configuratie en berekeningen'!$K$23","v":20},{"$f":"'Configuratie en berekeningen'!$K$24","v":20},{"$f":"'Configuratie en berekeningen'!$K$25","v":20},{"$f":"'Configuratie en berekeningen'!$K$26","v":20},{"$f":"'Configuratie en berekeningen'!$K$27","v":20},{"$f":"'Configuratie en berekeningen'!$K$28","v":20}]
[null,1,2,3,4,5,6,7,8,9,10,11,12,13,14,15,16,17,18,19,20,21,null,null,1,2,3,4,5,6,7,8,9,10,11,12,13,14,15,16,17,18,19,20,21]
[0,{"$f":"SmithWilsonBruteForce($N$3,B$154:B$203,$A$154:$A$203,'Kale curves (zonder UFR, VA)'!B$19:B$68,$N$4,$N$5,B$21,$N$6,$N$7,$N$8)","v":0},{"$f":"SmithWilsonBruteForce($N$3,C$154:C$203,$A$154:$A$203,'Kale curves (zonder UFR, VA)'!C$19:C$68,$N$4,$N$5,C$21,$N$6,$N$7,$N$8)","v":0},{"$f":"SmithWilsonBruteForce($N$3,D$154:D$203,$A$154:$A$203,'Kale curves (zonder UFR, VA)'!D$19:D$68,$N$4,$N$5,D$21,$N$6,$N$7,$N$8)","v":0},{"$f":"SmithWilsonBruteForce($N$3,E$154:E$203,$A$154:$A$203,'Kale curves (zonder UFR, VA)'!E$19:E$68,$N$4,$N$5,E$21,$N$6,$N$7,$N$8)","v":0},{"$f":"SmithWilsonBruteForce($N$3,F$154:F$203,$A$154:$A$203,'Kale curves (zonder UFR, VA)'!F$19:F$68,$N$4,$N$5,F$21,$N$6,$N$7,$N$8)","v":0},{"$f":"SmithWilsonBruteForce($N$3,G$154:G$203,$A$154:$A$203,'Kale curves (zonder UFR, VA)'!G$19:G$68,$N$4,$N$5,G$21,$N$6,$N$7,$N$8)","v":0},{"$f":"SmithWilsonBruteForce($N$3,H$154:H$203,$A$154:$A$203,'Kale curves (zonder UFR, VA)'!H$19:H$68,$N$4,$N$5,H$21,$N$6,$N$7,$N$8)","v":0},{"$f":"SmithWilsonBruteForce($N$3,I$154:I$203,$A$154:$A$203,'Kale curves (zonder UFR, VA)'!I$19:I$68,$N$4,$N$5,I$21,$N$6,$N$7,$N$8)","v":0},{"$f":"SmithWilsonBruteForce($N$3,J$154:J$203,$A$154:$A$203,'Kale curves (zonder UFR, VA)'!J$19:J$68,$N$4,$N$5,J$21,$N$6,$N$7,$N$8)","v":0},{"$f":"SmithWilsonBruteForce($N$3,K$154:K$203,$A$154:$A$203,'Kale curves (zonder UFR, VA)'!K$19:K$68,$N$4,$N$5,K$21,$N$6,$N$7,$N$8)","v":0},{"$f":"SmithWilsonBruteForce($N$3,L$154:L$203,$A$154:$A$203,'Kale curves (zonder UFR, VA)'!L$19:L$68,$N$4,$N$5,L$21,$N$6,$N$7,$N$8)","v":0},{"$f":"SmithWilsonBruteForce($N$3,M$154:M$203,$A$154:$A$203,'Kale curves (zonder UFR, VA)'!M$19:M$68,$N$4,$N$5,M$21,$N$6,$N$7,$N$8)","v":0},{"$f":"SmithWilsonBruteForce($N$3,N$154:N$203,$A$154:$A$203,'Kale curves (zonder UFR, VA)'!N$19:N$68,$N$4,$N$5,N$21,$N$6,$N$7,$N$8)","v":0},{"$f":"SmithWilsonBruteForce($N$3,O$154:O$203,$A$154:$A$203,'Kale curves (zonder UFR, VA)'!O$19:O$68,$N$4,$N$5,O$21,$N$6,$N$7,$N$8)","v":0},{"$f":"SmithWilsonBruteForce($N$3,P$154:P$203,$A$154:$A$203,'Kale curves (zonder UFR, VA)'!P$19:P$68,$N$4,$N$5,P$21,$N$6,$N$7,$N$8)","v":0},{"$f":"SmithWilsonBruteForce($N$3,Q$154:Q$203,$A$154:$A$203,'Kale curves (zonder UFR, VA)'!Q$19:Q$68,$N$4,$N$5,Q$21,$N$6,$N$7,$N$8)","v":0},{"$f":"SmithWilsonBruteForce($N$3,R$154:R$203,$A$154:$A$203,'Kale curves (zonder UFR, VA)'!R$19:R$68,$N$4,$N$5,R$21,$N$6,$N$7,$N$8)","v":0},{"$f":"SmithWilsonBruteForce($N$3,S$154:S$203,$A$154:$A$203,'Kale curves (zonder UFR, VA)'!S$19:S$68,$N$4,$N$5,S$21,$N$6,$N$7,$N$8)","v":0},{"$f":"SmithWilsonBruteForce($N$3,T$154:T$203,$A$154:$A$203,'Kale curves (zonder UFR, VA)'!T$19:T$68,$N$4,$N$5,T$21,$N$6,$N$7,$N$8)","v":0},{"$f":"SmithWilsonBruteForce($N$3,U$154:U$203,$A$154:$A$203,'Kale curves (zonder UFR, VA)'!U$19:U$68,$N$4,$N$5,U$21,$N$6,$N$7,$N$8)","v":0},{"$f":"SmithWilsonBruteForce($N$3,V$154:V$203,$A$154:$A$203,'Kale curves (zonder UFR, VA)'!V$19:V$68,$N$4,$N$5,V$21,$N$6,$N$7,$N$8)","v":0},null,0]
[1,2.0759999999982758E-2,2.250074150632448E-2,2.5234230192283089E-2,2.6956227500492647E-2,2.8518455120398908E-2,2.9960837753145717E-2,3.1685164357387795E-2,3.236455654704045E-2,3.3466711274699003E-2,3.4951489876652454E-2,3.5028017491978224E-2,3.5708732132818201E-2,3.7315533833901578E-2,3.6364885000843034E-2,3.5421273691531446E-2,3.5261295911393112E-2,3.523659393935058E-2,3.5184258424897016E-2,3.5103754483849642E-2,3.4994411485564703E-2,3.4862077795816883E-2,null,1,{"$f":"(1+B25)^-$A25","v":0.97966221246915719},{"$f":"(1+C25)^-$A25","v":0.97799440079312128},{"$f":"(1+D25)^-$A25","v":0.97538686336336011},{"$f":"(1+E25)^-$A25","v":0.97375133741960807},{"$f":"(1+F25)^-$A25","v":0.97227229615723265},{"$f":"(1+G25)^-$A25","v":0.9709107019850336},{"$f":"(1+H25)^-$A25","v":0.96928795193335571},{"$f":"(1+I25)^-$A25","v":0.96865007003408699},{"$f":"(1+J25)^-$A25","v":0.96761703990114944},{"$f":"(1+K25)^-$A25","v":0.96622886172102795},{"$f":"(1+L25)^-$A25","v":0.96615742095865575},{"$f":"(1+M25)^-$A25","v":0.96552241858646515},{"$f":"(1+N25)^-$A25","v":0.96402682441669041},{"$f":"(1+O25)^-$A25","v":0.96491111815235464},{"$f":"(1+P25)^-$A25","v":0.96579047138441942},{"$f":"(1+Q25)^-$A25","v":0.96593971391507416},{"$f":"(1+R25)^-$A25","v":0.96596276238143208},{"$f":"(1+S25)^-$A25","v":0.96601159828451011},{"$f":"(1+T25)^-$A25","v":0.96608672866677592},{"$f":"(1+U25)^-$A25","v":0.96618879184542072},{"$f":"(1+V25)^-$A25","v":0.96631234389217291}]
[2,2.1629999999976279E-2,2.3866573626307952E-2,2.6094867613443373E-2,2.7737044474446915E-2,2.9239393766279598E-2,3.0822640505643983E-2,3.2024804545885299E-2,3.2915486906480718E-2,3.4208834119918707E-2,3.498975297700091E-2,3.5368318869457793E-2,3.6511821625209384E-2,3.6840100464557324E-2,3.5892971902367288E-2,3.5341281711552153E-2,3.5248944851685282E-2,3.5210425851404548E-2,3.51440056717649E-2,3.50490815408393E-2,3.4928242525536835E-2,3.4797312256921398E-2,null,2,{"$f":"(1+B26)^-$A26","v":0.95810415846346131},0.95392289097653071,0.94978426270157823,0.94675144871914607,0.94398957758261814,0.94109204583724904,0.93890084252344408,0.93728231346640756,0.9349395110455514,0.93352918509621252,0.93284664981925747,0.93078951109301311,0.9302002010767777,0.93190196364445732,0.93289537163097103,0.93306179434735359,0.93313123197138714,0.93325098484084934,0.93342216918842569,0.93364015609050732,0.93387643325985847]
[3,2.2829999999957273E-2,2.489542404621603E-2,2.6902094904733387E-2,2.8477774898930441E-2,3.0054005719081678E-2,3.1336356463824488E-2,3.2505216453682984E-2,3.3593709138510786E-2,3.4481823179597582E-2,3.5229357221990387E-2,3.6016984046328693E-2,3.6462840435816046E-2,3.6366942315753992E-2,3.5682370425426102E-2,3.5306384611252239E-2,3.522738226030997E-2,3.5174867507516749E-2,3.5094138540774811E-2,3.4986743204762361E-2,3.4863007828930037E-2,3.4735486363953516E-2,null,3,0.93452220989907619,0.92888369088356826,0.92344892595087136,0.9192111136812513,0.9149977243014884,0.9115888761087827,0.90849645400322876,0.9056292228518773,0.90329874674410215,0.90134335661514697,0.89928919349301351,0.89812914791323262,0.898378490679824,0.90016111615963001,0.90114219019352659,0.90134851525570281,0.90148569931201861,0.90169664153190598,0.90197736414938656,0.90230094278427386,0.90263458433975785]
[4,2.3859999999945147E-2,2.5799983581052954E-2,2.7665927959640957E-2,2.9278686231583695E-2,3.0631158165991934E-2,3.1868533114608688E-2,3.3116242197479551E-2,3.3952099780008238E-2,3.4788414093767095E-2,3.5750507710038848E-2,3.6103948334540448E-2,3.6202350564452201E-2,3.6090420062315776E-2,3.5570908311540306E-2,3.5275851713989947E-2,3.5196473931996763E-2,3.5129750552565175E-2,3.5036118476425404E-2,3.4923189242783925E-2,3.4800211571019091E-2,3.4676456461452343E-2,null,4,0.90999225173755249,0.90312787899837266,0.89658644494228346,0.89098025777448209,0.88631260972566395,0.88206892990719932,0.87781549462911834,0.87498039429533725,0.87215519066247871,0.8689191737867844,0.86773414123567871,0.86740457312720876,0.86777946227473002,0.86952211835394166,0.87051380743045803,0.87078083849204158,0.87100537868417016,0.87132059515839622,0.8717009660873678,0.87211541852114671,0.87253273971824563]
[5,2.4789999999930146E-2,2.6630807510215293E-2,2.8468520632506378E-2,2.9895121485888243E-2,3.1197645704365673E-2,3.2484388898932348E-2,3.3498314551929864E-2,3.4303187739301189E-2,3.5293345033394319E-2,3.5873354024098525E-2,3.596737740730882E-2,3.6014071225063615E-2,3.5919598519873475E-2,3.5493566782580199E-2,3.5241429979069538E-2,3.5156058287060032E-2,3.5076210462988922E-2,3.4975397811430886E-2,3.4860913031673935E-2,3.4740039651128596E-2,3.4620085683532809E-2,null,5,0.88476025608217168,0.87685652298056105,0.86905043894931433,0.86304808909224329,0.85761118384980428,0.852280458103711,0.84810795436840269,0.84481318651574511,0.84078099885287461,0.83842977156264098,0.83804936530037177,0.8378605252151119,0.83824264651679714,0.83996845129483477,0.84099183647975906,0.84133868630475572,0.84166324901897926,0.84207324347620538,0.84253913169890471,0.84303135363397363,0.84352017271196966]
[6,2.5649999999914463E-2,2.7471477454222626E-2,2.9116837392198613E-2,3.0489528132053634E-2,3.182233954502145E-2,3.2907892479332679E-2,3.3866389606373115E-2,3.4804637248486259E-2,3.5471858058895744E-2,3.579799359703606E-2,3.58496637244754E-2,3.5884451140917761E-2,3.5797005573318996E-2,3.5428587873143735E-2,3.5200256136434849E-2,3.510705573963957E-2,3.5018925922504218E-2,3.4914796915895829E-2,3.4800649913564463E-2,3.4682463914334827E-2,3.4566243699877486E-2,null,6,0.85902320132120502,0.84992646329922861,0.84180576855140599,0.83510003725977522,0.82864867797040465,0.82343708933493709,0.8188672433241857,0.81442257342209401,0.81127893372438353,0.80974748430022947,0.80950516416495011,0.8093420674271613,0.80975211871193098,0.81148237329473905,0.81255688644022672,0.81299595797031199,0.81341139639570337,0.81390257322969894,0.81444140259571784,0.81499973656985059,0.81554921931205782]
[7,2.6509999999887457E-2,2.8169066286832578E-2,2.9737125206341419E-2,3.1125771539427749E-2,3.2279684946044052E-2,3.330754822264903E-2,3.4358421443529297E-2,3.5027385888505513E-2,3.5464631569401606E-2,3.5721305467744324E-2,3.5762060103354809E-2,3.5784394621220406E-2,3.5697941284208445E-2,3.536655152555257E-2,3.5151938179724507E-2,3.5053546732278562E-2,3.4960761794331052E-2,3.4855442424939875E-2,3.4742637781834063E-2,3.4627399680048354E-2,3.4514806461407588E-2,null,7,0.83264083947187129,0.82328132819861821,0.81454560593741387,0.80689775842468991,0.80060506958867239,0.79504697004845037,0.78940998820064645,0.78584539596921876,0.7835254638259288,0.78216725332841464,0.78195184453882594,0.78183382411419622,0.78229077539740277,0.78404517385749573,0.78518374948178216,0.78570637152982348,0.78619957794624573,0.78675984103056595,0.78736042936699679,0.78797451489762627,0.78857503498494508]
[8,2.7239999999885578E-2,2.8829783942310172E-2,3.0387481352551537E-2,3.1612746571087591E-2,3.2707694206941085E-2,3.3807698299584743E-2,3.4609016792996217E-2,3.5076613668336032E-2,3.5439212428248323E-2,3.5660704117630448E-2,3.5689817260104562E-2,3.5699290134147743E-2,3.5609973913432569E-2,3.5303478863017324E-2,3.5099505459198044E-2,3.4998323787248653E-2,3.490307868880671E-2,3.4797830057439638E-2,3.4686932039951657E-2,3.4574744933357771E-2,3.4465655947272245E-2,null,8,0.80653760746767744,0.79662104179742332,0.78703747364475962,0.77959025725691022,0.77300214312182336,0.7664466057979098,0.76171047439531803,0.75896199540838394,0.75683836237319346,0.75554444066943571,0.75537455112447038,0.75531928149951499,0.75584057915302294,0.75763252966759309,0.75882772692953893,0.75942139540164988,0.75998070937258388,0.76059930679878784,0.76125172137018082,0.76191236033159426,0.76255537389350458]
[9,2.792999999986967E-2,2.9508181427621016E-2,3.0902067322556404E-2,3.20670549697879E-2,3.3218663935817849E-2,3.4091518277536759E-2,3.4699236084123619E-2,3.5097132290504707E-2,3.5416697304589517E-2,3.5607754880276898E-2,3.5624682791046913E-2,3.5620946583881707E-2,3.5526847660321881E-2,3.5240026855137385E-2,3.504530968806141E-2,3.4942874480689667E-2,3.4846572415180743E-2,3.4742178726201667E-2,3.4633510418649704E-2,3.4524393220385141E-2,3.4418679914536066E-2,null,9,0.78041953230682526,0.76971824243893028,0.76040209573442585,0.75271187069312373,0.74519480130101101,0.73955285140453697,0.73565271812470945,0.73311153271717777,0.73107767519427014,0.72986469270606291,0.72975732901397561,0.72978102404954903,0.73037808165018003,0.73220131047666248,0.7334419474443854,0.73409554899243123,0.73471060746067574,0.73537799205763577,0.73607341972347395,0.7367724554174292,0.73745038834555843]
[10,2.862999999983673E-2,3.0058837750980061E-2,3.1381728255700958E-2,3.2590705631569961E-2,3.3532855751359003E-2,3.4224416933591684E-2,3.4755428332312155E-2,3.511107760990706E-2,3.5393451068195247E-2,3.5557343799519803E-2,3.5561638392874961E-2,3.554503467012804E-2,3.5447390541285762E-2,3.5177191575930022E-2,3.4990704453446986E-2,3.488803728750689E-2,3.4791609619992059E-2,3.4688572031077891E-2,3.4582314751317123E-2,3.4476238657014102E-2,3.4373771651739826E-2,null,10,0.75406387636567229,0.743668991979614,0.73418527057170468,0.7256344344050264,0.71904674896467613,0.7142530969716826,0.71059617608622228,0.70815844127717809,0.70622951348454288,0.70511259334578968,0.70508335206034078,0.70519641187735005,0.70586170417249683,0.70770628960847604,0.70898248630262273,0.70968615398104207,0.71034775660242111,0.71105546064180847,0.71178609122595327,0.71251629976156428,0.71322244649563593]
[11,2.9209999999853631E-2,3.0571188395187798E-2,3.191975957893245E-2,3.293324413435017E-2,3.3704387695783655E-2,3.4318635730019809E-2,3.4799161417337077E-2,3.5117730197487873E-2,3.536711166508355E-2,3.5506155485123481E-2,3.549802243848954E-2,3.5471146142564525E-2,3.5371404040388743E-2,3.511555462756033E-2,3.4936501974426326E-2,3.4834299566860905E-2,3.473838021442277E-2,3.4637022436727172E-2,3.453326982699223E-2,3.443017807253268E-2,3.4330829737268864E-2,null,11,0.72854441002753922,0.71802908376390173,0.70777429492273558,0.70017273347160547,0.69444849863003,0.68992543215177959,0.68640944518994396,0.68408926769682787,0.68227896037021762,0.68127188467975008,0.6813307465687809,0.68152529980011711,0.68224784699091701,0.68410508360877431,0.6854081251883688,0.68615310879286473,0.68685309696787777,0.68759361962185528,0.68835254115834565,0.68910753389668766,0.68983596652297063]
[12,2.9749999999846732E-2,3.1131538413104565E-2,3.2289457358837481E-2,3.3140351385984701E-2,3.3834040569920898E-2,3.4395101148527951E-2,3.4831247362192119E-2,3.5116565547478107E-2,3.5336048191425329E-2,3.5452467037115465E-2,3.5434211509970615E-2,3.5399510517964305E-2,3.5298707883762992E-2,3.5055458662927919E-2,3.4883201365361938E-2,3.4781946432451027E-2,3.468697346282501E-2,3.458750323713633E-2,3.4486292694881016E-2,3.4386111962612098E-2,3.4289757803333876E-2,null,12,0.70342596081742703,0.69219929745972508,0.68293928631338641,0.67622015431006111,0.67079538409543737,0.66644227627855079,0.66307948522551763,0.66088956274527444,0.65921028442163832,0.65832143171273494,0.65846072597301541,0.65872559130200015,0.65949565131861887,0.66135792046629116,0.66268013438297158,0.66345868398694596,0.6641898322056905,0.66495653846756397,0.66573764312182182,0.66651177906638004,0.66725726568552646]
[13,3.0329999999799684E-2,3.1533163596694669E-2,3.2530029631577806E-2,3.3303346584234728E-2,3.3941861795111272E-2,3.44557841898947E-2,3.4852206901188953E-2,3.5107168569351588E-2,3.5299581224505827E-2,3.5397071084450227E-2,3.5370929398109929E-2,3.5330242446839133E-2,3.5229135638928488E-2,3.499710178320381E-2,3.4831111434243445E-2,3.4731140798792914E-2,3.4637418838979528E-2,3.4539965654738269E-2,3.444129756476344E-2,3.4343944896083389E-2,3.4250464306164297E-2,null,13,0.67812149521907528,0.66791079809613296,0.65957625525554753,0.65318790239786273,0.64796336221355277,0.64379096847220818,0.64059229072757162,0.63854408817208597,0.63700303505730593,0.63622375774495743,0.63643261841186793,0.6367578363083285,0.63756677586988075,0.63942742944489916,0.64076207515186723,0.64156733650617537,0.64232325476163843,0.64311028467025744,0.6439081842560519,0.64469649138281448,0.6454544228094814]
[14,3.0759895362774348E-2,3.1810400904041858E-2,3.2724880889065444E-2,3.3441315873983246E-2,3.4030554941015367E-2,3.4502054327412379E-2,3.4862363723514145E-2,3.5089660160699587E-2,3.5259068746436029E-2,3.53409637957387E-2,3.5308652023744669E-2,3.5263385165159367E-2,3.5162532090911247E-2,3.4940591371342311E-2,3.4780420747011265E-2,3.4681969016065572E-2,3.4589709268153968E-2,3.4494348509464423E-2,3.4398198508433397E-2,3.4303585651979995E-2,3.4212862302901215E-2,null,14,0.65432697019498398,0.6450618845360121,0.63711089930671139,0.6309551905543842,0.62594012316171599,0.62195791067653383,0.61893309144354758,0.61703303452005653,0.61562094918390575,0.61493956445028053,0.6152083089029291,0.61558501544818123,0.61642519425262887,0.61827845040448526,0.61961962034917517,0.62044554094556781,0.62122058709590688,0.62202277422164898,0.62283272434291148,0.62363082896561373,0.62439715291677766]
[15,3.1069999999901343E-2,3.2040102273234394E-2,3.2892138671764437E-2,3.3557420690763839E-2,3.4102066947183651E-2,3.453487084990492E-2,3.4862344661664935E-2,3.5065849034209728E-2,3.5215907947052205E-2,3.5284837379747414E-2,3.5247692321910717E-2,3.5198936463853858E-2,3.5098751565860731E-2,3.4885976291601173E-2,3.4731239567525884E-2,3.4634468153829312E-2,3.4543814977317844E-2,3.4450583927967626E-2,3.4356910991506728E-2,3.4264947216071207E-2,3.4176869235553298E-2,null,15,0.63194275298415947,0.62309089220622405,0.61542540423764069,0.60951003207334864,0.60471244592658102,0.60092876229524783,0.59808268630524486,0.59632127554130809,0.59502600107142778,0.59443202403264639,0.59475203090626949,0.59517234443234912,0.59603701114864194,0.59787786070033555,0.5992203914582126,0.60006163617768316,0.60085083725122335,0.60166363550637569,0.60248146745107856,0.60328553080841962,0.60405669282232244]
[16,3.1331458152362712E-2,3.2239593531900201E-2,3.3035247350803765E-2,3.3653998839559218E-2,3.4157815934232838E-2,3.4555318252698974E-2,3.4854232066556579E-2,3.5037467987570459E-2,3.5171110849353537E-2,3.5229177185745364E-2,3.5188253201259512E-2,3.5136864824264924E-2,3.5037656788338811E-2,3.483326692103228E-2,3.468362597905128E-2,3.4588642964372918E-2,3.4499692065104171E-2,3.4408600828385705E-2,3.4317352750445895E-2,3.4227946701639089E-2,3.414240672227975E-2,null,16,0.61041860202821474,0.60188259945024669,0.59450807837248987,0.58883955297532187,0.58426638754367755,0.58068488080574765,0.57800702786379821,0.57637197760980519,0.57518255551686226,0.57466657782888775,0.5750301773227342,0.57548709657120312,0.57637029543992291,0.57819441794170801,0.57953381046378094,0.58038568584018801,0.58118466737811014,0.58200408530919556,0.58282614491064422,0.58363280624417713,0.58440569664835529]
[17,3.1560763699268524E-2,3.2412577009811816E-2,3.3156809734830484E-2,3.373279856610667E-2,3.4199229832211797E-2,3.4565742854586468E-2,3.4839972470819935E-2,3.5005808416331385E-2,3.5125419567792138E-2,3.5174324447643013E-2,3.513046172315204E-2,3.5077119769445053E-2,3.4979118053826364E-2,3.4782448024989865E-2,3.463760270271532E-2,3.4544476777722544E-2,3.4457287968496786E-2,3.4368327099547846E-2,3.4279444287510064E-2,3.4192505228849202E-2,3.4109400356151731E-2,null,17,0.58964163902419853,0.58142557187456501,0.57434636460084976,0.56893017628001252,0.56458382240474758,0.56119320917555349,0.55867041372926463,0.55715062268365834,0.55605717296885815,0.55561075368983959,0.55601112901827821,0.55649844165446738,0.55739492862373496,0.55919861706177432,0.56053096511239775,0.56138935133914647,0.56219427396246546,0.5630168157671136,0.56383990852698684,0.56464623399229408,0.56541814030813264]
[18,3.1761735806267177E-2,3.2561903142751314E-2,3.3258813074375171E-2,3.3795503959532347E-2,3.4228851560506035E-2,3.4568304067630562E-2,3.482104811212694E-2,3.4971844770476546E-2,3.507938307089864E-2,3.5120518030895775E-2,3.5074391804024163E-2,3.5019638681868415E-2,3.4923012595581282E-2,3.4733487261552343E-2,3.4593168233098215E-2,3.4501938690787659E-2,3.4416545035849344E-2,3.432969098526395E-2,3.4243109135194683E-2,3.4158547781808712E-2,3.4077779511503925E-2,null,18,0.56960066212886507,0.56170752869550367,0.55492702011449169,0.54976425215213054,0.54563261007291397,0.54241908357217938,0.54003938597951384,0.53862481953910302,0.53761843282255783,0.53723400029560753,0.53766509915645111,0.53817729959254046,0.53908246702420315,0.54086256030569246,0.54218448626006088,0.5430457761561025,0.54385327862551858,0.54467589121272852,0.54549723305157183,0.54630066987183656,0.54706923410459807]
[19,3.1937362210419096E-2,3.2689787250057778E-2,3.3343133469831976E-2,3.3844801050242346E-2,3.4249005609590766E-2,3.4564676736902999E-2,3.4798600844540672E-2,3.4936319642178582E-2,3.5033409627668544E-2,3.5067922917682015E-2,3.5020079670177395E-2,3.4964351391009396E-2,3.4869224076228944E-2,3.4686340927518655E-2,3.4550304387046538E-2,3.4460988418586691E-2,3.4377402906669685E-2,3.4292621969377768E-2,3.4208273977923032E-2,3.4126003054397502E-2,3.4047477157887807E-2,null,19,0.55028364032250343,0.5427155185207756,0.53623282949593776,0.53131048379828294,0.52737904786417833,0.52433001934096612,0.52208254819160416,0.52076413260504784,0.51983677310023824,0.51950753674511252,0.51996399179287756,0.52049620737868496,0.52140601645731499,0.52315983888212603,0.52446843613715399,0.52532948036741267,0.52613662847833509,0.52695665395990876,0.52777382702489484,0.52857216235535964,0.52933534267457782]
[20,3.208999999995199E-2,3.2798293400560397E-2,3.3412560004152603E-2,3.3883139771179183E-2,3.4261523237661962E-2,3.4556173900297082E-2,3.477351881800872E-2,3.4899803259112794E-2,3.4987803447211085E-2,3.501665007253818E-2,3.4967534603040473E-2,3.4911183313201422E-2,3.4817642162610518E-2,3.4640957913764314E-2,3.4508981523574178E-2,3.4421579628441279E-2,3.4339800118471597E-2,3.4257051339017908E-2,3.4174868683670478E-2,3.4094803291468301E-2,3.4018429681607731E-2,null,20,0.53167788561548723,0.52443270476847093,0.51823326626404531,0.51353605318485318,0.50979155184876124,0.50689553335887749,0.5047703995331716,0.50353992666970382,0.50268434491159375,0.50240421592600815,0.50288127333980781,0.50342919807531983,0.50434011813981916,0.50606542514878616,0.50735820647620944,0.50821626439270629,0.50902050511431096,0.50983563817703204,0.51064655119415625,0.51143787521986961,0.51219391158480232]
[21,3.2217766941231574E-2,3.2886531296283383E-2,3.3466111604268489E-2,3.3909195430231076E-2,3.426480847748814E-2,3.4540994275464199E-2,3.474385656503487E-2,3.4860279079809819E-2,3.4940506188784415E-2,3.4964646402641408E-2,3.4914771823547186E-2,3.4858221954351398E-2,3.4766455897746518E-2,3.4595696703937362E-2,3.446768844642456E-2,3.4382292592744168E-2,3.4302402318248326E-2,3.422172965135073E-2,3.4141727068389693E-2,3.4063862708682668E-2,3.3989627604944062E-2,null,21,0.51380942805536989,0.50686826312317079,0.50093220668502647,0.4964432890658062,0.49287103515393088,0.49011523811210744,0.48810135272185895,0.48694950238641255,0.48615741635499399,0.48591934315264912,0.48641134581000872,0.48696983025191704,0.48787753847245674,0.48957133213683784,0.49084511038292411,0.49169679352753504,0.49249496929339109,0.49330233936838541,0.4941043727179914,0.49488628205897373,0.49563295373749811]
[22,3.2323882562276252E-2,3.2957389583725405E-2,3.3506073640354073E-2,3.3924758682776446E-2,3.4260230736800512E-2,3.4520153347902038E-2,3.4710338192531109E-2,3.4818251338729844E-2,3.4891837211415089E-2,3.4912095160940959E-2,3.4861899644133887E-2,3.4805512997004184E-2,3.4715680669759053E-2,3.4550605720198968E-2,3.4426482040217588E-2,3.4343167788881024E-2,3.4265234978775538E-2,3.4186672935673679E-2,3.4108859900116695E-2,3.4033189626044402E-2,3.3961078247832122E-2,null,22,0.49664784504530779,0.48998981095449823,0.48429866235092967,0.48000241849638153,0.4765888061572035,0.47396140545614224,0.47204853822155945,0.47096674527281907,0.47023055818695331,0.47002809955768993,0.47052992217986644,0.47109430783109524,0.47199492061268911,0.47365457333073063,0.47490652250901549,0.47574879537351655,0.47653807779636576,0.47733511862121925,0.47812593441565254,0.47889628701320835,0.47963161622828399]
[23,3.2412353002500227E-2,3.3014239847659166E-2,3.3535250291691021E-2,3.3932160786097176E-2,3.4249713466595333E-2,3.449522652076209E-2,3.4674246576807066E-2,3.4774773039395246E-2,3.484265191683833E-2,3.4859697555122748E-2,3.4809518504025139E-2,3.4753569008547647E-2,3.4665770413007113E-2,3.4506134915879283E-2,3.4385790197983379E-2,3.4304592566954062E-2,3.4228647971418447E-2,3.4152199948935147E-2,3.4076559923016614E-2,3.4003054630533658E-2,3.3933032660598661E-2,null,23,0.48014960590003769,0.47375620516362704,0.46829362939303626,0.46417631745247706,0.46090942320472506,0.45840010255927094,0.45657937802350124,0.45556028303978713,0.45487349820502648,0.45470120363952016,0.45520860034128058,0.45577504288487686,0.45666541448168563,0.45828894219560118,0.45951685521080937,0.46034727801535491,0.46112539440377054,0.46191005502931243,0.46268779372686974,0.46344489209082296,0.46416731484422452]
[24,3.248638031483142E-2,3.3059763700959977E-2,3.3555858321502541E-2,3.3933232034704996E-2,3.4234754370206177E-2,3.4467428318651905E-2,3.4636558949577179E-2,3.4730635962938683E-2,3.4793583159336228E-2,3.4807963336377146E-2,3.4758059240957762E-2,3.4702752335212139E-2,3.4617043044212759E-2,3.4462603039419282E-2,3.4345917155005345E-2,3.4266840985566205E-2,3.4192887490299251E-2,3.4118534098651621E-2,3.4045031797683256E-2,3.3973646650473421E-2,3.3905666037352233E-2,null,24,0.4642757962317316,0.45813057777372546,0.45288207220561427,0.44893155750828501,0.44580089437554599,0.44340062396454111,0.44166431992271366,0.44070158716207075,0.44005864080708545,0.43991189798645292,0.44042136398731901,0.44098670482631463,0.44186430926151687,0.44345026473274196,0.44465245221539557,0.44546908508025984,0.44623422903454252,0.4470048906394386,0.44776809360867242,0.4485106126984163,0.44921891156820998]
[25,3.2548538321945708E-2,3.3096105033628032E-2,3.3569658039296124E-2,3.3929414667155378E-2,3.4216522523587534E-2,3.4437695816161407E-2,3.4598018590218604E-2,3.4686432815847823E-2,3.4745095031271767E-2,3.4757257771354411E-2,3.4707825127748837E-2,3.4653312730856589E-2,3.4569714749407288E-2,3.4420230485918024E-2,3.4307074388321146E-2,3.4230102224023229E-2,3.4158122153723935E-2,3.408582751544631E-2,3.4014414380460378E-2,3.3945093631824852E-2,3.387909693450708E-2,null,25,0.44899147379769033,0.44307974346567824,0.43803237751110718,0.43423790134937057,0.43123421043130145,0.42893505845919588,0.4272764351998849,0.42636459847478902,0.4257607182561059,0.42563562402354843,0.42614427874445643,0.42670593642055926,0.42756876773062313,0.42911615049211749,0.4302913553978604,0.43109267740152274,0.43184343329847619,0.43259883893511131,0.43334638306328144,0.4340733093905999,0.43476655678777182]
[26,3.2600906406087704E-2,3.3124985685580421E-2,3.3578052648941759E-2,3.3921848381237796E-2,3.419593180631364E-2,3.4406751597863661E-2,3.4559188819664577E-2,3.4642603943712214E-2,3.4697523204871183E-2,3.4707836801793013E-2,3.4659023292885838E-2,3.4605415441934628E-2,3.4523925550937529E-2,3.4379163810597468E-2,3.4269403676350674E-2,3.4194501773618491E-2,3.4124462460448424E-2,3.4054178988771167E-2,3.3984797317622606E-2,3.3917477934919171E-2,3.3853401579678088E-2,null,26,0.434265121403621,0.42857369623764024,0.42371589040767943,0.42006787390318207,0.41718294763239039,0.41497792059788247,0.4133910762197916,0.41252540839187218,0.41195649361690889,0.41184974481571202,0.41235523306526817,0.41291111149231291,0.41375759946958263,0.41526577987951324,0.41641310541973803,0.41719794624697171,0.41793322547104106,0.41867242074768735,0.41940346323495609,0.42011404345699976,0.42079155372721305]
[27,3.264517223969543E-2,3.3147794134415376E-2,3.3582164291710681E-2,3.391143567385102E-2,3.41736968997568E-2,3.437515166986671E-2,3.4520493995385815E-2,3.4599472720070468E-2,3.465110541961347E-2,3.4659873554066634E-2,3.4611788372767904E-2,3.4559162313801517E-2,3.4479758501545499E-2,3.4339494147579641E-2,3.4232994428437857E-2,3.4160117353057906E-2,3.4091975392450236E-2,3.4023647421715042E-2,3.3956233489394361E-2,3.3890847877798169E-2,3.3828624597718626E-2,null,27,0.42006818198616686,0.41458518153249591,0.40990651984207532,0.40639639750944478,0.40362292972822372,0.40150583698954317,0.39998558478534924,0.39916198724682767,0.39862450747322919,0.39853330859219638,0.39903371705429869,0.3995821279743354,0.40041106701710405,0.40187972223507318,0.4029985710803406,0.40376605331767956,0.40448504042600614,0.40520732343750498,0.40592125520478289,0.40661495274228782,0.40727624174736998]
[28,3.268271132563938E-2,3.3165654051552806E-2,3.3582892718893032E-2,3.3898892157212757E-2,3.415037631676876E-2,3.4343322188545189E-2,3.4482250857450492E-2,3.4557272538106254E-2,3.4606004671329904E-2,3.4613478449475599E-2,3.4566200421666471E-2,3.451460774271542E-2,3.4437254174180865E-2,3.4301271128838628E-2,3.419789678396401E-2,3.4126990930263501E-2,3.4060695437142519E-2,3.3994261981129759E-2,3.392874839395188E-2,3.386522643887524E-2,3.3804787095906841E-2,null,28,0.40637466328681432,0.40108933227792887,0.39658040288218216,0.39320048133362351,0.39053194007342179,0.38849727897868674,0.38703904349493051,0.38625395256267264,0.3857448617465975,0.38566684678497232,0.38616063344897988,0.38670023091805461,0.38751071996560715,0.38893978000831131,0.39002980302319334,0.39077929345841139,0.39148140074652232,0.39218627982575621,0.39288268620627975,0.39355914464783509,0.39420389567192687]
[29,3.2714649046062139E-2,3.3179477687901304E-2,3.358096088784146E-2,3.388478557686514E-2,3.412640568955605E-2,3.4311587798897314E-2,3.4444692644247876E-2,3.4516167517731011E-2,3.4562326946329103E-2,3.4568714537535294E-2,3.4522298538999463E-2,3.4471770787212419E-2,3.4396421648692055E-2,3.4264513451290224E-2,3.4164131560322719E-2,3.4095137845084222E-2,3.4030632944686001E-2,3.3966029788983443E-2,3.3902347255263976E-2,3.384061784698611E-2,3.3781892785414991E-2,null,29,0.39316080146539756,0.38806335906087991,0.38371561879771099,0.38045895673286401,0.37788947621306085,0.37593233463833176,0.37453206354221458,0.37378237116359631,0.37329903496480965,0.37323220132725726,0.37371813586514818,0.37424786091361745,0.37503925275527705,0.37642885507255303,0.37748990810883171,0.37822097664420407,0.37890580581526573,0.37959296389766639,0.38027159148725065,0.38093060373131515,0.38155863873463119]
[30,3.2741909396547753E-2,3.3190007723079118E-2,3.3576950624919943E-2,3.3869566257286987E-2,3.4102123675246121E-2,3.4280193623206889E-2,3.4407987744207835E-2,3.4476268469914917E-2,3.4520134845007489E-2,3.4525609234730359E-2,3.4480091277282243E-2,3.4430644395430532E-2,3.4357246869694436E-2,3.4229216927603279E-2,3.4131697835255048E-2,3.4064553756523841E-2,3.4001780486438093E-2,3.3938941770111475E-2,3.3877020424698756E-2,3.3817012588106543E-2,3.3759932631256317E-2,null,30,0.38040477463956274,0.37548628616192131,0.37129194533993659,0.36815225155862197,0.36567654045703779,0.36379251408065072,0.36244660340610318,0.36172958997624999,0.36126972419614312,0.36121237676545237,0.36168949016786101,0.36220852406581977,0.36298038257658949,0.36433083382902104,0.36536294133118857,0.36607532633452472,0.36674263617495656,0.36741190075431551,0.36807262946861496,0.36871411171651952,0.36932536711014907]
[31,3.2765253500010694E-2,3.319785026895361E-2,3.3571330681455791E-2,3.3853590990888804E-2,3.4077792222858783E-2,3.4249322407069682E-2,3.4372254187007734E-2,3.4437645255291915E-2,3.447945808565267E-2,3.4484163339440821E-2,3.4439564613339746E-2,3.439120245198235E-2,3.4319699018428684E-2,3.41953606350891E-2,3.410057874101402E-2,3.4035219946308093E-2,3.3974117703913453E-2,3.3912977108248255E-2,3.3852747494967472E-2,3.3794391217392583E-2,3.3738888392075062E-2,null,31,0.36808645872244594,0.3633387264470791,0.35929065078112882,0.35626219745842197,0.3538754609595437,0.35206058301228038,0.35076581373133525,0.35007909115997443,0.34964070960026888,0.34959141342065497,0.35005895546356086,0.35056668026370996,0.35131874434214083,0.35263048826475674,0.35363381263377852,0.35432739173239081,0.35497707086563896,0.35562838867697999,0.35627120821073249,0.35689517806052345,0.35748968430313111]
[32,3.278531021560549E-2,3.3203501039521521E-2,3.3564478920854901E-2,3.3837141875613597E-2,3.4053612502795039E-2,3.4219107946427796E-2,3.4337570945338403E-2,3.440033638341955E-2,3.4440301625282776E-2,3.4444357970103257E-2,3.4400688063972895E-2,3.4353405166588802E-2,3.4283735375497448E-2,3.4162911618490277E-2,3.4070745898772792E-2,3.4007107373215328E-2,3.3947615011086008E-2,3.3888106645290961E-2,3.3829500436600712E-2,3.377272726451741E-2,3.3718735317501469E-2,null,32,0.35618721910343371,0.35160268919105758,0.34769431626397124,0.34477186515165337,0.34246973866217417,0.34072042024066629,0.33947390442220171,0.33881536787495259,0.33839673816833293,0.33835427841357307,0.33881168174753185,0.33930764698230259,0.34003980015482255,0.34131339056334253,0.34228820638710861,0.3429629718632029,0.34359501579654445,0.3442284314949513,0.34485342150217629,0.34545997950882995,0.34603784393382037]
[33,3.2802600590795539E-2,3.3207366205233901E-2,3.3556699947366653E-2,3.3820441235133281E-2,3.4029737478256994E-2,3.4189645640690269E-2,3.4303986776887063E-2,3.4364356488085779E-2,3.4402651950139251E-2,3.4406159911453127E-2,3.4363419381293614E-2,3.4317203195245449E-2,3.4249305031156529E-2,3.4131828487633742E-2,3.4042162813720411E-2,3.3980179773099417E-2,3.392223642124792E-2,3.3864295474102191E-2,3.3807245988709322E-2,3.3751989447427633E-2,3.3699444203037388E-2,null,33,0.34468973270897757,0.34026141581643693,0.33648668384855202,0.33366542342621652,0.33144391617211738,0.32975689549708875,0.32855603058241678,0.32792381756381156,0.32752342375083437,0.32748677185552261,0.32793362169534035,0.32841751627817639,0.32912976109376268,0.33036583923533364,0.33131251163167535,0.33196854970728196,0.33258304150749363,0.33319867972451833,0.33380599314369963,0.33439530730893091,0.33495669968182751]
[34,3.2817557487508253E-2,3.3209779086679214E-2,3.3548239172639605E-2,3.3803663482885771E-2,3.4006281861763021E-2,3.416100081255391E-2,3.4271527159078774E-2,3.4329702159341391E-2,3.4366481953451045E-2,3.436952573486729E-2,3.4327708156018488E-2,3.4282540788470595E-2,3.4216351711879645E-2,3.4102064166874779E-2,3.4014787472298913E-2,3.3954396026751432E-2,3.3897941702639711E-2,3.3841504913272757E-2,3.3785947478452316E-2,3.3732143356386413E-2,3.3680982952914107E-2,null,34,0.33357783581976913,0.32929923930393867,0.3256525263530432,0.32292801825608669,0.32078346525008633,0.31915576449996819,0.31799819445101796,0.31739065010159656,0.31700716091685122,0.31697544592184174,0.31741145447208935,0.31788308299910528,0.31857551947315621,0.3197747950466503,0.32069376148104733,0.32133123489040222,0.32192832892651407,0.32252637918103932,0.32311622821802416,0.32368852095576228,0.32423366133866388]
[35,3.2830541403419122E-2,3.3211013572927106E-2,3.3539294082964188E-2,3.3786944588926726E-2,3.3983330024808911E-2,3.4133215283649987E-2,3.4240199737974208E-2,3.4296356498430436E-2,3.4331754718215146E-2,3.4334404970977506E-2,3.4293498578015447E-2,3.424935819011643E-2,3.4184815926955103E-2,3.407356799121386E-2,3.3988574324722576E-2,3.3929711964041154E-2,3.3874688017636601E-2,3.3819694006612666E-2,3.3765566201337194E-2,3.3713152730909801E-2,3.3663317764860423E-2,null,35,0.32283639373090267,0.31870146368070817,0.31517753568354739,0.31254566899237002,0.31047469009296225,0.30890357865402351,0.30778716092124569,0.30720280857471438,0.30683505056481525,0.30680753487399437,0.30723251975897781,0.30769178253108048,0.30836459001160677,0.30952782528661238,0.31041958032509376,0.31103871366511837,0.31161862194308815,0.31219932596421363,0.31277197032074827,0.31332750751424898,0.31385665607946706]
[36,3.2841853277222111E-2,3.3211294947885106E-2,3.3530023295498257E-2,3.3770389657216349E-2,3.3960942297772023E-2,3.4106312581925424E-2,3.4209998614760817E-2,3.42642926763288E-2,3.4298426448249986E-2,3.4300742547235474E-2,3.426073154453646E-2,3.4217593457296358E-2,3.4154636590524534E-2,3.4046287297770483E-2,3.3963475792511133E-2,3.3906081732796078E-2,3.385243116349379E-2,3.3798820656179895E-2,3.3746062463029913E-2,3.369498042299468E-2,3.3646414023563942E-2,null,36,0.31245118894242641,0.30845426054525699,0.30504822685576161,0.30250517904816876,0.30050464402799765,0.29898760718038347,0.29791038459946778,0.29734790079257506,0.29699483552365014,0.29697089439286151,0.29738476047228779,0.2978316366626122,0.29848505858850299,0.29961305514024922,0.30047813768122167,0.30107920510934361,0.30164218579666657,0.30220582688439124,0.30276156388371073,0.30330064570956816,0.30381409419973582]
[37,3.2851744891307488E-2,3.3210808655551816E-2,3.352055385999364E-2,3.3754079006827142E-2,3.3939159998446433E-2,3.4080302071398449E-2,3.4180907719552511E-2,3.4233476712301814E-2,3.4266448734774135E-2,3.426848065392174E-2,3.4229346262367955E-2,3.4187183832261381E-2,3.4125752238204132E-2,3.4020168626649028E-2,3.3939443408212533E-2,3.3883458830915369E-2,3.3831126505077025E-2,3.3778842472199422E-2,3.3727396359780837E-2,3.3677589118163098E-2,3.3630236969275584E-2,null,37,0.30240882507624017,0.29854458005426882,0.2952518553403421,0.29279405889309229,0.29086105760079806,0.28939576981054549,0.2883559466740615,0.28781413992623328,0.28747484465279866,0.28745394883622088,0.2878566728832096,0.28829120636336192,0.28892553746620153,0.29001912511817807,0.29085810771727205,0.29144142263219958,0.29198777043258434,0.29253466453976068,0.29307382085442113,0.29359677409877571,0.29409483867742847]
[38,3.2860427351726562E-2,3.3209707419025181E-2,3.3510987162363115E-2,3.3738073063810381E-2,3.3918009452650333E-2,3.4055182230207981E-2,3.4152903466297957E-2,3.4203869640189177E-2,3.4235770303381541E-2,3.4237560164869008E-2,3.4199281456721575E-2,3.4158066767053574E-2,3.40981019300306E-2,3.3995158619058996E-2,3.391642866989808E-2,3.3861796877569184E-2,3.3810729669203399E-2,3.3759717404026723E-2,3.3709528356790086E-2,3.3660941869339212E-2,3.361475219266552E-2,null,38,0.29269664414537383,0.28896007419153186,0.2857763457268348,0.28340045950815174,0.28153227634851352,0.28011657846323407,0.27911250012920558,0.27859029291392623,0.27826394417771305,0.27824564524558515,0.27863726304428843,0.27905955045784148,0.27967512602795197,0.28073515365701046,0.28154863361861743,0.28211454001591563,0.28264457810643445,0.28317506637432621,0.28369799110697241,0.28420516274163521,0.28468817801773699]
[39,3.2868078022929792E-2,3.3208117039242646E-2,3.3501403709705224E-2,3.3722416304107217E-2,3.3897505213046797E-2,3.4030943253458457E-2,3.4125956839935689E-2,3.4175429192976114E-2,3.4206338353976573E-2,3.4207921710850853E-2,3.41704762742705E-2,3.4130180678944022E-2,3.4071625910660597E-2,3.3971204680659062E-2,3.3894383674324624E-2,3.3841050182150223E-2,3.3791197054393596E-2,3.3741404201716785E-2,3.3692419710334987E-2,3.364500248605018E-2,3.3599925995395408E-2,null,39,0.28330265516580488,0.27968903047326388,0.27661023000842266,0.27431311473495684,0.27250720681121726,0.27113908656504937,0.27016922206257804,0.26966563548149047,0.26935149519058227,0.26933541310693687,0.26971600859527345,0.27012618933043753,0.27072337622630299,0.27175070413835678,0.27253929609790223,0.27308816133974523,0.273602234627354,0.27411667714835752,0.2746237360545809,0.27511548787661189,0.27558380191993348]
[40,3.2874846215763753E-2,3.320614113088638E-2,3.3491867017305665E-2,3.3707140436788796E-2,3.3877652638226508E-2,3.4007569119356873E-2,3.4100035034167142E-2,3.4148111107706214E-2,3.4178099581482879E-2,3.4179506481885058E-2,3.4142870948279835E-2,3.4103465497218544E-2,3.4046266081836585E-2,3.3948255462887822E-2,3.387326157837478E-2,3.3821174156499989E-2,3.3772486197776841E-2,3.3723862746619426E-2,3.367603276917519E-2,3.3629735811873784E-2,3.3585725646983589E-2,null,40,0.27421547240888694,0.27072031452691603,0.26774259404957257,0.26552129119290474,0.26377526955594882,0.26245284488066656,0.26151577205567234,0.26102991280160454,0.26072731640937263,0.26071312902185229,0.26108282516257958,0.26148107292960199,0.2620602620593484,0.2630557556888708,0.2638200854524832,0.26435229423115875,0.26485076372292887,0.26534953433908265,0.26584110501403019,0.26631780918264714,0.26677177937517477]
[41,3.2880857865861035E-2,3.3203864999700183E-2,3.3482426772297069E-2,3.3692266977333407E-2,3.3858449959999648E-2,3.398503922777496E-2,3.4075102732912921E-2,3.4121870130818133E-2,3.415100094605994E-2,3.4152256818013482E-2,3.4116407278823591E-2,3.4077863048465051E-2,3.4021966329915054E-2,3.39262612033564E-2,3.3853016927404944E-2,3.3802125605834066E-2,3.3754556031603267E-2,3.3707054280880167E-2,3.3660331182835179E-2,3.3615107915716314E-2,3.3572119561719793E-2,null,41,0.26542426185315671,0.26204332021978388,0.25916303101887123,0.25701474464087626,0.25532635817512639,0.25404786289156667,0.25314225570596527,0.25267330496466844,0.25238165142663216,0.25236908557394344,0.25272803668615984,0.25311455245041803,0.25367615249587522,0.25464067722060985,0.2553813766648636,0.25589732597369286,0.25638056408684218,0.25686404606217883,0.25734051394018309,0.25780254927054957,0.25824253886299775]
[42,3.2886219391667026E-2,3.3201358823983229E-2,3.3473121412959772E-2,3.3677809329830222E-2,3.3839889940297629E-2,3.3963329697538347E-2,3.4051123108880921E-2,3.409666078692819E-2,3.4124990246793274E-2,3.4126116635192494E-2,3.4091028969516213E-2,3.4053317317159326E-2,3.3998672741813118E-2,3.3905173957364365E-2,3.3833605880656759E-2,3.3783862926011432E-2,3.3737367054671452E-2,3.3690941559118226E-2,3.3645280038264058E-2,3.3601086216846321E-2,3.3559077414129446E-2,null,42,0.25691869461476813,0.25364792621615917,0.25086160075526254,0.24878368183161456,0.24715080337965001,0.24591457490902005,0.24503919256599677,0.24458639656030373,0.24430513979645993,0.24429396378445239,0.24464234910887409,0.24501735516904999,0.2455617873583594,0.24649620425284532,0.24721390711784302,0.24771400207184432,0.24818238873656673,0.24865097116644014,0.24911272620617245,0.24956047510127094,0.24998685036401735]
[43,3.2891020883745181E-2,3.3198680270481784E-2,3.3463980234642143E-2,3.3663774472878938E-2,3.3821961198341022E-2,3.3942414390929931E-2,3.402805859735869E-2,3.407243796081727E-2,3.4100016541330103E-2,3.4101031722908015E-2,3.4066681853211822E-2,3.402977461032175E-2,3.3976333735424413E-2,3.3884947745595584E-2,3.3814986357321608E-2,3.3766346228744082E-2,3.3720881438435768E-2,3.3675488940452247E-2,3.3630845941650778E-2,3.3587639559224947E-2,3.3546570207416915E-2,null,43,0.24868890632248675,0.24552445801314787,0.24282879419369502,0.24081872705220253,0.23923934144114575,0.23804381023101406,0.23719748784938985,0.23676014977500626,0.23648879140715534,0.23647880864277274,0.23681682694915254,0.23718056198233403,0.23770825574702756,0.2386134181259397,0.23930875656067369,0.23979340693377416,0.24024732636450993,0.24070140120616743,0.24114883515353303,0.24158268107374625,0.24199580894858738]
[44,3.2895338747349179E-2,3.3195876649258604E-2,3.345502511126619E-2,3.3650164324980913E-2,3.380464927243243E-2,3.3922265719904088E-2,3.4005871491340267E-2,3.4049157331987878E-2,3.4076030444962102E-2,3.4076949942291712E-2,3.404331403213412E-2,3.400718364876365E-2,3.3954900124869791E-2,3.3865538637622317E-2,3.379711812172892E-2,3.3749537411655872E-2,3.3705063083247389E-2,3.3660662435073485E-2,3.3616997058497633E-2,3.357473824727486E-2,3.3534570306152256E-2,null,44,0.2407254615610771,0.23766365465023251,0.23505550210932999,0.2331108926670406,0.23158308635137048,0.23042676675802456,0.22960840736117671,0.22918588050186908,0.22892396367087547,0.22891500727574254,0.22924287235028232,0.22959558727338009,0.23010697665117721,0.23098372727649982,0.2316573290173578,0.23212694638346457,0.23256678441349954,0.23300674404006719,0.23344024817773526,0.23386057356323489,0.23426081973691468]
[45,3.2899237896746092E-2,3.3192986691821247E-2,3.3446271903954106E-2,3.3636976850239586E-2,3.3787937467880891E-2,3.3902855277506472E-2,3.3984524394674143E-2,3.4026775693005051E-2,3.405298433562054E-2,3.4053821347403535E-2,3.4020875952430085E-2,3.3985495602566251E-2,3.3934325136504739E-2,3.384690478658392E-2,3.3779962822137799E-2,3.3733400186430451E-2,3.3689877636818633E-2,3.3646429716468917E-2,3.3603703122194295E-2,3.3562354052568466E-2,3.3523051442010621E-2,null,45,0.23301932264058975,0.23005663941035104,0.2275329875523894,0.22565155308375526,0.22417350516291726,0.22305498757129896,0.2222635551920896,0.22185523703469984,0.22160234113261809,0.22159426938541252,0.22191220626113817,0.22225416078117566,0.22274968144725077,0.22359885029287049,0.22425133637454325,0.22470633175723134,0.22513247364780853,0.22555870884294618,0.22597867214950762,0.22638585672371819,0.22677358405630157]
[46,3.2902773581074296E-2,3.3190042020648569E-2,3.3437731614481381E-2,3.3624206953309699E-2,3.3771807532388065E-2,3.3884154329285376E-2,3.3963980562459417E-2,3.4005251176414841E-2,3.4030832485716811E-2,3.4031598247525219E-2,3.3999320428863999E-2,3.3964664084610963E-2,3.3914564388144663E-2,3.382900642708897E-2,3.376348399448692E-2,3.3717900075415086E-2,3.3675292484376396E-2,3.3632760107970672E-2,3.3590935419096191E-2,3.3550460198847443E-2,3.3511988699433282E-2,null,46,0.22556182206213662,0.22269489393414046,0.22025286144123699,0.21843242165050211,0.2170023960566618,0.21592034005266422,0.21515485378631044,0.21476018098352101,0.21451591716092214,0.2145086096409666,0.21481685145506996,0.2151483112006603,0.21562839802819647,0.21645080051202015,0.21708278342571574,0.21752356537605058,0.21793639402482459,0.21834929234819506,0.21875610000185458,0.21915051939537467,0.21952608664699702]
[47,3.2905992906562931E-2,3.3187068365375216E-2,3.342941133024202E-2,3.3611847203071754E-2,3.3756240192136744E-2,3.3866134192578778E-2,3.3944204152036583E-2,3.3984543409948609E-2,3.4009531137400018E-2,3.4010235224539054E-2,3.3978602631985044E-2,3.3944645112981675E-2,3.389557584123426E-2,3.3811805845770815E-2,3.3747647039998885E-2,3.3703004384805002E-2,3.366127671789787E-2,3.3619624550415894E-2,3.3578666756356013E-2,3.3539031331157654E-2,3.3501358486579758E-2,null,47,0.21834463814656915,0.21557023525687757,0.21320706086204536,0.21144553006776196,0.21006186875030858,0.20901499718850167,0.20827452605106919,0.20789297010328228,0.20765697743355299,0.20765033175763889,0.20794911713781913,0.20827035128071145,0.20873543634695832,0.20953187195462755,0.2101439541816717,0.21057092721610179,0.21097082170152232,0.21137076616597639,0.21176479833776607,0.21214682298147597,0.2125105837897483]
[48,3.2908936107964859E-2,3.3184086570572813E-2,3.342131499858092E-2,3.3599888416969481E-2,3.3741215575375572E-2,3.3848766526060725E-2,3.3925160403230459E-2,3.3964613615707906E-2,3.3989038534353977E-2,3.3989689116467048E-2,3.395868004746383E-2,3.3925397050698525E-2,3.3877319733556677E-2,3.3795267331878875E-2,3.3732419183604812E-2,3.3688682160747385E-2,3.3647801090205931E-2,3.3606995556205277E-2,3.3566871417378241E-2,3.352804347360272E-2,3.3491138495752359E-2,null,48,0.21135977337337217,0.20867479535204678,0.20638782969196365,0.20468320996069628,0.20334432692063564,0.20233142075455943,0.2016150792265107,0.20124614277392888,0.20101808497448115,0.20101201403563917,0.20130158493248984,0.20161286422222335,0.20206337518921286,0.20283462642529371,0.20342739928540249,0.20384096262626358,0.20422829703419906,0.20461566504474418,0.20499729593482119,0.20536729017893415,0.2057195922466139]
[49,3.2911637612387912E-2,3.3181113431772324E-2,3.341344406128588E-2,3.3588320131879179E-2,3.3726713545134679E-2,3.3832023547549772E-2,3.3906815762771769E-2,3.3945424665819957E-2,3.3969314920515359E-2,3.3969918975895075E-2,3.3939512415181783E-2,3.3906880529384065E-2,3.3859758498386405E-2,3.377935711365998E-2,3.371776941863236E-2,3.3674904133326189E-2,3.363483795842348E-2,3.3594847153872731E-2,3.3555525108685202E-2,3.3517473979220336E-2,3.3481307656537673E-2,null,49,0.20459953504581674,0.20200100282845912,0.19978770122044778,0.19813807631171543,0.19684245236143447,0.19586234612384429,0.19516929027659874,0.19481250390924998,0.19459206653501679,0.19458649616591239,0.19486709606133473,0.19516869120784863,0.19560505001793324,0.19635188163047948,0.1969259243933941,0.19732647096341466,0.19770161345073844,0.1980767759631587,0.19844637304088236,0.19880469446335769,0.19914587892226351]
[50,3.291412693092588E-2,3.3178162389680077E-2,3.3405797974316309E-2,3.3577130982533454E-2,3.3712713958573559E-2,3.38158781945741E-2,3.388913796485804E-2,3.3926941104508668E-2,3.3950322513933484E-2,3.3950886010129411E-2,3.3921061654012208E-2,3.3889058361994184E-2,3.3842856674667576E-2,3.3764043285016809E-2,3.370366844199757E-2,3.3661642652271562E-2,3.3622361220280172E-2,3.3583154826359207E-2,3.3544604901124764E-2,3.3507301474691831E-2,3.3471846084183188E-2,null,50,0.19805651795638737,0.19554156648112744,0.1933994824926285,0.19180301249798509,0.1905491906408826,0.18960076847852633,0.18893019259755575,0.18858511210526194,0.18837200014273212,0.18836686713836734,0.18863873957072727,0.1889309199199232,0.18935354175554889,0.19007670018837011,0.19063257940556977,0.19102049503537011,0.19138380709218719,0.19174712795567525,0.19210505137036388,0.19245205024381482,0.19278245116617804]
[51,3.291642940716577E-2,3.3175244107127355E-2,3.3398374633253791E-2,3.3566309004591899E-2,3.3699196867132519E-2,3.3800304239362644E-2,3.3872096077425917E-2,3.3909129144502614E-2,3.3932025462256599E-2,3.3932553508456254E-2,3.3903291776919087E-2,3.3871895448590816E-2,3.3826580811746609E-2,3.3749295725913342E-2,3.3690088583191669E-2,3.3648871617383502E-2,3.3610346245967593E-2,3.3571895445448696E-2,3.353408916768319E-2,3.3497505801974192E-2,3.3462735025140189E-2,null,51,0.19172358877570916,0.1892894604412918,0.18721624014001734,0.18567115671699652,0.18445773805751442,0.18353993023960249,0.18289106387075973,0.18255726786690321,0.18235120366808438,0.1823464541124698,0.18260984146841919,0.1828928739241738,0.1833021663892066,0.1840023794233013,0.18454064844323567,0.18491631125715463,0.18526814713537632,0.18561998258910667,0.18596658472343991,0.18630260361446893,0.18662254764748587]
[52,3.2918566846522612E-2,3.31723669489008E-2,3.3391170721233765E-2,3.3555841876286463E-2,3.3686142668982955E-2,3.3785276367687356E-2,3.3855660521801445E-2,3.3891956644069188E-2,3.3914389784960086E-2,3.3914886760694873E-2,3.3886168799954985E-2,3.3855358678212433E-2,3.381089937136883E-2,3.3735086019203608E-2,3.3677003729603694E-2,3.3636566405961688E-2,3.3598769807617668E-2,3.3561047204254901E-2,3.3523957519629333E-2,3.3488067958450385E-2,3.3453956801258844E-2,null,52,0.18559387192978408,0.18323791070919931,0.18123128749899342,0.17973588961573281,0.17856152972388145,0.17767330955564553,0.17704541491270989,0.17672250277584065,0.17652322428075795,0.17651881213076731,0.17677395466144177,0.17704810281473085,0.17744446530123584,0.17812244185294288,0.17864364048895306,0.1790074204399478,0.1793481267208942,0.17968882501915409,0.18002445016163077,0.18034982364057886,0.18065962974361269]
[53,3.2920558046160675E-2,3.316953738103523E-2,3.3384181993081352E-2,3.3545717110010864E-2,3.367353222310121E-2,3.3770770229136549E-2,3.3839803071866736E-2,3.3875393069672688E-2,3.3897383306333406E-2,3.3897852970302234E-2,3.3869660647930733E-2,3.3839416829183344E-2,3.3795782628992521E-2,3.3721387365932998E-2,3.3664389250126048E-2,3.3624703799000066E-2,3.3587610007981272E-2,3.3550589549187215E-2,3.3514190742306438E-2,3.3478970036807443E-2,3.3445494753751026E-2,null,53,0.17966073676564337,0.17738038288555089,0.17543817284742846,0.17399082296640114,0.17285422863242048,0.17199460971565947,0.17138697939641476,0.17107456948229446,0.17088182868654425,0.17087771457337994,0.17112484959914809,0.17139037303111679,0.17177419624114626,0.17243062628961597,0.17293528061454444,0.17328753914347814,0.17361745442148016,0.17394735556593169,0.17427233968240827,0.17458739412499566,0.17488737339216889]
[54,3.2922419241852241E-2,3.3166760303224629E-2,3.33774035069343E-2,3.3535922203131951E-2,3.3661346932543523E-2,3.3756762464951962E-2,3.3824496837649765E-2,3.3859409448213862E-2,3.3880975582371464E-2,3.3881421164545289E-2,3.3853737058864075E-2,3.3824040469625949E-2,3.378120257596362E-2,3.3708174500658217E-2,3.3652221918521796E-2,3.3613261907472269E-2,3.3576846209496747E-2,3.3540503112477138E-2,3.3504770731549227E-2,3.347019516555072E-2,3.3437333187763763E-2,null,54,0.17391778583530421,0.17171057094506514,0.16983066861481874,0.16842978925503246,0.16732971557951784,0.16649774937076367,0.16590970433702712,0.16560743242096046,0.16542099405150656,0.1654171442662698,0.16565650553985348,0.16591365927074864,0.16628532486743508,0.16692087948838583,0.16740950173395039,0.1677505915324152,0.16807004619496521,0.1683894817559585,0.1687041523435055,0.16900920580866674,0.16929966136225336]
[55,3.2924164485316654E-2,3.3164039325641603E-2,3.3370829812604308E-2,3.3526444755618501E-2,3.3649568803074015E-2,3.3743230718357609E-2,3.3809716237249265E-2,3.3843978311974832E-2,3.3865137824016456E-2,3.3865562103668756E-2,3.3838369488812248E-2,3.3809201859493543E-2,3.3767132823687263E-2,3.3695423607946084E-2,3.3640479837661719E-2,3.3602220099699487E-2,3.3566458964627621E-2,3.3530769646052949E-2,3.3495680431456565E-2,3.3461727450819101E-2,3.3429457318179034E-2,null,55,0.16835884415327404,0.16622238691869043,0.16440276144288071,0.16304683206889836,0.16198207984199825,0.16117685346646524,0.16060774125022123,0.16031525916563028,0.16013489953367346,0.16013128516870745,0.16036310237112913,0.16061213643141611,0.16097201679768644,0.16158734828402446,0.16206043682648932,0.16239070168559194,0.16270001777367485,0.16300931078538011,0.16331398679421924,0.16360934896497087,0.16389057590729766]
[56,3.2925805963287758E-2,3.3161376999490066E-2,3.3364455104311519E-2,3.3517272560694922E-2,3.363818048214906E-2,3.3730153631355675E-2,3.3795436960219138E-2,3.3829073638722562E-2,3.3849842818643783E-2,3.3850248190518517E-2,3.3823531018279063E-2,3.3794874855088031E-2,3.3753548510624398E-2,3.3683112240899149E-2,3.362914236544956E-2,3.3591558930524679E-2,3.3556429948113919E-2,3.3521371957342172E-2,3.3486903774035737E-2,3.345355191998034E-2,3.342185321708091E-2,null,56,0.16297794930421181,0.16090995137079731,0.15914864299150733,0.15783619718547268,0.15680561051570557,0.15602624480148028,0.15547543790500362,0.15519241234945561,0.15501791835393805,0.15501451457597773,0.15523901292377176,0.15548017202742706,0.15582863011402326,0.15642437216704155,0.15688241158363134,0.15720218631393873,0.15750167744868043,0.15780114236519738,0.15809613417682758,0.15838210635303543,0.15865439176654175]
[57,3.2927354267665354E-2,3.3158775009024977E-2,3.3358273344067157E-2,3.3508393673609582E-2,3.3627165282317684E-2,3.3717510831189568E-2,3.3781635924882369E-2,3.3814670788896883E-2,3.3835064851240215E-2,3.3835453381710456E-2,3.3809196261069596E-2,3.3781034816747324E-2,3.3740426212680363E-2,3.3671219242316308E-2,3.3618190043021912E-2,3.3581260072811148E-2,3.354674189158624E-2,3.3512293847402841E-2,3.3478425621084273E-2,3.3445654467339159E-2,3.3414507763201984E-2,null,57,0.15776934229552331,0.15576758457426571,0.15406270140041825,0.1527923242797469,0.15179478843894584,0.15104043614120585,0.15050733060395449,0.15023344208817879,0.1500646103475882,0.15006139578243186,0.15027879572790917,0.15051231903099271,0.15084970827842101,0.15142647625581446,0.15186993743880448,0.15217954784895066,0.15246951921297008,0.15275946191456541,0.15304507136600445,0.15332194649969719,0.15358556948642429]
[58,3.2928818624545109E-2,3.3156234331446655E-2,3.3352278360887722E-2,3.3499796462682196E-2,3.3616507192339107E-2,3.3705282909036072E-2,3.3768291231539127E-2,3.3800746441372986E-2,3.382077962637231E-2,3.3821153101145862E-2,3.3795341276213975E-2,3.376765852017205E-2,3.3727743857373538E-2,3.3659724668903435E-2,3.3607604525633494E-2,3.3571306251621191E-2,3.3537378520849259E-2,3.3503520051646252E-2,3.3470231708550235E-2,3.343802180217792E-2,3.3407408593544741E-2,null,58,0.15272745906505938,0.15078979830057204,0.14913951332982905,0.14790983917880682,0.14694427863465581,0.14621412282426513,0.14569813693339353,0.14543307885257703,0.14526971494608881,0.14526667115763653,0.14547718816684008,0.14570330909710938,0.14602997341847496,0.1465883646277179,0.14701770494518082,0.14731746786862082,0.14759821623226255,0.1478789340726861,0.14815545451832696,0.14842351728367803,0.14867874903687897]
[59,3.2930207088632368E-2,3.3153755369998095E-2,3.334646393011953E-2,3.349146964604266E-2,3.3606190878693987E-2,3.3693451392984963E-2,3.3755382113109356E-2,3.3787278528947695E-2,3.3806964191762878E-2,3.3807324156442498E-2,3.3781943483382815E-2,3.3754724071690445E-2,3.3715480642011464E-2,3.3648609718806677E-2,3.3597368516495862E-2,3.3561681181300651E-2,3.3528324496023831E-2,3.3495036183322835E-2,3.3462308593510626E-2,3.3430641399257333E-2,3.3400544057302195E-2,null,59,0.14784692256710749,0.1459712881539417,0.14437383651445282,0.14318354660269519,0.14224892321457167,0.14154217580923126,0.14104274893405591,0.14078622674388291,0.14062814454577796,0.14062525559489966,0.14082909999028526,0.14104804613582636,0.14136431994965479,0.14190491397705352,0.14232057747103183,0.14261080083210972,0.14288261461631366,0.14315439650345549,0.14342211290747844,0.14368163979884352,0.14392874370051895]
[60,3.2931526708478875E-2,3.3151338064693725E-2,3.3340823836401468E-2,3.3483402316863087E-2,3.3596201679658488E-2,3.3681998716947437E-2,3.3742888884410904E-2,3.3774246174425482E-2,3.379359686407013E-2,3.3793944658664588E-2,3.3768981582064539E-2,3.3742210827631514E-2,3.3703616955993665E-2,3.3637856662623644E-2,3.3587465703728281E-2,3.3552369505600588E-2,3.3519565354651837E-2,3.3486828679846647E-2,3.3454643603842982E-2,3.3423501451842919E-2,3.3393903172131534E-2,null,60,0.14312253537091457,0.14130692638878425,0.13976060277458621,0.13860842333922402,0.13770373469669231,0.1370196351160631,0.13653622664981568,0.13628795713229694,0.13613497822605214,0.13613223029703442,0.13632960715390643,0.13654160020066139,0.13684780850447334,0.13737116757182441,0.13777358518619295,0.13805456809806929,0.13831772746692281,0.13858085397043904,0.13884004302375141,0.13909130247619292,0.1393305342154145]
[61,3.2932783667090515E-2,3.3148981984366666E-2,3.3335351923190482E-2,3.3475583959366118E-2,3.3586525593695793E-2,3.3670908186799409E-2,3.3730792891018879E-2,3.376162962796081E-2,3.3780657157292948E-2,3.378099394560663E-2,3.3756435474651569E-2,3.3730099317878404E-2,3.3692134307269583E-2,3.3627448777958424E-2,3.3577880700501161E-2,3.354335674089115E-2,3.3511087457796629E-2,3.3478884751984683E-2,3.3447224790601471E-2,3.3416590827265225E-2,3.3387475582792536E-2,null,61,0.1385492727154306,0.13679175515827194,0.13529491143589736,0.13417961180781587,0.13330388969409618,0.13264170362306463,0.13217379201767804,0.13193350262417058,0.13178545578468343,0.13178283686883818,0.13197394595637033,0.13217920166597544,0.13247566014289322,0.13298232948500655,0.13337191931650941,0.13364395220470962,0.13389872918186466,0.13415347266233249,0.13440440291904845,0.13464765544668519,0.13487926315432222]
[62,3.2933983401729261E-2,3.3146686403105807E-2,3.3330042131262561E-2,3.3468004457491984E-2,3.3577149263584793E-2,3.366016394479221E-2,3.3719076458415209E-2,3.3749410206135755E-2,3.3768125714082942E-2,3.3768452508762259E-2,3.3744286193502449E-2,3.3718371173589556E-2,3.3681015252915891E-2,3.3617370287524651E-2,3.3568598988380272E-2,3.3534629222464751E-2,3.3502877939125097E-2,3.3471192335887245E-2,3.3440040883073952E-2,3.3409899024988032E-2,3.3381251522121902E-2,null,62,0.13412227597178655,0.13242098014925002,0.13097202311630346,0.12989241397356968,0.12904472293892832,0.12840374118553399,0.12795082306739694,0.1277182513280577,0.1275749720622068,0.12757247168986416,0.12775750744886893,0.12795623566967937,0.12824325082154259,0.12873375907898948,0.12911092664604013,0.12937429139236584,0.12962094999642662,0.12986757475149943,0.13011050678073346,0.13034600512901959,0.13057022952527189]
[63,3.2935130706105653E-2,3.3144450363651545E-2,3.3324888528183827E-2,3.346065409775334E-2,3.3568059957425067E-2,3.3649750933045564E-2,3.3707722841978205E-2,3.3737570233120184E-2,3.3755984240139147E-2,3.3756301924035892E-2,3.3732515831957688E-2,3.3707009059031234E-2,3.3670243333744798E-2,3.3607606300746662E-2,3.3559606863842184E-2,3.3526174053883917E-2,3.3494924656914504E-2,3.346374004789876E-2,3.343308124645783E-2,3.3403416137129049E-2,3.3375221774291974E-2,null,63,0.12983684647192731,0.12818996456482423,0.12678735384407969,0.12574228557811595,0.12492172161030173,0.12430125904680681,0.12386284840316869,0.12363774139371757,0.12349907153097761,0.12349668054441278,0.1236758320953667,0.12386823680054328,0.12414610610210533,0.12462096572450146,0.12498610424919462,0.12524107435161869,0.12547987074640746,0.12571863317017271,0.12595381971963471,0.12618180902828491,0.12639888357995735]
[64,3.2936229817661866E-2,3.3142272729885569E-2,3.3319885330407084E-2,3.3453523567534393E-2,3.3559245547434502E-2,3.3639654856755907E-2,3.3696716178216457E-2,3.3726092984146305E-2,3.3744215441779524E-2,3.3744524786183838E-2,3.3721107479258716E-2,3.3695996607411072E-2,3.3659803012824563E-2,3.3598142758774152E-2,3.3550891387887027E-2,3.3517979059297209E-2,3.3487216148907484E-2,3.3456517142069764E-2,3.3426335842076105E-2,3.3397132811353814E-2,3.3369377640280584E-2,null,64,0.12568843966742593,0.12409422342133103,0.12273646947616036,0.12172483065829351,0.12093051993899502,0.12032991451625226,0.11990554194349295,0.11968765580153914,0.11955344312759936,0.11955115348861606,0.11972460466438616,0.11991088401200857,0.12017989608161922,0.12063960373754264,0.12099309443711373,0.12123993518197723,0.12147111783822157,0.12170226659059921,0.12192995275905809,0.12215067073288742,0.12236082181788387]
[65,3.2937284492205565E-2,3.3140152230208386E-2,3.3315026919358948E-2,3.3446603949854437E-2,3.3550694487273658E-2,3.3629862147611655E-2,3.3686041437537506E-2,3.371496263144369E-2,3.3732802966713438E-2,3.3733104646929579E-2,3.3710045159260238E-2,3.3685318360580974E-2,3.3649679617766992E-2,3.3588966382796848E-2,3.3542440338653057E-2,3.3510032738626849E-2,3.3479741589908629E-2,3.3449513470267478E-2,3.341979519003746E-2,3.3391040216052881E-2,3.3363710905469413E-2,null,65,0.12167265958749898,{"$f":"(1+C89)^-$A89","v":0.12012941813080916},{"$f":"(1+D89)^-$A89","v":0.11881508038973895},{"$f":"(1+E89)^-$A89","v":0.11783579632752482},{"$f":"(1+F89)^-$A89","v":0.11706689406538598},{"$f":"(1+G89)^-$A89","v":0.11648550589208635},{"$f":"(1+H89)^-$A89","v":0.11607471789836135},{"$f":"(1+I89)^-$A89","v":0.11586381738270943},{"$f":"(1+J89)^-$A89","v":0.11573391531009396},{"$f":"(1+K89)^-$A89","v":0.11573171993692255},{"$f":"(1+L89)^-$A89","v":0.11589964933558697},{"$f":"(1+M89)^-$A89","v":0.11607999574648058},{"$f":"(1+N89)^-$A89","v":0.11634043052944049},{"$f":"(1+O89)^-$A89","v":0.11678546751979918},{"$f":"(1+P89)^-$A89","v":0.11712767990436973},{"$f":"(1+Q89)^-$A89","v":0.11736664854778645},{"$f":"(1+R89)^-$A89","v":0.11759045841340231},{"$f":"(1+S89)^-$A89","v":0.11781423459692054},{"$f":"(1+T89)^-$A89","v":0.11803465801306906},{"$f":"(1+U89)^-$A89","v":0.11824833509849379},{"$f":"(1+V89)^-$A89","v":0.11845178217539613}]
[66,3.2938298067808791E-2,3.3138087493296053E-2,3.3310307852645549E-2,3.3439886715430855E-2,3.354239578847662E-2,3.3620359927788002E-2,3.3675684378760229E-2,3.3704164192720931E-2,3.3721731347994055E-2,3.3722025956654633E-2,3.3699313772810768E-2,3.3674959712452823E-2,3.3639859286617169E-2,3.3580064625532202E-2,3.3534242166921358E-2,3.3502324225507696E-2,3.3472490752011197E-2,3.3442719444774394E-2,3.3413450334233374E-2,3.3385130007703268E-2,3.3358213809272064E-2,null,66,{"$f":"(1+B90)^-$A90","v":0.1177852535692937},0.11629135134396677,0.11501903642384585,0.11407106779798731,0.11332675713007823,0.1127639676096692,0.11236632596550242,0.11216218405280937,0.11203645132345974,0.11203434395247203,0.11219692500633127,0.11237152525602791,0.1126236542174109,0.11305448688957077,0.1133857790635919,0.11361712501954167,0.11383379569607992,0.11405043303782687,0.11426382404352035,0.11447068360880815,0.11466763938980182]
[67,3.2939273519585255E-2,3.3136077077493109E-2,3.3305722871312282E-2,3.3433363712716879E-2,3.3534338996450419E-2,3.3611135974803252E-2,3.3665631505503946E-2,3.369368348221613E-2,3.371098595109423E-2,3.3711274009549541E-2,3.3688899043657683E-2,3.3664906855958687E-2,3.3630328917173768E-2,3.3571425625742224E-2,3.3526285954382118E-2,3.3494843247863004E-2,3.3465453967332248E-2,3.3436126003256739E-2,3.3407292809558786E-2,3.3379394300306009E-2,3.3352879016699255E-2,null,67,0.11402210723707269,0.11257596203184149,0.11134432205051258,0.11042666362450718,0.10970615457924539,0.10916136559832305,0.10877644672967228,0.10857884424369836,0.10845714465915908,0.10845511972759439,0.10861252078509177,0.10878155610692293,0.10902564243121955,0.10944272259172488,0.10976344155696599,0.10998740658989231,0.11019716451319619,0.11040688955012667,0.11061347138629135,0.11081372990400315,0.11100440052969167]
[68,3.2940213506699845E-2,3.3134119494884429E-2,3.3301266903929427E-2,3.3427027156461619E-2,3.3526514166400734E-2,3.3602178687439199E-2,3.3655870024531964E-2,3.3683507064311335E-2,3.3700552924017302E-2,3.3700834892086418E-2,3.3678787467710913E-2,3.3655146733381214E-2,3.3621076119563664E-2,3.3563038165631776E-2,3.3518561374533462E-2,3.3487580090976854E-2,3.3458622093125667E-2,3.3429724575980257E-2,3.3401314611241295E-2,3.3373825636792809E-2,3.3347699591753877E-2,null,68,0.11037923971000506,0.10897932078716087,0.10778705175772207,0.10689873115341562,0.10620125966893706,0.10567389283178823,0.10530128725088096,0.10511001252023659,0.10499221469580021,0.10499026724226618,0.10514265166009855,0.10530629785687604,0.10554259665222845,0.10594636197635142,0.10625684393464802,0.10647366235484491,0.10667672697825427,0.10687975924430454,0.10707974823813457,0.10727361546846166,0.10745820068335639]
[69,3.2941120412770974E-2,3.3132213230927743E-2,3.3296935068140687E-2,3.3420869615236048E-2,3.3518911839464982E-2,3.3593477052873411E-2,3.3646387806089972E-2,3.3673622209663412E-2,3.3690419150340212E-2,3.3690695434663631E-2,3.3668966265506306E-2,3.3645666989872591E-2,3.3612089171891624E-2,3.3554891630976025E-2,3.3511058656071624E-2,3.3480525562937791E-2,3.3451986479149154E-2,3.3423507055149404E-2,3.3395508166162546E-2,3.3368416962289427E-2,3.3342668972557332E-2,null,69,0.10685279902067181,0.10549762532873232,0.10434346562851983,0.10348354216167488,0.10280836915442954,0.10229786505912583,0.10193717682902767,0.10175202536996683,0.10163800250962929,0.1016361280896626,0.10178365433276568,0.10194208189496873,0.10217084040016604,0.10256171483683039,0.10286228549117281,0.10307218435145757,0.10326876833018772,0.10346532054398905,0.10365892629626189,0.10384660547020291,0.10402529879791365]
[70,3.2941996380632332E-2,3.3130356760382229E-2,3.3292722670194896E-2,3.3414883998281075E-2,3.3511523019267964E-2,3.3585020615116257E-2,3.3637173346239502E-2,3.3664016853792944E-2,3.3680572205066373E-2,3.3680843166269847E-2,3.3659423337695671E-2,3.3636455929986209E-2,3.3603356978786803E-2,3.3546975973825832E-2,3.3503768548641899E-2,3.3473670962320901E-2,3.3445538937151742E-2,3.3417465766249377E-2,3.3389866306055449E-2,3.336316159913455E-2,3.3337780948106799E-2,null,70,0.10343905772876127,0.10212719619422568,0.10100992510255673,0.10017748867326468,9.9523899152336101E-2,9.9029716704446089E-2,9.8680562933883123E-2,9.8501337155147348E-2,9.8390966844742037E-2,9.838916145909514E-2,9.853198320659283E-2,9.8685357435296675E-2,9.8906815228008357E-2,9.9285209398945695E-2,9.9576184251698813E-2,9.977938354418707E-2,9.9969692919795072E-2,0.10015997117191569,0.10034739674349266,0.10052908474497856,0.10070207366229685]
[71,3.294284334228581E-2,3.3128548560144688E-2,3.3288625202901878E-2,3.3409063541957718E-2,3.3504339149055706E-2,3.3576799444816174E-2,3.3628215731164923E-2,3.3654679558048128E-2,3.3671000313169497E-2,3.3671266272008449E-2,3.3650147223396099E-2,3.3627502477043159E-2,3.3594869032674612E-2,3.3539281677641641E-2,3.3496682290808488E-2,3.3467008047972868E-2,3.3439271712362384E-2,3.3411593441269982E-2,3.3384382242466426E-2,3.3358053223539352E-2,3.333302963656215E-2,null,71,0.10013440871613662,9.8864472608466772E-2,9.77829089078293E-2,9.6977078941345607E-2,9.6344381164568102E-2,9.5865996925022623E-2,9.552800729048147E-2,9.5354516217665539E-2,9.5247680233876891E-2,9.5245940267607923E-2,9.5384206523135215E-2,9.5532687656201792E-2,9.5747076861209882E-2,9.6113388453417298E-2,9.639507310074695E-2,9.6591785952746756E-2,9.6776020336716784E-2,9.6960224275631585E-2,9.7141666372365529E-2,9.7317553918656569E-2,9.7485020027867172E-2]
[72,3.2943663044741722E-2,3.3126787119518442E-2,3.3284638342357731E-2,3.3403401796031851E-2,3.3497352089529864E-2,3.3568804110457817E-2,3.361950460341312E-2,3.3645599472852838E-2,3.3661692310688718E-2,3.366195355332513E-2,3.3641127061234899E-2,3.3618796135162388E-2,3.3586615377603435E-2,3.3531799724708877E-2,3.3489791580116224E-2,3.3460529010778561E-2,3.343317745685126E-2,3.3405883193695862E-2,3.3379049543370343E-2,3.3353085843794705E-2,3.3328409464971509E-2,null,72,9.6935361151175237E-2,9.5706008515746024E-2,9.4659009151890461E-2,9.387893358593434E-2,9.3266458254403564E-2,9.2803365818563063E-2,9.2476182111063024E-2,9.2308241128328888E-2,9.220482526165992E-2,9.2203147432354388E-2,9.2337002637393917E-2,9.2480745977748496E-2,9.2688291474146603E-2,9.3042905624930963E-2,9.3315596046661772E-2,9.350602891487389E-2,9.3684381670617198E-2,9.3862704686697468E-2,9.403835384213298E-2,9.4208625661880541E-2,9.4370744860786643E-2]
[73,3.2944457072343392E-2,3.3125070948340385E-2,3.3280757943737527E-2,3.339789260996362E-2,3.3490554097463043E-2,3.3561025650961751E-2,3.3611030130009656E-2,3.3636766303140941E-2,3.3652637608246216E-2,3.3652894390784116E-2,3.3632352552923406E-2,3.3610326953790626E-2,3.3578586575468972E-2,3.3524521565693854E-2,3.3483088545112505E-2,3.3454226447284574E-2,3.3427249204651899E-2,3.3400328495152731E-2,3.3373862111337305E-2,3.3348253779920789E-2,3.3323915150339944E-2,null,73,9.3838536611570877E-2,9.2648468766017331E-2,9.163492756284887E-2,9.0879781877957838E-2,9.0286881365940735E-2,8.9838590771255195E-2,8.952186646557421E-2,8.9359297072833979E-2,8.9259190962880403E-2,8.9257572276606065E-2,8.9387156425766653E-2,8.9526312470708524E-2,8.9727232097233239E-2,9.0070521771301842E-2,9.0334504615610503E-2,9.0518857477992709E-2,9.0691515900633651E-2,9.0864145307613053E-2,9.103418606298351E-2,9.1199021071530439E-2,9.1355963720757993E-2]
[74,3.2945226866082367E-2,3.3123398583333907E-2,3.3276980036391901E-2,3.3392530119346953E-2,3.3483937805152131E-2,3.3553455549672373E-2,3.3602782972385281E-2,3.3628170275872948E-2,3.3643826156855905E-2,3.3644078709240688E-2,3.3623813929210655E-2,3.360208549457E-2,3.3570773674474808E-2,3.3517439091205636E-2,3.3476565719207763E-2,3.3448093335059825E-2,3.3421480348526433E-2,3.3394923153601042E-2,3.3368814163147631E-2,3.3343551644670955E-2,3.3319541681957832E-2,null,74,9.0840665355982994E-2,8.9688625445871847E-2,8.8707471871540794E-2,8.7976458161460616E-2,8.7402505779082776E-2,8.6968542939097754E-2,8.6661942783492887E-2,8.6504572367466628E-2,8.6407669349062535E-2,8.6406107062884027E-2,8.6531555820173439E-2,8.666627039093551E-2,8.6860775148772315E-2,8.7193101506931853E-2,8.7448654369416082E-2,8.7627120914181525E-2,8.7794266407654947E-2,8.7961383621143974E-2,8.8125994702257085E-2,8.8285566173799429E-2,8.8437497261057457E-2]
[75,3.2945973740332368E-2,3.3121768592991208E-2,3.3273300818438711E-2,3.3387308732598653E-2,3.3477496200740697E-2,3.3546085709707629E-2,3.3594754258040149E-2,3.3619802109531971E-2,3.3635248415887942E-2,3.3635496945264132E-2,3.3615501918059065E-2,3.3594062800395674E-2,3.3563168179689296E-2,3.3510544605232173E-2,3.3470216016255216E-2,3.34421230096833E-2,3.3415864618271618E-2,3.3389661292975603E-2,3.3363900210760633E-2,3.33389743257968E-2,3.3315284304902493E-2,null,75,8.7938582735952661E-2,8.6823354346121068E-2,8.587355232714021E-2,8.5165898406564494E-2,8.4610287692973574E-2,8.4190193855686185E-2,8.3893393480429151E-2,8.3741055098172187E-2,8.3647252057222038E-2,8.364574364725845E-2,8.3767188462623737E-2,8.3897602833467672E-2,8.4085897085980743E-2,8.4407609845171913E-2,8.4655001541926386E-2,8.4827769353280666E-2,8.4989577604344266E-2,8.515135831704912E-2,8.5310712807767711E-2,8.5465188544097945E-2,8.5612267845139839E-2]
[76,3.2946698897368787E-2,3.3120179581239917E-2,3.3269716651011416E-2,3.3382223117983889E-2,3.3471222609430029E-2,3.353890843063545E-2,3.3586935553870489E-2,3.3611652985492402E-2,3.362689532306784E-2,3.3627140016671664E-2,3.3607407714906667E-2,3.3586250366514081E-2,3.3555762025555325E-2,3.3503830800330148E-2,3.3464032707738234E-2,3.3436309143250353E-2,3.3410396060458147E-2,3.3384537334177233E-2,3.3359115043549048E-2,3.3334516969491412E-2,3.3311138504638294E-2,null,76,8.5129225740327455E-2,8.4049631558660354E-2,8.313017833916736E-2,8.2445136886459172E-2,8.1907280931421966E-2,8.1500612160250702E-2,8.121329770348662E-2,8.1065829877219248E-2,8.0975027115148368E-2,8.097357024933588E-2,8.1091138474832375E-2,8.1217389501163348E-2,8.1399671170107504E-2,8.1711108954563419E-2,8.1950599789026621E-2,8.2117850529302774E-2,8.2274491678183334E-2,8.243110603155071E-2,8.2585371543615158E-2,8.2734914039252566E-2,8.2877296275331067E-2]
[77,3.2947403439989476E-2,3.3118630190106746E-2,3.3266224052289628E-2,3.3377268191031373E-2,3.3465110675575893E-2,3.3531916386432936E-2,3.3579318841076011E-2,3.3603714521156736E-2,3.3618758266383386E-2,3.3618999294035667E-2,3.3599522954873562E-2,3.3578640113533176E-2,3.3548547550220853E-2,3.3497290734450846E-2,3.3458009401460709E-2,3.3430645724299213E-2,3.3405069019513789E-2,3.3379545977323399E-2,3.335445371170942E-2,3.3330174964932624E-2,3.3307099992636147E-2,null,77,8.2409629665200407E-2,8.136453019593641E-2,8.0474455239544093E-2,7.9811302972331299E-2,7.9290633764462465E-2,7.8896960440282549E-2,7.8618828189923343E-2,7.8476074712110974E-2,7.8388175818049549E-2,7.8386768332898343E-2,7.8500583337986846E-2,7.8622803582995629E-2,7.879926434092456E-2,7.9100755024323663E-2,7.933259704768722E-2,7.9494506635643503E-2,7.9646145443072705E-2,7.9797758195183588E-2,7.9947097034223313E-2,8.0091863637750435E-2,8.0229698629446053E-2]
[78,3.294808838249641E-2,3.3117119101560011E-2,3.3262819691413981E-2,3.337243910238441E-2,3.345915434567015E-2,3.3525102604680335E-2,3.3571896491568998E-2,3.3595978744762389E-2,3.3610829057781677E-2,3.3611066574041004E-2,3.3591839686787806E-2,3.3571224362209495E-2,3.3541517471571192E-2,3.3490917809291254E-2,3.3452140021636545E-2,3.3425127039056424E-2,3.3399878120052184E-2,3.337468218517281E-2,3.334991151077249E-2,3.3325943929849888E-2,3.3303164692949139E-2,null,78,7.9776924903065705E-2,7.8765217226967554E-2,7.7903581158901419E-2,7.7261618040641689E-2,7.6757585840637646E-2,7.637649218352742E-2,7.6107248234042635E-2,7.5969057981829818E-2,7.5883969711766044E-2,7.5882609592486064E-2,7.5992790878060532E-2,7.611110873755933E-2,7.6281934196128998E-2,7.6573795234708766E-2,7.6798232499785471E-2,7.6954971284892065E-2,7.7101767295372728E-2,7.7248537984914087E-2,7.7393107312508383E-2,7.7533250384017968E-2,7.7666683201323292E-2]
[79,3.2948754660273805E-2,3.311564503867781E-2,3.3259500382367246E-2,3.3367731226112474E-2,3.3453347852183235E-2,3.3518460446936071E-2,3.3564661245805816E-2,3.3588438071757043E-2,3.360309990854593E-2,3.3603334054567835E-2,3.3584350348910386E-2,3.3563995809892999E-2,3.3534664864840025E-2,3.3484705750069788E-2,3.3446418790286314E-2,3.3419747653920417E-2,3.3394818250369829E-2,3.3369941167644246E-2,3.3345483967137435E-2,3.3321819697043953E-2,3.329932872967345E-2,null,79,7.7228333845348413E-2,7.624895042438222E-2,7.541484401181861E-2,7.4793392487634738E-2,7.4305465225077263E-2,7.3936548834557331E-2,7.3675908757640726E-2,7.3542135515870063E-2,7.3459767678092758E-2,7.3458453041589905E-2,7.3565116352379847E-2,7.3679656177558631E-2,7.3845026071564582E-2,7.412756482817176E-2,7.4344833636663818E-2,7.4496566569221642E-2,7.4638674270398025E-2,7.4780757376642623E-2,7.4920709368344204E-2,7.5056376432932975E-2,7.5185547541538611E-2]
[80,3.2949403138149869E-2,3.3114206766269305E-2,3.3256263077887427E-2,3.3363140148503057E-2,3.3447685698251073E-2,3.3511983590241767E-2,3.3557606191961575E-2,3.3581085282650358E-2,3.35955634062437E-2,3.3595794311388039E-2,3.3577047746238931E-2,3.3556947508521784E-2,3.3527983141698137E-2,3.3478648586626081E-2,3.344084020985294E-2,3.3414502399089718E-2,3.3389884547024629E-2,3.3365318367354346E-2,3.3341166824557344E-2,3.3317798301796264E-2,3.3295588415235944E-2,null,80,7.4761167893075214E-2,7.3813075417404353E-2,7.3005618586097873E-2,7.2404022846343799E-2,7.1931685538776616E-2,7.157455695145204E-2,7.1322245479690433E-2,7.1192747771807743E-2,7.1113013118073165E-2,7.1111742198376973E-2,7.1214999633493592E-2,7.132588185132778E-2,7.1485970218339759E-2,7.1759484277489086E-2,7.1969813420612538E-2,7.2116700217655011E-2,7.225426919571315E-2,7.239181429441717E-2,7.252729629370544E-2,7.2658630190961471E-2,7.2783675594714478E-2]
[81,3.2950034617714064E-2,3.3112803091051246E-2,3.3253104863461891E-2,3.3358661657339139E-2,3.3442162643176454E-2,3.3505666009699953E-2,3.3550724746371996E-2,3.3573913502250141E-2,3.3588212493143033E-2,3.3588440276366871E-2,3.3569925029290681E-2,3.355007284405076E-2,3.3521466030710378E-2,3.3472740635758447E-2,3.3435399046950476E-2,3.3409386353265402E-2,3.3385072380427427E-2,3.3360809446103534E-2,3.333695603151221E-2,3.3313875970103934E-2,3.3291940239450701E-2,null,81,7.2372824570783478E-2,7.1455022846100058E-2,7.0673363731577163E-2,7.0090989001744736E-2,6.9633743194838074E-2,6.9288025458473582E-2,6.9043776181208702E-2,6.8918417107465962E-2,6.8841231229389566E-2,6.8840002365135849E-2,6.8939962486537429E-2,6.9047303717719846E-2,6.9202279073224404E-2,6.9467056547213468E-2,6.9670667539729267E-2,6.981286284662136E-2,6.9946037937671984E-2,7.0079189852881973E-2,7.0210344521018542E-2,7.0337483550500388E-2,7.045853493002327E-2]
[82,3.2950649843730195E-2,3.3111432861471446E-2,3.325002295144186E-2,3.3354291731666708E-2,3.3436773688716004E-2,3.3499501962070743E-2,3.3544010635169874E-2,3.3566916180196804E-2,3.3581040446005295E-2,3.358126521706839E-2,3.3562975674260143E-2,3.3543365517225032E-2,3.3515107559071833E-2,3.3466976484708866E-2,3.3430090317170702E-2,3.3404394829346096E-2,3.3380377341371448E-2,3.3356410272245229E-2,3.3332847729408366E-2,3.3310049107684758E-2,3.3288380859292532E-2,null,82,7.0060784739190973E-2,6.917230561254728E-2,6.8415619644284942E-2,6.7851851499960744E-2,6.7409214727712857E-2,6.7074542990862199E-2,6.6838098061530335E-2,6.6716745143969358E-2,6.6642026374195015E-2,6.6640837997866409E-2,6.6737605936588174E-2,6.6841519110834469E-2,6.699154461884084E-2,6.7247864445063005E-2,6.7444971752722516E-2,6.758262530047239E-2,6.7711546737890163E-2,6.784044568964534E-2,6.7967411151428653E-2,6.8090489214145733E-2,6.8207674061633042E-2]
[83,3.2951249509765468E-2,3.311009496724604E-2,3.324701467530855E-2,3.3350026532044552E-2,3.3431514066120993E-2,3.3493485970334191E-2,3.3537457877041765E-2,3.3560087072713296E-2,3.3574040857159204E-2,3.3574262717671166E-2,3.3556193464456818E-2,3.3536819525599171E-2,3.3508902035531252E-2,3.3461350975721338E-2,3.3424909270873826E-2,3.3399523361055117E-2,3.3375795228437699E-2,3.3352116908876184E-2,3.3328838241543757E-2,3.330631428969677E-2,3.3284907089334181E-2,null,83,6.7822609902463818E-2,6.6962516224925994E-2,6.6230005242028891E-2,6.5684248947753043E-2,6.5255754211754419E-2,6.4931775328143954E-2,6.4702885182470943E-2,6.458541021620777E-2,6.4513079533987855E-2,6.4511930162635761E-2,6.4605607722668545E-2,6.470620219130499E-2,6.4851435830393142E-2,6.50995680599573E-2,6.5290379320467495E-2,6.5423636078724784E-2,6.5548439636471903E-2,6.5673221384410993E-2,6.5796131369877303E-2,6.5915278105795394E-2,6.6028719856007376E-2]
[84,3.295183426314563E-2,3.3108788338676032E-2,3.3244077484108958E-2,3.3345862391270131E-2,3.3426379223898683E-2,3.348761280916368E-2,3.3531060767040488E-2,3.3553420225496566E-2,3.3567207616775674E-2,3.3567426661104349E-2,3.3549572472937994E-2,3.3530429146718221E-2,3.3502844034420276E-2,3.345585919159566E-2,3.341985137989556E-2,3.3394767690428706E-2,3.33713220362164E-2,3.3347925602791539E-2,3.3324924062790195E-2,3.3302668251125933E-2,3.3281515892805258E-2,null,84,6.5655939606196645E-2,6.4823324230755097E-2,6.4114215627802562E-2,6.3585895498746603E-2,6.3171090765605911E-2,6.2857462912548609E-2,6.2635885997010241E-2,6.2522164907422711E-2,6.2452145848265667E-2,6.2451034075500539E-2,6.25417198352341E-2,6.2639101481010054E-2,6.2779696205829197E-2,6.3019902283655019E-2,6.3204618521223915E-2,6.3333618847010678E-2,6.3454435978942333E-2,6.3575231961869483E-2,6.3694215943950888E-2,6.3809556865567746E-2,6.3919375023079511E-2]
[85,3.2952404709320815E-2,3.3107511945790646E-2,3.324120893708149E-2,3.3341795805570618E-2,3.3421364816259791E-2,3.3481877491260414E-2,3.3524813861387726E-2,3.3546909957671955E-2,3.3560534896260874E-2,3.3560751212323714E-2,3.3543107046253295E-2,3.3524188922380294E-2,3.3496928380712276E-2,3.3450496442170463E-2,3.3414912325107737E-2,3.3390123756108503E-2,3.3366953944283795E-2,3.3343832774150872E-2,3.3321101849939749E-2,3.3299107877791778E-2,3.3278204373225817E-2,null,85,6.3558488922487874E-2,6.2752473735775333E-2,6.2066019637561073E-2,6.1554578423032538E-2,6.1153026139170986E-2,6.0849418449354258E-2,6.0634920959376316E-2,6.0524833664823488E-2,6.0457052233926369E-2,6.0455976722974848E-2,6.0543766134145693E-2,6.0638037478231648E-2,6.0774141376480836E-2,6.1006674413025805E-2,6.1185490246610352E-2,6.1310370028824751E-2,6.1427328004034672E-2,6.154426547546836E-2,6.165944880367543E-2,6.1771105425726239E-2,6.1877415688474831E-2]
[86,3.2952961415721349E-2,3.3106264797359231E-2,3.3238406698477885E-2,3.3337823426241142E-2,3.3416466692218982E-2,3.3476275254499033E-2,3.3518711963202552E-2,3.3540550846745898E-2,3.355401713269357E-2,3.3554230802645746E-2,3.3536791789224196E-2,3.35180936439059E-2,3.349115013603754E-2,3.3445258251669996E-2,3.3410087984772296E-2,3.3385587682384088E-2,3.3362687306886185E-2,3.3339835006807261E-2,3.3317368412668635E-2,3.3295630197929693E-2,3.3274969766577955E-2,null,86,6.1528046018726176E-2,6.0747781005180454E-2,6.0083257469183242E-2,5.958815575704858E-2,5.9199432380084238E-2,5.8905524586110806E-2,5.8697880213549027E-2,5.8591310493294059E-2,5.8525695082493376E-2,5.8524654560175776E-2,5.8609640044284712E-2,5.8700900350434869E-2,5.883265679536856E-2,5.9057761830168108E-2,5.9230865675540437E-2,5.9351756475271064E-2,5.9464978509526159E-2,5.957818066930011E-2,5.9689684699500076E-2,5.9797774664844011E-2,5.9900689044032215E-2]
[87,3.2953504915172349E-2,3.3105045939807898E-2,3.3235668532589191E-2,3.3333942051719578E-2,3.3411680885315542E-2,3.3470801549837725E-2,3.3512750109102596E-2,3.3534337714488993E-2,3.3547649014237901E-2,3.354786011507338E-2,3.3530621550689421E-2,3.3512138338342989E-2,3.3485504585589965E-2,3.3440140346854497E-2,3.3405374423637113E-2,3.3381155768931192E-2,3.3358518643280988E-2,3.3335929039251422E-2,3.3313720705079097E-2,3.3292232374311004E-2,3.327180943397523E-2,null,87,5.9562469806874789E-2,5.8807132144084222E-2,5.8163838389572044E-2,5.7684554030732478E-2,5.7308249576767986E-2,5.7023731667899612E-2,5.682272135734738E-2,5.6719556724402258E-2,5.6656038032415132E-2,5.6655031283896373E-2,5.673730232607662E-2,5.6825647701970343E-2,5.6953195500487899E-2,5.7171109757694419E-2,5.7338684023434949E-2,5.7455713210177999E-2,5.7565318593498255E-2,5.7674904715487557E-2,5.7782846935824035E-2,5.7887484137594723E-2,5.7987111074034432E-2]
[88,3.2954035708921303E-2,3.3103854456066006E-2,3.3232992298978914E-2,3.3330148620078548E-2,3.340700360391935E-2,3.3465452029944442E-2,3.3506923556618995E-2,3.3528265613691044E-2,3.3541425466464769E-2,3.3541634070541004E-2,3.352459141014652E-2,3.3506318255545731E-2,3.3479987225862651E-2,3.3435138645920182E-2,3.3400767882717952E-2,3.3376824481198053E-2,3.3354444628688196E-2,3.3332111756129823E-2,3.3310155817775522E-2,3.3288911696861101E-2,3.3268720854797262E-2,null,88,5.7659687670265379E-2,5.6928480854299156E-2,5.6305738517039024E-2,5.584176606915691E-2,5.5477483675321994E-2,5.520205556590211E-2,5.5007467279429463E-2,5.490759885804665E-2,5.4846109813806249E-2,5.484513567800995E-2,5.4924778918354532E-2,5.5010302414105192E-2,5.513377595050422E-2,5.5344729086617361E-2,5.5506950364186701E-2,5.5620241248019529E-2,5.5726345468472077E-2,5.5832431024506531E-2,5.5936925177562789E-2,5.603821987765302E-2,5.6134664354603535E-2]
[89,3.2954554269328584E-2,3.3102689464369117E-2,3.323037594792333E-2,3.3326440201915331E-2,3.3402431222092854E-2,3.3460222538500339E-2,3.3501227772374298E-2,3.3522329815729668E-2,3.3535341639523208E-2,3.3535547815020106E-2,3.3518696665233438E-2,3.3500628856064196E-2,3.3474593753156867E-2,3.3430249248097565E-2,3.339626476972346E-2,3.3372590441397287E-2,3.3350462085810495E-2,3.3328380180295936E-2,3.3306670970440599E-2,3.3285665575743195E-2,3.3265701620256216E-2,null,89,5.5817693265044203E-2,5.5109846264639592E-2,5.4506998676240384E-2,5.4057848865987197E-2,5.3705204367613078E-2,5.3438575576683064E-2,5.3250204066644928E-2,5.3153526474218823E-2,5.3094002163113059E-2,5.3093059528703281E-2,5.3170158851050621E-2,5.3252950554935972E-2,5.337247993038776E-2,5.3576694274366343E-2,5.3733733522394925E-2,5.3843405482192956E-2,5.3946120345988245E-2,5.4048817126041308E-2,5.414997332730604E-2,5.424803227126597E-2,5.4341395923866671E-2]
[90,3.295506104226531E-2,3.3101550117033751E-2,3.3227817516055858E-2,3.3322813993627021E-2,3.3397960270975968E-2,3.3455109100135827E-2,3.3495658420975127E-2,3.3516525798898744E-2,3.3529392896101795E-2,3.3529596707424503E-2,3.351293281998724E-2,3.3495065799791446E-2,3.3469320052807117E-2,3.3425468423896376E-2,3.3391861650078125E-2,3.3368450420059315E-2,3.33465679768854E-2,3.3324731465359747E-2,3.3303263504874003E-2,3.328249153487417E-2,3.3262749427366733E-2,null,90,5.4034544393574857E-2,5.3349310832124193E-2,5.2765722323105758E-2,5.2330921526195361E-2,5.1989543048069034E-2,5.1731432389733968E-2,5.1549078979298571E-2,5.145549021246057E-2,5.1397867805315703E-2,5.1396955607157117E-2,5.1471592225369255E-2,5.1551739356795495E-2,5.1667450524659202E-2,5.1865141310616321E-2,5.2017164033527727E-2,5.2123332641315766E-2,5.2222766389267268E-2,5.2322182618004955E-2,5.2420107470745769E-2,5.2515033999182392E-2,5.2605415220534461E-2]
[91,3.2955556449254519E-2,3.3100435599221711E-2,3.3225315122215049E-2,3.3319267311046508E-2,3.339358743066656E-2,3.3450107910961702E-2,3.3490211354574084E-2,3.351084923744807E-2,3.3523574800130573E-2,3.3523776308261422E-2,3.3507295573831586E-2,3.3489624935314266E-2,3.3464162189078772E-2,3.3420792605959315E-2,3.3387555238499234E-2,3.3364401328110249E-2,3.3342759396227661E-2,3.3321162888699574E-2,3.3299930878466943E-2,3.3279387205844557E-2,3.3259862073289126E-2,null,91,5.2308360947230688E-2,5.1645018311562395E-2,5.1080073537269712E-2,5.0659163275647401E-2,5.0328690836791992E-2,5.0078826120908172E-2,4.9902298491987816E-2,4.9811699816698071E-2,4.975591850135553E-2,4.9755035717398116E-2,4.9827288259145237E-2,4.9904875258901492E-2,5.0016890155933469E-2,5.0208265748614485E-2,5.0355432169762779E-2,5.0458209311277417E-2,5.0554466731730939E-2,5.0650707181489139E-2,5.0745503888102991E-2,5.0837398044665541E-2,5.092489208867098E-2]
[92,3.2956040889385418E-2,3.3099345127706847E-2,3.322286696348753E-2,3.3315797583427509E-2,3.3389309522565025E-2,3.3445215329659383E-2,3.3484882603056043E-2,3.35052959912856E-2,3.3517883106170654E-2,3.351808236898135E-2,3.3501780811239223E-2,3.3484302289920498E-2,3.345911639568655E-2,3.3416218380476037E-2,3.3383342391095638E-2,3.3360440209437847E-2,3.3339033563235532E-2,3.3317671844904195E-2,3.3296670658075289E-2,3.3276350322211767E-2,3.3257037450023619E-2,null,92,5.0637322916146199E-2,4.9995171791124601E-2,4.9448275079692496E-2,4.904081153521881E-2,4.8720896666708403E-2,4.8479014409499192E-2,4.8308126397791903E-2,4.8220422243241738E-2,4.8166423158601937E-2,4.816556880710076E-2,4.8235513395218865E-2,4.8310622013058052E-2,4.8419058686638351E-2,4.8604320799871058E-2,4.8746786029307182E-2,4.88462800208724E-2,4.8939462559167361E-2,4.9032628659479827E-2,4.9124397129420835E-2,4.921335576545504E-2,4.9298054846474287E-2]
[93,3.2956514741033116E-2,3.3098277949650257E-2,3.3220471311444122E-2,3.3312402347756898E-2,3.3385123502158498E-2,3.3440427869094513E-2,3.3479668364812865E-2,3.3499862096301403E-2,3.3512313749448852E-2,3.3512510821973152E-2,3.3496384592028638E-2,3.3479094060218761E-2,3.3454179066895628E-2,3.3411742479124706E-2,3.3379220097947915E-2,3.3356564233911978E-2,3.3335387815821793E-2,3.3314255839618001E-2,3.3293480514272389E-2,3.3273378714146373E-2,3.3254273539428558E-2,null,93,4.9019668463579337E-2,4.8398031791642641E-2,4.7868606513199338E-2,4.7474160057255417E-2,4.7164465432581112E-2,4.6930310576800097E-2,4.6764881973655005E-2,4.6679979829818627E-2,4.6627706002224753E-2,4.6626879139279508E-2,4.6694589470705587E-2,4.6767298850312673E-2,4.6872271581772228E-2,4.7051615490098085E-2,4.7189529687122402E-2,4.7285845388932581E-2,4.7376051253497538E-2,4.746624119722688E-2,4.7555078151594682E-2,4.7641195027557433E-2,4.7723188416986008E-2]
[94,3.2956978363402056E-2,3.3097233341395915E-2,3.3218126508559598E-2,3.3309079243379669E-2,3.3381026452219187E-2,3.3435742188420381E-2,3.3474564998061895E-2,3.3494543755270056E-2,3.3506862836491846E-2,3.3507057771168025E-2,3.3491103142247125E-2,3.3473996603327505E-2,3.3449346749164111E-2,3.3407361771502719E-2,3.3375185476139269E-2,3.3352770690831202E-2,3.3331819604247359E-2,3.3310912483761168E-2,3.3290358215948723E-2,3.3270470303400357E-2,3.3251568408542376E-2,null,94,4.7453692062682705E-2,4.6851914427423827E-2,4.6339402383812824E-2,4.5957557122246716E-2,4.5657756199776058E-2,4.5431081844084169E-2,4.5270938204937161E-2,4.518874852360287E-2,4.5138144805455263E-2,4.5137344522800479E-2,4.5202891945164254E-2,4.5273278706565133E-2,4.5374898130713541E-2,4.5548512874383537E-2,4.5682021405032303E-2,4.5775260330920019E-2,4.5862584596087844E-2,4.5949893442275951E-2,4.6035892515158626E-2,4.6119258398884047E-2,4.6198632518719397E-2]
[95,3.2957432097917794E-2,3.3096210607291621E-2,3.3215830964812065E-2,3.3305826006917894E-2,3.3377015576389057E-2,3.3431155085643649E-2,3.3469569012680056E-2,3.3489337329294599E-2,3.3501526636322332E-2,3.3501719483206571E-2,3.3485932845604749E-2,3.3469006428597625E-2,3.3444616133289973E-2,3.3403073258014171E-2,3.3371235763208995E-2,3.3349056982762582E-2,3.3328326485324133E-2,3.3307639488096896E-2,3.3287301625239518E-2,3.3267623098583554E-2,3.3248920205188437E-2,null,95,4.5937742693541478E-2,4.5355189626508807E-2,4.4859050460810131E-2,4.4489403793695932E-2,4.4199180470797378E-2,4.3979747607998082E-2,4.3824720067129008E-2,4.3745156166279837E-2,4.3696169176778897E-2,4.3695394599802519E-2,4.3758848185705898E-2,4.3826986505169856E-2,4.3925359726128176E-2,4.409342830965942E-2,4.4222671899257722E-2,4.4312932323065539E-2,4.439746702869541E-2,4.4481986802206733E-2,4.4565238638861464E-2,4.4645941400755756E-2,4.4722779914250652E-2]
[96,3.295787626948532E-2,3.3095209078536358E-2,3.3213583154452886E-2,3.3302640467469447E-2,3.3373088193130451E-2,3.3426663490621289E-2,3.3464677062517545E-2,3.3484239329757415E-2,3.3496301572177423E-2,3.349649237913388E-2,3.3480870235420346E-2,3.3464120189828916E-2,3.3439984047029858E-2,3.3398874063184092E-2,3.3367368310994738E-2,3.334542061975232E-2,3.3324906116969366E-2,3.3304434658126603E-2,3.3284308692755671E-2,3.3264835190719877E-2,3.3246327153843458E-2,null,96,4.4470222098429185E-2,4.3906279408371836E-2,4.3425990033533583E-2,4.3068152229223118E-2,4.2787200507650523E-2,4.2574777771471319E-2,4.2424702862849689E-2,4.234768083425397E-2,4.2300258902177763E-2,4.2299509188132224E-2,4.2360935807175544E-2,4.2426897494678636E-2,4.2522128198109882E-2,4.2684827782593214E-2,4.2809942663529311E-2,4.2897319722155831E-2,4.2979153970147052E-2,4.3060973758207936E-2,4.3141566110176312E-2,4.3219690815435613E-2,4.3294074714904152E-2]
[97,3.2958311187625045E-2,3.3094228112064528E-2,3.321138161294046E-2,3.3299520542072303E-2,3.3369241730021759E-2,3.3422264458460305E-2,3.3459885938158962E-2,3.3479246410742958E-2,3.3491184213717995E-2,3.3491373026587334E-2,3.3475911987045137E-2,3.3459334677950814E-2,3.3435447448156186E-2,3.3394761429369035E-2,3.3363580579843344E-2,3.3341859213879665E-2,3.3321556253079976E-2,3.3301295889288429E-2,3.3281377453099781E-2,3.3262104749071097E-2,3.3243787551751947E-2,null,97,4.3049583093355312E-2,4.2503656217117998E-2,4.2038710263070905E-2,4.1692304046037222E-2,4.1420327708177045E-2,4.1214691128311609E-2,4.1069410612303736E-2,4.0994849232187755E-2,4.0948942340616482E-2,4.0948216676995948E-2,4.1007681065604831E-2,4.1071535639911082E-2,4.1163724201755375E-2,4.1321226291096844E-2,4.1442344345941878E-2,4.1526930139173641E-2,4.1606150186962586E-2,4.1685356232667538E-2,4.1763374049906495E-2,4.1839003047842847E-2,4.191101073971993E-2]
[98,3.2958737147507744E-2,3.3093267089461476E-2,3.3209224934032333E-2,3.3296464231414191E-2,3.336547371837284E-2,3.3417955163299595E-2,3.3455192560105873E-2,3.3474355361905683E-2,3.3486171269694109E-2,3.3486358132443828E-2,3.3471054910734654E-2,3.3454646814135902E-2,3.3431003417926597E-2,3.3390732710840476E-2,3.3359870133162772E-2,3.3338370474133239E-2,3.3318274738713072E-2,3.3298221162438635E-2,3.327850602064597E-2,3.3259430017205105E-2,3.3241299765269572E-2,null,98,4.1674327933978225E-2,4.1145841308354435E-2,4.0695748586960664E-2,4.0360408738983986E-2,4.0097121034593647E-2,3.9898053799686993E-2,3.9757414495428044E-2,3.968523513810971E-2,3.9640794871023503E-2,3.9640092474087243E-2,3.969765730319167E-2,3.9759472064614707E-2,3.9848715656416206E-2,4.0001186277698213E-2,4.0118435177823597E-2,4.0200318865030435E-2,4.027700821615627E-2,4.0353684009048055E-2,4.0429209529164387E-2,4.0502422539723533E-2,4.0572129926943687E-2]
[99,3.2959154430891813E-2,3.3092325415919444E-2,3.3207111767024067E-2,3.3293469615780724E-2,3.3361781788146416E-2,3.3413732892445092E-2,3.3450593972352172E-2,3.3469563101748312E-2,3.3481259581037648E-2,3.3481444535896632E-2,3.3466295944936331E-2,3.3450053643316657E-2,3.3426649154933541E-2,3.3386785368214156E-2,3.3356234632292647E-2,3.3334952201587775E-2,3.3315059505546918E-2,3.3295208539598997E-2,3.3275692585567951E-2,3.3256809309296642E-2,3.3238862226423471E-2,null,99,4.0343006734127149E-2,3.9831403187935599E-2,3.9395689175196771E-2,3.9071062149419689E-2,3.881618549249554E-2,3.8623477720827915E-2,3.8487331344048165E-2,3.841745789842755E-2,3.8374437389090028E-2,3.8373757502509487E-2,3.8429483443133766E-2,3.8489323544037085E-2,3.857571623498026E-2,3.8723316113110889E-2,3.8836819452925248E-2,3.8916087346720266E-2,3.8990326838544823E-2,3.9064553202338405E-2,3.9137666037017425E-2,3.9208540234564292E-2,3.9276020796343174E-2]
[100,3.2959563306979911E-2,3.3091402519227708E-2,3.3205040814134446E-2,3.3290534851223574E-2,3.3358163663162577E-2,3.3409595040839291E-2,3.3446087336327368E-2,3.3464866671290228E-2,3.3476446114356628E-2,3.3476629201934838E-2,3.3461632149968779E-2,3.3445552328077666E-2,3.3422381969314685E-2,3.3382916963202947E-2,3.3352671831673897E-2,3.3331602284859985E-2,3.3311908567606796E-2,3.329225615995135E-2,3.3272935410098681E-2,3.3254241006641871E-2,3.3236473429669511E-2,null,100,3.9054215935151376E-2,3.8558956100892432E-2,3.8137161435817656E-2,3.7822904983254531E-2,3.7576170658691267E-2,3.7389619176276319E-2,3.7257822182397343E-2,3.7190180971189708E-2,3.7148534852253647E-2,3.7147876745873276E-2,3.7201822532689693E-2,3.7259751045800114E-2,3.7343383901525806E-2,3.7486268628364135E-2,3.7596146055306638E-2,3.7672881712255989E-2,3.7744749600919773E-2,3.7816604778463263E-2,3.7887381997163717E-2,3.7955992091634909E-2,3.8021316960733076E-2]
[101,3.2959964033201006E-2,3.309049784880469E-2,3.320301082802235E-2,3.3287658165938705E-2,3.3354617156571731E-2,3.3405539105842985E-2,3.3441669925185824E-2,3.3460263228097142E-2,3.3471727955799446E-2,3.3471909215196494E-2,3.345706070206278E-2,3.3441140142903114E-2,3.3418199277296168E-2,3.3379125153674361E-2,3.3349179574295951E-2,3.3328318695827974E-2,3.3308820017237339E-2,3.3289362236063491E-2,3.3270232825004298E-2,3.3251723554376333E-2,3.3234131928838728E-2,null,101,3.7806596824450873E-2,3.7327158568871088E-2,3.6918838568476116E-2,3.6614621376545364E-2,3.6375769256258017E-2,3.6195177382113669E-2,3.6067590814429541E-2,3.6002110516048909E-2,3.5961794871323165E-2,3.5961157840011838E-2,3.6013380332918794E-2,3.6069458317495764E-2,3.6150419495808502E-2,3.6288739693920623E-2,3.639510703434716E-2,3.6469391342817729E-2,3.6538963385514607E-2,3.6608523121064246E-2,3.6677039332076875E-2,3.6743457647551582E-2,3.6806695685100435E-2]
[102,3.2960356855926465E-2,3.3089610874765807E-2,3.3201020609434639E-2,3.3284837856839777E-2,3.3351140166578253E-2,3.3401562682310093E-2,3.3437339118418175E-2,3.3455750040649379E-2,3.3467102305273499E-2,3.3467281774175017E-2,3.3452578887747109E-2,3.3436814468752241E-2,3.3414098596048047E-2,3.3375407688988057E-2,3.3345755787405507E-2,3.332509948559581E-2,3.3305792021306457E-2,3.3286525050330917E-2,3.3267583226262998E-2,3.3249255458377869E-2,3.3231836334259413E-2,null,102,3.659883410156009E-2,3.6134711974518022E-2,3.5739436164407702E-2,3.5444937507101135E-2,3.5213715775288E-2,3.503889311363536E-2,3.4915382456405762E-2,3.4851994029398911E-2,3.4812966347198174E-2,3.4812349709792099E-2,3.4862903953564173E-2,3.4917190519501005E-2,3.4995565363062704E-2,3.5129466844284508E-2,3.5232436225352791E-2,3.5304347490582061E-2,3.5371697025236196E-2,3.5439034644133491E-2,3.5505362073065809E-2,3.5569658623866462E-2,3.5630876491814734E-2]
[103,3.2960742011126865E-2,3.308874108703086E-2,3.3199069004975268E-2,3.3282072286320297E-2,3.3347730672401044E-2,3.3397663457938043E-2,3.3433092396766728E-2,3.3451324483029898E-2,3.3462566470986888E-2,3.3462744185753346E-2,3.344818409854855E-2,3.3432572787943204E-2,3.3410077538834182E-2,3.3371762405602245E-2,3.3342398478459101E-2,3.3321942780686786E-2,3.3302822817623534E-2,3.3283742951621731E-2,3.3264985071929543E-2,3.3246835282348952E-2,3.3229585310041054E-2,null,103,3.5429654490237238E-2,3.4980359191262918E-2,3.4597710851288481E-2,3.4312620250583223E-2,3.4088785137834171E-2,3.3919547376990301E-2,3.379998241327925E-2,3.373861902322299E-2,3.3700838151263478E-2,3.3700241249573978E-2,3.3749180531649769E-2,3.3801732901557115E-2,3.3877604027643025E-2,3.4007227946602214E-2,3.4106907914302008E-2,3.4176521940778248E-2,3.424171996319738E-2,3.4306906449020035E-2,3.4371115014802847E-2,3.4433357579170341E-2,3.4492619810442535E-2]
[104,3.2961119724976173E-2,3.3087887994468268E-2,3.3197154904990755E-2,3.3279359879186288E-2,3.33443867304557E-2,3.3393839208875065E-2,3.3428927337421976E-2,3.3446984029906757E-2,3.3458117864298975E-2,3.3458293860044286E-2,3.3443873825995452E-2,3.342841267932517E-2,3.3406133810434557E-2,3.3368187222923895E-2,3.3339105731303276E-2,3.3318846779451627E-2,3.329991071156102E-2,3.3281014352110505E-2,3.3262436879178958E-2,3.3244461645061119E-2,3.3227377571512839E-2,null,104,3.4297825395056186E-2,3.3862883257028249E-2,3.3492458981526259E-2,3.3216475879677937E-2,3.2999791405624312E-2,3.2835960123373004E-2,3.2720214797478248E-2,3.2660811746250087E-2,3.2624237848013458E-2,3.2623660045909192E-2,3.2671035952353891E-2,3.2721909521696999E-2,3.2795356909111416E-2,3.2920839911875895E-2,3.3017335545301271E-2,3.3084725716533862E-2,3.3147840955119294E-2,3.3210945024385909E-2,3.3273102412866191E-2,3.3333356604305676E-2,3.3390725670730134E-2]
[105,3.2961490214407752E-2,3.3087051124076616E-2,3.3195277241564458E-2,3.3276699119758391E-2,3.3341106470744952E-2,3.3390087795570178E-2,3.3424841609488665E-2,3.3442726251798005E-2,3.3453753994858282E-2,3.3453928305521963E-2,3.3439645656895722E-2,3.3424331813721508E-2,3.3402265202823189E-2,3.3364680139393643E-2,3.3335875702568574E-2,3.3315809748677427E-2,3.329705407286454E-2,3.3278337724288232E-2,3.3259937221515656E-2,3.3242133217755931E-2,3.3225211882804695E-2,null,105,3.3202153601058361E-2,3.2781106090433637E-2,3.2422515362572145E-2,3.2155348804923649E-2,3.1945586529160651E-2,3.1786989004379138E-2,3.1674941288687385E-2,3.1617435946032744E-2,3.1582030458561415E-2,3.1581471141104746E-2,3.1627333610822032E-2,3.167658200615104E-2,3.1747683079394816E-2,3.1869157447386075E-2,3.1962570469384423E-2,3.2027807825141454E-2,3.2088906813228693E-2,3.2149994987736207E-2,3.2210166722927785E-2,3.226849605928768E-2,3.2324032437372148E-2]
[106,3.296185368762905E-2,3.308623002020239E-2,3.3193434986614756E-2,3.3274088549125835E-2,3.33378880934454E-2,3.3386407158849662E-2,3.3420832969698555E-2,3.3438548810595714E-2,3.3449472466007268E-2,3.3449645124420835E-2,3.3435497268881065E-2,3.3420327949625461E-2,3.3398469591087387E-2,3.3361239228786976E-2,3.3332706618264263E-2,3.3312830020385542E-2,3.3294251332640412E-2,3.3275711598140134E-2,3.3257484726135766E-2,3.3239848721687615E-2,3.3223087054564004E-2,null,106,3.2141484015056912E-2,3.1733887248123607E-2,3.1386752027895135E-2,3.1128120355861683E-2,3.0925059136865177E-2,3.0771528167205978E-2,3.0663059933338489E-2,3.0607391670648569E-2,3.0573117263716216E-2,3.0572575836349251E-2,3.0616973213576235E-2,3.0664648348924288E-2,3.07334780596882E-2,3.0851071849020473E-2,3.0941500733317539E-2,3.1004654044414826E-2,3.106380119031461E-2,3.1122937867176514E-2,3.118118738025729E-2,3.1237653350611534E-2,3.1291415585221034E-2]
[107,3.2962210344596121E-2,3.3085424243790795E-2,3.3191627150092495E-2,3.3271526762548076E-2,3.333472986567787E-2,3.3382795316208247E-2,3.3416899258359667E-2,3.3434449455334914E-2,3.3445270970442253E-2,3.3445442008387838E-2,3.3431426426192568E-2,3.3416398929131841E-2,3.3394744929571063E-2,3.3357862636720137E-2,3.3329596770559355E-2,3.3309905988805122E-2,3.3291500980507926E-2,3.3273134558478246E-2,3.3255078071436239E-2,3.3237606925803576E-2,3.3221001941796224E-2,null,107,3.1114698447258504E-2,3.0720122721888E-2,3.0384077047300239E-2,3.0133707601198829E-2,2.9937133362978364E-2,2.9788507088402933E-2,2.9683503982500241E-2,2.9629614108738853E-2,2.9596434645341986E-2,2.9595910533126095E-2,2.9638889618274468E-2,2.9685041749768302E-2,2.9751672655839122E-2,2.9865509832215659E-2,2.9953049907137059E-2,3.0014185747848029E-2,3.0071443402669047E-2,3.012869092212481E-2,3.018507961823548E-2,3.0239741747638441E-2,3.0291786513656049E-2]
[108,3.2962560377454153E-2,3.3084633371673222E-2,3.3189852778270135E-2,3.3269012406992537E-2,3.3331630118452082E-2,3.337925035829814E-2,3.3413038395522232E-2,3.3430426018194348E-2,3.3441147286107364E-2,3.3441316734373672E-2,3.3427430975700112E-2,3.3412542674093215E-2,3.33910892482292E-2,3.3354548577344989E-2,3.3326544514740597E-2,3.3307036107511401E-2,3.3288801561909276E-2,3.3270605242418538E-2,3.3252715984660286E-2,3.323540664455038E-2,3.3218955441825182E-2,null,108,3.0120714431887654E-2,2.9738743774279413E-2,2.9413433375327924E-2,2.9171062206733704E-2,2.8980767712961292E-2,2.8836889444939277E-2,2.8735240766958325E-2,2.8683072466645646E-2,2.8650952964781776E-2,2.8650445611672036E-2,2.869205171055823E-2,2.8736729489300283E-2,2.8801231830961834E-2,2.8911432400280941E-2,2.8996175949169183E-2,2.9055358767335823E-2,2.911078729064143E-2,2.9166206001715152E-2,2.9220793324631025E-2,2.9273709236815732E-2,2.9324091398836138E-2]
[109,3.29629039709467E-2,3.3083856995883565E-2,3.3188110952119043E-2,3.3266544178804258E-2,3.3328587243772523E-2,3.3375770445609465E-2,3.3409248377354039E-2,3.3426476410712391E-2,3.3437099272311643E-2,3.3437267160743689E-2,3.3423508843134719E-2,3.3408757182482152E-2,3.3387500649179724E-2,3.335129533022485E-2,3.3323548266334546E-2,3.3304218886721193E-2,3.3286151675563147E-2,3.3268122336997052E-2,3.3250397239669605E-2,3.3233246735798527E-2,3.3216946492363286E-2,null,109,2.9158484085560391E-2,2.8788715811505421E-2,2.8473797736498954E-2,2.8239169329812127E-2,2.8054953965198186E-2,2.7915672021380296E-2,2.7817270608262841E-2,2.7766768881463708E-2,2.7735675477147673E-2,2.7735184345308337E-2,2.7775461316825907E-2,2.7818711840099493E-2,2.7881153614103611E-2,2.7987833748898266E-2,2.8069870107332574E-2,2.812716229224178E-2,2.8180820115627503E-2,2.8234468439691768E-2,2.8287311934439455E-2,2.8338537412518326E-2,2.8387310082641455E-2]
[110,3.296324130279582E-2,3.3083094723010298E-2,3.3186400785770509E-2,3.3264120821495879E-2,3.3325599691898411E-2,3.3372353805324106E-2,3.3405527272708069E-2,3.3422598620203914E-2,3.3433124866054653E-2,3.3433291223600392E-2,3.3419658029524291E-2,3.340504052495108E-2,3.3383977303441226E-2,3.3348101237377969E-2,3.3320606498385308E-2,3.3301452890731609E-2,3.3283549971056869E-2,3.3265684576912591E-2,3.3248120654836733E-2,3.3231126098880237E-2,3.321497406968521E-2,null,110,2.82269930021871E-2,2.7869037292367102E-2,2.7564179546224879E-2,2.7337046549157126E-2,2.715871610782692E-2,2.7023883652020301E-2,2.6928625764610067E-2,2.6879737368856186E-2,2.6849637280324821E-2,2.6849161849479442E-2,2.6888152151759027E-2,2.6930021012607757E-2,2.6990468043791103E-2,2.7093740205640499E-2,2.7173155855558649E-2,2.7228617803663462E-2,2.7280561492305608E-2,2.7332495984624772E-2,2.7383651358103629E-2,2.743324040333299E-2,2.7480454997121297E-2]
[111,3.2963572544055797E-2,3.308234617357364E-2,3.3184721425054464E-2,3.3261741123652655E-2,3.3322665968747556E-2,3.3368998728338317E-2,3.3401873219871092E-2,3.3418790706370549E-2,3.3429222078547038E-2,3.3429386933299332E-2,3.3415876607819417E-2,3.3401390841574008E-2,3.3380517447843872E-2,3.3344964700477542E-2,3.3317717738876373E-2,3.3298736735496881E-2,3.3280995146566905E-2,3.3263290742390428E-2,3.3245885091050198E-2,3.322904367272983E-2,3.3213037186899719E-2,null,111,2.7325259183234557E-2,2.697873867211846E-2,2.6683619866232321E-2,2.646374282892279E-2,2.629110930956895E-2,2.6160584196838182E-2,2.6068369410428584E-2,2.602104280450079E-2,2.5991904297580866E-2,2.5991444064394319E-2,2.6029188799499201E-2,2.6069720134730429E-2,2.6128236145353739E-2,2.6228209203391181E-2,2.6305087864211464E-2,2.6358778042755333E-2,2.6409062355000203E-2,2.6459337764312082E-2,2.6508858943985403E-2,2.6556863832662939E-2,2.6602570123310038E-2]
[112,3.2963897859444424E-2,3.3081610981436027E-2,3.318307204611215E-2,3.3259403916947594E-2,3.3319784633436766E-2,3.3365703566440086E-2,3.3398284423486357E-2,3.3415050798087265E-2,3.3425388991914939E-2,3.342555237115219E-2,3.3412162719698379E-2,3.339780633876166E-2,3.3377119382105302E-2,3.3341884178201608E-2,3.3314880568289018E-2,3.3296069086331981E-2,3.3278485946698577E-2,3.3260939657159261E-2,3.3243689449824698E-2,3.3226998434124688E-2,3.3211134892312977E-2,null,112,2.6452332002199746E-2,2.6116881380088358E-2,2.5831190393397624E-2,2.561833751587364E-2,2.5451218923467831E-2,2.5324863550200947E-2,2.5235594648584055E-2,2.5189779938111053E-2,2.5161572292697543E-2,2.5161126770182535E-2,2.5197665727385164E-2,2.5236902264051293E-2,2.5293548940929236E-2,2.5390328286569286E-2,2.5464751003410915E-2,2.551672601202588E-2,2.5565403957081113E-2,2.5614073283281708E-2,2.5662012473996243E-2,2.5708483812541493E-2,2.5752729983317301E-2]
[113,3.2964217407651208E-2,3.3080888793237451E-2,3.3181451854080724E-2,3.3257108074256525E-2,3.3316954295946832E-2,3.336246672963461E-2,3.339475915163348E-2,3.341137709035813E-2,3.3421623756078267E-2,3.3421785686300165E-2,3.3408514572538461E-2,3.3394285286338699E-2,3.3373781466059071E-2,3.3338858183720843E-2,3.3312093617290373E-2,3.3293448655738578E-2,3.3276021160440816E-2,3.3258630186533633E-2,3.324153267151142E-2,3.3224989396017701E-2,3.3209266267877124E-2,null,113,2.5607291202204382E-2,2.5282556830005024E-2,2.5005992480907839E-2,2.479993936863361E-2,2.463815952248603E-2,2.4515840681255417E-2,2.4429423554172169E-2,2.4385072438969358E-2,2.4357765916583209E-2,2.4357334633539854E-2,2.4392706331220818E-2,2.4430689431618517E-2,2.4485526491109473E-2,2.457921414912017E-2,2.4651259378204071E-2,2.4701574008548825E-2,2.4748696902336564E-2,2.4795811452325206E-2,2.4842219191319913E-2,2.4887205969598501E-2,2.4930038664624017E-2]
[114,3.2964531341627579E-2,3.3080179267857668E-2,3.317986008184115E-2,3.3254852507871302E-2,3.3314173614911402E-2,3.3359286683607214E-2,3.3391295733063098E-2,3.3407767841430847E-2,3.3417924585789072E-2,3.3418085092751015E-2,3.3404930436545799E-2,3.3390826014772168E-2,3.3370502117026968E-2,3.3335885282318012E-2,3.3309355564539844E-2,3.3290874201342913E-2,3.3273599619226824E-2,3.3256361235598275E-2,3.3239413733600731E-2,3.3223015605955419E-2,3.3207430427720119E-2,null,114,2.4789245925639965E-2,2.4474885461966068E-2,2.4207156190725661E-2,2.4007685617965534E-2,2.3851073965925701E-2,2.3732662704999227E-2,2.3649006248869432E-2,2.3606071971968515E-2,2.3579637784364022E-2,2.3579220284838165E-2,2.3613462011054721E-2,2.3650231716293452E-2,2.3703316967221884E-2,2.3794011703244269E-2,2.3863755394577097E-2,2.3912462688070703E-2,2.3958080207300531E-2,2.4003689649041524E-2,2.4048614859203583E-2,2.4092164502156153E-2,2.4133628875554196E-2]
[115,3.2964839808855118E-2,3.3079482075904831E-2,3.3178295988831374E-2,3.3252636167802496E-2,3.3311441295516664E-2,3.3356161947317053E-2,3.3387892554570975E-2,3.3404221370058496E-2,3.3414289757825566E-2,3.341444886657019E-2,3.3401408642034225E-2,3.3387426912545148E-2,3.3367279807329675E-2,3.3332964089129558E-2,3.3306665134609892E-2,3.328834452394136E-2,3.3271220195095319E-2,3.3254131747482818E-2,3.32373316491128E-2,3.3221076144580808E-2,3.3205626516751963E-2,null,115,2.399733377484645E-2,2.3693015815032317E-2,2.3433839376342146E-2,2.3240741057095504E-2,2.3089132495695726E-2,2.2974503983041704E-2,2.2893520004876444E-2,2.2851957303191797E-2,2.2826367581963533E-2,2.2825963424730578E-2,2.2859111276492584E-2,2.2894706348675513E-2,2.2946095753244605E-2,2.303389317789277E-2,2.3101408855308536E-2,2.3148560159022412E-2,2.319272039353917E-2,2.3236872808407676E-2,2.3280362849827596E-2,2.3322521267444513E-2,2.336266103092767E-2]
[116,3.2965142951603799E-2,3.307879689922566E-2,3.3176758859917221E-2,3.3250458040168018E-2,3.3308756087508273E-2,3.3353091090713383E-2,3.3384548058508656E-2,3.340073605290228E-2,3.3410717608327367E-2,3.3410875343214519E-2,3.339794757684178E-2,3.3384086423662529E-2,3.3364113061921774E-2,3.3330093267004424E-2,3.3304021096014491E-2,3.328585846564458E-2,3.3268881798945271E-2,3.3251940701729099E-2,3.3235285465071485E-2,3.3219170124209718E-2,3.3203853709341535E-2,null,116,2.3230719902804058E-2,2.2936123629475346E-2,2.2685226794849439E-2,2.2498297161113123E-2,2.2351531861465452E-2,2.2240565253109537E-2,2.2162168377494684E-2,2.2121933434071487E-2,2.209716120124296E-2,2.2096769959312361E-2,2.2128858880608216E-2,2.2163316843671191E-2,2.2213064576435449E-2,2.2298057246064304E-2,2.2363416084712671E-2,2.2409061105484601E-2,2.2451810608947635E-2,2.249455254239623E-2,2.2536653262280375E-2,2.2577464897988449E-2,2.261632236692572E-2]
[117,3.2965440907166466E-2,3.3078123430441808E-2,3.317524800431948E-2,3.3248317145664119E-2,3.3306116783299089E-2,3.3350072732566849E-2,3.3381260740418028E-2,3.3397310322066387E-2,3.3407206530267297E-2,3.3407362915001571E-2,3.3394545683880006E-2,3.3380803045286234E-2,3.3361000456149537E-2,3.3327271524469682E-2,3.3301422259334856E-2,3.328341490811737E-2,3.3266583378880332E-2,3.3249787112738183E-2,3.3233274261054602E-2,3.3217296687481745E-2,3.3202111208061824E-2,null,117,2.2488596132914873E-2,2.2203410977714364E-2,2.1960529247398743E-2,2.1779571234514579E-2,2.1637494473778222E-2,2.1530072786371691E-2,2.1454180365432316E-2,2.1415230763220265E-2,2.1391249902776622E-2,2.1390871162914857E-2,2.1421934981528137E-2,2.1455292160772355E-2,2.1503450665729541E-2,2.1585728179992766E-2,2.1648999081356337E-2,2.1693185938174781E-2,2.1734569777117914E-2,2.1775946287733397E-2,2.1816702068723735E-2,2.1856209946224926E-2,2.1893826084239568E-2]
[118,3.2965733808087316E-2,3.3077461372504668E-2,3.3173762754593383E-2,3.3246212538109665E-2,3.3303522216170611E-2,3.3347105538410915E-2,3.3378029146787336E-2,3.3393942662756526E-2,3.3403754971050414E-2,3.3403910028707573E-2,3.3391201458807585E-2,3.3377575325487685E-2,3.3357940613620629E-2,3.3324497613801629E-2,3.329886747544375E-2,3.3281012770907559E-2,3.3264323918636096E-2,3.324767002829776E-2,3.3231297147818584E-2,3.3215455006079031E-2,3.3200398242497542E-2,null,118,2.1770180106896936E-2,2.1494105423038326E-2,2.1258982747127841E-2,2.1083805585997793E-2,2.0946267584232948E-2,2.0842277571693584E-2,2.0768809597936286E-2,2.073110427504939E-2,2.0707889505381893E-2,2.0707522867655072E-2,2.0737594330802314E-2,2.0769885891174671E-2,2.0816505937035174E-2,2.089615503332445E-2,2.0957404697840264E-2,2.1000179972557462E-2,2.1040241773888892E-2,2.1080296480879931E-2,2.1119750287830433E-2,2.1157996056448317E-2,2.1194410518592628E-2]
[119,3.2966021782370625E-2,3.3076810438273263E-2,3.3172302465660053E-2,3.3244143303065021E-2,3.3300971258565903E-2,3.3344188218584092E-2,3.3374851872916889E-2,3.3390631611054822E-2,3.3400361430234282E-2,3.3400515183284574E-2,3.3387913447817441E-2,3.3374401861114178E-2,3.3354932204181509E-2,3.3321770329190592E-2,3.3296355633814612E-2,3.3278651009858162E-2,3.3262102436087071E-2,3.3245588528182157E-2,3.3229353265991524E-2,3.3213644279508125E-2,3.31987140681127E-2,null,119,2.1074714459930942E-2,2.0807459205209673E-2,2.0579847713679121E-2,2.0410266729623143E-2,2.0277122491861123E-2,2.0176454525964331E-2,2.0105333547907951E-2,2.0068832754314436E-2,2.004635960154464E-2,2.0046004678880569E-2,2.0075115487720317E-2,2.0106375470865669E-2,2.0151506204558748E-2,2.0228610849431203E-2,2.0287903846795852E-2,2.032931263322171E-2,2.0368094630203344E-2,2.0406869759375199E-2,2.0445063184636795E-2,2.0482087163214639E-2,2.0517338337766509E-2]
[120,3.2966304953682135E-2,3.3076170350111678E-2,3.3170866513881014E-2,3.3242108556516659E-2,3.3298462820463781E-2,3.3341319526370539E-2,3.3371727560892461E-2,3.3387375751806836E-2,3.3397024457359592E-2,3.3397176927691952E-2,3.3384680245537535E-2,3.3371281295761168E-2,3.3351973941994517E-2,3.3319088504998762E-2,3.3293885660918843E-2,3.3276328615596817E-2,3.3259917981827147E-2,3.3243541722822956E-2,3.3227441784830836E-2,3.3211863733943581E-2,3.3197057965175025E-2,null,120,2.0401466022157592E-2,2.014274845209648E-2,1.9922408193467363E-2,1.9758244611506933E-2,1.9629353774870951E-2,1.9531901729653595E-2,1.9463052770157713E-2,1.9427718025756931E-2,1.9405962797922029E-2,1.9405619215684143E-2,1.9433800058720668E-2,1.9464061418856409E-2,1.9507750417330053E-2,1.9582391895016375E-2,1.9639790732241914E-2,1.9679876683676493E-2,1.9717419760436207E-2,1.9754956188697034E-2,1.9791929495956838E-2,1.9827770715354621E-2,1.9861895764279956E-2]
[]
[]
[null,3.0456246275708754E-2,2.9036582871129424E-2,2.8796404211753002E-2,2.8854817800466837E-2,2.892726865566364E-2,2.8983309608370922E-2,2.8939020119962411E-2,2.8965306029806959E-2,2.8964065736757805E-2,2.8958377083385223E-2,2.8939137706016194E-2,2.8840869327170893E-2,2.8821199247386131E-2,2.876449549195792E-2,2.8706514549102113E-2,2.8653423417314139E-2,2.8612857213698328E-2,2.8577767115688602E-2,2.8536216833302319E-2,2.8479548695535817E-2,2.8399166803285247E-2]
[null,{"$f":"B144-B147","v":2.5100586779733813E-3},{"$f":"C144-C147","v":4.0395874789822539E-3},4.3744623021280127E-3,4.387290756049822E-3,4.3711941648001407E-3,4.3580099179996168E-3,4.4327074409300504E-3,4.4220697219998772E-3,4.4329587206017873E-3,4.4387998443067289E-3,4.445542539521341E-3,4.5304119685902755E-3,4.530774694608386E-3,4.5545930130408419E-3,4.5873711118167293E-3,4.6229051982826785E-3,4.647060768128819E-3,4.6657746071343542E-3,4.6912249515285165E-3,4.7323150384077639E-3,4.7978911618897779E-3]
[]
[]
[null,"Benodigde input voor SmithWilsonBruteForce"]
[]
[null,1,2,3,4,5,6,7,8,9,10,11,12,13,14,15,16,17,18,19,20,21]
[1,{"$f":"IF(B$22>=$A154,1,0)","v":1},1,1,1,1,1,1,1,1,1,1,1,1,1,1,1,1,1,{"$f":"IF(T$22>=$A154,1,0)","v":1},1,1]
[2,{"$f":"IF(B$22>=$A155,1,0)","v":1},1,1,1,1,1,{"$f":"IF(H$22>=$A155,1,0)","v":1},1,1,1,1,1,{"$f":"IF(N$22>=$A155,1,0)","v":1},1,1,1,1,1,1,1,1]
[3,1,1,1,1,1,1,1,1,1,1,1,1,1,1,1,1,1,1,1,1,1]
[4,1,1,1,1,1,1,1,1,1,1,1,1,1,1,1,1,1,1,1,1,1]
[5,1,1,1,1,1,1,1,1,1,1,1,1,1,1,1,1,1,1,1,1,1]
[6,1,1,1,1,1,1,1,1,1,1,1,1,1,1,1,1,1,1,1,1,1]
[7,1,1,1,1,1,1,1,1,1,1,1,1,1,1,1,1,1,1,1,1,1]
[8,1,1,1,1,1,1,1,1,1,1,1,1,1,1,1,1,1,1,1,1,1]
[9,1,1,1,1,1,1,1,1,1,1,1,1,1,1,1,1,1,1,1,1,1]
[10,1,1,1,1,1,1,1,1,1,1,1,1,1,1,1,1,1,1,1,1,1]
[11,1,1,1,1,1,1,1,1,1,1,1,1,1,1,1,1,1,1,1,1,1]
[12,1,1,1,1,1,{"$f":"IF(G$22>=$A165,1,0)","v":1},1,1,1,1,1,{"$f":"IF(M$22>=$A165,1,0)","v":1},1,1,1,1,1,{"$f":"IF(S$22>=$A165,1,0)","v":1},1,1,1]
[13,1,1,1,1,1,1,1,1,1,1,1,1,1,1,1,1,1,1,1,1,1]
[14,1,1,1,1,1,1,1,1,1,1,1,1,1,1,1,1,1,1,1,1,1]
[15,1,1,1,1,1,1,1,1,1,1,1,1,1,1,1,1,1,1,1,1,1]
[16,1,1,1,1,1,1,1,1,1,1,1,1,1,1,1,1,1,1,1,1,1]
[17,1,1,1,1,1,1,1,1,1,1,1,1,1,1,1,1,1,1,1,1,1]
[18,1,1,1,1,1,1,1,1,1,1,1,1,1,1,1,1,1,1,1,1,1]
[19,1,1,1,1,1,1,1,1,1,1,1,1,1,1,1,1,1,1,1,1,1]
[20,1,1,1,1,1,1,1,1,1,1,1,1,1,1,1,1,1,1,1,1,1]
[21,0,0,0,0,0,0,0,0,0,0,0,0,0,0,0,0,0,0,0,0,0]
[22,0,0,0,0,0,0,0,0,0,0,0,0,0,0,0,0,0,0,0,0,0]
[23,0,0,0,0,0,0,0,0,0,0,0,0,0,0,0,0,0,0,0,0,0]
[24,0,0,0,0,0,0,0,0,0,0,0,0,0,0,0,0,0,0,0,0,0]
[25,0,0,0,0,0,0,0,0,0,0,0,0,0,0,0,0,0,0,0,0,0]
[26,0,0,0,0,0,0,0,0,0,0,0,0,0,0,0,0,0,0,0,0,0]
[27,0,0,0,0,0,0,0,0,0,0,0,0,0,0,0,0,0,0,0,0,0]
[28,0,0,0,0,0,0,0,0,0,0,0,0,0,0,0,0,0,0,0,0,0]
[29,0,0,0,0,0,0,0,0,0,0,0,0,0,0,0,0,0,0,0,0,0]
[30,0,0,0,0,0,0,0,0,0,0,0,0,0,0,0,0,0,0,0,0,0]
[31,0,0,0,0,0,0,0,0,0,0,0,0,0,0,0,0,0,0,0,0,0]
[32,0,0,0,0,0,0,0,0,0,0,0,0,0,0,0,0,0,0,0,0,0]
[33,0,0,0,0,0,0,0,0,0,0,0,0,0,0,0,0,0,0,0,0,0]
[34,0,0,0,0,0,0,0,0,0,0,0,0,0,0,0,0,0,0,0,0,0]
[35,0,0,0,0,0,0,0,0,0,0,0,0,0,0,0,0,0,0,0,0,0]
[36,0,0,0,0,0,0,0,0,0,0,0,0,0,0,0,0,0,0,0,0,0]
[37,0,0,0,0,0,0,0,0,0,0,0,0,0,0,0,0,0,0,0,0,0]
[38,0,0,0,0,0,0,0,0,0,0,0,0,0,0,0,0,0,0,0,0,0]
[39,0,0,0,0,0,0,0,0,0,0,0,0,0,0,0,0,0,0,0,0,0]
[40,0,0,0,0,0,0,0,0,0,0,0,0,0,0,0,0,0,0,0,0,0]
[41,0,0,0,0,0,0,0,0,0,0,0,0,0,0,0,0,0,0,0,0,0]
[42,0,0,0,0,0,0,0,0,0,0,0,0,0,0,0,0,0,0,0,0,0]
[43,0,0,0,0,0,0,0,0,0,0,0,0,0,0,0,0,0,0,0,0,0]
[44,0,0,0,0,0,0,0,0,0,0,0,0,0,0,0,0,0,0,0,0,0]
[45,0,0,0,0,0,0,0,0,0,0,0,0,0,0,0,0,0,0,0,0,0]
[46,0,0,0,0,0,0,0,0,0,0,0,0,0,0,0,0,0,0,0,0,0]
[47,0,0,0,0,0,0,0,0,0,0,0,0,0,0,0,0,0,0,0,0,0]
[48,0,0,0,0,0,0,0,0,0,0,0,0,0,0,0,0,0,0,0,0,0]
[49,0,0,0,0,0,0,0,0,0,0,0,0,0,0,0,0,0,0,0,0,0]
[50,0,0,0,0,0,0,0,0,0,0,0,0,0,0,0,0,0,0,0,0,0]

{"sheet":"Curves met UFR, met VA","index":7,"n_rows":326,"n_cols":45,"rows_kept":326,"cut":false,"hidden":false,"merged":[]}
[]
[null,"Rentetermijnstructuur met UFR en met VA"]
[null,null,null,null,null,null,null,null,null,null,null,null,"Input annual rates","Zero","Zero, Bond, Swap"]
[null,null,null,null,null,null,null,null,null,null,null,null,"Coupon frequency",0,"coupons per year (only used for Bond and Swap, set to 0 for Zero instrument)"]
[null,null,null,null,null,null,null,null,null,null,null,null,"CRA applied to input rates",0,"basispoints"]
[null,null,null,null,null,null,null,null,null,null,null,null,"Mininum alpha",0.13220699999999999]
[null,null,null,null,null,null,null,null,null,null,null,null,"Bandwith convergence UFR",100,"basispoint intensity"]
[null,null,null,null,null,null,null,null,null,null,null,null,"Convergence at T=",40,"years"]
[]
[]
[]
[]
[]
[]
[]
[]
[]
[]
[null,"Rentes",null,null,null,null,null,null,null,null,null,null,null,null,null,null,null,null,null,null,null,null,null,null,"Discount factors"]
[]
["UFR",{"$f":"'Configuratie en berekeningen'!J8","v":3.3000000000000002E-2},{"$f":"'Configuratie en berekeningen'!J9","v":3.3000000000000002E-2},{"$f":"'Configuratie en berekeningen'!J10","v":3.3000000000000002E-2},{"$f":"'Configuratie en berekeningen'!J11","v":3.3000000000000002E-2},{"$f":"'Configuratie en berekeningen'!J12","v":3.3000000000000002E-2},{"$f":"'Configuratie en berekeningen'!J13","v":3.3000000000000002E-2},{"$f":"'Configuratie en berekeningen'!J14","v":3.3000000000000002E-2},{"$f":"'Configuratie en berekeningen'!J15","v":3.3000000000000002E-2},{"$f":"'Configuratie en berekeningen'!J16","v":3.3000000000000002E-2},{"$f":"'Configuratie en berekeningen'!J17","v":3.3000000000000002E-2},{"$f":"'Configuratie en berekeningen'!J18","v":3.3000000000000002E-2},{"$f":"'Configuratie en berekeningen'!J19","v":3.3000000000000002E-2},{"$f":"'Configuratie en berekeningen'!J20","v":3.3000000000000002E-2},{"$f":"'Configuratie en berekeningen'!J21","v":3.3000000000000002E-2},{"$f":"'Configuratie en berekeningen'!J22","v":3.3000000000000002E-2},{"$f":"'Configuratie en berekeningen'!J23","v":3.3000000000000002E-2},{"$f":"'Configuratie en berekeningen'!J24","v":3.3000000000000002E-2},{"$f":"'Configuratie en berekeningen'!J25","v":3.3000000000000002E-2},{"$f":"'Configuratie en berekeningen'!J26","v":3.3000000000000002E-2},{"$f":"'Configuratie en berekeningen'!J27","v":3.3000000000000002E-2},{"$f":"'Configuratie en berekeningen'!J28","v":3.3000000000000002E-2}]
["LLP",{"$f":"'Configuratie en berekeningen'!$K$8","v":20},{"$f":"'Configuratie en berekeningen'!$K$9","v":20},{"$f":"'Configuratie en berekeningen'!$K$10","v":20},{"$f":"'Configuratie en berekeningen'!$K$11","v":20},{"$f":"'Configuratie en berekeningen'!$K$12","v":20},{"$f":"'Configuratie en berekeningen'!$K$13","v":20},{"$f":"'Configuratie en berekeningen'!$K$14","v":20},{"$f":"'Configuratie en berekeningen'!$K$15","v":20},{"$f":"'Configuratie en berekeningen'!$K$16","v":20},{"$f":"'Configuratie en berekeningen'!$K$17","v":20},{"$f":"'Configuratie en berekeningen'!$K$18","v":20},{"$f":"'Configuratie en berekeningen'!$K$19","v":20},{"$f":"'Configuratie en berekeningen'!$K$20","v":20},{"$f":"'Configuratie en berekeningen'!$K$21","v":20},{"$f":"'Configuratie en berekeningen'!$K$22","v":20},{"$f":"'Configuratie en berekeningen'!$K$23","v":20},{"$f":"'Configuratie en berekeningen'!$K$24","v":20},{"$f":"'Configuratie en berekeningen'!$K$25","v":20},{"$f":"'Configuratie en berekeningen'!$K$26","v":20},{"$f":"'Configuratie en berekeningen'!$K$27","v":20},{"$f":"'Configuratie en berekeningen'!$K$28","v":20}]
[null,1,2,3,4,5,6,7,8,9,10,11,12,13,14,15,16,17,18,19,20,21,null,null,1,2,3,4,5,6,7,8,9,10,11,12,13,14,15,16,17,18,19,20,21]
[0,{"$f":"SmithWilsonBruteForce($N$3,B$277:B$326,$A$277:$A$326,'Curves met UFR, met VA'!B151:B271,$N$4,$N$5,B$21,$N$6,$N$7,$N$8)","v":0},{"$f":"SmithWilsonBruteForce($N$3,C$277:C$326,$A$277:$A$326,'Curves met UFR, met VA'!C151:C271,$N$4,$N$5,C$21,$N$6,$N$7,$N$8)","v":0},{"$f":"SmithWilsonBruteForce($N$3,D$277:D$326,$A$277:$A$326,'Curves met UFR, met VA'!D151:D271,$N$4,$N$5,D$21,$N$6,$N$7,$N$8)","v":0},{"$f":"SmithWilsonBruteForce($N$3,E$277:E$326,$A$277:$A$326,'Curves met UFR, met VA'!E151:E271,$N$4,$N$5,E$21,$N$6,$N$7,$N$8)","v":0},{"$f":"SmithWilsonBruteForce($N$3,F$277:F$326,$A$277:$A$326,'Curves met UFR, met VA'!F151:F271,$N$4,$N$5,F$21,$N$6,$N$7,$N$8)","v":0},{"$f":"SmithWilsonBruteForce($N$3,G$277:G$326,$A$277:$A$326,'Curves met UFR, met VA'!G151:G271,$N$4,$N$5,G$21,$N$6,$N$7,$N$8)","v":0},{"$f":"SmithWilsonBruteForce($N$3,H$277:H$326,$A$277:$A$326,'Curves met UFR, met VA'!H151:H271,$N$4,$N$5,H$21,$N$6,$N$7,$N$8)","v":0},{"$f":"SmithWilsonBruteForce($N$3,I$277:I$326,$A$277:$A$326,'Curves met UFR, met VA'!I151:I271,$N$4,$N$5,I$21,$N$6,$N$7,$N$8)","v":0},{"$f":"SmithWilsonBruteForce($N$3,J$277:J$326,$A$277:$A$326,'Curves met UFR, met VA'!J151:J271,$N$4,$N$5,J$21,$N$6,$N$7,$N$8)","v":0},{"$f":"SmithWilsonBruteForce($N$3,K$277:K$326,$A$277:$A$326,'Curves met UFR, met VA'!K151:K271,$N$4,$N$5,K$21,$N$6,$N$7,$N$8)","v":0},{"$f":"SmithWilsonBruteForce($N$3,L$277:L$326,$A$277:$A$326,'Curves met UFR, met VA'!L151:L271,$N$4,$N$5,L$21,$N$6,$N$7,$N$8)","v":0},{"$f":"SmithWilsonBruteForce($N$3,M$277:M$326,$A$277:$A$326,'Curves met UFR, met VA'!M151:M271,$N$4,$N$5,M$21,$N$6,$N$7,$N$8)","v":0},{"$f":"SmithWilsonBruteForce($N$3,N$277:N$326,$A$277:$A$326,'Curves met UFR, met VA'!N151:N271,$N$4,$N$5,N$21,$N$6,$N$7,$N$8)","v":0},{"$f":"SmithWilsonBruteForce($N$3,O$277:O$326,$A$277:$A$326,'Curves met UFR, met VA'!O151:O271,$N$4,$N$5,O$21,$N$6,$N$7,$N$8)","v":0},{"$f":"SmithWilsonBruteForce($N$3,P$277:P$326,$A$277:$A$326,'Curves met UFR, met VA'!P151:P271,$N$4,$N$5,P$21,$N$6,$N$7,$N$8)","v":0},{"$f":"SmithWilsonBruteForce($N$3,Q$277:Q$326,$A$277:$A$326,'Curves met UFR, met VA'!Q151:Q271,$N$4,$N$5,Q$21,$N$6,$N$7,$N$8)","v":0},{"$f":"SmithWilsonBruteForce($N$3,R$277:R$326,$A$277:$A$326,'Curves met UFR, met VA'!R151:R271,$N$4,$N$5,R$21,$N$6,$N$7,$N$8)","v":0},{"$f":"SmithWilsonBruteForce($N$3,S$277:S$326,$A$277:$A$326,'Curves met UFR, met VA'!S151:S271,$N$4,$N$5,S$21,$N$6,$N$7,$N$8)","v":0},{"$f":"SmithWilsonBruteForce($N$3,T$277:T$326,$A$277:$A$326,'Curves met UFR, met VA'!T151:T271,$N$4,$N$5,T$21,$N$6,$N$7,$N$8)","v":0},{"$f":"SmithWilsonBruteForce($N$3,U$277:U$326,$A$277:$A$326,'Curves met UFR, met VA'!U151:U271,$N$4,$N$5,U$21,$N$6,$N$7,$N$8)","v":0},{"$f":"SmithWilsonBruteForce($N$3,V$277:V$326,$A$277:$A$326,'Curves met UFR, met VA'!V151:V271,$N$4,$N$5,V$21,$N$6,$N$7,$N$8)","v":0},null,0]
[1,2.2159999999982128E-2,2.3900741506337191E-2,2.6634230192287816E-2,2.8356227500508775E-2,2.9918455120412163E-2,3.1360837753142065E-2,3.3085164357368489E-2,3.3764556547075664E-2,3.4866711274720345E-2,3.6351489876612852E-2,3.6428017492010391E-2,3.7108732132814348E-2,3.8715533833930095E-2,3.7764885000813049E-2,3.6821273691484815E-2,3.6661295911378254E-2,3.6636593939369466E-2,3.6584258424904953E-2,3.6503754483862845E-2,3.6394411485540949E-2,3.6262077795821045E-2,null,1,{"$f":"(1+B25)^-$A25","v":0.97832041950381288},{"$f":"(1+C25)^-$A25","v":0.97665716945260228},0.97405674834424805,0.97242567629562526,0.97095065636345523,0.96959275880451035,0.96797440762984044,0.96733825286112129,0.96630801735638738,0.9649235898903944,0.96485234200812098,0.96421905342894931,0.96272749124004164,0.96360940175694676,0.96448638292269329,0.96463522265568169,0.96465820890988907,{"$f":"(1+S25)^-$A25","v":0.96470691299085043},0.96478184056164829,0.96488362819964058,0.96500684665316294]
[2,2.3029999999977679E-2,2.5266573626313571E-2,2.7494867613442775E-2,2.913704447446408E-2,3.0639393766286549E-2,3.2222640505639388E-2,3.3424804545859832E-2,3.4315486906522752E-2,3.5608834119938759E-2,3.6389752976976109E-2,3.676831886948273E-2,3.7911821625200792E-2,3.8240100464571825E-2,3.7292971902349814E-2,3.6741281711524243E-2,3.6648944851666032E-2,3.6610425851420825E-2,3.6544005671765634E-2,3.6449081540855577E-2,3.6328242525522914E-2,3.6197312256926351E-2,null,2,{"$f":"(1+B26)^-$A26","v":0.95548365267804991},0.95131950903569984,0.94719779316644148,0.94417734940485487,0.94142672619351353,0.93854097723522667,0.93635867242823845,0.93474670959482697,0.93241340169597053,0.93100878556639155,0.93032901204532481,0.92828019106475435,0.92769326215130654,0.92938814671070447,0.93037753674648971,0.930543286138657,0.93061244280951838,0.93073171111977759,0.93090220274569369,0.93111930744135218,0.93135462826634308]
[3,2.422999999996045E-2,2.6295424046220317E-2,2.8302094904730346E-2,2.9877774898951603E-2,3.1454005719086631E-2,3.273635646381523E-2,3.3905216453653297E-2,3.499370913855504E-2,3.5881823179626737E-2,3.6629357221966696E-2,3.741698404634497E-2,3.7862840435805234E-2,3.7766942315766272E-2,3.7082370425414179E-2,3.6706384611233434E-2,3.6627382260298047E-2,3.6574867507529918E-2,3.6494138540777765E-2,3.6386743204772198E-2,3.6263007828922555E-2,3.6135486363955804E-2,null,3,0.93069530507369713,0.92508752075971212,0.91968232130018512,0.91546752294503708,0.91127697993288781,0.90788659007249961,0.9048108930835469,0.90195915223488565,0.89964125459980138,0.89769641014748081,0.89565331721441721,0.89449951958278218,0.89474751962758015,0.89652054198573294,0.89749632821202652,0.89770154097676857,0.89783798542761351,0.8980477903140951,0.89832699922730286,0.89864883287684361,0.89898067496218792]
[4,2.5259999999948324E-2,2.7199983581055909E-2,2.9065927959638138E-2,3.0678686231604413E-2,3.2031158165997109E-2,3.3268533114600318E-2,3.4516242197454305E-2,3.5352099780049828E-2,3.618841409379292E-2,3.7150507710017155E-2,3.7503948334556059E-2,3.7602350564438058E-2,3.7490420062323171E-2,3.6970908311531714E-2,3.667585171397425E-2,3.6596473931984841E-2,3.6529750552577456E-2,3.6436118476426582E-2,3.6323189242792875E-2,3.6200211571014274E-2,3.6076456461455519E-2,null,4,0.90503201895791474,0.89821434118074039,0.89171732314991559,0.88614913759511138,0.88151308388826843,0.87729809273223103,0.8730733776029912,0.87025740127671891,0.86745123955236059,0.86423701460651503,0.86305995723174123,0.86273260660921869,0.86310497331361602,0.86483590036397417,0.86582091221615842,0.86608614498486769,0.86630917292810983,0.86662226629689276,0.86700007502515342,0.86741173536637528,0.86782624481066117]
[5,2.6189999999932656E-2,2.8030807510217359E-2,2.9868520632503115E-2,3.1295121485906296E-2,3.259764570436996E-2,3.388438889892309E-2,3.4898314551908616E-2,3.5703187739338782E-2,3.6693345033417035E-2,3.7273354024080163E-2,3.7367377407324431E-2,3.7414071225052581E-2,3.7319598519875763E-2,3.6893566782571829E-2,3.6641429979054063E-2,3.6556058287047E-2,3.6476210462996983E-2,3.6375397811431398E-2,3.6260913031683994E-2,3.6140039651127331E-2,3.6020085683537761E-2,null,5,0.87874144269690146,0.87090212882013518,0.86315955478531303,0.85720596269889593,0.85181316384636319,0.84652562911601148,0.84238689468054773,0.83911876900369142,0.83511915830634187,0.83278691277905614,0.83240957659078862,0.83222226043920311,0.83260129796312499,0.83431317174657293,0.8353282932971563,0.83567234192360396,0.8359942832242363,0.83640096596909241,0.8368630906103014,0.83735133578246623,0.8378362051324395]
[6,2.7049999999917196E-2,2.8871477454224248E-2,3.0516837392195351E-2,3.1889528132071909E-2,3.3222339545025736E-2,3.4307892479322755E-2,3.5266389606354087E-2,3.6204637248522742E-2,3.6871858058918905E-2,3.7197993597019696E-2,3.7249663724490345E-2,3.7284451140907171E-2,3.719700557332084E-2,3.6828587873137142E-2,3.660025613642115E-2,3.6507055739626093E-2,3.6418925922511614E-2,3.6314796915895453E-2,3.6200649913574079E-2,3.6082463914332896E-2,3.5966243699883105E-2,null,6,0.85202135192859751,0.84301098374813199,0.83496726240858532,0.82832499988172903,0.82193462208828727,0.81677223860616033,0.81224549629507714,0.80784271117400819,0.80472867301501994,0.80321163733758216,0.80297159746502178,0.80281003542440477,0.80321622813770122,0.80493019750662831,0.80599459440014209,0.80642953155154606,0.8068410577910391,0.80732760878297849,0.80786136298896316,0.80841443750471997,0.80895874358312836]
[7,2.7909999999890189E-2,2.9569066286833534E-2,3.1137125206338601E-2,3.2525771539444914E-2,3.3679684946049449E-2,3.4707548222638884E-2,3.5758421443511823E-2,3.642738588854133E-2,3.6864631569425876E-2,3.7121305467729959E-2,3.716206010336931E-2,3.7184394621210037E-2,3.709794128421029E-2,3.6766551525547975E-2,3.6551938179711252E-2,3.645354673226664E-2,3.6360761794339114E-2,3.6255442424939721E-2,3.6142637781843678E-2,3.6027399680044203E-2,3.5914806461414539E-2,null,7,0.82473487994616501,0.81547678286177194,0.8068355682282532,0.79927034113140549,0.79304554951959971,0.78754735811797016,0.78197107393336918,0.77844483264924436,0.77614984707145518,0.77480623674302274,0.77459314317300976,0.77447639119695388,0.77492843115241083,0.77666396949658711,0.77779030200958876,0.77830730345485144,0.7787952051355097,0.77934944167561238,0.77994356902704753,0.78055104764965666,0.78114510607149834]
[8,2.863999999988831E-2,3.0229783942311128E-2,3.1787481352548941E-2,3.3012746571104756E-2,3.4107694206946926E-2,3.5207698299574153E-2,3.6009016792979409E-2,3.6476613668369851E-2,3.6839212428271484E-2,3.7060704117617194E-2,3.7089817260119728E-2,3.7099290134137597E-2,3.7009973913434191E-2,3.6703478863013395E-2,3.6499505459186787E-2,3.6398323787236064E-2,3.630307868881455E-2,3.6197830057439262E-2,3.608693203996105E-2,3.5974744933354064E-2,3.5865655947279418E-2,null,8,0.7977976131629092,0.78800176558849411,0.77853468470617382,0.77117786704738733,0.76466963405405475,0.75819349902119615,0.75351468041415182,0.75079944101081775,0.74870148056096086,0.74742319668538426,0.74725536011155447,0.74720075836100486,0.74771575644904098,0.74948604821808895,0.75066679596735419,0.75125328614664622,0.75180583658177769,0.75241695286406407,0.75306147649782451,0.75371412419232042,0.75434935886253884]
[9,2.9329999999872403E-2,3.0908181427622194E-2,3.2302067322553807E-2,3.3467054969804622E-2,3.4618663935824134E-2,3.5491518277525724E-2,3.6099236084106368E-2,3.6497132290537193E-2,3.6816697304612234E-2,3.700775488026542E-2,3.702468279106208E-2,3.7020946583871783E-2,3.6926847660323503E-2,3.66400268551339E-2,3.6445309688051486E-2,3.6342874480676191E-2,3.6246572415187694E-2,3.6142178726201069E-2,3.6033510418658876E-2,3.5924393220382544E-2,3.5818679914543017E-2,null,9,0.77091824679695531,0.7603615085969111,0.7511710229927292,0.74358440000282311,0.73616848717336758,0.73060238668196886,0.72675464886016194,0.72424758596301519,0.72224102926271849,0.72104432486361081,0.7209384018364049,0.72096177892113134,0.72155082454949704,0.7233495828278913,0.72457356468684309,0.72521839061719873,0.72582519018137714,0.72648361238519643,0.7271697001094094,0.72785934642342165,0.72852817248328627]
[10,3.0029999999839463E-2,3.1458837750981239E-2,3.2781728255698361E-2,3.3990705631586238E-2,3.4932855751365066E-2,3.5624416933579983E-2,3.6155428332295791E-2,3.6511077609937992E-2,3.6793451068217298E-2,3.6957343799508768E-2,3.6961638392890128E-2,3.6945034670118559E-2,3.684739054128694E-2,3.6577191575927426E-2,3.6390704453437284E-2,3.6288037287493635E-2,3.6191609619998566E-2,3.6088572031077515E-2,3.598231475132585E-2,3.5876238657011728E-2,3.5773771651746555E-2,null,10,0.74387722322916427,0.73363659511965584,0.72429342228898219,0.71586915513254146,0.70937887950069767,0.70465605399228137,0.70105313264478419,0.69865137909009822,0.69675091379668119,0.69565047096849519,0.69562166102876133,0.69573305306101119,0.69638853085952279,0.6982058998844739,0.6994632624860444,0.70015654400817817,0.7008083804228612,0.70150563673370692,0.70222548004591867,0.70294490644356511,0.70364062528957105]
[11,3.0609999999856363E-2,3.1971188395188754E-2,3.3319759578929853E-2,3.4333244134366003E-2,3.5104387695789718E-2,3.5718635730007886E-2,3.6199161417321379E-2,3.6517730197517251E-2,3.6767111665105379E-2,3.6906155485113112E-2,3.6898022438504485E-2,3.6871146142555711E-2,3.6771404040389699E-2,3.6515554627558178E-2,3.6336501974417068E-2,3.6234299566848094E-2,3.6138380214429278E-2,3.6037022436726796E-2,3.5933269827000514E-2,3.5830178072530527E-2,3.5730829737275815E-2,null,11,0.71773169798665071,0.70738639632194122,0.69729720345345469,0.68981825394940388,0.68418627101044205,0.67973604995720238,0.67627665937744708,0.67399381518086432,0.67221262905804302,0.67122175050849719,0.67127966576091147,0.671471090070347,0.67218201611821626,0.67400937664240623,0.67529145271994173,0.6760244481737705,0.67671317118796415,0.67744177521923354,0.67818848080490335,0.67893131962798992,0.67964802476762132]
[12,3.1149999999849465E-2,3.2531538413105521E-2,3.3689457358834884E-2,3.4540351386000312E-2,3.5234040569926961E-2,3.5795101148516029E-2,3.623124736217731E-2,3.6516565547506152E-2,3.6736048191446713E-2,3.6852467037105763E-2,3.6834211509985337E-2,3.6799510517956158E-2,3.6698707883763726E-2,3.645545866292621E-2,3.6283201365353124E-2,3.6181946432438217E-2,3.6086973462831518E-2,3.5987503237135732E-2,3.5886292694888855E-2,3.5786111962609946E-2,3.5689757803340605E-2,null,12,0.69205059545817338,0.68102034861908045,0.67192214875328171,0.66532031500929145,0.65999017679905081,0.65571296080239028,0.65240876845163442,0.65025699353743127,0.64860696049907862,0.64773358501822731,0.64787045391839926,0.64813070735596079,0.64888735805399012,0.65071719353204471,0.65201637491602704,0.65278136066620995,0.65349976965922874,0.65425311590341817,0.65502060833717912,0.65578125220343353,0.65651374483803215]
[13,3.1729999999802194E-2,3.2933163596695625E-2,3.3930029631575431E-2,3.4703346584249894E-2,3.5341861795117113E-2,3.5855784189883E-2,3.625220690117481E-2,3.6507168569378523E-2,3.6699581224526767E-2,3.6797071084441191E-2,3.6770929398124652E-2,3.6730242446830985E-2,3.6629135638929222E-2,3.6397101783202546E-2,3.6231111434235075E-2,3.6131140798780326E-2,3.6037418838986035E-2,3.5939965654737671E-2,3.5841297564770835E-2,3.5743944896081459E-2,3.5650464306170804E-2,null,13,0.6662561558590504,0.65623762120888929,0.64805976656497311,0.64179141188869859,0.63666494257816442,0.63257082645290574,0.62943213245250995,0.62742232719198543,0.62591015775020453,0.62514548426367689,0.62535043096981247,0.62566955422586956,0.62646333308987068,0.628289109768979,0.62959873353782037,0.6303888959317846,0.63113063911558098,0.6319029091934234,0.63268584369606884,0.63345936426536154,0.6342030776039761]
[14,3.2159895362776858E-2,3.3210400904042814E-2,3.4124880889063069E-2,3.4841315873997969E-2,3.5430554941021208E-2,3.5902054327400901E-2,3.6262363723500446E-2,3.6489660160725412E-2,3.6659068746456525E-2,3.674096379573033E-2,3.670865202375917E-2,3.6663385165151663E-2,3.6562532090911759E-2,3.6340591371341269E-2,3.6180420747003117E-2,3.6081969016053206E-2,3.5989709268160253E-2,3.5894348509463825E-2,3.5798198508440349E-2,3.5703585651978065E-2,3.5612862302907722E-2,null,14,0.64201070951236183,0.63293225523969665,0.62514127995096869,0.61910935524242772,0.61419507191917355,0.61029284638078107,0.6073287596733723,0.60546684150458618,0.60408309477578082,0.60341538285313612,0.60367873475012734,0.60404788212097571,0.60487120031646913,0.60668725980450333,0.6080015062411408,0.60881084472691371,0.60957032876038042,0.61035640736220931,0.61115009158329936,0.61193216673224693,0.612683098141935]
[15,3.2469999999903854E-2,3.344010227323535E-2,3.4292138671762062E-2,3.4957420690778118E-2,3.5502066947189492E-2,3.5934870849893663E-2,3.6262344661651902E-2,3.6465849034234665E-2,3.6615907947072257E-2,3.6684837379739266E-2,3.6647692321924774E-2,3.6598936463846599E-2,3.6498751565861243E-2,3.6285976291600353E-2,3.6131239567517959E-2,3.6034468153817167E-2,3.5943814977323907E-2,3.5850583927967028E-2,3.5756910991513235E-2,3.5664947216069276E-2,3.5576869235559583E-2,null,15,0.61921059497120046,0.61054875125224528,0.60304766967635304,0.59725907596833672,0.59256425235172627,0.58886157596410926,0.58607641125418464,0.58435268836911802,0.58308512345237684,0.58250385191944354,0.58281701376833361,0.58322833631769555,0.58407450552919238,0.58587596855949742,0.58718976970334513,0.58801300996422401,0.58878531891330066,0.58958071843969162,0.59038104234105104,0.59116789088435284,0.59192254107374531]
[16,3.2731458152365223E-2,3.3639593531901157E-2,3.443524735080139E-2,3.5053998839573053E-2,3.5557815934238457E-2,3.595531825268794E-2,3.625423206654399E-2,3.6437467987594285E-2,3.6571110849373145E-2,3.662917718573766E-2,3.6588253201273124E-2,3.6536864824257886E-2,3.6437656788339101E-2,3.6233266921031682E-2,3.6083625979043576E-2,3.5988642964360995E-2,3.5899692065110234E-2,3.5808600828385106E-2,3.5717352750451958E-2,3.5627946701637159E-2,3.5542406722286035E-2,null,16,0.59731235638152724,0.58897086840318646,0.58176425760967099,0.57622471141998044,0.57175554601964806,0.56825545257229448,0.56563845120370271,0.56404054730498454,0.5628781433505039,0.56237388520386744,0.5627292262312279,0.56317576697688276,0.56403890334881623,0.56582158359182,0.56713054129910745,0.56796305737923569,{"$f":"(1+R40)^-$A40","v":0.56874388006524423},0.56954467307551404,0.57034804608536172,0.57113636927011335,0.57189168778506405]
[17,3.2960763699270812E-2,3.3812577009812772E-2,3.4556809734828331E-2,3.5132798566120282E-2,3.5599229832217416E-2,3.5965742854575655E-2,3.6239972470807791E-2,3.6405808416354324E-2,3.6525419567811079E-2,3.6574324447635753E-2,3.653046172316543E-2,3.6477119769438238E-2,3.6379118053826653E-2,3.6182448024989267E-2,3.603760270270806E-2,3.5944476777711065E-2,3.5857287968502627E-2,3.5768327099547248E-2,3.5679444287515683E-2,3.5592505228847271E-2,3.5509400356157794E-2,null,17,0.57620227310306416,0.56818427123060689,0.56127559265710103,0.55598979080644029,0.55174801668330209,0.54843895422441935,0.54597681830880607,0.54449356231195323,0.54342639502608503,0.54299070512952452,0.54338145773357627,0.54385705762908121,0.54473199564437358,0.54649232253358593,0.54779263507046683,0.54863037956971727,0.54941594444642283,0.55021870311467391,0.55102199780674399,0.55180892688507122,0.55256226326911961]
[18,3.3161735806269466E-2,3.396190314275227E-2,3.4658813074373018E-2,3.5195503959545515E-2,3.5628851560511654E-2,3.5968304067619972E-2,3.6221048112115239E-2,3.6371844770498596E-2,3.6479383070917137E-2,3.652051803088896E-2,3.647439180403711E-2,3.6419638681861821E-2,3.632301259558135E-2,3.6133487261551966E-2,3.5993168233091177E-2,3.5901938690776403E-2,3.5816545035854963E-2,3.5729690985263352E-2,3.564310913520008E-2,3.5558547781806782E-2,3.5477779511509988E-2,null,18,0.55586632050652063,0.54817386934639989,0.54156563135357727,0.5365339552052657,0.5325071742665104,0.52937517705310411,0.52705583690857394,0.52567714191354165,0.52469627262780116,0.52432158688635278,0.52474175577171522,0.52524096937879083,0.52612318465684049,0.52785813430251416,0.52914653059462669,0.52998597210574783,0.53077298889331803,0.53157473075327066,0.53237523238160067,0.53315828163809575,0.53390734167625664]
[19,3.3337362210421384E-2,3.4089787250058512E-2,3.4743133469829823E-2,3.524480105025507E-2,3.5649005609596163E-2,3.5964676736892631E-2,3.6198600844529416E-2,3.6336319642199744E-2,3.6433409627686597E-2,3.6467922917675422E-2,3.6420079670189898E-2,3.6364351391003025E-2,3.6269224076229012E-2,3.6086340927518279E-2,3.5950304387039722E-2,3.5860988418575657E-2,3.5777402906675082E-2,3.5692621969377392E-2,3.5608273977928206E-2,3.5526003054395794E-2,3.5447477157893648E-2,null,19,0.53628973539556946,0.52892399381336186,0.52261454297195731,0.51782366559908433,0.51399718694741181,0.51102953020263253,0.50884202334188178,0.50755877788525317,0.50665615390915519,0.50633569874939977,0.50677997942365782,0.50729799928349084,0.50818353938344418,0.50989057274171279,0.51116425349378602,0.51200232053905081,0.51278792792185435,0.5135860672553042,0.51438142854383517,0.51515845321768661,0.51590125974183398]
[20,3.3489999999954279E-2,3.4198293400561353E-2,3.4812560004150672E-2,3.5283139771191463E-2,3.5661523237667359E-2,3.5956173900286936E-2,3.6173518817997685E-2,3.629980325913329E-2,3.6387803447228695E-2,3.6416650072531809E-2,3.6367534603052754E-2,3.6311183313195272E-2,3.6217642162610586E-2,3.6040957913763938E-2,3.5908981523567585E-2,3.5821579628430689E-2,3.5739800118476994E-2,3.5657051339017531E-2,3.5574868683675431E-2,3.5494803291466592E-2,3.5418429681613572E-2,null,20,0.5174571885615783,0.5104152768353496,0.50438965862834906,0.49982407821998648,0.49618446872128402,0.49336954816257494,0.49130391048131172,0.49010788081892992,0.48927624592682473,0.48900395703163768,0.48946766270579273,0.49000025151888132,0.4908856739272171,0.49256268147780158,0.49381926645718466,0.49465329725760421,0.49543501602374729,0.4962273203134161,0.49701552096071661,0.49778467955996647,0.49851953734716126]
[21,3.3611648013081918E-2,3.4280384976827838E-2,3.4859940343474394E-2,3.5303001392650302E-2,3.5658593574356301E-2,3.5934760250962983E-2,3.6137605055527988E-2,3.6254011722563595E-2,3.6334224246620916E-2,3.6358351190248106E-2,3.630846470102278E-2,3.6251903812451358E-2,3.6160127743769754E-2,3.59893597596046E-2,3.5861343139931501E-2,3.5775939304590665E-2,3.569604161142137E-2,3.5615362086107272E-2,3.553535315766676E-2,3.5457482920494332E-2,3.5383242364676271E-2,null,21,0.49945309447927472,0.49271518086452842,0.48695284961099139,0.48259527542484421,0.47912752775184675,0.47645235442653799,0.4744974063465045,0.47337931578935527,0.47261047785378235,0.47237947683470949,0.47285724068757656,0.47339953779151678,0.47428085938802089,0.47592531471184213,0.47716200126799513,0.4779889047767959,0.47876385552323791,0.47954772521467459,0.4803264073992668,0.48108554695863343,0.48181047203241134]
[22,3.370544365078243E-2,3.4338873427540717E-2,3.4887486816778113E-2,3.530610746177576E-2,3.5641520523729486E-2,3.5901389106443693E-2,3.6091524568375721E-2,3.619939298458541E-2,3.6272937705851049E-2,3.629315823377488E-2,3.6242929157392245E-2,3.6186511467403815E-2,3.609665095064285E-2,3.5931551282380569E-2,3.580740407888694E-2,3.5724067364518719E-2,3.5646113677531011E-2,3.5567532337742236E-2,3.5489701451553612E-2,3.5414014645663405E-2,3.5341887933621141E-2,null,22,0.4822478793101535,0.47579225190384022,0.47027404806782291,0.46610839816405719,0.46279858157822901,0.46025112661951367,0.4583965450946032,0.45734787145970551,0.45663432362342404,0.45643834345925927,0.45692533281284831,0.45747297082782379,0.45834665065234681,0.45995640202200305,0.46117075215263653,0.46198779286958713,0.46275342780120071,0.46352657003278974,0.46429365998512107,0.46504089108921498,0.46575414453969749]
[23,3.3776931779030628E-2,3.4378679338190388E-2,3.4899562120897176E-2,3.5296356431291143E-2,3.561380270963177E-2,3.585921836650674E-2,3.6038149442739531E-2,3.6138595362341652E-2,3.6206400166534758E-2,3.6223378483672963E-2,3.6173139110349473E-2,3.6117133828336367E-2,3.6029284603867229E-2,3.5869604771910479E-2,3.5749217844316838E-2,3.5667979886107259E-2,3.5591997813760212E-2,3.551551515759388E-2,3.5439843098594048E-2,3.5366308143621072E-2,3.5296258663326086E-2,null,23,0.46578205423406888,0.4595895167643394,0.45429852484034039,0.45031066385165247,0.44714657416048403,0.44471634149596434,0.4429531637250041,0.44196657296995251,0.44130188336842657,0.4411356085049366,0.44162781062366385,0.44217717770012016,0.44304034542554294,0.44461379443803539,0.44580391470055397,0.44660889441384777,0.44736316678568683,0.448123750978834,0.44887760220566247,0.44961143126353559,0.45031164192730971]
[24,3.3830523422154313E-2,3.4403700217292554E-2,3.4899605322698646E-2,3.5276806732866817E-2,3.5578171328668251E-2,3.5810700960280828E-2,3.5979699811243382E-2,3.607365762006931E-2,3.6136495225488119E-2,3.6150775859211004E-2,3.6100782647768392E-2,3.6045393343977272E-2,3.5959609318489294E-2,3.5805103963806761E-2,3.568835583198271E-2,3.5609220158578481E-2,3.553521136886828E-2,3.5460806887136709E-2,3.5387257340057543E-2,3.531582844893344E-2,3.5247807269428E-2,null,24,0.45000318821002278,0.44405670303400124,0.43897793207854513,0.43515539147996124,0.43212630130829388,0.4298041043134247,0.42812452783026905,0.42719369703716209,0.42657234765164187,0.42643126954209076,0.42692536438730433,0.42747348654100392,0.4283238364019446,0.4298598467276466,0.43102429998737507,0.43181547230109574,0.43255675669514349,0.4333033407189959,0.43404266553880877,0.43476193120529749,0.43544803651679759]
[25,3.3869743640691397E-2,3.4417035773270044E-2,3.4890336785098564E-2,3.5249864505982664E-2,3.5536762885270079E-2,3.575774462062542E-2,3.5917892564111709E-2,3.6006148750711287E-2,3.6064665722888467E-2,3.6076696614018022E-2,3.6027146039527169E-2,3.5972524624207747E-2,3.5888827825620417E-2,3.5739257282438652E-2,3.5626018958740069E-2,3.5548968146100979E-2,3.5476914995738129E-2,3.5404552846638904E-2,3.5333077290377268E-2,3.5263698755066297E-2,3.5197648473434873E-2,null,25,0.43486489946759171,0.42914928397586399,0.42426939596537488,0.42060113631017182,0.41769758289126885,0.4154753546539649,0.41387256755854246,0.41299203468629681,0.41240928459776521,0.4122895791766546,0.41278283156879803,0.41332727297528377,0.41416297393734502,0.41566079415488649,0.4167985249105392,0.41757452287389191,0.41830154769676486,0.41903301535981763,0.41975682694796645,0.42046064630935898,0.42113184223865147]
[26,3.3897420539749534E-2,3.4421159512917576E-2,3.4873914097813374E-2,3.5217426297893928E-2,3.5491250363065774E-2,3.5701833096497992E-2,3.5854054066474017E-2,3.5937273843193784E-2,3.5992013635175013E-2,3.600216441088655E-2,3.5953205402964761E-2,3.5899463075774296E-2,3.5817851369865039E-2,3.5672983433705729E-2,3.5563122037389538E-2,3.5488123218515133E-2,3.5417993855735075E-2,3.5347627212299004E-2,3.5278168651959874E-2,3.5210778098015538E-2,3.5146635752950184E-2,null,26,0.42032599810527377,0.41482766644982899,0.41013474522498328,0.40661095399115893,0.40382455879358925,0.40169519089634231,0.40016322765712148,0.39932826400139287,0.39878003334264167,0.39867845710258021,0.39916862534152198,0.39970740386018005,0.40052702355962128,0.40198622193063011,0.40309649314991491,0.40385626799499574,0.40456805833735238,0.4052835664825018,0.40599112982666896,0.40667885286466099,0.40733455155865061]
[27,3.3915830681387593E-2,3.441805060958103E-2,3.4852051763686331E-2,3.5180988470599139E-2,3.5442943680896732E-2,3.5644118882139475E-2,3.5789206301762189E-2,3.5867954921549039E-2,3.5919376291550398E-2,3.5927952815623776E-2,3.5879696570412678E-2,3.5826912438081671E-2,3.5747365528651764E-2,3.5606976623210329E-2,3.5500358070615023E-2,3.542736718791839E-2,3.5359119488468815E-2,3.5290693873115897E-2,3.5223189686446554E-2,3.515772054299493E-2,3.5095419818870877E-2,null,27,0.40634975691752351,0.40105650020632672,0.39653985486163018,0.39315177451778915,0.39047508988677937,0.38843229538572982,0.38696591433763822,0.38617241625397603,0.38565518771931978,0.38556898956646607,0.38605424800845622,0.38658576362096547,0.38738820397979434,0.38880861334355393,0.38989095305580868,0.39063372235345439,0.39132955163429728,0.3920284853756284,0.39271927578524091,0.39339044685881708,0.39403024081297938]
[28,3.3926811851194172E-2,3.4409296038041548E-2,3.4826113776861289E-2,3.5141731721546554E-2,3.5392867202379996E-2,3.5585494679061025E-2,3.5724133183793416E-2,3.5798893114885377E-2,3.5847384937312876E-2,3.5854640960793382E-2,3.5807168714724558E-2,3.5755396601027112E-2,3.5677880705136555E-2,3.5541756600326213E-2,3.5438247590804162E-2,3.5367212680966098E-2,3.5300797286607288E-2,3.5234253128155757E-2,3.5168637233445876E-2,3.5105020603049208E-2,3.5044493491920958E-2,null,28,0.39290329104388272,0.38780409018553608,0.38345408769463307,0.38019386941222577,0.37762024813569134,0.37565844507183033,0.37425302432190716,0.37349742129065666,0.37300815653943542,0.37293500303189031,0.37341387650146485,0.37393685070099209,0.37472129344078664,0.37610296468534071,0.37715712084446634,0.37788232464451449,0.37856167370308569,0.37924360856474026,0.37991727658398078,0.38057160186037498,0.38119523362634633]
[29,3.3931851133304214E-2,3.439617023559749E-2,3.4797185725183422E-2,3.5100586819022617E-2,3.5341819935396757E-2,3.5526648824565799E-2,3.5659431926563734E-2,3.5730616767881473E-2,3.5776510009171147E-2,3.5782656546123226E-2,3.5736025757493017E-2,3.5685299602765008E-2,3.5609771097552034E-2,3.5477707293454674E-2,3.5377176757171558E-2,3.5308040487649128E-2,3.5243403150764241E-2,3.5178677741674047E-2,3.5114882243449941E-2,3.5053048311011858E-2,3.4994226358779246E-2,null,29,0.37995702997801034,0.3750418962423453,0.37084981889985158,0.36771039803250111,0.36523388236264243,0.36334809469641322,0.36199954364850834,0.36127872020340929,0.36081478889790708,0.36075270083511246,0.36122400907246111,0.36173743353826543,0.36250329408581755,0.36384645688666895,0.36487235924354333,0.36557962298361013,0.36624214548473144,0.36690681539054792,0.36756315713937432,0.36820047706764419,0.36880781365305709]
[30,3.3932154141026016E-2,3.4379697623906358E-2,3.4766131288857638E-2,3.5058286032335406E-2,3.529042255911774E-2,3.5468108527603404E-2,3.5595553058475504E-2,3.5663518872601996E-2,3.5707096323125187E-2,3.571230922991897E-2,3.5666558509481083E-2,3.5616896663424491E-2,3.5543304930895081E-2,3.5415106794471241E-2,3.5317426928389573E-2,3.5250128552633209E-2,3.5187211942079299E-2,3.5124240931279749E-2,3.5062197362711434E-2,3.5002076449210495E-2,3.4944891681864654E-2,null,30,0.3674842679720311,0.36274410708088878,0.35870203101192083,0.35567702105111804,0.35329224823874456,0.35147802157105434,0.35018270570404358,0.34949393512262023,0.34905305468395315,0.34900035332367296,0.34946316394138244,0.34996625708632206,0.35071314559320271,0.35201817530968443,0.35301590322477583,0.35370500637642566,0.35435049956744069,0.35499776978977421,0.35563670190557761,0.35625696796404549,0.35684797920924122]
[31,3.3928699748121627E-2,3.4360701954148309E-2,3.4733636752940944E-2,3.5015403582108862E-2,3.5239154348517099E-2,3.5410273760652755E-2,3.5532831740330506E-2,3.5597886327478401E-2,3.5639390546450045E-2,3.5643816674037598E-2,3.5598969727683061E-2,3.555037836947883E-2,3.5478668013360526E-2,3.5354150733894363E-2,3.5259197722535163E-2,3.5193674582145063E-2,3.5132419669374526E-2,3.5071138194424423E-2,3.5010778447503554E-2,3.4952301789488827E-2,3.4896687392773407E-2,null,31,0.35546078099000067,0.3508872771872274,0.34698796874429966,0.34407157095995977,0.34177369280518333,0.34002702264794654,0.33878169954091603,0.33812258751383184,0.3377027719702988,0.3376580334114182,0.33811162206617584,0.33860379225925474,0.33933148065148377,0.34059887043959552,0.34156862572908608,0.34223947530685805,0.34286785531048125,0.34349769962208349,0.34411923810040879,0.34472249316603448,0.34529723349095842]
[32,3.392228358151872E-2,3.4339845447945994E-2,3.4700246246123445E-2,3.497238760295529E-2,3.5188382296297283E-2,3.5353443940945972E-2,3.5471512377814207E-2,3.5533922898633774E-2,3.5573562727866159E-2,3.5577324934464194E-2,3.5533393722220419E-2,3.5485869589509056E-2,3.5415982158898629E-2,3.5294970572396611E-2,3.5202625067612736E-2,3.5138813740452468E-2,3.5079160857791392E-2,3.5019504396362588E-2,3.4960761409986718E-2,3.4903861727100249E-2,3.484975253596545E-2,null,32,{"$f":"(1+B56)^-$A56","v":0.34386450016098469},0.33945001724919199,0.3356868445985417,0.33287377099621585,0.33065838529785407,0.32897565599654516,0.32777742089888923,0.32714585766594928,0.32674537421507482,0.32670739070643739,0.32715120738794262,0.32763202183592277,0.3283404159746357,0.32957075331825314,0.33051283736470732,0.33116544555645305,0.33177672650776868,0.33238920789551946,0.33299345023476012,0.33357981202164166,0.334138405028444]
[33,3.3913552744589071E-2,3.4317659983754911E-2,3.4666389757753713E-2,3.4929585503010729E-2,3.5138384170473769E-2,3.5297839012628396E-2,3.5411768031718749E-2,3.5471767298982382E-2,3.5509723224530498E-2,3.5512924473826812E-2,3.5469911744720362E-2,3.5423444313166463E-2,3.5355319637816907E-2,3.5237647958618945E-2,3.5147795375634949E-2,3.5085632546780987E-2,3.5027522189174043E-2,3.4969427191851032E-2,3.4912235452082108E-2,3.4856847350738018E-2,3.4804180192128387E-2,null,33,0.33267523320646891,0.32841272999473009,0.32477958760310532,0.32206499518888593,0.3199280872960592,0.31830601999460212,0.31715225949720888,0.3165463791673131,0.31616371128208937,0.31613145840574908,0.31656509891182827,0.31703425733830454,0.31772337351195407,0.31891732049568577,0.31983211497128994,0.32046658026086788,0.32106085670186596,0.32165611109858094,0.32224322124415172,0.32281286834229928,0.32335549383736689]
[34,3.3903033656073944E-2,3.4294572045355354E-2,3.4632405497982965E-2,3.4887264156745479E-2,3.5089366831872137E-2,3.5243616157013546E-2,3.5353715770011007E-2,3.5411507461936553E-2,3.5447936043849104E-2,3.545066276612352E-2,3.5408564094242312E-2,3.5363137318915827E-2,3.5296714538149976E-2,3.5182226026881036E-2,3.509475670090012E-2,3.5034179816379796E-2,3.4977553242196979E-2,3.4920957594840374E-2,3.4865253489510639E-2,3.4811313740077843E-2,3.4760027662809945E-2,null,34,0.32187442660939708,0.31775738460354058,0.31424862868346765,0.31162806333219045,0.3095659562740844,0.30800156455656358,0.30688991713929858,0.30630806310623787,0.30594187919358634,0.30591448803059429,0.30633766983894195,0.30679498223013768,0.30746492731723524,0.30862320406711541,0.30951115471658347,0.31012764596562897,0.31070507799980346,0.31128330057303044,0.3118534962331212,0.31240665634998521,0.31293353941544649]
[35,3.3891154454639416E-2,3.4270922752087429E-2,3.4598557803276364E-2,3.4845626033960908E-2,3.504148082775993E-2,3.5190883072118817E-2,3.5297428838779066E-2,3.5353191834792463E-2,3.5388229379766711E-2,3.5390554236503169E-2,3.5349359657216972E-2,3.5304953363521019E-2,3.5240171713156965E-2,3.5128718303146123E-2,3.5043527540862263E-2,3.4984475291125028E-2,3.4929274965544099E-2,3.4874118318907632E-2,3.481984037945951E-2,3.4767288096018589E-2,3.4717324513992232E-2,null,35,0.31144496238868519,0.3074673238843747,0.30407771715032461,0.30154706563100642,0.29955637753183267,0.29804692958261492,0.29697525199911723,0.29641594753025352,0.29606507430031076,0.29604180782253336,0.29645434968939888,0.29689971748700816,0.29755067222885656,0.29867404303441286,0.29953564604877453,0.30013438908528972,0.30069518987045818,0.30125662347725385,0.30181016544733152,0.30234710551499078,0.30285850731601949]
[36,3.3878263092037786E-2,3.4246983992184843E-2,3.4565051517179146E-2,3.4804822117472156E-2,3.4994832046602919E-2,3.5139708548075133E-2,3.5242946328729374E-2,3.5296838328059188E-2,3.5330603944496941E-2,3.5332588108456298E-2,3.5292283433275395E-2,3.5248874426920374E-2,3.5185673834956299E-2,3.5077115733869402E-2,3.4994103786544439E-2,3.4936516456541833E-2,3.4882686371674465E-2,3.482891036780833E-2,3.4775999424070392E-2,3.4724776169433147E-2,3.4676078938636445E-2,null,36,0.30137098427312681,0.29752709929069993,0.2942517636280938,0.29180721255981551,0.28988482024200862,0.28842780654145878,0.28739414515985784,0.28685606837482008,0.2865194682072979,0.2864997012536154,0.28690150597158198,0.28733490618710672,0.28796711109521433,0.28905637280043367,0.28989216338421275,0.29047342971448881,0.29101785493614085,0.29156278041226535,0.29209996360072948,0.29262098146289001,0.2931171915247916]
[37,3.3864641990070998E-2,3.4222971454643147E-2,3.4532043569988957E-2,3.4764962272439304E-2,3.4949491043987146E-2,3.5090130902673433E-2,3.5190280862402057E-2,3.5242441414273129E-2,3.5275039561608379E-2,3.5276734601961568E-2,3.5237302474529164E-2,3.5194865425835165E-2,3.5133186957016838E-2,3.5027392236296917E-2,3.4946464215098727E-2,3.4890283930019805E-2,3.4837769828689247E-2,3.4785318247323227E-2,3.4733717515366136E-2,3.4683767349088956E-2,3.4636282794364925E-2,null,37,0.29163774885751909,0.28792232959391006,0.28475670545475618,0.28239470615200934,0.28053771399696298,0.27913081971904147,0.27813338607085497,0.27761534864606574,0.27729210034830953,0.27727530264099787,0.27766634247424726,0.27808781427912094,0.27870155777422351,0.27975753008778359,0.28056807288257241,0.28113217020129438,0.28166050922314506,0.28218923722555672,0.28271038311966035,0.28321580055614431,0.28369713028570531]
[38,3.385051994738153E-2,3.4199055182626337E-2,3.4499652323660923E-2,3.4726123585774316E-2,3.4905500516377197E-2,3.5042164717639768E-2,3.5139424711879252E-2,3.5189977761155733E-2,3.5221500383582072E-2,3.5222949828118688E-2,3.5184370571290646E-2,3.5142878717929316E-2,3.5082664899005245E-2,3.497950908051739E-2,3.4900574830181608E-2,3.4845745719778609E-2,3.4794495244178991E-2,3.4743314087332777E-2,3.4692969206203905E-2,3.4644238689474971E-2,3.4597915593523432E-2,null,38,0.2822314979929616,0.27863957966668257,0.27557939118520958,0.27329662950943545,0.2715023427861154,0.27014342419040155,0.2691805740932583,0.26868150312899208,0.26837078557220756,0.26835650731190536,0.26873681170048752,0.26914644511409636,0.26974205355505421,0.27076557098338228,0.27155145206210146,0.27209871628489596,0.27261128471949242,0.27312414888378711,0.27362959923468344,0.27411975611791201,0.27458653337782712]
[39,3.3836081836666088E-2,3.4175368138934514E-2,3.4467965127441991E-2,3.4688357083083821E-2,3.4862881297041959E-2,3.4995806221341796E-2,3.5090354668264379E-2,3.5139410700670171E-2,3.5169939018191432E-2,3.5171179650709261E-2,3.513343194476759E-2,3.5092857648267861E-2,3.5034052699206786E-2,3.4933418346002387E-2,3.4856392289264626E-2,3.480286058889881E-2,3.4752823370920893E-2,3.4702860900116983E-2,3.4653719929857996E-2,3.460615809812273E-2,3.4560947662487962E-2,null,39,0.27313934923097133,0.26966625636614866,0.26670748134018957,0.26450085180802213,0.2627667537994115,0.26145381801736256,0.26052403373338101,0.26004295630540625,0.25974403450342631,0.25973189415118525,0.260101539338018,0.26049946569308574,0.26107729500582094,0.2620692001577789,0.26283102034742056,0.2633618089321122,0.26385894241341845,0.26435629362412633,0.26484640516353719,0.2653216545728071,0.26577421914705418]
[40,3.382147652038614E-2,3.4152013171583784E-2,3.4437044436319342E-2,3.4651693144875928E-2,3.4821637169444752E-2,3.495103759039675E-2,3.5043035915942378E-2,3.5090693771281156E-2,3.512029978731368E-2,3.512136272725197E-2,3.508442415146229E-2,3.5044739335838626E-2,3.4987289327111482E-2,3.4889065643326722E-2,3.4813866605741373E-2,3.4761580708505768E-2,3.4712708415007842E-2,3.4663915152418179E-2,3.4615928543105801E-2,3.4569486854929998E-2,3.4525342640584045E-2,null,40,0.26434920162250436,0.26099051896233766,0.25812936297545719,0.25599594648761687,0.25431967884635803,0.25305086655258552,0.25215274152574602,0.25168877151618041,0.25140098477727574,0.25139065869161947,0.25174975897846003,0.2521361428920243,0.25269657155288178,0.25365770960309414,0.25439607893063915,0.25491076528901191,0.25539281426213423,0.25587501586454259,0.25635015589408672,0.25681086003997339,0.25724955985273112]
[41,3.380682332548024E-2,3.4129068687855701E-2,3.4406932771759768E-2,3.4616145877147897E-2,3.4781758732003398E-2,3.4907830385807026E-2,3.4997425111655378E-2,3.5043773520895494E-2,3.5072521294711834E-2,3.5073432897267276E-2,3.5037280360752154E-2,3.4998456856072613E-2,3.494230980803148E-2,3.4846392251453029E-2,3.477294327400271E-2,3.4721853745289799E-2,3.4674100088829318E-2,3.4626428791286967E-2,3.4579549330738146E-2,3.453418159955346E-2,3.449105945300901E-2,null,41,0.25584965458138897,0.25260120194377628,0.24983407601277818,0.24777112066380136,0.24615046651461314,0.24492403705092886,0.24405626283607873,0.24360858969947502,0.24333134153777841,0.24332255518513857,0.24367125556848043,0.24404628818804183,0.24458971135319751,0.24552092548360172,0.24623645857107074,0.24673542740313342,0.24720275277445494,0.24767017658271154,0.2481307193011468,0.24857724613484836,0.24900243410645703]
[42,3.3792217349039477E-2,3.4106593282824393E-2,3.4377656747447416E-2,3.4581716639416449E-2,3.4743226500216329E-2,3.4866148294876442E-2,3.4953472827112586E-2,3.4998591719106242E-2,3.5026538442630928E-2,3.5027321050533855E-2,3.4991931133445009E-2,3.4953940942750394E-2,3.4899046879875772E-2,3.4805336789583974E-2,3.4733564934740446E-2,3.4683624498264232E-2,3.4636945221613979E-2,3.4590350834520889E-2,3.4544533580650905E-2,3.4500195894564323E-2,3.4458053864129035E-2,null,42,0.24762993786817453,0.24448774836013232,0.24181124958556538,0.2398161540962252,0.2382490234755118,0.23706334206111754,0.23622469711583,0.23579257628875983,0.23552532582933425,0.23551784632897618,0.23585631630471093,0.23622020963412463,0.23674703423850479,0.23764916190518356,0.23834247416634971,0.23882611757466193,0.23927908708953999,0.23973211006794246,0.24017843352210488,0.24061115392360855,0.24102318536485329]
[43,3.3777733813008748E-2,3.408462951937774E-2,3.4349230338144743E-2,3.4548396892411182E-2,3.4706013394536939E-2,3.4825949315387517E-2,3.491112548148112E-2,3.495508709694839E-2,3.4982284008326037E-2,3.4982956580765556E-2,3.4948305802757318E-2,3.4911121307198423E-2,3.4857432277413558E-2,3.476583651804166E-2,3.4695672673580313E-2,3.4646836175981743E-2,3.4601189017017253E-2,3.4555628613682998E-2,3.4510830816193661E-2,3.446748144988665E-2,3.442627969563361E-2,null,43,0.23967985104426279,0.23664015213980083,0.23405104691602804,0.23212134629952061,0.23060576358465418,0.22945929030121229,0.2286486303615505,0.22823137506812113,0.22797362972018018,0.22796725952100236,0.22829568787872778,0.2286486700181887,0.22915931069418238,0.230033180589927,0.23070488510369011,0.23117359936702903,0.23161258460244236,0.2320515861155435,0.23248406967817672,0.23290335513334273,0.23330258559436232]
[44,3.3763431643367703E-2,3.4063207018042885E-2,3.4321657534609473E-2,3.4516170495418663E-2,3.4670086732751848E-2,3.4787187491120974E-2,3.4870326864614221E-2,3.4913196708428185E-2,3.4939689869062818E-2,3.4940268508661942E-2,3.4906333538447853E-2,3.4869927652679156E-2,3.4817397719859589E-2,3.4727828343350087E-2,3.4659207027148531E-2,3.4611431386820213E-2,3.4566776028984725E-2,3.4522208739734772E-2,3.447838975477957E-2,3.4435989076615048E-2,3.4395689776818505E-2,null,44,0.23198971099551127,0.22904890805642839,0.22654411746469638,0.22467747059646329,0.22321156362969152,0.22210284391711521,0.22131909372060898,0.22091606796388635,0.22066737717076351,0.22066194868810246,0.22098053914330457,0.22132285030293986,0.22181772599202773,0.22266415559487462,0.22331486054940308,0.223769043453447,0.22419441733015316,0.22461977687324605,0.22503879916568098,0.22544501985600077,0.22583180335893105]
[45,3.3749356415433418E-2,3.4042344984237083E-2,3.429493449961396E-2,3.4485015557761844E-2,3.4635409822174834E-2,3.4749814286134884E-2,3.4831019331745816E-2,3.4872856989189405E-2,3.4898687946300244E-2,3.4899186341314614E-2,3.4865944158514628E-2,3.4830290446093981E-2,3.4778875662256681E-2,3.4691249587495587E-2,3.4624108755708649E-2,3.4577352900289737E-2,3.4533650912739855E-2,3.4490037847185295E-2,3.4447159047835685E-2,3.4405669424567131E-2,3.4366236680712481E-2,null,45,0.22455030633600839,0.22170496821841021,0.21928155528320789,0.21747573409404422,0.21605772475057486,0.21498538118936389,0.21422752734426379,0.21383813990542175,0.21359808980893211,0.21359346087565589,0.21390242841100177,0.21423431757899114,0.21471384872872992,0.21553364234353939,0.21616394896142219,0.21660399759974208,0.2170161323330464,0.21742822766810657,0.2178341648582689,0.21822768809875004,0.21860237569399357]
[46,3.3735542779976369E-2,3.4022054276118929E-2,3.4269051317929566E-2,3.4454905928605228E-2,3.4601943228335763E-2,3.4713779668033462E-2,3.4793144734402093E-2,3.4834004572699362E-2,3.4859210925640483E-2,3.4859640721539131E-2,3.4827068739929468E-2,3.4792141496632789E-2,3.474179985896142E-2,3.4656038569303327E-2,3.4590319429649963E-2,3.4544544225688867E-2,3.4501758996347887E-2,3.4459063161464076E-2,3.441708784615205E-2,3.4376473547062192E-2,3.4337873289020271E-2,null,46,0.217352857682136,0.21459970412532561,0.21225486266241297,0.21050774271685652,0.20913593870445191,0.20809866389422485,0.20736574872453106,0.20698944801851391,0.20675765690001888,0.20675370690823514,0.20705327471484727,0.20737499687913705,0.20783960313437719,0.20863355034869902,0.20924405121714709,0.20967036018900609,0.21006962560962472,0.21046883124315902,0.21086205566000896,0.21124324463046046,0.2116061832257054]
[47,3.372201646327766E-2,3.4002339096684375E-2,3.4243993415413954E-2,3.4425812393098942E-2,3.4569645781998393E-2,3.4679032956758782E-2,3.4756645139573328E-2,3.479657691241389E-2,3.4821192797912515E-2,3.4821563910028219E-2,3.4789640069617267E-2,3.4755414381086647E-2,3.4706105777895457E-2,3.4622135036312063E-2,3.4557781867698534E-2,3.4512950045229251E-2,3.4471046709276143E-2,3.4429232925326847E-2,3.4388126225926907E-2,3.4348353327773307E-2,3.4310553220336049E-2,null,47,0.21038898293926273,0.20772487347923466,0.20545591830467763,0.20376547056250252,0.20243825827203377,0.20143480864462696,0.20072592486618454,0.20036219452558215,0.20013830890686299,0.2001349355354182,0.20042533246161864,0.20073714629963138,0.20118724461072721,0.20195611909834682,0.20254739684003531,{"$f":"(1+Q71)^-$A71","v":0.20296035678274388},0.20334711896966309,0.20373380491872792,0.20411468393322973,0.20448389665661967,0.20483542807544852]
[48,3.370879591694842E-2,3.3983198378076285E-2,3.4219742708148981E-2,3.4397703629921006E-2,3.4538475374475075E-2,3.46455234844949E-2,3.4721463379049355E-2,3.4760512748885253E-2,3.4784569257808373E-2,3.4784890134732738E-2,3.4753592968709723E-2,3.4720044747647894E-2,3.4671730896532083E-2,3.4589480477923651E-2,3.4526440457228746E-2,3.4482516531396668E-2,3.4441461897157355E-2,3.4400496713039574E-2,3.4360225503842212E-2,3.4321261797634728E-2,3.4284231149283473E-2,null,48,{"$f":"(1+B72)^-$A72","v":0.20365066687254943},0.20107259106108055,0.19887694936524097,0.19724123295433868,0.19595707120789815,0.19498626163789373,0.19430054774261704,0.19394890282088992,0.19373259412570484,0.19372971056449867,0.19401116899361259,0.19431333495744038,0.19474933804001704,0.19549389665575792,0.19606652288581963,0.19646651928891379,0.19684113946506906,0.19721567026584133,0.19758456539620423,0.19794215392481418,0.19828261415842713]
[49,3.3695893679391631E-2,3.3964626913470797E-2,3.4196278531163582E-2,3.4370546974873406E-2,3.4508389581671572E-2,3.4613201103519398E-2,3.468754346269054E-2,3.4725752453168779E-2,3.4749277989337912E-2,3.474955583508188E-2,3.4718864516575021E-2,3.4685970523717691E-2,3.4638614904457299E-2,3.4558018344523544E-2,3.4496241381061221E-2,3.4453191572455966E-2,3.4412954046221245E-2,3.4372805655418448E-2,3.4333338463928831E-2,3.4295153364281239E-2,3.425886303881609E-2,null,49,0.19713023434290713,0.19463530308610219,0.1925105068059825,0.19092766266071398,0.18968507722705344,0.18874577632311451,0.18808241256709277,0.18774239626872355,0.18753335796091142,0.18753089055664426,0.18780364464735247,0.18809642338294136,0.18851873847378545,0.18923972059185556,0.1897942551148995,0.19018166737145553,0.19054450102054854,0.19090723494086997,0.19126450114627436,0.19161081092243906,0.19194052954355309]
[50,3.3683317499512144E-2,3.3946616281731679E-2,3.4173578387077352E-2,3.4344309026818953E-2,3.4479346149652645E-2,3.4582016571784502E-2,3.4654830882901333E-2,3.4692238271792242E-2,3.4715258861643505E-2,3.4715499823230855E-2,3.4685394195895336E-2,3.4653132048197977E-2,3.4606699832428811E-2,3.4527694192406866E-2,3.446713277034763E-2,3.4424924925314127E-2,3.438547443624751E-2,3.434611259428455E-2,3.4307419514524096E-2,3.4269983972105234E-2,3.4234406303568887E-2,null,50,0.19082032668217805,0.18840576454013641,0.18634944358846317,0.18481768882946589,0.18361526759604077,0.18270639357415011,0.18206459848099504,0.18173577934015775,0.18153372446691213,0.18153161072623419,0.18179589495917639,0.18207954600742424,0.18248857386956147,0.18318670092507139,0.18372369113313877,0.18409889179040775,0.18445028795959356,0.1848015763828175,0.18514756151532397,0.18548293087861431,0.18580223059134876]
[51,3.3671071264166796E-2,3.3929155601783556E-2,3.4151618547574092E-2,3.4318956125479749E-2,3.4451303368330022E-2,3.455192184034761E-2,3.4623272832323915E-2,3.4659914493650357E-2,3.4682454054113521E-2,3.4682663380153134E-2,3.4653123975873612E-2,3.4621472144701126E-2,3.4575930123931453E-2,3.4498455770444414E-2,3.4439064799293817E-2,3.4397668311184848E-2,3.4358976237207184E-2,3.4320372181259051E-2,3.4282424790048616E-2,3.424571120748876E-2,3.4210819918662594E-2,null,51,0.18471388076037365,0.18237701907339418,0.18038689530397478,0.17890451825405623,0.17774090696161599,0.17686142401606447,0.17624045132029723,0.17592242076149481,0.17572707984121264,0.17572526673704511,0.17598131471989778,0.17625609545551532,0.17665222959269425,0.17732820479222439,0.17784818523068391,0.17821153940800255,0.17855184016655401,0.17889202711903932,0.17922707150803138,0.17955183132505789,0.17986102762868347]
[52,3.3659155763414716E-2,3.3912232146973809E-2,3.413037453458112E-2,3.4294454725156021E-2,3.442422035489634E-2,3.4522870262192029E-2,3.4592818352546129E-2,3.4628727555251704E-2,3.4650808126038379E-2,3.465099030090335E-2,3.4621998347284189E-2,3.4590936148862772E-2,3.4546252662055021E-2,3.447025306129059E-2,3.4411989734383974E-2,3.4371375466473841E-2,3.4333414561779296E-2,3.4295540932905322E-2,3.425831220944997E-2,3.4222294360920946E-2,3.4188064485558112E-2,null,52,0.17880411036489421,0.17654238109165951,0.17461626289852167,0.17318161864498446,0.17205551710474989,0.17120443220544598,0.1706035681720007,0.17029593839611709,0.17010705759943698,0.17010550013440426,0.1703535436250134,0.17061970839575716,0.17100333444269672,0.17165784261505471,0.17216133468848427,0.17251319963537221,0.1728427396640542,0.17317216146286754,0.17349659761034986,0.17381107100705201,0.17411047195485063]
[53,3.3647569321600956E-2,3.3895831844267033E-2,3.410982150314501E-2,3.4270771683984513E-2,3.4398057264585002E-2,3.4494816738280365E-2,3.4563418428211312E-2,3.4598626097552376E-2,3.4620268043066726E-2,3.4620426900540346E-2,3.4591964320369595E-2,3.4561471900330654E-2,3.4517616761984726E-2,3.4443038287404359E-2,3.4385861948282193E-2,3.4346002158867517E-2,3.4308746483550534E-2,3.4271577251869356E-2,3.4235041500848107E-2,3.4199694455434138E-2,3.4166102264302722E-2,null,53,0.17308448956830425,0.17089541973853689,0.16903119720171109,0.16764270362883665,0.16655286235426484,0.16572922240960988,0.1651477834751631,0.16485018562300013,0.16466752520336683,0.16466618519133708,0.16490645330458689,0.16516425273919058,0.16553574799909423,0.16616945556193163,0.1666569673563511,0.1669976921278423,0.16731679841759181,0.16763578341865445,0.16794993578701667,0.16825443796640205,0.16854434400377613]
[54,3.3636308317363195E-2,3.3879939678671311E-2,3.4089934544017986E-2,3.4247874484752527E-2,3.4372775443061165E-2,3.4467717813688736E-2,3.4535026038152949E-2,3.4569560985055592E-2,3.4590783170320494E-2,3.4590921989940515E-2,3.45629713943989E-2,3.4533029707894292E-2,3.4489974137341894E-2,3.4416765890132872E-2,3.4360637906579727E-2,3.4321506176639094E-2,3.4284931028770504E-2,3.424844142178296E-2,3.4212574200043866E-2,3.4177874248942031E-2,3.4144897179679168E-2,null,54,0.16754873780960008,0.16542994450814741,0.16362558501176108,0.1622817192386273,0.16122693643389499,0.16042982576758663,0.15986715645757302,0.15957923901010004,0.1594025719468472,0.15940141697944235,0.15963413554887154,0.15988381600684165,0.16024354911207483,0.16085710413375492,0.16132913033527521,0.16165905556508658,0.16196804720690083,0.16227691563680813,0.16258110051356842,0.16287593864448766,0.163156642512953]
[55,3.3625367611626267E-2,3.3864540019689304E-2,3.4070688920712522E-2,3.4225731400354231E-2,3.4348337532079665E-2,3.4441531734235697E-2,3.4507596172948407E-2,3.4541485295765506E-2,3.456230524007986E-2,3.4562426828888437E-2,3.4534971505949752E-2,3.4505562294529613E-2,3.4463278846967427E-2,3.4391392488457129E-2,3.4336276133940968E-2,3.429784729760299E-2,3.4261929147977543E-2,3.4226095582152283E-2,3.4190873629046603E-2,3.4156798216574913E-2,3.4124414807307213E-2,null,55,0.16219080645468936,0.16013999226629813,0.15839353652575422,0.15709283169408908,0.15607195055013656,0.15530048864793644,0.15475595973002462,0.15447738711076647,0.15430649793325019,0.15430550050324798,0.15453089157279756,0.15477269471336122,0.15512102538889466,0.15571505772831187,0.15617207962132165,0.1564915373764596,0.15679072542721237,0.15708978928455952,0.15738431471096975,0.15766978787576016,0.15794157457146377]
[56,3.361474089933103E-2,3.3849616883622868E-2,3.405206025313956E-2,3.4204311614578042E-2,3.4324707537894739E-2,3.4416218472048676E-2,3.4481085826470581E-2,3.4514354288914362E-2,3.4534788300382813E-2,3.4534895062349635E-2,3.4507918961543815E-2,3.4479024727754659E-2,3.4437487227396923E-2,3.4366876822679471E-2,3.4312737164886586E-2,3.4274987242864263E-2,3.4239703672562349E-2,3.4204503688225696E-2,3.4169904859560507E-2,3.4136432517905213E-2,3.4104622344544699E-2,null,56,0.15700486663663241,0.15501981549105254,0.15332937393537974,0.1520704163004305,0.15108232255657286,0.150335662045714,0.14980866888638159,0.14953912023654434,0.14937380400266317,0.14937294076047444,0.1495912221855574,0.14982538463653747,0.15016266354892088,0.15073778505861193,0.15118027058930641,0.15148958429223058,0.15177927170343905,0.15206883471774066,0.15235400047013761,0.15263039966086059,0.15289354643811315]
[57,3.3604420997935369E-2,3.3835154143122992E-2,3.403402465777372E-2,3.4183585306968522E-2,3.4301850870119832E-2,3.4391739726904902E-2,3.4455453967548344E-2,3.4488125356005206E-2,3.4508188649612359E-2,3.4508282644637012E-2,3.4481770359125363E-2,3.4453374339594722E-2,3.4412557815211686E-2,3.4343179687261749E-2,3.4289983483406061E-2,3.4252889619476035E-2,3.4218219260304217E-2,3.4183631459831387E-2,3.4149634665371797E-2,3.4116744952975342E-2,3.4085488570081646E-2,null,57,0.15198529820562037,0.15006387157159382,0.14842762103493934,0.14720904731923917,0.14625266705471396,0.14552999188407861,0.1450199529799365,0.14475912108131367,0.14459918248770914,0.14459843361072686,0.14480981875099283,0.1450365718613259,0.14536314053862856,0.14591994531888103,0.14634834921210926,0.14664783361876055,0.14692831521743202,0.14720867285547265,0.14748477047007447,0.14775237862466328,0.1480071550363653]
[58,3.3594400083480247E-2,3.3821135693400395E-2,3.4016558852511647E-2,3.4163523708906185E-2,3.4279734357316016E-2,3.4368058908877952E-2,3.4430661496654302E-2,3.4462757959623946E-2,3.448246476111283E-2,3.4482547755210424E-2,3.4456484501938833E-2,3.4428570639556844E-2,3.4388451262576503E-2,3.4320263856155941E-2,3.4267979454727371E-2,3.4231519855280057E-2,3.4197442333111283E-2,3.416344632236612E-2,3.4130031466794497E-2,3.4097704910259541E-2,3.4066983795330907E-2,null,58,0.14712667964375031,0.14526681302787819,0.14368299371090368,0.14250348868673102,0.14157778631173393,0.14087831010572882,0.14038466576543254,0.14013225608986013,0.13997750869459594,0.13997685735227203,0.14018155484114911,0.14040112450329861,0.14071731531368434,0.14125638000728583,0.14167114392661997,0.14196110515041022,0.14223266766271619,0.14250410717385559,0.14277142000708007,0.14303051207809012,0.1432771800462912]
[59,3.3584669883176987E-2,3.3807545582849041E-2,3.3999640232930783E-2,3.4144099136740547E-2,3.4258326244399173E-2,3.4345141106755905E-2,3.4406671191565597E-2,3.4438213563561471E-2,3.4457577201052025E-2,3.4457650709069698E-2,3.4432022307616661E-2,3.4404575223297762E-2,3.4365130248571019E-2,3.4298094003273771E-2,3.4246691251882178E-2,3.4210845128522571E-2,3.4177341009511863E-2,3.4143917342460028E-2,3.4111065269674334E-2,3.4079283309046637E-2,3.4049079810095195E-2,null,59,0.14242377882085908,0.14062347853382767,0.13909039120142835,0.13794868547277381,0.13705266189301474,0.13637562645605292,0.13589783761225105,0.13565356747960483,0.1355038330209293,0.13550326492105641,0.13570147849944802,0.13591408503005323,0.13622022120863567,0.13674210532755438,0.13714365807007348,0.13742439364350217,0.13768731575350271,0.1379501162467279,0.13820891956440037,0.13845976261417875,0.1386985765250271]
[60,3.3575221831943169E-2,3.3794368114507423E-2,3.3983246925459731E-2,3.4125285006746831E-2,3.4237596175999085E-2,3.4322953045831772E-2,3.438344764515433E-2,3.4414455557074897E-2,3.443348854206385E-2,3.4433553864066324E-2,3.4408346714677629E-2,3.4381351679082739E-2,3.4342559388362837E-2,3.4276636620173218E-2,3.4226086779154175E-2,3.4190834294299366E-2,3.4157885033920365E-2,3.4125015160315408E-2,3.4092707600937189E-2,3.4061452538213688E-2,3.4031749824471769E-2,null,60,0.13787154448579386,0.13612888464376768,0.13464488803043226,0.1335397559895308,0.1326724469222019,0.13201712087406889,0.13155466800791488,0.13131826583727502,0.13117337363461387,0.13117287663846897,0.13136480504194414,0.13157066311087007,0.13186705882603653,0.13237230510275091,0.13276106282137198,0.13303286178824078,0.13328741422512141,0.13354184677179404,0.13379240786162594,0.13403526117873479,0.13426646799698533]
[61,3.3566047199061977E-2,3.3781587923650713E-2,3.3967357821983235E-2,3.4107055835794542E-2,3.421751516912086E-2,3.4301463037958113E-2,3.4360957197832498E-2,3.4391449175517508E-2,3.4410163274668948E-2,3.4410221526951945E-2,3.43854225881568E-2,3.4358865493669954E-2,3.4320705141805963E-2,3.4255859932587729E-2,3.4206135594032405E-2,3.4171457809429429E-2,3.4139045704258963E-2,3.4106711920286248E-2,3.4074931442235279E-2,3.404418639294593E-2,3.4014968408546231E-2,null,61,0.13346509840278345,0.13177821813644341,0.13034172653470683,0.12927198447179572,0.12843245889400073,0.12779813641934781,0.12735051858259633,0.12712172322358212,0.12698150964892316,0.12698107344483109,0.12716691033527872,0.12736622893474159,0.12765318938661521,0.12814232414395232,0.12851869059132137,0.12878183362361925,0.12902827927189145,0.12927460702910229,0.12951718533174156,0.12975230056425494,0.12997613996327853]
[62,3.3557137190094899E-2,3.3769190035895846E-2,3.3951952599600377E-2,3.4089387230894497E-2,3.4198055577813635E-2,3.4280640926186878E-2,3.4339167866640485E-2,3.4369161419096406E-2,3.4387567718024092E-2,3.4387619859564955E-2,3.4363216625685533E-2,3.4337083958870807E-2,3.42995357226894E-2,3.4235733817051583E-2,3.4186808828941651E-2,3.4152687657010405E-2,3.4120795799167825E-2,3.4088981200923518E-2,3.4057711162911453E-2,3.4027460010616739E-2,3.3998711431086903E-2,null,62,0.12919972805562241,0.12756682890325005,0.12617630991414225,0.12514081426223597,0.12432817297570639,0.12371417267326842,0.12328090659530495,0.12305946672843938,0.12292377473810288,0.12292339056455585,0.12310332449865641,0.12329630694542758,0.12357412849019037,0.12404766202460082,0.1244120288134746,0.12466678834795795,0.12490538237599109,0.12514386072622308,0.12537870798093179,0.12560632928292903,0.1258230337868412]
[63,3.3548483028310816E-2,3.3757159909439949E-2,3.3937011728579769E-2,3.4072255870211121E-2,3.4179191052029267E-2,3.4260458025836105E-2,3.4318049272562545E-2,3.4347560971125235E-2,3.4365669931200937E-2,3.4365716786235234E-2,3.4341697265027005E-2,3.431597607973913E-2,3.4279021009558042E-2,3.4216229718585733E-2,3.4168079113717997E-2,3.4134497271611108E-2,3.4103109505749574E-2,3.407179794542281E-2,3.404102245322238E-2,3.4011249806766841E-2,3.3982955998185238E-2,null,63,0.12507087985348722,0.12349022331778302,0.12214419574521834,0.1211418414442154,0.12035521574248476,0.11976087956181401,0.11934149883067567,0.11912717242738874,0.11899585114563399,0.11899551155640921,0.11916972598453987,0.11935656994926667,0.11962554024414288,0.12008396721810988,0.12043671409405163,0.12068335448432889,0.12091434448731757,0.12114522119083108,0.12137258159243312,0.12159294578064417,0.12180274091566404]
[64,3.3540076019185738E-2,3.3745483464424186E-2,3.3922516471009301E-2,3.4055639477625022E-2,3.4160896492419379E-2,3.4240887063458514E-2,3.4297572567293377E-2,3.432661811683535E-2,3.4344439625907386E-2,3.4344481903205715E-2,3.4320834593825067E-2,3.4295512485095658E-2,3.4259132458796637E-2,3.4197320570160894E-2,3.4149920499564779E-2,3.4116861465830262E-2,3.4085962348571197E-2,3.4055138393197515E-2,3.4024842258534305E-2,3.3995533411904866E-2,3.3967680392562372E-2,null,64,0.12107415278154453,0.11954405803275321,0.11824108990632445,0.11727080887304707,0.11650935929920486,0.11593405155436826,0.11552810586257163,0.11532065969671781,0.11519356404394265,0.11519326270888898,0.11536193599896803,0.11554283355764901,0.11580323172213347,0.11624703156222077,0.11658852668504656,0.11682730436565483,0.11705093051973418,0.11727444587666429,0.1174945562410112,0.11770789295901544,{"$f":"(1+V88)^-$A88","v":0.11791099741169209}]
[65,3.3531907600923061E-2,3.3734147101891709E-2,3.390844887218547E-2,3.4039516792545355E-2,3.4143148002476087E-2,3.4221902114858649E-2,3.4277710360419045E-2,3.430630466354323E-2,3.4323848081330821E-2,3.432388639067141E-2,3.4300600262106906E-2,3.4275665340900652E-2,3.4239843020474003E-2,3.4178980714473894E-2,3.4132308385036447E-2,3.409975635876239E-2,3.4069331120459179E-2,3.4038980013112008E-2,3.4009148715034909E-2,3.3980289609672143E-2,3.3952864014093809E-2,null,65,{"$f":"(1+B89)^-$A89","v":0.11720529244759924},0.11572413415789008,0.11446284087067037,0.11352360056331023,0.11278651574815293,0.11222962219943526,0.11183667664660796,0.11163588585072211,0.11151287621006756,0.11151260774611353,0.11167591322784089,0.11185105093121048,0.11210314772087313,0.11253278501844149,0.11286338524950394,0.11309454890904454,0.11331104413381753,0.11352743115343594,0.1137405210890661,0.11394705297690115,0.1141436787572031]
[66,3.3523969383456143E-2,3.3723137714381402E-2,3.3894791746410968E-2,3.4023867536340902E-2,3.4125922839126854E-2,3.4203478543064936E-2,3.4258436647735202E-2,3.4286593862784098E-2,3.4303868061602794E-2,3.4303902927853347E-2,3.4280967397933626E-2,3.4256408266829075E-2,3.4221127057297851E-2,3.4161185828415208E-2,3.4115219444440514E-2,3.4083159306760535E-2,3.4053193815476446E-2,3.4023301438763642E-2,3.3993921087354328E-2,3.3965498276770978E-2,3.3938487321952815E-2,null,66,0.11346018548276894,0.11202639177891022,0.11080543432871168,0.10989623639574377,0.10918273196757713,0.10864365896347729,0.10826329340903849,0.10806894106943889,0.10794988298654959,0.10794964281435933,0.10810774883997583,0.10827730779728841,0.10852136578703069,0.10893729069920995,0.10925734189209244,0.1094811326529545,0.10969072278012851,0.10990020735520019,0.11010649943922361,0.11030644230662294,0.11049679491423489]
[67,3.3516253177978017E-2,3.3712442689840527E-2,3.3881528658558535E-2,3.4008672376487192E-2,3.4109199362664988E-2,3.4185592936955667E-2,3.4239726741254861E-2,3.4267460334849842E-2,3.4284473736235554E-2,3.428450561139984E-2,3.4261910526451889E-2,3.4237716256288797E-2,3.420296026690739E-2,3.414391285048346E-2,3.4098631558933112E-2,3.4067048836771585E-2,3.4037529564357349E-2,3.4008082406094431E-2,3.3979139708373962E-2,3.3951140324941065E-2,3.3924531778669609E-2,null,67,0.10983485426001685,0.10844690478308701,0.10726498810722056,0.10638486711221856,0.105694184670775,0.10517235834365395,0.10480416680373952,0.10461604358949088,0.10450080750096656,0.10450059172333512,0.10465366174165272,0.10481781771586389,0.10505409149007731,0.10545674013900659,0.10576657743159087,0.10598322903421158,0.10618613298044666,0.10638893406489948,0.10658864402153577,0.10678220702329559,0.10696648561572435]
[68,3.3508751018701322E-2,3.370204991024095E-2,3.3868643902511764E-2,3.3993912889310973E-2,3.4092956986702561E-2,3.4168223051062929E-2,3.4221557201308483E-2,3.4248879996038761E-2,3.4265640603763803E-2,3.4265669877290073E-2,3.424340549250382E-2,3.4219565600014823E-2,3.4185319607639375E-2,3.4127139911311444E-2,3.4082523750484262E-2,3.4051404582418954E-2,3.4022318572574539E-2,3.3993303693510946E-2,3.3964785921416496E-2,3.3937197645183881E-2,3.3910979796304197E-2,null,68,0.10632545189928293,0.10498187596168795,0.10383774735654755,0.10298576957152293,0.10231717571950583,0.10181204122919303,0.10145563131281155,0.10127353513430368,0.1011619961210017,0.10116180141971499,0.10130999406068657,0.10146891757252412,0.1016976539199811,0.10208744878869266,0.10238739689493737,0.10259713588490793,0.10279356582728254,0.10298989561573586,0.10318323249613316,0.10337061830837907,0.10354901586975754]
[69,3.3501455178267969E-2,3.3691947746040229E-2,3.3856122477375905E-2,3.3979571522029683E-2,3.4077176128682884E-2,3.4151347746958605E-2,3.4203905771021059E-2,3.4230829988825651E-2,3.4247345418729758E-2,3.4247372426337908E-2,3.4225429386873785E-2,3.4201933813300611E-2,3.4168183227826665E-2,3.4110846267388029E-2,3.4066876118810541E-2,3.4036207222938319E-2,3.4007542061152085E-2,3.3978947064626119E-2,3.3950842024928152E-2,3.3923653054352521E-2,3.3897814684863858E-2,null,69,0.10292825753215162,0.10162763236348202,0.10052007998145068,9.9695342242291582E-2,9.9048127668923222E-2,9.8559148489378995E-2,9.8214140869525748E-2,9.8037876563016532E-2,9.7929914124980394E-2,9.7929737673309133E-2,9.8073206840833566E-2,9.8227063279693522E-2,9.8448501391373205E-2,9.8825851714992224E-2,9.9116225215072379E-2,9.9319271131651871E-2,9.950943268441205E-2,9.9699496792385531E-2,9.9886663154635E-2,0.10006806815097535,0.10024077166060083]
[70,3.3494358177985628E-2,3.3682125047424627E-2,3.3843950062184103E-2,3.3965631554640385E-2,3.4061838161355329E-2,3.4134946936504429E-2,3.4186751313360242E-2,3.4213288615074777E-2,3.4229566122082389E-2,3.4229591153326133E-2,3.420796047618091E-2,3.4184799566873147E-2,3.4151530398634389E-2,3.4095012238005262E-2,3.4051669781321348E-2,3.4021438425009931E-2,3.3993182210265482E-2,3.3964995213676019E-2,3.3937291219716892E-2,3.3910490244176472E-2,3.388502060303944E-2,null,70,9.9639671802600124E-2,9.8380620876929489E-2,9.7308472294057494E-2,9.6510100912522073E-2,9.5883579524242896E-2,9.5410236769023674E-2,9.5076264685060446E-2,9.4905643720072749E-2,9.4801141570287725E-2,9.48009809587603E-2,9.4939875929812373E-2,9.5088825669688917E-2,9.530319733805602E-2,9.5668499489267478E-2,9.5949603116942894E-2,9.6146168681841962E-2,9.6330261073358597E-2,9.6514258717135565E-2,9.6695450805572944E-2,9.6871065232303294E-2,9.7038255832137502E-2]
[71,3.3487452793870665E-2,3.3672571133101847E-2,3.3832112989677032E-2,3.3952077062084918E-2,3.4046925365520675E-2,3.4119001527172621E-2,3.4170073750872776E-2,3.4196235272356379E-2,3.4212281775000131E-2,3.421230507974804E-2,3.4190978136390715E-2,3.4168142621368691E-2,3.4135341450391543E-2,3.4079619145411799E-2,3.4036886816069867E-2,3.4007080787488597E-2,3.3979222105636087E-2,3.3951431713620028E-2,3.3924117558760791E-2,3.3897693732742207E-2,3.3872582511285776E-2,null,71,9.6456212583397455E-2,9.5237404021571992E-2,9.4199524870326679E-2,9.3426674597727855E-2,9.2820182691825737E-2,9.2361974474676659E-2,9.2038683262799764E-2,9.1873523469696433E-2,9.1772369344317775E-2,9.177222251774575E-2,9.1906688046209481E-2,9.2050886565210044E-2,9.2258416383734651E-2,9.2612054251657402E-2,9.2884183177996418E-2,9.3074474483432812E-2,9.3252690732482643E-2,9.3430814907822832E-2,9.3606222830870722E-2,9.3776230980552364E-2,9.3938084141075642E-2]
[72,3.3480732059312679E-2,3.3663275777271018E-2,3.3820598219623355E-2,3.3938892877025673E-2,3.40324208842675E-2,3.4103493369564308E-2,3.4153854008169393E-2,3.4179650393373118E-2,3.4195472496103552E-2,3.4195494290095496E-2,3.4174462789870574E-2,3.4151943765328596E-2,3.4119597712344518E-2,3.4064649258118695E-2,3.4022510207672108E-2,3.399311778899583E-2,3.3965645687690671E-2,3.3938240966898237E-2,3.3911305899564814E-2,3.3885248818417812E-2,3.3860486127243128E-2,null,72,9.3374510890349219E-2,9.2194655931596037E-2,9.1189948593657089E-2,9.0441801632038216E-2,8.9854697109533241E-2,8.941113793693635E-2,8.9098184585982301E-2,8.8938309901429688E-2,8.8840395384452903E-2,8.8840260588516809E-2,8.8970437012369577E-2,8.9110035014597994E-2,8.9310940576482326E-2,8.965328593831233E-2,8.9916726051016721E-2,9.0100942746286425E-2,9.0273469836895437E-2,9.0445907495962347E-2,9.0615715401914668E-2,9.0780295784763196E-2,9.0936981468657932E-2]
[73,3.3474189265033205E-2,3.3654229195280605E-2,3.3809393312046909E-2,3.3926064553484681E-2,3.4018308678857245E-2,3.4088405207205685E-2,3.413807395717261E-2,3.4163515388467625E-2,3.4179119401994473E-2,3.4179139871609809E-2,3.4158395845895528E-2,3.4136184756621279E-2,3.4104281455736851E-2,3.4050085737282076E-2,3.4008523796125623E-2,3.3979533738310863E-2,3.3952437703424154E-2,3.3925408158796744E-2,3.389884185902603E-2,3.3873141536180817E-2,3.3848717883465218E-2,null,73,9.0391306978816977E-2,8.9249158516680138E-2,8.8276560871373255E-2,8.7552325928467636E-2,8.6983987543043456E-2,8.6554607735947878E-2,8.6251660466154095E-2,8.6096900694514603E-2,8.6002121055150121E-2,8.6001996791066807E-2,8.612802014182408E-2,8.6263163680598748E-2,8.6457655775909567E-2,8.6789068660807919E-2,8.7044096838598081E-2,8.7222432314511794E-2,8.7389451368797097E-2,8.75563835947272E-2,8.7720769844981464E-2,8.7880095357646848E-2,8.803177818090907E-2]
[74,3.3467817956901236E-2,3.3645422028389937E-2,3.3798486400645089E-2,3.3913578331530747E-2,3.4004573486357215E-2,3.4073720628656323E-2,3.4122716365107442E-2,3.4147812591153626E-2,3.4163204551029613E-2,3.4163223857377689E-2,3.4142759644489207E-2,3.4120848267164439E-2,3.4089375840095526E-2,3.4035912586064088E-2,3.3994912228445084E-2,3.3966313727482822E-2,3.3939583660895778E-2,3.3912919213350046E-2,3.3886711770735989E-2,3.3861358616291914E-2,3.3837264887402796E-2,null,74,8.7503446608808669E-2,8.6397797787008554E-2,8.5456282011514617E-2,8.4755193396225142E-2,8.4205020036405884E-2,8.3789365178708886E-2,8.3496103041372019E-2,8.3346293630331622E-2,8.3254547671609391E-2,8.3254432657682217E-2,8.3376434771126356E-2,8.3507265372727402E-2,8.3695548183242457E-2,8.401637722809828E-2,8.4263261609694995E-2,8.4435903180376082E-2,8.4597589628882544E-2,8.475919180759249E-2,8.4918329146969174E-2,8.5072567238337837E-2,8.5219406628488259E-2]
[75,3.3461611932064983E-2,3.36368453279694E-2,3.3787866166628655E-2,3.3901421103150087E-2,3.3991200779083908E-2,3.4059424021923856E-2,3.4107764845182187E-2,3.4132525206583608E-2,3.4147710890221505E-2,3.414772917265374E-2,3.4127537403467745E-2,3.4105917830820509E-2,3.4074864862600585E-2,3.4022114601859554E-2,3.3981660913010581E-2,3.3953443587567911E-2,3.3927069786263253E-2,3.3900760751693682E-2,3.3874902644648541E-2,3.3849887445243532E-2,3.3826114883573455E-2,null,75,8.4707877466617634E-2,8.3637560330920457E-2,8.2726131748791162E-2,8.2047448504344089E-2,8.1514858506450516E-2,8.1112488918135883E-2,8.0828601414368359E-2,8.0683583243331206E-2,8.0594773160644423E-2,8.0594666299642057E-2,8.0712774927102354E-2,8.0839429714317873E-2,8.1021701005570074E-2,8.1332283802367122E-2,8.1571284049738235E-2,8.173841313135774E-2,8.1894936880533051E-2,8.2051378869416464E-2,8.220543459323465E-2,8.2354747426993433E-2,8.2496897778155026E-2]
[76,3.3455565233783124E-2,3.3628490539408862E-2,3.3777521813147304E-2,3.3889580379391715E-2,3.3978176725884435E-2,3.4045500531164619E-2,3.4093203809896444E-2,3.4117637262861988E-2,3.4132622205145902E-2,3.4132639584272928E-2,3.4112713168553466E-2,3.4091377794325028E-2,3.4060733310398161E-2,3.4008677331273107E-2,3.3968755976525822E-2,3.3940909846887024E-2,3.3914882983258288E-2,3.3888920052774996E-2,3.3863402129018283E-2,3.3838716028896654E-2,3.3815256217842871E-2,null,76,8.2001645732336606E-2,8.0965529934949987E-2,8.0083225909888672E-2,7.9426230982119761E-2,7.8910661471817162E-2,7.852115170489217E-2,7.8246338421904288E-2,7.8105957601910955E-2,7.8019988850420552E-2,7.8019889201886905E-2,7.8134228121417806E-2,7.8256839936348591E-2,7.8433291246435596E-2,7.8733954681027313E-2,7.8965322236650815E-2,7.9127114522794584E-2,7.9278640119291421E-2,7.9430086412547687E-2,7.9579222530240551E-2,7.9723767143982563E-2,7.9861377968623012E-2]
[77,3.3449672145270393E-2,3.362034948594772E-2,3.3767443040431777E-2,3.3878044258845996E-2,3.3965488155250245E-2,3.4031936015619824E-2,3.4079018426889762E-2,3.410313356509187E-2,3.4117923072727319E-2,3.4117939653010687E-2,3.4098271766412225E-2,3.4077213271101359E-2,3.4046966715724158E-2,3.3995587027717766E-2,3.3956184223464358E-2,3.3928699691694542E-2,3.3903010794999355E-2,3.387738501632187E-2,3.3852198474518147E-2,3.3827832957717963E-2,3.3804677803730643E-2,null,77,7.9381892783811192E-2,7.8378884337195129E-2,7.7524773209355774E-2,7.6888772647873319E-2,7.6389678908413555E-2,7.6012617263994192E-2,7.5746587527534229E-2,7.5610695211596607E-2,7.5527476381553993E-2,7.5527383138323759E-2,7.563807226525468E-2,7.5756769790920178E-2,7.5927586615713721E-2,7.6218647197927897E-2,7.6442625535888278E-2,7.6599251169301427E-2,7.674593796086826E-2,7.6892547851266521E-2,7.7036921246364298E-2,7.7176849707098594E-2,7.7310065784294377E-2]
[78,3.3443927182814415E-2,3.3612414352598652E-2,3.3757620021740653E-2,3.3866801397485213E-2,3.3953122520250734E-2,3.4018717010726451E-2,3.4065194577236557E-2,3.408899965203771E-2,3.4103598816770164E-2,3.4103614688750783E-2,3.4084198760468754E-2,3.4063410097823432E-2,3.4033551313689347E-2,3.3982830611510861E-2,3.3943933097891898E-2,3.3916800929144619E-2,3.3891441368027353E-2,3.3866144127962627E-2,3.3841280500435555E-2,3.3817227374023817E-2,3.3794369090653031E-2,null,78,7.6845852028596243E-2,7.5874892105885994E-2,7.5048072168261024E-2,7.4432394358478551E-2,7.3949249223895813E-2,7.3584237289018778E-2,7.3326709830765849E-2,7.319516203369543E-2,7.3114604732854138E-2,7.3114517201116336E-2,7.3221672697570586E-2,7.3336580577909191E-2,7.3501942552460023E-2,7.3783706737449606E-2,7.4000531608255857E-2,7.4152155348779711E-2,7.4294157641595263E-2,7.4436085378518035E-2,7.4575847964865175E-2,7.4711307520801185E-2,7.4840269040939253E-2]
[79,3.3438325088376075E-2,3.3604677670294514E-2,3.3748043380181336E-2,3.3855840979876817E-2,3.3941067865244534E-2,3.4005830691330896E-2,3.4051718816087595E-2,3.407522175529043E-2,3.4089635466100221E-2,3.4089650708314156E-2,3.407048040936167E-2,3.404995479357531E-2,3.402047400259578E-2,3.3970395632338724E-2,3.393199064754171E-2,3.39052019524404E-2,3.388016341846023E-2,3.3855186426395179E-2,3.3830637562846322E-2,3.3806888941134261E-2,3.3784320034010662E-2,null,79,7.4390845856383503E-2,7.3450909635906766E-2,7.2650508148572851E-2,7.2054503072819548E-2,7.158679634457478E-2,7.1233448547445385E-2,7.0984151186297917E-2,7.0856808613168495E-2,7.0778827355618787E-2,7.077874493799946E-2,7.0882479321006733E-2,7.0993718279010784E-2,7.1153799354902861E-2,7.1426563855781347E-2,7.1636463524843416E-2,7.178324491341681E-2,7.1920712125715963E-2,7.205810706938727E-2,7.2193405943517128E-2,7.2324539172067437E-2,7.2449381877906907E-2]
[80,3.3432860821847044E-2,3.359713230036343E-2,3.3738704166439426E-2,3.384515269176136E-2,3.3929312794322541E-2,3.3993264836925441E-2,3.4038578335555458E-2,3.4061786760805512E-2,3.4076019715183481E-2,3.4076034395809751E-2,3.4057103627887608E-2,3.4036834521469883E-2,3.4007722306636401E-2,3.3958270233964027E-2,3.3920345490026316E-2,3.3893891708052459E-2,3.3869166200152678E-2,3.3844501472495292E-2,3.3820259524667273E-2,3.379680781433958E-2,3.3774521067028163E-2,null,80,7.2014282705120086E-2,7.1104378256727913E-2,7.0329550496976187E-2,6.9752589023052827E-2,6.9299826908766307E-2,6.8957770091290463E-2,6.8716439427593493E-2,6.8593167310172273E-2,6.8517679410947732E-2,6.8517601592153352E-2,6.8618023840111134E-2,6.872571079383695E-2,6.8880679412384405E-2,6.9144731504161783E-2,6.9347926983906238E-2,6.9490020502531988E-2,6.9623097314456095E-2,6.9756104086294415E-2,6.9887081675895399E-2,7.0014026627859008E-2,7.0134881951929171E-2]
[81,3.3427529553100577E-2,3.3589771419408221E-2,3.3729593837444893E-2,3.3834726693973582E-2,3.3917846441428923E-2,3.3981007798822294E-2,3.4025760929731641E-2,3.4048682172699074E-2,3.4062738887085553E-2,3.4062753065364326E-2,3.4044055950301466E-2,3.4024037052587497E-2,3.3995284340852638E-2,3.3946443121050551E-2,3.390898678106935E-2,3.3882859664893683E-2,3.3858439474753643E-2,3.3834079320265165E-2,3.3810136727483231E-2,3.3786974613586374E-2,3.3764963074257359E-2,null,81,6.9713654234712416E-2,6.8832821445834094E-2,6.8082749792358302E-2,6.7524222988101068E-2,6.7085927561123457E-2,6.6754800567723038E-2,6.6521181689622066E-2,6.6401849630093837E-2,6.632877510506742E-2,6.6328701439697435E-2,6.6425917096935655E-2,6.6530165273213038E-2,6.6680184534391646E-2,6.6935802349316245E-2,6.7132507624944715E-2,6.7270062852575072E-2,6.7398889352190738E-2,6.7527647981238809E-2,6.7654442189711769E-2,6.7777332529603024E-2,6.7894327727920728E-2]
[82,3.3422326653952172E-2,3.3582588504645461E-2,3.3720704235977284E-2,3.3824553597677109E-2,3.3906658442094839E-2,3.3969048469178587E-2,3.4013254961733796E-2,3.403589607917934E-2,3.4049780898647963E-2,3.4049794626101137E-2,3.4031325495834874E-2,3.4011550732099938E-2,3.3983148778213623E-2,3.3934903527988336E-2,3.3897904184643668E-2,3.3872095785342227E-2,3.3847973483556393E-2,3.3823910489516829E-2,3.3800259965055535E-2,3.3777380397786549E-2,3.3755637366649438E-2,null,82,{"$f":"(1+B106)^-$A106","v":6.748653260277894E-2},6.6633842142311467E-2,6.5907735191808092E-2,6.5367053664303107E-2,6.4942762343037502E-2,6.4622215624817417E-2,6.439606182598312E-2,6.428054364744E-2,6.4209805118021851E-2,6.420973522022444E-2,6.4303846499528236E-2,6.4404765545225992E-2,6.454999337228369E-2,6.4797446186686106E-2,6.4987868435622556E-2,6.51210301999324E-2,6.5245742025399289E-2,6.537038809082775E-2,6.5493132437923138E-2,6.5612097580474607E-2,6.5725355862594204E-2]
[83,3.3417247690116225E-2,3.3575577319747474E-2,3.371202757121039E-2,3.3814624440873908E-2,3.3895738906720707E-2,3.39573762517833E-2,3.4001049332675004E-2,3.4023417120494726E-2,3.4037134227748789E-2,3.4037147549231372E-2,3.4018900936304108E-2,3.3999364447451441E-2,3.3971304818693815E-2,3.3923641189600451E-2,3.3887087844906238E-2,3.3861590498006189E-2,3.3837758921039018E-2,3.3813985940191582E-2,3.3790620458415965E-2,3.3768016640661536E-2,3.3746535658113253E-2,null,83,6.5330567837393216E-2,6.4505120155668672E-2,6.3802211870339937E-2,6.3278805128607049E-2,6.2868070174556562E-2,6.2557765408004631E-2,6.2338837916054352E-2,6.2227011519276225E-2,6.2158534121529177E-2,6.2158467656217312E-2,6.2249573539154376E-2,6.2347269629904022E-2,6.2487858929634141E-2,6.2727407442390429E-2,6.2911747247491975E-2,6.3040655772541185E-2,6.3161384250421948E-2,6.3282049020125478E-2,6.3400872778667294E-2,6.3516038021521073E-2,6.3625678676946434E-2]
[84,3.3412288413236402E-2,3.3568731901209459E-2,3.3703556400182855E-2,3.3804930666146982E-2,3.388507839533661E-2,3.394598103451818E-2,3.398913345244936E-2,3.401123445878862E-2,3.4024787882532825E-2,3.4024800837138436E-2,3.400677146568154E-2,3.3987467598472598E-2,3.3959742160231787E-2,3.3912646313621453E-2,3.387652835982502E-2,3.3851334672127642E-2,3.3827786909995661E-2,3.3804297048224852E-2,3.3781209832451031E-2,3.3758875208029338E-2,3.3737650043471845E-2,null,84,6.324348530220851E-2,6.244440966545959E-2,6.1763958550008845E-2,6.1257274390029509E-2,6.0859662423673848E-2,6.0559272143127986E-2,6.0347339858173275E-2,6.0239087084241465E-2,6.017279838205862E-2,6.0172735057451028E-2,6.026093139243098E-2,6.0355507338733023E-2,6.0491606157393227E-2,6.0723502760178738E-2,6.0901954316778341E-2,6.1026745366580731E-2,6.1143617646320911E-2,6.1260428211617882E-2,6.1375456540378168E-2,6.1486943193001908E-2,6.1593081713987058E-2]
[85,3.3407444753036586E-2,3.3562046545263069E-2,3.3695283610174709E-2,3.3795464099586114E-2,3.3874667893775801E-2,3.3934853163404055E-2,3.3977497212236196E-2,3.399933774974806E-2,3.4012731372489169E-2,3.4012743994329631E-2,3.3994926771512946E-2,3.3975850069311475E-2,3.3948450971450495E-2,3.3901909554839627E-2,3.3866216756396783E-2,3.3841319593529429E-2,3.3818048978165427E-2,3.3794835582858118E-2,3.3772020093894017E-2,3.3749948336453173E-2,3.372897297773747E-2,null,85,6.1223083249749913E-2,6.0449536807546674E-2,5.9790825114398538E-2,5.9300329025488513E-2,5.8915420559126852E-2,5.8624627802351038E-2,5.8419467045100759E-2,5.8314673543487773E-2,5.8250503445531572E-2,5.825044300682216E-2,5.8335822604797458E-2,5.8427377955464578E-2,5.855912963037814E-2,5.8783618669853134E-2,5.8956369986735847E-2,5.9077175004778985E-2,5.9190314189379624E-2,5.9303393595878218E-2,5.9414747668621787E-2,5.9522673177503586E-2,5.9625421378302408E-2]
[86,3.3402712809645019E-2,3.3555515795338664E-2,3.3687202401964544E-2,3.3786216930851598E-2,3.3864498791186248E-2,3.392398341814995E-2,3.3966130958624996E-2,3.3987717115942173E-2,3.4000954681268736E-2,3.4000967000147542E-2,3.3983357008067872E-2,3.3964502202068036E-2,3.3937421866035322E-2,3.3891421990803305E-2,3.3856144467357296E-2,3.3831536942010132E-2,3.3808537036267072E-2,3.378559368531775E-2,3.3763043610637089E-2,3.3741228613170193E-2,3.3720497256625404E-2,null,86,5.9267230458929933E-2,5.8518397343245737E-2,5.7880730304789768E-2,5.7405904896362894E-2,5.7033293883165463E-2,5.675179184938603E-2,5.6553186118332301E-2,5.6451741220122198E-2,5.638962190025347E-2,5.6389564124229616E-2,5.6472216852011252E-2,5.6560847994920165E-2,5.6688391301794511E-2,5.6905709333900718E-2,5.7072942428333322E-2,5.7189888673084582E-2,5.7299413946025897E-2,5.740888132068904E-2,5.7516678451459004E-2,5.7621156521639696E-2,5.7720622654258799E-2]
[87,3.3398088846118723E-2,3.3549134430076677E-2,3.3679306273941556E-2,3.3777181694323533E-2,3.3854562858816495E-2,3.3913362989117513E-2,3.3955025469263989E-2,3.3976363121750008E-2,3.3989448241136033E-2,3.3989460283127881E-2,3.397205277111337E-2,3.3953414772025292E-2,3.3926645878664896E-2,3.3881175098993799E-2,3.3846303309297054E-2,3.3821978770101513E-2,3.3799243357355735E-2,3.3776563848773034E-2,3.375427309228396E-2,3.3732708957220803E-2,3.371221599823393E-2,null,87,5.737386395320887E-2,5.6648954407815637E-2,5.6031659494549198E-2,5.5572003942408715E-2,5.521129734096792E-2,5.4938789060820142E-2,5.4746528798048782E-2,5.4648325393982559E-2,5.4588191214937597E-2,5.4588135905409271E-2,5.4668148776566533E-2,5.475394903672165E-2,5.4877418332724116E-2,5.5087794369270041E-2,5.5249685456190849E-2,5.53628961326562E-2,5.5468922881120937E-2,5.5574893555609503E-2,5.5679247320318197E-2,5.5780388033326023E-2,5.5876676899840855E-2]
[88,3.3393569281192637E-2,3.3542897451888765E-2,3.3671589007038705E-2,3.3768351251284079E-2,3.3844852230005884E-2,3.3902983455628144E-2,3.3944171929947142E-2,3.3965266749780287E-2,3.3978202908951927E-2,3.3978214696902764E-2,3.3961005074211847E-2,3.3942578964381687E-2,3.3916114442396728E-2,3.3871160735374328E-2,3.3836685462091509E-2,3.3812637483100261E-2,3.3790160557418902E-2,3.3767738899497468E-2,3.3745701571868514E-2,3.3724382601709069E-2,3.3704122625817456E-2,null,88,5.5540986796025774E-2,5.4839236334998286E-2,5.4241662538560914E-2,5.3796692049910458E-2,5.3447509403621252E-2,5.3183707420450269E-2,5.2997589785686375E-2,5.290252420876853E-2,5.2844311648871732E-2,5.2844258632789992E-2,5.2921715896123572E-2,5.3004775631019567E-2,5.3124300993696222E-2,5.3327956741408521E-2,5.3484676416912291E-2,5.3594270804321421E-2,5.3696910738783757E-2,5.379949636913308E-2,5.3900516723532445E-2,5.3998426651784115E-2,5.4091639713300485E-2]
[89,3.3389150682273216E-2,3.35368000760492E-2,3.366404465045636E-2,3.3759718773083813E-2,3.3835359381316099E-2,3.3892836765527123E-2,3.3933561913050303E-2,3.3954419378696254E-2,3.3967209943595478E-2,3.3967221497554601E-2,3.3950205326448435E-2,3.3931986352383703E-2,3.3905819367417989E-2,3.38613711142286E-2,3.3827283449566092E-2,3.3803505820298785E-2,3.3781281577135225E-2,3.3759111979157153E-2,3.3737322388667224E-2,3.3716243077119845E-2,3.3696210851589026E-2,null,89,5.3766665960362052E-2,5.3087334554590866E-2,5.2508851694680898E-2,5.2078096991112668E-2,5.1740070021762057E-2,5.1484696083823785E-2,5.1304524736314479E-2,5.1212496648716327E-2,5.115614423145446E-2,5.1156093355607543E-2,5.1231076581201421E-2,5.1311483273528316E-2,5.1427190635613185E-2,5.1624340727854504E-2,5.1776054147098551E-2,5.1882147722783316E-2,5.1981508993029939E-2,5.2080817675748202E-2,5.2178611069841709E-2,5.2273393387608752E-2,5.2363628869920541E-2]
[90,3.3384829758685619E-2,3.3530837720314066E-2,3.3656667508141336E-2,3.3751277725245554E-2,3.3826077114738284E-2,3.3882915215938114E-2,3.3923187357238538E-2,3.3943812762353476E-2,3.395646098473426E-2,3.3956472322326237E-2,3.3939645311493072E-2,3.3921628876774967E-2,3.3895752821072378E-2,3.3851798789207965E-2,3.3818090121317645E-2,3.3794576837337553E-2,3.377259966472268E-2,3.3750676528156998E-2,3.37291291720343E-2,3.3708284195632654E-2,3.368847466148428E-2,null,90,5.2049030269513775E-2,5.1391401560139376E-2,5.0831399614433739E-2,5.0414406432154078E-2,5.0087178647174498E-2,4.983996341025454E-2,4.9665548298154949E-2,4.9576460582217284E-2,4.952190880848558E-2,4.952185993669618E-2,4.9594448099565494E-2,4.9672286447263798E-2,4.9784297727477639E-2,4.9975149948806821E-2,5.012201699847714E-2,5.0224721558023502E-2,5.0320908865692786E-2,5.041704525034444E-2,5.051171473933963E-2,5.0603469330328457E-2,5.0690822326375222E-2]
[91,3.3380603355181115E-2,3.3525005995043822E-2,3.3649452125988022E-2,3.3743021852448818E-2,3.3816998540917131E-2,3.387321143513633E-2,3.3913040548365414E-2,3.3933439010174871E-2,3.3945948032857887E-2,3.3945959169604523E-2,3.3929317167917139E-2,3.3911498826477038E-2,3.3885907309085139E-2,3.3842436635510564E-2,3.3809098635621204E-2,3.3785843889609923E-2,3.3764108359810363E-2,3.3742426269979031E-2,3.3721115826201631E-2,3.3700500036365932E-2,3.3680908300831147E-2,null,91,5.0386268406320434E-2,4.9749648944102484E-2,4.9207537400282997E-2,4.8803866006950115E-2,4.8487092319773564E-2,4.8247775059806798E-2,4.8078932216748978E-2,4.7992690869866093E-2,4.7939882152749684E-2,4.7939835163485635E-2,4.8010104724849671E-2,4.8085456728555694E-2,4.8193889958470279E-2,4.837864546224814E-2,4.8520820927716014E-2,4.8620244701478757E-2,4.8713359409182838E-2,4.8806424807549265E-2,4.8898070159421082E-2,4.8986893721072081E-2,4.9071456290252141E-2]
[92,3.3376468445708074E-2,3.3519300693820364E-2,3.3642393279726956E-2,3.3734945164354935E-2,3.3808117063333976E-2,3.3863718365471529E-2,3.3903114101490051E-2,3.3923290568683262E-2,3.3935663430496144E-2,3.3935674380094483E-2,3.3919213370684043E-2,3.3901588820420603E-2,3.3876275657906074E-2,3.3833277833122954E-2,3.3800302443350638E-2,3.3777300616652406E-2,3.3755801478265735E-2,3.3734355196448185E-2,3.3713276515976442E-2,3.369288493149436E-2,3.3673506260866404E-2,null,92,4.8776626988252074E-2,4.8160345497910324E-2,4.7635552727009506E-2,4.7244777454532462E-2,4.6938123817548326E-2,4.6706452152854544E-2,4.6543003501400261E-2,4.645951753459699E-2,4.6408396136550643E-2,4.6408350920893376E-2,4.6476375907089834E-2,4.6549320955026514E-2,4.6654290402084513E-2,4.6833143921296456E-2,4.6970777648621724E-2,4.7067025414677777E-2,4.7157165651798581E-2,4.7247258143698859E-2,4.7335975943452582E-2,4.7421962088027993E-2,4.7503823352459389E-2]
[93,3.337242212744651E-2,3.3513717784534602E-2,3.3635485963467326E-2,3.3727041922224199E-2,3.3799426363392504E-2,3.3854429247279771E-2,3.3893400943948659E-2,3.3913360204119281E-2,3.3925599844547794E-2,3.3925610619110147E-2,3.3909326713735366E-2,3.3891891790457818E-2,3.3866850998103937E-2,3.382431585105139E-2,3.3791695272853417E-2,3.3768940927457969E-2,3.3747673097920483E-2,3.3726457553869382E-2,3.3705605653284287E-2,3.3685433453185309E-2,3.3666263266046492E-2,null,93,4.7218408705910299E-2,4.6621815374543463E-2,4.6113788024824472E-2,4.5735496817538683E-2,4.5438639867182662E-2,4.5214369489939454E-2,4.5056142651632373E-2,4.4975323991677973E-2,4.4925835963967008E-2,4.4925792423883629E-2,4.4991644502985387E-2,4.506225945332816E-2,4.5163875740101313E-2,4.5337015791614532E-2,4.547025284450458E-2,4.5563426038148794E-2,4.5650686803384848E-2,4.5737901339238718E-2,4.5823785089953051E-2,4.5907024442505988E-2,4.5986270680304947E-2]
[94,3.3368461615102873E-2,3.3508253400926558E-2,3.3628725378861413E-2,3.3719306626280199E-2,3.3790920386352452E-2,3.3845337603725101E-2,3.3883894299408857E-2,3.3903640986077788E-2,3.3915750249647436E-2,3.3915760859908328E-2,3.3899650293609085E-2,3.3882400965283166E-2,3.3857626748739156E-2,3.3815544432486133E-2,3.3783271115713331E-2,3.3760758986653761E-2,3.3739717545134384E-2,3.3718727829981088E-2,3.3698097884504286E-2,3.3678140401304013E-2,3.3659174262102631E-2,null,94,4.5709970522628644E-2,4.513243631135979E-2,4.4640638721982401E-2,4.4274432699650326E-2,4.3987059413179402E-2,4.3769953829771759E-2,4.3616781941537598E-2,4.3538545336430028E-2,4.3490638460737328E-2,4.3490596507610245E-2,4.3554345063758264E-2,4.3622704324541774E-2,4.3721074544337921E-2,4.3888683626751739E-2,4.4017664438640261E-2,4.4107861258499817E-2,4.4192334519249435E-2,4.4276763019460909E-2,4.4359903240205813E-2,4.4440483533503813E-2,4.4517198269177397E-2]
[95,3.3364584235460848E-2,3.3502903834564446E-2,3.3622106924855011E-2,3.3711734003781135E-2,3.3782593328066213E-2,3.3836437226512084E-2,3.3874587672850565E-2,3.3894126272099756E-2,3.39061079125067E-2,3.3906118368003613E-2,3.3890177494016793E-2,3.3873109855302674E-2,3.3848596602658265E-2,3.3806957580836405E-2,3.3775024213350102E-2,3.3752749201490406E-2,3.3731929382148529E-2,3.3711160741670687E-2,3.3690748078543553E-2,3.3671000791835048E-2,3.3652234404794701E-2,null,95,4.4249721932966481E-2,4.3690637910980948E-2,4.3214551544793346E-2,4.2860044579878694E-2,4.2581851943397274E-2,4.2371682223330917E-2,4.2223403759975041E-2,4.2147666687649195E-2,4.2101290419739902E-2,4.2101249973106165E-2,4.2162962178635084E-2,4.2229137785234898E-2,4.2324365614138118E-2,4.2486620399424239E-2,4.2611480920801699E-2,4.2698796431659324E-2,4.2780571220327586E-2,4.2862302671589129E-2,4.2942786992289865E-2,4.3020793158788401E-2,4.3095057250801747E-2]
[96,3.3360787422182403E-2,3.3497665527232989E-2,3.3615626187999181E-2,3.3704318997755944E-2,3.3774439622466623E-2,3.3827722162418139E-2,3.3865474836413334E-2,3.3884809693155882E-2,3.3896666377169593E-2,3.3896676686396177E-2,3.3880901971325983E-2,3.3864012238384422E-2,3.3839754512647646E-2,3.3798549546578238E-2,3.3766949044400585E-2,3.3744906209587588E-2,3.3724303395174848E-2,3.3703751223406186E-2,3.368355131560552E-2,3.3664009845977949E-2,3.3645439049317494E-2,null,96,4.2836123278010972E-2,4.229489997823014E-2,4.1834022872971402E-2,4.1490841181709717E-2,4.1221535869045686E-2,4.1018080402100809E-2,4.0874539004680417E-2,4.0801221584810664E-2,4.0756327000146329E-2,4.0756287986637559E-2,4.0816028872007935E-2,4.088009056228014E-2,4.0972276367712404E-2,4.1129347886835574E-2,4.1250219727949212E-2,4.1334745960377506E-2,4.1413908467680838E-2,4.1493029016277515E-2,4.157094226962614E-2,4.1646456530564431E-2,4.1718348256169532E-2]
[97,3.3357068710853088E-2,3.3492535063721407E-2,3.3609278933285358E-2,3.3697056756369914E-2,3.3766453929760409E-2,3.3819186700595028E-2,3.38565498160599E-2,3.3875685139970413E-2,3.3887419451118506E-2,3.3887429621660692E-2,3.3871817640883872E-2,3.3855102146440608E-2,3.3831094678391738E-2,3.3790314814870381E-2,3.375904031283028E-2,3.3737224867393056E-2,3.3716834583174871E-2,3.3696494416339373E-2,3.3676502876611725E-2,3.3657162979876531E-2,3.3638783740320477E-2,null,97,4.1467684115489088E-2,4.0943750911120923E-2,4.0497597148439722E-2,4.0165378895191069E-2,3.9904676957250779E-2,3.9707721218578775E-2,3.9568765528413874E-2,3.9497790437192405E-2,3.9454330178428747E-2,3.9454292530849734E-2,3.9512125052470953E-2,3.9574140339583348E-2,3.9663381285494785E-2,3.9815435108169074E-2,3.9932445677256845E-2,4.0014271724134097E-2,4.0090905389501767E-2,4.0167498431689999E-2,4.0242922742170985E-2,4.031602469387649E-2,4.0385619831294656E-2]
[98,3.3353425734260922E-2,3.3487509164986218E-2,3.3603061095482945E-2,3.3689942622879387E-2,3.3758631125291094E-2,3.381082536059199E-2,3.3847806878998909E-2,3.386674675013146E-2,3.3878361192185125E-2,3.3878371230836368E-2,3.386291866413238E-2,3.3846373852785439E-2,3.3822611534187308E-2,3.3782248093880529E-2,3.3751292936732069E-2,3.3729700239304661E-2,3.3709518147287731E-2,3.3689385658035365E-2,3.3669598233228903E-2,3.3650455794934642E-2,3.363226420250176E-2,null,98,4.0142961642796647E-2,3.9635766144056978E-2,3.9203865335707147E-2,3.888226025015766E-2,3.862988681436802E-2,3.843922313725838E-2,3.8304706635402967E-2,3.8235999023150877E-2,3.8193927249426912E-2,3.8193890905981041E-2,3.8249876011949541E-2,3.8309910254975564E-2,3.8396300403749625E-2,3.8543496812532607E-2,3.8656769449693984E-2,3.8735981559701774E-2,3.8810167158839642E-2,3.8884313428403081E-2,3.8957328298531838E-2,3.9028094996017372E-2,3.9095466904021936E-2]
[99,3.3349856217903762E-2,3.3482584681672423E-2,3.3596968770944535E-2,3.3682972126144461E-2,3.3750966289022299E-2,3.380263288105767E-2,3.3839240521827518E-2,3.3857988895935165E-2,3.3869485896208751E-2,3.3869495809070616E-2,3.3854199436463839E-2,3.383782186021933E-2,3.3814299737362719E-2,3.3774344303786119E-2,3.3743702037767775E-2,3.3722327587417888E-2,3.370234948086237E-2,3.3682420472792352E-2,3.3662833038470508E-2,3.3643884068690788E-2,3.3625876331739413E-2,null,99,{"$f":"(1+B123)^-$A123","v":3.8860559171113376E-2},3.8369566641432137E-2,3.7951463432082583E-2,3.7640132438839145E-2,3.7395821418352557E-2,3.7211248774384482E-2,3.7081029626338143E-2,3.7014517037872022E-2,3.6973789375812749E-2,3.6973754279435576E-2,3.702795097325675E-2,3.708606744558024E-2,3.7169697856750582E-2,3.7312192015625745E-2,3.7421846122477911E-2,3.7498527790666265E-2,3.7570343520376782E-2,3.7642121173419717E-2,3.7712803567267687E-2,3.7781309605194262E-2,3.7846529300201902E-2]
[100,3.3346357975715613E-2,3.3477758587974638E-2,3.3590998209858558E-2,3.3676140971666157E-2,3.3743454695612574E-2,3.3794604209076873E-2,3.3830845459342562E-2,3.3849406172922425E-2,3.3860788085397608E-2,3.3860797877967919E-2,3.3845654575770157E-2,3.3829440889792783E-2,3.3806154157359103E-2,3.3766598566399519E-2,3.3736262931211014E-2,3.3715102361856486E-2,3.369532416005816E-2,3.3675594562510014E-2,3.3656203117830907E-2,3.3637443746209472E-2,3.3619616186727708E-2,null,100,3.7619124648873931E-2,3.7143817439935195E-2,3.6739071026019379E-2,3.6437685886180515E-2,3.6201179698492437E-2,3.6022503484834122E-2,3.5896444390318895E-2,3.583205668794489E-2,3.5792630184318795E-2,3.5792596282106431E-2,3.5845061684441785E-2,3.5901321640050055E-2,3.598228046591527E-2,3.6120222583539273E-2,3.6226373748771287E-2,3.6300605804277797E-2,3.6370127364611197E-2,3.6439612061691815E-2,3.6508036485775656E-2,3.6574354076861791E-2,3.663749030758566E-2]
[101,3.3342928906000546E-2,3.3473027975819747E-2,3.3585145808919137E-2,3.3669445033116308E-2,3.3736091805039115E-2,3.3786734490105275E-2,3.3822616613983447E-2,3.3840993389063323E-2,3.3852262497351626E-2,3.3852272174598852E-2,3.3837278911640567E-2,3.3821225870210636E-2,3.3798169865431271E-2,3.3759006195383412E-2,3.3728971116553375E-2,3.3708020191652421E-2,3.3688437934978221E-2,3.3668903798077965E-2,3.3649704460922747E-2,3.3631130931959907E-2,3.3613479981085881E-2,null,101,3.6417349232923363E-2,3.5957226237906398E-2,3.5565409901984271E-2,3.5273652866281452E-2,3.5044702160948349E-2,3.4871733994541257E-2,3.4749702042164217E-2,3.4687371331210012E-2,3.4649204407166019E-2,3.4649171649889614E-2,3.4699961058394319E-2,3.4754423796091977E-2,3.4832796374328873E-2,3.4966331862102948E-2,3.5069091983065528E-2,3.5140952674063489E-2,3.5208253347882107E-2,3.5275518333548667E-2,3.5341756915169165E-2,3.5405955966126661E-2,3.5467075285872049E-2]
[102,3.3339566987569347E-2,3.34683900493562E-2,3.3579408104394082E-2,3.3662880344331736E-2,3.3728873253743519E-2,3.377901905846592E-2,3.3814549105863678E-2,3.3832745554546628E-2,3.3843904074699172E-2,3.3843913641129042E-2,3.3829067475169561E-2,3.3813171927831842E-2,3.3790342124929262E-2,3.3751562687015735E-2,3.3721822268641066E-2,3.3701076876136993E-2,3.3681686721301896E-2,3.3662344211246475E-2,3.364333321358437E-2,3.3624941882150594E-2,3.3607464075909865E-2,null,102,3.52539659057498E-2,3.4808542030166055E-2,3.4429242690278909E-2,3.4146806163403258E-2,3.3925169558549066E-2,3.3757727076950558E-2,3.3639593603587807E-2,3.3579254160381496E-2,3.3542306567207303E-2,3.3542274908891466E-2,3.3591441856185594E-2,3.3644164781809129E-2,3.3720033725165154E-2,3.3849303350293861E-2,3.3948780750733168E-2,3.4018345826703739E-2,3.4083496556728099E-2,3.4148612736547394E-2,3.4212735299649119E-2,3.427488348471857E-2,3.4334050321392202E-2]
[103,3.3336270276066893E-2,3.3463842119730858E-2,3.3573781765564359E-2,3.3656443091745869E-2,3.3721794846262698E-2,3.3771453428369957E-2,3.3806638243359055E-2,3.3824657872140174E-2,3.3835707955315986E-2,3.3835717415027444E-2,3.3821015489335915E-2,3.3805274377229466E-2,3.3782666382125903E-2,3.3744263711473543E-2,3.3714812229306279E-2,3.3694268376814884E-2,3.3675066592382841E-2,3.3655911986952614E-2,3.3637085670427114E-2,3.361887299749422E-2,3.3601564972741027E-2,null,103,3.412774813726651E-2,3.3696553786815873E-2,3.3329371560331007E-2,3.3055957776072474E-2,3.2841401603387173E-2,3.2679308272050414E-2,3.2564948726780001E-2,3.250653692898392E-2,3.247076970532984E-2,3.2470739102896357E-2,3.2518335412719944E-2,3.2569374099403581E-2,3.264281938255327E-2,3.276795941624322E-2,3.2864258960304232E-2,3.2931601751707784E-2,3.2994671215135309E-2,3.3057707230276352E-2,3.3119781368910313E-2,3.317994420106004E-2,3.323722092496139E-2]
[104,3.3333036900482282E-2,3.3459381600140947E-2,3.3568263588515501E-2,3.3650129607231349E-2,3.3714852547319207E-2,3.376403328543387E-2,3.3798879514215452E-2,3.3816725728086361E-2,3.3827669463085019E-2,3.3827678819820406E-2,3.3813118359914851E-2,3.3797528712277813E-2,3.3775138257551518E-2,3.3737105104599596E-2,3.3707936999463728E-2,3.3687590809689638E-2,3.3668573771789667E-2,3.3649603456071597E-2,3.3630958267797384E-2,3.3612920816370906E-2,3.3595779306923257E-2,null,104,3.3037508589654083E-2,3.2620089174530568E-2,3.2264636956014836E-2,3.1999957662845316E-2,3.1792255720803596E-2,3.1635340646565778E-2,3.1524634459003199E-2,3.1468088718219878E-2,3.1433464148735692E-2,3.1433434561692022E-2,3.1479510403307959E-2,3.1528918649849309E-2,3.1600017693512929E-2,3.1721160054458589E-2,3.1814383257070727E-2,3.1879574752490904E-2,3.1940629433249199E-2,3.2001651732712563E-2,3.2061742882165047E-2,3.2119983782041603E-2,3.2175430771504379E-2]
[105,3.3329865059834374E-2,3.3455006001143373E-2,3.3562850490263196E-2,3.364393636133034E-2,3.3708042474341893E-2,3.3756754478659667E-2,3.3791268577144207E-2,3.3808944683495712E-2,3.3819784099168082E-2,3.3819793356355543E-2,3.3805371666894013E-2,3.3789930597730278E-2,3.3767753537811362E-2,3.3730082860124133E-2,3.3701192731643514E-2,3.3681040438011012E-2,3.3662204626254688E-2,3.3643415088568274E-2,3.3624947577126418E-2,3.3607082008370481E-2,3.3590103841326879E-2,null,105,3.1982097863844601E-2,3.1578013318963274E-2,3.123391637159887E-2,3.0977692528371518E-2,3.0776625843387015E-2,3.0624723593972156E-2,3.0517554046856469E-2,3.0462814743432556E-2,3.0429296318752051E-2,3.0429267708925765E-2,3.0473871649811659E-2,3.0521701537203696E-2,3.0590529289597171E-2,3.0707801682909749E-2,3.0798046816664933E-2,3.0861155737515605E-2,3.0920259996222232E-2,3.0979332906775268E-2,3.1037504412443566E-2,3.1093884775128578E-2,3.1147560480081268E-2]
[106,3.3326753020021416E-2,3.3450712926209825E-2,3.3557539503187739E-2,3.3637859956845872E-2,3.3701360890392662E-2,3.3749613012852508E-2,3.3783801253876478E-2,3.3801310466215595E-2,3.3812047533753775E-2,3.3812056694544346E-2,3.3797771156361067E-2,3.3782475861259931E-2,3.3760508167849146E-2,3.3723193122313422E-2,3.3694575722932329E-2,3.3674613665422237E-2,3.3655955659010139E-2,3.3637343487024962E-2,3.361905029864376E-2,3.3601353368186926E-2,3.3584535460416731E-2,null,106,3.0960403286278471E-2,3.0569227606891358E-2,3.0236123167016727E-2,2.9988084648436521E-2,2.9793441243688577E-2,2.9646391673017029E-2,2.9542645778908663E-2,2.9489655198845648E-2,2.9457207576893223E-2,2.9457179908202975E-2,2.9500358965078303E-2,2.9546660911262165E-2,2.9613289926967001E-2,2.9726815978678912E-2,2.9814178177315059E-2,2.9875271050170415E-2,2.9932487191880443E-2,2.9989672985769853E-2,3.004598616985232E-2,3.0100565429502554E-2,3.0152526433003733E-2]
[107,3.3323699110830107E-2,3.3446500067511709E-2,3.3552327769765578E-2,3.3631897122780474E-2,3.3694804197471839E-2,3.3742605041446438E-2,3.3776473521650363E-2,3.3793818963136157E-2,3.3804455598254401E-2,3.3804464665555312E-2,3.3790312732830285E-2,3.377516048593443E-2,3.3753398243632882E-2,3.3716432179018874E-2,3.368808240830079E-2,3.3668307029477207E-2,3.364982350348833E-2,3.3631385380518353E-2,3.3613263255433123E-2,3.3595731809845653E-2,3.3579071164639984E-2,null,107,2.9971347734607773E-2,2.9592668526817172E-2,2.9270205421145595E-2,2.903009073268998E-2,2.8841665404386169E-2,2.8699313483500355E-2,2.8598881865442152E-2,2.8547584139364136E-2,2.8516173107916921E-2,2.8516146346170779E-2,2.8557946034424662E-2,2.8602768847304089E-2,2.8667269363638097E-2,2.8777168750925185E-2,2.8861740109516924E-2,2.8920881336150395E-2,2.8976269675946208E-2,2.903162863646673E-2,2.9086142862529939E-2,2.9138978554961118E-2,2.9189279632787151E-2]
[108,3.3320701723093427E-2,3.3442365201925561E-2,3.3547212537578641E-2,3.362604470859365E-2,3.3688368930182566E-2,3.3735726859717152E-2,3.376928150609837E-2,3.3786466212914146E-2,3.3797004277926757E-2,3.3797013254428521E-2,3.3782992451986793E-2,3.3767980603096603E-2,3.3746420005237976E-2,3.3709796455100305E-2,3.3681709354289158E-2,3.366211719551071E-2,3.3643804917359965E-2,3.3625537618830581E-2,3.3607583387809337E-2,3.3590214361242543E-2,3.3573708065120611E-2,null,108,2.9013888501077431E-2,2.8647306546752328E-2,2.8335144821865933E-2,2.8102700823856346E-2,2.7920294924670696E-2,2.7782490578091894E-2,2.7685267354122273E-2,2.7635608398206068E-2,2.7605200838671341E-2,2.7605174951397984E-2,2.764563933295007E-2,2.7689030261736487E-2,2.7751470272693732E-2,2.7857858849955917E-2,2.7939728521916292E-2,2.7996980447110784E-2,2.8050599373611866E-2,2.8104189858584549E-2,2.815696259408023E-2,2.8208110417359735E-2,2.8256804595692048E-2]
[109,3.3317759305990791E-2,3.3438306187242306E-2,3.3542191154583456E-2,3.3620299678763343E-2,3.3682051749733599E-2,3.3728974898355801E-2,3.3762221474520127E-2,3.3779248399085748E-2,3.3789689704885273E-2,3.3789698593086559E-2,3.3775806513820061E-2,3.3760932485629613E-2,3.3739569830299576E-2,3.3703282506204912E-2,3.3675453253033005E-2,3.3656040950835742E-2,3.363789677689355E-2,3.3619797166968057E-2,3.3602007747996154E-2,3.3584798158974083E-2,3.356844337863496E-2,null,109,2.8087016192355336E-2,2.773214502799147E-2,2.7429955591706776E-2,2.7204937232223992E-2,2.7028358461680963E-2,2.6894956409023153E-2,2.6800839080389272E-2,2.6752766539213137E-2,2.6723330391589036E-2,2.672330534788522E-2,2.6762477077531144E-2,2.6804481862458891E-2,2.6864927190306323E-2,2.6967917111225596E-2,2.704717140222173E-2,2.7102594379425561E-2,2.715450041627707E-2,2.7206378919512164E-2,2.7257465796303969E-2,2.7306979669418436E-2,2.7354118280695849E-2]
[110,3.331487036448344E-2,3.3434320958573682E-2,3.353726106462962E-2,3.3614659107634948E-2,3.3675849438255412E-2,3.3722345717383417E-2,3.3755289829507484E-2,3.3772161843545812E-2,3.3782508151489532E-2,3.3782516953719588E-2,3.376875125612222E-2,3.3754012541579614E-2,3.3732844227815306E-2,3.3696887012875321E-2,3.366931091660752E-2,3.3650075199251006E-2,3.3632096071614548E-2,3.361416109997406E-2,3.3596533495088066E-2,3.3579480443444831E-2,3.3563274422856448E-2,null,110,2.7189753664621549E-2,2.6846219173688547E-2,2.6553683447910044E-2,2.6335853504272925E-2,2.6164915705856398E-2,2.6035775308518541E-2,2.5944664651492342E-2,2.5898127842714471E-2,2.586963207168403E-2,2.5869607842082705E-2,2.5907528212378315E-2,2.594819113284183E-2,2.6006705497437527E-2,2.6106405333148671E-2,2.6183127792024984E-2,2.6236780246916627E-2,2.6287028112324112E-2,2.6337249323125443E-2,2.6386704196090096E-2,2.6434636315742579E-2,2.6480269052735397E-2]
[111,3.3312033456877499E-2,3.3430407524939643E-2,3.3532419803207647E-2,3.3609120174537654E-2,3.3669758893416946E-2,3.3715836000385524E-2,3.374848310291112E-2,3.3765203000370558E-2,3.3775456024081274E-2,3.3775464742517025E-2,3.3761823148331649E-2,3.3747217308115918E-2,3.372623983227574E-2,3.3690606774970711E-2,3.3663279271669566E-2,3.3644216955837747E-2,3.3626399899248094E-2,3.3608626598014446E-2,3.359115789027789E-2,3.3574258554232239E-2,3.3558198611850498E-2,null,111,2.6321154992780375E-2,2.5988595011124719E-2,2.5705404595814801E-2,2.5494533424334855E-2,2.5329056389099047E-2,2.5204041501874618E-2,2.511584146302967E-2,2.5070791323865811E-2,2.5043205885982217E-2,2.5043182442341876E-2,2.5079891427057278E-2,2.5119255348224411E-2,2.5175900434129286E-2,2.5272415287621992E-2,2.5346686794427791E-2,2.5398625286460082E-2,{"$f":"(1+R135)^-$A135","v":2.5447267950826337E-2},2.5495884811601789E-2,2.5543759815363533E-2,2.5590160710962626E-2,2.5634335679126728E-2]
[112,3.3309247192507829E-2,3.3426563966034939E-2,3.352766499341886E-2,3.3603680159154603E-2,3.3663777123323246E-2,3.3709442549048063E-2,3.3741797950117336E-2,3.3758368449966047E-2,3.3768529857049145E-2,3.3768538493732292E-2,3.3755018785700086E-2,3.3740543445809568E-2,3.3719753398104402E-2,3.3684438706380382E-2,3.3657355354383078E-2,3.3638463342030356E-2,3.3620805460925718E-2,3.3603190941721373E-2,3.3585878292335281E-2,3.3569129925694163E-2,3.3553213451807284E-2,null,112,2.5480304472684411E-2,2.5158368406554485E-2,2.488422475446516E-2,2.4680090048221349E-2,2.4519899324688236E-2,2.4398878152135008E-2,2.4313495746993416E-2,2.4269884782400834E-2,2.4243180594340431E-2,2.4243157909742071E-2,2.4278694205940882E-2,2.4316800623884804E-2,2.4371636145336651E-2,2.4465067762213112E-2,2.4536966613420783E-2,2.4587245895405969E-2,2.4634334637132053E-2,2.4681398399172071E-2,2.47277440030285E-2,2.4772662589926178E-2,2.4815426358084054E-2]
[113,3.3306510229537789E-2,3.3422788429152472E-2,3.3522994342150003E-2,3.3598336437131726E-2,3.3657901241674448E-2,3.3703162277977983E-2,3.3735231144627731E-2,3.3751654893519278E-2,3.3761726307203199E-2,3.3761734864054427E-2,3.3748334883762388E-2,3.373398773320968E-2,3.37133817943851E-2,3.3678379830013538E-2,3.3651536305606689E-2,3.3632811580944777E-2,3.3615310056642311E-2,3.3597851507780607E-2,3.3580692153320379E-2,3.3564092082806862E-2,3.3548316536994749E-2,null,113,2.4666315655301238E-2,2.4354664111609556E-2,2.4089278213414701E-2,2.3891664767781904E-2,2.3736591477932736E-2,2.3619436435334994E-2,2.3536781650258992E-2,2.3494563882798417E-2,2.3468712790632999E-2,2.346869083929301E-2,2.3503091908073696E-2,2.3539980993467449E-2,2.3593064757291157E-2,2.3683511632986185E-2,2.3753113623996607E-2,2.3801786699788569E-2,2.3847371159302556E-2,2.3892931436775341E-2,2.3937796497875152E-2,2.3981280128906941E-2,2.4022677778316976E-2]
[114,3.3303821272867129E-2,3.3419079126268292E-2,3.3518405636443704E-2,3.3593086475913303E-2,3.3652128463176556E-2,3.3696992209787835E-2,3.3728779572914869E-2,3.3745059147737511E-2,3.3755042148440717E-2,3.3755050627272354E-2,3.3741768273094719E-2,3.3727547061700891E-2,3.3707121999865475E-2,3.367242727304709E-2,3.3645819366331597E-2,3.3627258992946718E-2,3.3609911080949351E-2,3.359260576474532E-2,3.3575597014519731E-2,3.3559142637216821E-2,3.3543505545921892E-2,null,114,2.3878330411800548E-2,2.3576634840204325E-2,2.331972691971625E-2,2.3128426405393743E-2,2.2978307066550224E-2,2.2864894645345999E-2,2.2784880342572828E-2,2.274401126387449E-2,2.2718986013334483E-2,2.271896477052451E-2,2.275226687646964E-2,2.2787977516893442E-2,2.2839365483400962E-2,2.2926922966987708E-2,2.2994301472002203E-2,2.3041419652344738E-2,2.3085547884400523E-2,2.3129652706633055E-2,2.3173084521455785E-2,2.321517903683705E-2,2.3255254208699637E-2]
[115,3.3301179072142473E-2,3.3415434331269589E-2,3.3513896740052118E-2,3.3587927830785347E-2,3.3646456099184707E-2,3.3690929470435949E-2,3.3722440229543738E-2,3.3738578139856701E-2,3.3748474266685369E-2,3.3748482669212043E-2,3.3735315894340978E-2,3.3721218430624811E-2,3.370097109821435E-2,3.3666578262420144E-2,3.364020187335437E-2,3.3621802991448568E-2,3.3604606018867278E-2,3.3587451269067481E-2,3.357059050258937E-2,3.3554279283495303E-2,3.3538778237699018E-2,null,115,2.3115518028555385E-2,2.282346037499125E-2,2.257475959412357E-2,2.2389570337432493E-2,2.2244246689836652E-2,2.2134457327342729E-2,2.2056999153066661E-2,2.2017435676856652E-2,2.1993209884551789E-2,2.1993189326532291E-2,2.2025427575897209E-2,{"$f":"(1+M139)^-$A139","v":2.2059997416800124E-2},2.2109743758755011E-2,2.2194504153429676E-2,2.2259730202776679E-2,2.2305343159370578E-2,2.2348061683685309E-2,2.2390757545771078E-2,2.2432801899970035E-2,2.247355167560228E-2,2.2512346617047492E-2]
[116,3.3298582419865941E-2,3.3411852377321027E-2,3.3509465590164877E-2,3.3582858141123495E-2,3.3640881553568702E-2,3.3684971284799969E-2,3.3716210212540121E-2,3.3732208902904182E-2,3.3742019655085054E-2,3.3742027982932576E-2,3.3728974793491684E-2,3.371499894265062E-2,3.3694926273523995E-2,3.3660830120554097E-2,3.3634681255168442E-2,3.3616441078920589E-2,3.3599392442006826E-2,3.3582385661327541E-2,3.3565670325896857E-2,3.3549499795584081E-2,3.3534132448583609E-2,null,116,{"$f":"(1+B140)^-$A140","v":2.2377074331099558E-2},2.2094346702398696E-2,2.1853590875564561E-2,2.1674317645771855E-2,2.1533636485684165E-2,2.1427354438998535E-2,2.1352370734393045E-2,2.1314071151027309E-2,2.1290619276590823E-2,2.12905993805497E-2,2.132180775824195E-2,2.1355273242595327E-2,2.1403430402293821E-2,2.1485483062664974E-2,2.1548625417656522E-2,2.159278123550061E-2,2.1634135085777179E-2,2.1675466997573837E-2,2.1716168214222117E-2,2.1755616208459651E-2,2.1793171817067969E-2]
[117,3.3296030149596811E-2,3.3408331654362744E-2,3.3505110194298915E-2,3.3577875126826529E-2,3.3635402318785257E-2,3.3679114972474666E-2,3.3710086718994114E-2,3.372594857120137E-2,3.3735675409451327E-2,3.373568366416646E-2,3.3722742117405113E-2,3.3708885799379251E-2,3.3688984806037103E-2,3.3655180261294104E-2,3.3629255028065241E-2,3.3611170843104388E-2,3.3594268004888406E-2,3.3577406662659071E-2,3.3560834271045392E-2,3.3544802023420806E-2,3.352956608869917E-2,null,117,2.1662220836105549E-2,2.1388525175334943E-2,2.1155460492982867E-2,2.0981914296425416E-2,2.0845727314563689E-2,2.0742840538501204E-2,2.0670252253589552E-2,2.0633176186045134E-2,2.0610473505176453E-2,2.061045424917032E-2,2.0640665654548942E-2,2.0673062061243107E-2,2.0719680805775624E-2,2.0799112232038879E-2,2.0860237457441713E-2,2.0902982685506208E-2,2.0943015456889799E-2,2.0983026990454595E-2,2.1022427976759427E-2,2.1060615775680695E-2,2.1096971642587271E-2]
[118,3.3293521134239779E-2,3.3404870606731585E-2,3.3500828627344825E-2,3.3572976584929082E-2,3.3630015972147653E-2,3.367335794378179E-2,3.3704067040883467E-2,3.3719794376092516E-2,3.3729438723929306E-2,3.3729446906986205E-2,3.3716615109549597E-2,3.3702876297170281E-2,3.3683144068090476E-2,3.3649626186050607E-2,3.3623920792430262E-2,3.3605989953414017E-2,3.358923044144313E-2,3.3572512071350369E-2,3.3556080199575788E-2,3.3540183889734454E-2,3.35250771389215E-2,null,118,2.0970203930486434E-2,2.0705251702670485E-2,2.0479632463657117E-2,2.0311630344452943E-2,2.0179793969598916E-2,2.0080193998529328E-2,2.0009924608814733E-2,1.9974032970091048E-2,1.9952055548462029E-2,1.9952036911370569E-2,1.9981283192904851E-2,2.0012644673916127E-2,2.0057774148668991E-2,2.0134668077781255E-2,2.0193840611972852E-2,2.0235220312257853E-2,2.0273974207278701E-2,2.0312707542786357E-2,2.0350849835307265E-2,2.0387817696545522E-2,2.0423012148165505E-2]
[119,3.3291054284414923E-2,3.3401467730898693E-2,3.3496619028758445E-2,3.3568160386379997E-2,3.3624720172280576E-2,3.3667697695975773E-2,3.3698148561104091E-2,3.3713743641883287E-2,3.3723306886882964E-2,3.3723314999689835E-2,3.3710591105960752E-2,3.369696782317444E-2,3.3677401520260553E-2,3.3644165480135158E-2,3.361867622922432E-2,3.3600896157520488E-2,3.3584277561690801E-2,3.356769975961571E-2,3.3551406044828758E-2,3.3535643386998437E-2,3.3520663647917726E-2,null,119,2.0300294076750016E-2,2.0043805964636636E-2,1.982539431715841E-2,1.9662759164293411E-2,1.9535134411896329E-2,1.9438716245367235E-2,1.9370691671129325E-2,1.933594662301661E-2,1.9314671291011668E-2,1.931465325249148E-2,1.9342965241318236E-2,1.9373324857694298E-2,1.9417012638141436E-2,1.9491450132082356E-2,1.9548732354968044E-2,1.9588790149993655E-2,1.962630602304705E-2,1.9663801993247465E-2,1.9700725801675974E-2,1.9736512696847168E-2,1.977058283527016E-2]
[120,3.3288628546909615E-2,3.3398121573316786E-2,3.3492479599888103E-2,3.3563424472983439E-2,3.3619512655748141E-2,3.3662131809638396E-2,3.3692328749698852E-2,3.3707793781985407E-2,3.3717277276982927E-2,3.3717285320888024E-2,3.370466753139878E-2,3.3691157851564624E-2,3.3671754707699231E-2,3.3638795809277422E-2,3.3613519096637567E-2,3.3595887278101477E-2,3.3579407248581328E-2,3.3562967670527355E-2,3.3546809808966849E-2,3.3531178574537357E-2,3.3516323729332775E-2,null,120,1.9651785043755823E-2,1.9403490653315262E-2,1.9192056344120217E-2,1.9034616704694113E-2,1.8911069030326185E-2,1.8817731022339194E-2,1.8751879550510258E-2,1.8718244463675697E-2,1.8697648791949462E-2,1.8697631332393248E-2,1.8725038874800121E-2,1.875442863150012E-2,1.8796720773343857E-2,1.8868780304559355E-2,1.8924232603325139E-2,1.8963010722106925E-2,1.8999328122510657E-2,1.90356262557628E-2,1.9071370505301468E-2,1.9106014161081833E-2,1.9138995903178666E-2]
[]
[]
[null,"Input voor extrapolatie met VA"]
[null,"Dit betreft de geëxtrapoleerde curve op tabblad \"Curves met UFR, zonder VA\" tót het LLP, waarbij vervolgens de VA wordt opgeteld"]
[]
[null,1,2,3,4,5,6,7,8,9,10,11,12,13,14,15,16,17,18,19,20,21]
[0,{"$f":"('Curves met UFR, zonder VA'!B25+IF('Configuratie en berekeningen'!$D$4=\"Met VA\",'Configuratie en berekeningen'!$F$4/10000,0))*'Curves met UFR, zonder VA'!B154","v":2.2159999999982756E-2},{"$f":"('Curves met UFR, zonder VA'!C25+IF('Configuratie en berekeningen'!$D$4=\"Met VA\",'Configuratie en berekeningen'!$F$4/10000,0))*'Curves met UFR, zonder VA'!C154","v":2.3900741506324479E-2},{"$f":"('Curves met UFR, zonder VA'!D25+IF('Configuratie en berekeningen'!$D$4=\"Met VA\",'Configuratie en berekeningen'!$F$4/10000,0))*'Curves met UFR, zonder VA'!D154","v":2.6634230192283087E-2},{"$f":"('Curves met UFR, zonder VA'!E25+IF('Configuratie en berekeningen'!$D$4=\"Met VA\",'Configuratie en berekeningen'!$F$4/10000,0))*'Curves met UFR, zonder VA'!E154","v":2.8356227500492645E-2},{"$f":"('Curves met UFR, zonder VA'!F25+IF('Configuratie en berekeningen'!$D$4=\"Met VA\",'Configuratie en berekeningen'!$F$4/10000,0))*'Curves met UFR, zonder VA'!F154","v":2.9918455120398906E-2},{"$f":"('Curves met UFR, zonder VA'!G25+IF('Configuratie en berekeningen'!$D$4=\"Met VA\",'Configuratie en berekeningen'!$F$4/10000,0))*'Curves met UFR, zonder VA'!G154","v":3.1360837753145715E-2},{"$f":"('Curves met UFR, zonder VA'!H25+IF('Configuratie en berekeningen'!$D$4=\"Met VA\",'Configuratie en berekeningen'!$F$4/10000,0))*'Curves met UFR, zonder VA'!H154","v":3.3085164357387793E-2},{"$f":"('Curves met UFR, zonder VA'!I25+IF('Configuratie en berekeningen'!$D$4=\"Met VA\",'Configuratie en berekeningen'!$F$4/10000,0))*'Curves met UFR, zonder VA'!I154","v":3.3764556547040449E-2},{"$f":"('Curves met UFR, zonder VA'!J25+IF('Configuratie en berekeningen'!$D$4=\"Met VA\",'Configuratie en berekeningen'!$F$4/10000,0))*'Curves met UFR, zonder VA'!J154","v":3.4866711274699001E-2},{"$f":"('Curves met UFR, zonder VA'!K25+IF('Configuratie en berekeningen'!$D$4=\"Met VA\",'Configuratie en berekeningen'!$F$4/10000,0))*'Curves met UFR, zonder VA'!K154","v":3.6351489876652453E-2},{"$f":"('Curves met UFR, zonder VA'!L25+IF('Configuratie en berekeningen'!$D$4=\"Met VA\",'Configuratie en berekeningen'!$F$4/10000,0))*'Curves met UFR, zonder VA'!L154","v":3.6428017491978222E-2},{"$f":"('Curves met UFR, zonder VA'!M25+IF('Configuratie en berekeningen'!$D$4=\"Met VA\",'Configuratie en berekeningen'!$F$4/10000,0))*'Curves met UFR, zonder VA'!M154","v":3.7108732132818199E-2},{"$f":"('Curves met UFR, zonder VA'!N25+IF('Configuratie en berekeningen'!$D$4=\"Met VA\",'Configuratie en berekeningen'!$F$4/10000,0))*'Curves met UFR, zonder VA'!N154","v":3.8715533833901576E-2},{"$f":"('Curves met UFR, zonder VA'!O25+IF('Configuratie en berekeningen'!$D$4=\"Met VA\",'Configuratie en berekeningen'!$F$4/10000,0))*'Curves met UFR, zonder VA'!O154","v":3.7764885000843032E-2},{"$f":"('Curves met UFR, zonder VA'!P25+IF('Configuratie en berekeningen'!$D$4=\"Met VA\",'Configuratie en berekeningen'!$F$4/10000,0))*'Curves met UFR, zonder VA'!P154","v":3.6821273691531445E-2},{"$f":"('Curves met UFR, zonder VA'!Q25+IF('Configuratie en berekeningen'!$D$4=\"Met VA\",'Configuratie en berekeningen'!$F$4/10000,0))*'Curves met UFR, zonder VA'!Q154","v":3.666129591139311E-2},{"$f":"('Curves met UFR, zonder VA'!R25+IF('Configuratie en berekeningen'!$D$4=\"Met VA\",'Configuratie en berekeningen'!$F$4/10000,0))*'Curves met UFR, zonder VA'!R154","v":3.6636593939350579E-2},{"$f":"('Curves met UFR, zonder VA'!S25+IF('Configuratie en berekeningen'!$D$4=\"Met VA\",'Configuratie en berekeningen'!$F$4/10000,0))*'Curves met UFR, zonder VA'!S154","v":3.6584258424897015E-2},{"$f":"('Curves met UFR, zonder VA'!T25+IF('Configuratie en berekeningen'!$D$4=\"Met VA\",'Configuratie en berekeningen'!$F$4/10000,0))*'Curves met UFR, zonder VA'!T154","v":3.650375448384964E-2},{"$f":"('Curves met UFR, zonder VA'!U25+IF('Configuratie en berekeningen'!$D$4=\"Met VA\",'Configuratie en berekeningen'!$F$4/10000,0))*'Curves met UFR, zonder VA'!U154","v":3.6394411485564701E-2},{"$f":"('Curves met UFR, zonder VA'!V25+IF('Configuratie en berekeningen'!$D$4=\"Met VA\",'Configuratie en berekeningen'!$F$4/10000,0))*'Curves met UFR, zonder VA'!V154","v":3.6262077795816881E-2}]
[1,{"$f":"('Curves met UFR, zonder VA'!B26+IF('Configuratie en berekeningen'!$D$4=\"Met VA\",'Configuratie en berekeningen'!$F$4/10000,0))*'Curves met UFR, zonder VA'!B155","v":2.3029999999976278E-2},{"$f":"('Curves met UFR, zonder VA'!C26+IF('Configuratie en berekeningen'!$D$4=\"Met VA\",'Configuratie en berekeningen'!$F$4/10000,0))*'Curves met UFR, zonder VA'!C155","v":2.526657362630795E-2},{"$f":"('Curves met UFR, zonder VA'!D26+IF('Configuratie en berekeningen'!$D$4=\"Met VA\",'Configuratie en berekeningen'!$F$4/10000,0))*'Curves met UFR, zonder VA'!D155","v":2.7494867613443372E-2},{"$f":"('Curves met UFR, zonder VA'!E26+IF('Configuratie en berekeningen'!$D$4=\"Met VA\",'Configuratie en berekeningen'!$F$4/10000,0))*'Curves met UFR, zonder VA'!E155","v":2.9137044474446913E-2},{"$f":"('Curves met UFR, zonder VA'!F26+IF('Configuratie en berekeningen'!$D$4=\"Met VA\",'Configuratie en berekeningen'!$F$4/10000,0))*'Curves met UFR, zonder VA'!F155","v":3.0639393766279596E-2},{"$f":"('Curves met UFR, zonder VA'!G26+IF('Configuratie en berekeningen'!$D$4=\"Met VA\",'Configuratie en berekeningen'!$F$4/10000,0))*'Curves met UFR, zonder VA'!G155","v":3.2222640505643982E-2},{"$f":"('Curves met UFR, zonder VA'!H26+IF('Configuratie en berekeningen'!$D$4=\"Met VA\",'Configuratie en berekeningen'!$F$4/10000,0))*'Curves met UFR, zonder VA'!H155","v":3.3424804545885298E-2},{"$f":"('Curves met UFR, zonder VA'!I26+IF('Configuratie en berekeningen'!$D$4=\"Met VA\",'Configuratie en berekeningen'!$F$4/10000,0))*'Curves met UFR, zonder VA'!I155","v":3.4315486906480716E-2},{"$f":"('Curves met UFR, zonder VA'!J26+IF('Configuratie en berekeningen'!$D$4=\"Met VA\",'Configuratie en berekeningen'!$F$4/10000,0))*'Curves met UFR, zonder VA'!J155","v":3.5608834119918706E-2},{"$f":"('Curves met UFR, zonder VA'!K26+IF('Configuratie en berekeningen'!$D$4=\"Met VA\",'Configuratie en berekeningen'!$F$4/10000,0))*'Curves met UFR, zonder VA'!K155","v":3.6389752977000908E-2},{"$f":"('Curves met UFR, zonder VA'!L26+IF('Configuratie en berekeningen'!$D$4=\"Met VA\",'Configuratie en berekeningen'!$F$4/10000,0))*'Curves met UFR, zonder VA'!L155","v":3.6768318869457792E-2},{"$f":"('Curves met UFR, zonder VA'!M26+IF('Configuratie en berekeningen'!$D$4=\"Met VA\",'Configuratie en berekeningen'!$F$4/10000,0))*'Curves met UFR, zonder VA'!M155","v":3.7911821625209383E-2},{"$f":"('Curves met UFR, zonder VA'!N26+IF('Configuratie en berekeningen'!$D$4=\"Met VA\",'Configuratie en berekeningen'!$F$4/10000,0))*'Curves met UFR, zonder VA'!N155","v":3.8240100464557322E-2},{"$f":"('Curves met UFR, zonder VA'!O26+IF('Configuratie en berekeningen'!$D$4=\"Met VA\",'Configuratie en berekeningen'!$F$4/10000,0))*'Curves met UFR, zonder VA'!O155","v":3.7292971902367286E-2},{"$f":"('Curves met UFR, zonder VA'!P26+IF('Configuratie en berekeningen'!$D$4=\"Met VA\",'Configuratie en berekeningen'!$F$4/10000,0))*'Curves met UFR, zonder VA'!P155","v":3.6741281711552151E-2},{"$f":"('Curves met UFR, zonder VA'!Q26+IF('Configuratie en berekeningen'!$D$4=\"Met VA\",'Configuratie en berekeningen'!$F$4/10000,0))*'Curves met UFR, zonder VA'!Q155","v":3.6648944851685281E-2},{"$f":"('Curves met UFR, zonder VA'!R26+IF('Configuratie en berekeningen'!$D$4=\"Met VA\",'Configuratie en berekeningen'!$F$4/10000,0))*'Curves met UFR, zonder VA'!R155","v":3.6610425851404546E-2},{"$f":"('Curves met UFR, zonder VA'!S26+IF('Configuratie en berekeningen'!$D$4=\"Met VA\",'Configuratie en berekeningen'!$F$4/10000,0))*'Curves met UFR, zonder VA'!S155","v":3.6544005671764898E-2},{"$f":"('Curves met UFR, zonder VA'!T26+IF('Configuratie en berekeningen'!$D$4=\"Met VA\",'Configuratie en berekeningen'!$F$4/10000,0))*'Curves met UFR, zonder VA'!T155","v":3.6449081540839298E-2},{"$f":"('Curves met UFR, zonder VA'!U26+IF('Configuratie en berekeningen'!$D$4=\"Met VA\",'Configuratie en berekeningen'!$F$4/10000,0))*'Curves met UFR, zonder VA'!U155","v":3.6328242525536833E-2},{"$f":"('Curves met UFR, zonder VA'!V26+IF('Configuratie en berekeningen'!$D$4=\"Met VA\",'Configuratie en berekeningen'!$F$4/10000,0))*'Curves met UFR, zonder VA'!V155","v":3.6197312256921396E-2}]
[2,{"$f":"('Curves met UFR, zonder VA'!B27+IF('Configuratie en berekeningen'!$D$4=\"Met VA\",'Configuratie en berekeningen'!$F$4/10000,0))*'Curves met UFR, zonder VA'!B156","v":2.4229999999957272E-2},{"$f":"('Curves met UFR, zonder VA'!C27+IF('Configuratie en berekeningen'!$D$4=\"Met VA\",'Configuratie en berekeningen'!$F$4/10000,0))*'Curves met UFR, zonder VA'!C156","v":2.6295424046216029E-2},{"$f":"('Curves met UFR, zonder VA'!D27+IF('Configuratie en berekeningen'!$D$4=\"Met VA\",'Configuratie en berekeningen'!$F$4/10000,0))*'Curves met UFR, zonder VA'!D156","v":2.8302094904733385E-2},{"$f":"('Curves met UFR, zonder VA'!E27+IF('Configuratie en berekeningen'!$D$4=\"Met VA\",'Configuratie en berekeningen'!$F$4/10000,0))*'Curves met UFR, zonder VA'!E156","v":2.987777489893044E-2},{"$f":"('Curves met UFR, zonder VA'!F27+IF('Configuratie en berekeningen'!$D$4=\"Met VA\",'Configuratie en berekeningen'!$F$4/10000,0))*'Curves met UFR, zonder VA'!F156","v":3.1454005719081676E-2},{"$f":"('Curves met UFR, zonder VA'!G27+IF('Configuratie en berekeningen'!$D$4=\"Met VA\",'Configuratie en berekeningen'!$F$4/10000,0))*'Curves met UFR, zonder VA'!G156","v":3.2736356463824487E-2},{"$f":"('Curves met UFR, zonder VA'!H27+IF('Configuratie en berekeningen'!$D$4=\"Met VA\",'Configuratie en berekeningen'!$F$4/10000,0))*'Curves met UFR, zonder VA'!H156","v":3.3905216453682982E-2},{"$f":"('Curves met UFR, zonder VA'!I27+IF('Configuratie en berekeningen'!$D$4=\"Met VA\",'Configuratie en berekeningen'!$F$4/10000,0))*'Curves met UFR, zonder VA'!I156","v":3.4993709138510784E-2},{"$f":"('Curves met UFR, zonder VA'!J27+IF('Configuratie en berekeningen'!$D$4=\"Met VA\",'Configuratie en berekeningen'!$F$4/10000,0))*'Curves met UFR, zonder VA'!J156","v":3.588182317959758E-2},{"$f":"('Curves met UFR, zonder VA'!K27+IF('Configuratie en berekeningen'!$D$4=\"Met VA\",'Configuratie en berekeningen'!$F$4/10000,0))*'Curves met UFR, zonder VA'!K156","v":3.6629357221990386E-2},{"$f":"('Curves met UFR, zonder VA'!L27+IF('Configuratie en berekeningen'!$D$4=\"Met VA\",'Configuratie en berekeningen'!$F$4/10000,0))*'Curves met UFR, zonder VA'!L156","v":3.7416984046328691E-2},{"$f":"('Curves met UFR, zonder VA'!M27+IF('Configuratie en berekeningen'!$D$4=\"Met VA\",'Configuratie en berekeningen'!$F$4/10000,0))*'Curves met UFR, zonder VA'!M156","v":3.7862840435816045E-2},{"$f":"('Curves met UFR, zonder VA'!N27+IF('Configuratie en berekeningen'!$D$4=\"Met VA\",'Configuratie en berekeningen'!$F$4/10000,0))*'Curves met UFR, zonder VA'!N156","v":3.776694231575399E-2},{"$f":"('Curves met UFR, zonder VA'!O27+IF('Configuratie en berekeningen'!$D$4=\"Met VA\",'Configuratie en berekeningen'!$F$4/10000,0))*'Curves met UFR, zonder VA'!O156","v":3.7082370425426101E-2},{"$f":"('Curves met UFR, zonder VA'!P27+IF('Configuratie en berekeningen'!$D$4=\"Met VA\",'Configuratie en berekeningen'!$F$4/10000,0))*'Curves met UFR, zonder VA'!P156","v":3.6706384611252238E-2},{"$f":"('Curves met UFR, zonder VA'!Q27+IF('Configuratie en berekeningen'!$D$4=\"Met VA\",'Configuratie en berekeningen'!$F$4/10000,0))*'Curves met UFR, zonder VA'!Q156","v":3.6627382260309968E-2},{"$f":"('Curves met UFR, zonder VA'!R27+IF('Configuratie en berekeningen'!$D$4=\"Met VA\",'Configuratie en berekeningen'!$F$4/10000,0))*'Curves met UFR, zonder VA'!R156","v":3.6574867507516748E-2},{"$f":"('Curves met UFR, zonder VA'!S27+IF('Configuratie en berekeningen'!$D$4=\"Met VA\",'Configuratie en berekeningen'!$F$4/10000,0))*'Curves met UFR, zonder VA'!S156","v":3.6494138540774809E-2},{"$f":"('Curves met UFR, zonder VA'!T27+IF('Configuratie en berekeningen'!$D$4=\"Met VA\",'Configuratie en berekeningen'!$F$4/10000,0))*'Curves met UFR, zonder VA'!T156","v":3.6386743204762359E-2},{"$f":"('Curves met UFR, zonder VA'!U27+IF('Configuratie en berekeningen'!$D$4=\"Met VA\",'Configuratie en berekeningen'!$F$4/10000,0))*'Curves met UFR, zonder VA'!U156","v":3.6263007828930036E-2},{"$f":"('Curves met UFR, zonder VA'!V27+IF('Configuratie en berekeningen'!$D$4=\"Met VA\",'Configuratie en berekeningen'!$F$4/10000,0))*'Curves met UFR, zonder VA'!V156","v":3.6135486363953515E-2}]
[3,{"$f":"('Curves met UFR, zonder VA'!B28+IF('Configuratie en berekeningen'!$D$4=\"Met VA\",'Configuratie en berekeningen'!$F$4/10000,0))*'Curves met UFR, zonder VA'!B157","v":2.5259999999945146E-2},{"$f":"('Curves met UFR, zonder VA'!C28+IF('Configuratie en berekeningen'!$D$4=\"Met VA\",'Configuratie en berekeningen'!$F$4/10000,0))*'Curves met UFR, zonder VA'!C157","v":2.7199983581052953E-2},{"$f":"('Curves met UFR, zonder VA'!D28+IF('Configuratie en berekeningen'!$D$4=\"Met VA\",'Configuratie en berekeningen'!$F$4/10000,0))*'Curves met UFR, zonder VA'!D157","v":2.9065927959640955E-2},{"$f":"('Curves met UFR, zonder VA'!E28+IF('Configuratie en berekeningen'!$D$4=\"Met VA\",'Configuratie en berekeningen'!$F$4/10000,0))*'Curves met UFR, zonder VA'!E157","v":3.0678686231583693E-2},{"$f":"('Curves met UFR, zonder VA'!F28+IF('Configuratie en berekeningen'!$D$4=\"Met VA\",'Configuratie en berekeningen'!$F$4/10000,0))*'Curves met UFR, zonder VA'!F157","v":3.2031158165991933E-2},{"$f":"('Curves met UFR, zonder VA'!G28+IF('Configuratie en berekeningen'!$D$4=\"Met VA\",'Configuratie en berekeningen'!$F$4/10000,0))*'Curves met UFR, zonder VA'!G157","v":3.3268533114608687E-2},{"$f":"('Curves met UFR, zonder VA'!H28+IF('Configuratie en berekeningen'!$D$4=\"Met VA\",'Configuratie en berekeningen'!$F$4/10000,0))*'Curves met UFR, zonder VA'!H157","v":3.4516242197479549E-2},{"$f":"('Curves met UFR, zonder VA'!I28+IF('Configuratie en berekeningen'!$D$4=\"Met VA\",'Configuratie en berekeningen'!$F$4/10000,0))*'Curves met UFR, zonder VA'!I157","v":3.5352099780008236E-2},{"$f":"('Curves met UFR, zonder VA'!J28+IF('Configuratie en berekeningen'!$D$4=\"Met VA\",'Configuratie en berekeningen'!$F$4/10000,0))*'Curves met UFR, zonder VA'!J157","v":3.6188414093767093E-2},{"$f":"('Curves met UFR, zonder VA'!K28+IF('Configuratie en berekeningen'!$D$4=\"Met VA\",'Configuratie en berekeningen'!$F$4/10000,0))*'Curves met UFR, zonder VA'!K157","v":3.7150507710038846E-2},{"$f":"('Curves met UFR, zonder VA'!L28+IF('Configuratie en berekeningen'!$D$4=\"Met VA\",'Configuratie en berekeningen'!$F$4/10000,0))*'Curves met UFR, zonder VA'!L157","v":3.7503948334540446E-2},{"$f":"('Curves met UFR, zonder VA'!M28+IF('Configuratie en berekeningen'!$D$4=\"Met VA\",'Configuratie en berekeningen'!$F$4/10000,0))*'Curves met UFR, zonder VA'!M157","v":3.76023505644522E-2},{"$f":"('Curves met UFR, zonder VA'!N28+IF('Configuratie en berekeningen'!$D$4=\"Met VA\",'Configuratie en berekeningen'!$F$4/10000,0))*'Curves met UFR, zonder VA'!N157","v":3.7490420062315774E-2},{"$f":"('Curves met UFR, zonder VA'!O28+IF('Configuratie en berekeningen'!$D$4=\"Met VA\",'Configuratie en berekeningen'!$F$4/10000,0))*'Curves met UFR, zonder VA'!O157","v":3.6970908311540304E-2},{"$f":"('Curves met UFR, zonder VA'!P28+IF('Configuratie en berekeningen'!$D$4=\"Met VA\",'Configuratie en berekeningen'!$F$4/10000,0))*'Curves met UFR, zonder VA'!P157","v":3.6675851713989946E-2},{"$f":"('Curves met UFR, zonder VA'!Q28+IF('Configuratie en berekeningen'!$D$4=\"Met VA\",'Configuratie en berekeningen'!$F$4/10000,0))*'Curves met UFR, zonder VA'!Q157","v":3.6596473931996762E-2},{"$f":"('Curves met UFR, zonder VA'!R28+IF('Configuratie en berekeningen'!$D$4=\"Met VA\",'Configuratie en berekeningen'!$F$4/10000,0))*'Curves met UFR, zonder VA'!R157","v":3.6529750552565174E-2},{"$f":"('Curves met UFR, zonder VA'!S28+IF('Configuratie en berekeningen'!$D$4=\"Met VA\",'Configuratie en berekeningen'!$F$4/10000,0))*'Curves met UFR, zonder VA'!S157","v":3.6436118476425403E-2},{"$f":"('Curves met UFR, zonder VA'!T28+IF('Configuratie en berekeningen'!$D$4=\"Met VA\",'Configuratie en berekeningen'!$F$4/10000,0))*'Curves met UFR, zonder VA'!T157","v":3.6323189242783924E-2},{"$f":"('Curves met UFR, zonder VA'!U28+IF('Configuratie en berekeningen'!$D$4=\"Met VA\",'Configuratie en berekeningen'!$F$4/10000,0))*'Curves met UFR, zonder VA'!U157","v":3.6200211571019089E-2},{"$f":"('Curves met UFR, zonder VA'!V28+IF('Configuratie en berekeningen'!$D$4=\"Met VA\",'Configuratie en berekeningen'!$F$4/10000,0))*'Curves met UFR, zonder VA'!V157","v":3.6076456461452341E-2}]
[4,{"$f":"('Curves met UFR, zonder VA'!B29+IF('Configuratie en berekeningen'!$D$4=\"Met VA\",'Configuratie en berekeningen'!$F$4/10000,0))*'Curves met UFR, zonder VA'!B158","v":2.6189999999930144E-2},{"$f":"('Curves met UFR, zonder VA'!C29+IF('Configuratie en berekeningen'!$D$4=\"Met VA\",'Configuratie en berekeningen'!$F$4/10000,0))*'Curves met UFR, zonder VA'!C158","v":2.8030807510215291E-2},{"$f":"('Curves met UFR, zonder VA'!D29+IF('Configuratie en berekeningen'!$D$4=\"Met VA\",'Configuratie en berekeningen'!$F$4/10000,0))*'Curves met UFR, zonder VA'!D158","v":2.9868520632506376E-2},{"$f":"('Curves met UFR, zonder VA'!E29+IF('Configuratie en berekeningen'!$D$4=\"Met VA\",'Configuratie en berekeningen'!$F$4/10000,0))*'Curves met UFR, zonder VA'!E158","v":3.1295121485888241E-2},{"$f":"('Curves met UFR, zonder VA'!F29+IF('Configuratie en berekeningen'!$D$4=\"Met VA\",'Configuratie en berekeningen'!$F$4/10000,0))*'Curves met UFR, zonder VA'!F158","v":3.2597645704365671E-2},{"$f":"('Curves met UFR, zonder VA'!G29+IF('Configuratie en berekeningen'!$D$4=\"Met VA\",'Configuratie en berekeningen'!$F$4/10000,0))*'Curves met UFR, zonder VA'!G158","v":3.3884388898932347E-2},{"$f":"('Curves met UFR, zonder VA'!H29+IF('Configuratie en berekeningen'!$D$4=\"Met VA\",'Configuratie en berekeningen'!$F$4/10000,0))*'Curves met UFR, zonder VA'!H158","v":3.4898314551929863E-2},{"$f":"('Curves met UFR, zonder VA'!I29+IF('Configuratie en berekeningen'!$D$4=\"Met VA\",'Configuratie en berekeningen'!$F$4/10000,0))*'Curves met UFR, zonder VA'!I158","v":3.5703187739301187E-2},{"$f":"('Curves met UFR, zonder VA'!J29+IF('Configuratie en berekeningen'!$D$4=\"Met VA\",'Configuratie en berekeningen'!$F$4/10000,0))*'Curves met UFR, zonder VA'!J158","v":3.6693345033394317E-2},{"$f":"('Curves met UFR, zonder VA'!K29+IF('Configuratie en berekeningen'!$D$4=\"Met VA\",'Configuratie en berekeningen'!$F$4/10000,0))*'Curves met UFR, zonder VA'!K158","v":3.7273354024098523E-2},{"$f":"('Curves met UFR, zonder VA'!L29+IF('Configuratie en berekeningen'!$D$4=\"Met VA\",'Configuratie en berekeningen'!$F$4/10000,0))*'Curves met UFR, zonder VA'!L158","v":3.7367377407308819E-2},{"$f":"('Curves met UFR, zonder VA'!M29+IF('Configuratie en berekeningen'!$D$4=\"Met VA\",'Configuratie en berekeningen'!$F$4/10000,0))*'Curves met UFR, zonder VA'!M158","v":3.7414071225063614E-2},{"$f":"('Curves met UFR, zonder VA'!N29+IF('Configuratie en berekeningen'!$D$4=\"Met VA\",'Configuratie en berekeningen'!$F$4/10000,0))*'Curves met UFR, zonder VA'!N158","v":3.7319598519873473E-2},{"$f":"('Curves met UFR, zonder VA'!O29+IF('Configuratie en berekeningen'!$D$4=\"Met VA\",'Configuratie en berekeningen'!$F$4/10000,0))*'Curves met UFR, zonder VA'!O158","v":3.6893566782580198E-2},{"$f":"('Curves met UFR, zonder VA'!P29+IF('Configuratie en berekeningen'!$D$4=\"Met VA\",'Configuratie en berekeningen'!$F$4/10000,0))*'Curves met UFR, zonder VA'!P158","v":3.6641429979069537E-2},{"$f":"('Curves met UFR, zonder VA'!Q29+IF('Configuratie en berekeningen'!$D$4=\"Met VA\",'Configuratie en berekeningen'!$F$4/10000,0))*'Curves met UFR, zonder VA'!Q158","v":3.6556058287060031E-2},{"$f":"('Curves met UFR, zonder VA'!R29+IF('Configuratie en berekeningen'!$D$4=\"Met VA\",'Configuratie en berekeningen'!$F$4/10000,0))*'Curves met UFR, zonder VA'!R158","v":3.647621046298892E-2},{"$f":"('Curves met UFR, zonder VA'!S29+IF('Configuratie en berekeningen'!$D$4=\"Met VA\",'Configuratie en berekeningen'!$F$4/10000,0))*'Curves met UFR, zonder VA'!S158","v":3.6375397811430885E-2},{"$f":"('Curves met UFR, zonder VA'!T29+IF('Configuratie en berekeningen'!$D$4=\"Met VA\",'Configuratie en berekeningen'!$F$4/10000,0))*'Curves met UFR, zonder VA'!T158","v":3.6260913031673933E-2},{"$f":"('Curves met UFR, zonder VA'!U29+IF('Configuratie en berekeningen'!$D$4=\"Met VA\",'Configuratie en berekeningen'!$F$4/10000,0))*'Curves met UFR, zonder VA'!U158","v":3.6140039651128594E-2},{"$f":"('Curves met UFR, zonder VA'!V29+IF('Configuratie en berekeningen'!$D$4=\"Met VA\",'Configuratie en berekeningen'!$F$4/10000,0))*'Curves met UFR, zonder VA'!V158","v":3.6020085683532807E-2}]
[5,{"$f":"('Curves met UFR, zonder VA'!B30+IF('Configuratie en berekeningen'!$D$4=\"Met VA\",'Configuratie en berekeningen'!$F$4/10000,0))*'Curves met UFR, zonder VA'!B159","v":2.7049999999914462E-2},{"$f":"('Curves met UFR, zonder VA'!C30+IF('Configuratie en berekeningen'!$D$4=\"Met VA\",'Configuratie en berekeningen'!$F$4/10000,0))*'Curves met UFR, zonder VA'!C159","v":2.8871477454222624E-2},{"$f":"('Curves met UFR, zonder VA'!D30+IF('Configuratie en berekeningen'!$D$4=\"Met VA\",'Configuratie en berekeningen'!$F$4/10000,0))*'Curves met UFR, zonder VA'!D159","v":3.0516837392198612E-2},{"$f":"('Curves met UFR, zonder VA'!E30+IF('Configuratie en berekeningen'!$D$4=\"Met VA\",'Configuratie en berekeningen'!$F$4/10000,0))*'Curves met UFR, zonder VA'!E159","v":3.1889528132053632E-2},{"$f":"('Curves met UFR, zonder VA'!F30+IF('Configuratie en berekeningen'!$D$4=\"Met VA\",'Configuratie en berekeningen'!$F$4/10000,0))*'Curves met UFR, zonder VA'!F159","v":3.3222339545021448E-2},{"$f":"('Curves met UFR, zonder VA'!G30+IF('Configuratie en berekeningen'!$D$4=\"Met VA\",'Configuratie en berekeningen'!$F$4/10000,0))*'Curves met UFR, zonder VA'!G159","v":3.4307892479332677E-2},{"$f":"('Curves met UFR, zonder VA'!H30+IF('Configuratie en berekeningen'!$D$4=\"Met VA\",'Configuratie en berekeningen'!$F$4/10000,0))*'Curves met UFR, zonder VA'!H159","v":3.5266389606373114E-2},{"$f":"('Curves met UFR, zonder VA'!I30+IF('Configuratie en berekeningen'!$D$4=\"Met VA\",'Configuratie en berekeningen'!$F$4/10000,0))*'Curves met UFR, zonder VA'!I159","v":3.6204637248486257E-2},{"$f":"('Curves met UFR, zonder VA'!J30+IF('Configuratie en berekeningen'!$D$4=\"Met VA\",'Configuratie en berekeningen'!$F$4/10000,0))*'Curves met UFR, zonder VA'!J159","v":3.6871858058895743E-2},{"$f":"('Curves met UFR, zonder VA'!K30+IF('Configuratie en berekeningen'!$D$4=\"Met VA\",'Configuratie en berekeningen'!$F$4/10000,0))*'Curves met UFR, zonder VA'!K159","v":3.7197993597036058E-2},{"$f":"('Curves met UFR, zonder VA'!L30+IF('Configuratie en berekeningen'!$D$4=\"Met VA\",'Configuratie en berekeningen'!$F$4/10000,0))*'Curves met UFR, zonder VA'!L159","v":3.7249663724475399E-2},{"$f":"('Curves met UFR, zonder VA'!M30+IF('Configuratie en berekeningen'!$D$4=\"Met VA\",'Configuratie en berekeningen'!$F$4/10000,0))*'Curves met UFR, zonder VA'!M159","v":3.728445114091776E-2},{"$f":"('Curves met UFR, zonder VA'!N30+IF('Configuratie en berekeningen'!$D$4=\"Met VA\",'Configuratie en berekeningen'!$F$4/10000,0))*'Curves met UFR, zonder VA'!N159","v":3.7197005573318995E-2},{"$f":"('Curves met UFR, zonder VA'!O30+IF('Configuratie en berekeningen'!$D$4=\"Met VA\",'Configuratie en berekeningen'!$F$4/10000,0))*'Curves met UFR, zonder VA'!O159","v":3.6828587873143734E-2},{"$f":"('Curves met UFR, zonder VA'!P30+IF('Configuratie en berekeningen'!$D$4=\"Met VA\",'Configuratie en berekeningen'!$F$4/10000,0))*'Curves met UFR, zonder VA'!P159","v":3.6600256136434847E-2},{"$f":"('Curves met UFR, zonder VA'!Q30+IF('Configuratie en berekeningen'!$D$4=\"Met VA\",'Configuratie en berekeningen'!$F$4/10000,0))*'Curves met UFR, zonder VA'!Q159","v":3.6507055739639568E-2},{"$f":"('Curves met UFR, zonder VA'!R30+IF('Configuratie en berekeningen'!$D$4=\"Met VA\",'Configuratie en berekeningen'!$F$4/10000,0))*'Curves met UFR, zonder VA'!R159","v":3.6418925922504217E-2},{"$f":"('Curves met UFR, zonder VA'!S30+IF('Configuratie en berekeningen'!$D$4=\"Met VA\",'Configuratie en berekeningen'!$F$4/10000,0))*'Curves met UFR, zonder VA'!S159","v":3.6314796915895828E-2},{"$f":"('Curves met UFR, zonder VA'!T30+IF('Configuratie en berekeningen'!$D$4=\"Met VA\",'Configuratie en berekeningen'!$F$4/10000,0))*'Curves met UFR, zonder VA'!T159","v":3.6200649913564462E-2},{"$f":"('Curves met UFR, zonder VA'!U30+IF('Configuratie en berekeningen'!$D$4=\"Met VA\",'Configuratie en berekeningen'!$F$4/10000,0))*'Curves met UFR, zonder VA'!U159","v":3.6082463914334825E-2},{"$f":"('Curves met UFR, zonder VA'!V30+IF('Configuratie en berekeningen'!$D$4=\"Met VA\",'Configuratie en berekeningen'!$F$4/10000,0))*'Curves met UFR, zonder VA'!V159","v":3.5966243699877484E-2}]
[6,{"$f":"('Curves met UFR, zonder VA'!B31+IF('Configuratie en berekeningen'!$D$4=\"Met VA\",'Configuratie en berekeningen'!$F$4/10000,0))*'Curves met UFR, zonder VA'!B160","v":2.7909999999887455E-2},{"$f":"('Curves met UFR, zonder VA'!C31+IF('Configuratie en berekeningen'!$D$4=\"Met VA\",'Configuratie en berekeningen'!$F$4/10000,0))*'Curves met UFR, zonder VA'!C160","v":2.9569066286832577E-2},{"$f":"('Curves met UFR, zonder VA'!D31+IF('Configuratie en berekeningen'!$D$4=\"Met VA\",'Configuratie en berekeningen'!$F$4/10000,0))*'Curves met UFR, zonder VA'!D160","v":3.1137125206341418E-2},{"$f":"('Curves met UFR, zonder VA'!E31+IF('Configuratie en berekeningen'!$D$4=\"Met VA\",'Configuratie en berekeningen'!$F$4/10000,0))*'Curves met UFR, zonder VA'!E160","v":3.2525771539427747E-2},{"$f":"('Curves met UFR, zonder VA'!F31+IF('Configuratie en berekeningen'!$D$4=\"Met VA\",'Configuratie en berekeningen'!$F$4/10000,0))*'Curves met UFR, zonder VA'!F160","v":3.367968494604405E-2},{"$f":"('Curves met UFR, zonder VA'!G31+IF('Configuratie en berekeningen'!$D$4=\"Met VA\",'Configuratie en berekeningen'!$F$4/10000,0))*'Curves met UFR, zonder VA'!G160","v":3.4707548222649029E-2},{"$f":"('Curves met UFR, zonder VA'!H31+IF('Configuratie en berekeningen'!$D$4=\"Met VA\",'Configuratie en berekeningen'!$F$4/10000,0))*'Curves met UFR, zonder VA'!H160","v":3.5758421443529295E-2},{"$f":"('Curves met UFR, zonder VA'!I31+IF('Configuratie en berekeningen'!$D$4=\"Met VA\",'Configuratie en berekeningen'!$F$4/10000,0))*'Curves met UFR, zonder VA'!I160","v":3.6427385888505512E-2},{"$f":"('Curves met UFR, zonder VA'!J31+IF('Configuratie en berekeningen'!$D$4=\"Met VA\",'Configuratie en berekeningen'!$F$4/10000,0))*'Curves met UFR, zonder VA'!J160","v":3.6864631569401604E-2},{"$f":"('Curves met UFR, zonder VA'!K31+IF('Configuratie en berekeningen'!$D$4=\"Met VA\",'Configuratie en berekeningen'!$F$4/10000,0))*'Curves met UFR, zonder VA'!K160","v":3.7121305467744323E-2},{"$f":"('Curves met UFR, zonder VA'!L31+IF('Configuratie en berekeningen'!$D$4=\"Met VA\",'Configuratie en berekeningen'!$F$4/10000,0))*'Curves met UFR, zonder VA'!L160","v":3.7162060103354808E-2},{"$f":"('Curves met UFR, zonder VA'!M31+IF('Configuratie en berekeningen'!$D$4=\"Met VA\",'Configuratie en berekeningen'!$F$4/10000,0))*'Curves met UFR, zonder VA'!M160","v":3.7184394621220404E-2},{"$f":"('Curves met UFR, zonder VA'!N31+IF('Configuratie en berekeningen'!$D$4=\"Met VA\",'Configuratie en berekeningen'!$F$4/10000,0))*'Curves met UFR, zonder VA'!N160","v":3.7097941284208444E-2},{"$f":"('Curves met UFR, zonder VA'!O31+IF('Configuratie en berekeningen'!$D$4=\"Met VA\",'Configuratie en berekeningen'!$F$4/10000,0))*'Curves met UFR, zonder VA'!O160","v":3.6766551525552568E-2},{"$f":"('Curves met UFR, zonder VA'!P31+IF('Configuratie en berekeningen'!$D$4=\"Met VA\",'Configuratie en berekeningen'!$F$4/10000,0))*'Curves met UFR, zonder VA'!P160","v":3.6551938179724505E-2},{"$f":"('Curves met UFR, zonder VA'!Q31+IF('Configuratie en berekeningen'!$D$4=\"Met VA\",'Configuratie en berekeningen'!$F$4/10000,0))*'Curves met UFR, zonder VA'!Q160","v":3.6453546732278561E-2},{"$f":"('Curves met UFR, zonder VA'!R31+IF('Configuratie en berekeningen'!$D$4=\"Met VA\",'Configuratie en berekeningen'!$F$4/10000,0))*'Curves met UFR, zonder VA'!R160","v":3.6360761794331051E-2},{"$f":"('Curves met UFR, zonder VA'!S31+IF('Configuratie en berekeningen'!$D$4=\"Met VA\",'Configuratie en berekeningen'!$F$4/10000,0))*'Curves met UFR, zonder VA'!S160","v":3.6255442424939874E-2},{"$f":"('Curves met UFR, zonder VA'!T31+IF('Configuratie en berekeningen'!$D$4=\"Met VA\",'Configuratie en berekeningen'!$F$4/10000,0))*'Curves met UFR, zonder VA'!T160","v":3.6142637781834061E-2},{"$f":"('Curves met UFR, zonder VA'!U31+IF('Configuratie en berekeningen'!$D$4=\"Met VA\",'Configuratie en berekeningen'!$F$4/10000,0))*'Curves met UFR, zonder VA'!U160","v":3.6027399680048353E-2},{"$f":"('Curves met UFR, zonder VA'!V31+IF('Configuratie en berekeningen'!$D$4=\"Met VA\",'Configuratie en berekeningen'!$F$4/10000,0))*'Curves met UFR, zonder VA'!V160","v":3.5914806461407586E-2}]
[7,{"$f":"('Curves met UFR, zonder VA'!B32+IF('Configuratie en berekeningen'!$D$4=\"Met VA\",'Configuratie en berekeningen'!$F$4/10000,0))*'Curves met UFR, zonder VA'!B161","v":2.8639999999885576E-2},{"$f":"('Curves met UFR, zonder VA'!C32+IF('Configuratie en berekeningen'!$D$4=\"Met VA\",'Configuratie en berekeningen'!$F$4/10000,0))*'Curves met UFR, zonder VA'!C161","v":3.0229783942310171E-2},{"$f":"('Curves met UFR, zonder VA'!D32+IF('Configuratie en berekeningen'!$D$4=\"Met VA\",'Configuratie en berekeningen'!$F$4/10000,0))*'Curves met UFR, zonder VA'!D161","v":3.1787481352551536E-2},{"$f":"('Curves met UFR, zonder VA'!E32+IF('Configuratie en berekeningen'!$D$4=\"Met VA\",'Configuratie en berekeningen'!$F$4/10000,0))*'Curves met UFR, zonder VA'!E161","v":3.3012746571087589E-2},{"$f":"('Curves met UFR, zonder VA'!F32+IF('Configuratie en berekeningen'!$D$4=\"Met VA\",'Configuratie en berekeningen'!$F$4/10000,0))*'Curves met UFR, zonder VA'!F161","v":3.4107694206941083E-2},{"$f":"('Curves met UFR, zonder VA'!G32+IF('Configuratie en berekeningen'!$D$4=\"Met VA\",'Configuratie en berekeningen'!$F$4/10000,0))*'Curves met UFR, zonder VA'!G161","v":3.5207698299584742E-2},{"$f":"('Curves met UFR, zonder VA'!H32+IF('Configuratie en berekeningen'!$D$4=\"Met VA\",'Configuratie en berekeningen'!$F$4/10000,0))*'Curves met UFR, zonder VA'!H161","v":3.6009016792996215E-2},{"$f":"('Curves met UFR, zonder VA'!I32+IF('Configuratie en berekeningen'!$D$4=\"Met VA\",'Configuratie en berekeningen'!$F$4/10000,0))*'Curves met UFR, zonder VA'!I161","v":3.647661366833603E-2},{"$f":"('Curves met UFR, zonder VA'!J32+IF('Configuratie en berekeningen'!$D$4=\"Met VA\",'Configuratie en berekeningen'!$F$4/10000,0))*'Curves met UFR, zonder VA'!J161","v":3.6839212428248322E-2},{"$f":"('Curves met UFR, zonder VA'!K32+IF('Configuratie en berekeningen'!$D$4=\"Met VA\",'Configuratie en berekeningen'!$F$4/10000,0))*'Curves met UFR, zonder VA'!K161","v":3.7060704117630447E-2},{"$f":"('Curves met UFR, zonder VA'!L32+IF('Configuratie en berekeningen'!$D$4=\"Met VA\",'Configuratie en berekeningen'!$F$4/10000,0))*'Curves met UFR, zonder VA'!L161","v":3.708981726010456E-2},{"$f":"('Curves met UFR, zonder VA'!M32+IF('Configuratie en berekeningen'!$D$4=\"Met VA\",'Configuratie en berekeningen'!$F$4/10000,0))*'Curves met UFR, zonder VA'!M161","v":3.7099290134147742E-2},{"$f":"('Curves met UFR, zonder VA'!N32+IF('Configuratie en berekeningen'!$D$4=\"Met VA\",'Configuratie en berekeningen'!$F$4/10000,0))*'Curves met UFR, zonder VA'!N161","v":3.7009973913432567E-2},{"$f":"('Curves met UFR, zonder VA'!O32+IF('Configuratie en berekeningen'!$D$4=\"Met VA\",'Configuratie en berekeningen'!$F$4/10000,0))*'Curves met UFR, zonder VA'!O161","v":3.6703478863017322E-2},{"$f":"('Curves met UFR, zonder VA'!P32+IF('Configuratie en berekeningen'!$D$4=\"Met VA\",'Configuratie en berekeningen'!$F$4/10000,0))*'Curves met UFR, zonder VA'!P161","v":3.6499505459198042E-2},{"$f":"('Curves met UFR, zonder VA'!Q32+IF('Configuratie en berekeningen'!$D$4=\"Met VA\",'Configuratie en berekeningen'!$F$4/10000,0))*'Curves met UFR, zonder VA'!Q161","v":3.6398323787248651E-2},{"$f":"('Curves met UFR, zonder VA'!R32+IF('Configuratie en berekeningen'!$D$4=\"Met VA\",'Configuratie en berekeningen'!$F$4/10000,0))*'Curves met UFR, zonder VA'!R161","v":3.6303078688806709E-2},{"$f":"('Curves met UFR, zonder VA'!S32+IF('Configuratie en berekeningen'!$D$4=\"Met VA\",'Configuratie en berekeningen'!$F$4/10000,0))*'Curves met UFR, zonder VA'!S161","v":3.6197830057439637E-2},{"$f":"('Curves met UFR, zonder VA'!T32+IF('Configuratie en berekeningen'!$D$4=\"Met VA\",'Configuratie en berekeningen'!$F$4/10000,0))*'Curves met UFR, zonder VA'!T161","v":3.6086932039951655E-2},{"$f":"('Curves met UFR, zonder VA'!U32+IF('Configuratie en berekeningen'!$D$4=\"Met VA\",'Configuratie en berekeningen'!$F$4/10000,0))*'Curves met UFR, zonder VA'!U161","v":3.5974744933357769E-2},{"$f":"('Curves met UFR, zonder VA'!V32+IF('Configuratie en berekeningen'!$D$4=\"Met VA\",'Configuratie en berekeningen'!$F$4/10000,0))*'Curves met UFR, zonder VA'!V161","v":3.5865655947272243E-2}]
[8,{"$f":"('Curves met UFR, zonder VA'!B33+IF('Configuratie en berekeningen'!$D$4=\"Met VA\",'Configuratie en berekeningen'!$F$4/10000,0))*'Curves met UFR, zonder VA'!B162","v":2.9329999999869669E-2},{"$f":"('Curves met UFR, zonder VA'!C33+IF('Configuratie en berekeningen'!$D$4=\"Met VA\",'Configuratie en berekeningen'!$F$4/10000,0))*'Curves met UFR, zonder VA'!C162","v":3.0908181427621015E-2},{"$f":"('Curves met UFR, zonder VA'!D33+IF('Configuratie en berekeningen'!$D$4=\"Met VA\",'Configuratie en berekeningen'!$F$4/10000,0))*'Curves met UFR, zonder VA'!D162","v":3.2302067322556402E-2},{"$f":"('Curves met UFR, zonder VA'!E33+IF('Configuratie en berekeningen'!$D$4=\"Met VA\",'Configuratie en berekeningen'!$F$4/10000,0))*'Curves met UFR, zonder VA'!E162","v":3.3467054969787899E-2},{"$f":"('Curves met UFR, zonder VA'!F33+IF('Configuratie en berekeningen'!$D$4=\"Met VA\",'Configuratie en berekeningen'!$F$4/10000,0))*'Curves met UFR, zonder VA'!F162","v":3.4618663935817848E-2},{"$f":"('Curves met UFR, zonder VA'!G33+IF('Configuratie en berekeningen'!$D$4=\"Met VA\",'Configuratie en berekeningen'!$F$4/10000,0))*'Curves met UFR, zonder VA'!G162","v":3.5491518277536757E-2},{"$f":"('Curves met UFR, zonder VA'!H33+IF('Configuratie en berekeningen'!$D$4=\"Met VA\",'Configuratie en berekeningen'!$F$4/10000,0))*'Curves met UFR, zonder VA'!H162","v":3.6099236084123618E-2},{"$f":"('Curves met UFR, zonder VA'!I33+IF('Configuratie en berekeningen'!$D$4=\"Met VA\",'Configuratie en berekeningen'!$F$4/10000,0))*'Curves met UFR, zonder VA'!I162","v":3.6497132290504705E-2},{"$f":"('Curves met UFR, zonder VA'!J33+IF('Configuratie en berekeningen'!$D$4=\"Met VA\",'Configuratie en berekeningen'!$F$4/10000,0))*'Curves met UFR, zonder VA'!J162","v":3.6816697304589516E-2},{"$f":"('Curves met UFR, zonder VA'!K33+IF('Configuratie en berekeningen'!$D$4=\"Met VA\",'Configuratie en berekeningen'!$F$4/10000,0))*'Curves met UFR, zonder VA'!K162","v":3.7007754880276897E-2},{"$f":"('Curves met UFR, zonder VA'!L33+IF('Configuratie en berekeningen'!$D$4=\"Met VA\",'Configuratie en berekeningen'!$F$4/10000,0))*'Curves met UFR, zonder VA'!L162","v":3.7024682791046912E-2},{"$f":"('Curves met UFR, zonder VA'!M33+IF('Configuratie en berekeningen'!$D$4=\"Met VA\",'Configuratie en berekeningen'!$F$4/10000,0))*'Curves met UFR, zonder VA'!M162","v":3.7020946583881706E-2},{"$f":"('Curves met UFR, zonder VA'!N33+IF('Configuratie en berekeningen'!$D$4=\"Met VA\",'Configuratie en berekeningen'!$F$4/10000,0))*'Curves met UFR, zonder VA'!N162","v":3.6926847660321879E-2},{"$f":"('Curves met UFR, zonder VA'!O33+IF('Configuratie en berekeningen'!$D$4=\"Met VA\",'Configuratie en berekeningen'!$F$4/10000,0))*'Curves met UFR, zonder VA'!O162","v":3.6640026855137384E-2},{"$f":"('Curves met UFR, zonder VA'!P33+IF('Configuratie en berekeningen'!$D$4=\"Met VA\",'Configuratie en berekeningen'!$F$4/10000,0))*'Curves met UFR, zonder VA'!P162","v":3.6445309688061409E-2},{"$f":"('Curves met UFR, zonder VA'!Q33+IF('Configuratie en berekeningen'!$D$4=\"Met VA\",'Configuratie en berekeningen'!$F$4/10000,0))*'Curves met UFR, zonder VA'!Q162","v":3.6342874480689666E-2},{"$f":"('Curves met UFR, zonder VA'!R33+IF('Configuratie en berekeningen'!$D$4=\"Met VA\",'Configuratie en berekeningen'!$F$4/10000,0))*'Curves met UFR, zonder VA'!R162","v":3.6246572415180742E-2},{"$f":"('Curves met UFR, zonder VA'!S33+IF('Configuratie en berekeningen'!$D$4=\"Met VA\",'Configuratie en berekeningen'!$F$4/10000,0))*'Curves met UFR, zonder VA'!S162","v":3.6142178726201665E-2},{"$f":"('Curves met UFR, zonder VA'!T33+IF('Configuratie en berekeningen'!$D$4=\"Met VA\",'Configuratie en berekeningen'!$F$4/10000,0))*'Curves met UFR, zonder VA'!T162","v":3.6033510418649703E-2},{"$f":"('Curves met UFR, zonder VA'!U33+IF('Configuratie en berekeningen'!$D$4=\"Met VA\",'Configuratie en berekeningen'!$F$4/10000,0))*'Curves met UFR, zonder VA'!U162","v":3.592439322038514E-2},{"$f":"('Curves met UFR, zonder VA'!V33+IF('Configuratie en berekeningen'!$D$4=\"Met VA\",'Configuratie en berekeningen'!$F$4/10000,0))*'Curves met UFR, zonder VA'!V162","v":3.5818679914536064E-2}]
[9,{"$f":"('Curves met UFR, zonder VA'!B34+IF('Configuratie en berekeningen'!$D$4=\"Met VA\",'Configuratie en berekeningen'!$F$4/10000,0))*'Curves met UFR, zonder VA'!B163","v":3.0029999999836729E-2},{"$f":"('Curves met UFR, zonder VA'!C34+IF('Configuratie en berekeningen'!$D$4=\"Met VA\",'Configuratie en berekeningen'!$F$4/10000,0))*'Curves met UFR, zonder VA'!C163","v":3.1458837750980059E-2},{"$f":"('Curves met UFR, zonder VA'!D34+IF('Configuratie en berekeningen'!$D$4=\"Met VA\",'Configuratie en berekeningen'!$F$4/10000,0))*'Curves met UFR, zonder VA'!D163","v":3.2781728255700956E-2},{"$f":"('Curves met UFR, zonder VA'!E34+IF('Configuratie en berekeningen'!$D$4=\"Met VA\",'Configuratie en berekeningen'!$F$4/10000,0))*'Curves met UFR, zonder VA'!E163","v":3.3990705631569959E-2},{"$f":"('Curves met UFR, zonder VA'!F34+IF('Configuratie en berekeningen'!$D$4=\"Met VA\",'Configuratie en berekeningen'!$F$4/10000,0))*'Curves met UFR, zonder VA'!F163","v":3.4932855751359002E-2},{"$f":"('Curves met UFR, zonder VA'!G34+IF('Configuratie en berekeningen'!$D$4=\"Met VA\",'Configuratie en berekeningen'!$F$4/10000,0))*'Curves met UFR, zonder VA'!G163","v":3.5624416933591682E-2},{"$f":"('Curves met UFR, zonder VA'!H34+IF('Configuratie en berekeningen'!$D$4=\"Met VA\",'Configuratie en berekeningen'!$F$4/10000,0))*'Curves met UFR, zonder VA'!H163","v":3.6155428332312153E-2},{"$f":"('Curves met UFR, zonder VA'!I34+IF('Configuratie en berekeningen'!$D$4=\"Met VA\",'Configuratie en berekeningen'!$F$4/10000,0))*'Curves met UFR, zonder VA'!I163","v":3.6511077609907058E-2},{"$f":"('Curves met UFR, zonder VA'!J34+IF('Configuratie en berekeningen'!$D$4=\"Met VA\",'Configuratie en berekeningen'!$F$4/10000,0))*'Curves met UFR, zonder VA'!J163","v":3.6793451068195246E-2},{"$f":"('Curves met UFR, zonder VA'!K34+IF('Configuratie en berekeningen'!$D$4=\"Met VA\",'Configuratie en berekeningen'!$F$4/10000,0))*'Curves met UFR, zonder VA'!K163","v":3.6957343799519801E-2},{"$f":"('Curves met UFR, zonder VA'!L34+IF('Configuratie en berekeningen'!$D$4=\"Met VA\",'Configuratie en berekeningen'!$F$4/10000,0))*'Curves met UFR, zonder VA'!L163","v":3.696163839287496E-2},{"$f":"('Curves met UFR, zonder VA'!M34+IF('Configuratie en berekeningen'!$D$4=\"Met VA\",'Configuratie en berekeningen'!$F$4/10000,0))*'Curves met UFR, zonder VA'!M163","v":3.6945034670128038E-2},{"$f":"('Curves met UFR, zonder VA'!N34+IF('Configuratie en berekeningen'!$D$4=\"Met VA\",'Configuratie en berekeningen'!$F$4/10000,0))*'Curves met UFR, zonder VA'!N163","v":3.684739054128576E-2},{"$f":"('Curves met UFR, zonder VA'!O34+IF('Configuratie en berekeningen'!$D$4=\"Met VA\",'Configuratie en berekeningen'!$F$4/10000,0))*'Curves met UFR, zonder VA'!O163","v":3.6577191575930021E-2},{"$f":"('Curves met UFR, zonder VA'!P34+IF('Configuratie en berekeningen'!$D$4=\"Met VA\",'Configuratie en berekeningen'!$F$4/10000,0))*'Curves met UFR, zonder VA'!P163","v":3.6390704453446984E-2},{"$f":"('Curves met UFR, zonder VA'!Q34+IF('Configuratie en berekeningen'!$D$4=\"Met VA\",'Configuratie en berekeningen'!$F$4/10000,0))*'Curves met UFR, zonder VA'!Q163","v":3.6288037287506889E-2},{"$f":"('Curves met UFR, zonder VA'!R34+IF('Configuratie en berekeningen'!$D$4=\"Met VA\",'Configuratie en berekeningen'!$F$4/10000,0))*'Curves met UFR, zonder VA'!R163","v":3.6191609619992057E-2},{"$f":"('Curves met UFR, zonder VA'!S34+IF('Configuratie en berekeningen'!$D$4=\"Met VA\",'Configuratie en berekeningen'!$F$4/10000,0))*'Curves met UFR, zonder VA'!S163","v":3.608857203107789E-2},{"$f":"('Curves met UFR, zonder VA'!T34+IF('Configuratie en berekeningen'!$D$4=\"Met VA\",'Configuratie en berekeningen'!$F$4/10000,0))*'Curves met UFR, zonder VA'!T163","v":3.5982314751317121E-2},{"$f":"('Curves met UFR, zonder VA'!U34+IF('Configuratie en berekeningen'!$D$4=\"Met VA\",'Configuratie en berekeningen'!$F$4/10000,0))*'Curves met UFR, zonder VA'!U163","v":3.5876238657014101E-2},{"$f":"('Curves met UFR, zonder VA'!V34+IF('Configuratie en berekeningen'!$D$4=\"Met VA\",'Configuratie en berekeningen'!$F$4/10000,0))*'Curves met UFR, zonder VA'!V163","v":3.5773771651739825E-2}]
[10,{"$f":"('Curves met UFR, zonder VA'!B35+IF('Configuratie en berekeningen'!$D$4=\"Met VA\",'Configuratie en berekeningen'!$F$4/10000,0))*'Curves met UFR, zonder VA'!B164","v":3.0609999999853629E-2},{"$f":"('Curves met UFR, zonder VA'!C35+IF('Configuratie en berekeningen'!$D$4=\"Met VA\",'Configuratie en berekeningen'!$F$4/10000,0))*'Curves met UFR, zonder VA'!C164","v":3.1971188395187797E-2},{"$f":"('Curves met UFR, zonder VA'!D35+IF('Configuratie en berekeningen'!$D$4=\"Met VA\",'Configuratie en berekeningen'!$F$4/10000,0))*'Curves met UFR, zonder VA'!D164","v":3.3319759578932448E-2},{"$f":"('Curves met UFR, zonder VA'!E35+IF('Configuratie en berekeningen'!$D$4=\"Met VA\",'Configuratie en berekeningen'!$F$4/10000,0))*'Curves met UFR, zonder VA'!E164","v":3.4333244134350169E-2},{"$f":"('Curves met UFR, zonder VA'!F35+IF('Configuratie en berekeningen'!$D$4=\"Met VA\",'Configuratie en berekeningen'!$F$4/10000,0))*'Curves met UFR, zonder VA'!F164","v":3.5104387695783654E-2},{"$f":"('Curves met UFR, zonder VA'!G35+IF('Configuratie en berekeningen'!$D$4=\"Met VA\",'Configuratie en berekeningen'!$F$4/10000,0))*'Curves met UFR, zonder VA'!G164","v":3.5718635730019807E-2},{"$f":"('Curves met UFR, zonder VA'!H35+IF('Configuratie en berekeningen'!$D$4=\"Met VA\",'Configuratie en berekeningen'!$F$4/10000,0))*'Curves met UFR, zonder VA'!H164","v":3.6199161417337075E-2},{"$f":"('Curves met UFR, zonder VA'!I35+IF('Configuratie en berekeningen'!$D$4=\"Met VA\",'Configuratie en berekeningen'!$F$4/10000,0))*'Curves met UFR, zonder VA'!I164","v":3.6517730197487872E-2},{"$f":"('Curves met UFR, zonder VA'!J35+IF('Configuratie en berekeningen'!$D$4=\"Met VA\",'Configuratie en berekeningen'!$F$4/10000,0))*'Curves met UFR, zonder VA'!J164","v":3.6767111665083549E-2},{"$f":"('Curves met UFR, zonder VA'!K35+IF('Configuratie en berekeningen'!$D$4=\"Met VA\",'Configuratie en berekeningen'!$F$4/10000,0))*'Curves met UFR, zonder VA'!K164","v":3.6906155485123479E-2},{"$f":"('Curves met UFR, zonder VA'!L35+IF('Configuratie en berekeningen'!$D$4=\"Met VA\",'Configuratie en berekeningen'!$F$4/10000,0))*'Curves met UFR, zonder VA'!L164","v":3.6898022438489539E-2},{"$f":"('Curves met UFR, zonder VA'!M35+IF('Configuratie en berekeningen'!$D$4=\"Met VA\",'Configuratie en berekeningen'!$F$4/10000,0))*'Curves met UFR, zonder VA'!M164","v":3.6871146142564523E-2},{"$f":"('Curves met UFR, zonder VA'!N35+IF('Configuratie en berekeningen'!$D$4=\"Met VA\",'Configuratie en berekeningen'!$F$4/10000,0))*'Curves met UFR, zonder VA'!N164","v":3.6771404040388742E-2},{"$f":"('Curves met UFR, zonder VA'!O35+IF('Configuratie en berekeningen'!$D$4=\"Met VA\",'Configuratie en berekeningen'!$F$4/10000,0))*'Curves met UFR, zonder VA'!O164","v":3.6515554627560329E-2},{"$f":"('Curves met UFR, zonder VA'!P35+IF('Configuratie en berekeningen'!$D$4=\"Met VA\",'Configuratie en berekeningen'!$F$4/10000,0))*'Curves met UFR, zonder VA'!P164","v":3.6336501974426325E-2},{"$f":"('Curves met UFR, zonder VA'!Q35+IF('Configuratie en berekeningen'!$D$4=\"Met VA\",'Configuratie en berekeningen'!$F$4/10000,0))*'Curves met UFR, zonder VA'!Q164","v":3.6234299566860903E-2},{"$f":"('Curves met UFR, zonder VA'!R35+IF('Configuratie en berekeningen'!$D$4=\"Met VA\",'Configuratie en berekeningen'!$F$4/10000,0))*'Curves met UFR, zonder VA'!R164","v":3.6138380214422769E-2},{"$f":"('Curves met UFR, zonder VA'!S35+IF('Configuratie en berekeningen'!$D$4=\"Met VA\",'Configuratie en berekeningen'!$F$4/10000,0))*'Curves met UFR, zonder VA'!S164","v":3.603702243672717E-2},{"$f":"('Curves met UFR, zonder VA'!T35+IF('Configuratie en berekeningen'!$D$4=\"Met VA\",'Configuratie en berekeningen'!$F$4/10000,0))*'Curves met UFR, zonder VA'!T164","v":3.5933269826992228E-2},{"$f":"('Curves met UFR, zonder VA'!U35+IF('Configuratie en berekeningen'!$D$4=\"Met VA\",'Configuratie en berekeningen'!$F$4/10000,0))*'Curves met UFR, zonder VA'!U164","v":3.5830178072532679E-2},{"$f":"('Curves met UFR, zonder VA'!V35+IF('Configuratie en berekeningen'!$D$4=\"Met VA\",'Configuratie en berekeningen'!$F$4/10000,0))*'Curves met UFR, zonder VA'!V164","v":3.5730829737268863E-2}]
[11,{"$f":"('Curves met UFR, zonder VA'!B36+IF('Configuratie en berekeningen'!$D$4=\"Met VA\",'Configuratie en berekeningen'!$F$4/10000,0))*'Curves met UFR, zonder VA'!B165","v":3.1149999999846731E-2},{"$f":"('Curves met UFR, zonder VA'!C36+IF('Configuratie en berekeningen'!$D$4=\"Met VA\",'Configuratie en berekeningen'!$F$4/10000,0))*'Curves met UFR, zonder VA'!C165","v":3.2531538413104563E-2},{"$f":"('Curves met UFR, zonder VA'!D36+IF('Configuratie en berekeningen'!$D$4=\"Met VA\",'Configuratie en berekeningen'!$F$4/10000,0))*'Curves met UFR, zonder VA'!D165","v":3.368945735883748E-2},{"$f":"('Curves met UFR, zonder VA'!E36+IF('Configuratie en berekeningen'!$D$4=\"Met VA\",'Configuratie en berekeningen'!$F$4/10000,0))*'Curves met UFR, zonder VA'!E165","v":3.4540351385984699E-2},{"$f":"('Curves met UFR, zonder VA'!F36+IF('Configuratie en berekeningen'!$D$4=\"Met VA\",'Configuratie en berekeningen'!$F$4/10000,0))*'Curves met UFR, zonder VA'!F165","v":3.5234040569920896E-2},{"$f":"('Curves met UFR, zonder VA'!G36+IF('Configuratie en berekeningen'!$D$4=\"Met VA\",'Configuratie en berekeningen'!$F$4/10000,0))*'Curves met UFR, zonder VA'!G165","v":3.579510114852795E-2},{"$f":"('Curves met UFR, zonder VA'!H36+IF('Configuratie en berekeningen'!$D$4=\"Met VA\",'Configuratie en berekeningen'!$F$4/10000,0))*'Curves met UFR, zonder VA'!H165","v":3.6231247362192118E-2},{"$f":"('Curves met UFR, zonder VA'!I36+IF('Configuratie en berekeningen'!$D$4=\"Met VA\",'Configuratie en berekeningen'!$F$4/10000,0))*'Curves met UFR, zonder VA'!I165","v":3.6516565547478105E-2},{"$f":"('Curves met UFR, zonder VA'!J36+IF('Configuratie en berekeningen'!$D$4=\"Met VA\",'Configuratie en berekeningen'!$F$4/10000,0))*'Curves met UFR, zonder VA'!J165","v":3.6736048191425327E-2},{"$f":"('Curves met UFR, zonder VA'!K36+IF('Configuratie en berekeningen'!$D$4=\"Met VA\",'Configuratie en berekeningen'!$F$4/10000,0))*'Curves met UFR, zonder VA'!K165","v":3.6852467037115463E-2},{"$f":"('Curves met UFR, zonder VA'!L36+IF('Configuratie en berekeningen'!$D$4=\"Met VA\",'Configuratie en berekeningen'!$F$4/10000,0))*'Curves met UFR, zonder VA'!L165","v":3.6834211509970613E-2},{"$f":"('Curves met UFR, zonder VA'!M36+IF('Configuratie en berekeningen'!$D$4=\"Met VA\",'Configuratie en berekeningen'!$F$4/10000,0))*'Curves met UFR, zonder VA'!M165","v":3.6799510517964304E-2},{"$f":"('Curves met UFR, zonder VA'!N36+IF('Configuratie en berekeningen'!$D$4=\"Met VA\",'Configuratie en berekeningen'!$F$4/10000,0))*'Curves met UFR, zonder VA'!N165","v":3.669870788376299E-2},{"$f":"('Curves met UFR, zonder VA'!O36+IF('Configuratie en berekeningen'!$D$4=\"Met VA\",'Configuratie en berekeningen'!$F$4/10000,0))*'Curves met UFR, zonder VA'!O165","v":3.6455458662927917E-2},{"$f":"('Curves met UFR, zonder VA'!P36+IF('Configuratie en berekeningen'!$D$4=\"Met VA\",'Configuratie en berekeningen'!$F$4/10000,0))*'Curves met UFR, zonder VA'!P165","v":3.6283201365361936E-2},{"$f":"('Curves met UFR, zonder VA'!Q36+IF('Configuratie en berekeningen'!$D$4=\"Met VA\",'Configuratie en berekeningen'!$F$4/10000,0))*'Curves met UFR, zonder VA'!Q165","v":3.6181946432451026E-2},{"$f":"('Curves met UFR, zonder VA'!R36+IF('Configuratie en berekeningen'!$D$4=\"Met VA\",'Configuratie en berekeningen'!$F$4/10000,0))*'Curves met UFR, zonder VA'!R165","v":3.6086973462825009E-2},{"$f":"('Curves met UFR, zonder VA'!S36+IF('Configuratie en berekeningen'!$D$4=\"Met VA\",'Configuratie en berekeningen'!$F$4/10000,0))*'Curves met UFR, zonder VA'!S165","v":3.5987503237136328E-2},{"$f":"('Curves met UFR, zonder VA'!T36+IF('Configuratie en berekeningen'!$D$4=\"Met VA\",'Configuratie en berekeningen'!$F$4/10000,0))*'Curves met UFR, zonder VA'!T165","v":3.5886292694881014E-2},{"$f":"('Curves met UFR, zonder VA'!U36+IF('Configuratie en berekeningen'!$D$4=\"Met VA\",'Configuratie en berekeningen'!$F$4/10000,0))*'Curves met UFR, zonder VA'!U165","v":3.5786111962612097E-2},{"$f":"('Curves met UFR, zonder VA'!V36+IF('Configuratie en berekeningen'!$D$4=\"Met VA\",'Configuratie en berekeningen'!$F$4/10000,0))*'Curves met UFR, zonder VA'!V165","v":3.5689757803333874E-2}]
[12,{"$f":"('Curves met UFR, zonder VA'!B37+IF('Configuratie en berekeningen'!$D$4=\"Met VA\",'Configuratie en berekeningen'!$F$4/10000,0))*'Curves met UFR, zonder VA'!B166","v":3.1729999999799682E-2},{"$f":"('Curves met UFR, zonder VA'!C37+IF('Configuratie en berekeningen'!$D$4=\"Met VA\",'Configuratie en berekeningen'!$F$4/10000,0))*'Curves met UFR, zonder VA'!C166","v":3.2933163596694667E-2},{"$f":"('Curves met UFR, zonder VA'!D37+IF('Configuratie en berekeningen'!$D$4=\"Met VA\",'Configuratie en berekeningen'!$F$4/10000,0))*'Curves met UFR, zonder VA'!D166","v":3.3930029631577804E-2},{"$f":"('Curves met UFR, zonder VA'!E37+IF('Configuratie en berekeningen'!$D$4=\"Met VA\",'Configuratie en berekeningen'!$F$4/10000,0))*'Curves met UFR, zonder VA'!E166","v":3.4703346584234726E-2},{"$f":"('Curves met UFR, zonder VA'!F37+IF('Configuratie en berekeningen'!$D$4=\"Met VA\",'Configuratie en berekeningen'!$F$4/10000,0))*'Curves met UFR, zonder VA'!F166","v":3.5341861795111271E-2},{"$f":"('Curves met UFR, zonder VA'!G37+IF('Configuratie en berekeningen'!$D$4=\"Met VA\",'Configuratie en berekeningen'!$F$4/10000,0))*'Curves met UFR, zonder VA'!G166","v":3.5855784189894699E-2},{"$f":"('Curves met UFR, zonder VA'!H37+IF('Configuratie en berekeningen'!$D$4=\"Met VA\",'Configuratie en berekeningen'!$F$4/10000,0))*'Curves met UFR, zonder VA'!H166","v":3.6252206901188952E-2},{"$f":"('Curves met UFR, zonder VA'!I37+IF('Configuratie en berekeningen'!$D$4=\"Met VA\",'Configuratie en berekeningen'!$F$4/10000,0))*'Curves met UFR, zonder VA'!I166","v":3.6507168569351586E-2},{"$f":"('Curves met UFR, zonder VA'!J37+IF('Configuratie en berekeningen'!$D$4=\"Met VA\",'Configuratie en berekeningen'!$F$4/10000,0))*'Curves met UFR, zonder VA'!J166","v":3.6699581224505826E-2},{"$f":"('Curves met UFR, zonder VA'!K37+IF('Configuratie en berekeningen'!$D$4=\"Met VA\",'Configuratie en berekeningen'!$F$4/10000,0))*'Curves met UFR, zonder VA'!K166","v":3.6797071084450225E-2},{"$f":"('Curves met UFR, zonder VA'!L37+IF('Configuratie en berekeningen'!$D$4=\"Met VA\",'Configuratie en berekeningen'!$F$4/10000,0))*'Curves met UFR, zonder VA'!L166","v":3.6770929398109928E-2},{"$f":"('Curves met UFR, zonder VA'!M37+IF('Configuratie en berekeningen'!$D$4=\"Met VA\",'Configuratie en berekeningen'!$F$4/10000,0))*'Curves met UFR, zonder VA'!M166","v":3.6730242446839131E-2},{"$f":"('Curves met UFR, zonder VA'!N37+IF('Configuratie en berekeningen'!$D$4=\"Met VA\",'Configuratie en berekeningen'!$F$4/10000,0))*'Curves met UFR, zonder VA'!N166","v":3.6629135638928487E-2},{"$f":"('Curves met UFR, zonder VA'!O37+IF('Configuratie en berekeningen'!$D$4=\"Met VA\",'Configuratie en berekeningen'!$F$4/10000,0))*'Curves met UFR, zonder VA'!O166","v":3.6397101783203809E-2},{"$f":"('Curves met UFR, zonder VA'!P37+IF('Configuratie en berekeningen'!$D$4=\"Met VA\",'Configuratie en berekeningen'!$F$4/10000,0))*'Curves met UFR, zonder VA'!P166","v":3.6231111434243443E-2},{"$f":"('Curves met UFR, zonder VA'!Q37+IF('Configuratie en berekeningen'!$D$4=\"Met VA\",'Configuratie en berekeningen'!$F$4/10000,0))*'Curves met UFR, zonder VA'!Q166","v":3.6131140798792913E-2},{"$f":"('Curves met UFR, zonder VA'!R37+IF('Configuratie en berekeningen'!$D$4=\"Met VA\",'Configuratie en berekeningen'!$F$4/10000,0))*'Curves met UFR, zonder VA'!R166","v":3.6037418838979526E-2},{"$f":"('Curves met UFR, zonder VA'!S37+IF('Configuratie en berekeningen'!$D$4=\"Met VA\",'Configuratie en berekeningen'!$F$4/10000,0))*'Curves met UFR, zonder VA'!S166","v":3.5939965654738268E-2},{"$f":"('Curves met UFR, zonder VA'!T37+IF('Configuratie en berekeningen'!$D$4=\"Met VA\",'Configuratie en berekeningen'!$F$4/10000,0))*'Curves met UFR, zonder VA'!T166","v":3.5841297564763439E-2},{"$f":"('Curves met UFR, zonder VA'!U37+IF('Configuratie en berekeningen'!$D$4=\"Met VA\",'Configuratie en berekeningen'!$F$4/10000,0))*'Curves met UFR, zonder VA'!U166","v":3.5743944896083388E-2},{"$f":"('Curves met UFR, zonder VA'!V37+IF('Configuratie en berekeningen'!$D$4=\"Met VA\",'Configuratie en berekeningen'!$F$4/10000,0))*'Curves met UFR, zonder VA'!V166","v":3.5650464306164295E-2}]
[13,{"$f":"('Curves met UFR, zonder VA'!B38+IF('Configuratie en berekeningen'!$D$4=\"Met VA\",'Configuratie en berekeningen'!$F$4/10000,0))*'Curves met UFR, zonder VA'!B167","v":3.2159895362774346E-2},{"$f":"('Curves met UFR, zonder VA'!C38+IF('Configuratie en berekeningen'!$D$4=\"Met VA\",'Configuratie en berekeningen'!$F$4/10000,0))*'Curves met UFR, zonder VA'!C167","v":3.3210400904041856E-2},{"$f":"('Curves met UFR, zonder VA'!D38+IF('Configuratie en berekeningen'!$D$4=\"Met VA\",'Configuratie en berekeningen'!$F$4/10000,0))*'Curves met UFR, zonder VA'!D167","v":3.4124880889065443E-2},{"$f":"('Curves met UFR, zonder VA'!E38+IF('Configuratie en berekeningen'!$D$4=\"Met VA\",'Configuratie en berekeningen'!$F$4/10000,0))*'Curves met UFR, zonder VA'!E167","v":3.4841315873983245E-2},{"$f":"('Curves met UFR, zonder VA'!F38+IF('Configuratie en berekeningen'!$D$4=\"Met VA\",'Configuratie en berekeningen'!$F$4/10000,0))*'Curves met UFR, zonder VA'!F167","v":3.5430554941015366E-2},{"$f":"('Curves met UFR, zonder VA'!G38+IF('Configuratie en berekeningen'!$D$4=\"Met VA\",'Configuratie en berekeningen'!$F$4/10000,0))*'Curves met UFR, zonder VA'!G167","v":3.5902054327412378E-2},{"$f":"('Curves met UFR, zonder VA'!H38+IF('Configuratie en berekeningen'!$D$4=\"Met VA\",'Configuratie en berekeningen'!$F$4/10000,0))*'Curves met UFR, zonder VA'!H167","v":3.6262363723514143E-2},{"$f":"('Curves met UFR, zonder VA'!I38+IF('Configuratie en berekeningen'!$D$4=\"Met VA\",'Configuratie en berekeningen'!$F$4/10000,0))*'Curves met UFR, zonder VA'!I167","v":3.6489660160699586E-2},{"$f":"('Curves met UFR, zonder VA'!J38+IF('Configuratie en berekeningen'!$D$4=\"Met VA\",'Configuratie en berekeningen'!$F$4/10000,0))*'Curves met UFR, zonder VA'!J167","v":3.6659068746436027E-2},{"$f":"('Curves met UFR, zonder VA'!K38+IF('Configuratie en berekeningen'!$D$4=\"Met VA\",'Configuratie en berekeningen'!$F$4/10000,0))*'Curves met UFR, zonder VA'!K167","v":3.6740963795738699E-2},{"$f":"('Curves met UFR, zonder VA'!L38+IF('Configuratie en berekeningen'!$D$4=\"Met VA\",'Configuratie en berekeningen'!$F$4/10000,0))*'Curves met UFR, zonder VA'!L167","v":3.6708652023744667E-2},{"$f":"('Curves met UFR, zonder VA'!M38+IF('Configuratie en berekeningen'!$D$4=\"Met VA\",'Configuratie en berekeningen'!$F$4/10000,0))*'Curves met UFR, zonder VA'!M167","v":3.6663385165159365E-2},{"$f":"('Curves met UFR, zonder VA'!N38+IF('Configuratie en berekeningen'!$D$4=\"Met VA\",'Configuratie en berekeningen'!$F$4/10000,0))*'Curves met UFR, zonder VA'!N167","v":3.6562532090911246E-2},{"$f":"('Curves met UFR, zonder VA'!O38+IF('Configuratie en berekeningen'!$D$4=\"Met VA\",'Configuratie en berekeningen'!$F$4/10000,0))*'Curves met UFR, zonder VA'!O167","v":3.634059137134231E-2},{"$f":"('Curves met UFR, zonder VA'!P38+IF('Configuratie en berekeningen'!$D$4=\"Met VA\",'Configuratie en berekeningen'!$F$4/10000,0))*'Curves met UFR, zonder VA'!P167","v":3.6180420747011263E-2},{"$f":"('Curves met UFR, zonder VA'!Q38+IF('Configuratie en berekeningen'!$D$4=\"Met VA\",'Configuratie en berekeningen'!$F$4/10000,0))*'Curves met UFR, zonder VA'!Q167","v":3.6081969016065571E-2},{"$f":"('Curves met UFR, zonder VA'!R38+IF('Configuratie en berekeningen'!$D$4=\"Met VA\",'Configuratie en berekeningen'!$F$4/10000,0))*'Curves met UFR, zonder VA'!R167","v":3.5989709268153966E-2},{"$f":"('Curves met UFR, zonder VA'!S38+IF('Configuratie en berekeningen'!$D$4=\"Met VA\",'Configuratie en berekeningen'!$F$4/10000,0))*'Curves met UFR, zonder VA'!S167","v":3.5894348509464422E-2},{"$f":"('Curves met UFR, zonder VA'!T38+IF('Configuratie en berekeningen'!$D$4=\"Met VA\",'Configuratie en berekeningen'!$F$4/10000,0))*'Curves met UFR, zonder VA'!T167","v":3.5798198508433396E-2},{"$f":"('Curves met UFR, zonder VA'!U38+IF('Configuratie en berekeningen'!$D$4=\"Met VA\",'Configuratie en berekeningen'!$F$4/10000,0))*'Curves met UFR, zonder VA'!U167","v":3.5703585651979994E-2},{"$f":"('Curves met UFR, zonder VA'!V38+IF('Configuratie en berekeningen'!$D$4=\"Met VA\",'Configuratie en berekeningen'!$F$4/10000,0))*'Curves met UFR, zonder VA'!V167","v":3.5612862302901213E-2}]
[14,{"$f":"('Curves met UFR, zonder VA'!B39+IF('Configuratie en berekeningen'!$D$4=\"Met VA\",'Configuratie en berekeningen'!$F$4/10000,0))*'Curves met UFR, zonder VA'!B168","v":3.2469999999901342E-2},{"$f":"('Curves met UFR, zonder VA'!C39+IF('Configuratie en berekeningen'!$D$4=\"Met VA\",'Configuratie en berekeningen'!$F$4/10000,0))*'Curves met UFR, zonder VA'!C168","v":3.3440102273234393E-2},{"$f":"('Curves met UFR, zonder VA'!D39+IF('Configuratie en berekeningen'!$D$4=\"Met VA\",'Configuratie en berekeningen'!$F$4/10000,0))*'Curves met UFR, zonder VA'!D168","v":3.4292138671764436E-2},{"$f":"('Curves met UFR, zonder VA'!E39+IF('Configuratie en berekeningen'!$D$4=\"Met VA\",'Configuratie en berekeningen'!$F$4/10000,0))*'Curves met UFR, zonder VA'!E168","v":3.4957420690763838E-2},{"$f":"('Curves met UFR, zonder VA'!F39+IF('Configuratie en berekeningen'!$D$4=\"Met VA\",'Configuratie en berekeningen'!$F$4/10000,0))*'Curves met UFR, zonder VA'!F168","v":3.550206694718365E-2},{"$f":"('Curves met UFR, zonder VA'!G39+IF('Configuratie en berekeningen'!$D$4=\"Met VA\",'Configuratie en berekeningen'!$F$4/10000,0))*'Curves met UFR, zonder VA'!G168","v":3.5934870849904918E-2},{"$f":"('Curves met UFR, zonder VA'!H39+IF('Configuratie en berekeningen'!$D$4=\"Met VA\",'Configuratie en berekeningen'!$F$4/10000,0))*'Curves met UFR, zonder VA'!H168","v":3.6262344661664933E-2},{"$f":"('Curves met UFR, zonder VA'!I39+IF('Configuratie en berekeningen'!$D$4=\"Met VA\",'Configuratie en berekeningen'!$F$4/10000,0))*'Curves met UFR, zonder VA'!I168","v":3.6465849034209727E-2},{"$f":"('Curves met UFR, zonder VA'!J39+IF('Configuratie en berekeningen'!$D$4=\"Met VA\",'Configuratie en berekeningen'!$F$4/10000,0))*'Curves met UFR, zonder VA'!J168","v":3.6615907947052204E-2},{"$f":"('Curves met UFR, zonder VA'!K39+IF('Configuratie en berekeningen'!$D$4=\"Met VA\",'Configuratie en berekeningen'!$F$4/10000,0))*'Curves met UFR, zonder VA'!K168","v":3.6684837379747412E-2},{"$f":"('Curves met UFR, zonder VA'!L39+IF('Configuratie en berekeningen'!$D$4=\"Met VA\",'Configuratie en berekeningen'!$F$4/10000,0))*'Curves met UFR, zonder VA'!L168","v":3.6647692321910716E-2},{"$f":"('Curves met UFR, zonder VA'!M39+IF('Configuratie en berekeningen'!$D$4=\"Met VA\",'Configuratie en berekeningen'!$F$4/10000,0))*'Curves met UFR, zonder VA'!M168","v":3.6598936463853857E-2},{"$f":"('Curves met UFR, zonder VA'!N39+IF('Configuratie en berekeningen'!$D$4=\"Met VA\",'Configuratie en berekeningen'!$F$4/10000,0))*'Curves met UFR, zonder VA'!N168","v":3.6498751565860729E-2},{"$f":"('Curves met UFR, zonder VA'!O39+IF('Configuratie en berekeningen'!$D$4=\"Met VA\",'Configuratie en berekeningen'!$F$4/10000,0))*'Curves met UFR, zonder VA'!O168","v":3.6285976291601171E-2},{"$f":"('Curves met UFR, zonder VA'!P39+IF('Configuratie en berekeningen'!$D$4=\"Met VA\",'Configuratie en berekeningen'!$F$4/10000,0))*'Curves met UFR, zonder VA'!P168","v":3.6131239567525883E-2},{"$f":"('Curves met UFR, zonder VA'!Q39+IF('Configuratie en berekeningen'!$D$4=\"Met VA\",'Configuratie en berekeningen'!$F$4/10000,0))*'Curves met UFR, zonder VA'!Q168","v":3.603446815382931E-2},{"$f":"('Curves met UFR, zonder VA'!R39+IF('Configuratie en berekeningen'!$D$4=\"Met VA\",'Configuratie en berekeningen'!$F$4/10000,0))*'Curves met UFR, zonder VA'!R168","v":3.5943814977317842E-2},{"$f":"('Curves met UFR, zonder VA'!S39+IF('Configuratie en berekeningen'!$D$4=\"Met VA\",'Configuratie en berekeningen'!$F$4/10000,0))*'Curves met UFR, zonder VA'!S168","v":3.5850583927967625E-2},{"$f":"('Curves met UFR, zonder VA'!T39+IF('Configuratie en berekeningen'!$D$4=\"Met VA\",'Configuratie en berekeningen'!$F$4/10000,0))*'Curves met UFR, zonder VA'!T168","v":3.5756910991506727E-2},{"$f":"('Curves met UFR, zonder VA'!U39+IF('Configuratie en berekeningen'!$D$4=\"Met VA\",'Configuratie en berekeningen'!$F$4/10000,0))*'Curves met UFR, zonder VA'!U168","v":3.5664947216071205E-2},{"$f":"('Curves met UFR, zonder VA'!V39+IF('Configuratie en berekeningen'!$D$4=\"Met VA\",'Configuratie en berekeningen'!$F$4/10000,0))*'Curves met UFR, zonder VA'!V168","v":3.5576869235553296E-2}]
[15,{"$f":"('Curves met UFR, zonder VA'!B40+IF('Configuratie en berekeningen'!$D$4=\"Met VA\",'Configuratie en berekeningen'!$F$4/10000,0))*'Curves met UFR, zonder VA'!B169","v":3.2731458152362711E-2},{"$f":"('Curves met UFR, zonder VA'!C40+IF('Configuratie en berekeningen'!$D$4=\"Met VA\",'Configuratie en berekeningen'!$F$4/10000,0))*'Curves met UFR, zonder VA'!C169","v":3.36395935319002E-2},{"$f":"('Curves met UFR, zonder VA'!D40+IF('Configuratie en berekeningen'!$D$4=\"Met VA\",'Configuratie en berekeningen'!$F$4/10000,0))*'Curves met UFR, zonder VA'!D169","v":3.4435247350803763E-2},{"$f":"('Curves met UFR, zonder VA'!E40+IF('Configuratie en berekeningen'!$D$4=\"Met VA\",'Configuratie en berekeningen'!$F$4/10000,0))*'Curves met UFR, zonder VA'!E169","v":3.5053998839559217E-2},{"$f":"('Curves met UFR, zonder VA'!F40+IF('Configuratie en berekeningen'!$D$4=\"Met VA\",'Configuratie en berekeningen'!$F$4/10000,0))*'Curves met UFR, zonder VA'!F169","v":3.5557815934232836E-2},{"$f":"('Curves met UFR, zonder VA'!G40+IF('Configuratie en berekeningen'!$D$4=\"Met VA\",'Configuratie en berekeningen'!$F$4/10000,0))*'Curves met UFR, zonder VA'!G169","v":3.5955318252698973E-2},{"$f":"('Curves met UFR, zonder VA'!H40+IF('Configuratie en berekeningen'!$D$4=\"Met VA\",'Configuratie en berekeningen'!$F$4/10000,0))*'Curves met UFR, zonder VA'!H169","v":3.6254232066556577E-2},{"$f":"('Curves met UFR, zonder VA'!I40+IF('Configuratie en berekeningen'!$D$4=\"Met VA\",'Configuratie en berekeningen'!$F$4/10000,0))*'Curves met UFR, zonder VA'!I169","v":3.6437467987570457E-2},{"$f":"('Curves met UFR, zonder VA'!J40+IF('Configuratie en berekeningen'!$D$4=\"Met VA\",'Configuratie en berekeningen'!$F$4/10000,0))*'Curves met UFR, zonder VA'!J169","v":3.6571110849353536E-2},{"$f":"('Curves met UFR, zonder VA'!K40+IF('Configuratie en berekeningen'!$D$4=\"Met VA\",'Configuratie en berekeningen'!$F$4/10000,0))*'Curves met UFR, zonder VA'!K169","v":3.6629177185745362E-2},{"$f":"('Curves met UFR, zonder VA'!L40+IF('Configuratie en berekeningen'!$D$4=\"Met VA\",'Configuratie en berekeningen'!$F$4/10000,0))*'Curves met UFR, zonder VA'!L169","v":3.658825320125951E-2},{"$f":"('Curves met UFR, zonder VA'!M40+IF('Configuratie en berekeningen'!$D$4=\"Met VA\",'Configuratie en berekeningen'!$F$4/10000,0))*'Curves met UFR, zonder VA'!M169","v":3.6536864824264922E-2},{"$f":"('Curves met UFR, zonder VA'!N40+IF('Configuratie en berekeningen'!$D$4=\"Met VA\",'Configuratie en berekeningen'!$F$4/10000,0))*'Curves met UFR, zonder VA'!N169","v":3.643765678833881E-2},{"$f":"('Curves met UFR, zonder VA'!O40+IF('Configuratie en berekeningen'!$D$4=\"Met VA\",'Configuratie en berekeningen'!$F$4/10000,0))*'Curves met UFR, zonder VA'!O169","v":3.6233266921032278E-2},{"$f":"('Curves met UFR, zonder VA'!P40+IF('Configuratie en berekeningen'!$D$4=\"Met VA\",'Configuratie en berekeningen'!$F$4/10000,0))*'Curves met UFR, zonder VA'!P169","v":3.6083625979051279E-2},{"$f":"('Curves met UFR, zonder VA'!Q40+IF('Configuratie en berekeningen'!$D$4=\"Met VA\",'Configuratie en berekeningen'!$F$4/10000,0))*'Curves met UFR, zonder VA'!Q169","v":3.5988642964372916E-2},{"$f":"('Curves met UFR, zonder VA'!R40+IF('Configuratie en berekeningen'!$D$4=\"Met VA\",'Configuratie en berekeningen'!$F$4/10000,0))*'Curves met UFR, zonder VA'!R169","v":3.5899692065104169E-2},{"$f":"('Curves met UFR, zonder VA'!S40+IF('Configuratie en berekeningen'!$D$4=\"Met VA\",'Configuratie en berekeningen'!$F$4/10000,0))*'Curves met UFR, zonder VA'!S169","v":3.5808600828385703E-2},{"$f":"('Curves met UFR, zonder VA'!T40+IF('Configuratie en berekeningen'!$D$4=\"Met VA\",'Configuratie en berekeningen'!$F$4/10000,0))*'Curves met UFR, zonder VA'!T169","v":3.5717352750445894E-2},{"$f":"('Curves met UFR, zonder VA'!U40+IF('Configuratie en berekeningen'!$D$4=\"Met VA\",'Configuratie en berekeningen'!$F$4/10000,0))*'Curves met UFR, zonder VA'!U169","v":3.5627946701639088E-2},{"$f":"('Curves met UFR, zonder VA'!V40+IF('Configuratie en berekeningen'!$D$4=\"Met VA\",'Configuratie en berekeningen'!$F$4/10000,0))*'Curves met UFR, zonder VA'!V169","v":3.5542406722279749E-2}]
[16,{"$f":"('Curves met UFR, zonder VA'!B41+IF('Configuratie en berekeningen'!$D$4=\"Met VA\",'Configuratie en berekeningen'!$F$4/10000,0))*'Curves met UFR, zonder VA'!B170","v":3.2960763699268522E-2},{"$f":"('Curves met UFR, zonder VA'!C41+IF('Configuratie en berekeningen'!$D$4=\"Met VA\",'Configuratie en berekeningen'!$F$4/10000,0))*'Curves met UFR, zonder VA'!C170","v":3.3812577009811814E-2},{"$f":"('Curves met UFR, zonder VA'!D41+IF('Configuratie en berekeningen'!$D$4=\"Met VA\",'Configuratie en berekeningen'!$F$4/10000,0))*'Curves met UFR, zonder VA'!D170","v":3.4556809734830482E-2},{"$f":"('Curves met UFR, zonder VA'!E41+IF('Configuratie en berekeningen'!$D$4=\"Met VA\",'Configuratie en berekeningen'!$F$4/10000,0))*'Curves met UFR, zonder VA'!E170","v":3.5132798566106668E-2},{"$f":"('Curves met UFR, zonder VA'!F41+IF('Configuratie en berekeningen'!$D$4=\"Met VA\",'Configuratie en berekeningen'!$F$4/10000,0))*'Curves met UFR, zonder VA'!F170","v":3.5599229832211796E-2},{"$f":"('Curves met UFR, zonder VA'!G41+IF('Configuratie en berekeningen'!$D$4=\"Met VA\",'Configuratie en berekeningen'!$F$4/10000,0))*'Curves met UFR, zonder VA'!G170","v":3.5965742854586466E-2},{"$f":"('Curves met UFR, zonder VA'!H41+IF('Configuratie en berekeningen'!$D$4=\"Met VA\",'Configuratie en berekeningen'!$F$4/10000,0))*'Curves met UFR, zonder VA'!H170","v":3.6239972470819934E-2},{"$f":"('Curves met UFR, zonder VA'!I41+IF('Configuratie en berekeningen'!$D$4=\"Met VA\",'Configuratie en berekeningen'!$F$4/10000,0))*'Curves met UFR, zonder VA'!I170","v":3.6405808416331384E-2},{"$f":"('Curves met UFR, zonder VA'!J41+IF('Configuratie en berekeningen'!$D$4=\"Met VA\",'Configuratie en berekeningen'!$F$4/10000,0))*'Curves met UFR, zonder VA'!J170","v":3.6525419567792136E-2},{"$f":"('Curves met UFR, zonder VA'!K41+IF('Configuratie en berekeningen'!$D$4=\"Met VA\",'Configuratie en berekeningen'!$F$4/10000,0))*'Curves met UFR, zonder VA'!K170","v":3.6574324447643011E-2},{"$f":"('Curves met UFR, zonder VA'!L41+IF('Configuratie en berekeningen'!$D$4=\"Met VA\",'Configuratie en berekeningen'!$F$4/10000,0))*'Curves met UFR, zonder VA'!L170","v":3.6530461723152038E-2},{"$f":"('Curves met UFR, zonder VA'!M41+IF('Configuratie en berekeningen'!$D$4=\"Met VA\",'Configuratie en berekeningen'!$F$4/10000,0))*'Curves met UFR, zonder VA'!M170","v":3.6477119769445052E-2},{"$f":"('Curves met UFR, zonder VA'!N41+IF('Configuratie en berekeningen'!$D$4=\"Met VA\",'Configuratie en berekeningen'!$F$4/10000,0))*'Curves met UFR, zonder VA'!N170","v":3.6379118053826362E-2},{"$f":"('Curves met UFR, zonder VA'!O41+IF('Configuratie en berekeningen'!$D$4=\"Met VA\",'Configuratie en berekeningen'!$F$4/10000,0))*'Curves met UFR, zonder VA'!O170","v":3.6182448024989863E-2},{"$f":"('Curves met UFR, zonder VA'!P41+IF('Configuratie en berekeningen'!$D$4=\"Met VA\",'Configuratie en berekeningen'!$F$4/10000,0))*'Curves met UFR, zonder VA'!P170","v":3.6037602702715318E-2},{"$f":"('Curves met UFR, zonder VA'!Q41+IF('Configuratie en berekeningen'!$D$4=\"Met VA\",'Configuratie en berekeningen'!$F$4/10000,0))*'Curves met UFR, zonder VA'!Q170","v":3.5944476777722542E-2},{"$f":"('Curves met UFR, zonder VA'!R41+IF('Configuratie en berekeningen'!$D$4=\"Met VA\",'Configuratie en berekeningen'!$F$4/10000,0))*'Curves met UFR, zonder VA'!R170","v":3.5857287968496784E-2},{"$f":"('Curves met UFR, zonder VA'!S41+IF('Configuratie en berekeningen'!$D$4=\"Met VA\",'Configuratie en berekeningen'!$F$4/10000,0))*'Curves met UFR, zonder VA'!S170","v":3.5768327099547845E-2},{"$f":"('Curves met UFR, zonder VA'!T41+IF('Configuratie en berekeningen'!$D$4=\"Met VA\",'Configuratie en berekeningen'!$F$4/10000,0))*'Curves met UFR, zonder VA'!T170","v":3.5679444287510062E-2},{"$f":"('Curves met UFR, zonder VA'!U41+IF('Configuratie en berekeningen'!$D$4=\"Met VA\",'Configuratie en berekeningen'!$F$4/10000,0))*'Curves met UFR, zonder VA'!U170","v":3.55925052288492E-2},{"$f":"('Curves met UFR, zonder VA'!V41+IF('Configuratie en berekeningen'!$D$4=\"Met VA\",'Configuratie en berekeningen'!$F$4/10000,0))*'Curves met UFR, zonder VA'!V170","v":3.550940035615173E-2}]
[17,{"$f":"('Curves met UFR, zonder VA'!B42+IF('Configuratie en berekeningen'!$D$4=\"Met VA\",'Configuratie en berekeningen'!$F$4/10000,0))*'Curves met UFR, zonder VA'!B171","v":3.3161735806267176E-2},{"$f":"('Curves met UFR, zonder VA'!C42+IF('Configuratie en berekeningen'!$D$4=\"Met VA\",'Configuratie en berekeningen'!$F$4/10000,0))*'Curves met UFR, zonder VA'!C171","v":3.3961903142751312E-2},{"$f":"('Curves met UFR, zonder VA'!D42+IF('Configuratie en berekeningen'!$D$4=\"Met VA\",'Configuratie en berekeningen'!$F$4/10000,0))*'Curves met UFR, zonder VA'!D171","v":3.4658813074375169E-2},{"$f":"('Curves met UFR, zonder VA'!E42+IF('Configuratie en berekeningen'!$D$4=\"Met VA\",'Configuratie en berekeningen'!$F$4/10000,0))*'Curves met UFR, zonder VA'!E171","v":3.5195503959532345E-2},{"$f":"('Curves met UFR, zonder VA'!F42+IF('Configuratie en berekeningen'!$D$4=\"Met VA\",'Configuratie en berekeningen'!$F$4/10000,0))*'Curves met UFR, zonder VA'!F171","v":3.5628851560506034E-2},{"$f":"('Curves met UFR, zonder VA'!G42+IF('Configuratie en berekeningen'!$D$4=\"Met VA\",'Configuratie en berekeningen'!$F$4/10000,0))*'Curves met UFR, zonder VA'!G171","v":3.596830406763056E-2},{"$f":"('Curves met UFR, zonder VA'!H42+IF('Configuratie en berekeningen'!$D$4=\"Met VA\",'Configuratie en berekeningen'!$F$4/10000,0))*'Curves met UFR, zonder VA'!H171","v":3.6221048112126938E-2},{"$f":"('Curves met UFR, zonder VA'!I42+IF('Configuratie en berekeningen'!$D$4=\"Met VA\",'Configuratie en berekeningen'!$F$4/10000,0))*'Curves met UFR, zonder VA'!I171","v":3.6371844770476544E-2},{"$f":"('Curves met UFR, zonder VA'!J42+IF('Configuratie en berekeningen'!$D$4=\"Met VA\",'Configuratie en berekeningen'!$F$4/10000,0))*'Curves met UFR, zonder VA'!J171","v":3.6479383070898638E-2},{"$f":"('Curves met UFR, zonder VA'!K42+IF('Configuratie en berekeningen'!$D$4=\"Met VA\",'Configuratie en berekeningen'!$F$4/10000,0))*'Curves met UFR, zonder VA'!K171","v":3.6520518030895774E-2},{"$f":"('Curves met UFR, zonder VA'!L42+IF('Configuratie en berekeningen'!$D$4=\"Met VA\",'Configuratie en berekeningen'!$F$4/10000,0))*'Curves met UFR, zonder VA'!L171","v":3.6474391804024162E-2},{"$f":"('Curves met UFR, zonder VA'!M42+IF('Configuratie en berekeningen'!$D$4=\"Met VA\",'Configuratie en berekeningen'!$F$4/10000,0))*'Curves met UFR, zonder VA'!M171","v":3.6419638681868413E-2},{"$f":"('Curves met UFR, zonder VA'!N42+IF('Configuratie en berekeningen'!$D$4=\"Met VA\",'Configuratie en berekeningen'!$F$4/10000,0))*'Curves met UFR, zonder VA'!N171","v":3.632301259558128E-2},{"$f":"('Curves met UFR, zonder VA'!O42+IF('Configuratie en berekeningen'!$D$4=\"Met VA\",'Configuratie en berekeningen'!$F$4/10000,0))*'Curves met UFR, zonder VA'!O171","v":3.6133487261552341E-2},{"$f":"('Curves met UFR, zonder VA'!P42+IF('Configuratie en berekeningen'!$D$4=\"Met VA\",'Configuratie en berekeningen'!$F$4/10000,0))*'Curves met UFR, zonder VA'!P171","v":3.5993168233098213E-2},{"$f":"('Curves met UFR, zonder VA'!Q42+IF('Configuratie en berekeningen'!$D$4=\"Met VA\",'Configuratie en berekeningen'!$F$4/10000,0))*'Curves met UFR, zonder VA'!Q171","v":3.5901938690787658E-2},{"$f":"('Curves met UFR, zonder VA'!R42+IF('Configuratie en berekeningen'!$D$4=\"Met VA\",'Configuratie en berekeningen'!$F$4/10000,0))*'Curves met UFR, zonder VA'!R171","v":3.5816545035849343E-2},{"$f":"('Curves met UFR, zonder VA'!S42+IF('Configuratie en berekeningen'!$D$4=\"Met VA\",'Configuratie en berekeningen'!$F$4/10000,0))*'Curves met UFR, zonder VA'!S171","v":3.5729690985263948E-2},{"$f":"('Curves met UFR, zonder VA'!T42+IF('Configuratie en berekeningen'!$D$4=\"Met VA\",'Configuratie en berekeningen'!$F$4/10000,0))*'Curves met UFR, zonder VA'!T171","v":3.5643109135194681E-2},{"$f":"('Curves met UFR, zonder VA'!U42+IF('Configuratie en berekeningen'!$D$4=\"Met VA\",'Configuratie en berekeningen'!$F$4/10000,0))*'Curves met UFR, zonder VA'!U171","v":3.5558547781808711E-2},{"$f":"('Curves met UFR, zonder VA'!V42+IF('Configuratie en berekeningen'!$D$4=\"Met VA\",'Configuratie en berekeningen'!$F$4/10000,0))*'Curves met UFR, zonder VA'!V171","v":3.5477779511503924E-2}]
[18,{"$f":"('Curves met UFR, zonder VA'!B43+IF('Configuratie en berekeningen'!$D$4=\"Met VA\",'Configuratie en berekeningen'!$F$4/10000,0))*'Curves met UFR, zonder VA'!B172","v":3.3337362210419094E-2},{"$f":"('Curves met UFR, zonder VA'!C43+IF('Configuratie en berekeningen'!$D$4=\"Met VA\",'Configuratie en berekeningen'!$F$4/10000,0))*'Curves met UFR, zonder VA'!C172","v":3.4089787250057776E-2},{"$f":"('Curves met UFR, zonder VA'!D43+IF('Configuratie en berekeningen'!$D$4=\"Met VA\",'Configuratie en berekeningen'!$F$4/10000,0))*'Curves met UFR, zonder VA'!D172","v":3.4743133469831974E-2},{"$f":"('Curves met UFR, zonder VA'!E43+IF('Configuratie en berekeningen'!$D$4=\"Met VA\",'Configuratie en berekeningen'!$F$4/10000,0))*'Curves met UFR, zonder VA'!E172","v":3.5244801050242344E-2},{"$f":"('Curves met UFR, zonder VA'!F43+IF('Configuratie en berekeningen'!$D$4=\"Met VA\",'Configuratie en berekeningen'!$F$4/10000,0))*'Curves met UFR, zonder VA'!F172","v":3.5649005609590764E-2},{"$f":"('Curves met UFR, zonder VA'!G43+IF('Configuratie en berekeningen'!$D$4=\"Met VA\",'Configuratie en berekeningen'!$F$4/10000,0))*'Curves met UFR, zonder VA'!G172","v":3.5964676736902998E-2},{"$f":"('Curves met UFR, zonder VA'!H43+IF('Configuratie en berekeningen'!$D$4=\"Met VA\",'Configuratie en berekeningen'!$F$4/10000,0))*'Curves met UFR, zonder VA'!H172","v":3.6198600844540671E-2},{"$f":"('Curves met UFR, zonder VA'!I43+IF('Configuratie en berekeningen'!$D$4=\"Met VA\",'Configuratie en berekeningen'!$F$4/10000,0))*'Curves met UFR, zonder VA'!I172","v":3.633631964217858E-2},{"$f":"('Curves met UFR, zonder VA'!J43+IF('Configuratie en berekeningen'!$D$4=\"Met VA\",'Configuratie en berekeningen'!$F$4/10000,0))*'Curves met UFR, zonder VA'!J172","v":3.6433409627668542E-2},{"$f":"('Curves met UFR, zonder VA'!K43+IF('Configuratie en berekeningen'!$D$4=\"Met VA\",'Configuratie en berekeningen'!$F$4/10000,0))*'Curves met UFR, zonder VA'!K172","v":3.6467922917682014E-2},{"$f":"('Curves met UFR, zonder VA'!L43+IF('Configuratie en berekeningen'!$D$4=\"Met VA\",'Configuratie en berekeningen'!$F$4/10000,0))*'Curves met UFR, zonder VA'!L172","v":3.6420079670177394E-2},{"$f":"('Curves met UFR, zonder VA'!M43+IF('Configuratie en berekeningen'!$D$4=\"Met VA\",'Configuratie en berekeningen'!$F$4/10000,0))*'Curves met UFR, zonder VA'!M172","v":3.6364351391009395E-2},{"$f":"('Curves met UFR, zonder VA'!N43+IF('Configuratie en berekeningen'!$D$4=\"Met VA\",'Configuratie en berekeningen'!$F$4/10000,0))*'Curves met UFR, zonder VA'!N172","v":3.6269224076228943E-2},{"$f":"('Curves met UFR, zonder VA'!O43+IF('Configuratie en berekeningen'!$D$4=\"Met VA\",'Configuratie en berekeningen'!$F$4/10000,0))*'Curves met UFR, zonder VA'!O172","v":3.6086340927518654E-2},{"$f":"('Curves met UFR, zonder VA'!P43+IF('Configuratie en berekeningen'!$D$4=\"Met VA\",'Configuratie en berekeningen'!$F$4/10000,0))*'Curves met UFR, zonder VA'!P172","v":3.5950304387046536E-2},{"$f":"('Curves met UFR, zonder VA'!Q43+IF('Configuratie en berekeningen'!$D$4=\"Met VA\",'Configuratie en berekeningen'!$F$4/10000,0))*'Curves met UFR, zonder VA'!Q172","v":3.586098841858669E-2},{"$f":"('Curves met UFR, zonder VA'!R43+IF('Configuratie en berekeningen'!$D$4=\"Met VA\",'Configuratie en berekeningen'!$F$4/10000,0))*'Curves met UFR, zonder VA'!R172","v":3.5777402906669684E-2},{"$f":"('Curves met UFR, zonder VA'!S43+IF('Configuratie en berekeningen'!$D$4=\"Met VA\",'Configuratie en berekeningen'!$F$4/10000,0))*'Curves met UFR, zonder VA'!S172","v":3.5692621969377766E-2},{"$f":"('Curves met UFR, zonder VA'!T43+IF('Configuratie en berekeningen'!$D$4=\"Met VA\",'Configuratie en berekeningen'!$F$4/10000,0))*'Curves met UFR, zonder VA'!T172","v":3.560827397792303E-2},{"$f":"('Curves met UFR, zonder VA'!U43+IF('Configuratie en berekeningen'!$D$4=\"Met VA\",'Configuratie en berekeningen'!$F$4/10000,0))*'Curves met UFR, zonder VA'!U172","v":3.5526003054397501E-2},{"$f":"('Curves met UFR, zonder VA'!V43+IF('Configuratie en berekeningen'!$D$4=\"Met VA\",'Configuratie en berekeningen'!$F$4/10000,0))*'Curves met UFR, zonder VA'!V172","v":3.5447477157887805E-2}]
[19,{"$f":"('Curves met UFR, zonder VA'!B44+IF('Configuratie en berekeningen'!$D$4=\"Met VA\",'Configuratie en berekeningen'!$F$4/10000,0))*'Curves met UFR, zonder VA'!B173","v":3.3489999999951989E-2},{"$f":"('Curves met UFR, zonder VA'!C44+IF('Configuratie en berekeningen'!$D$4=\"Met VA\",'Configuratie en berekeningen'!$F$4/10000,0))*'Curves met UFR, zonder VA'!C173","v":3.4198293400560395E-2},{"$f":"('Curves met UFR, zonder VA'!D44+IF('Configuratie en berekeningen'!$D$4=\"Met VA\",'Configuratie en berekeningen'!$F$4/10000,0))*'Curves met UFR, zonder VA'!D173","v":3.4812560004152601E-2},{"$f":"('Curves met UFR, zonder VA'!E44+IF('Configuratie en berekeningen'!$D$4=\"Met VA\",'Configuratie en berekeningen'!$F$4/10000,0))*'Curves met UFR, zonder VA'!E173","v":3.5283139771179181E-2},{"$f":"('Curves met UFR, zonder VA'!F44+IF('Configuratie en berekeningen'!$D$4=\"Met VA\",'Configuratie en berekeningen'!$F$4/10000,0))*'Curves met UFR, zonder VA'!F173","v":3.566152323766196E-2},{"$f":"('Curves met UFR, zonder VA'!G44+IF('Configuratie en berekeningen'!$D$4=\"Met VA\",'Configuratie en berekeningen'!$F$4/10000,0))*'Curves met UFR, zonder VA'!G173","v":3.5956173900297081E-2},{"$f":"('Curves met UFR, zonder VA'!H44+IF('Configuratie en berekeningen'!$D$4=\"Met VA\",'Configuratie en berekeningen'!$F$4/10000,0))*'Curves met UFR, zonder VA'!H173","v":3.6173518818008718E-2},{"$f":"('Curves met UFR, zonder VA'!I44+IF('Configuratie en berekeningen'!$D$4=\"Met VA\",'Configuratie en berekeningen'!$F$4/10000,0))*'Curves met UFR, zonder VA'!I173","v":3.6299803259112792E-2},{"$f":"('Curves met UFR, zonder VA'!J44+IF('Configuratie en berekeningen'!$D$4=\"Met VA\",'Configuratie en berekeningen'!$F$4/10000,0))*'Curves met UFR, zonder VA'!J173","v":3.6387803447211084E-2},{"$f":"('Curves met UFR, zonder VA'!K44+IF('Configuratie en berekeningen'!$D$4=\"Met VA\",'Configuratie en berekeningen'!$F$4/10000,0))*'Curves met UFR, zonder VA'!K173","v":3.6416650072538179E-2},{"$f":"('Curves met UFR, zonder VA'!L44+IF('Configuratie en berekeningen'!$D$4=\"Met VA\",'Configuratie en berekeningen'!$F$4/10000,0))*'Curves met UFR, zonder VA'!L173","v":3.6367534603040472E-2},{"$f":"('Curves met UFR, zonder VA'!M44+IF('Configuratie en berekeningen'!$D$4=\"Met VA\",'Configuratie en berekeningen'!$F$4/10000,0))*'Curves met UFR, zonder VA'!M173","v":3.631118331320142E-2},{"$f":"('Curves met UFR, zonder VA'!N44+IF('Configuratie en berekeningen'!$D$4=\"Met VA\",'Configuratie en berekeningen'!$F$4/10000,0))*'Curves met UFR, zonder VA'!N173","v":3.6217642162610517E-2},{"$f":"('Curves met UFR, zonder VA'!O44+IF('Configuratie en berekeningen'!$D$4=\"Met VA\",'Configuratie en berekeningen'!$F$4/10000,0))*'Curves met UFR, zonder VA'!O173","v":3.6040957913764313E-2},{"$f":"('Curves met UFR, zonder VA'!P44+IF('Configuratie en berekeningen'!$D$4=\"Met VA\",'Configuratie en berekeningen'!$F$4/10000,0))*'Curves met UFR, zonder VA'!P173","v":3.5908981523574177E-2},{"$f":"('Curves met UFR, zonder VA'!Q44+IF('Configuratie en berekeningen'!$D$4=\"Met VA\",'Configuratie en berekeningen'!$F$4/10000,0))*'Curves met UFR, zonder VA'!Q173","v":3.5821579628441277E-2},{"$f":"('Curves met UFR, zonder VA'!R44+IF('Configuratie en berekeningen'!$D$4=\"Met VA\",'Configuratie en berekeningen'!$F$4/10000,0))*'Curves met UFR, zonder VA'!R173","v":3.5739800118471596E-2},{"$f":"('Curves met UFR, zonder VA'!S44+IF('Configuratie en berekeningen'!$D$4=\"Met VA\",'Configuratie en berekeningen'!$F$4/10000,0))*'Curves met UFR, zonder VA'!S173","v":3.5657051339017906E-2},{"$f":"('Curves met UFR, zonder VA'!T44+IF('Configuratie en berekeningen'!$D$4=\"Met VA\",'Configuratie en berekeningen'!$F$4/10000,0))*'Curves met UFR, zonder VA'!T173","v":3.5574868683670477E-2},{"$f":"('Curves met UFR, zonder VA'!U44+IF('Configuratie en berekeningen'!$D$4=\"Met VA\",'Configuratie en berekeningen'!$F$4/10000,0))*'Curves met UFR, zonder VA'!U173","v":3.5494803291468299E-2},{"$f":"('Curves met UFR, zonder VA'!V44+IF('Configuratie en berekeningen'!$D$4=\"Met VA\",'Configuratie en berekeningen'!$F$4/10000,0))*'Curves met UFR, zonder VA'!V173","v":3.541842968160773E-2}]
[20,{"$f":"('Curves met UFR, zonder VA'!B45+IF('Configuratie en berekeningen'!$D$4=\"Met VA\",'Configuratie en berekeningen'!$F$4/10000,0))*'Curves met UFR, zonder VA'!B174","v":0},{"$f":"('Curves met UFR, zonder VA'!C45+IF('Configuratie en berekeningen'!$D$4=\"Met VA\",'Configuratie en berekeningen'!$F$4/10000,0))*'Curves met UFR, zonder VA'!C174","v":0},{"$f":"('Curves met UFR, zonder VA'!D45+IF('Configuratie en berekeningen'!$D$4=\"Met VA\",'Configuratie en berekeningen'!$F$4/10000,0))*'Curves met UFR, zonder VA'!D174","v":0},{"$f":"('Curves met UFR, zonder VA'!E45+IF('Configuratie en berekeningen'!$D$4=\"Met VA\",'Configuratie en berekeningen'!$F$4/10000,0))*'Curves met UFR, zonder VA'!E174","v":0},{"$f":"('Curves met UFR, zonder VA'!F45+IF('Configuratie en berekeningen'!$D$4=\"Met VA\",'Configuratie en berekeningen'!$F$4/10000,0))*'Curves met UFR, zonder VA'!F174","v":0},{"$f":"('Curves met UFR, zonder VA'!G45+IF('Configuratie en berekeningen'!$D$4=\"Met VA\",'Configuratie en berekeningen'!$F$4/10000,0))*'Curves met UFR, zonder VA'!G174","v":0},{"$f":"('Curves met UFR, zonder VA'!H45+IF('Configuratie en berekeningen'!$D$4=\"Met VA\",'Configuratie en berekeningen'!$F$4/10000,0))*'Curves met UFR, zonder VA'!H174","v":0},{"$f":"('Curves met UFR, zonder VA'!I45+IF('Configuratie en berekeningen'!$D$4=\"Met VA\",'Configuratie en berekeningen'!$F$4/10000,0))*'Curves met UFR, zonder VA'!I174","v":0},{"$f":"('Curves met UFR, zonder VA'!J45+IF('Configuratie en berekeningen'!$D$4=\"Met VA\",'Configuratie en berekeningen'!$F$4/10000,0))*'Curves met UFR, zonder VA'!J174","v":0},{"$f":"('Curves met UFR, zonder VA'!K45+IF('Configuratie en berekeningen'!$D$4=\"Met VA\",'Configuratie en berekeningen'!$F$4/10000,0))*'Curves met UFR, zonder VA'!K174","v":0},{"$f":"('Curves met UFR, zonder VA'!L45+IF('Configuratie en berekeningen'!$D$4=\"Met VA\",'Configuratie en berekeningen'!$F$4/10000,0))*'Curves met UFR, zonder VA'!L174","v":0},{"$f":"('Curves met UFR, zonder VA'!M45+IF('Configuratie en berekeningen'!$D$4=\"Met VA\",'Configuratie en berekeningen'!$F$4/10000,0))*'Curves met UFR, zonder VA'!M174","v":0},{"$f":"('Curves met UFR, zonder VA'!N45+IF('Configuratie en berekeningen'!$D$4=\"Met VA\",'Configuratie en berekeningen'!$F$4/10000,0))*'Curves met UFR, zonder VA'!N174","v":0},{"$f":"('Curves met UFR, zonder VA'!O45+IF('Configuratie en berekeningen'!$D$4=\"Met VA\",'Configuratie en berekeningen'!$F$4/10000,0))*'Curves met UFR, zonder VA'!O174","v":0},{"$f":"('Curves met UFR, zonder VA'!P45+IF('Configuratie en berekeningen'!$D$4=\"Met VA\",'Configuratie en berekeningen'!$F$4/10000,0))*'Curves met UFR, zonder VA'!P174","v":0},{"$f":"('Curves met UFR, zonder VA'!Q45+IF('Configuratie en berekeningen'!$D$4=\"Met VA\",'Configuratie en berekeningen'!$F$4/10000,0))*'Curves met UFR, zonder VA'!Q174","v":0},{"$f":"('Curves met UFR, zonder VA'!R45+IF('Configuratie en berekeningen'!$D$4=\"Met VA\",'Configuratie en berekeningen'!$F$4/10000,0))*'Curves met UFR, zonder VA'!R174","v":0},{"$f":"('Curves met UFR, zonder VA'!S45+IF('Configuratie en berekeningen'!$D$4=\"Met VA\",'Configuratie en berekeningen'!$F$4/10000,0))*'Curves met UFR, zonder VA'!S174","v":0},{"$f":"('Curves met UFR, zonder VA'!T45+IF('Configuratie en berekeningen'!$D$4=\"Met VA\",'Configuratie en berekeningen'!$F$4/10000,0))*'Curves met UFR, zonder VA'!T174","v":0},{"$f":"('Curves met UFR, zonder VA'!U45+IF('Configuratie en berekeningen'!$D$4=\"Met VA\",'Configuratie en berekeningen'!$F$4/10000,0))*'Curves met UFR, zonder VA'!U174","v":0},{"$f":"('Curves met UFR, zonder VA'!V45+IF('Configuratie en berekeningen'!$D$4=\"Met VA\",'Configuratie en berekeningen'!$F$4/10000,0))*'Curves met UFR, zonder VA'!V174","v":0}]
[21,{"$f":"('Curves met UFR, zonder VA'!B46+IF('Configuratie en berekeningen'!$D$4=\"Met VA\",'Configuratie en berekeningen'!$F$4/10000,0))*'Curves met UFR, zonder VA'!B175","v":0},{"$f":"('Curves met UFR, zonder VA'!C46+IF('Configuratie en berekeningen'!$D$4=\"Met VA\",'Configuratie en berekeningen'!$F$4/10000,0))*'Curves met UFR, zonder VA'!C175","v":0},{"$f":"('Curves met UFR, zonder VA'!D46+IF('Configuratie en berekeningen'!$D$4=\"Met VA\",'Configuratie en berekeningen'!$F$4/10000,0))*'Curves met UFR, zonder VA'!D175","v":0},{"$f":"('Curves met UFR, zonder VA'!E46+IF('Configuratie en berekeningen'!$D$4=\"Met VA\",'Configuratie en berekeningen'!$F$4/10000,0))*'Curves met UFR, zonder VA'!E175","v":0},{"$f":"('Curves met UFR, zonder VA'!F46+IF('Configuratie en berekeningen'!$D$4=\"Met VA\",'Configuratie en berekeningen'!$F$4/10000,0))*'Curves met UFR, zonder VA'!F175","v":0},{"$f":"('Curves met UFR, zonder VA'!G46+IF('Configuratie en berekeningen'!$D$4=\"Met VA\",'Configuratie en berekeningen'!$F$4/10000,0))*'Curves met UFR, zonder VA'!G175","v":0},{"$f":"('Curves met UFR, zonder VA'!H46+IF('Configuratie en berekeningen'!$D$4=\"Met VA\",'Configuratie en berekeningen'!$F$4/10000,0))*'Curves met UFR, zonder VA'!H175","v":0},{"$f":"('Curves met UFR, zonder VA'!I46+IF('Configuratie en berekeningen'!$D$4=\"Met VA\",'Configuratie en berekeningen'!$F$4/10000,0))*'Curves met UFR, zonder VA'!I175","v":0},{"$f":"('Curves met UFR, zonder VA'!J46+IF('Configuratie en berekeningen'!$D$4=\"Met VA\",'Configuratie en berekeningen'!$F$4/10000,0))*'Curves met UFR, zonder VA'!J175","v":0},{"$f":"('Curves met UFR, zonder VA'!K46+IF('Configuratie en berekeningen'!$D$4=\"Met VA\",'Configuratie en berekeningen'!$F$4/10000,0))*'Curves met UFR, zonder VA'!K175","v":0},{"$f":"('Curves met UFR, zonder VA'!L46+IF('Configuratie en berekeningen'!$D$4=\"Met VA\",'Configuratie en berekeningen'!$F$4/10000,0))*'Curves met UFR, zonder VA'!L175","v":0},{"$f":"('Curves met UFR, zonder VA'!M46+IF('Configuratie en berekeningen'!$D$4=\"Met VA\",'Configuratie en berekeningen'!$F$4/10000,0))*'Curves met UFR, zonder VA'!M175","v":0},{"$f":"('Curves met UFR, zonder VA'!N46+IF('Configuratie en berekeningen'!$D$4=\"Met VA\",'Configuratie en berekeningen'!$F$4/10000,0))*'Curves met UFR, zonder VA'!N175","v":0},{"$f":"('Curves met UFR, zonder VA'!O46+IF('Configuratie en berekeningen'!$D$4=\"Met VA\",'Configuratie en berekeningen'!$F$4/10000,0))*'Curves met UFR, zonder VA'!O175","v":0},{"$f":"('Curves met UFR, zonder VA'!P46+IF('Configuratie en berekeningen'!$D$4=\"Met VA\",'Configuratie en berekeningen'!$F$4/10000,0))*'Curves met UFR, zonder VA'!P175","v":0},{"$f":"('Curves met UFR, zonder VA'!Q46+IF('Configuratie en berekeningen'!$D$4=\"Met VA\",'Configuratie en berekeningen'!$F$4/10000,0))*'Curves met UFR, zonder VA'!Q175","v":0},{"$f":"('Curves met UFR, zonder VA'!R46+IF('Configuratie en berekeningen'!$D$4=\"Met VA\",'Configuratie en berekeningen'!$F$4/10000,0))*'Curves met UFR, zonder VA'!R175","v":0},{"$f":"('Curves met UFR, zonder VA'!S46+IF('Configuratie en berekeningen'!$D$4=\"Met VA\",'Configuratie en berekeningen'!$F$4/10000,0))*'Curves met UFR, zonder VA'!S175","v":0},{"$f":"('Curves met UFR, zonder VA'!T46+IF('Configuratie en berekeningen'!$D$4=\"Met VA\",'Configuratie en berekeningen'!$F$4/10000,0))*'Curves met UFR, zonder VA'!T175","v":0},{"$f":"('Curves met UFR, zonder VA'!U46+IF('Configuratie en berekeningen'!$D$4=\"Met VA\",'Configuratie en berekeningen'!$F$4/10000,0))*'Curves met UFR, zonder VA'!U175","v":0},{"$f":"('Curves met UFR, zonder VA'!V46+IF('Configuratie en berekeningen'!$D$4=\"Met VA\",'Configuratie en berekeningen'!$F$4/10000,0))*'Curves met UFR, zonder VA'!V175","v":0}]
[22,{"$f":"('Curves met UFR, zonder VA'!B47+IF('Configuratie en berekeningen'!$D$4=\"Met VA\",'Configuratie en berekeningen'!$F$4/10000,0))*'Curves met UFR, zonder VA'!B176","v":0},{"$f":"('Curves met UFR, zonder VA'!C47+IF('Configuratie en berekeningen'!$D$4=\"Met VA\",'Configuratie en berekeningen'!$F$4/10000,0))*'Curves met UFR, zonder VA'!C176","v":0},{"$f":"('Curves met UFR, zonder VA'!D47+IF('Configuratie en berekeningen'!$D$4=\"Met VA\",'Configuratie en berekeningen'!$F$4/10000,0))*'Curves met UFR, zonder VA'!D176","v":0},{"$f":"('Curves met UFR, zonder VA'!E47+IF('Configuratie en berekeningen'!$D$4=\"Met VA\",'Configuratie en berekeningen'!$F$4/10000,0))*'Curves met UFR, zonder VA'!E176","v":0},{"$f":"('Curves met UFR, zonder VA'!F47+IF('Configuratie en berekeningen'!$D$4=\"Met VA\",'Configuratie en berekeningen'!$F$4/10000,0))*'Curves met UFR, zonder VA'!F176","v":0},{"$f":"('Curves met UFR, zonder VA'!G47+IF('Configuratie en berekeningen'!$D$4=\"Met VA\",'Configuratie en berekeningen'!$F$4/10000,0))*'Curves met UFR, zonder VA'!G176","v":0},{"$f":"('Curves met UFR, zonder VA'!H47+IF('Configuratie en berekeningen'!$D$4=\"Met VA\",'Configuratie en berekeningen'!$F$4/10000,0))*'Curves met UFR, zonder VA'!H176","v":0},{"$f":"('Curves met UFR, zonder VA'!I47+IF('Configuratie en berekeningen'!$D$4=\"Met VA\",'Configuratie en berekeningen'!$F$4/10000,0))*'Curves met UFR, zonder VA'!I176","v":0},{"$f":"('Curves met UFR, zonder VA'!J47+IF('Configuratie en berekeningen'!$D$4=\"Met VA\",'Configuratie en berekeningen'!$F$4/10000,0))*'Curves met UFR, zonder VA'!J176","v":0},{"$f":"('Curves met UFR, zonder VA'!K47+IF('Configuratie en berekeningen'!$D$4=\"Met VA\",'Configuratie en berekeningen'!$F$4/10000,0))*'Curves met UFR, zonder VA'!K176","v":0},{"$f":"('Curves met UFR, zonder VA'!L47+IF('Configuratie en berekeningen'!$D$4=\"Met VA\",'Configuratie en berekeningen'!$F$4/10000,0))*'Curves met UFR, zonder VA'!L176","v":0},{"$f":"('Curves met UFR, zonder VA'!M47+IF('Configuratie en berekeningen'!$D$4=\"Met VA\",'Configuratie en berekeningen'!$F$4/10000,0))*'Curves met UFR, zonder VA'!M176","v":0},{"$f":"('Curves met UFR, zonder VA'!N47+IF('Configuratie en berekeningen'!$D$4=\"Met VA\",'Configuratie en berekeningen'!$F$4/10000,0))*'Curves met UFR, zonder VA'!N176","v":0},{"$f":"('Curves met UFR, zonder VA'!O47+IF('Configuratie en berekeningen'!$D$4=\"Met VA\",'Configuratie en berekeningen'!$F$4/10000,0))*'Curves met UFR, zonder VA'!O176","v":0},{"$f":"('Curves met UFR, zonder VA'!P47+IF('Configuratie en berekeningen'!$D$4=\"Met VA\",'Configuratie en berekeningen'!$F$4/10000,0))*'Curves met UFR, zonder VA'!P176","v":0},{"$f":"('Curves met UFR, zonder VA'!Q47+IF('Configuratie en berekeningen'!$D$4=\"Met VA\",'Configuratie en berekeningen'!$F$4/10000,0))*'Curves met UFR, zonder VA'!Q176","v":0},{"$f":"('Curves met UFR, zonder VA'!R47+IF('Configuratie en berekeningen'!$D$4=\"Met VA\",'Configuratie en berekeningen'!$F$4/10000,0))*'Curves met UFR, zonder VA'!R176","v":0},{"$f":"('Curves met UFR, zonder VA'!S47+IF('Configuratie en berekeningen'!$D$4=\"Met VA\",'Configuratie en berekeningen'!$F$4/10000,0))*'Curves met UFR, zonder VA'!S176","v":0},{"$f":"('Curves met UFR, zonder VA'!T47+IF('Configuratie en berekeningen'!$D$4=\"Met VA\",'Configuratie en berekeningen'!$F$4/10000,0))*'Curves met UFR, zonder VA'!T176","v":0},{"$f":"('Curves met UFR, zonder VA'!U47+IF('Configuratie en berekeningen'!$D$4=\"Met VA\",'Configuratie en berekeningen'!$F$4/10000,0))*'Curves met UFR, zonder VA'!U176","v":0},{"$f":"('Curves met UFR, zonder VA'!V47+IF('Configuratie en berekeningen'!$D$4=\"Met VA\",'Configuratie en berekeningen'!$F$4/10000,0))*'Curves met UFR, zonder VA'!V176","v":0}]
[23,{"$f":"('Curves met UFR, zonder VA'!B48+IF('Configuratie en berekeningen'!$D$4=\"Met VA\",'Configuratie en berekeningen'!$F$4/10000,0))*'Curves met UFR, zonder VA'!B177","v":0},{"$f":"('Curves met UFR, zonder VA'!C48+IF('Configuratie en berekeningen'!$D$4=\"Met VA\",'Configuratie en berekeningen'!$F$4/10000,0))*'Curves met UFR, zonder VA'!C177","v":0},{"$f":"('Curves met UFR, zonder VA'!D48+IF('Configuratie en berekeningen'!$D$4=\"Met VA\",'Configuratie en berekeningen'!$F$4/10000,0))*'Curves met UFR, zonder VA'!D177","v":0},{"$f":"('Curves met UFR, zonder VA'!E48+IF('Configuratie en berekeningen'!$D$4=\"Met VA\",'Configuratie en berekeningen'!$F$4/10000,0))*'Curves met UFR, zonder VA'!E177","v":0},{"$f":"('Curves met UFR, zonder VA'!F48+IF('Configuratie en berekeningen'!$D$4=\"Met VA\",'Configuratie en berekeningen'!$F$4/10000,0))*'Curves met UFR, zonder VA'!F177","v":0},{"$f":"('Curves met UFR, zonder VA'!G48+IF('Configuratie en berekeningen'!$D$4=\"Met VA\",'Configuratie en berekeningen'!$F$4/10000,0))*'Curves met UFR, zonder VA'!G177","v":0},{"$f":"('Curves met UFR, zonder VA'!H48+IF('Configuratie en berekeningen'!$D$4=\"Met VA\",'Configuratie en berekeningen'!$F$4/10000,0))*'Curves met UFR, zonder VA'!H177","v":0},{"$f":"('Curves met UFR, zonder VA'!I48+IF('Configuratie en berekeningen'!$D$4=\"Met VA\",'Configuratie en berekeningen'!$F$4/10000,0))*'Curves met UFR, zonder VA'!I177","v":0},{"$f":"('Curves met UFR, zonder VA'!J48+IF('Configuratie en berekeningen'!$D$4=\"Met VA\",'Configuratie en berekeningen'!$F$4/10000,0))*'Curves met UFR, zonder VA'!J177","v":0},{"$f":"('Curves met UFR, zonder VA'!K48+IF('Configuratie en berekeningen'!$D$4=\"Met VA\",'Configuratie en berekeningen'!$F$4/10000,0))*'Curves met UFR, zonder VA'!K177","v":0},{"$f":"('Curves met UFR, zonder VA'!L48+IF('Configuratie en berekeningen'!$D$4=\"Met VA\",'Configuratie en berekeningen'!$F$4/10000,0))*'Curves met UFR, zonder VA'!L177","v":0},{"$f":"('Curves met UFR, zonder VA'!M48+IF('Configuratie en berekeningen'!$D$4=\"Met VA\",'Configuratie en berekeningen'!$F$4/10000,0))*'Curves met UFR, zonder VA'!M177","v":0},{"$f":"('Curves met UFR, zonder VA'!N48+IF('Configuratie en berekeningen'!$D$4=\"Met VA\",'Configuratie en berekeningen'!$F$4/10000,0))*'Curves met UFR, zonder VA'!N177","v":0},{"$f":"('Curves met UFR, zonder VA'!O48+IF('Configuratie en berekeningen'!$D$4=\"Met VA\",'Configuratie en berekeningen'!$F$4/10000,0))*'Curves met UFR, zonder VA'!O177","v":0},{"$f":"('Curves met UFR, zonder VA'!P48+IF('Configuratie en berekeningen'!$D$4=\"Met VA\",'Configuratie en berekeningen'!$F$4/10000,0))*'Curves met UFR, zonder VA'!P177","v":0},{"$f":"('Curves met UFR, zonder VA'!Q48+IF('Configuratie en berekeningen'!$D$4=\"Met VA\",'Configuratie en berekeningen'!$F$4/10000,0))*'Curves met UFR, zonder VA'!Q177","v":0},{"$f":"('Curves met UFR, zonder VA'!R48+IF('Configuratie en berekeningen'!$D$4=\"Met VA\",'Configuratie en berekeningen'!$F$4/10000,0))*'Curves met UFR, zonder VA'!R177","v":0},{"$f":"('Curves met UFR, zonder VA'!S48+IF('Configuratie en berekeningen'!$D$4=\"Met VA\",'Configuratie en berekeningen'!$F$4/10000,0))*'Curves met UFR, zonder VA'!S177","v":0},{"$f":"('Curves met UFR, zonder VA'!T48+IF('Configuratie en berekeningen'!$D$4=\"Met VA\",'Configuratie en berekeningen'!$F$4/10000,0))*'Curves met UFR, zonder VA'!T177","v":0},{"$f":"('Curves met UFR, zonder VA'!U48+IF('Configuratie en berekeningen'!$D$4=\"Met VA\",'Configuratie en berekeningen'!$F$4/10000,0))*'Curves met UFR, zonder VA'!U177","v":0},{"$f":"('Curves met UFR, zonder VA'!V48+IF('Configuratie en berekeningen'!$D$4=\"Met VA\",'Configuratie en berekeningen'!$F$4/10000,0))*'Curves met UFR, zonder VA'!V177","v":0}]
[24,{"$f":"('Curves met UFR, zonder VA'!B49+IF('Configuratie en berekeningen'!$D$4=\"Met VA\",'Configuratie en berekeningen'!$F$4/10000,0))*'Curves met UFR, zonder VA'!B178","v":0},{"$f":"('Curves met UFR, zonder VA'!C49+IF('Configuratie en berekeningen'!$D$4=\"Met VA\",'Configuratie en berekeningen'!$F$4/10000,0))*'Curves met UFR, zonder VA'!C178","v":0},{"$f":"('Curves met UFR, zonder VA'!D49+IF('Configuratie en berekeningen'!$D$4=\"Met VA\",'Configuratie en berekeningen'!$F$4/10000,0))*'Curves met UFR, zonder VA'!D178","v":0},{"$f":"('Curves met UFR, zonder VA'!E49+IF('Configuratie en berekeningen'!$D$4=\"Met VA\",'Configuratie en berekeningen'!$F$4/10000,0))*'Curves met UFR, zonder VA'!E178","v":0},{"$f":"('Curves met UFR, zonder VA'!F49+IF('Configuratie en berekeningen'!$D$4=\"Met VA\",'Configuratie en berekeningen'!$F$4/10000,0))*'Curves met UFR, zonder VA'!F178","v":0},{"$f":"('Curves met UFR, zonder VA'!G49+IF('Configuratie en berekeningen'!$D$4=\"Met VA\",'Configuratie en berekeningen'!$F$4/10000,0))*'Curves met UFR, zonder VA'!G178","v":0},{"$f":"('Curves met UFR, zonder VA'!H49+IF('Configuratie en berekeningen'!$D$4=\"Met VA\",'Configuratie en berekeningen'!$F$4/10000,0))*'Curves met UFR, zonder VA'!H178","v":0},{"$f":"('Curves met UFR, zonder VA'!I49+IF('Configuratie en berekeningen'!$D$4=\"Met VA\",'Configuratie en berekeningen'!$F$4/10000,0))*'Curves met UFR, zonder VA'!I178","v":0},{"$f":"('Curves met UFR, zonder VA'!J49+IF('Configuratie en berekeningen'!$D$4=\"Met VA\",'Configuratie en berekeningen'!$F$4/10000,0))*'Curves met UFR, zonder VA'!J178","v":0},{"$f":"('Curves met UFR, zonder VA'!K49+IF('Configuratie en berekeningen'!$D$4=\"Met VA\",'Configuratie en berekeningen'!$F$4/10000,0))*'Curves met UFR, zonder VA'!K178","v":0},{"$f":"('Curves met UFR, zonder VA'!L49+IF('Configuratie en berekeningen'!$D$4=\"Met VA\",'Configuratie en berekeningen'!$F$4/10000,0))*'Curves met UFR, zonder VA'!L178","v":0},{"$f":"('Curves met UFR, zonder VA'!M49+IF('Configuratie en berekeningen'!$D$4=\"Met VA\",'Configuratie en berekeningen'!$F$4/10000,0))*'Curves met UFR, zonder VA'!M178","v":0},{"$f":"('Curves met UFR, zonder VA'!N49+IF('Configuratie en berekeningen'!$D$4=\"Met VA\",'Configuratie en berekeningen'!$F$4/10000,0))*'Curves met UFR, zonder VA'!N178","v":0},{"$f":"('Curves met UFR, zonder VA'!O49+IF('Configuratie en berekeningen'!$D$4=\"Met VA\",'Configuratie en berekeningen'!$F$4/10000,0))*'Curves met UFR, zonder VA'!O178","v":0},{"$f":"('Curves met UFR, zonder VA'!P49+IF('Configuratie en berekeningen'!$D$4=\"Met VA\",'Configuratie en berekeningen'!$F$4/10000,0))*'Curves met UFR, zonder VA'!P178","v":0},{"$f":"('Curves met UFR, zonder VA'!Q49+IF('Configuratie en berekeningen'!$D$4=\"Met VA\",'Configuratie en berekeningen'!$F$4/10000,0))*'Curves met UFR, zonder VA'!Q178","v":0},{"$f":"('Curves met UFR, zonder VA'!R49+IF('Configuratie en berekeningen'!$D$4=\"Met VA\",'Configuratie en berekeningen'!$F$4/10000,0))*'Curves met UFR, zonder VA'!R178","v":0},{"$f":"('Curves met UFR, zonder VA'!S49+IF('Configuratie en berekeningen'!$D$4=\"Met VA\",'Configuratie en berekeningen'!$F$4/10000,0))*'Curves met UFR, zonder VA'!S178","v":0},{"$f":"('Curves met UFR, zonder VA'!T49+IF('Configuratie en berekeningen'!$D$4=\"Met VA\",'Configuratie en berekeningen'!$F$4/10000,0))*'Curves met UFR, zonder VA'!T178","v":0},{"$f":"('Curves met UFR, zonder VA'!U49+IF('Configuratie en berekeningen'!$D$4=\"Met VA\",'Configuratie en berekeningen'!$F$4/10000,0))*'Curves met UFR, zonder VA'!U178","v":0},{"$f":"('Curves met UFR, zonder VA'!V49+IF('Configuratie en berekeningen'!$D$4=\"Met VA\",'Configuratie en berekeningen'!$F$4/10000,0))*'Curves met UFR, zonder VA'!V178","v":0}]
[25,{"$f":"('Curves met UFR, zonder VA'!B50+IF('Configuratie en berekeningen'!$D$4=\"Met VA\",'Configuratie en berekeningen'!$F$4/10000,0))*'Curves met UFR, zonder VA'!B179","v":0},{"$f":"('Curves met UFR, zonder VA'!C50+IF('Configuratie en berekeningen'!$D$4=\"Met VA\",'Configuratie en berekeningen'!$F$4/10000,0))*'Curves met UFR, zonder VA'!C179","v":0},{"$f":"('Curves met UFR, zonder VA'!D50+IF('Configuratie en berekeningen'!$D$4=\"Met VA\",'Configuratie en berekeningen'!$F$4/10000,0))*'Curves met UFR, zonder VA'!D179","v":0},{"$f":"('Curves met UFR, zonder VA'!E50+IF('Configuratie en berekeningen'!$D$4=\"Met VA\",'Configuratie en berekeningen'!$F$4/10000,0))*'Curves met UFR, zonder VA'!E179","v":0},{"$f":"('Curves met UFR, zonder VA'!F50+IF('Configuratie en berekeningen'!$D$4=\"Met VA\",'Configuratie en berekeningen'!$F$4/10000,0))*'Curves met UFR, zonder VA'!F179","v":0},{"$f":"('Curves met UFR, zonder VA'!G50+IF('Configuratie en berekeningen'!$D$4=\"Met VA\",'Configuratie en berekeningen'!$F$4/10000,0))*'Curves met UFR, zonder VA'!G179","v":0},{"$f":"('Curves met UFR, zonder VA'!H50+IF('Configuratie en berekeningen'!$D$4=\"Met VA\",'Configuratie en berekeningen'!$F$4/10000,0))*'Curves met UFR, zonder VA'!H179","v":0},{"$f":"('Curves met UFR, zonder VA'!I50+IF('Configuratie en berekeningen'!$D$4=\"Met VA\",'Configuratie en berekeningen'!$F$4/10000,0))*'Curves met UFR, zonder VA'!I179","v":0},{"$f":"('Curves met UFR, zonder VA'!J50+IF('Configuratie en berekeningen'!$D$4=\"Met VA\",'Configuratie en berekeningen'!$F$4/10000,0))*'Curves met UFR, zonder VA'!J179","v":0},{"$f":"('Curves met UFR, zonder VA'!K50+IF('Configuratie en berekeningen'!$D$4=\"Met VA\",'Configuratie en berekeningen'!$F$4/10000,0))*'Curves met UFR, zonder VA'!K179","v":0},{"$f":"('Curves met UFR, zonder VA'!L50+IF('Configuratie en berekeningen'!$D$4=\"Met VA\",'Configuratie en berekeningen'!$F$4/10000,0))*'Curves met UFR, zonder VA'!L179","v":0},{"$f":"('Curves met UFR, zonder VA'!M50+IF('Configuratie en berekeningen'!$D$4=\"Met VA\",'Configuratie en berekeningen'!$F$4/10000,0))*'Curves met UFR, zonder VA'!M179","v":0},{"$f":"('Curves met UFR, zonder VA'!N50+IF('Configuratie en berekeningen'!$D$4=\"Met VA\",'Configuratie en berekeningen'!$F$4/10000,0))*'Curves met UFR, zonder VA'!N179","v":0},{"$f":"('Curves met UFR, zonder VA'!O50+IF('Configuratie en berekeningen'!$D$4=\"Met VA\",'Configuratie en berekeningen'!$F$4/10000,0))*'Curves met UFR, zonder VA'!O179","v":0},{"$f":"('Curves met UFR, zonder VA'!P50+IF('Configuratie en berekeningen'!$D$4=\"Met VA\",'Configuratie en berekeningen'!$F$4/10000,0))*'Curves met UFR, zonder VA'!P179","v":0},{"$f":"('Curves met UFR, zonder VA'!Q50+IF('Configuratie en berekeningen'!$D$4=\"Met VA\",'Configuratie en berekeningen'!$F$4/10000,0))*'Curves met UFR, zonder VA'!Q179","v":0},{"$f":"('Curves met UFR, zonder VA'!R50+IF('Configuratie en berekeningen'!$D$4=\"Met VA\",'Configuratie en berekeningen'!$F$4/10000,0))*'Curves met UFR, zonder VA'!R179","v":0},{"$f":"('Curves met UFR, zonder VA'!S50+IF('Configuratie en berekeningen'!$D$4=\"Met VA\",'Configuratie en berekeningen'!$F$4/10000,0))*'Curves met UFR, zonder VA'!S179","v":0},{"$f":"('Curves met UFR, zonder VA'!T50+IF('Configuratie en berekeningen'!$D$4=\"Met VA\",'Configuratie en berekeningen'!$F$4/10000,0))*'Curves met UFR, zonder VA'!T179","v":0},{"$f":"('Curves met UFR, zonder VA'!U50+IF('Configuratie en berekeningen'!$D$4=\"Met VA\",'Configuratie en berekeningen'!$F$4/10000,0))*'Curves met UFR, zonder VA'!U179","v":0},{"$f":"('Curves met UFR, zonder VA'!V50+IF('Configuratie en berekeningen'!$D$4=\"Met VA\",'Configuratie en berekeningen'!$F$4/10000,0))*'Curves met UFR, zonder VA'!V179","v":0}]
[26,{"$f":"('Curves met UFR, zonder VA'!B51+IF('Configuratie en berekeningen'!$D$4=\"Met VA\",'Configuratie en berekeningen'!$F$4/10000,0))*'Curves met UFR, zonder VA'!B180","v":0},{"$f":"('Curves met UFR, zonder VA'!C51+IF('Configuratie en berekeningen'!$D$4=\"Met VA\",'Configuratie en berekeningen'!$F$4/10000,0))*'Curves met UFR, zonder VA'!C180","v":0},{"$f":"('Curves met UFR, zonder VA'!D51+IF('Configuratie en berekeningen'!$D$4=\"Met VA\",'Configuratie en berekeningen'!$F$4/10000,0))*'Curves met UFR, zonder VA'!D180","v":0},{"$f":"('Curves met UFR, zonder VA'!E51+IF('Configuratie en berekeningen'!$D$4=\"Met VA\",'Configuratie en berekeningen'!$F$4/10000,0))*'Curves met UFR, zonder VA'!E180","v":0},{"$f":"('Curves met UFR, zonder VA'!F51+IF('Configuratie en berekeningen'!$D$4=\"Met VA\",'Configuratie en berekeningen'!$F$4/10000,0))*'Curves met UFR, zonder VA'!F180","v":0},{"$f":"('Curves met UFR, zonder VA'!G51+IF('Configuratie en berekeningen'!$D$4=\"Met VA\",'Configuratie en berekeningen'!$F$4/10000,0))*'Curves met UFR, zonder VA'!G180","v":0},{"$f":"('Curves met UFR, zonder VA'!H51+IF('Configuratie en berekeningen'!$D$4=\"Met VA\",'Configuratie en berekeningen'!$F$4/10000,0))*'Curves met UFR, zonder VA'!H180","v":0},{"$f":"('Curves met UFR, zonder VA'!I51+IF('Configuratie en berekeningen'!$D$4=\"Met VA\",'Configuratie en berekeningen'!$F$4/10000,0))*'Curves met UFR, zonder VA'!I180","v":0},{"$f":"('Curves met UFR, zonder VA'!J51+IF('Configuratie en berekeningen'!$D$4=\"Met VA\",'Configuratie en berekeningen'!$F$4/10000,0))*'Curves met UFR, zonder VA'!J180","v":0},{"$f":"('Curves met UFR, zonder VA'!K51+IF('Configuratie en berekeningen'!$D$4=\"Met VA\",'Configuratie en berekeningen'!$F$4/10000,0))*'Curves met UFR, zonder VA'!K180","v":0},{"$f":"('Curves met UFR, zonder VA'!L51+IF('Configuratie en berekeningen'!$D$4=\"Met VA\",'Configuratie en berekeningen'!$F$4/10000,0))*'Curves met UFR, zonder VA'!L180","v":0},{"$f":"('Curves met UFR, zonder VA'!M51+IF('Configuratie en berekeningen'!$D$4=\"Met VA\",'Configuratie en berekeningen'!$F$4/10000,0))*'Curves met UFR, zonder VA'!M180","v":0},{"$f":"('Curves met UFR, zonder VA'!N51+IF('Configuratie en berekeningen'!$D$4=\"Met VA\",'Configuratie en berekeningen'!$F$4/10000,0))*'Curves met UFR, zonder VA'!N180","v":0},{"$f":"('Curves met UFR, zonder VA'!O51+IF('Configuratie en berekeningen'!$D$4=\"Met VA\",'Configuratie en berekeningen'!$F$4/10000,0))*'Curves met UFR, zonder VA'!O180","v":0},{"$f":"('Curves met UFR, zonder VA'!P51+IF('Configuratie en berekeningen'!$D$4=\"Met VA\",'Configuratie en berekeningen'!$F$4/10000,0))*'Curves met UFR, zonder VA'!P180","v":0},{"$f":"('Curves met UFR, zonder VA'!Q51+IF('Configuratie en berekeningen'!$D$4=\"Met VA\",'Configuratie en berekeningen'!$F$4/10000,0))*'Curves met UFR, zonder VA'!Q180","v":0},{"$f":"('Curves met UFR, zonder VA'!R51+IF('Configuratie en berekeningen'!$D$4=\"Met VA\",'Configuratie en berekeningen'!$F$4/10000,0))*'Curves met UFR, zonder VA'!R180","v":0},{"$f":"('Curves met UFR, zonder VA'!S51+IF('Configuratie en berekeningen'!$D$4=\"Met VA\",'Configuratie en berekeningen'!$F$4/10000,0))*'Curves met UFR, zonder VA'!S180","v":0},{"$f":"('Curves met UFR, zonder VA'!T51+IF('Configuratie en berekeningen'!$D$4=\"Met VA\",'Configuratie en berekeningen'!$F$4/10000,0))*'Curves met UFR, zonder VA'!T180","v":0},{"$f":"('Curves met UFR, zonder VA'!U51+IF('Configuratie en berekeningen'!$D$4=\"Met VA\",'Configuratie en berekeningen'!$F$4/10000,0))*'Curves met UFR, zonder VA'!U180","v":0},{"$f":"('Curves met UFR, zonder VA'!V51+IF('Configuratie en berekeningen'!$D$4=\"Met VA\",'Configuratie en berekeningen'!$F$4/10000,0))*'Curves met UFR, zonder VA'!V180","v":0}]
[27,{"$f":"('Curves met UFR, zonder VA'!B52+IF('Configuratie en berekeningen'!$D$4=\"Met VA\",'Configuratie en berekeningen'!$F$4/10000,0))*'Curves met UFR, zonder VA'!B181","v":0},{"$f":"('Curves met UFR, zonder VA'!C52+IF('Configuratie en berekeningen'!$D$4=\"Met VA\",'Configuratie en berekeningen'!$F$4/10000,0))*'Curves met UFR, zonder VA'!C181","v":0},{"$f":"('Curves met UFR, zonder VA'!D52+IF('Configuratie en berekeningen'!$D$4=\"Met VA\",'Configuratie en berekeningen'!$F$4/10000,0))*'Curves met UFR, zonder VA'!D181","v":0},{"$f":"('Curves met UFR, zonder VA'!E52+IF('Configuratie en berekeningen'!$D$4=\"Met VA\",'Configuratie en berekeningen'!$F$4/10000,0))*'Curves met UFR, zonder VA'!E181","v":0},{"$f":"('Curves met UFR, zonder VA'!F52+IF('Configuratie en berekeningen'!$D$4=\"Met VA\",'Configuratie en berekeningen'!$F$4/10000,0))*'Curves met UFR, zonder VA'!F181","v":0},{"$f":"('Curves met UFR, zonder VA'!G52+IF('Configuratie en berekeningen'!$D$4=\"Met VA\",'Configuratie en berekeningen'!$F$4/10000,0))*'Curves met UFR, zonder VA'!G181","v":0},{"$f":"('Curves met UFR, zonder VA'!H52+IF('Configuratie en berekeningen'!$D$4=\"Met VA\",'Configuratie en berekeningen'!$F$4/10000,0))*'Curves met UFR, zonder VA'!H181","v":0},{"$f":"('Curves met UFR, zonder VA'!I52+IF('Configuratie en berekeningen'!$D$4=\"Met VA\",'Configuratie en berekeningen'!$F$4/10000,0))*'Curves met UFR, zonder VA'!I181","v":0},{"$f":"('Curves met UFR, zonder VA'!J52+IF('Configuratie en berekeningen'!$D$4=\"Met VA\",'Configuratie en berekeningen'!$F$4/10000,0))*'Curves met UFR, zonder VA'!J181","v":0},{"$f":"('Curves met UFR, zonder VA'!K52+IF('Configuratie en berekeningen'!$D$4=\"Met VA\",'Configuratie en berekeningen'!$F$4/10000,0))*'Curves met UFR, zonder VA'!K181","v":0},{"$f":"('Curves met UFR, zonder VA'!L52+IF('Configuratie en berekeningen'!$D$4=\"Met VA\",'Configuratie en berekeningen'!$F$4/10000,0))*'Curves met UFR, zonder VA'!L181","v":0},{"$f":"('Curves met UFR, zonder VA'!M52+IF('Configuratie en berekeningen'!$D$4=\"Met VA\",'Configuratie en berekeningen'!$F$4/10000,0))*'Curves met UFR, zonder VA'!M181","v":0},{"$f":"('Curves met UFR, zonder VA'!N52+IF('Configuratie en berekeningen'!$D$4=\"Met VA\",'Configuratie en berekeningen'!$F$4/10000,0))*'Curves met UFR, zonder VA'!N181","v":0},{"$f":"('Curves met UFR, zonder VA'!O52+IF('Configuratie en berekeningen'!$D$4=\"Met VA\",'Configuratie en berekeningen'!$F$4/10000,0))*'Curves met UFR, zonder VA'!O181","v":0},{"$f":"('Curves met UFR, zonder VA'!P52+IF('Configuratie en berekeningen'!$D$4=\"Met VA\",'Configuratie en berekeningen'!$F$4/10000,0))*'Curves met UFR, zonder VA'!P181","v":0},{"$f":"('Curves met UFR, zonder VA'!Q52+IF('Configuratie en berekeningen'!$D$4=\"Met VA\",'Configuratie en berekeningen'!$F$4/10000,0))*'Curves met UFR, zonder VA'!Q181","v":0},{"$f":"('Curves met UFR, zonder VA'!R52+IF('Configuratie en berekeningen'!$D$4=\"Met VA\",'Configuratie en berekeningen'!$F$4/10000,0))*'Curves met UFR, zonder VA'!R181","v":0},{"$f":"('Curves met UFR, zonder VA'!S52+IF('Configuratie en berekeningen'!$D$4=\"Met VA\",'Configuratie en berekeningen'!$F$4/10000,0))*'Curves met UFR, zonder VA'!S181","v":0},{"$f":"('Curves met UFR, zonder VA'!T52+IF('Configuratie en berekeningen'!$D$4=\"Met VA\",'Configuratie en berekeningen'!$F$4/10000,0))*'Curves met UFR, zonder VA'!T181","v":0},{"$f":"('Curves met UFR, zonder VA'!U52+IF('Configuratie en berekeningen'!$D$4=\"Met VA\",'Configuratie en berekeningen'!$F$4/10000,0))*'Curves met UFR, zonder VA'!U181","v":0},{"$f":"('Curves met UFR, zonder VA'!V52+IF('Configuratie en berekeningen'!$D$4=\"Met VA\",'Configuratie en berekeningen'!$F$4/10000,0))*'Curves met UFR, zonder VA'!V181","v":0}]
[28,{"$f":"('Curves met UFR, zonder VA'!B53+IF('Configuratie en berekeningen'!$D$4=\"Met VA\",'Configuratie en berekeningen'!$F$4/10000,0))*'Curves met UFR, zonder VA'!B182","v":0},{"$f":"('Curves met UFR, zonder VA'!C53+IF('Configuratie en berekeningen'!$D$4=\"Met VA\",'Configuratie en berekeningen'!$F$4/10000,0))*'Curves met UFR, zonder VA'!C182","v":0},{"$f":"('Curves met UFR, zonder VA'!D53+IF('Configuratie en berekeningen'!$D$4=\"Met VA\",'Configuratie en berekeningen'!$F$4/10000,0))*'Curves met UFR, zonder VA'!D182","v":0},{"$f":"('Curves met UFR, zonder VA'!E53+IF('Configuratie en berekeningen'!$D$4=\"Met VA\",'Configuratie en berekeningen'!$F$4/10000,0))*'Curves met UFR, zonder VA'!E182","v":0},{"$f":"('Curves met UFR, zonder VA'!F53+IF('Configuratie en berekeningen'!$D$4=\"Met VA\",'Configuratie en berekeningen'!$F$4/10000,0))*'Curves met UFR, zonder VA'!F182","v":0},{"$f":"('Curves met UFR, zonder VA'!G53+IF('Configuratie en berekeningen'!$D$4=\"Met VA\",'Configuratie en berekeningen'!$F$4/10000,0))*'Curves met UFR, zonder VA'!G182","v":0},{"$f":"('Curves met UFR, zonder VA'!H53+IF('Configuratie en berekeningen'!$D$4=\"Met VA\",'Configuratie en berekeningen'!$F$4/10000,0))*'Curves met UFR, zonder VA'!H182","v":0},{"$f":"('Curves met UFR, zonder VA'!I53+IF('Configuratie en berekeningen'!$D$4=\"Met VA\",'Configuratie en berekeningen'!$F$4/10000,0))*'Curves met UFR, zonder VA'!I182","v":0},{"$f":"('Curves met UFR, zonder VA'!J53+IF('Configuratie en berekeningen'!$D$4=\"Met VA\",'Configuratie en berekeningen'!$F$4/10000,0))*'Curves met UFR, zonder VA'!J182","v":0},{"$f":"('Curves met UFR, zonder VA'!K53+IF('Configuratie en berekeningen'!$D$4=\"Met VA\",'Configuratie en berekeningen'!$F$4/10000,0))*'Curves met UFR, zonder VA'!K182","v":0},{"$f":"('Curves met UFR, zonder VA'!L53+IF('Configuratie en berekeningen'!$D$4=\"Met VA\",'Configuratie en berekeningen'!$F$4/10000,0))*'Curves met UFR, zonder VA'!L182","v":0},{"$f":"('Curves met UFR, zonder VA'!M53+IF('Configuratie en berekeningen'!$D$4=\"Met VA\",'Configuratie en berekeningen'!$F$4/10000,0))*'Curves met UFR, zonder VA'!M182","v":0},{"$f":"('Curves met UFR, zonder VA'!N53+IF('Configuratie en berekeningen'!$D$4=\"Met VA\",'Configuratie en berekeningen'!$F$4/10000,0))*'Curves met UFR, zonder VA'!N182","v":0},{"$f":"('Curves met UFR, zonder VA'!O53+IF('Configuratie en berekeningen'!$D$4=\"Met VA\",'Configuratie en berekeningen'!$F$4/10000,0))*'Curves met UFR, zonder VA'!O182","v":0},{"$f":"('Curves met UFR, zonder VA'!P53+IF('Configuratie en berekeningen'!$D$4=\"Met VA\",'Configuratie en berekeningen'!$F$4/10000,0))*'Curves met UFR, zonder VA'!P182","v":0},{"$f":"('Curves met UFR, zonder VA'!Q53+IF('Configuratie en berekeningen'!$D$4=\"Met VA\",'Configuratie en berekeningen'!$F$4/10000,0))*'Curves met UFR, zonder VA'!Q182","v":0},{"$f":"('Curves met UFR, zonder VA'!R53+IF('Configuratie en berekeningen'!$D$4=\"Met VA\",'Configuratie en berekeningen'!$F$4/10000,0))*'Curves met UFR, zonder VA'!R182","v":0},{"$f":"('Curves met UFR, zonder VA'!S53+IF('Configuratie en berekeningen'!$D$4=\"Met VA\",'Configuratie en berekeningen'!$F$4/10000,0))*'Curves met UFR, zonder VA'!S182","v":0},{"$f":"('Curves met UFR, zonder VA'!T53+IF('Configuratie en berekeningen'!$D$4=\"Met VA\",'Configuratie en berekeningen'!$F$4/10000,0))*'Curves met UFR, zonder VA'!T182","v":0},{"$f":"('Curves met UFR, zonder VA'!U53+IF('Configuratie en berekeningen'!$D$4=\"Met VA\",'Configuratie en berekeningen'!$F$4/10000,0))*'Curves met UFR, zonder VA'!U182","v":0},{"$f":"('Curves met UFR, zonder VA'!V53+IF('Configuratie en berekeningen'!$D$4=\"Met VA\",'Configuratie en berekeningen'!$F$4/10000,0))*'Curves met UFR, zonder VA'!V182","v":0}]
[29,{"$f":"('Curves met UFR, zonder VA'!B54+IF('Configuratie en berekeningen'!$D$4=\"Met VA\",'Configuratie en berekeningen'!$F$4/10000,0))*'Curves met UFR, zonder VA'!B183","v":0},{"$f":"('Curves met UFR, zonder VA'!C54+IF('Configuratie en berekeningen'!$D$4=\"Met VA\",'Configuratie en berekeningen'!$F$4/10000,0))*'Curves met UFR, zonder VA'!C183","v":0},{"$f":"('Curves met UFR, zonder VA'!D54+IF('Configuratie en berekeningen'!$D$4=\"Met VA\",'Configuratie en berekeningen'!$F$4/10000,0))*'Curves met UFR, zonder VA'!D183","v":0},{"$f":"('Curves met UFR, zonder VA'!E54+IF('Configuratie en berekeningen'!$D$4=\"Met VA\",'Configuratie en berekeningen'!$F$4/10000,0))*'Curves met UFR, zonder VA'!E183","v":0},{"$f":"('Curves met UFR, zonder VA'!F54+IF('Configuratie en berekeningen'!$D$4=\"Met VA\",'Configuratie en berekeningen'!$F$4/10000,0))*'Curves met UFR, zonder VA'!F183","v":0},{"$f":"('Curves met UFR, zonder VA'!G54+IF('Configuratie en berekeningen'!$D$4=\"Met VA\",'Configuratie en berekeningen'!$F$4/10000,0))*'Curves met UFR, zonder VA'!G183","v":0},{"$f":"('Curves met UFR, zonder VA'!H54+IF('Configuratie en berekeningen'!$D$4=\"Met VA\",'Configuratie en berekeningen'!$F$4/10000,0))*'Curves met UFR, zonder VA'!H183","v":0},{"$f":"('Curves met UFR, zonder VA'!I54+IF('Configuratie en berekeningen'!$D$4=\"Met VA\",'Configuratie en berekeningen'!$F$4/10000,0))*'Curves met UFR, zonder VA'!I183","v":0},{"$f":"('Curves met UFR, zonder VA'!J54+IF('Configuratie en berekeningen'!$D$4=\"Met VA\",'Configuratie en berekeningen'!$F$4/10000,0))*'Curves met UFR, zonder VA'!J183","v":0},{"$f":"('Curves met UFR, zonder VA'!K54+IF('Configuratie en berekeningen'!$D$4=\"Met VA\",'Configuratie en berekeningen'!$F$4/10000,0))*'Curves met UFR, zonder VA'!K183","v":0},{"$f":"('Curves met UFR, zonder VA'!L54+IF('Configuratie en berekeningen'!$D$4=\"Met VA\",'Configuratie en berekeningen'!$F$4/10000,0))*'Curves met UFR, zonder VA'!L183","v":0},{"$f":"('Curves met UFR, zonder VA'!M54+IF('Configuratie en berekeningen'!$D$4=\"Met VA\",'Configuratie en berekeningen'!$F$4/10000,0))*'Curves met UFR, zonder VA'!M183","v":0},{"$f":"('Curves met UFR, zonder VA'!N54+IF('Configuratie en berekeningen'!$D$4=\"Met VA\",'Configuratie en berekeningen'!$F$4/10000,0))*'Curves met UFR, zonder VA'!N183","v":0},{"$f":"('Curves met UFR, zonder VA'!O54+IF('Configuratie en berekeningen'!$D$4=\"Met VA\",'Configuratie en berekeningen'!$F$4/10000,0))*'Curves met UFR, zonder VA'!O183","v":0},{"$f":"('Curves met UFR, zonder VA'!P54+IF('Configuratie en berekeningen'!$D$4=\"Met VA\",'Configuratie en berekeningen'!$F$4/10000,0))*'Curves met UFR, zonder VA'!P183","v":0},{"$f":"('Curves met UFR, zonder VA'!Q54+IF('Configuratie en berekeningen'!$D$4=\"Met VA\",'Configuratie en berekeningen'!$F$4/10000,0))*'Curves met UFR, zonder VA'!Q183","v":0},{"$f":"('Curves met UFR, zonder VA'!R54+IF('Configuratie en berekeningen'!$D$4=\"Met VA\",'Configuratie en berekeningen'!$F$4/10000,0))*'Curves met UFR, zonder VA'!R183","v":0},{"$f":"('Curves met UFR, zonder VA'!S54+IF('Configuratie en berekeningen'!$D$4=\"Met VA\",'Configuratie en berekeningen'!$F$4/10000,0))*'Curves met UFR, zonder VA'!S183","v":0},{"$f":"('Curves met UFR, zonder VA'!T54+IF('Configuratie en berekeningen'!$D$4=\"Met VA\",'Configuratie en berekeningen'!$F$4/10000,0))*'Curves met UFR, zonder VA'!T183","v":0},{"$f":"('Curves met UFR, zonder VA'!U54+IF('Configuratie en berekeningen'!$D$4=\"Met VA\",'Configuratie en berekeningen'!$F$4/10000,0))*'Curves met UFR, zonder VA'!U183","v":0},{"$f":"('Curves met UFR, zonder VA'!V54+IF('Configuratie en berekeningen'!$D$4=\"Met VA\",'Configuratie en berekeningen'!$F$4/10000,0))*'Curves met UFR, zonder VA'!V183","v":0}]
[30,{"$f":"('Curves met UFR, zonder VA'!B55+IF('Configuratie en berekeningen'!$D$4=\"Met VA\",'Configuratie en berekeningen'!$F$4/10000,0))*'Curves met UFR, zonder VA'!B184","v":0},{"$f":"('Curves met UFR, zonder VA'!C55+IF('Configuratie en berekeningen'!$D$4=\"Met VA\",'Configuratie en berekeningen'!$F$4/10000,0))*'Curves met UFR, zonder VA'!C184","v":0},{"$f":"('Curves met UFR, zonder VA'!D55+IF('Configuratie en berekeningen'!$D$4=\"Met VA\",'Configuratie en berekeningen'!$F$4/10000,0))*'Curves met UFR, zonder VA'!D184","v":0},{"$f":"('Curves met UFR, zonder VA'!E55+IF('Configuratie en berekeningen'!$D$4=\"Met VA\",'Configuratie en berekeningen'!$F$4/10000,0))*'Curves met UFR, zonder VA'!E184","v":0},{"$f":"('Curves met UFR, zonder VA'!F55+IF('Configuratie en berekeningen'!$D$4=\"Met VA\",'Configuratie en berekeningen'!$F$4/10000,0))*'Curves met UFR, zonder VA'!F184","v":0},{"$f":"('Curves met UFR, zonder VA'!G55+IF('Configuratie en berekeningen'!$D$4=\"Met VA\",'Configuratie en berekeningen'!$F$4/10000,0))*'Curves met UFR, zonder VA'!G184","v":0},{"$f":"('Curves met UFR, zonder VA'!H55+IF('Configuratie en berekeningen'!$D$4=\"Met VA\",'Configuratie en berekeningen'!$F$4/10000,0))*'Curves met UFR, zonder VA'!H184","v":0},{"$f":"('Curves met UFR, zonder VA'!I55+IF('Configuratie en berekeningen'!$D$4=\"Met VA\",'Configuratie en berekeningen'!$F$4/10000,0))*'Curves met UFR, zonder VA'!I184","v":0},{"$f":"('Curves met UFR, zonder VA'!J55+IF('Configuratie en berekeningen'!$D$4=\"Met VA\",'Configuratie en berekeningen'!$F$4/10000,0))*'Curves met UFR, zonder VA'!J184","v":0},{"$f":"('Curves met UFR, zonder VA'!K55+IF('Configuratie en berekeningen'!$D$4=\"Met VA\",'Configuratie en berekeningen'!$F$4/10000,0))*'Curves met UFR, zonder VA'!K184","v":0},{"$f":"('Curves met UFR, zonder VA'!L55+IF('Configuratie en berekeningen'!$D$4=\"Met VA\",'Configuratie en berekeningen'!$F$4/10000,0))*'Curves met UFR, zonder VA'!L184","v":0},{"$f":"('Curves met UFR, zonder VA'!M55+IF('Configuratie en berekeningen'!$D$4=\"Met VA\",'Configuratie en berekeningen'!$F$4/10000,0))*'Curves met UFR, zonder VA'!M184","v":0},{"$f":"('Curves met UFR, zonder VA'!N55+IF('Configuratie en berekeningen'!$D$4=\"Met VA\",'Configuratie en berekeningen'!$F$4/10000,0))*'Curves met UFR, zonder VA'!N184","v":0},{"$f":"('Curves met UFR, zonder VA'!O55+IF('Configuratie en berekeningen'!$D$4=\"Met VA\",'Configuratie en berekeningen'!$F$4/10000,0))*'Curves met UFR, zonder VA'!O184","v":0},{"$f":"('Curves met UFR, zonder VA'!P55+IF('Configuratie en berekeningen'!$D$4=\"Met VA\",'Configuratie en berekeningen'!$F$4/10000,0))*'Curves met UFR, zonder VA'!P184","v":0},{"$f":"('Curves met UFR, zonder VA'!Q55+IF('Configuratie en berekeningen'!$D$4=\"Met VA\",'Configuratie en berekeningen'!$F$4/10000,0))*'Curves met UFR, zonder VA'!Q184","v":0},{"$f":"('Curves met UFR, zonder VA'!R55+IF('Configuratie en berekeningen'!$D$4=\"Met VA\",'Configuratie en berekeningen'!$F$4/10000,0))*'Curves met UFR, zonder VA'!R184","v":0},{"$f":"('Curves met UFR, zonder VA'!S55+IF('Configuratie en berekeningen'!$D$4=\"Met VA\",'Configuratie en berekeningen'!$F$4/10000,0))*'Curves met UFR, zonder VA'!S184","v":0},{"$f":"('Curves met UFR, zonder VA'!T55+IF('Configuratie en berekeningen'!$D$4=\"Met VA\",'Configuratie en berekeningen'!$F$4/10000,0))*'Curves met UFR, zonder VA'!T184","v":0},{"$f":"('Curves met UFR, zonder VA'!U55+IF('Configuratie en berekeningen'!$D$4=\"Met VA\",'Configuratie en berekeningen'!$F$4/10000,0))*'Curves met UFR, zonder VA'!U184","v":0},{"$f":"('Curves met UFR, zonder VA'!V55+IF('Configuratie en berekeningen'!$D$4=\"Met VA\",'Configuratie en berekeningen'!$F$4/10000,0))*'Curves met UFR, zonder VA'!V184","v":0}]
[31,{"$f":"('Curves met UFR, zonder VA'!B56+IF('Configuratie en berekeningen'!$D$4=\"Met VA\",'Configuratie en berekeningen'!$F$4/10000,0))*'Curves met UFR, zonder VA'!B185","v":0},{"$f":"('Curves met UFR, zonder VA'!C56+IF('Configuratie en berekeningen'!$D$4=\"Met VA\",'Configuratie en berekeningen'!$F$4/10000,0))*'Curves met UFR, zonder VA'!C185","v":0},{"$f":"('Curves met UFR, zonder VA'!D56+IF('Configuratie en berekeningen'!$D$4=\"Met VA\",'Configuratie en berekeningen'!$F$4/10000,0))*'Curves met UFR, zonder VA'!D185","v":0},{"$f":"('Curves met UFR, zonder VA'!E56+IF('Configuratie en berekeningen'!$D$4=\"Met VA\",'Configuratie en berekeningen'!$F$4/10000,0))*'Curves met UFR, zonder VA'!E185","v":0},{"$f":"('Curves met UFR, zonder VA'!F56+IF('Configuratie en berekeningen'!$D$4=\"Met VA\",'Configuratie en berekeningen'!$F$4/10000,0))*'Curves met UFR, zonder VA'!F185","v":0},{"$f":"('Curves met UFR, zonder VA'!G56+IF('Configuratie en berekeningen'!$D$4=\"Met VA\",'Configuratie en berekeningen'!$F$4/10000,0))*'Curves met UFR, zonder VA'!G185","v":0},{"$f":"('Curves met UFR, zonder VA'!H56+IF('Configuratie en berekeningen'!$D$4=\"Met VA\",'Configuratie en berekeningen'!$F$4/10000,0))*'Curves met UFR, zonder VA'!H185","v":0},{"$f":"('Curves met UFR, zonder VA'!I56+IF('Configuratie en berekeningen'!$D$4=\"Met VA\",'Configuratie en berekeningen'!$F$4/10000,0))*'Curves met UFR, zonder VA'!I185","v":0},{"$f":"('Curves met UFR, zonder VA'!J56+IF('Configuratie en berekeningen'!$D$4=\"Met VA\",'Configuratie en berekeningen'!$F$4/10000,0))*'Curves met UFR, zonder VA'!J185","v":0},{"$f":"('Curves met UFR, zonder VA'!K56+IF('Configuratie en berekeningen'!$D$4=\"Met VA\",'Configuratie en berekeningen'!$F$4/10000,0))*'Curves met UFR, zonder VA'!K185","v":0},{"$f":"('Curves met UFR, zonder VA'!L56+IF('Configuratie en berekeningen'!$D$4=\"Met VA\",'Configuratie en berekeningen'!$F$4/10000,0))*'Curves met UFR, zonder VA'!L185","v":0},{"$f":"('Curves met UFR, zonder VA'!M56+IF('Configuratie en berekeningen'!$D$4=\"Met VA\",'Configuratie en berekeningen'!$F$4/10000,0))*'Curves met UFR, zonder VA'!M185","v":0},{"$f":"('Curves met UFR, zonder VA'!N56+IF('Configuratie en berekeningen'!$D$4=\"Met VA\",'Configuratie en berekeningen'!$F$4/10000,0))*'Curves met UFR, zonder VA'!N185","v":0},{"$f":"('Curves met UFR, zonder VA'!O56+IF('Configuratie en berekeningen'!$D$4=\"Met VA\",'Configuratie en berekeningen'!$F$4/10000,0))*'Curves met UFR, zonder VA'!O185","v":0},{"$f":"('Curves met UFR, zonder VA'!P56+IF('Configuratie en berekeningen'!$D$4=\"Met VA\",'Configuratie en berekeningen'!$F$4/10000,0))*'Curves met UFR, zonder VA'!P185","v":0},{"$f":"('Curves met UFR, zonder VA'!Q56+IF('Configuratie en berekeningen'!$D$4=\"Met VA\",'Configuratie en berekeningen'!$F$4/10000,0))*'Curves met UFR, zonder VA'!Q185","v":0},{"$f":"('Curves met UFR, zonder VA'!R56+IF('Configuratie en berekeningen'!$D$4=\"Met VA\",'Configuratie en berekeningen'!$F$4/10000,0))*'Curves met UFR, zonder VA'!R185","v":0},{"$f":"('Curves met UFR, zonder VA'!S56+IF('Configuratie en berekeningen'!$D$4=\"Met VA\",'Configuratie en berekeningen'!$F$4/10000,0))*'Curves met UFR, zonder VA'!S185","v":0},{"$f":"('Curves met UFR, zonder VA'!T56+IF('Configuratie en berekeningen'!$D$4=\"Met VA\",'Configuratie en berekeningen'!$F$4/10000,0))*'Curves met UFR, zonder VA'!T185","v":0},{"$f":"('Curves met UFR, zonder VA'!U56+IF('Configuratie en berekeningen'!$D$4=\"Met VA\",'Configuratie en berekeningen'!$F$4/10000,0))*'Curves met UFR, zonder VA'!U185","v":0},{"$f":"('Curves met UFR, zonder VA'!V56+IF('Configuratie en berekeningen'!$D$4=\"Met VA\",'Configuratie en berekeningen'!$F$4/10000,0))*'Curves met UFR, zonder VA'!V185","v":0}]
[32,{"$f":"('Curves met UFR, zonder VA'!B57+IF('Configuratie en berekeningen'!$D$4=\"Met VA\",'Configuratie en berekeningen'!$F$4/10000,0))*'Curves met UFR, zonder VA'!B186","v":0},{"$f":"('Curves met UFR, zonder VA'!C57+IF('Configuratie en berekeningen'!$D$4=\"Met VA\",'Configuratie en berekeningen'!$F$4/10000,0))*'Curves met UFR, zonder VA'!C186","v":0},{"$f":"('Curves met UFR, zonder VA'!D57+IF('Configuratie en berekeningen'!$D$4=\"Met VA\",'Configuratie en berekeningen'!$F$4/10000,0))*'Curves met UFR, zonder VA'!D186","v":0},{"$f":"('Curves met UFR, zonder VA'!E57+IF('Configuratie en berekeningen'!$D$4=\"Met VA\",'Configuratie en berekeningen'!$F$4/10000,0))*'Curves met UFR, zonder VA'!E186","v":0},{"$f":"('Curves met UFR, zonder VA'!F57+IF('Configuratie en berekeningen'!$D$4=\"Met VA\",'Configuratie en berekeningen'!$F$4/10000,0))*'Curves met UFR, zonder VA'!F186","v":0},{"$f":"('Curves met UFR, zonder VA'!G57+IF('Configuratie en berekeningen'!$D$4=\"Met VA\",'Configuratie en berekeningen'!$F$4/10000,0))*'Curves met UFR, zonder VA'!G186","v":0},{"$f":"('Curves met UFR, zonder VA'!H57+IF('Configuratie en berekeningen'!$D$4=\"Met VA\",'Configuratie en berekeningen'!$F$4/10000,0))*'Curves met UFR, zonder VA'!H186","v":0},{"$f":"('Curves met UFR, zonder VA'!I57+IF('Configuratie en berekeningen'!$D$4=\"Met VA\",'Configuratie en berekeningen'!$F$4/10000,0))*'Curves met UFR, zonder VA'!I186","v":0},{"$f":"('Curves met UFR, zonder VA'!J57+IF('Configuratie en berekeningen'!$D$4=\"Met VA\",'Configuratie en berekeningen'!$F$4/10000,0))*'Curves met UFR, zonder VA'!J186","v":0},{"$f":"('Curves met UFR, zonder VA'!K57+IF('Configuratie en berekeningen'!$D$4=\"Met VA\",'Configuratie en berekeningen'!$F$4/10000,0))*'Curves met UFR, zonder VA'!K186","v":0},{"$f":"('Curves met UFR, zonder VA'!L57+IF('Configuratie en berekeningen'!$D$4=\"Met VA\",'Configuratie en berekeningen'!$F$4/10000,0))*'Curves met UFR, zonder VA'!L186","v":0},{"$f":"('Curves met UFR, zonder VA'!M57+IF('Configuratie en berekeningen'!$D$4=\"Met VA\",'Configuratie en berekeningen'!$F$4/10000,0))*'Curves met UFR, zonder VA'!M186","v":0},{"$f":"('Curves met UFR, zonder VA'!N57+IF('Configuratie en berekeningen'!$D$4=\"Met VA\",'Configuratie en berekeningen'!$F$4/10000,0))*'Curves met UFR, zonder VA'!N186","v":0},{"$f":"('Curves met UFR, zonder VA'!O57+IF('Configuratie en berekeningen'!$D$4=\"Met VA\",'Configuratie en berekeningen'!$F$4/10000,0))*'Curves met UFR, zonder VA'!O186","v":0},{"$f":"('Curves met UFR, zonder VA'!P57+IF('Configuratie en berekeningen'!$D$4=\"Met VA\",'Configuratie en berekeningen'!$F$4/10000,0))*'Curves met UFR, zonder VA'!P186","v":0},{"$f":"('Curves met UFR, zonder VA'!Q57+IF('Configuratie en berekeningen'!$D$4=\"Met VA\",'Configuratie en berekeningen'!$F$4/10000,0))*'Curves met UFR, zonder VA'!Q186","v":0},{"$f":"('Curves met UFR, zonder VA'!R57+IF('Configuratie en berekeningen'!$D$4=\"Met VA\",'Configuratie en berekeningen'!$F$4/10000,0))*'Curves met UFR, zonder VA'!R186","v":0},{"$f":"('Curves met UFR, zonder VA'!S57+IF('Configuratie en berekeningen'!$D$4=\"Met VA\",'Configuratie en berekeningen'!$F$4/10000,0))*'Curves met UFR, zonder VA'!S186","v":0},{"$f":"('Curves met UFR, zonder VA'!T57+IF('Configuratie en berekeningen'!$D$4=\"Met VA\",'Configuratie en berekeningen'!$F$4/10000,0))*'Curves met UFR, zonder VA'!T186","v":0},{"$f":"('Curves met UFR, zonder VA'!U57+IF('Configuratie en berekeningen'!$D$4=\"Met VA\",'Configuratie en berekeningen'!$F$4/10000,0))*'Curves met UFR, zonder VA'!U186","v":0},{"$f":"('Curves met UFR, zonder VA'!V57+IF('Configuratie en berekeningen'!$D$4=\"Met VA\",'Configuratie en berekeningen'!$F$4/10000,0))*'Curves met UFR, zonder VA'!V186","v":0}]
[33,{"$f":"('Curves met UFR, zonder VA'!B58+IF('Configuratie en berekeningen'!$D$4=\"Met VA\",'Configuratie en berekeningen'!$F$4/10000,0))*'Curves met UFR, zonder VA'!B187","v":0},{"$f":"('Curves met UFR, zonder VA'!C58+IF('Configuratie en berekeningen'!$D$4=\"Met VA\",'Configuratie en berekeningen'!$F$4/10000,0))*'Curves met UFR, zonder VA'!C187","v":0},{"$f":"('Curves met UFR, zonder VA'!D58+IF('Configuratie en berekeningen'!$D$4=\"Met VA\",'Configuratie en berekeningen'!$F$4/10000,0))*'Curves met UFR, zonder VA'!D187","v":0},{"$f":"('Curves met UFR, zonder VA'!E58+IF('Configuratie en berekeningen'!$D$4=\"Met VA\",'Configuratie en berekeningen'!$F$4/10000,0))*'Curves met UFR, zonder VA'!E187","v":0},{"$f":"('Curves met UFR, zonder VA'!F58+IF('Configuratie en berekeningen'!$D$4=\"Met VA\",'Configuratie en berekeningen'!$F$4/10000,0))*'Curves met UFR, zonder VA'!F187","v":0},{"$f":"('Curves met UFR, zonder VA'!G58+IF('Configuratie en berekeningen'!$D$4=\"Met VA\",'Configuratie en berekeningen'!$F$4/10000,0))*'Curves met UFR, zonder VA'!G187","v":0},{"$f":"('Curves met UFR, zonder VA'!H58+IF('Configuratie en berekeningen'!$D$4=\"Met VA\",'Configuratie en berekeningen'!$F$4/10000,0))*'Curves met UFR, zonder VA'!H187","v":0},{"$f":"('Curves met UFR, zonder VA'!I58+IF('Configuratie en berekeningen'!$D$4=\"Met VA\",'Configuratie en berekeningen'!$F$4/10000,0))*'Curves met UFR, zonder VA'!I187","v":0},{"$f":"('Curves met UFR, zonder VA'!J58+IF('Configuratie en berekeningen'!$D$4=\"Met VA\",'Configuratie en berekeningen'!$F$4/10000,0))*'Curves met UFR, zonder VA'!J187","v":0},{"$f":"('Curves met UFR, zonder VA'!K58+IF('Configuratie en berekeningen'!$D$4=\"Met VA\",'Configuratie en berekeningen'!$F$4/10000,0))*'Curves met UFR, zonder VA'!K187","v":0},{"$f":"('Curves met UFR, zonder VA'!L58+IF('Configuratie en berekeningen'!$D$4=\"Met VA\",'Configuratie en berekeningen'!$F$4/10000,0))*'Curves met UFR, zonder VA'!L187","v":0},{"$f":"('Curves met UFR, zonder VA'!M58+IF('Configuratie en berekeningen'!$D$4=\"Met VA\",'Configuratie en berekeningen'!$F$4/10000,0))*'Curves met UFR, zonder VA'!M187","v":0},{"$f":"('Curves met UFR, zonder VA'!N58+IF('Configuratie en berekeningen'!$D$4=\"Met VA\",'Configuratie en berekeningen'!$F$4/10000,0))*'Curves met UFR, zonder VA'!N187","v":0},{"$f":"('Curves met UFR, zonder VA'!O58+IF('Configuratie en berekeningen'!$D$4=\"Met VA\",'Configuratie en berekeningen'!$F$4/10000,0))*'Curves met UFR, zonder VA'!O187","v":0},{"$f":"('Curves met UFR, zonder VA'!P58+IF('Configuratie en berekeningen'!$D$4=\"Met VA\",'Configuratie en berekeningen'!$F$4/10000,0))*'Curves met UFR, zonder VA'!P187","v":0},{"$f":"('Curves met UFR, zonder VA'!Q58+IF('Configuratie en berekeningen'!$D$4=\"Met VA\",'Configuratie en berekeningen'!$F$4/10000,0))*'Curves met UFR, zonder VA'!Q187","v":0},{"$f":"('Curves met UFR, zonder VA'!R58+IF('Configuratie en berekeningen'!$D$4=\"Met VA\",'Configuratie en berekeningen'!$F$4/10000,0))*'Curves met UFR, zonder VA'!R187","v":0},{"$f":"('Curves met UFR, zonder VA'!S58+IF('Configuratie en berekeningen'!$D$4=\"Met VA\",'Configuratie en berekeningen'!$F$4/10000,0))*'Curves met UFR, zonder VA'!S187","v":0},{"$f":"('Curves met UFR, zonder VA'!T58+IF('Configuratie en berekeningen'!$D$4=\"Met VA\",'Configuratie en berekeningen'!$F$4/10000,0))*'Curves met UFR, zonder VA'!T187","v":0},{"$f":"('Curves met UFR, zonder VA'!U58+IF('Configuratie en berekeningen'!$D$4=\"Met VA\",'Configuratie en berekeningen'!$F$4/10000,0))*'Curves met UFR, zonder VA'!U187","v":0},{"$f":"('Curves met UFR, zonder VA'!V58+IF('Configuratie en berekeningen'!$D$4=\"Met VA\",'Configuratie en berekeningen'!$F$4/10000,0))*'Curves met UFR, zonder VA'!V187","v":0}]
[34,{"$f":"('Curves met UFR, zonder VA'!B59+IF('Configuratie en berekeningen'!$D$4=\"Met VA\",'Configuratie en berekeningen'!$F$4/10000,0))*'Curves met UFR, zonder VA'!B188","v":0},{"$f":"('Curves met UFR, zonder VA'!C59+IF('Configuratie en berekeningen'!$D$4=\"Met VA\",'Configuratie en berekeningen'!$F$4/10000,0))*'Curves met UFR, zonder VA'!C188","v":0},{"$f":"('Curves met UFR, zonder VA'!D59+IF('Configuratie en berekeningen'!$D$4=\"Met VA\",'Configuratie en berekeningen'!$F$4/10000,0))*'Curves met UFR, zonder VA'!D188","v":0},{"$f":"('Curves met UFR, zonder VA'!E59+IF('Configuratie en berekeningen'!$D$4=\"Met VA\",'Configuratie en berekeningen'!$F$4/10000,0))*'Curves met UFR, zonder VA'!E188","v":0},{"$f":"('Curves met UFR, zonder VA'!F59+IF('Configuratie en berekeningen'!$D$4=\"Met VA\",'Configuratie en berekeningen'!$F$4/10000,0))*'Curves met UFR, zonder VA'!F188","v":0},{"$f":"('Curves met UFR, zonder VA'!G59+IF('Configuratie en berekeningen'!$D$4=\"Met VA\",'Configuratie en berekeningen'!$F$4/10000,0))*'Curves met UFR, zonder VA'!G188","v":0},{"$f":"('Curves met UFR, zonder VA'!H59+IF('Configuratie en berekeningen'!$D$4=\"Met VA\",'Configuratie en berekeningen'!$F$4/10000,0))*'Curves met UFR, zonder VA'!H188","v":0},{"$f":"('Curves met UFR, zonder VA'!I59+IF('Configuratie en berekeningen'!$D$4=\"Met VA\",'Configuratie en berekeningen'!$F$4/10000,0))*'Curves met UFR, zonder VA'!I188","v":0},{"$f":"('Curves met UFR, zonder VA'!J59+IF('Configuratie en berekeningen'!$D$4=\"Met VA\",'Configuratie en berekeningen'!$F$4/10000,0))*'Curves met UFR, zonder VA'!J188","v":0},{"$f":"('Curves met UFR, zonder VA'!K59+IF('Configuratie en berekeningen'!$D$4=\"Met VA\",'Configuratie en berekeningen'!$F$4/10000,0))*'Curves met UFR, zonder VA'!K188","v":0},{"$f":"('Curves met UFR, zonder VA'!L59+IF('Configuratie en berekeningen'!$D$4=\"Met VA\",'Configuratie en berekeningen'!$F$4/10000,0))*'Curves met UFR, zonder VA'!L188","v":0},{"$f":"('Curves met UFR, zonder VA'!M59+IF('Configuratie en berekeningen'!$D$4=\"Met VA\",'Configuratie en berekeningen'!$F$4/10000,0))*'Curves met UFR, zonder VA'!M188","v":0},{"$f":"('Curves met UFR, zonder VA'!N59+IF('Configuratie en berekeningen'!$D$4=\"Met VA\",'Configuratie en berekeningen'!$F$4/10000,0))*'Curves met UFR, zonder VA'!N188","v":0},{"$f":"('Curves met UFR, zonder VA'!O59+IF('Configuratie en berekeningen'!$D$4=\"Met VA\",'Configuratie en berekeningen'!$F$4/10000,0))*'Curves met UFR, zonder VA'!O188","v":0},{"$f":"('Curves met UFR, zonder VA'!P59+IF('Configuratie en berekeningen'!$D$4=\"Met VA\",'Configuratie en berekeningen'!$F$4/10000,0))*'Curves met UFR, zonder VA'!P188","v":0},{"$f":"('Curves met UFR, zonder VA'!Q59+IF('Configuratie en berekeningen'!$D$4=\"Met VA\",'Configuratie en berekeningen'!$F$4/10000,0))*'Curves met UFR, zonder VA'!Q188","v":0},{"$f":"('Curves met UFR, zonder VA'!R59+IF('Configuratie en berekeningen'!$D$4=\"Met VA\",'Configuratie en berekeningen'!$F$4/10000,0))*'Curves met UFR, zonder VA'!R188","v":0},{"$f":"('Curves met UFR, zonder VA'!S59+IF('Configuratie en berekeningen'!$D$4=\"Met VA\",'Configuratie en berekeningen'!$F$4/10000,0))*'Curves met UFR, zonder VA'!S188","v":0},{"$f":"('Curves met UFR, zonder VA'!T59+IF('Configuratie en berekeningen'!$D$4=\"Met VA\",'Configuratie en berekeningen'!$F$4/10000,0))*'Curves met UFR, zonder VA'!T188","v":0},{"$f":"('Curves met UFR, zonder VA'!U59+IF('Configuratie en berekeningen'!$D$4=\"Met VA\",'Configuratie en berekeningen'!$F$4/10000,0))*'Curves met UFR, zonder VA'!U188","v":0},{"$f":"('Curves met UFR, zonder VA'!V59+IF('Configuratie en berekeningen'!$D$4=\"Met VA\",'Configuratie en berekeningen'!$F$4/10000,0))*'Curves met UFR, zonder VA'!V188","v":0}]
[35,{"$f":"('Curves met UFR, zonder VA'!B60+IF('Configuratie en berekeningen'!$D$4=\"Met VA\",'Configuratie en berekeningen'!$F$4/10000,0))*'Curves met UFR, zonder VA'!B189","v":0},{"$f":"('Curves met UFR, zonder VA'!C60+IF('Configuratie en berekeningen'!$D$4=\"Met VA\",'Configuratie en berekeningen'!$F$4/10000,0))*'Curves met UFR, zonder VA'!C189","v":0},{"$f":"('Curves met UFR, zonder VA'!D60+IF('Configuratie en berekeningen'!$D$4=\"Met VA\",'Configuratie en berekeningen'!$F$4/10000,0))*'Curves met UFR, zonder VA'!D189","v":0},{"$f":"('Curves met UFR, zonder VA'!E60+IF('Configuratie en berekeningen'!$D$4=\"Met VA\",'Configuratie en berekeningen'!$F$4/10000,0))*'Curves met UFR, zonder VA'!E189","v":0},{"$f":"('Curves met UFR, zonder VA'!F60+IF('Configuratie en berekeningen'!$D$4=\"Met VA\",'Configuratie en berekeningen'!$F$4/10000,0))*'Curves met UFR, zonder VA'!F189","v":0},{"$f":"('Curves met UFR, zonder VA'!G60+IF('Configuratie en berekeningen'!$D$4=\"Met VA\",'Configuratie en berekeningen'!$F$4/10000,0))*'Curves met UFR, zonder VA'!G189","v":0},{"$f":"('Curves met UFR, zonder VA'!H60+IF('Configuratie en berekeningen'!$D$4=\"Met VA\",'Configuratie en berekeningen'!$F$4/10000,0))*'Curves met UFR, zonder VA'!H189","v":0},{"$f":"('Curves met UFR, zonder VA'!I60+IF('Configuratie en berekeningen'!$D$4=\"Met VA\",'Configuratie en berekeningen'!$F$4/10000,0))*'Curves met UFR, zonder VA'!I189","v":0},{"$f":"('Curves met UFR, zonder VA'!J60+IF('Configuratie en berekeningen'!$D$4=\"Met VA\",'Configuratie en berekeningen'!$F$4/10000,0))*'Curves met UFR, zonder VA'!J189","v":0},{"$f":"('Curves met UFR, zonder VA'!K60+IF('Configuratie en berekeningen'!$D$4=\"Met VA\",'Configuratie en berekeningen'!$F$4/10000,0))*'Curves met UFR, zonder VA'!K189","v":0},{"$f":"('Curves met UFR, zonder VA'!L60+IF('Configuratie en berekeningen'!$D$4=\"Met VA\",'Configuratie en berekeningen'!$F$4/10000,0))*'Curves met UFR, zonder VA'!L189","v":0},{"$f":"('Curves met UFR, zonder VA'!M60+IF('Configuratie en berekeningen'!$D$4=\"Met VA\",'Configuratie en berekeningen'!$F$4/10000,0))*'Curves met UFR, zonder VA'!M189","v":0},{"$f":"('Curves met UFR, zonder VA'!N60+IF('Configuratie en berekeningen'!$D$4=\"Met VA\",'Configuratie en berekeningen'!$F$4/10000,0))*'Curves met UFR, zonder VA'!N189","v":0},{"$f":"('Curves met UFR, zonder VA'!O60+IF('Configuratie en berekeningen'!$D$4=\"Met VA\",'Configuratie en berekeningen'!$F$4/10000,0))*'Curves met UFR, zonder VA'!O189","v":0},{"$f":"('Curves met UFR, zonder VA'!P60+IF('Configuratie en berekeningen'!$D$4=\"Met VA\",'Configuratie en berekeningen'!$F$4/10000,0))*'Curves met UFR, zonder VA'!P189","v":0},{"$f":"('Curves met UFR, zonder VA'!Q60+IF('Configuratie en berekeningen'!$D$4=\"Met VA\",'Configuratie en berekeningen'!$F$4/10000,0))*'Curves met UFR, zonder VA'!Q189","v":0},{"$f":"('Curves met UFR, zonder VA'!R60+IF('Configuratie en berekeningen'!$D$4=\"Met VA\",'Configuratie en berekeningen'!$F$4/10000,0))*'Curves met UFR, zonder VA'!R189","v":0},{"$f":"('Curves met UFR, zonder VA'!S60+IF('Configuratie en berekeningen'!$D$4=\"Met VA\",'Configuratie en berekeningen'!$F$4/10000,0))*'Curves met UFR, zonder VA'!S189","v":0},{"$f":"('Curves met UFR, zonder VA'!T60+IF('Configuratie en berekeningen'!$D$4=\"Met VA\",'Configuratie en berekeningen'!$F$4/10000,0))*'Curves met UFR, zonder VA'!T189","v":0},{"$f":"('Curves met UFR, zonder VA'!U60+IF('Configuratie en berekeningen'!$D$4=\"Met VA\",'Configuratie en berekeningen'!$F$4/10000,0))*'Curves met UFR, zonder VA'!U189","v":0},{"$f":"('Curves met UFR, zonder VA'!V60+IF('Configuratie en berekeningen'!$D$4=\"Met VA\",'Configuratie en berekeningen'!$F$4/10000,0))*'Curves met UFR, zonder VA'!V189","v":0}]
[36,{"$f":"('Curves met UFR, zonder VA'!B61+IF('Configuratie en berekeningen'!$D$4=\"Met VA\",'Configuratie en berekeningen'!$F$4/10000,0))*'Curves met UFR, zonder VA'!B190","v":0},{"$f":"('Curves met UFR, zonder VA'!C61+IF('Configuratie en berekeningen'!$D$4=\"Met VA\",'Configuratie en berekeningen'!$F$4/10000,0))*'Curves met UFR, zonder VA'!C190","v":0},{"$f":"('Curves met UFR, zonder VA'!D61+IF('Configuratie en berekeningen'!$D$4=\"Met VA\",'Configuratie en berekeningen'!$F$4/10000,0))*'Curves met UFR, zonder VA'!D190","v":0},{"$f":"('Curves met UFR, zonder VA'!E61+IF('Configuratie en berekeningen'!$D$4=\"Met VA\",'Configuratie en berekeningen'!$F$4/10000,0))*'Curves met UFR, zonder VA'!E190","v":0},{"$f":"('Curves met UFR, zonder VA'!F61+IF('Configuratie en berekeningen'!$D$4=\"Met VA\",'Configuratie en berekeningen'!$F$4/10000,0))*'Curves met UFR, zonder VA'!F190","v":0},{"$f":"('Curves met UFR, zonder VA'!G61+IF('Configuratie en berekeningen'!$D$4=\"Met VA\",'Configuratie en berekeningen'!$F$4/10000,0))*'Curves met UFR, zonder VA'!G190","v":0},{"$f":"('Curves met UFR, zonder VA'!H61+IF('Configuratie en berekeningen'!$D$4=\"Met VA\",'Configuratie en berekeningen'!$F$4/10000,0))*'Curves met UFR, zonder VA'!H190","v":0},{"$f":"('Curves met UFR, zonder VA'!I61+IF('Configuratie en berekeningen'!$D$4=\"Met VA\",'Configuratie en berekeningen'!$F$4/10000,0))*'Curves met UFR, zonder VA'!I190","v":0},{"$f":"('Curves met UFR, zonder VA'!J61+IF('Configuratie en berekeningen'!$D$4=\"Met VA\",'Configuratie en berekeningen'!$F$4/10000,0))*'Curves met UFR, zonder VA'!J190","v":0},{"$f":"('Curves met UFR, zonder VA'!K61+IF('Configuratie en berekeningen'!$D$4=\"Met VA\",'Configuratie en berekeningen'!$F$4/10000,0))*'Curves met UFR, zonder VA'!K190","v":0},{"$f":"('Curves met UFR, zonder VA'!L61+IF('Configuratie en berekeningen'!$D$4=\"Met VA\",'Configuratie en berekeningen'!$F$4/10000,0))*'Curves met UFR, zonder VA'!L190","v":0},{"$f":"('Curves met UFR, zonder VA'!M61+IF('Configuratie en berekeningen'!$D$4=\"Met VA\",'Configuratie en berekeningen'!$F$4/10000,0))*'Curves met UFR, zonder VA'!M190","v":0},{"$f":"('Curves met UFR, zonder VA'!N61+IF('Configuratie en berekeningen'!$D$4=\"Met VA\",'Configuratie en berekeningen'!$F$4/10000,0))*'Curves met UFR, zonder VA'!N190","v":0},{"$f":"('Curves met UFR, zonder VA'!O61+IF('Configuratie en berekeningen'!$D$4=\"Met VA\",'Configuratie en berekeningen'!$F$4/10000,0))*'Curves met UFR, zonder VA'!O190","v":0},{"$f":"('Curves met UFR, zonder VA'!P61+IF('Configuratie en berekeningen'!$D$4=\"Met VA\",'Configuratie en berekeningen'!$F$4/10000,0))*'Curves met UFR, zonder VA'!P190","v":0},{"$f":"('Curves met UFR, zonder VA'!Q61+IF('Configuratie en berekeningen'!$D$4=\"Met VA\",'Configuratie en berekeningen'!$F$4/10000,0))*'Curves met UFR, zonder VA'!Q190","v":0},{"$f":"('Curves met UFR, zonder VA'!R61+IF('Configuratie en berekeningen'!$D$4=\"Met VA\",'Configuratie en berekeningen'!$F$4/10000,0))*'Curves met UFR, zonder VA'!R190","v":0},{"$f":"('Curves met UFR, zonder VA'!S61+IF('Configuratie en berekeningen'!$D$4=\"Met VA\",'Configuratie en berekeningen'!$F$4/10000,0))*'Curves met UFR, zonder VA'!S190","v":0},{"$f":"('Curves met UFR, zonder VA'!T61+IF('Configuratie en berekeningen'!$D$4=\"Met VA\",'Configuratie en berekeningen'!$F$4/10000,0))*'Curves met UFR, zonder VA'!T190","v":0},{"$f":"('Curves met UFR, zonder VA'!U61+IF('Configuratie en berekeningen'!$D$4=\"Met VA\",'Configuratie en berekeningen'!$F$4/10000,0))*'Curves met UFR, zonder VA'!U190","v":0},{"$f":"('Curves met UFR, zonder VA'!V61+IF('Configuratie en berekeningen'!$D$4=\"Met VA\",'Configuratie en berekeningen'!$F$4/10000,0))*'Curves met UFR, zonder VA'!V190","v":0}]
[37,{"$f":"('Curves met UFR, zonder VA'!B62+IF('Configuratie en berekeningen'!$D$4=\"Met VA\",'Configuratie en berekeningen'!$F$4/10000,0))*'Curves met UFR, zonder VA'!B191","v":0},{"$f":"('Curves met UFR, zonder VA'!C62+IF('Configuratie en berekeningen'!$D$4=\"Met VA\",'Configuratie en berekeningen'!$F$4/10000,0))*'Curves met UFR, zonder VA'!C191","v":0},{"$f":"('Curves met UFR, zonder VA'!D62+IF('Configuratie en berekeningen'!$D$4=\"Met VA\",'Configuratie en berekeningen'!$F$4/10000,0))*'Curves met UFR, zonder VA'!D191","v":0},{"$f":"('Curves met UFR, zonder VA'!E62+IF('Configuratie en berekeningen'!$D$4=\"Met VA\",'Configuratie en berekeningen'!$F$4/10000,0))*'Curves met UFR, zonder VA'!E191","v":0},{"$f":"('Curves met UFR, zonder VA'!F62+IF('Configuratie en berekeningen'!$D$4=\"Met VA\",'Configuratie en berekeningen'!$F$4/10000,0))*'Curves met UFR, zonder VA'!F191","v":0},{"$f":"('Curves met UFR, zonder VA'!G62+IF('Configuratie en berekeningen'!$D$4=\"Met VA\",'Configuratie en berekeningen'!$F$4/10000,0))*'Curves met UFR, zonder VA'!G191","v":0},{"$f":"('Curves met UFR, zonder VA'!H62+IF('Configuratie en berekeningen'!$D$4=\"Met VA\",'Configuratie en berekeningen'!$F$4/10000,0))*'Curves met UFR, zonder VA'!H191","v":0},{"$f":"('Curves met UFR, zonder VA'!I62+IF('Configuratie en berekeningen'!$D$4=\"Met VA\",'Configuratie en berekeningen'!$F$4/10000,0))*'Curves met UFR, zonder VA'!I191","v":0},{"$f":"('Curves met UFR, zonder VA'!J62+IF('Configuratie en berekeningen'!$D$4=\"Met VA\",'Configuratie en berekeningen'!$F$4/10000,0))*'Curves met UFR, zonder VA'!J191","v":0},{"$f":"('Curves met UFR, zonder VA'!K62+IF('Configuratie en berekeningen'!$D$4=\"Met VA\",'Configuratie en berekeningen'!$F$4/10000,0))*'Curves met UFR, zonder VA'!K191","v":0},{"$f":"('Curves met UFR, zonder VA'!L62+IF('Configuratie en berekeningen'!$D$4=\"Met VA\",'Configuratie en berekeningen'!$F$4/10000,0))*'Curves met UFR, zonder VA'!L191","v":0},{"$f":"('Curves met UFR, zonder VA'!M62+IF('Configuratie en berekeningen'!$D$4=\"Met VA\",'Configuratie en berekeningen'!$F$4/10000,0))*'Curves met UFR, zonder VA'!M191","v":0},{"$f":"('Curves met UFR, zonder VA'!N62+IF('Configuratie en berekeningen'!$D$4=\"Met VA\",'Configuratie en berekeningen'!$F$4/10000,0))*'Curves met UFR, zonder VA'!N191","v":0},{"$f":"('Curves met UFR, zonder VA'!O62+IF('Configuratie en berekeningen'!$D$4=\"Met VA\",'Configuratie en berekeningen'!$F$4/10000,0))*'Curves met UFR, zonder VA'!O191","v":0},{"$f":"('Curves met UFR, zonder VA'!P62+IF('Configuratie en berekeningen'!$D$4=\"Met VA\",'Configuratie en berekeningen'!$F$4/10000,0))*'Curves met UFR, zonder VA'!P191","v":0},{"$f":"('Curves met UFR, zonder VA'!Q62+IF('Configuratie en berekeningen'!$D$4=\"Met VA\",'Configuratie en berekeningen'!$F$4/10000,0))*'Curves met UFR, zonder VA'!Q191","v":0},{"$f":"('Curves met UFR, zonder VA'!R62+IF('Configuratie en berekeningen'!$D$4=\"Met VA\",'Configuratie en berekeningen'!$F$4/10000,0))*'Curves met UFR, zonder VA'!R191","v":0},{"$f":"('Curves met UFR, zonder VA'!S62+IF('Configuratie en berekeningen'!$D$4=\"Met VA\",'Configuratie en berekeningen'!$F$4/10000,0))*'Curves met UFR, zonder VA'!S191","v":0},{"$f":"('Curves met UFR, zonder VA'!T62+IF('Configuratie en berekeningen'!$D$4=\"Met VA\",'Configuratie en berekeningen'!$F$4/10000,0))*'Curves met UFR, zonder VA'!T191","v":0},{"$f":"('Curves met UFR, zonder VA'!U62+IF('Configuratie en berekeningen'!$D$4=\"Met VA\",'Configuratie en berekeningen'!$F$4/10000,0))*'Curves met UFR, zonder VA'!U191","v":0},{"$f":"('Curves met UFR, zonder VA'!V62+IF('Configuratie en berekeningen'!$D$4=\"Met VA\",'Configuratie en berekeningen'!$F$4/10000,0))*'Curves met UFR, zonder VA'!V191","v":0}]
[38,{"$f":"('Curves met UFR, zonder VA'!B63+IF('Configuratie en berekeningen'!$D$4=\"Met VA\",'Configuratie en berekeningen'!$F$4/10000,0))*'Curves met UFR, zonder VA'!B192","v":0},{"$f":"('Curves met UFR, zonder VA'!C63+IF('Configuratie en berekeningen'!$D$4=\"Met VA\",'Configuratie en berekeningen'!$F$4/10000,0))*'Curves met UFR, zonder VA'!C192","v":0},{"$f":"('Curves met UFR, zonder VA'!D63+IF('Configuratie en berekeningen'!$D$4=\"Met VA\",'Configuratie en berekeningen'!$F$4/10000,0))*'Curves met UFR, zonder VA'!D192","v":0},{"$f":"('Curves met UFR, zonder VA'!E63+IF('Configuratie en berekeningen'!$D$4=\"Met VA\",'Configuratie en berekeningen'!$F$4/10000,0))*'Curves met UFR, zonder VA'!E192","v":0},{"$f":"('Curves met UFR, zonder VA'!F63+IF('Configuratie en berekeningen'!$D$4=\"Met VA\",'Configuratie en berekeningen'!$F$4/10000,0))*'Curves met UFR, zonder VA'!F192","v":0},{"$f":"('Curves met UFR, zonder VA'!G63+IF('Configuratie en berekeningen'!$D$4=\"Met VA\",'Configuratie en berekeningen'!$F$4/10000,0))*'Curves met UFR, zonder VA'!G192","v":0},{"$f":"('Curves met UFR, zonder VA'!H63+IF('Configuratie en berekeningen'!$D$4=\"Met VA\",'Configuratie en berekeningen'!$F$4/10000,0))*'Curves met UFR, zonder VA'!H192","v":0},{"$f":"('Curves met UFR, zonder VA'!I63+IF('Configuratie en berekeningen'!$D$4=\"Met VA\",'Configuratie en berekeningen'!$F$4/10000,0))*'Curves met UFR, zonder VA'!I192","v":0},{"$f":"('Curves met UFR, zonder VA'!J63+IF('Configuratie en berekeningen'!$D$4=\"Met VA\",'Configuratie en berekeningen'!$F$4/10000,0))*'Curves met UFR, zonder VA'!J192","v":0},{"$f":"('Curves met UFR, zonder VA'!K63+IF('Configuratie en berekeningen'!$D$4=\"Met VA\",'Configuratie en berekeningen'!$F$4/10000,0))*'Curves met UFR, zonder VA'!K192","v":0},{"$f":"('Curves met UFR, zonder VA'!L63+IF('Configuratie en berekeningen'!$D$4=\"Met VA\",'Configuratie en berekeningen'!$F$4/10000,0))*'Curves met UFR, zonder VA'!L192","v":0},{"$f":"('Curves met UFR, zonder VA'!M63+IF('Configuratie en berekeningen'!$D$4=\"Met VA\",'Configuratie en berekeningen'!$F$4/10000,0))*'Curves met UFR, zonder VA'!M192","v":0},{"$f":"('Curves met UFR, zonder VA'!N63+IF('Configuratie en berekeningen'!$D$4=\"Met VA\",'Configuratie en berekeningen'!$F$4/10000,0))*'Curves met UFR, zonder VA'!N192","v":0},{"$f":"('Curves met UFR, zonder VA'!O63+IF('Configuratie en berekeningen'!$D$4=\"Met VA\",'Configuratie en berekeningen'!$F$4/10000,0))*'Curves met UFR, zonder VA'!O192","v":0},{"$f":"('Curves met UFR, zonder VA'!P63+IF('Configuratie en berekeningen'!$D$4=\"Met VA\",'Configuratie en berekeningen'!$F$4/10000,0))*'Curves met UFR, zonder VA'!P192","v":0},{"$f":"('Curves met UFR, zonder VA'!Q63+IF('Configuratie en berekeningen'!$D$4=\"Met VA\",'Configuratie en berekeningen'!$F$4/10000,0))*'Curves met UFR, zonder VA'!Q192","v":0},{"$f":"('Curves met UFR, zonder VA'!R63+IF('Configuratie en berekeningen'!$D$4=\"Met VA\",'Configuratie en berekeningen'!$F$4/10000,0))*'Curves met UFR, zonder VA'!R192","v":0},{"$f":"('Curves met UFR, zonder VA'!S63+IF('Configuratie en berekeningen'!$D$4=\"Met VA\",'Configuratie en berekeningen'!$F$4/10000,0))*'Curves met UFR, zonder VA'!S192","v":0},{"$f":"('Curves met UFR, zonder VA'!T63+IF('Configuratie en berekeningen'!$D$4=\"Met VA\",'Configuratie en berekeningen'!$F$4/10000,0))*'Curves met UFR, zonder VA'!T192","v":0},{"$f":"('Curves met UFR, zonder VA'!U63+IF('Configuratie en berekeningen'!$D$4=\"Met VA\",'Configuratie en berekeningen'!$F$4/10000,0))*'Curves met UFR, zonder VA'!U192","v":0},{"$f":"('Curves met UFR, zonder VA'!V63+IF('Configuratie en berekeningen'!$D$4=\"Met VA\",'Configuratie en berekeningen'!$F$4/10000,0))*'Curves met UFR, zonder VA'!V192","v":0}]
[39,{"$f":"('Curves met UFR, zonder VA'!B64+IF('Configuratie en berekeningen'!$D$4=\"Met VA\",'Configuratie en berekeningen'!$F$4/10000,0))*'Curves met UFR, zonder VA'!B193","v":0},{"$f":"('Curves met UFR, zonder VA'!C64+IF('Configuratie en berekeningen'!$D$4=\"Met VA\",'Configuratie en berekeningen'!$F$4/10000,0))*'Curves met UFR, zonder VA'!C193","v":0},{"$f":"('Curves met UFR, zonder VA'!D64+IF('Configuratie en berekeningen'!$D$4=\"Met VA\",'Configuratie en berekeningen'!$F$4/10000,0))*'Curves met UFR, zonder VA'!D193","v":0},{"$f":"('Curves met UFR, zonder VA'!E64+IF('Configuratie en berekeningen'!$D$4=\"Met VA\",'Configuratie en berekeningen'!$F$4/10000,0))*'Curves met UFR, zonder VA'!E193","v":0},{"$f":"('Curves met UFR, zonder VA'!F64+IF('Configuratie en berekeningen'!$D$4=\"Met VA\",'Configuratie en berekeningen'!$F$4/10000,0))*'Curves met UFR, zonder VA'!F193","v":0},{"$f":"('Curves met UFR, zonder VA'!G64+IF('Configuratie en berekeningen'!$D$4=\"Met VA\",'Configuratie en berekeningen'!$F$4/10000,0))*'Curves met UFR, zonder VA'!G193","v":0},{"$f":"('Curves met UFR, zonder VA'!H64+IF('Configuratie en berekeningen'!$D$4=\"Met VA\",'Configuratie en berekeningen'!$F$4/10000,0))*'Curves met UFR, zonder VA'!H193","v":0},{"$f":"('Curves met UFR, zonder VA'!I64+IF('Configuratie en berekeningen'!$D$4=\"Met VA\",'Configuratie en berekeningen'!$F$4/10000,0))*'Curves met UFR, zonder VA'!I193","v":0},{"$f":"('Curves met UFR, zonder VA'!J64+IF('Configuratie en berekeningen'!$D$4=\"Met VA\",'Configuratie en berekeningen'!$F$4/10000,0))*'Curves met UFR, zonder VA'!J193","v":0},{"$f":"('Curves met UFR, zonder VA'!K64+IF('Configuratie en berekeningen'!$D$4=\"Met VA\",'Configuratie en berekeningen'!$F$4/10000,0))*'Curves met UFR, zonder VA'!K193","v":0},{"$f":"('Curves met UFR, zonder VA'!L64+IF('Configuratie en berekeningen'!$D$4=\"Met VA\",'Configuratie en berekeningen'!$F$4/10000,0))*'Curves met UFR, zonder VA'!L193","v":0},{"$f":"('Curves met UFR, zonder VA'!M64+IF('Configuratie en berekeningen'!$D$4=\"Met VA\",'Configuratie en berekeningen'!$F$4/10000,0))*'Curves met UFR, zonder VA'!M193","v":0},{"$f":"('Curves met UFR, zonder VA'!N64+IF('Configuratie en berekeningen'!$D$4=\"Met VA\",'Configuratie en berekeningen'!$F$4/10000,0))*'Curves met UFR, zonder VA'!N193","v":0},{"$f":"('Curves met UFR, zonder VA'!O64+IF('Configuratie en berekeningen'!$D$4=\"Met VA\",'Configuratie en berekeningen'!$F$4/10000,0))*'Curves met UFR, zonder VA'!O193","v":0},{"$f":"('Curves met UFR, zonder VA'!P64+IF('Configuratie en berekeningen'!$D$4=\"Met VA\",'Configuratie en berekeningen'!$F$4/10000,0))*'Curves met UFR, zonder VA'!P193","v":0},{"$f":"('Curves met UFR, zonder VA'!Q64+IF('Configuratie en berekeningen'!$D$4=\"Met VA\",'Configuratie en berekeningen'!$F$4/10000,0))*'Curves met UFR, zonder VA'!Q193","v":0},{"$f":"('Curves met UFR, zonder VA'!R64+IF('Configuratie en berekeningen'!$D$4=\"Met VA\",'Configuratie en berekeningen'!$F$4/10000,0))*'Curves met UFR, zonder VA'!R193","v":0},{"$f":"('Curves met UFR, zonder VA'!S64+IF('Configuratie en berekeningen'!$D$4=\"Met VA\",'Configuratie en berekeningen'!$F$4/10000,0))*'Curves met UFR, zonder VA'!S193","v":0},{"$f":"('Curves met UFR, zonder VA'!T64+IF('Configuratie en berekeningen'!$D$4=\"Met VA\",'Configuratie en berekeningen'!$F$4/10000,0))*'Curves met UFR, zonder VA'!T193","v":0},{"$f":"('Curves met UFR, zonder VA'!U64+IF('Configuratie en berekeningen'!$D$4=\"Met VA\",'Configuratie en berekeningen'!$F$4/10000,0))*'Curves met UFR, zonder VA'!U193","v":0},{"$f":"('Curves met UFR, zonder VA'!V64+IF('Configuratie en berekeningen'!$D$4=\"Met VA\",'Configuratie en berekeningen'!$F$4/10000,0))*'Curves met UFR, zonder VA'!V193","v":0}]
[40,{"$f":"('Curves met UFR, zonder VA'!B65+IF('Configuratie en berekeningen'!$D$4=\"Met VA\",'Configuratie en berekeningen'!$F$4/10000,0))*'Curves met UFR, zonder VA'!B194","v":0},{"$f":"('Curves met UFR, zonder VA'!C65+IF('Configuratie en berekeningen'!$D$4=\"Met VA\",'Configuratie en berekeningen'!$F$4/10000,0))*'Curves met UFR, zonder VA'!C194","v":0},{"$f":"('Curves met UFR, zonder VA'!D65+IF('Configuratie en berekeningen'!$D$4=\"Met VA\",'Configuratie en berekeningen'!$F$4/10000,0))*'Curves met UFR, zonder VA'!D194","v":0},{"$f":"('Curves met UFR, zonder VA'!E65+IF('Configuratie en berekeningen'!$D$4=\"Met VA\",'Configuratie en berekeningen'!$F$4/10000,0))*'Curves met UFR, zonder VA'!E194","v":0},{"$f":"('Curves met UFR, zonder VA'!F65+IF('Configuratie en berekeningen'!$D$4=\"Met VA\",'Configuratie en berekeningen'!$F$4/10000,0))*'Curves met UFR, zonder VA'!F194","v":0},{"$f":"('Curves met UFR, zonder VA'!G65+IF('Configuratie en berekeningen'!$D$4=\"Met VA\",'Configuratie en berekeningen'!$F$4/10000,0))*'Curves met UFR, zonder VA'!G194","v":0},{"$f":"('Curves met UFR, zonder VA'!H65+IF('Configuratie en berekeningen'!$D$4=\"Met VA\",'Configuratie en berekeningen'!$F$4/10000,0))*'Curves met UFR, zonder VA'!H194","v":0},{"$f":"('Curves met UFR, zonder VA'!I65+IF('Configuratie en berekeningen'!$D$4=\"Met VA\",'Configuratie en berekeningen'!$F$4/10000,0))*'Curves met UFR, zonder VA'!I194","v":0},{"$f":"('Curves met UFR, zonder VA'!J65+IF('Configuratie en berekeningen'!$D$4=\"Met VA\",'Configuratie en berekeningen'!$F$4/10000,0))*'Curves met UFR, zonder VA'!J194","v":0},{"$f":"('Curves met UFR, zonder VA'!K65+IF('Configuratie en berekeningen'!$D$4=\"Met VA\",'Configuratie en berekeningen'!$F$4/10000,0))*'Curves met UFR, zonder VA'!K194","v":0},{"$f":"('Curves met UFR, zonder VA'!L65+IF('Configuratie en berekeningen'!$D$4=\"Met VA\",'Configuratie en berekeningen'!$F$4/10000,0))*'Curves met UFR, zonder VA'!L194","v":0},{"$f":"('Curves met UFR, zonder VA'!M65+IF('Configuratie en berekeningen'!$D$4=\"Met VA\",'Configuratie en berekeningen'!$F$4/10000,0))*'Curves met UFR, zonder VA'!M194","v":0},{"$f":"('Curves met UFR, zonder VA'!N65+IF('Configuratie en berekeningen'!$D$4=\"Met VA\",'Configuratie en berekeningen'!$F$4/10000,0))*'Curves met UFR, zonder VA'!N194","v":0},{"$f":"('Curves met UFR, zonder VA'!O65+IF('Configuratie en berekeningen'!$D$4=\"Met VA\",'Configuratie en berekeningen'!$F$4/10000,0))*'Curves met UFR, zonder VA'!O194","v":0},{"$f":"('Curves met UFR, zonder VA'!P65+IF('Configuratie en berekeningen'!$D$4=\"Met VA\",'Configuratie en berekeningen'!$F$4/10000,0))*'Curves met UFR, zonder VA'!P194","v":0},{"$f":"('Curves met UFR, zonder VA'!Q65+IF('Configuratie en berekeningen'!$D$4=\"Met VA\",'Configuratie en berekeningen'!$F$4/10000,0))*'Curves met UFR, zonder VA'!Q194","v":0},{"$f":"('Curves met UFR, zonder VA'!R65+IF('Configuratie en berekeningen'!$D$4=\"Met VA\",'Configuratie en berekeningen'!$F$4/10000,0))*'Curves met UFR, zonder VA'!R194","v":0},{"$f":"('Curves met UFR, zonder VA'!S65+IF('Configuratie en berekeningen'!$D$4=\"Met VA\",'Configuratie en berekeningen'!$F$4/10000,0))*'Curves met UFR, zonder VA'!S194","v":0},{"$f":"('Curves met UFR, zonder VA'!T65+IF('Configuratie en berekeningen'!$D$4=\"Met VA\",'Configuratie en berekeningen'!$F$4/10000,0))*'Curves met UFR, zonder VA'!T194","v":0},{"$f":"('Curves met UFR, zonder VA'!U65+IF('Configuratie en berekeningen'!$D$4=\"Met VA\",'Configuratie en berekeningen'!$F$4/10000,0))*'Curves met UFR, zonder VA'!U194","v":0},{"$f":"('Curves met UFR, zonder VA'!V65+IF('Configuratie en berekeningen'!$D$4=\"Met VA\",'Configuratie en berekeningen'!$F$4/10000,0))*'Curves met UFR, zonder VA'!V194","v":0}]
[41,{"$f":"('Curves met UFR, zonder VA'!B66+IF('Configuratie en berekeningen'!$D$4=\"Met VA\",'Configuratie en berekeningen'!$F$4/10000,0))*'Curves met UFR, zonder VA'!B195","v":0},{"$f":"('Curves met UFR, zonder VA'!C66+IF('Configuratie en berekeningen'!$D$4=\"Met VA\",'Configuratie en berekeningen'!$F$4/10000,0))*'Curves met UFR, zonder VA'!C195","v":0},{"$f":"('Curves met UFR, zonder VA'!D66+IF('Configuratie en berekeningen'!$D$4=\"Met VA\",'Configuratie en berekeningen'!$F$4/10000,0))*'Curves met UFR, zonder VA'!D195","v":0},{"$f":"('Curves met UFR, zonder VA'!E66+IF('Configuratie en berekeningen'!$D$4=\"Met VA\",'Configuratie en berekeningen'!$F$4/10000,0))*'Curves met UFR, zonder VA'!E195","v":0},{"$f":"('Curves met UFR, zonder VA'!F66+IF('Configuratie en berekeningen'!$D$4=\"Met VA\",'Configuratie en berekeningen'!$F$4/10000,0))*'Curves met UFR, zonder VA'!F195","v":0},{"$f":"('Curves met UFR, zonder VA'!G66+IF('Configuratie en berekeningen'!$D$4=\"Met VA\",'Configuratie en berekeningen'!$F$4/10000,0))*'Curves met UFR, zonder VA'!G195","v":0},{"$f":"('Curves met UFR, zonder VA'!H66+IF('Configuratie en berekeningen'!$D$4=\"Met VA\",'Configuratie en berekeningen'!$F$4/10000,0))*'Curves met UFR, zonder VA'!H195","v":0},{"$f":"('Curves met UFR, zonder VA'!I66+IF('Configuratie en berekeningen'!$D$4=\"Met VA\",'Configuratie en berekeningen'!$F$4/10000,0))*'Curves met UFR, zonder VA'!I195","v":0},{"$f":"('Curves met UFR, zonder VA'!J66+IF('Configuratie en berekeningen'!$D$4=\"Met VA\",'Configuratie en berekeningen'!$F$4/10000,0))*'Curves met UFR, zonder VA'!J195","v":0},{"$f":"('Curves met UFR, zonder VA'!K66+IF('Configuratie en berekeningen'!$D$4=\"Met VA\",'Configuratie en berekeningen'!$F$4/10000,0))*'Curves met UFR, zonder VA'!K195","v":0},{"$f":"('Curves met UFR, zonder VA'!L66+IF('Configuratie en berekeningen'!$D$4=\"Met VA\",'Configuratie en berekeningen'!$F$4/10000,0))*'Curves met UFR, zonder VA'!L195","v":0},{"$f":"('Curves met UFR, zonder VA'!M66+IF('Configuratie en berekeningen'!$D$4=\"Met VA\",'Configuratie en berekeningen'!$F$4/10000,0))*'Curves met UFR, zonder VA'!M195","v":0},{"$f":"('Curves met UFR, zonder VA'!N66+IF('Configuratie en berekeningen'!$D$4=\"Met VA\",'Configuratie en berekeningen'!$F$4/10000,0))*'Curves met UFR, zonder VA'!N195","v":0},{"$f":"('Curves met UFR, zonder VA'!O66+IF('Configuratie en berekeningen'!$D$4=\"Met VA\",'Configuratie en berekeningen'!$F$4/10000,0))*'Curves met UFR, zonder VA'!O195","v":0},{"$f":"('Curves met UFR, zonder VA'!P66+IF('Configuratie en berekeningen'!$D$4=\"Met VA\",'Configuratie en berekeningen'!$F$4/10000,0))*'Curves met UFR, zonder VA'!P195","v":0},{"$f":"('Curves met UFR, zonder VA'!Q66+IF('Configuratie en berekeningen'!$D$4=\"Met VA\",'Configuratie en berekeningen'!$F$4/10000,0))*'Curves met UFR, zonder VA'!Q195","v":0},{"$f":"('Curves met UFR, zonder VA'!R66+IF('Configuratie en berekeningen'!$D$4=\"Met VA\",'Configuratie en berekeningen'!$F$4/10000,0))*'Curves met UFR, zonder VA'!R195","v":0},{"$f":"('Curves met UFR, zonder VA'!S66+IF('Configuratie en berekeningen'!$D$4=\"Met VA\",'Configuratie en berekeningen'!$F$4/10000,0))*'Curves met UFR, zonder VA'!S195","v":0},{"$f":"('Curves met UFR, zonder VA'!T66+IF('Configuratie en berekeningen'!$D$4=\"Met VA\",'Configuratie en berekeningen'!$F$4/10000,0))*'Curves met UFR, zonder VA'!T195","v":0},{"$f":"('Curves met UFR, zonder VA'!U66+IF('Configuratie en berekeningen'!$D$4=\"Met VA\",'Configuratie en berekeningen'!$F$4/10000,0))*'Curves met UFR, zonder VA'!U195","v":0},{"$f":"('Curves met UFR, zonder VA'!V66+IF('Configuratie en berekeningen'!$D$4=\"Met VA\",'Configuratie en berekeningen'!$F$4/10000,0))*'Curves met UFR, zonder VA'!V195","v":0}]
[42,{"$f":"('Curves met UFR, zonder VA'!B67+IF('Configuratie en berekeningen'!$D$4=\"Met VA\",'Configuratie en berekeningen'!$F$4/10000,0))*'Curves met UFR, zonder VA'!B196","v":0},{"$f":"('Curves met UFR, zonder VA'!C67+IF('Configuratie en berekeningen'!$D$4=\"Met VA\",'Configuratie en berekeningen'!$F$4/10000,0))*'Curves met UFR, zonder VA'!C196","v":0},{"$f":"('Curves met UFR, zonder VA'!D67+IF('Configuratie en berekeningen'!$D$4=\"Met VA\",'Configuratie en berekeningen'!$F$4/10000,0))*'Curves met UFR, zonder VA'!D196","v":0},{"$f":"('Curves met UFR, zonder VA'!E67+IF('Configuratie en berekeningen'!$D$4=\"Met VA\",'Configuratie en berekeningen'!$F$4/10000,0))*'Curves met UFR, zonder VA'!E196","v":0},{"$f":"('Curves met UFR, zonder VA'!F67+IF('Configuratie en berekeningen'!$D$4=\"Met VA\",'Configuratie en berekeningen'!$F$4/10000,0))*'Curves met UFR, zonder VA'!F196","v":0},{"$f":"('Curves met UFR, zonder VA'!G67+IF('Configuratie en berekeningen'!$D$4=\"Met VA\",'Configuratie en berekeningen'!$F$4/10000,0))*'Curves met UFR, zonder VA'!G196","v":0},{"$f":"('Curves met UFR, zonder VA'!H67+IF('Configuratie en berekeningen'!$D$4=\"Met VA\",'Configuratie en berekeningen'!$F$4/10000,0))*'Curves met UFR, zonder VA'!H196","v":0},{"$f":"('Curves met UFR, zonder VA'!I67+IF('Configuratie en berekeningen'!$D$4=\"Met VA\",'Configuratie en berekeningen'!$F$4/10000,0))*'Curves met UFR, zonder VA'!I196","v":0},{"$f":"('Curves met UFR, zonder VA'!J67+IF('Configuratie en berekeningen'!$D$4=\"Met VA\",'Configuratie en berekeningen'!$F$4/10000,0))*'Curves met UFR, zonder VA'!J196","v":0},{"$f":"('Curves met UFR, zonder VA'!K67+IF('Configuratie en berekeningen'!$D$4=\"Met VA\",'Configuratie en berekeningen'!$F$4/10000,0))*'Curves met UFR, zonder VA'!K196","v":0},{"$f":"('Curves met UFR, zonder VA'!L67+IF('Configuratie en berekeningen'!$D$4=\"Met VA\",'Configuratie en berekeningen'!$F$4/10000,0))*'Curves met UFR, zonder VA'!L196","v":0},{"$f":"('Curves met UFR, zonder VA'!M67+IF('Configuratie en berekeningen'!$D$4=\"Met VA\",'Configuratie en berekeningen'!$F$4/10000,0))*'Curves met UFR, zonder VA'!M196","v":0},{"$f":"('Curves met UFR, zonder VA'!N67+IF('Configuratie en berekeningen'!$D$4=\"Met VA\",'Configuratie en berekeningen'!$F$4/10000,0))*'Curves met UFR, zonder VA'!N196","v":0},{"$f":"('Curves met UFR, zonder VA'!O67+IF('Configuratie en berekeningen'!$D$4=\"Met VA\",'Configuratie en berekeningen'!$F$4/10000,0))*'Curves met UFR, zonder VA'!O196","v":0},{"$f":"('Curves met UFR, zonder VA'!P67+IF('Configuratie en berekeningen'!$D$4=\"Met VA\",'Configuratie en berekeningen'!$F$4/10000,0))*'Curves met UFR, zonder VA'!P196","v":0},{"$f":"('Curves met UFR, zonder VA'!Q67+IF('Configuratie en berekeningen'!$D$4=\"Met VA\",'Configuratie en berekeningen'!$F$4/10000,0))*'Curves met UFR, zonder VA'!Q196","v":0},{"$f":"('Curves met UFR, zonder VA'!R67+IF('Configuratie en berekeningen'!$D$4=\"Met VA\",'Configuratie en berekeningen'!$F$4/10000,0))*'Curves met UFR, zonder VA'!R196","v":0},{"$f":"('Curves met UFR, zonder VA'!S67+IF('Configuratie en berekeningen'!$D$4=\"Met VA\",'Configuratie en berekeningen'!$F$4/10000,0))*'Curves met UFR, zonder VA'!S196","v":0},{"$f":"('Curves met UFR, zonder VA'!T67+IF('Configuratie en berekeningen'!$D$4=\"Met VA\",'Configuratie en berekeningen'!$F$4/10000,0))*'Curves met UFR, zonder VA'!T196","v":0},{"$f":"('Curves met UFR, zonder VA'!U67+IF('Configuratie en berekeningen'!$D$4=\"Met VA\",'Configuratie en berekeningen'!$F$4/10000,0))*'Curves met UFR, zonder VA'!U196","v":0},{"$f":"('Curves met UFR, zonder VA'!V67+IF('Configuratie en berekeningen'!$D$4=\"Met VA\",'Configuratie en berekeningen'!$F$4/10000,0))*'Curves met UFR, zonder VA'!V196","v":0}]
[43,{"$f":"('Curves met UFR, zonder VA'!B68+IF('Configuratie en berekeningen'!$D$4=\"Met VA\",'Configuratie en berekeningen'!$F$4/10000,0))*'Curves met UFR, zonder VA'!B197","v":0},{"$f":"('Curves met UFR, zonder VA'!C68+IF('Configuratie en berekeningen'!$D$4=\"Met VA\",'Configuratie en berekeningen'!$F$4/10000,0))*'Curves met UFR, zonder VA'!C197","v":0},{"$f":"('Curves met UFR, zonder VA'!D68+IF('Configuratie en berekeningen'!$D$4=\"Met VA\",'Configuratie en berekeningen'!$F$4/10000,0))*'Curves met UFR, zonder VA'!D197","v":0},{"$f":"('Curves met UFR, zonder VA'!E68+IF('Configuratie en berekeningen'!$D$4=\"Met VA\",'Configuratie en berekeningen'!$F$4/10000,0))*'Curves met UFR, zonder VA'!E197","v":0},{"$f":"('Curves met UFR, zonder VA'!F68+IF('Configuratie en berekeningen'!$D$4=\"Met VA\",'Configuratie en berekeningen'!$F$4/10000,0))*'Curves met UFR, zonder VA'!F197","v":0},{"$f":"('Curves met UFR, zonder VA'!G68+IF('Configuratie en berekeningen'!$D$4=\"Met VA\",'Configuratie en berekeningen'!$F$4/10000,0))*'Curves met UFR, zonder VA'!G197","v":0},{"$f":"('Curves met UFR, zonder VA'!H68+IF('Configuratie en berekeningen'!$D$4=\"Met VA\",'Configuratie en berekeningen'!$F$4/10000,0))*'Curves met UFR, zonder VA'!H197","v":0},{"$f":"('Curves met UFR, zonder VA'!I68+IF('Configuratie en berekeningen'!$D$4=\"Met VA\",'Configuratie en berekeningen'!$F$4/10000,0))*'Curves met UFR, zonder VA'!I197","v":0},{"$f":"('Curves met UFR, zonder VA'!J68+IF('Configuratie en berekeningen'!$D$4=\"Met VA\",'Configuratie en berekeningen'!$F$4/10000,0))*'Curves met UFR, zonder VA'!J197","v":0},{"$f":"('Curves met UFR, zonder VA'!K68+IF('Configuratie en berekeningen'!$D$4=\"Met VA\",'Configuratie en berekeningen'!$F$4/10000,0))*'Curves met UFR, zonder VA'!K197","v":0},{"$f":"('Curves met UFR, zonder VA'!L68+IF('Configuratie en berekeningen'!$D$4=\"Met VA\",'Configuratie en berekeningen'!$F$4/10000,0))*'Curves met UFR, zonder VA'!L197","v":0},{"$f":"('Curves met UFR, zonder VA'!M68+IF('Configuratie en berekeningen'!$D$4=\"Met VA\",'Configuratie en berekeningen'!$F$4/10000,0))*'Curves met UFR, zonder VA'!M197","v":0},{"$f":"('Curves met UFR, zonder VA'!N68+IF('Configuratie en berekeningen'!$D$4=\"Met VA\",'Configuratie en berekeningen'!$F$4/10000,0))*'Curves met UFR, zonder VA'!N197","v":0},{"$f":"('Curves met UFR, zonder VA'!O68+IF('Configuratie en berekeningen'!$D$4=\"Met VA\",'Configuratie en berekeningen'!$F$4/10000,0))*'Curves met UFR, zonder VA'!O197","v":0},{"$f":"('Curves met UFR, zonder VA'!P68+IF('Configuratie en berekeningen'!$D$4=\"Met VA\",'Configuratie en berekeningen'!$F$4/10000,0))*'Curves met UFR, zonder VA'!P197","v":0},{"$f":"('Curves met UFR, zonder VA'!Q68+IF('Configuratie en berekeningen'!$D$4=\"Met VA\",'Configuratie en berekeningen'!$F$4/10000,0))*'Curves met UFR, zonder VA'!Q197","v":0},{"$f":"('Curves met UFR, zonder VA'!R68+IF('Configuratie en berekeningen'!$D$4=\"Met VA\",'Configuratie en berekeningen'!$F$4/10000,0))*'Curves met UFR, zonder VA'!R197","v":0},{"$f":"('Curves met UFR, zonder VA'!S68+IF('Configuratie en berekeningen'!$D$4=\"Met VA\",'Configuratie en berekeningen'!$F$4/10000,0))*'Curves met UFR, zonder VA'!S197","v":0},{"$f":"('Curves met UFR, zonder VA'!T68+IF('Configuratie en berekeningen'!$D$4=\"Met VA\",'Configuratie en berekeningen'!$F$4/10000,0))*'Curves met UFR, zonder VA'!T197","v":0},{"$f":"('Curves met UFR, zonder VA'!U68+IF('Configuratie en berekeningen'!$D$4=\"Met VA\",'Configuratie en berekeningen'!$F$4/10000,0))*'Curves met UFR, zonder VA'!U197","v":0},{"$f":"('Curves met UFR, zonder VA'!V68+IF('Configuratie en berekeningen'!$D$4=\"Met VA\",'Configuratie en berekeningen'!$F$4/10000,0))*'Curves met UFR, zonder VA'!V197","v":0}]
[44,{"$f":"('Curves met UFR, zonder VA'!B69+IF('Configuratie en berekeningen'!$D$4=\"Met VA\",'Configuratie en berekeningen'!$F$4/10000,0))*'Curves met UFR, zonder VA'!B198","v":0},{"$f":"('Curves met UFR, zonder VA'!C69+IF('Configuratie en berekeningen'!$D$4=\"Met VA\",'Configuratie en berekeningen'!$F$4/10000,0))*'Curves met UFR, zonder VA'!C198","v":0},{"$f":"('Curves met UFR, zonder VA'!D69+IF('Configuratie en berekeningen'!$D$4=\"Met VA\",'Configuratie en berekeningen'!$F$4/10000,0))*'Curves met UFR, zonder VA'!D198","v":0},{"$f":"('Curves met UFR, zonder VA'!E69+IF('Configuratie en berekeningen'!$D$4=\"Met VA\",'Configuratie en berekeningen'!$F$4/10000,0))*'Curves met UFR, zonder VA'!E198","v":0},{"$f":"('Curves met UFR, zonder VA'!F69+IF('Configuratie en berekeningen'!$D$4=\"Met VA\",'Configuratie en berekeningen'!$F$4/10000,0))*'Curves met UFR, zonder VA'!F198","v":0},{"$f":"('Curves met UFR, zonder VA'!G69+IF('Configuratie en berekeningen'!$D$4=\"Met VA\",'Configuratie en berekeningen'!$F$4/10000,0))*'Curves met UFR, zonder VA'!G198","v":0},{"$f":"('Curves met UFR, zonder VA'!H69+IF('Configuratie en berekeningen'!$D$4=\"Met VA\",'Configuratie en berekeningen'!$F$4/10000,0))*'Curves met UFR, zonder VA'!H198","v":0},{"$f":"('Curves met UFR, zonder VA'!I69+IF('Configuratie en berekeningen'!$D$4=\"Met VA\",'Configuratie en berekeningen'!$F$4/10000,0))*'Curves met UFR, zonder VA'!I198","v":0},{"$f":"('Curves met UFR, zonder VA'!J69+IF('Configuratie en berekeningen'!$D$4=\"Met VA\",'Configuratie en berekeningen'!$F$4/10000,0))*'Curves met UFR, zonder VA'!J198","v":0},{"$f":"('Curves met UFR, zonder VA'!K69+IF('Configuratie en berekeningen'!$D$4=\"Met VA\",'Configuratie en berekeningen'!$F$4/10000,0))*'Curves met UFR, zonder VA'!K198","v":0},{"$f":"('Curves met UFR, zonder VA'!L69+IF('Configuratie en berekeningen'!$D$4=\"Met VA\",'Configuratie en berekeningen'!$F$4/10000,0))*'Curves met UFR, zonder VA'!L198","v":0},{"$f":"('Curves met UFR, zonder VA'!M69+IF('Configuratie en berekeningen'!$D$4=\"Met VA\",'Configuratie en berekeningen'!$F$4/10000,0))*'Curves met UFR, zonder VA'!M198","v":0},{"$f":"('Curves met UFR, zonder VA'!N69+IF('Configuratie en berekeningen'!$D$4=\"Met VA\",'Configuratie en berekeningen'!$F$4/10000,0))*'Curves met UFR, zonder VA'!N198","v":0},{"$f":"('Curves met UFR, zonder VA'!O69+IF('Configuratie en berekeningen'!$D$4=\"Met VA\",'Configuratie en berekeningen'!$F$4/10000,0))*'Curves met UFR, zonder VA'!O198","v":0},{"$f":"('Curves met UFR, zonder VA'!P69+IF('Configuratie en berekeningen'!$D$4=\"Met VA\",'Configuratie en berekeningen'!$F$4/10000,0))*'Curves met UFR, zonder VA'!P198","v":0},{"$f":"('Curves met UFR, zonder VA'!Q69+IF('Configuratie en berekeningen'!$D$4=\"Met VA\",'Configuratie en berekeningen'!$F$4/10000,0))*'Curves met UFR, zonder VA'!Q198","v":0},{"$f":"('Curves met UFR, zonder VA'!R69+IF('Configuratie en berekeningen'!$D$4=\"Met VA\",'Configuratie en berekeningen'!$F$4/10000,0))*'Curves met UFR, zonder VA'!R198","v":0},{"$f":"('Curves met UFR, zonder VA'!S69+IF('Configuratie en berekeningen'!$D$4=\"Met VA\",'Configuratie en berekeningen'!$F$4/10000,0))*'Curves met UFR, zonder VA'!S198","v":0},{"$f":"('Curves met UFR, zonder VA'!T69+IF('Configuratie en berekeningen'!$D$4=\"Met VA\",'Configuratie en berekeningen'!$F$4/10000,0))*'Curves met UFR, zonder VA'!T198","v":0},{"$f":"('Curves met UFR, zonder VA'!U69+IF('Configuratie en berekeningen'!$D$4=\"Met VA\",'Configuratie en berekeningen'!$F$4/10000,0))*'Curves met UFR, zonder VA'!U198","v":0},{"$f":"('Curves met UFR, zonder VA'!V69+IF('Configuratie en berekeningen'!$D$4=\"Met VA\",'Configuratie en berekeningen'!$F$4/10000,0))*'Curves met UFR, zonder VA'!V198","v":0}]
[45,{"$f":"('Curves met UFR, zonder VA'!B70+IF('Configuratie en berekeningen'!$D$4=\"Met VA\",'Configuratie en berekeningen'!$F$4/10000,0))*'Curves met UFR, zonder VA'!B199","v":0},{"$f":"('Curves met UFR, zonder VA'!C70+IF('Configuratie en berekeningen'!$D$4=\"Met VA\",'Configuratie en berekeningen'!$F$4/10000,0))*'Curves met UFR, zonder VA'!C199","v":0},{"$f":"('Curves met UFR, zonder VA'!D70+IF('Configuratie en berekeningen'!$D$4=\"Met VA\",'Configuratie en berekeningen'!$F$4/10000,0))*'Curves met UFR, zonder VA'!D199","v":0},{"$f":"('Curves met UFR, zonder VA'!E70+IF('Configuratie en berekeningen'!$D$4=\"Met VA\",'Configuratie en berekeningen'!$F$4/10000,0))*'Curves met UFR, zonder VA'!E199","v":0},{"$f":"('Curves met UFR, zonder VA'!F70+IF('Configuratie en berekeningen'!$D$4=\"Met VA\",'Configuratie en berekeningen'!$F$4/10000,0))*'Curves met UFR, zonder VA'!F199","v":0},{"$f":"('Curves met UFR, zonder VA'!G70+IF('Configuratie en berekeningen'!$D$4=\"Met VA\",'Configuratie en berekeningen'!$F$4/10000,0))*'Curves met UFR, zonder VA'!G199","v":0},{"$f":"('Curves met UFR, zonder VA'!H70+IF('Configuratie en berekeningen'!$D$4=\"Met VA\",'Configuratie en berekeningen'!$F$4/10000,0))*'Curves met UFR, zonder VA'!H199","v":0},{"$f":"('Curves met UFR, zonder VA'!I70+IF('Configuratie en berekeningen'!$D$4=\"Met VA\",'Configuratie en berekeningen'!$F$4/10000,0))*'Curves met UFR, zonder VA'!I199","v":0},{"$f":"('Curves met UFR, zonder VA'!J70+IF('Configuratie en berekeningen'!$D$4=\"Met VA\",'Configuratie en berekeningen'!$F$4/10000,0))*'Curves met UFR, zonder VA'!J199","v":0},{"$f":"('Curves met UFR, zonder VA'!K70+IF('Configuratie en berekeningen'!$D$4=\"Met VA\",'Configuratie en berekeningen'!$F$4/10000,0))*'Curves met UFR, zonder VA'!K199","v":0},{"$f":"('Curves met UFR, zonder VA'!L70+IF('Configuratie en berekeningen'!$D$4=\"Met VA\",'Configuratie en berekeningen'!$F$4/10000,0))*'Curves met UFR, zonder VA'!L199","v":0},{"$f":"('Curves met UFR, zonder VA'!M70+IF('Configuratie en berekeningen'!$D$4=\"Met VA\",'Configuratie en berekeningen'!$F$4/10000,0))*'Curves met UFR, zonder VA'!M199","v":0},{"$f":"('Curves met UFR, zonder VA'!N70+IF('Configuratie en berekeningen'!$D$4=\"Met VA\",'Configuratie en berekeningen'!$F$4/10000,0))*'Curves met UFR, zonder VA'!N199","v":0},{"$f":"('Curves met UFR, zonder VA'!O70+IF('Configuratie en berekeningen'!$D$4=\"Met VA\",'Configuratie en berekeningen'!$F$4/10000,0))*'Curves met UFR, zonder VA'!O199","v":0},{"$f":"('Curves met UFR, zonder VA'!P70+IF('Configuratie en berekeningen'!$D$4=\"Met VA\",'Configuratie en berekeningen'!$F$4/10000,0))*'Curves met UFR, zonder VA'!P199","v":0},{"$f":"('Curves met UFR, zonder VA'!Q70+IF('Configuratie en berekeningen'!$D$4=\"Met VA\",'Configuratie en berekeningen'!$F$4/10000,0))*'Curves met UFR, zonder VA'!Q199","v":0},{"$f":"('Curves met UFR, zonder VA'!R70+IF('Configuratie en berekeningen'!$D$4=\"Met VA\",'Configuratie en berekeningen'!$F$4/10000,0))*'Curves met UFR, zonder VA'!R199","v":0},{"$f":"('Curves met UFR, zonder VA'!S70+IF('Configuratie en berekeningen'!$D$4=\"Met VA\",'Configuratie en berekeningen'!$F$4/10000,0))*'Curves met UFR, zonder VA'!S199","v":0},{"$f":"('Curves met UFR, zonder VA'!T70+IF('Configuratie en berekeningen'!$D$4=\"Met VA\",'Configuratie en berekeningen'!$F$4/10000,0))*'Curves met UFR, zonder VA'!T199","v":0},{"$f":"('Curves met UFR, zonder VA'!U70+IF('Configuratie en berekeningen'!$D$4=\"Met VA\",'Configuratie en berekeningen'!$F$4/10000,0))*'Curves met UFR, zonder VA'!U199","v":0},{"$f":"('Curves met UFR, zonder VA'!V70+IF('Configuratie en berekeningen'!$D$4=\"Met VA\",'Configuratie en berekeningen'!$F$4/10000,0))*'Curves met UFR, zonder VA'!V199","v":0}]
[46,{"$f":"('Curves met UFR, zonder VA'!B71+IF('Configuratie en berekeningen'!$D$4=\"Met VA\",'Configuratie en berekeningen'!$F$4/10000,0))*'Curves met UFR, zonder VA'!B200","v":0},{"$f":"('Curves met UFR, zonder VA'!C71+IF('Configuratie en berekeningen'!$D$4=\"Met VA\",'Configuratie en berekeningen'!$F$4/10000,0))*'Curves met UFR, zonder VA'!C200","v":0},{"$f":"('Curves met UFR, zonder VA'!D71+IF('Configuratie en berekeningen'!$D$4=\"Met VA\",'Configuratie en berekeningen'!$F$4/10000,0))*'Curves met UFR, zonder VA'!D200","v":0},{"$f":"('Curves met UFR, zonder VA'!E71+IF('Configuratie en berekeningen'!$D$4=\"Met VA\",'Configuratie en berekeningen'!$F$4/10000,0))*'Curves met UFR, zonder VA'!E200","v":0},{"$f":"('Curves met UFR, zonder VA'!F71+IF('Configuratie en berekeningen'!$D$4=\"Met VA\",'Configuratie en berekeningen'!$F$4/10000,0))*'Curves met UFR, zonder VA'!F200","v":0},{"$f":"('Curves met UFR, zonder VA'!G71+IF('Configuratie en berekeningen'!$D$4=\"Met VA\",'Configuratie en berekeningen'!$F$4/10000,0))*'Curves met UFR, zonder VA'!G200","v":0},{"$f":"('Curves met UFR, zonder VA'!H71+IF('Configuratie en berekeningen'!$D$4=\"Met VA\",'Configuratie en berekeningen'!$F$4/10000,0))*'Curves met UFR, zonder VA'!H200","v":0},{"$f":"('Curves met UFR, zonder VA'!I71+IF('Configuratie en berekeningen'!$D$4=\"Met VA\",'Configuratie en berekeningen'!$F$4/10000,0))*'Curves met UFR, zonder VA'!I200","v":0},{"$f":"('Curves met UFR, zonder VA'!J71+IF('Configuratie en berekeningen'!$D$4=\"Met VA\",'Configuratie en berekeningen'!$F$4/10000,0))*'Curves met UFR, zonder VA'!J200","v":0},{"$f":"('Curves met UFR, zonder VA'!K71+IF('Configuratie en berekeningen'!$D$4=\"Met VA\",'Configuratie en berekeningen'!$F$4/10000,0))*'Curves met UFR, zonder VA'!K200","v":0},{"$f":"('Curves met UFR, zonder VA'!L71+IF('Configuratie en berekeningen'!$D$4=\"Met VA\",'Configuratie en berekeningen'!$F$4/10000,0))*'Curves met UFR, zonder VA'!L200","v":0},{"$f":"('Curves met UFR, zonder VA'!M71+IF('Configuratie en berekeningen'!$D$4=\"Met VA\",'Configuratie en berekeningen'!$F$4/10000,0))*'Curves met UFR, zonder VA'!M200","v":0},{"$f":"('Curves met UFR, zonder VA'!N71+IF('Configuratie en berekeningen'!$D$4=\"Met VA\",'Configuratie en berekeningen'!$F$4/10000,0))*'Curves met UFR, zonder VA'!N200","v":0},{"$f":"('Curves met UFR, zonder VA'!O71+IF('Configuratie en berekeningen'!$D$4=\"Met VA\",'Configuratie en berekeningen'!$F$4/10000,0))*'Curves met UFR, zonder VA'!O200","v":0},{"$f":"('Curves met UFR, zonder VA'!P71+IF('Configuratie en berekeningen'!$D$4=\"Met VA\",'Configuratie en berekeningen'!$F$4/10000,0))*'Curves met UFR, zonder VA'!P200","v":0},{"$f":"('Curves met UFR, zonder VA'!Q71+IF('Configuratie en berekeningen'!$D$4=\"Met VA\",'Configuratie en berekeningen'!$F$4/10000,0))*'Curves met UFR, zonder VA'!Q200","v":0},{"$f":"('Curves met UFR, zonder VA'!R71+IF('Configuratie en berekeningen'!$D$4=\"Met VA\",'Configuratie en berekeningen'!$F$4/10000,0))*'Curves met UFR, zonder VA'!R200","v":0},{"$f":"('Curves met UFR, zonder VA'!S71+IF('Configuratie en berekeningen'!$D$4=\"Met VA\",'Configuratie en berekeningen'!$F$4/10000,0))*'Curves met UFR, zonder VA'!S200","v":0},{"$f":"('Curves met UFR, zonder VA'!T71+IF('Configuratie en berekeningen'!$D$4=\"Met VA\",'Configuratie en berekeningen'!$F$4/10000,0))*'Curves met UFR, zonder VA'!T200","v":0},{"$f":"('Curves met UFR, zonder VA'!U71+IF('Configuratie en berekeningen'!$D$4=\"Met VA\",'Configuratie en berekeningen'!$F$4/10000,0))*'Curves met UFR, zonder VA'!U200","v":0},{"$f":"('Curves met UFR, zonder VA'!V71+IF('Configuratie en berekeningen'!$D$4=\"Met VA\",'Configuratie en berekeningen'!$F$4/10000,0))*'Curves met UFR, zonder VA'!V200","v":0}]
[47,{"$f":"('Curves met UFR, zonder VA'!B72+IF('Configuratie en berekeningen'!$D$4=\"Met VA\",'Configuratie en berekeningen'!$F$4/10000,0))*'Curves met UFR, zonder VA'!B201","v":0},{"$f":"('Curves met UFR, zonder VA'!C72+IF('Configuratie en berekeningen'!$D$4=\"Met VA\",'Configuratie en berekeningen'!$F$4/10000,0))*'Curves met UFR, zonder VA'!C201","v":0},{"$f":"('Curves met UFR, zonder VA'!D72+IF('Configuratie en berekeningen'!$D$4=\"Met VA\",'Configuratie en berekeningen'!$F$4/10000,0))*'Curves met UFR, zonder VA'!D201","v":0},{"$f":"('Curves met UFR, zonder VA'!E72+IF('Configuratie en berekeningen'!$D$4=\"Met VA\",'Configuratie en berekeningen'!$F$4/10000,0))*'Curves met UFR, zonder VA'!E201","v":0},{"$f":"('Curves met UFR, zonder VA'!F72+IF('Configuratie en berekeningen'!$D$4=\"Met VA\",'Configuratie en berekeningen'!$F$4/10000,0))*'Curves met UFR, zonder VA'!F201","v":0},{"$f":"('Curves met UFR, zonder VA'!G72+IF('Configuratie en berekeningen'!$D$4=\"Met VA\",'Configuratie en berekeningen'!$F$4/10000,0))*'Curves met UFR, zonder VA'!G201","v":0},{"$f":"('Curves met UFR, zonder VA'!H72+IF('Configuratie en berekeningen'!$D$4=\"Met VA\",'Configuratie en berekeningen'!$F$4/10000,0))*'Curves met UFR, zonder VA'!H201","v":0},{"$f":"('Curves met UFR, zonder VA'!I72+IF('Configuratie en berekeningen'!$D$4=\"Met VA\",'Configuratie en berekeningen'!$F$4/10000,0))*'Curves met UFR, zonder VA'!I201","v":0},{"$f":"('Curves met UFR, zonder VA'!J72+IF('Configuratie en berekeningen'!$D$4=\"Met VA\",'Configuratie en berekeningen'!$F$4/10000,0))*'Curves met UFR, zonder VA'!J201","v":0},{"$f":"('Curves met UFR, zonder VA'!K72+IF('Configuratie en berekeningen'!$D$4=\"Met VA\",'Configuratie en berekeningen'!$F$4/10000,0))*'Curves met UFR, zonder VA'!K201","v":0},{"$f":"('Curves met UFR, zonder VA'!L72+IF('Configuratie en berekeningen'!$D$4=\"Met VA\",'Configuratie en berekeningen'!$F$4/10000,0))*'Curves met UFR, zonder VA'!L201","v":0},{"$f":"('Curves met UFR, zonder VA'!M72+IF('Configuratie en berekeningen'!$D$4=\"Met VA\",'Configuratie en berekeningen'!$F$4/10000,0))*'Curves met UFR, zonder VA'!M201","v":0},{"$f":"('Curves met UFR, zonder VA'!N72+IF('Configuratie en berekeningen'!$D$4=\"Met VA\",'Configuratie en berekeningen'!$F$4/10000,0))*'Curves met UFR, zonder VA'!N201","v":0},{"$f":"('Curves met UFR, zonder VA'!O72+IF('Configuratie en berekeningen'!$D$4=\"Met VA\",'Configuratie en berekeningen'!$F$4/10000,0))*'Curves met UFR, zonder VA'!O201","v":0},{"$f":"('Curves met UFR, zonder VA'!P72+IF('Configuratie en berekeningen'!$D$4=\"Met VA\",'Configuratie en berekeningen'!$F$4/10000,0))*'Curves met UFR, zonder VA'!P201","v":0},{"$f":"('Curves met UFR, zonder VA'!Q72+IF('Configuratie en berekeningen'!$D$4=\"Met VA\",'Configuratie en berekeningen'!$F$4/10000,0))*'Curves met UFR, zonder VA'!Q201","v":0},{"$f":"('Curves met UFR, zonder VA'!R72+IF('Configuratie en berekeningen'!$D$4=\"Met VA\",'Configuratie en berekeningen'!$F$4/10000,0))*'Curves met UFR, zonder VA'!R201","v":0},{"$f":"('Curves met UFR, zonder VA'!S72+IF('Configuratie en berekeningen'!$D$4=\"Met VA\",'Configuratie en berekeningen'!$F$4/10000,0))*'Curves met UFR, zonder VA'!S201","v":0},{"$f":"('Curves met UFR, zonder VA'!T72+IF('Configuratie en berekeningen'!$D$4=\"Met VA\",'Configuratie en berekeningen'!$F$4/10000,0))*'Curves met UFR, zonder VA'!T201","v":0},{"$f":"('Curves met UFR, zonder VA'!U72+IF('Configuratie en berekeningen'!$D$4=\"Met VA\",'Configuratie en berekeningen'!$F$4/10000,0))*'Curves met UFR, zonder VA'!U201","v":0},{"$f":"('Curves met UFR, zonder VA'!V72+IF('Configuratie en berekeningen'!$D$4=\"Met VA\",'Configuratie en berekeningen'!$F$4/10000,0))*'Curves met UFR, zonder VA'!V201","v":0}]
[48,{"$f":"('Curves met UFR, zonder VA'!B73+IF('Configuratie en berekeningen'!$D$4=\"Met VA\",'Configuratie en berekeningen'!$F$4/10000,0))*'Curves met UFR, zonder VA'!B202","v":0},{"$f":"('Curves met UFR, zonder VA'!C73+IF('Configuratie en berekeningen'!$D$4=\"Met VA\",'Configuratie en berekeningen'!$F$4/10000,0))*'Curves met UFR, zonder VA'!C202","v":0},{"$f":"('Curves met UFR, zonder VA'!D73+IF('Configuratie en berekeningen'!$D$4=\"Met VA\",'Configuratie en berekeningen'!$F$4/10000,0))*'Curves met UFR, zonder VA'!D202","v":0},{"$f":"('Curves met UFR, zonder VA'!E73+IF('Configuratie en berekeningen'!$D$4=\"Met VA\",'Configuratie en berekeningen'!$F$4/10000,0))*'Curves met UFR, zonder VA'!E202","v":0},{"$f":"('Curves met UFR, zonder VA'!F73+IF('Configuratie en berekeningen'!$D$4=\"Met VA\",'Configuratie en berekeningen'!$F$4/10000,0))*'Curves met UFR, zonder VA'!F202","v":0},{"$f":"('Curves met UFR, zonder VA'!G73+IF('Configuratie en berekeningen'!$D$4=\"Met VA\",'Configuratie en berekeningen'!$F$4/10000,0))*'Curves met UFR, zonder VA'!G202","v":0},{"$f":"('Curves met UFR, zonder VA'!H73+IF('Configuratie en berekeningen'!$D$4=\"Met VA\",'Configuratie en berekeningen'!$F$4/10000,0))*'Curves met UFR, zonder VA'!H202","v":0},{"$f":"('Curves met UFR, zonder VA'!I73+IF('Configuratie en berekeningen'!$D$4=\"Met VA\",'Configuratie en berekeningen'!$F$4/10000,0))*'Curves met UFR, zonder VA'!I202","v":0},{"$f":"('Curves met UFR, zonder VA'!J73+IF('Configuratie en berekeningen'!$D$4=\"Met VA\",'Configuratie en berekeningen'!$F$4/10000,0))*'Curves met UFR, zonder VA'!J202","v":0},{"$f":"('Curves met UFR, zonder VA'!K73+IF('Configuratie en berekeningen'!$D$4=\"Met VA\",'Configuratie en berekeningen'!$F$4/10000,0))*'Curves met UFR, zonder VA'!K202","v":0},{"$f":"('Curves met UFR, zonder VA'!L73+IF('Configuratie en berekeningen'!$D$4=\"Met VA\",'Configuratie en berekeningen'!$F$4/10000,0))*'Curves met UFR, zonder VA'!L202","v":0},{"$f":"('Curves met UFR, zonder VA'!M73+IF('Configuratie en berekeningen'!$D$4=\"Met VA\",'Configuratie en berekeningen'!$F$4/10000,0))*'Curves met UFR, zonder VA'!M202","v":0},{"$f":"('Curves met UFR, zonder VA'!N73+IF('Configuratie en berekeningen'!$D$4=\"Met VA\",'Configuratie en berekeningen'!$F$4/10000,0))*'Curves met UFR, zonder VA'!N202","v":0},{"$f":"('Curves met UFR, zonder VA'!O73+IF('Configuratie en berekeningen'!$D$4=\"Met VA\",'Configuratie en berekeningen'!$F$4/10000,0))*'Curves met UFR, zonder VA'!O202","v":0},{"$f":"('Curves met UFR, zonder VA'!P73+IF('Configuratie en berekeningen'!$D$4=\"Met VA\",'Configuratie en berekeningen'!$F$4/10000,0))*'Curves met UFR, zonder VA'!P202","v":0},{"$f":"('Curves met UFR, zonder VA'!Q73+IF('Configuratie en berekeningen'!$D$4=\"Met VA\",'Configuratie en berekeningen'!$F$4/10000,0))*'Curves met UFR, zonder VA'!Q202","v":0},{"$f":"('Curves met UFR, zonder VA'!R73+IF('Configuratie en berekeningen'!$D$4=\"Met VA\",'Configuratie en berekeningen'!$F$4/10000,0))*'Curves met UFR, zonder VA'!R202","v":0},{"$f":"('Curves met UFR, zonder VA'!S73+IF('Configuratie en berekeningen'!$D$4=\"Met VA\",'Configuratie en berekeningen'!$F$4/10000,0))*'Curves met UFR, zonder VA'!S202","v":0},{"$f":"('Curves met UFR, zonder VA'!T73+IF('Configuratie en berekeningen'!$D$4=\"Met VA\",'Configuratie en berekeningen'!$F$4/10000,0))*'Curves met UFR, zonder VA'!T202","v":0},{"$f":"('Curves met UFR, zonder VA'!U73+IF('Configuratie en berekeningen'!$D$4=\"Met VA\",'Configuratie en berekeningen'!$F$4/10000,0))*'Curves met UFR, zonder VA'!U202","v":0},{"$f":"('Curves met UFR, zonder VA'!V73+IF('Configuratie en berekeningen'!$D$4=\"Met VA\",'Configuratie en berekeningen'!$F$4/10000,0))*'Curves met UFR, zonder VA'!V202","v":0}]
[49,{"$f":"('Curves met UFR, zonder VA'!B74+IF('Configuratie en berekeningen'!$D$4=\"Met VA\",'Configuratie en berekeningen'!$F$4/10000,0))*'Curves met UFR, zonder VA'!B203","v":0},{"$f":"('Curves met UFR, zonder VA'!C74+IF('Configuratie en berekeningen'!$D$4=\"Met VA\",'Configuratie en berekeningen'!$F$4/10000,0))*'Curves met UFR, zonder VA'!C203","v":0},{"$f":"('Curves met UFR, zonder VA'!D74+IF('Configuratie en berekeningen'!$D$4=\"Met VA\",'Configuratie en berekeningen'!$F$4/10000,0))*'Curves met UFR, zonder VA'!D203","v":0},{"$f":"('Curves met UFR, zonder VA'!E74+IF('Configuratie en berekeningen'!$D$4=\"Met VA\",'Configuratie en berekeningen'!$F$4/10000,0))*'Curves met UFR, zonder VA'!E203","v":0},{"$f":"('Curves met UFR, zonder VA'!F74+IF('Configuratie en berekeningen'!$D$4=\"Met VA\",'Configuratie en berekeningen'!$F$4/10000,0))*'Curves met UFR, zonder VA'!F203","v":0},{"$f":"('Curves met UFR, zonder VA'!G74+IF('Configuratie en berekeningen'!$D$4=\"Met VA\",'Configuratie en berekeningen'!$F$4/10000,0))*'Curves met UFR, zonder VA'!G203","v":0},{"$f":"('Curves met UFR, zonder VA'!H74+IF('Configuratie en berekeningen'!$D$4=\"Met VA\",'Configuratie en berekeningen'!$F$4/10000,0))*'Curves met UFR, zonder VA'!H203","v":0},{"$f":"('Curves met UFR, zonder VA'!I74+IF('Configuratie en berekeningen'!$D$4=\"Met VA\",'Configuratie en berekeningen'!$F$4/10000,0))*'Curves met UFR, zonder VA'!I203","v":0},{"$f":"('Curves met UFR, zonder VA'!J74+IF('Configuratie en berekeningen'!$D$4=\"Met VA\",'Configuratie en berekeningen'!$F$4/10000,0))*'Curves met UFR, zonder VA'!J203","v":0},{"$f":"('Curves met UFR, zonder VA'!K74+IF('Configuratie en berekeningen'!$D$4=\"Met VA\",'Configuratie en berekeningen'!$F$4/10000,0))*'Curves met UFR, zonder VA'!K203","v":0},{"$f":"('Curves met UFR, zonder VA'!L74+IF('Configuratie en berekeningen'!$D$4=\"Met VA\",'Configuratie en berekeningen'!$F$4/10000,0))*'Curves met UFR, zonder VA'!L203","v":0},{"$f":"('Curves met UFR, zonder VA'!M74+IF('Configuratie en berekeningen'!$D$4=\"Met VA\",'Configuratie en berekeningen'!$F$4/10000,0))*'Curves met UFR, zonder VA'!M203","v":0},{"$f":"('Curves met UFR, zonder VA'!N74+IF('Configuratie en berekeningen'!$D$4=\"Met VA\",'Configuratie en berekeningen'!$F$4/10000,0))*'Curves met UFR, zonder VA'!N203","v":0},{"$f":"('Curves met UFR, zonder VA'!O74+IF('Configuratie en berekeningen'!$D$4=\"Met VA\",'Configuratie en berekeningen'!$F$4/10000,0))*'Curves met UFR, zonder VA'!O203","v":0},{"$f":"('Curves met UFR, zonder VA'!P74+IF('Configuratie en berekeningen'!$D$4=\"Met VA\",'Configuratie en berekeningen'!$F$4/10000,0))*'Curves met UFR, zonder VA'!P203","v":0},{"$f":"('Curves met UFR, zonder VA'!Q74+IF('Configuratie en berekeningen'!$D$4=\"Met VA\",'Configuratie en berekeningen'!$F$4/10000,0))*'Curves met UFR, zonder VA'!Q203","v":0},{"$f":"('Curves met UFR, zonder VA'!R74+IF('Configuratie en berekeningen'!$D$4=\"Met VA\",'Configuratie en berekeningen'!$F$4/10000,0))*'Curves met UFR, zonder VA'!R203","v":0},{"$f":"('Curves met UFR, zonder VA'!S74+IF('Configuratie en berekeningen'!$D$4=\"Met VA\",'Configuratie en berekeningen'!$F$4/10000,0))*'Curves met UFR, zonder VA'!S203","v":0},{"$f":"('Curves met UFR, zonder VA'!T74+IF('Configuratie en berekeningen'!$D$4=\"Met VA\",'Configuratie en berekeningen'!$F$4/10000,0))*'Curves met UFR, zonder VA'!T203","v":0},{"$f":"('Curves met UFR, zonder VA'!U74+IF('Configuratie en berekeningen'!$D$4=\"Met VA\",'Configuratie en berekeningen'!$F$4/10000,0))*'Curves met UFR, zonder VA'!U203","v":0},{"$f":"('Curves met UFR, zonder VA'!V74+IF('Configuratie en berekeningen'!$D$4=\"Met VA\",'Configuratie en berekeningen'!$F$4/10000,0))*'Curves met UFR, zonder VA'!V203","v":0}]
[50,{"$f":"('Curves met UFR, zonder VA'!B75+IF('Configuratie en berekeningen'!$D$4=\"Met VA\",'Configuratie en berekeningen'!$F$4/10000,0))*'Curves met UFR, zonder VA'!B204","v":0},{"$f":"('Curves met UFR, zonder VA'!C75+IF('Configuratie en berekeningen'!$D$4=\"Met VA\",'Configuratie en berekeningen'!$F$4/10000,0))*'Curves met UFR, zonder VA'!C204","v":0},{"$f":"('Curves met UFR, zonder VA'!D75+IF('Configuratie en berekeningen'!$D$4=\"Met VA\",'Configuratie en berekeningen'!$F$4/10000,0))*'Curves met UFR, zonder VA'!D204","v":0},{"$f":"('Curves met UFR, zonder VA'!E75+IF('Configuratie en berekeningen'!$D$4=\"Met VA\",'Configuratie en berekeningen'!$F$4/10000,0))*'Curves met UFR, zonder VA'!E204","v":0},{"$f":"('Curves met UFR, zonder VA'!F75+IF('Configuratie en berekeningen'!$D$4=\"Met VA\",'Configuratie en berekeningen'!$F$4/10000,0))*'Curves met UFR, zonder VA'!F204","v":0},{"$f":"('Curves met UFR, zonder VA'!G75+IF('Configuratie en berekeningen'!$D$4=\"Met VA\",'Configuratie en berekeningen'!$F$4/10000,0))*'Curves met UFR, zonder VA'!G204","v":0},{"$f":"('Curves met UFR, zonder VA'!H75+IF('Configuratie en berekeningen'!$D$4=\"Met VA\",'Configuratie en berekeningen'!$F$4/10000,0))*'Curves met UFR, zonder VA'!H204","v":0},{"$f":"('Curves met UFR, zonder VA'!I75+IF('Configuratie en berekeningen'!$D$4=\"Met VA\",'Configuratie en berekeningen'!$F$4/10000,0))*'Curves met UFR, zonder VA'!I204","v":0},{"$f":"('Curves met UFR, zonder VA'!J75+IF('Configuratie en berekeningen'!$D$4=\"Met VA\",'Configuratie en berekeningen'!$F$4/10000,0))*'Curves met UFR, zonder VA'!J204","v":0},{"$f":"('Curves met UFR, zonder VA'!K75+IF('Configuratie en berekeningen'!$D$4=\"Met VA\",'Configuratie en berekeningen'!$F$4/10000,0))*'Curves met UFR, zonder VA'!K204","v":0},{"$f":"('Curves met UFR, zonder VA'!L75+IF('Configuratie en berekeningen'!$D$4=\"Met VA\",'Configuratie en berekeningen'!$F$4/10000,0))*'Curves met UFR, zonder VA'!L204","v":0},{"$f":"('Curves met UFR, zonder VA'!M75+IF('Configuratie en berekeningen'!$D$4=\"Met VA\",'Configuratie en berekeningen'!$F$4/10000,0))*'Curves met UFR, zonder VA'!M204","v":0},{"$f":"('Curves met UFR, zonder VA'!N75+IF('Configuratie en berekeningen'!$D$4=\"Met VA\",'Configuratie en berekeningen'!$F$4/10000,0))*'Curves met UFR, zonder VA'!N204","v":0},{"$f":"('Curves met UFR, zonder VA'!O75+IF('Configuratie en berekeningen'!$D$4=\"Met VA\",'Configuratie en berekeningen'!$F$4/10000,0))*'Curves met UFR, zonder VA'!O204","v":0},{"$f":"('Curves met UFR, zonder VA'!P75+IF('Configuratie en berekeningen'!$D$4=\"Met VA\",'Configuratie en berekeningen'!$F$4/10000,0))*'Curves met UFR, zonder VA'!P204","v":0},{"$f":"('Curves met UFR, zonder VA'!Q75+IF('Configuratie en berekeningen'!$D$4=\"Met VA\",'Configuratie en berekeningen'!$F$4/10000,0))*'Curves met UFR, zonder VA'!Q204","v":0},{"$f":"('Curves met UFR, zonder VA'!R75+IF('Configuratie en berekeningen'!$D$4=\"Met VA\",'Configuratie en berekeningen'!$F$4/10000,0))*'Curves met UFR, zonder VA'!R204","v":0},{"$f":"('Curves met UFR, zonder VA'!S75+IF('Configuratie en berekeningen'!$D$4=\"Met VA\",'Configuratie en berekeningen'!$F$4/10000,0))*'Curves met UFR, zonder VA'!S204","v":0},{"$f":"('Curves met UFR, zonder VA'!T75+IF('Configuratie en berekeningen'!$D$4=\"Met VA\",'Configuratie en berekeningen'!$F$4/10000,0))*'Curves met UFR, zonder VA'!T204","v":0},{"$f":"('Curves met UFR, zonder VA'!U75+IF('Configuratie en berekeningen'!$D$4=\"Met VA\",'Configuratie en berekeningen'!$F$4/10000,0))*'Curves met UFR, zonder VA'!U204","v":0},{"$f":"('Curves met UFR, zonder VA'!V75+IF('Configuratie en berekeningen'!$D$4=\"Met VA\",'Configuratie en berekeningen'!$F$4/10000,0))*'Curves met UFR, zonder VA'!V204","v":0}]
[51,{"$f":"('Curves met UFR, zonder VA'!B76+IF('Configuratie en berekeningen'!$D$4=\"Met VA\",'Configuratie en berekeningen'!$F$4/10000,0))*'Curves met UFR, zonder VA'!B205","v":0},{"$f":"('Curves met UFR, zonder VA'!C76+IF('Configuratie en berekeningen'!$D$4=\"Met VA\",'Configuratie en berekeningen'!$F$4/10000,0))*'Curves met UFR, zonder VA'!C205","v":0},{"$f":"('Curves met UFR, zonder VA'!D76+IF('Configuratie en berekeningen'!$D$4=\"Met VA\",'Configuratie en berekeningen'!$F$4/10000,0))*'Curves met UFR, zonder VA'!D205","v":0},{"$f":"('Curves met UFR, zonder VA'!E76+IF('Configuratie en berekeningen'!$D$4=\"Met VA\",'Configuratie en berekeningen'!$F$4/10000,0))*'Curves met UFR, zonder VA'!E205","v":0},{"$f":"('Curves met UFR, zonder VA'!F76+IF('Configuratie en berekeningen'!$D$4=\"Met VA\",'Configuratie en berekeningen'!$F$4/10000,0))*'Curves met UFR, zonder VA'!F205","v":0},{"$f":"('Curves met UFR, zonder VA'!G76+IF('Configuratie en berekeningen'!$D$4=\"Met VA\",'Configuratie en berekeningen'!$F$4/10000,0))*'Curves met UFR, zonder VA'!G205","v":0},{"$f":"('Curves met UFR, zonder VA'!H76+IF('Configuratie en berekeningen'!$D$4=\"Met VA\",'Configuratie en berekeningen'!$F$4/10000,0))*'Curves met UFR, zonder VA'!H205","v":0},{"$f":"('Curves met UFR, zonder VA'!I76+IF('Configuratie en berekeningen'!$D$4=\"Met VA\",'Configuratie en berekeningen'!$F$4/10000,0))*'Curves met UFR, zonder VA'!I205","v":0},{"$f":"('Curves met UFR, zonder VA'!J76+IF('Configuratie en berekeningen'!$D$4=\"Met VA\",'Configuratie en berekeningen'!$F$4/10000,0))*'Curves met UFR, zonder VA'!J205","v":0},{"$f":"('Curves met UFR, zonder VA'!K76+IF('Configuratie en berekeningen'!$D$4=\"Met VA\",'Configuratie en berekeningen'!$F$4/10000,0))*'Curves met UFR, zonder VA'!K205","v":0},{"$f":"('Curves met UFR, zonder VA'!L76+IF('Configuratie en berekeningen'!$D$4=\"Met VA\",'Configuratie en berekeningen'!$F$4/10000,0))*'Curves met UFR, zonder VA'!L205","v":0},{"$f":"('Curves met UFR, zonder VA'!M76+IF('Configuratie en berekeningen'!$D$4=\"Met VA\",'Configuratie en berekeningen'!$F$4/10000,0))*'Curves met UFR, zonder VA'!M205","v":0},{"$f":"('Curves met UFR, zonder VA'!N76+IF('Configuratie en berekeningen'!$D$4=\"Met VA\",'Configuratie en berekeningen'!$F$4/10000,0))*'Curves met UFR, zonder VA'!N205","v":0},{"$f":"('Curves met UFR, zonder VA'!O76+IF('Configuratie en berekeningen'!$D$4=\"Met VA\",'Configuratie en berekeningen'!$F$4/10000,0))*'Curves met UFR, zonder VA'!O205","v":0},{"$f":"('Curves met UFR, zonder VA'!P76+IF('Configuratie en berekeningen'!$D$4=\"Met VA\",'Configuratie en berekeningen'!$F$4/10000,0))*'Curves met UFR, zonder VA'!P205","v":0},{"$f":"('Curves met UFR, zonder VA'!Q76+IF('Configuratie en berekeningen'!$D$4=\"Met VA\",'Configuratie en berekeningen'!$F$4/10000,0))*'Curves met UFR, zonder VA'!Q205","v":0},{"$f":"('Curves met UFR, zonder VA'!R76+IF('Configuratie en berekeningen'!$D$4=\"Met VA\",'Configuratie en berekeningen'!$F$4/10000,0))*'Curves met UFR, zonder VA'!R205","v":0},{"$f":"('Curves met UFR, zonder VA'!S76+IF('Configuratie en berekeningen'!$D$4=\"Met VA\",'Configuratie en berekeningen'!$F$4/10000,0))*'Curves met UFR, zonder VA'!S205","v":0},{"$f":"('Curves met UFR, zonder VA'!T76+IF('Configuratie en berekeningen'!$D$4=\"Met VA\",'Configuratie en berekeningen'!$F$4/10000,0))*'Curves met UFR, zonder VA'!T205","v":0},{"$f":"('Curves met UFR, zonder VA'!U76+IF('Configuratie en berekeningen'!$D$4=\"Met VA\",'Configuratie en berekeningen'!$F$4/10000,0))*'Curves met UFR, zonder VA'!U205","v":0},{"$f":"('Curves met UFR, zonder VA'!V76+IF('Configuratie en berekeningen'!$D$4=\"Met VA\",'Configuratie en berekeningen'!$F$4/10000,0))*'Curves met UFR, zonder VA'!V205","v":0}]
[52,{"$f":"('Curves met UFR, zonder VA'!B77+IF('Configuratie en berekeningen'!$D$4=\"Met VA\",'Configuratie en berekeningen'!$F$4/10000,0))*'Curves met UFR, zonder VA'!B206","v":0},{"$f":"('Curves met UFR, zonder VA'!C77+IF('Configuratie en berekeningen'!$D$4=\"Met VA\",'Configuratie en berekeningen'!$F$4/10000,0))*'Curves met UFR, zonder VA'!C206","v":0},{"$f":"('Curves met UFR, zonder VA'!D77+IF('Configuratie en berekeningen'!$D$4=\"Met VA\",'Configuratie en berekeningen'!$F$4/10000,0))*'Curves met UFR, zonder VA'!D206","v":0},{"$f":"('Curves met UFR, zonder VA'!E77+IF('Configuratie en berekeningen'!$D$4=\"Met VA\",'Configuratie en berekeningen'!$F$4/10000,0))*'Curves met UFR, zonder VA'!E206","v":0},{"$f":"('Curves met UFR, zonder VA'!F77+IF('Configuratie en berekeningen'!$D$4=\"Met VA\",'Configuratie en berekeningen'!$F$4/10000,0))*'Curves met UFR, zonder VA'!F206","v":0},{"$f":"('Curves met UFR, zonder VA'!G77+IF('Configuratie en berekeningen'!$D$4=\"Met VA\",'Configuratie en berekeningen'!$F$4/10000,0))*'Curves met UFR, zonder VA'!G206","v":0},{"$f":"('Curves met UFR, zonder VA'!H77+IF('Configuratie en berekeningen'!$D$4=\"Met VA\",'Configuratie en berekeningen'!$F$4/10000,0))*'Curves met UFR, zonder VA'!H206","v":0},{"$f":"('Curves met UFR, zonder VA'!I77+IF('Configuratie en berekeningen'!$D$4=\"Met VA\",'Configuratie en berekeningen'!$F$4/10000,0))*'Curves met UFR, zonder VA'!I206","v":0},{"$f":"('Curves met UFR, zonder VA'!J77+IF('Configuratie en berekeningen'!$D$4=\"Met VA\",'Configuratie en berekeningen'!$F$4/10000,0))*'Curves met UFR, zonder VA'!J206","v":0},{"$f":"('Curves met UFR, zonder VA'!K77+IF('Configuratie en berekeningen'!$D$4=\"Met VA\",'Configuratie en berekeningen'!$F$4/10000,0))*'Curves met UFR, zonder VA'!K206","v":0},{"$f":"('Curves met UFR, zonder VA'!L77+IF('Configuratie en berekeningen'!$D$4=\"Met VA\",'Configuratie en berekeningen'!$F$4/10000,0))*'Curves met UFR, zonder VA'!L206","v":0},{"$f":"('Curves met UFR, zonder VA'!M77+IF('Configuratie en berekeningen'!$D$4=\"Met VA\",'Configuratie en berekeningen'!$F$4/10000,0))*'Curves met UFR, zonder VA'!M206","v":0},{"$f":"('Curves met UFR, zonder VA'!N77+IF('Configuratie en berekeningen'!$D$4=\"Met VA\",'Configuratie en berekeningen'!$F$4/10000,0))*'Curves met UFR, zonder VA'!N206","v":0},{"$f":"('Curves met UFR, zonder VA'!O77+IF('Configuratie en berekeningen'!$D$4=\"Met VA\",'Configuratie en berekeningen'!$F$4/10000,0))*'Curves met UFR, zonder VA'!O206","v":0},{"$f":"('Curves met UFR, zonder VA'!P77+IF('Configuratie en berekeningen'!$D$4=\"Met VA\",'Configuratie en berekeningen'!$F$4/10000,0))*'Curves met UFR, zonder VA'!P206","v":0},{"$f":"('Curves met UFR, zonder VA'!Q77+IF('Configuratie en berekeningen'!$D$4=\"Met VA\",'Configuratie en berekeningen'!$F$4/10000,0))*'Curves met UFR, zonder VA'!Q206","v":0},{"$f":"('Curves met UFR, zonder VA'!R77+IF('Configuratie en berekeningen'!$D$4=\"Met VA\",'Configuratie en berekeningen'!$F$4/10000,0))*'Curves met UFR, zonder VA'!R206","v":0},{"$f":"('Curves met UFR, zonder VA'!S77+IF('Configuratie en berekeningen'!$D$4=\"Met VA\",'Configuratie en berekeningen'!$F$4/10000,0))*'Curves met UFR, zonder VA'!S206","v":0},{"$f":"('Curves met UFR, zonder VA'!T77+IF('Configuratie en berekeningen'!$D$4=\"Met VA\",'Configuratie en berekeningen'!$F$4/10000,0))*'Curves met UFR, zonder VA'!T206","v":0},{"$f":"('Curves met UFR, zonder VA'!U77+IF('Configuratie en berekeningen'!$D$4=\"Met VA\",'Configuratie en berekeningen'!$F$4/10000,0))*'Curves met UFR, zonder VA'!U206","v":0},{"$f":"('Curves met UFR, zonder VA'!V77+IF('Configuratie en berekeningen'!$D$4=\"Met VA\",'Configuratie en berekeningen'!$F$4/10000,0))*'Curves met UFR, zonder VA'!V206","v":0}]
[53,{"$f":"('Curves met UFR, zonder VA'!B78+IF('Configuratie en berekeningen'!$D$4=\"Met VA\",'Configuratie en berekeningen'!$F$4/10000,0))*'Curves met UFR, zonder VA'!B207","v":0},{"$f":"('Curves met UFR, zonder VA'!C78+IF('Configuratie en berekeningen'!$D$4=\"Met VA\",'Configuratie en berekeningen'!$F$4/10000,0))*'Curves met UFR, zonder VA'!C207","v":0},{"$f":"('Curves met UFR, zonder VA'!D78+IF('Configuratie en berekeningen'!$D$4=\"Met VA\",'Configuratie en berekeningen'!$F$4/10000,0))*'Curves met UFR, zonder VA'!D207","v":0},{"$f":"('Curves met UFR, zonder VA'!E78+IF('Configuratie en berekeningen'!$D$4=\"Met VA\",'Configuratie en berekeningen'!$F$4/10000,0))*'Curves met UFR, zonder VA'!E207","v":0},{"$f":"('Curves met UFR, zonder VA'!F78+IF('Configuratie en berekeningen'!$D$4=\"Met VA\",'Configuratie en berekeningen'!$F$4/10000,0))*'Curves met UFR, zonder VA'!F207","v":0},{"$f":"('Curves met UFR, zonder VA'!G78+IF('Configuratie en berekeningen'!$D$4=\"Met VA\",'Configuratie en berekeningen'!$F$4/10000,0))*'Curves met UFR, zonder VA'!G207","v":0},{"$f":"('Curves met UFR, zonder VA'!H78+IF('Configuratie en berekeningen'!$D$4=\"Met VA\",'Configuratie en berekeningen'!$F$4/10000,0))*'Curves met UFR, zonder VA'!H207","v":0},{"$f":"('Curves met UFR, zonder VA'!I78+IF('Configuratie en berekeningen'!$D$4=\"Met VA\",'Configuratie en berekeningen'!$F$4/10000,0))*'Curves met UFR, zonder VA'!I207","v":0},{"$f":"('Curves met UFR, zonder VA'!J78+IF('Configuratie en berekeningen'!$D$4=\"Met VA\",'Configuratie en berekeningen'!$F$4/10000,0))*'Curves met UFR, zonder VA'!J207","v":0},{"$f":"('Curves met UFR, zonder VA'!K78+IF('Configuratie en berekeningen'!$D$4=\"Met VA\",'Configuratie en berekeningen'!$F$4/10000,0))*'Curves met UFR, zonder VA'!K207","v":0},{"$f":"('Curves met UFR, zonder VA'!L78+IF('Configuratie en berekeningen'!$D$4=\"Met VA\",'Configuratie en berekeningen'!$F$4/10000,0))*'Curves met UFR, zonder VA'!L207","v":0},{"$f":"('Curves met UFR, zonder VA'!M78+IF('Configuratie en berekeningen'!$D$4=\"Met VA\",'Configuratie en berekeningen'!$F$4/10000,0))*'Curves met UFR, zonder VA'!M207","v":0},{"$f":"('Curves met UFR, zonder VA'!N78+IF('Configuratie en berekeningen'!$D$4=\"Met VA\",'Configuratie en berekeningen'!$F$4/10000,0))*'Curves met UFR, zonder VA'!N207","v":0},{"$f":"('Curves met UFR, zonder VA'!O78+IF('Configuratie en berekeningen'!$D$4=\"Met VA\",'Configuratie en berekeningen'!$F$4/10000,0))*'Curves met UFR, zonder VA'!O207","v":0},{"$f":"('Curves met UFR, zonder VA'!P78+IF('Configuratie en berekeningen'!$D$4=\"Met VA\",'Configuratie en berekeningen'!$F$4/10000,0))*'Curves met UFR, zonder VA'!P207","v":0},{"$f":"('Curves met UFR, zonder VA'!Q78+IF('Configuratie en berekeningen'!$D$4=\"Met VA\",'Configuratie en berekeningen'!$F$4/10000,0))*'Curves met UFR, zonder VA'!Q207","v":0},{"$f":"('Curves met UFR, zonder VA'!R78+IF('Configuratie en berekeningen'!$D$4=\"Met VA\",'Configuratie en berekeningen'!$F$4/10000,0))*'Curves met UFR, zonder VA'!R207","v":0},{"$f":"('Curves met UFR, zonder VA'!S78+IF('Configuratie en berekeningen'!$D$4=\"Met VA\",'Configuratie en berekeningen'!$F$4/10000,0))*'Curves met UFR, zonder VA'!S207","v":0},{"$f":"('Curves met UFR, zonder VA'!T78+IF('Configuratie en berekeningen'!$D$4=\"Met VA\",'Configuratie en berekeningen'!$F$4/10000,0))*'Curves met UFR, zonder VA'!T207","v":0},{"$f":"('Curves met UFR, zonder VA'!U78+IF('Configuratie en berekeningen'!$D$4=\"Met VA\",'Configuratie en berekeningen'!$F$4/10000,0))*'Curves met UFR, zonder VA'!U207","v":0},{"$f":"('Curves met UFR, zonder VA'!V78+IF('Configuratie en berekeningen'!$D$4=\"Met VA\",'Configuratie en berekeningen'!$F$4/10000,0))*'Curves met UFR, zonder VA'!V207","v":0}]
[54,{"$f":"('Curves met UFR, zonder VA'!B79+IF('Configuratie en berekeningen'!$D$4=\"Met VA\",'Configuratie en berekeningen'!$F$4/10000,0))*'Curves met UFR, zonder VA'!B208","v":0},{"$f":"('Curves met UFR, zonder VA'!C79+IF('Configuratie en berekeningen'!$D$4=\"Met VA\",'Configuratie en berekeningen'!$F$4/10000,0))*'Curves met UFR, zonder VA'!C208","v":0},{"$f":"('Curves met UFR, zonder VA'!D79+IF('Configuratie en berekeningen'!$D$4=\"Met VA\",'Configuratie en berekeningen'!$F$4/10000,0))*'Curves met UFR, zonder VA'!D208","v":0},{"$f":"('Curves met UFR, zonder VA'!E79+IF('Configuratie en berekeningen'!$D$4=\"Met VA\",'Configuratie en berekeningen'!$F$4/10000,0))*'Curves met UFR, zonder VA'!E208","v":0},{"$f":"('Curves met UFR, zonder VA'!F79+IF('Configuratie en berekeningen'!$D$4=\"Met VA\",'Configuratie en berekeningen'!$F$4/10000,0))*'Curves met UFR, zonder VA'!F208","v":0},{"$f":"('Curves met UFR, zonder VA'!G79+IF('Configuratie en berekeningen'!$D$4=\"Met VA\",'Configuratie en berekeningen'!$F$4/10000,0))*'Curves met UFR, zonder VA'!G208","v":0},{"$f":"('Curves met UFR, zonder VA'!H79+IF('Configuratie en berekeningen'!$D$4=\"Met VA\",'Configuratie en berekeningen'!$F$4/10000,0))*'Curves met UFR, zonder VA'!H208","v":0},{"$f":"('Curves met UFR, zonder VA'!I79+IF('Configuratie en berekeningen'!$D$4=\"Met VA\",'Configuratie en berekeningen'!$F$4/10000,0))*'Curves met UFR, zonder VA'!I208","v":0},{"$f":"('Curves met UFR, zonder VA'!J79+IF('Configuratie en berekeningen'!$D$4=\"Met VA\",'Configuratie en berekeningen'!$F$4/10000,0))*'Curves met UFR, zonder VA'!J208","v":0},{"$f":"('Curves met UFR, zonder VA'!K79+IF('Configuratie en berekeningen'!$D$4=\"Met VA\",'Configuratie en berekeningen'!$F$4/10000,0))*'Curves met UFR, zonder VA'!K208","v":0},{"$f":"('Curves met UFR, zonder VA'!L79+IF('Configuratie en berekeningen'!$D$4=\"Met VA\",'Configuratie en berekeningen'!$F$4/10000,0))*'Curves met UFR, zonder VA'!L208","v":0},{"$f":"('Curves met UFR, zonder VA'!M79+IF('Configuratie en berekeningen'!$D$4=\"Met VA\",'Configuratie en berekeningen'!$F$4/10000,0))*'Curves met UFR, zonder VA'!M208","v":0},{"$f":"('Curves met UFR, zonder VA'!N79+IF('Configuratie en berekeningen'!$D$4=\"Met VA\",'Configuratie en berekeningen'!$F$4/10000,0))*'Curves met UFR, zonder VA'!N208","v":0},{"$f":"('Curves met UFR, zonder VA'!O79+IF('Configuratie en berekeningen'!$D$4=\"Met VA\",'Configuratie en berekeningen'!$F$4/10000,0))*'Curves met UFR, zonder VA'!O208","v":0},{"$f":"('Curves met UFR, zonder VA'!P79+IF('Configuratie en berekeningen'!$D$4=\"Met VA\",'Configuratie en berekeningen'!$F$4/10000,0))*'Curves met UFR, zonder VA'!P208","v":0},{"$f":"('Curves met UFR, zonder VA'!Q79+IF('Configuratie en berekeningen'!$D$4=\"Met VA\",'Configuratie en berekeningen'!$F$4/10000,0))*'Curves met UFR, zonder VA'!Q208","v":0},{"$f":"('Curves met UFR, zonder VA'!R79+IF('Configuratie en berekeningen'!$D$4=\"Met VA\",'Configuratie en berekeningen'!$F$4/10000,0))*'Curves met UFR, zonder VA'!R208","v":0},{"$f":"('Curves met UFR, zonder VA'!S79+IF('Configuratie en berekeningen'!$D$4=\"Met VA\",'Configuratie en berekeningen'!$F$4/10000,0))*'Curves met UFR, zonder VA'!S208","v":0},{"$f":"('Curves met UFR, zonder VA'!T79+IF('Configuratie en berekeningen'!$D$4=\"Met VA\",'Configuratie en berekeningen'!$F$4/10000,0))*'Curves met UFR, zonder VA'!T208","v":0},{"$f":"('Curves met UFR, zonder VA'!U79+IF('Configuratie en berekeningen'!$D$4=\"Met VA\",'Configuratie en berekeningen'!$F$4/10000,0))*'Curves met UFR, zonder VA'!U208","v":0},{"$f":"('Curves met UFR, zonder VA'!V79+IF('Configuratie en berekeningen'!$D$4=\"Met VA\",'Configuratie en berekeningen'!$F$4/10000,0))*'Curves met UFR, zonder VA'!V208","v":0}]
[55,{"$f":"('Curves met UFR, zonder VA'!B80+IF('Configuratie en berekeningen'!$D$4=\"Met VA\",'Configuratie en berekeningen'!$F$4/10000,0))*'Curves met UFR, zonder VA'!B209","v":0},{"$f":"('Curves met UFR, zonder VA'!C80+IF('Configuratie en berekeningen'!$D$4=\"Met VA\",'Configuratie en berekeningen'!$F$4/10000,0))*'Curves met UFR, zonder VA'!C209","v":0},{"$f":"('Curves met UFR, zonder VA'!D80+IF('Configuratie en berekeningen'!$D$4=\"Met VA\",'Configuratie en berekeningen'!$F$4/10000,0))*'Curves met UFR, zonder VA'!D209","v":0},{"$f":"('Curves met UFR, zonder VA'!E80+IF('Configuratie en berekeningen'!$D$4=\"Met VA\",'Configuratie en berekeningen'!$F$4/10000,0))*'Curves met UFR, zonder VA'!E209","v":0},{"$f":"('Curves met UFR, zonder VA'!F80+IF('Configuratie en berekeningen'!$D$4=\"Met VA\",'Configuratie en berekeningen'!$F$4/10000,0))*'Curves met UFR, zonder VA'!F209","v":0},{"$f":"('Curves met UFR, zonder VA'!G80+IF('Configuratie en berekeningen'!$D$4=\"Met VA\",'Configuratie en berekeningen'!$F$4/10000,0))*'Curves met UFR, zonder VA'!G209","v":0},{"$f":"('Curves met UFR, zonder VA'!H80+IF('Configuratie en berekeningen'!$D$4=\"Met VA\",'Configuratie en berekeningen'!$F$4/10000,0))*'Curves met UFR, zonder VA'!H209","v":0},{"$f":"('Curves met UFR, zonder VA'!I80+IF('Configuratie en berekeningen'!$D$4=\"Met VA\",'Configuratie en berekeningen'!$F$4/10000,0))*'Curves met UFR, zonder VA'!I209","v":0},{"$f":"('Curves met UFR, zonder VA'!J80+IF('Configuratie en berekeningen'!$D$4=\"Met VA\",'Configuratie en berekeningen'!$F$4/10000,0))*'Curves met UFR, zonder VA'!J209","v":0},{"$f":"('Curves met UFR, zonder VA'!K80+IF('Configuratie en berekeningen'!$D$4=\"Met VA\",'Configuratie en berekeningen'!$F$4/10000,0))*'Curves met UFR, zonder VA'!K209","v":0},{"$f":"('Curves met UFR, zonder VA'!L80+IF('Configuratie en berekeningen'!$D$4=\"Met VA\",'Configuratie en berekeningen'!$F$4/10000,0))*'Curves met UFR, zonder VA'!L209","v":0},{"$f":"('Curves met UFR, zonder VA'!M80+IF('Configuratie en berekeningen'!$D$4=\"Met VA\",'Configuratie en berekeningen'!$F$4/10000,0))*'Curves met UFR, zonder VA'!M209","v":0},{"$f":"('Curves met UFR, zonder VA'!N80+IF('Configuratie en berekeningen'!$D$4=\"Met VA\",'Configuratie en berekeningen'!$F$4/10000,0))*'Curves met UFR, zonder VA'!N209","v":0},{"$f":"('Curves met UFR, zonder VA'!O80+IF('Configuratie en berekeningen'!$D$4=\"Met VA\",'Configuratie en berekeningen'!$F$4/10000,0))*'Curves met UFR, zonder VA'!O209","v":0},{"$f":"('Curves met UFR, zonder VA'!P80+IF('Configuratie en berekeningen'!$D$4=\"Met VA\",'Configuratie en berekeningen'!$F$4/10000,0))*'Curves met UFR, zonder VA'!P209","v":0},{"$f":"('Curves met UFR, zonder VA'!Q80+IF('Configuratie en berekeningen'!$D$4=\"Met VA\",'Configuratie en berekeningen'!$F$4/10000,0))*'Curves met UFR, zonder VA'!Q209","v":0},{"$f":"('Curves met UFR, zonder VA'!R80+IF('Configuratie en berekeningen'!$D$4=\"Met VA\",'Configuratie en berekeningen'!$F$4/10000,0))*'Curves met UFR, zonder VA'!R209","v":0},{"$f":"('Curves met UFR, zonder VA'!S80+IF('Configuratie en berekeningen'!$D$4=\"Met VA\",'Configuratie en berekeningen'!$F$4/10000,0))*'Curves met UFR, zonder VA'!S209","v":0},{"$f":"('Curves met UFR, zonder VA'!T80+IF('Configuratie en berekeningen'!$D$4=\"Met VA\",'Configuratie en berekeningen'!$F$4/10000,0))*'Curves met UFR, zonder VA'!T209","v":0},{"$f":"('Curves met UFR, zonder VA'!U80+IF('Configuratie en berekeningen'!$D$4=\"Met VA\",'Configuratie en berekeningen'!$F$4/10000,0))*'Curves met UFR, zonder VA'!U209","v":0},{"$f":"('Curves met UFR, zonder VA'!V80+IF('Configuratie en berekeningen'!$D$4=\"Met VA\",'Configuratie en berekeningen'!$F$4/10000,0))*'Curves met UFR, zonder VA'!V209","v":0}]
[56,{"$f":"('Curves met UFR, zonder VA'!B81+IF('Configuratie en berekeningen'!$D$4=\"Met VA\",'Configuratie en berekeningen'!$F$4/10000,0))*'Curves met UFR, zonder VA'!B210","v":0},{"$f":"('Curves met UFR, zonder VA'!C81+IF('Configuratie en berekeningen'!$D$4=\"Met VA\",'Configuratie en berekeningen'!$F$4/10000,0))*'Curves met UFR, zonder VA'!C210","v":0},{"$f":"('Curves met UFR, zonder VA'!D81+IF('Configuratie en berekeningen'!$D$4=\"Met VA\",'Configuratie en berekeningen'!$F$4/10000,0))*'Curves met UFR, zonder VA'!D210","v":0},{"$f":"('Curves met UFR, zonder VA'!E81+IF('Configuratie en berekeningen'!$D$4=\"Met VA\",'Configuratie en berekeningen'!$F$4/10000,0))*'Curves met UFR, zonder VA'!E210","v":0},{"$f":"('Curves met UFR, zonder VA'!F81+IF('Configuratie en berekeningen'!$D$4=\"Met VA\",'Configuratie en berekeningen'!$F$4/10000,0))*'Curves met UFR, zonder VA'!F210","v":0},{"$f":"('Curves met UFR, zonder VA'!G81+IF('Configuratie en berekeningen'!$D$4=\"Met VA\",'Configuratie en berekeningen'!$F$4/10000,0))*'Curves met UFR, zonder VA'!G210","v":0},{"$f":"('Curves met UFR, zonder VA'!H81+IF('Configuratie en berekeningen'!$D$4=\"Met VA\",'Configuratie en berekeningen'!$F$4/10000,0))*'Curves met UFR, zonder VA'!H210","v":0},{"$f":"('Curves met UFR, zonder VA'!I81+IF('Configuratie en berekeningen'!$D$4=\"Met VA\",'Configuratie en berekeningen'!$F$4/10000,0))*'Curves met UFR, zonder VA'!I210","v":0},{"$f":"('Curves met UFR, zonder VA'!J81+IF('Configuratie en berekeningen'!$D$4=\"Met VA\",'Configuratie en berekeningen'!$F$4/10000,0))*'Curves met UFR, zonder VA'!J210","v":0},{"$f":"('Curves met UFR, zonder VA'!K81+IF('Configuratie en berekeningen'!$D$4=\"Met VA\",'Configuratie en berekeningen'!$F$4/10000,0))*'Curves met UFR, zonder VA'!K210","v":0},{"$f":"('Curves met UFR, zonder VA'!L81+IF('Configuratie en berekeningen'!$D$4=\"Met VA\",'Configuratie en berekeningen'!$F$4/10000,0))*'Curves met UFR, zonder VA'!L210","v":0},{"$f":"('Curves met UFR, zonder VA'!M81+IF('Configuratie en berekeningen'!$D$4=\"Met VA\",'Configuratie en berekeningen'!$F$4/10000,0))*'Curves met UFR, zonder VA'!M210","v":0},{"$f":"('Curves met UFR, zonder VA'!N81+IF('Configuratie en berekeningen'!$D$4=\"Met VA\",'Configuratie en berekeningen'!$F$4/10000,0))*'Curves met UFR, zonder VA'!N210","v":0},{"$f":"('Curves met UFR, zonder VA'!O81+IF('Configuratie en berekeningen'!$D$4=\"Met VA\",'Configuratie en berekeningen'!$F$4/10000,0))*'Curves met UFR, zonder VA'!O210","v":0},{"$f":"('Curves met UFR, zonder VA'!P81+IF('Configuratie en berekeningen'!$D$4=\"Met VA\",'Configuratie en berekeningen'!$F$4/10000,0))*'Curves met UFR, zonder VA'!P210","v":0},{"$f":"('Curves met UFR, zonder VA'!Q81+IF('Configuratie en berekeningen'!$D$4=\"Met VA\",'Configuratie en berekeningen'!$F$4/10000,0))*'Curves met UFR, zonder VA'!Q210","v":0},{"$f":"('Curves met UFR, zonder VA'!R81+IF('Configuratie en berekeningen'!$D$4=\"Met VA\",'Configuratie en berekeningen'!$F$4/10000,0))*'Curves met UFR, zonder VA'!R210","v":0},{"$f":"('Curves met UFR, zonder VA'!S81+IF('Configuratie en berekeningen'!$D$4=\"Met VA\",'Configuratie en berekeningen'!$F$4/10000,0))*'Curves met UFR, zonder VA'!S210","v":0},{"$f":"('Curves met UFR, zonder VA'!T81+IF('Configuratie en berekeningen'!$D$4=\"Met VA\",'Configuratie en berekeningen'!$F$4/10000,0))*'Curves met UFR, zonder VA'!T210","v":0},{"$f":"('Curves met UFR, zonder VA'!U81+IF('Configuratie en berekeningen'!$D$4=\"Met VA\",'Configuratie en berekeningen'!$F$4/10000,0))*'Curves met UFR, zonder VA'!U210","v":0},{"$f":"('Curves met UFR, zonder VA'!V81+IF('Configuratie en berekeningen'!$D$4=\"Met VA\",'Configuratie en berekeningen'!$F$4/10000,0))*'Curves met UFR, zonder VA'!V210","v":0}]
[57,{"$f":"('Curves met UFR, zonder VA'!B82+IF('Configuratie en berekeningen'!$D$4=\"Met VA\",'Configuratie en berekeningen'!$F$4/10000,0))*'Curves met UFR, zonder VA'!B211","v":0},{"$f":"('Curves met UFR, zonder VA'!C82+IF('Configuratie en berekeningen'!$D$4=\"Met VA\",'Configuratie en berekeningen'!$F$4/10000,0))*'Curves met UFR, zonder VA'!C211","v":0},{"$f":"('Curves met UFR, zonder VA'!D82+IF('Configuratie en berekeningen'!$D$4=\"Met VA\",'Configuratie en berekeningen'!$F$4/10000,0))*'Curves met UFR, zonder VA'!D211","v":0},{"$f":"('Curves met UFR, zonder VA'!E82+IF('Configuratie en berekeningen'!$D$4=\"Met VA\",'Configuratie en berekeningen'!$F$4/10000,0))*'Curves met UFR, zonder VA'!E211","v":0},{"$f":"('Curves met UFR, zonder VA'!F82+IF('Configuratie en berekeningen'!$D$4=\"Met VA\",'Configuratie en berekeningen'!$F$4/10000,0))*'Curves met UFR, zonder VA'!F211","v":0},{"$f":"('Curves met UFR, zonder VA'!G82+IF('Configuratie en berekeningen'!$D$4=\"Met VA\",'Configuratie en berekeningen'!$F$4/10000,0))*'Curves met UFR, zonder VA'!G211","v":0},{"$f":"('Curves met UFR, zonder VA'!H82+IF('Configuratie en berekeningen'!$D$4=\"Met VA\",'Configuratie en berekeningen'!$F$4/10000,0))*'Curves met UFR, zonder VA'!H211","v":0},{"$f":"('Curves met UFR, zonder VA'!I82+IF('Configuratie en berekeningen'!$D$4=\"Met VA\",'Configuratie en berekeningen'!$F$4/10000,0))*'Curves met UFR, zonder VA'!I211","v":0},{"$f":"('Curves met UFR, zonder VA'!J82+IF('Configuratie en berekeningen'!$D$4=\"Met VA\",'Configuratie en berekeningen'!$F$4/10000,0))*'Curves met UFR, zonder VA'!J211","v":0},{"$f":"('Curves met UFR, zonder VA'!K82+IF('Configuratie en berekeningen'!$D$4=\"Met VA\",'Configuratie en berekeningen'!$F$4/10000,0))*'Curves met UFR, zonder VA'!K211","v":0},{"$f":"('Curves met UFR, zonder VA'!L82+IF('Configuratie en berekeningen'!$D$4=\"Met VA\",'Configuratie en berekeningen'!$F$4/10000,0))*'Curves met UFR, zonder VA'!L211","v":0},{"$f":"('Curves met UFR, zonder VA'!M82+IF('Configuratie en berekeningen'!$D$4=\"Met VA\",'Configuratie en berekeningen'!$F$4/10000,0))*'Curves met UFR, zonder VA'!M211","v":0},{"$f":"('Curves met UFR, zonder VA'!N82+IF('Configuratie en berekeningen'!$D$4=\"Met VA\",'Configuratie en berekeningen'!$F$4/10000,0))*'Curves met UFR, zonder VA'!N211","v":0},{"$f":"('Curves met UFR, zonder VA'!O82+IF('Configuratie en berekeningen'!$D$4=\"Met VA\",'Configuratie en berekeningen'!$F$4/10000,0))*'Curves met UFR, zonder VA'!O211","v":0},{"$f":"('Curves met UFR, zonder VA'!P82+IF('Configuratie en berekeningen'!$D$4=\"Met VA\",'Configuratie en berekeningen'!$F$4/10000,0))*'Curves met UFR, zonder VA'!P211","v":0},{"$f":"('Curves met UFR, zonder VA'!Q82+IF('Configuratie en berekeningen'!$D$4=\"Met VA\",'Configuratie en berekeningen'!$F$4/10000,0))*'Curves met UFR, zonder VA'!Q211","v":0},{"$f":"('Curves met UFR, zonder VA'!R82+IF('Configuratie en berekeningen'!$D$4=\"Met VA\",'Configuratie en berekeningen'!$F$4/10000,0))*'Curves met UFR, zonder VA'!R211","v":0},{"$f":"('Curves met UFR, zonder VA'!S82+IF('Configuratie en berekeningen'!$D$4=\"Met VA\",'Configuratie en berekeningen'!$F$4/10000,0))*'Curves met UFR, zonder VA'!S211","v":0},{"$f":"('Curves met UFR, zonder VA'!T82+IF('Configuratie en berekeningen'!$D$4=\"Met VA\",'Configuratie en berekeningen'!$F$4/10000,0))*'Curves met UFR, zonder VA'!T211","v":0},{"$f":"('Curves met UFR, zonder VA'!U82+IF('Configuratie en berekeningen'!$D$4=\"Met VA\",'Configuratie en berekeningen'!$F$4/10000,0))*'Curves met UFR, zonder VA'!U211","v":0},{"$f":"('Curves met UFR, zonder VA'!V82+IF('Configuratie en berekeningen'!$D$4=\"Met VA\",'Configuratie en berekeningen'!$F$4/10000,0))*'Curves met UFR, zonder VA'!V211","v":0}]
[58,{"$f":"('Curves met UFR, zonder VA'!B83+IF('Configuratie en berekeningen'!$D$4=\"Met VA\",'Configuratie en berekeningen'!$F$4/10000,0))*'Curves met UFR, zonder VA'!B212","v":0},{"$f":"('Curves met UFR, zonder VA'!C83+IF('Configuratie en berekeningen'!$D$4=\"Met VA\",'Configuratie en berekeningen'!$F$4/10000,0))*'Curves met UFR, zonder VA'!C212","v":0},{"$f":"('Curves met UFR, zonder VA'!D83+IF('Configuratie en berekeningen'!$D$4=\"Met VA\",'Configuratie en berekeningen'!$F$4/10000,0))*'Curves met UFR, zonder VA'!D212","v":0},{"$f":"('Curves met UFR, zonder VA'!E83+IF('Configuratie en berekeningen'!$D$4=\"Met VA\",'Configuratie en berekeningen'!$F$4/10000,0))*'Curves met UFR, zonder VA'!E212","v":0},{"$f":"('Curves met UFR, zonder VA'!F83+IF('Configuratie en berekeningen'!$D$4=\"Met VA\",'Configuratie en berekeningen'!$F$4/10000,0))*'Curves met UFR, zonder VA'!F212","v":0},{"$f":"('Curves met UFR, zonder VA'!G83+IF('Configuratie en berekeningen'!$D$4=\"Met VA\",'Configuratie en berekeningen'!$F$4/10000,0))*'Curves met UFR, zonder VA'!G212","v":0},{"$f":"('Curves met UFR, zonder VA'!H83+IF('Configuratie en berekeningen'!$D$4=\"Met VA\",'Configuratie en berekeningen'!$F$4/10000,0))*'Curves met UFR, zonder VA'!H212","v":0},{"$f":"('Curves met UFR, zonder VA'!I83+IF('Configuratie en berekeningen'!$D$4=\"Met VA\",'Configuratie en berekeningen'!$F$4/10000,0))*'Curves met UFR, zonder VA'!I212","v":0},{"$f":"('Curves met UFR, zonder VA'!J83+IF('Configuratie en berekeningen'!$D$4=\"Met VA\",'Configuratie en berekeningen'!$F$4/10000,0))*'Curves met UFR, zonder VA'!J212","v":0},{"$f":"('Curves met UFR, zonder VA'!K83+IF('Configuratie en berekeningen'!$D$4=\"Met VA\",'Configuratie en berekeningen'!$F$4/10000,0))*'Curves met UFR, zonder VA'!K212","v":0},{"$f":"('Curves met UFR, zonder VA'!L83+IF('Configuratie en berekeningen'!$D$4=\"Met VA\",'Configuratie en berekeningen'!$F$4/10000,0))*'Curves met UFR, zonder VA'!L212","v":0},{"$f":"('Curves met UFR, zonder VA'!M83+IF('Configuratie en berekeningen'!$D$4=\"Met VA\",'Configuratie en berekeningen'!$F$4/10000,0))*'Curves met UFR, zonder VA'!M212","v":0},{"$f":"('Curves met UFR, zonder VA'!N83+IF('Configuratie en berekeningen'!$D$4=\"Met VA\",'Configuratie en berekeningen'!$F$4/10000,0))*'Curves met UFR, zonder VA'!N212","v":0},{"$f":"('Curves met UFR, zonder VA'!O83+IF('Configuratie en berekeningen'!$D$4=\"Met VA\",'Configuratie en berekeningen'!$F$4/10000,0))*'Curves met UFR, zonder VA'!O212","v":0},{"$f":"('Curves met UFR, zonder VA'!P83+IF('Configuratie en berekeningen'!$D$4=\"Met VA\",'Configuratie en berekeningen'!$F$4/10000,0))*'Curves met UFR, zonder VA'!P212","v":0},{"$f":"('Curves met UFR, zonder VA'!Q83+IF('Configuratie en berekeningen'!$D$4=\"Met VA\",'Configuratie en berekeningen'!$F$4/10000,0))*'Curves met UFR, zonder VA'!Q212","v":0},{"$f":"('Curves met UFR, zonder VA'!R83+IF('Configuratie en berekeningen'!$D$4=\"Met VA\",'Configuratie en berekeningen'!$F$4/10000,0))*'Curves met UFR, zonder VA'!R212","v":0},{"$f":"('Curves met UFR, zonder VA'!S83+IF('Configuratie en berekeningen'!$D$4=\"Met VA\",'Configuratie en berekeningen'!$F$4/10000,0))*'Curves met UFR, zonder VA'!S212","v":0},{"$f":"('Curves met UFR, zonder VA'!T83+IF('Configuratie en berekeningen'!$D$4=\"Met VA\",'Configuratie en berekeningen'!$F$4/10000,0))*'Curves met UFR, zonder VA'!T212","v":0},{"$f":"('Curves met UFR, zonder VA'!U83+IF('Configuratie en berekeningen'!$D$4=\"Met VA\",'Configuratie en berekeningen'!$F$4/10000,0))*'Curves met UFR, zonder VA'!U212","v":0},{"$f":"('Curves met UFR, zonder VA'!V83+IF('Configuratie en berekeningen'!$D$4=\"Met VA\",'Configuratie en berekeningen'!$F$4/10000,0))*'Curves met UFR, zonder VA'!V212","v":0}]
[59,{"$f":"('Curves met UFR, zonder VA'!B84+IF('Configuratie en berekeningen'!$D$4=\"Met VA\",'Configuratie en berekeningen'!$F$4/10000,0))*'Curves met UFR, zonder VA'!B213","v":0},{"$f":"('Curves met UFR, zonder VA'!C84+IF('Configuratie en berekeningen'!$D$4=\"Met VA\",'Configuratie en berekeningen'!$F$4/10000,0))*'Curves met UFR, zonder VA'!C213","v":0},{"$f":"('Curves met UFR, zonder VA'!D84+IF('Configuratie en berekeningen'!$D$4=\"Met VA\",'Configuratie en berekeningen'!$F$4/10000,0))*'Curves met UFR, zonder VA'!D213","v":0},{"$f":"('Curves met UFR, zonder VA'!E84+IF('Configuratie en berekeningen'!$D$4=\"Met VA\",'Configuratie en berekeningen'!$F$4/10000,0))*'Curves met UFR, zonder VA'!E213","v":0},{"$f":"('Curves met UFR, zonder VA'!F84+IF('Configuratie en berekeningen'!$D$4=\"Met VA\",'Configuratie en berekeningen'!$F$4/10000,0))*'Curves met UFR, zonder VA'!F213","v":0},{"$f":"('Curves met UFR, zonder VA'!G84+IF('Configuratie en berekeningen'!$D$4=\"Met VA\",'Configuratie en berekeningen'!$F$4/10000,0))*'Curves met UFR, zonder VA'!G213","v":0},{"$f":"('Curves met UFR, zonder VA'!H84+IF('Configuratie en berekeningen'!$D$4=\"Met VA\",'Configuratie en berekeningen'!$F$4/10000,0))*'Curves met UFR, zonder VA'!H213","v":0},{"$f":"('Curves met UFR, zonder VA'!I84+IF('Configuratie en berekeningen'!$D$4=\"Met VA\",'Configuratie en berekeningen'!$F$4/10000,0))*'Curves met UFR, zonder VA'!I213","v":0},{"$f":"('Curves met UFR, zonder VA'!J84+IF('Configuratie en berekeningen'!$D$4=\"Met VA\",'Configuratie en berekeningen'!$F$4/10000,0))*'Curves met UFR, zonder VA'!J213","v":0},{"$f":"('Curves met UFR, zonder VA'!K84+IF('Configuratie en berekeningen'!$D$4=\"Met VA\",'Configuratie en berekeningen'!$F$4/10000,0))*'Curves met UFR, zonder VA'!K213","v":0},{"$f":"('Curves met UFR, zonder VA'!L84+IF('Configuratie en berekeningen'!$D$4=\"Met VA\",'Configuratie en berekeningen'!$F$4/10000,0))*'Curves met UFR, zonder VA'!L213","v":0},{"$f":"('Curves met UFR, zonder VA'!M84+IF('Configuratie en berekeningen'!$D$4=\"Met VA\",'Configuratie en berekeningen'!$F$4/10000,0))*'Curves met UFR, zonder VA'!M213","v":0},{"$f":"('Curves met UFR, zonder VA'!N84+IF('Configuratie en berekeningen'!$D$4=\"Met VA\",'Configuratie en berekeningen'!$F$4/10000,0))*'Curves met UFR, zonder VA'!N213","v":0},{"$f":"('Curves met UFR, zonder VA'!O84+IF('Configuratie en berekeningen'!$D$4=\"Met VA\",'Configuratie en berekeningen'!$F$4/10000,0))*'Curves met UFR, zonder VA'!O213","v":0},{"$f":"('Curves met UFR, zonder VA'!P84+IF('Configuratie en berekeningen'!$D$4=\"Met VA\",'Configuratie en berekeningen'!$F$4/10000,0))*'Curves met UFR, zonder VA'!P213","v":0},{"$f":"('Curves met UFR, zonder VA'!Q84+IF('Configuratie en berekeningen'!$D$4=\"Met VA\",'Configuratie en berekeningen'!$F$4/10000,0))*'Curves met UFR, zonder VA'!Q213","v":0},{"$f":"('Curves met UFR, zonder VA'!R84+IF('Configuratie en berekeningen'!$D$4=\"Met VA\",'Configuratie en berekeningen'!$F$4/10000,0))*'Curves met UFR, zonder VA'!R213","v":0},{"$f":"('Curves met UFR, zonder VA'!S84+IF('Configuratie en berekeningen'!$D$4=\"Met VA\",'Configuratie en berekeningen'!$F$4/10000,0))*'Curves met UFR, zonder VA'!S213","v":0},{"$f":"('Curves met UFR, zonder VA'!T84+IF('Configuratie en berekeningen'!$D$4=\"Met VA\",'Configuratie en berekeningen'!$F$4/10000,0))*'Curves met UFR, zonder VA'!T213","v":0},{"$f":"('Curves met UFR, zonder VA'!U84+IF('Configuratie en berekeningen'!$D$4=\"Met VA\",'Configuratie en berekeningen'!$F$4/10000,0))*'Curves met UFR, zonder VA'!U213","v":0},{"$f":"('Curves met UFR, zonder VA'!V84+IF('Configuratie en berekeningen'!$D$4=\"Met VA\",'Configuratie en berekeningen'!$F$4/10000,0))*'Curves met UFR, zonder VA'!V213","v":0}]
[60,{"$f":"('Curves met UFR, zonder VA'!B85+IF('Configuratie en berekeningen'!$D$4=\"Met VA\",'Configuratie en berekeningen'!$F$4/10000,0))*'Curves met UFR, zonder VA'!B214","v":0},{"$f":"('Curves met UFR, zonder VA'!C85+IF('Configuratie en berekeningen'!$D$4=\"Met VA\",'Configuratie en berekeningen'!$F$4/10000,0))*'Curves met UFR, zonder VA'!C214","v":0},{"$f":"('Curves met UFR, zonder VA'!D85+IF('Configuratie en berekeningen'!$D$4=\"Met VA\",'Configuratie en berekeningen'!$F$4/10000,0))*'Curves met UFR, zonder VA'!D214","v":0},{"$f":"('Curves met UFR, zonder VA'!E85+IF('Configuratie en berekeningen'!$D$4=\"Met VA\",'Configuratie en berekeningen'!$F$4/10000,0))*'Curves met UFR, zonder VA'!E214","v":0},{"$f":"('Curves met UFR, zonder VA'!F85+IF('Configuratie en berekeningen'!$D$4=\"Met VA\",'Configuratie en berekeningen'!$F$4/10000,0))*'Curves met UFR, zonder VA'!F214","v":0},{"$f":"('Curves met UFR, zonder VA'!G85+IF('Configuratie en berekeningen'!$D$4=\"Met VA\",'Configuratie en berekeningen'!$F$4/10000,0))*'Curves met UFR, zonder VA'!G214","v":0},{"$f":"('Curves met UFR, zonder VA'!H85+IF('Configuratie en berekeningen'!$D$4=\"Met VA\",'Configuratie en berekeningen'!$F$4/10000,0))*'Curves met UFR, zonder VA'!H214","v":0},{"$f":"('Curves met UFR, zonder VA'!I85+IF('Configuratie en berekeningen'!$D$4=\"Met VA\",'Configuratie en berekeningen'!$F$4/10000,0))*'Curves met UFR, zonder VA'!I214","v":0},{"$f":"('Curves met UFR, zonder VA'!J85+IF('Configuratie en berekeningen'!$D$4=\"Met VA\",'Configuratie en berekeningen'!$F$4/10000,0))*'Curves met UFR, zonder VA'!J214","v":0},{"$f":"('Curves met UFR, zonder VA'!K85+IF('Configuratie en berekeningen'!$D$4=\"Met VA\",'Configuratie en berekeningen'!$F$4/10000,0))*'Curves met UFR, zonder VA'!K214","v":0},{"$f":"('Curves met UFR, zonder VA'!L85+IF('Configuratie en berekeningen'!$D$4=\"Met VA\",'Configuratie en berekeningen'!$F$4/10000,0))*'Curves met UFR, zonder VA'!L214","v":0},{"$f":"('Curves met UFR, zonder VA'!M85+IF('Configuratie en berekeningen'!$D$4=\"Met VA\",'Configuratie en berekeningen'!$F$4/10000,0))*'Curves met UFR, zonder VA'!M214","v":0},{"$f":"('Curves met UFR, zonder VA'!N85+IF('Configuratie en berekeningen'!$D$4=\"Met VA\",'Configuratie en berekeningen'!$F$4/10000,0))*'Curves met UFR, zonder VA'!N214","v":0},{"$f":"('Curves met UFR, zonder VA'!O85+IF('Configuratie en berekeningen'!$D$4=\"Met VA\",'Configuratie en berekeningen'!$F$4/10000,0))*'Curves met UFR, zonder VA'!O214","v":0},{"$f":"('Curves met UFR, zonder VA'!P85+IF('Configuratie en berekeningen'!$D$4=\"Met VA\",'Configuratie en berekeningen'!$F$4/10000,0))*'Curves met UFR, zonder VA'!P214","v":0},{"$f":"('Curves met UFR, zonder VA'!Q85+IF('Configuratie en berekeningen'!$D$4=\"Met VA\",'Configuratie en berekeningen'!$F$4/10000,0))*'Curves met UFR, zonder VA'!Q214","v":0},{"$f":"('Curves met UFR, zonder VA'!R85+IF('Configuratie en berekeningen'!$D$4=\"Met VA\",'Configuratie en berekeningen'!$F$4/10000,0))*'Curves met UFR, zonder VA'!R214","v":0},{"$f":"('Curves met UFR, zonder VA'!S85+IF('Configuratie en berekeningen'!$D$4=\"Met VA\",'Configuratie en berekeningen'!$F$4/10000,0))*'Curves met UFR, zonder VA'!S214","v":0},{"$f":"('Curves met UFR, zonder VA'!T85+IF('Configuratie en berekeningen'!$D$4=\"Met VA\",'Configuratie en berekeningen'!$F$4/10000,0))*'Curves met UFR, zonder VA'!T214","v":0},{"$f":"('Curves met UFR, zonder VA'!U85+IF('Configuratie en berekeningen'!$D$4=\"Met VA\",'Configuratie en berekeningen'!$F$4/10000,0))*'Curves met UFR, zonder VA'!U214","v":0},{"$f":"('Curves met UFR, zonder VA'!V85+IF('Configuratie en berekeningen'!$D$4=\"Met VA\",'Configuratie en berekeningen'!$F$4/10000,0))*'Curves met UFR, zonder VA'!V214","v":0}]
[61,{"$f":"('Curves met UFR, zonder VA'!B86+IF('Configuratie en berekeningen'!$D$4=\"Met VA\",'Configuratie en berekeningen'!$F$4/10000,0))*'Curves met UFR, zonder VA'!B215","v":0},{"$f":"('Curves met UFR, zonder VA'!C86+IF('Configuratie en berekeningen'!$D$4=\"Met VA\",'Configuratie en berekeningen'!$F$4/10000,0))*'Curves met UFR, zonder VA'!C215","v":0},{"$f":"('Curves met UFR, zonder VA'!D86+IF('Configuratie en berekeningen'!$D$4=\"Met VA\",'Configuratie en berekeningen'!$F$4/10000,0))*'Curves met UFR, zonder VA'!D215","v":0},{"$f":"('Curves met UFR, zonder VA'!E86+IF('Configuratie en berekeningen'!$D$4=\"Met VA\",'Configuratie en berekeningen'!$F$4/10000,0))*'Curves met UFR, zonder VA'!E215","v":0},{"$f":"('Curves met UFR, zonder VA'!F86+IF('Configuratie en berekeningen'!$D$4=\"Met VA\",'Configuratie en berekeningen'!$F$4/10000,0))*'Curves met UFR, zonder VA'!F215","v":0},{"$f":"('Curves met UFR, zonder VA'!G86+IF('Configuratie en berekeningen'!$D$4=\"Met VA\",'Configuratie en berekeningen'!$F$4/10000,0))*'Curves met UFR, zonder VA'!G215","v":0},{"$f":"('Curves met UFR, zonder VA'!H86+IF('Configuratie en berekeningen'!$D$4=\"Met VA\",'Configuratie en berekeningen'!$F$4/10000,0))*'Curves met UFR, zonder VA'!H215","v":0},{"$f":"('Curves met UFR, zonder VA'!I86+IF('Configuratie en berekeningen'!$D$4=\"Met VA\",'Configuratie en berekeningen'!$F$4/10000,0))*'Curves met UFR, zonder VA'!I215","v":0},{"$f":"('Curves met UFR, zonder VA'!J86+IF('Configuratie en berekeningen'!$D$4=\"Met VA\",'Configuratie en berekeningen'!$F$4/10000,0))*'Curves met UFR, zonder VA'!J215","v":0},{"$f":"('Curves met UFR, zonder VA'!K86+IF('Configuratie en berekeningen'!$D$4=\"Met VA\",'Configuratie en berekeningen'!$F$4/10000,0))*'Curves met UFR, zonder VA'!K215","v":0},{"$f":"('Curves met UFR, zonder VA'!L86+IF('Configuratie en berekeningen'!$D$4=\"Met VA\",'Configuratie en berekeningen'!$F$4/10000,0))*'Curves met UFR, zonder VA'!L215","v":0},{"$f":"('Curves met UFR, zonder VA'!M86+IF('Configuratie en berekeningen'!$D$4=\"Met VA\",'Configuratie en berekeningen'!$F$4/10000,0))*'Curves met UFR, zonder VA'!M215","v":0},{"$f":"('Curves met UFR, zonder VA'!N86+IF('Configuratie en berekeningen'!$D$4=\"Met VA\",'Configuratie en berekeningen'!$F$4/10000,0))*'Curves met UFR, zonder VA'!N215","v":0},{"$f":"('Curves met UFR, zonder VA'!O86+IF('Configuratie en berekeningen'!$D$4=\"Met VA\",'Configuratie en berekeningen'!$F$4/10000,0))*'Curves met UFR, zonder VA'!O215","v":0},{"$f":"('Curves met UFR, zonder VA'!P86+IF('Configuratie en berekeningen'!$D$4=\"Met VA\",'Configuratie en berekeningen'!$F$4/10000,0))*'Curves met UFR, zonder VA'!P215","v":0},{"$f":"('Curves met UFR, zonder VA'!Q86+IF('Configuratie en berekeningen'!$D$4=\"Met VA\",'Configuratie en berekeningen'!$F$4/10000,0))*'Curves met UFR, zonder VA'!Q215","v":0},{"$f":"('Curves met UFR, zonder VA'!R86+IF('Configuratie en berekeningen'!$D$4=\"Met VA\",'Configuratie en berekeningen'!$F$4/10000,0))*'Curves met UFR, zonder VA'!R215","v":0},{"$f":"('Curves met UFR, zonder VA'!S86+IF('Configuratie en berekeningen'!$D$4=\"Met VA\",'Configuratie en berekeningen'!$F$4/10000,0))*'Curves met UFR, zonder VA'!S215","v":0},{"$f":"('Curves met UFR, zonder VA'!T86+IF('Configuratie en berekeningen'!$D$4=\"Met VA\",'Configuratie en berekeningen'!$F$4/10000,0))*'Curves met UFR, zonder VA'!T215","v":0},{"$f":"('Curves met UFR, zonder VA'!U86+IF('Configuratie en berekeningen'!$D$4=\"Met VA\",'Configuratie en berekeningen'!$F$4/10000,0))*'Curves met UFR, zonder VA'!U215","v":0},{"$f":"('Curves met UFR, zonder VA'!V86+IF('Configuratie en berekeningen'!$D$4=\"Met VA\",'Configuratie en berekeningen'!$F$4/10000,0))*'Curves met UFR, zonder VA'!V215","v":0}]
[62,{"$f":"('Curves met UFR, zonder VA'!B87+IF('Configuratie en berekeningen'!$D$4=\"Met VA\",'Configuratie en berekeningen'!$F$4/10000,0))*'Curves met UFR, zonder VA'!B216","v":0},{"$f":"('Curves met UFR, zonder VA'!C87+IF('Configuratie en berekeningen'!$D$4=\"Met VA\",'Configuratie en berekeningen'!$F$4/10000,0))*'Curves met UFR, zonder VA'!C216","v":0},{"$f":"('Curves met UFR, zonder VA'!D87+IF('Configuratie en berekeningen'!$D$4=\"Met VA\",'Configuratie en berekeningen'!$F$4/10000,0))*'Curves met UFR, zonder VA'!D216","v":0},{"$f":"('Curves met UFR, zonder VA'!E87+IF('Configuratie en berekeningen'!$D$4=\"Met VA\",'Configuratie en berekeningen'!$F$4/10000,0))*'Curves met UFR, zonder VA'!E216","v":0},{"$f":"('Curves met UFR, zonder VA'!F87+IF('Configuratie en berekeningen'!$D$4=\"Met VA\",'Configuratie en berekeningen'!$F$4/10000,0))*'Curves met UFR, zonder VA'!F216","v":0},{"$f":"('Curves met UFR, zonder VA'!G87+IF('Configuratie en berekeningen'!$D$4=\"Met VA\",'Configuratie en berekeningen'!$F$4/10000,0))*'Curves met UFR, zonder VA'!G216","v":0},{"$f":"('Curves met UFR, zonder VA'!H87+IF('Configuratie en berekeningen'!$D$4=\"Met VA\",'Configuratie en berekeningen'!$F$4/10000,0))*'Curves met UFR, zonder VA'!H216","v":0},{"$f":"('Curves met UFR, zonder VA'!I87+IF('Configuratie en berekeningen'!$D$4=\"Met VA\",'Configuratie en berekeningen'!$F$4/10000,0))*'Curves met UFR, zonder VA'!I216","v":0},{"$f":"('Curves met UFR, zonder VA'!J87+IF('Configuratie en berekeningen'!$D$4=\"Met VA\",'Configuratie en berekeningen'!$F$4/10000,0))*'Curves met UFR, zonder VA'!J216","v":0},{"$f":"('Curves met UFR, zonder VA'!K87+IF('Configuratie en berekeningen'!$D$4=\"Met VA\",'Configuratie en berekeningen'!$F$4/10000,0))*'Curves met UFR, zonder VA'!K216","v":0},{"$f":"('Curves met UFR, zonder VA'!L87+IF('Configuratie en berekeningen'!$D$4=\"Met VA\",'Configuratie en berekeningen'!$F$4/10000,0))*'Curves met UFR, zonder VA'!L216","v":0},{"$f":"('Curves met UFR, zonder VA'!M87+IF('Configuratie en berekeningen'!$D$4=\"Met VA\",'Configuratie en berekeningen'!$F$4/10000,0))*'Curves met UFR, zonder VA'!M216","v":0},{"$f":"('Curves met UFR, zonder VA'!N87+IF('Configuratie en berekeningen'!$D$4=\"Met VA\",'Configuratie en berekeningen'!$F$4/10000,0))*'Curves met UFR, zonder VA'!N216","v":0},{"$f":"('Curves met UFR, zonder VA'!O87+IF('Configuratie en berekeningen'!$D$4=\"Met VA\",'Configuratie en berekeningen'!$F$4/10000,0))*'Curves met UFR, zonder VA'!O216","v":0},{"$f":"('Curves met UFR, zonder VA'!P87+IF('Configuratie en berekeningen'!$D$4=\"Met VA\",'Configuratie en berekeningen'!$F$4/10000,0))*'Curves met UFR, zonder VA'!P216","v":0},{"$f":"('Curves met UFR, zonder VA'!Q87+IF('Configuratie en berekeningen'!$D$4=\"Met VA\",'Configuratie en berekeningen'!$F$4/10000,0))*'Curves met UFR, zonder VA'!Q216","v":0},{"$f":"('Curves met UFR, zonder VA'!R87+IF('Configuratie en berekeningen'!$D$4=\"Met VA\",'Configuratie en berekeningen'!$F$4/10000,0))*'Curves met UFR, zonder VA'!R216","v":0},{"$f":"('Curves met UFR, zonder VA'!S87+IF('Configuratie en berekeningen'!$D$4=\"Met VA\",'Configuratie en berekeningen'!$F$4/10000,0))*'Curves met UFR, zonder VA'!S216","v":0},{"$f":"('Curves met UFR, zonder VA'!T87+IF('Configuratie en berekeningen'!$D$4=\"Met VA\",'Configuratie en berekeningen'!$F$4/10000,0))*'Curves met UFR, zonder VA'!T216","v":0},{"$f":"('Curves met UFR, zonder VA'!U87+IF('Configuratie en berekeningen'!$D$4=\"Met VA\",'Configuratie en berekeningen'!$F$4/10000,0))*'Curves met UFR, zonder VA'!U216","v":0},{"$f":"('Curves met UFR, zonder VA'!V87+IF('Configuratie en berekeningen'!$D$4=\"Met VA\",'Configuratie en berekeningen'!$F$4/10000,0))*'Curves met UFR, zonder VA'!V216","v":0}]
[63,{"$f":"('Curves met UFR, zonder VA'!B88+IF('Configuratie en berekeningen'!$D$4=\"Met VA\",'Configuratie en berekeningen'!$F$4/10000,0))*'Curves met UFR, zonder VA'!B217","v":0},{"$f":"('Curves met UFR, zonder VA'!C88+IF('Configuratie en berekeningen'!$D$4=\"Met VA\",'Configuratie en berekeningen'!$F$4/10000,0))*'Curves met UFR, zonder VA'!C217","v":0},{"$f":"('Curves met UFR, zonder VA'!D88+IF('Configuratie en berekeningen'!$D$4=\"Met VA\",'Configuratie en berekeningen'!$F$4/10000,0))*'Curves met UFR, zonder VA'!D217","v":0},{"$f":"('Curves met UFR, zonder VA'!E88+IF('Configuratie en berekeningen'!$D$4=\"Met VA\",'Configuratie en berekeningen'!$F$4/10000,0))*'Curves met UFR, zonder VA'!E217","v":0},{"$f":"('Curves met UFR, zonder VA'!F88+IF('Configuratie en berekeningen'!$D$4=\"Met VA\",'Configuratie en berekeningen'!$F$4/10000,0))*'Curves met UFR, zonder VA'!F217","v":0},{"$f":"('Curves met UFR, zonder VA'!G88+IF('Configuratie en berekeningen'!$D$4=\"Met VA\",'Configuratie en berekeningen'!$F$4/10000,0))*'Curves met UFR, zonder VA'!G217","v":0},{"$f":"('Curves met UFR, zonder VA'!H88+IF('Configuratie en berekeningen'!$D$4=\"Met VA\",'Configuratie en berekeningen'!$F$4/10000,0))*'Curves met UFR, zonder VA'!H217","v":0},{"$f":"('Curves met UFR, zonder VA'!I88+IF('Configuratie en berekeningen'!$D$4=\"Met VA\",'Configuratie en berekeningen'!$F$4/10000,0))*'Curves met UFR, zonder VA'!I217","v":0},{"$f":"('Curves met UFR, zonder VA'!J88+IF('Configuratie en berekeningen'!$D$4=\"Met VA\",'Configuratie en berekeningen'!$F$4/10000,0))*'Curves met UFR, zonder VA'!J217","v":0},{"$f":"('Curves met UFR, zonder VA'!K88+IF('Configuratie en berekeningen'!$D$4=\"Met VA\",'Configuratie en berekeningen'!$F$4/10000,0))*'Curves met UFR, zonder VA'!K217","v":0},{"$f":"('Curves met UFR, zonder VA'!L88+IF('Configuratie en berekeningen'!$D$4=\"Met VA\",'Configuratie en berekeningen'!$F$4/10000,0))*'Curves met UFR, zonder VA'!L217","v":0},{"$f":"('Curves met UFR, zonder VA'!M88+IF('Configuratie en berekeningen'!$D$4=\"Met VA\",'Configuratie en berekeningen'!$F$4/10000,0))*'Curves met UFR, zonder VA'!M217","v":0},{"$f":"('Curves met UFR, zonder VA'!N88+IF('Configuratie en berekeningen'!$D$4=\"Met VA\",'Configuratie en berekeningen'!$F$4/10000,0))*'Curves met UFR, zonder VA'!N217","v":0},{"$f":"('Curves met UFR, zonder VA'!O88+IF('Configuratie en berekeningen'!$D$4=\"Met VA\",'Configuratie en berekeningen'!$F$4/10000,0))*'Curves met UFR, zonder VA'!O217","v":0},{"$f":"('Curves met UFR, zonder VA'!P88+IF('Configuratie en berekeningen'!$D$4=\"Met VA\",'Configuratie en berekeningen'!$F$4/10000,0))*'Curves met UFR, zonder VA'!P217","v":0},{"$f":"('Curves met UFR, zonder VA'!Q88+IF('Configuratie en berekeningen'!$D$4=\"Met VA\",'Configuratie en berekeningen'!$F$4/10000,0))*'Curves met UFR, zonder VA'!Q217","v":0},{"$f":"('Curves met UFR, zonder VA'!R88+IF('Configuratie en berekeningen'!$D$4=\"Met VA\",'Configuratie en berekeningen'!$F$4/10000,0))*'Curves met UFR, zonder VA'!R217","v":0},{"$f":"('Curves met UFR, zonder VA'!S88+IF('Configuratie en berekeningen'!$D$4=\"Met VA\",'Configuratie en berekeningen'!$F$4/10000,0))*'Curves met UFR, zonder VA'!S217","v":0},{"$f":"('Curves met UFR, zonder VA'!T88+IF('Configuratie en berekeningen'!$D$4=\"Met VA\",'Configuratie en berekeningen'!$F$4/10000,0))*'Curves met UFR, zonder VA'!T217","v":0},{"$f":"('Curves met UFR, zonder VA'!U88+IF('Configuratie en berekeningen'!$D$4=\"Met VA\",'Configuratie en berekeningen'!$F$4/10000,0))*'Curves met UFR, zonder VA'!U217","v":0},{"$f":"('Curves met UFR, zonder VA'!V88+IF('Configuratie en berekeningen'!$D$4=\"Met VA\",'Configuratie en berekeningen'!$F$4/10000,0))*'Curves met UFR, zonder VA'!V217","v":0}]
[64,{"$f":"('Curves met UFR, zonder VA'!B89+IF('Configuratie en berekeningen'!$D$4=\"Met VA\",'Configuratie en berekeningen'!$F$4/10000,0))*'Curves met UFR, zonder VA'!B218","v":0},{"$f":"('Curves met UFR, zonder VA'!C89+IF('Configuratie en berekeningen'!$D$4=\"Met VA\",'Configuratie en berekeningen'!$F$4/10000,0))*'Curves met UFR, zonder VA'!C218","v":0},{"$f":"('Curves met UFR, zonder VA'!D89+IF('Configuratie en berekeningen'!$D$4=\"Met VA\",'Configuratie en berekeningen'!$F$4/10000,0))*'Curves met UFR, zonder VA'!D218","v":0},{"$f":"('Curves met UFR, zonder VA'!E89+IF('Configuratie en berekeningen'!$D$4=\"Met VA\",'Configuratie en berekeningen'!$F$4/10000,0))*'Curves met UFR, zonder VA'!E218","v":0},{"$f":"('Curves met UFR, zonder VA'!F89+IF('Configuratie en berekeningen'!$D$4=\"Met VA\",'Configuratie en berekeningen'!$F$4/10000,0))*'Curves met UFR, zonder VA'!F218","v":0},{"$f":"('Curves met UFR, zonder VA'!G89+IF('Configuratie en berekeningen'!$D$4=\"Met VA\",'Configuratie en berekeningen'!$F$4/10000,0))*'Curves met UFR, zonder VA'!G218","v":0},{"$f":"('Curves met UFR, zonder VA'!H89+IF('Configuratie en berekeningen'!$D$4=\"Met VA\",'Configuratie en berekeningen'!$F$4/10000,0))*'Curves met UFR, zonder VA'!H218","v":0},{"$f":"('Curves met UFR, zonder VA'!I89+IF('Configuratie en berekeningen'!$D$4=\"Met VA\",'Configuratie en berekeningen'!$F$4/10000,0))*'Curves met UFR, zonder VA'!I218","v":0},{"$f":"('Curves met UFR, zonder VA'!J89+IF('Configuratie en berekeningen'!$D$4=\"Met VA\",'Configuratie en berekeningen'!$F$4/10000,0))*'Curves met UFR, zonder VA'!J218","v":0},{"$f":"('Curves met UFR, zonder VA'!K89+IF('Configuratie en berekeningen'!$D$4=\"Met VA\",'Configuratie en berekeningen'!$F$4/10000,0))*'Curves met UFR, zonder VA'!K218","v":0},{"$f":"('Curves met UFR, zonder VA'!L89+IF('Configuratie en berekeningen'!$D$4=\"Met VA\",'Configuratie en berekeningen'!$F$4/10000,0))*'Curves met UFR, zonder VA'!L218","v":0},{"$f":"('Curves met UFR, zonder VA'!M89+IF('Configuratie en berekeningen'!$D$4=\"Met VA\",'Configuratie en berekeningen'!$F$4/10000,0))*'Curves met UFR, zonder VA'!M218","v":0},{"$f":"('Curves met UFR, zonder VA'!N89+IF('Configuratie en berekeningen'!$D$4=\"Met VA\",'Configuratie en berekeningen'!$F$4/10000,0))*'Curves met UFR, zonder VA'!N218","v":0},{"$f":"('Curves met UFR, zonder VA'!O89+IF('Configuratie en berekeningen'!$D$4=\"Met VA\",'Configuratie en berekeningen'!$F$4/10000,0))*'Curves met UFR, zonder VA'!O218","v":0},{"$f":"('Curves met UFR, zonder VA'!P89+IF('Configuratie en berekeningen'!$D$4=\"Met VA\",'Configuratie en berekeningen'!$F$4/10000,0))*'Curves met UFR, zonder VA'!P218","v":0},{"$f":"('Curves met UFR, zonder VA'!Q89+IF('Configuratie en berekeningen'!$D$4=\"Met VA\",'Configuratie en berekeningen'!$F$4/10000,0))*'Curves met UFR, zonder VA'!Q218","v":0},{"$f":"('Curves met UFR, zonder VA'!R89+IF('Configuratie en berekeningen'!$D$4=\"Met VA\",'Configuratie en berekeningen'!$F$4/10000,0))*'Curves met UFR, zonder VA'!R218","v":0},{"$f":"('Curves met UFR, zonder VA'!S89+IF('Configuratie en berekeningen'!$D$4=\"Met VA\",'Configuratie en berekeningen'!$F$4/10000,0))*'Curves met UFR, zonder VA'!S218","v":0},{"$f":"('Curves met UFR, zonder VA'!T89+IF('Configuratie en berekeningen'!$D$4=\"Met VA\",'Configuratie en berekeningen'!$F$4/10000,0))*'Curves met UFR, zonder VA'!T218","v":0},{"$f":"('Curves met UFR, zonder VA'!U89+IF('Configuratie en berekeningen'!$D$4=\"Met VA\",'Configuratie en berekeningen'!$F$4/10000,0))*'Curves met UFR, zonder VA'!U218","v":0},{"$f":"('Curves met UFR, zonder VA'!V89+IF('Configuratie en berekeningen'!$D$4=\"Met VA\",'Configuratie en berekeningen'!$F$4/10000,0))*'Curves met UFR, zonder VA'!V218","v":0}]
[65,{"$f":"('Curves met UFR, zonder VA'!B90+IF('Configuratie en berekeningen'!$D$4=\"Met VA\",'Configuratie en berekeningen'!$F$4/10000,0))*'Curves met UFR, zonder VA'!B219","v":0},{"$f":"('Curves met UFR, zonder VA'!C90+IF('Configuratie en berekeningen'!$D$4=\"Met VA\",'Configuratie en berekeningen'!$F$4/10000,0))*'Curves met UFR, zonder VA'!C219","v":0},{"$f":"('Curves met UFR, zonder VA'!D90+IF('Configuratie en berekeningen'!$D$4=\"Met VA\",'Configuratie en berekeningen'!$F$4/10000,0))*'Curves met UFR, zonder VA'!D219","v":0},{"$f":"('Curves met UFR, zonder VA'!E90+IF('Configuratie en berekeningen'!$D$4=\"Met VA\",'Configuratie en berekeningen'!$F$4/10000,0))*'Curves met UFR, zonder VA'!E219","v":0},{"$f":"('Curves met UFR, zonder VA'!F90+IF('Configuratie en berekeningen'!$D$4=\"Met VA\",'Configuratie en berekeningen'!$F$4/10000,0))*'Curves met UFR, zonder VA'!F219","v":0},{"$f":"('Curves met UFR, zonder VA'!G90+IF('Configuratie en berekeningen'!$D$4=\"Met VA\",'Configuratie en berekeningen'!$F$4/10000,0))*'Curves met UFR, zonder VA'!G219","v":0},{"$f":"('Curves met UFR, zonder VA'!H90+IF('Configuratie en berekeningen'!$D$4=\"Met VA\",'Configuratie en berekeningen'!$F$4/10000,0))*'Curves met UFR, zonder VA'!H219","v":0},{"$f":"('Curves met UFR, zonder VA'!I90+IF('Configuratie en berekeningen'!$D$4=\"Met VA\",'Configuratie en berekeningen'!$F$4/10000,0))*'Curves met UFR, zonder VA'!I219","v":0},{"$f":"('Curves met UFR, zonder VA'!J90+IF('Configuratie en berekeningen'!$D$4=\"Met VA\",'Configuratie en berekeningen'!$F$4/10000,0))*'Curves met UFR, zonder VA'!J219","v":0},{"$f":"('Curves met UFR, zonder VA'!K90+IF('Configuratie en berekeningen'!$D$4=\"Met VA\",'Configuratie en berekeningen'!$F$4/10000,0))*'Curves met UFR, zonder VA'!K219","v":0},{"$f":"('Curves met UFR, zonder VA'!L90+IF('Configuratie en berekeningen'!$D$4=\"Met VA\",'Configuratie en berekeningen'!$F$4/10000,0))*'Curves met UFR, zonder VA'!L219","v":0},{"$f":"('Curves met UFR, zonder VA'!M90+IF('Configuratie en berekeningen'!$D$4=\"Met VA\",'Configuratie en berekeningen'!$F$4/10000,0))*'Curves met UFR, zonder VA'!M219","v":0},{"$f":"('Curves met UFR, zonder VA'!N90+IF('Configuratie en berekeningen'!$D$4=\"Met VA\",'Configuratie en berekeningen'!$F$4/10000,0))*'Curves met UFR, zonder VA'!N219","v":0},{"$f":"('Curves met UFR, zonder VA'!O90+IF('Configuratie en berekeningen'!$D$4=\"Met VA\",'Configuratie en berekeningen'!$F$4/10000,0))*'Curves met UFR, zonder VA'!O219","v":0},{"$f":"('Curves met UFR, zonder VA'!P90+IF('Configuratie en berekeningen'!$D$4=\"Met VA\",'Configuratie en berekeningen'!$F$4/10000,0))*'Curves met UFR, zonder VA'!P219","v":0},{"$f":"('Curves met UFR, zonder VA'!Q90+IF('Configuratie en berekeningen'!$D$4=\"Met VA\",'Configuratie en berekeningen'!$F$4/10000,0))*'Curves met UFR, zonder VA'!Q219","v":0},{"$f":"('Curves met UFR, zonder VA'!R90+IF('Configuratie en berekeningen'!$D$4=\"Met VA\",'Configuratie en berekeningen'!$F$4/10000,0))*'Curves met UFR, zonder VA'!R219","v":0},{"$f":"('Curves met UFR, zonder VA'!S90+IF('Configuratie en berekeningen'!$D$4=\"Met VA\",'Configuratie en berekeningen'!$F$4/10000,0))*'Curves met UFR, zonder VA'!S219","v":0},{"$f":"('Curves met UFR, zonder VA'!T90+IF('Configuratie en berekeningen'!$D$4=\"Met VA\",'Configuratie en berekeningen'!$F$4/10000,0))*'Curves met UFR, zonder VA'!T219","v":0},{"$f":"('Curves met UFR, zonder VA'!U90+IF('Configuratie en berekeningen'!$D$4=\"Met VA\",'Configuratie en berekeningen'!$F$4/10000,0))*'Curves met UFR, zonder VA'!U219","v":0},{"$f":"('Curves met UFR, zonder VA'!V90+IF('Configuratie en berekeningen'!$D$4=\"Met VA\",'Configuratie en berekeningen'!$F$4/10000,0))*'Curves met UFR, zonder VA'!V219","v":0}]
[66,{"$f":"('Curves met UFR, zonder VA'!B91+IF('Configuratie en berekeningen'!$D$4=\"Met VA\",'Configuratie en berekeningen'!$F$4/10000,0))*'Curves met UFR, zonder VA'!B220","v":0},{"$f":"('Curves met UFR, zonder VA'!C91+IF('Configuratie en berekeningen'!$D$4=\"Met VA\",'Configuratie en berekeningen'!$F$4/10000,0))*'Curves met UFR, zonder VA'!C220","v":0},{"$f":"('Curves met UFR, zonder VA'!D91+IF('Configuratie en berekeningen'!$D$4=\"Met VA\",'Configuratie en berekeningen'!$F$4/10000,0))*'Curves met UFR, zonder VA'!D220","v":0},{"$f":"('Curves met UFR, zonder VA'!E91+IF('Configuratie en berekeningen'!$D$4=\"Met VA\",'Configuratie en berekeningen'!$F$4/10000,0))*'Curves met UFR, zonder VA'!E220","v":0},{"$f":"('Curves met UFR, zonder VA'!F91+IF('Configuratie en berekeningen'!$D$4=\"Met VA\",'Configuratie en berekeningen'!$F$4/10000,0))*'Curves met UFR, zonder VA'!F220","v":0},{"$f":"('Curves met UFR, zonder VA'!G91+IF('Configuratie en berekeningen'!$D$4=\"Met VA\",'Configuratie en berekeningen'!$F$4/10000,0))*'Curves met UFR, zonder VA'!G220","v":0},{"$f":"('Curves met UFR, zonder VA'!H91+IF('Configuratie en berekeningen'!$D$4=\"Met VA\",'Configuratie en berekeningen'!$F$4/10000,0))*'Curves met UFR, zonder VA'!H220","v":0},{"$f":"('Curves met UFR, zonder VA'!I91+IF('Configuratie en berekeningen'!$D$4=\"Met VA\",'Configuratie en berekeningen'!$F$4/10000,0))*'Curves met UFR, zonder VA'!I220","v":0},{"$f":"('Curves met UFR, zonder VA'!J91+IF('Configuratie en berekeningen'!$D$4=\"Met VA\",'Configuratie en berekeningen'!$F$4/10000,0))*'Curves met UFR, zonder VA'!J220","v":0},{"$f":"('Curves met UFR, zonder VA'!K91+IF('Configuratie en berekeningen'!$D$4=\"Met VA\",'Configuratie en berekeningen'!$F$4/10000,0))*'Curves met UFR, zonder VA'!K220","v":0},{"$f":"('Curves met UFR, zonder VA'!L91+IF('Configuratie en berekeningen'!$D$4=\"Met VA\",'Configuratie en berekeningen'!$F$4/10000,0))*'Curves met UFR, zonder VA'!L220","v":0},{"$f":"('Curves met UFR, zonder VA'!M91+IF('Configuratie en berekeningen'!$D$4=\"Met VA\",'Configuratie en berekeningen'!$F$4/10000,0))*'Curves met UFR, zonder VA'!M220","v":0},{"$f":"('Curves met UFR, zonder VA'!N91+IF('Configuratie en berekeningen'!$D$4=\"Met VA\",'Configuratie en berekeningen'!$F$4/10000,0))*'Curves met UFR, zonder VA'!N220","v":0},{"$f":"('Curves met UFR, zonder VA'!O91+IF('Configuratie en berekeningen'!$D$4=\"Met VA\",'Configuratie en berekeningen'!$F$4/10000,0))*'Curves met UFR, zonder VA'!O220","v":0},{"$f":"('Curves met UFR, zonder VA'!P91+IF('Configuratie en berekeningen'!$D$4=\"Met VA\",'Configuratie en berekeningen'!$F$4/10000,0))*'Curves met UFR, zonder VA'!P220","v":0},{"$f":"('Curves met UFR, zonder VA'!Q91+IF('Configuratie en berekeningen'!$D$4=\"Met VA\",'Configuratie en berekeningen'!$F$4/10000,0))*'Curves met UFR, zonder VA'!Q220","v":0},{"$f":"('Curves met UFR, zonder VA'!R91+IF('Configuratie en berekeningen'!$D$4=\"Met VA\",'Configuratie en berekeningen'!$F$4/10000,0))*'Curves met UFR, zonder VA'!R220","v":0},{"$f":"('Curves met UFR, zonder VA'!S91+IF('Configuratie en berekeningen'!$D$4=\"Met VA\",'Configuratie en berekeningen'!$F$4/10000,0))*'Curves met UFR, zonder VA'!S220","v":0},{"$f":"('Curves met UFR, zonder VA'!T91+IF('Configuratie en berekeningen'!$D$4=\"Met VA\",'Configuratie en berekeningen'!$F$4/10000,0))*'Curves met UFR, zonder VA'!T220","v":0},{"$f":"('Curves met UFR, zonder VA'!U91+IF('Configuratie en berekeningen'!$D$4=\"Met VA\",'Configuratie en berekeningen'!$F$4/10000,0))*'Curves met UFR, zonder VA'!U220","v":0},{"$f":"('Curves met UFR, zonder VA'!V91+IF('Configuratie en berekeningen'!$D$4=\"Met VA\",'Configuratie en berekeningen'!$F$4/10000,0))*'Curves met UFR, zonder VA'!V220","v":0}]
[67,{"$f":"('Curves met UFR, zonder VA'!B92+IF('Configuratie en berekeningen'!$D$4=\"Met VA\",'Configuratie en berekeningen'!$F$4/10000,0))*'Curves met UFR, zonder VA'!B221","v":0},{"$f":"('Curves met UFR, zonder VA'!C92+IF('Configuratie en berekeningen'!$D$4=\"Met VA\",'Configuratie en berekeningen'!$F$4/10000,0))*'Curves met UFR, zonder VA'!C221","v":0},{"$f":"('Curves met UFR, zonder VA'!D92+IF('Configuratie en berekeningen'!$D$4=\"Met VA\",'Configuratie en berekeningen'!$F$4/10000,0))*'Curves met UFR, zonder VA'!D221","v":0},{"$f":"('Curves met UFR, zonder VA'!E92+IF('Configuratie en berekeningen'!$D$4=\"Met VA\",'Configuratie en berekeningen'!$F$4/10000,0))*'Curves met UFR, zonder VA'!E221","v":0},{"$f":"('Curves met UFR, zonder VA'!F92+IF('Configuratie en berekeningen'!$D$4=\"Met VA\",'Configuratie en berekeningen'!$F$4/10000,0))*'Curves met UFR, zonder VA'!F221","v":0},{"$f":"('Curves met UFR, zonder VA'!G92+IF('Configuratie en berekeningen'!$D$4=\"Met VA\",'Configuratie en berekeningen'!$F$4/10000,0))*'Curves met UFR, zonder VA'!G221","v":0},{"$f":"('Curves met UFR, zonder VA'!H92+IF('Configuratie en berekeningen'!$D$4=\"Met VA\",'Configuratie en berekeningen'!$F$4/10000,0))*'Curves met UFR, zonder VA'!H221","v":0},{"$f":"('Curves met UFR, zonder VA'!I92+IF('Configuratie en berekeningen'!$D$4=\"Met VA\",'Configuratie en berekeningen'!$F$4/10000,0))*'Curves met UFR, zonder VA'!I221","v":0},{"$f":"('Curves met UFR, zonder VA'!J92+IF('Configuratie en berekeningen'!$D$4=\"Met VA\",'Configuratie en berekeningen'!$F$4/10000,0))*'Curves met UFR, zonder VA'!J221","v":0},{"$f":"('Curves met UFR, zonder VA'!K92+IF('Configuratie en berekeningen'!$D$4=\"Met VA\",'Configuratie en berekeningen'!$F$4/10000,0))*'Curves met UFR, zonder VA'!K221","v":0},{"$f":"('Curves met UFR, zonder VA'!L92+IF('Configuratie en berekeningen'!$D$4=\"Met VA\",'Configuratie en berekeningen'!$F$4/10000,0))*'Curves met UFR, zonder VA'!L221","v":0},{"$f":"('Curves met UFR, zonder VA'!M92+IF('Configuratie en berekeningen'!$D$4=\"Met VA\",'Configuratie en berekeningen'!$F$4/10000,0))*'Curves met UFR, zonder VA'!M221","v":0},{"$f":"('Curves met UFR, zonder VA'!N92+IF('Configuratie en berekeningen'!$D$4=\"Met VA\",'Configuratie en berekeningen'!$F$4/10000,0))*'Curves met UFR, zonder VA'!N221","v":0},{"$f":"('Curves met UFR, zonder VA'!O92+IF('Configuratie en berekeningen'!$D$4=\"Met VA\",'Configuratie en berekeningen'!$F$4/10000,0))*'Curves met UFR, zonder VA'!O221","v":0},{"$f":"('Curves met UFR, zonder VA'!P92+IF('Configuratie en berekeningen'!$D$4=\"Met VA\",'Configuratie en berekeningen'!$F$4/10000,0))*'Curves met UFR, zonder VA'!P221","v":0},{"$f":"('Curves met UFR, zonder VA'!Q92+IF('Configuratie en berekeningen'!$D$4=\"Met VA\",'Configuratie en berekeningen'!$F$4/10000,0))*'Curves met UFR, zonder VA'!Q221","v":0},{"$f":"('Curves met UFR, zonder VA'!R92+IF('Configuratie en berekeningen'!$D$4=\"Met VA\",'Configuratie en berekeningen'!$F$4/10000,0))*'Curves met UFR, zonder VA'!R221","v":0},{"$f":"('Curves met UFR, zonder VA'!S92+IF('Configuratie en berekeningen'!$D$4=\"Met VA\",'Configuratie en berekeningen'!$F$4/10000,0))*'Curves met UFR, zonder VA'!S221","v":0},{"$f":"('Curves met UFR, zonder VA'!T92+IF('Configuratie en berekeningen'!$D$4=\"Met VA\",'Configuratie en berekeningen'!$F$4/10000,0))*'Curves met UFR, zonder VA'!T221","v":0},{"$f":"('Curves met UFR, zonder VA'!U92+IF('Configuratie en berekeningen'!$D$4=\"Met VA\",'Configuratie en berekeningen'!$F$4/10000,0))*'Curves met UFR, zonder VA'!U221","v":0},{"$f":"('Curves met UFR, zonder VA'!V92+IF('Configuratie en berekeningen'!$D$4=\"Met VA\",'Configuratie en berekeningen'!$F$4/10000,0))*'Curves met UFR, zonder VA'!V221","v":0}]
[68,{"$f":"('Curves met UFR, zonder VA'!B93+IF('Configuratie en berekeningen'!$D$4=\"Met VA\",'Configuratie en berekeningen'!$F$4/10000,0))*'Curves met UFR, zonder VA'!B222","v":0},{"$f":"('Curves met UFR, zonder VA'!C93+IF('Configuratie en berekeningen'!$D$4=\"Met VA\",'Configuratie en berekeningen'!$F$4/10000,0))*'Curves met UFR, zonder VA'!C222","v":0},{"$f":"('Curves met UFR, zonder VA'!D93+IF('Configuratie en berekeningen'!$D$4=\"Met VA\",'Configuratie en berekeningen'!$F$4/10000,0))*'Curves met UFR, zonder VA'!D222","v":0},{"$f":"('Curves met UFR, zonder VA'!E93+IF('Configuratie en berekeningen'!$D$4=\"Met VA\",'Configuratie en berekeningen'!$F$4/10000,0))*'Curves met UFR, zonder VA'!E222","v":0},{"$f":"('Curves met UFR, zonder VA'!F93+IF('Configuratie en berekeningen'!$D$4=\"Met VA\",'Configuratie en berekeningen'!$F$4/10000,0))*'Curves met UFR, zonder VA'!F222","v":0},{"$f":"('Curves met UFR, zonder VA'!G93+IF('Configuratie en berekeningen'!$D$4=\"Met VA\",'Configuratie en berekeningen'!$F$4/10000,0))*'Curves met UFR, zonder VA'!G222","v":0},{"$f":"('Curves met UFR, zonder VA'!H93+IF('Configuratie en berekeningen'!$D$4=\"Met VA\",'Configuratie en berekeningen'!$F$4/10000,0))*'Curves met UFR, zonder VA'!H222","v":0},{"$f":"('Curves met UFR, zonder VA'!I93+IF('Configuratie en berekeningen'!$D$4=\"Met VA\",'Configuratie en berekeningen'!$F$4/10000,0))*'Curves met UFR, zonder VA'!I222","v":0},{"$f":"('Curves met UFR, zonder VA'!J93+IF('Configuratie en berekeningen'!$D$4=\"Met VA\",'Configuratie en berekeningen'!$F$4/10000,0))*'Curves met UFR, zonder VA'!J222","v":0},{"$f":"('Curves met UFR, zonder VA'!K93+IF('Configuratie en berekeningen'!$D$4=\"Met VA\",'Configuratie en berekeningen'!$F$4/10000,0))*'Curves met UFR, zonder VA'!K222","v":0},{"$f":"('Curves met UFR, zonder VA'!L93+IF('Configuratie en berekeningen'!$D$4=\"Met VA\",'Configuratie en berekeningen'!$F$4/10000,0))*'Curves met UFR, zonder VA'!L222","v":0},{"$f":"('Curves met UFR, zonder VA'!M93+IF('Configuratie en berekeningen'!$D$4=\"Met VA\",'Configuratie en berekeningen'!$F$4/10000,0))*'Curves met UFR, zonder VA'!M222","v":0},{"$f":"('Curves met UFR, zonder VA'!N93+IF('Configuratie en berekeningen'!$D$4=\"Met VA\",'Configuratie en berekeningen'!$F$4/10000,0))*'Curves met UFR, zonder VA'!N222","v":0},{"$f":"('Curves met UFR, zonder VA'!O93+IF('Configuratie en berekeningen'!$D$4=\"Met VA\",'Configuratie en berekeningen'!$F$4/10000,0))*'Curves met UFR, zonder VA'!O222","v":0},{"$f":"('Curves met UFR, zonder VA'!P93+IF('Configuratie en berekeningen'!$D$4=\"Met VA\",'Configuratie en berekeningen'!$F$4/10000,0))*'Curves met UFR, zonder VA'!P222","v":0},{"$f":"('Curves met UFR, zonder VA'!Q93+IF('Configuratie en berekeningen'!$D$4=\"Met VA\",'Configuratie en berekeningen'!$F$4/10000,0))*'Curves met UFR, zonder VA'!Q222","v":0},{"$f":"('Curves met UFR, zonder VA'!R93+IF('Configuratie en berekeningen'!$D$4=\"Met VA\",'Configuratie en berekeningen'!$F$4/10000,0))*'Curves met UFR, zonder VA'!R222","v":0},{"$f":"('Curves met UFR, zonder VA'!S93+IF('Configuratie en berekeningen'!$D$4=\"Met VA\",'Configuratie en berekeningen'!$F$4/10000,0))*'Curves met UFR, zonder VA'!S222","v":0},{"$f":"('Curves met UFR, zonder VA'!T93+IF('Configuratie en berekeningen'!$D$4=\"Met VA\",'Configuratie en berekeningen'!$F$4/10000,0))*'Curves met UFR, zonder VA'!T222","v":0},{"$f":"('Curves met UFR, zonder VA'!U93+IF('Configuratie en berekeningen'!$D$4=\"Met VA\",'Configuratie en berekeningen'!$F$4/10000,0))*'Curves met UFR, zonder VA'!U222","v":0},{"$f":"('Curves met UFR, zonder VA'!V93+IF('Configuratie en berekeningen'!$D$4=\"Met VA\",'Configuratie en berekeningen'!$F$4/10000,0))*'Curves met UFR, zonder VA'!V222","v":0}]
[69,{"$f":"('Curves met UFR, zonder VA'!B94+IF('Configuratie en berekeningen'!$D$4=\"Met VA\",'Configuratie en berekeningen'!$F$4/10000,0))*'Curves met UFR, zonder VA'!B223","v":0},{"$f":"('Curves met UFR, zonder VA'!C94+IF('Configuratie en berekeningen'!$D$4=\"Met VA\",'Configuratie en berekeningen'!$F$4/10000,0))*'Curves met UFR, zonder VA'!C223","v":0},{"$f":"('Curves met UFR, zonder VA'!D94+IF('Configuratie en berekeningen'!$D$4=\"Met VA\",'Configuratie en berekeningen'!$F$4/10000,0))*'Curves met UFR, zonder VA'!D223","v":0},{"$f":"('Curves met UFR, zonder VA'!E94+IF('Configuratie en berekeningen'!$D$4=\"Met VA\",'Configuratie en berekeningen'!$F$4/10000,0))*'Curves met UFR, zonder VA'!E223","v":0},{"$f":"('Curves met UFR, zonder VA'!F94+IF('Configuratie en berekeningen'!$D$4=\"Met VA\",'Configuratie en berekeningen'!$F$4/10000,0))*'Curves met UFR, zonder VA'!F223","v":0},{"$f":"('Curves met UFR, zonder VA'!G94+IF('Configuratie en berekeningen'!$D$4=\"Met VA\",'Configuratie en berekeningen'!$F$4/10000,0))*'Curves met UFR, zonder VA'!G223","v":0},{"$f":"('Curves met UFR, zonder VA'!H94+IF('Configuratie en berekeningen'!$D$4=\"Met VA\",'Configuratie en berekeningen'!$F$4/10000,0))*'Curves met UFR, zonder VA'!H223","v":0},{"$f":"('Curves met UFR, zonder VA'!I94+IF('Configuratie en berekeningen'!$D$4=\"Met VA\",'Configuratie en berekeningen'!$F$4/10000,0))*'Curves met UFR, zonder VA'!I223","v":0},{"$f":"('Curves met UFR, zonder VA'!J94+IF('Configuratie en berekeningen'!$D$4=\"Met VA\",'Configuratie en berekeningen'!$F$4/10000,0))*'Curves met UFR, zonder VA'!J223","v":0},{"$f":"('Curves met UFR, zonder VA'!K94+IF('Configuratie en berekeningen'!$D$4=\"Met VA\",'Configuratie en berekeningen'!$F$4/10000,0))*'Curves met UFR, zonder VA'!K223","v":0},{"$f":"('Curves met UFR, zonder VA'!L94+IF('Configuratie en berekeningen'!$D$4=\"Met VA\",'Configuratie en berekeningen'!$F$4/10000,0))*'Curves met UFR, zonder VA'!L223","v":0},{"$f":"('Curves met UFR, zonder VA'!M94+IF('Configuratie en berekeningen'!$D$4=\"Met VA\",'Configuratie en berekeningen'!$F$4/10000,0))*'Curves met UFR, zonder VA'!M223","v":0},{"$f":"('Curves met UFR, zonder VA'!N94+IF('Configuratie en berekeningen'!$D$4=\"Met VA\",'Configuratie en berekeningen'!$F$4/10000,0))*'Curves met UFR, zonder VA'!N223","v":0},{"$f":"('Curves met UFR, zonder VA'!O94+IF('Configuratie en berekeningen'!$D$4=\"Met VA\",'Configuratie en berekeningen'!$F$4/10000,0))*'Curves met UFR, zonder VA'!O223","v":0},{"$f":"('Curves met UFR, zonder VA'!P94+IF('Configuratie en berekeningen'!$D$4=\"Met VA\",'Configuratie en berekeningen'!$F$4/10000,0))*'Curves met UFR, zonder VA'!P223","v":0},{"$f":"('Curves met UFR, zonder VA'!Q94+IF('Configuratie en berekeningen'!$D$4=\"Met VA\",'Configuratie en berekeningen'!$F$4/10000,0))*'Curves met UFR, zonder VA'!Q223","v":0},{"$f":"('Curves met UFR, zonder VA'!R94+IF('Configuratie en berekeningen'!$D$4=\"Met VA\",'Configuratie en berekeningen'!$F$4/10000,0))*'Curves met UFR, zonder VA'!R223","v":0},{"$f":"('Curves met UFR, zonder VA'!S94+IF('Configuratie en berekeningen'!$D$4=\"Met VA\",'Configuratie en berekeningen'!$F$4/10000,0))*'Curves met UFR, zonder VA'!S223","v":0},{"$f":"('Curves met UFR, zonder VA'!T94+IF('Configuratie en berekeningen'!$D$4=\"Met VA\",'Configuratie en berekeningen'!$F$4/10000,0))*'Curves met UFR, zonder VA'!T223","v":0},{"$f":"('Curves met UFR, zonder VA'!U94+IF('Configuratie en berekeningen'!$D$4=\"Met VA\",'Configuratie en berekeningen'!$F$4/10000,0))*'Curves met UFR, zonder VA'!U223","v":0},{"$f":"('Curves met UFR, zonder VA'!V94+IF('Configuratie en berekeningen'!$D$4=\"Met VA\",'Configuratie en berekeningen'!$F$4/10000,0))*'Curves met UFR, zonder VA'!V223","v":0}]
[70,{"$f":"('Curves met UFR, zonder VA'!B95+IF('Configuratie en berekeningen'!$D$4=\"Met VA\",'Configuratie en berekeningen'!$F$4/10000,0))*'Curves met UFR, zonder VA'!B224","v":0},{"$f":"('Curves met UFR, zonder VA'!C95+IF('Configuratie en berekeningen'!$D$4=\"Met VA\",'Configuratie en berekeningen'!$F$4/10000,0))*'Curves met UFR, zonder VA'!C224","v":0},{"$f":"('Curves met UFR, zonder VA'!D95+IF('Configuratie en berekeningen'!$D$4=\"Met VA\",'Configuratie en berekeningen'!$F$4/10000,0))*'Curves met UFR, zonder VA'!D224","v":0},{"$f":"('Curves met UFR, zonder VA'!E95+IF('Configuratie en berekeningen'!$D$4=\"Met VA\",'Configuratie en berekeningen'!$F$4/10000,0))*'Curves met UFR, zonder VA'!E224","v":0},{"$f":"('Curves met UFR, zonder VA'!F95+IF('Configuratie en berekeningen'!$D$4=\"Met VA\",'Configuratie en berekeningen'!$F$4/10000,0))*'Curves met UFR, zonder VA'!F224","v":0},{"$f":"('Curves met UFR, zonder VA'!G95+IF('Configuratie en berekeningen'!$D$4=\"Met VA\",'Configuratie en berekeningen'!$F$4/10000,0))*'Curves met UFR, zonder VA'!G224","v":0},{"$f":"('Curves met UFR, zonder VA'!H95+IF('Configuratie en berekeningen'!$D$4=\"Met VA\",'Configuratie en berekeningen'!$F$4/10000,0))*'Curves met UFR, zonder VA'!H224","v":0},{"$f":"('Curves met UFR, zonder VA'!I95+IF('Configuratie en berekeningen'!$D$4=\"Met VA\",'Configuratie en berekeningen'!$F$4/10000,0))*'Curves met UFR, zonder VA'!I224","v":0},{"$f":"('Curves met UFR, zonder VA'!J95+IF('Configuratie en berekeningen'!$D$4=\"Met VA\",'Configuratie en berekeningen'!$F$4/10000,0))*'Curves met UFR, zonder VA'!J224","v":0},{"$f":"('Curves met UFR, zonder VA'!K95+IF('Configuratie en berekeningen'!$D$4=\"Met VA\",'Configuratie en berekeningen'!$F$4/10000,0))*'Curves met UFR, zonder VA'!K224","v":0},{"$f":"('Curves met UFR, zonder VA'!L95+IF('Configuratie en berekeningen'!$D$4=\"Met VA\",'Configuratie en berekeningen'!$F$4/10000,0))*'Curves met UFR, zonder VA'!L224","v":0},{"$f":"('Curves met UFR, zonder VA'!M95+IF('Configuratie en berekeningen'!$D$4=\"Met VA\",'Configuratie en berekeningen'!$F$4/10000,0))*'Curves met UFR, zonder VA'!M224","v":0},{"$f":"('Curves met UFR, zonder VA'!N95+IF('Configuratie en berekeningen'!$D$4=\"Met VA\",'Configuratie en berekeningen'!$F$4/10000,0))*'Curves met UFR, zonder VA'!N224","v":0},{"$f":"('Curves met UFR, zonder VA'!O95+IF('Configuratie en berekeningen'!$D$4=\"Met VA\",'Configuratie en berekeningen'!$F$4/10000,0))*'Curves met UFR, zonder VA'!O224","v":0},{"$f":"('Curves met UFR, zonder VA'!P95+IF('Configuratie en berekeningen'!$D$4=\"Met VA\",'Configuratie en berekeningen'!$F$4/10000,0))*'Curves met UFR, zonder VA'!P224","v":0},{"$f":"('Curves met UFR, zonder VA'!Q95+IF('Configuratie en berekeningen'!$D$4=\"Met VA\",'Configuratie en berekeningen'!$F$4/10000,0))*'Curves met UFR, zonder VA'!Q224","v":0},{"$f":"('Curves met UFR, zonder VA'!R95+IF('Configuratie en berekeningen'!$D$4=\"Met VA\",'Configuratie en berekeningen'!$F$4/10000,0))*'Curves met UFR, zonder VA'!R224","v":0},{"$f":"('Curves met UFR, zonder VA'!S95+IF('Configuratie en berekeningen'!$D$4=\"Met VA\",'Configuratie en berekeningen'!$F$4/10000,0))*'Curves met UFR, zonder VA'!S224","v":0},{"$f":"('Curves met UFR, zonder VA'!T95+IF('Configuratie en berekeningen'!$D$4=\"Met VA\",'Configuratie en berekeningen'!$F$4/10000,0))*'Curves met UFR, zonder VA'!T224","v":0},{"$f":"('Curves met UFR, zonder VA'!U95+IF('Configuratie en berekeningen'!$D$4=\"Met VA\",'Configuratie en berekeningen'!$F$4/10000,0))*'Curves met UFR, zonder VA'!U224","v":0},{"$f":"('Curves met UFR, zonder VA'!V95+IF('Configuratie en berekeningen'!$D$4=\"Met VA\",'Configuratie en berekeningen'!$F$4/10000,0))*'Curves met UFR, zonder VA'!V224","v":0}]
[71,{"$f":"('Curves met UFR, zonder VA'!B96+IF('Configuratie en berekeningen'!$D$4=\"Met VA\",'Configuratie en berekeningen'!$F$4/10000,0))*'Curves met UFR, zonder VA'!B225","v":0},{"$f":"('Curves met UFR, zonder VA'!C96+IF('Configuratie en berekeningen'!$D$4=\"Met VA\",'Configuratie en berekeningen'!$F$4/10000,0))*'Curves met UFR, zonder VA'!C225","v":0},{"$f":"('Curves met UFR, zonder VA'!D96+IF('Configuratie en berekeningen'!$D$4=\"Met VA\",'Configuratie en berekeningen'!$F$4/10000,0))*'Curves met UFR, zonder VA'!D225","v":0},{"$f":"('Curves met UFR, zonder VA'!E96+IF('Configuratie en berekeningen'!$D$4=\"Met VA\",'Configuratie en berekeningen'!$F$4/10000,0))*'Curves met UFR, zonder VA'!E225","v":0},{"$f":"('Curves met UFR, zonder VA'!F96+IF('Configuratie en berekeningen'!$D$4=\"Met VA\",'Configuratie en berekeningen'!$F$4/10000,0))*'Curves met UFR, zonder VA'!F225","v":0},{"$f":"('Curves met UFR, zonder VA'!G96+IF('Configuratie en berekeningen'!$D$4=\"Met VA\",'Configuratie en berekeningen'!$F$4/10000,0))*'Curves met UFR, zonder VA'!G225","v":0},{"$f":"('Curves met UFR, zonder VA'!H96+IF('Configuratie en berekeningen'!$D$4=\"Met VA\",'Configuratie en berekeningen'!$F$4/10000,0))*'Curves met UFR, zonder VA'!H225","v":0},{"$f":"('Curves met UFR, zonder VA'!I96+IF('Configuratie en berekeningen'!$D$4=\"Met VA\",'Configuratie en berekeningen'!$F$4/10000,0))*'Curves met UFR, zonder VA'!I225","v":0},{"$f":"('Curves met UFR, zonder VA'!J96+IF('Configuratie en berekeningen'!$D$4=\"Met VA\",'Configuratie en berekeningen'!$F$4/10000,0))*'Curves met UFR, zonder VA'!J225","v":0},{"$f":"('Curves met UFR, zonder VA'!K96+IF('Configuratie en berekeningen'!$D$4=\"Met VA\",'Configuratie en berekeningen'!$F$4/10000,0))*'Curves met UFR, zonder VA'!K225","v":0},{"$f":"('Curves met UFR, zonder VA'!L96+IF('Configuratie en berekeningen'!$D$4=\"Met VA\",'Configuratie en berekeningen'!$F$4/10000,0))*'Curves met UFR, zonder VA'!L225","v":0},{"$f":"('Curves met UFR, zonder VA'!M96+IF('Configuratie en berekeningen'!$D$4=\"Met VA\",'Configuratie en berekeningen'!$F$4/10000,0))*'Curves met UFR, zonder VA'!M225","v":0},{"$f":"('Curves met UFR, zonder VA'!N96+IF('Configuratie en berekeningen'!$D$4=\"Met VA\",'Configuratie en berekeningen'!$F$4/10000,0))*'Curves met UFR, zonder VA'!N225","v":0},{"$f":"('Curves met UFR, zonder VA'!O96+IF('Configuratie en berekeningen'!$D$4=\"Met VA\",'Configuratie en berekeningen'!$F$4/10000,0))*'Curves met UFR, zonder VA'!O225","v":0},{"$f":"('Curves met UFR, zonder VA'!P96+IF('Configuratie en berekeningen'!$D$4=\"Met VA\",'Configuratie en berekeningen'!$F$4/10000,0))*'Curves met UFR, zonder VA'!P225","v":0},{"$f":"('Curves met UFR, zonder VA'!Q96+IF('Configuratie en berekeningen'!$D$4=\"Met VA\",'Configuratie en berekeningen'!$F$4/10000,0))*'Curves met UFR, zonder VA'!Q225","v":0},{"$f":"('Curves met UFR, zonder VA'!R96+IF('Configuratie en berekeningen'!$D$4=\"Met VA\",'Configuratie en berekeningen'!$F$4/10000,0))*'Curves met UFR, zonder VA'!R225","v":0},{"$f":"('Curves met UFR, zonder VA'!S96+IF('Configuratie en berekeningen'!$D$4=\"Met VA\",'Configuratie en berekeningen'!$F$4/10000,0))*'Curves met UFR, zonder VA'!S225","v":0},{"$f":"('Curves met UFR, zonder VA'!T96+IF('Configuratie en berekeningen'!$D$4=\"Met VA\",'Configuratie en berekeningen'!$F$4/10000,0))*'Curves met UFR, zonder VA'!T225","v":0},{"$f":"('Curves met UFR, zonder VA'!U96+IF('Configuratie en berekeningen'!$D$4=\"Met VA\",'Configuratie en berekeningen'!$F$4/10000,0))*'Curves met UFR, zonder VA'!U225","v":0},{"$f":"('Curves met UFR, zonder VA'!V96+IF('Configuratie en berekeningen'!$D$4=\"Met VA\",'Configuratie en berekeningen'!$F$4/10000,0))*'Curves met UFR, zonder VA'!V225","v":0}]
[72,{"$f":"('Curves met UFR, zonder VA'!B97+IF('Configuratie en berekeningen'!$D$4=\"Met VA\",'Configuratie en berekeningen'!$F$4/10000,0))*'Curves met UFR, zonder VA'!B226","v":0},{"$f":"('Curves met UFR, zonder VA'!C97+IF('Configuratie en berekeningen'!$D$4=\"Met VA\",'Configuratie en berekeningen'!$F$4/10000,0))*'Curves met UFR, zonder VA'!C226","v":0},{"$f":"('Curves met UFR, zonder VA'!D97+IF('Configuratie en berekeningen'!$D$4=\"Met VA\",'Configuratie en berekeningen'!$F$4/10000,0))*'Curves met UFR, zonder VA'!D226","v":0},{"$f":"('Curves met UFR, zonder VA'!E97+IF('Configuratie en berekeningen'!$D$4=\"Met VA\",'Configuratie en berekeningen'!$F$4/10000,0))*'Curves met UFR, zonder VA'!E226","v":0},{"$f":"('Curves met UFR, zonder VA'!F97+IF('Configuratie en berekeningen'!$D$4=\"Met VA\",'Configuratie en berekeningen'!$F$4/10000,0))*'Curves met UFR, zonder VA'!F226","v":0},{"$f":"('Curves met UFR, zonder VA'!G97+IF('Configuratie en berekeningen'!$D$4=\"Met VA\",'Configuratie en berekeningen'!$F$4/10000,0))*'Curves met UFR, zonder VA'!G226","v":0},{"$f":"('Curves met UFR, zonder VA'!H97+IF('Configuratie en berekeningen'!$D$4=\"Met VA\",'Configuratie en berekeningen'!$F$4/10000,0))*'Curves met UFR, zonder VA'!H226","v":0},{"$f":"('Curves met UFR, zonder VA'!I97+IF('Configuratie en berekeningen'!$D$4=\"Met VA\",'Configuratie en berekeningen'!$F$4/10000,0))*'Curves met UFR, zonder VA'!I226","v":0},{"$f":"('Curves met UFR, zonder VA'!J97+IF('Configuratie en berekeningen'!$D$4=\"Met VA\",'Configuratie en berekeningen'!$F$4/10000,0))*'Curves met UFR, zonder VA'!J226","v":0},{"$f":"('Curves met UFR, zonder VA'!K97+IF('Configuratie en berekeningen'!$D$4=\"Met VA\",'Configuratie en berekeningen'!$F$4/10000,0))*'Curves met UFR, zonder VA'!K226","v":0},{"$f":"('Curves met UFR, zonder VA'!L97+IF('Configuratie en berekeningen'!$D$4=\"Met VA\",'Configuratie en berekeningen'!$F$4/10000,0))*'Curves met UFR, zonder VA'!L226","v":0},{"$f":"('Curves met UFR, zonder VA'!M97+IF('Configuratie en berekeningen'!$D$4=\"Met VA\",'Configuratie en berekeningen'!$F$4/10000,0))*'Curves met UFR, zonder VA'!M226","v":0},{"$f":"('Curves met UFR, zonder VA'!N97+IF('Configuratie en berekeningen'!$D$4=\"Met VA\",'Configuratie en berekeningen'!$F$4/10000,0))*'Curves met UFR, zonder VA'!N226","v":0},{"$f":"('Curves met UFR, zonder VA'!O97+IF('Configuratie en berekeningen'!$D$4=\"Met VA\",'Configuratie en berekeningen'!$F$4/10000,0))*'Curves met UFR, zonder VA'!O226","v":0},{"$f":"('Curves met UFR, zonder VA'!P97+IF('Configuratie en berekeningen'!$D$4=\"Met VA\",'Configuratie en berekeningen'!$F$4/10000,0))*'Curves met UFR, zonder VA'!P226","v":0},{"$f":"('Curves met UFR, zonder VA'!Q97+IF('Configuratie en berekeningen'!$D$4=\"Met VA\",'Configuratie en berekeningen'!$F$4/10000,0))*'Curves met UFR, zonder VA'!Q226","v":0},{"$f":"('Curves met UFR, zonder VA'!R97+IF('Configuratie en berekeningen'!$D$4=\"Met VA\",'Configuratie en berekeningen'!$F$4/10000,0))*'Curves met UFR, zonder VA'!R226","v":0},{"$f":"('Curves met UFR, zonder VA'!S97+IF('Configuratie en berekeningen'!$D$4=\"Met VA\",'Configuratie en berekeningen'!$F$4/10000,0))*'Curves met UFR, zonder VA'!S226","v":0},{"$f":"('Curves met UFR, zonder VA'!T97+IF('Configuratie en berekeningen'!$D$4=\"Met VA\",'Configuratie en berekeningen'!$F$4/10000,0))*'Curves met UFR, zonder VA'!T226","v":0},{"$f":"('Curves met UFR, zonder VA'!U97+IF('Configuratie en berekeningen'!$D$4=\"Met VA\",'Configuratie en berekeningen'!$F$4/10000,0))*'Curves met UFR, zonder VA'!U226","v":0},{"$f":"('Curves met UFR, zonder VA'!V97+IF('Configuratie en berekeningen'!$D$4=\"Met VA\",'Configuratie en berekeningen'!$F$4/10000,0))*'Curves met UFR, zonder VA'!V226","v":0}]
[73,{"$f":"('Curves met UFR, zonder VA'!B98+IF('Configuratie en berekeningen'!$D$4=\"Met VA\",'Configuratie en berekeningen'!$F$4/10000,0))*'Curves met UFR, zonder VA'!B227","v":0},{"$f":"('Curves met UFR, zonder VA'!C98+IF('Configuratie en berekeningen'!$D$4=\"Met VA\",'Configuratie en berekeningen'!$F$4/10000,0))*'Curves met UFR, zonder VA'!C227","v":0},{"$f":"('Curves met UFR, zonder VA'!D98+IF('Configuratie en berekeningen'!$D$4=\"Met VA\",'Configuratie en berekeningen'!$F$4/10000,0))*'Curves met UFR, zonder VA'!D227","v":0},{"$f":"('Curves met UFR, zonder VA'!E98+IF('Configuratie en berekeningen'!$D$4=\"Met VA\",'Configuratie en berekeningen'!$F$4/10000,0))*'Curves met UFR, zonder VA'!E227","v":0},{"$f":"('Curves met UFR, zonder VA'!F98+IF('Configuratie en berekeningen'!$D$4=\"Met VA\",'Configuratie en berekeningen'!$F$4/10000,0))*'Curves met UFR, zonder VA'!F227","v":0},{"$f":"('Curves met UFR, zonder VA'!G98+IF('Configuratie en berekeningen'!$D$4=\"Met VA\",'Configuratie en berekeningen'!$F$4/10000,0))*'Curves met UFR, zonder VA'!G227","v":0},{"$f":"('Curves met UFR, zonder VA'!H98+IF('Configuratie en berekeningen'!$D$4=\"Met VA\",'Configuratie en berekeningen'!$F$4/10000,0))*'Curves met UFR, zonder VA'!H227","v":0},{"$f":"('Curves met UFR, zonder VA'!I98+IF('Configuratie en berekeningen'!$D$4=\"Met VA\",'Configuratie en berekeningen'!$F$4/10000,0))*'Curves met UFR, zonder VA'!I227","v":0},{"$f":"('Curves met UFR, zonder VA'!J98+IF('Configuratie en berekeningen'!$D$4=\"Met VA\",'Configuratie en berekeningen'!$F$4/10000,0))*'Curves met UFR, zonder VA'!J227","v":0},{"$f":"('Curves met UFR, zonder VA'!K98+IF('Configuratie en berekeningen'!$D$4=\"Met VA\",'Configuratie en berekeningen'!$F$4/10000,0))*'Curves met UFR, zonder VA'!K227","v":0},{"$f":"('Curves met UFR, zonder VA'!L98+IF('Configuratie en berekeningen'!$D$4=\"Met VA\",'Configuratie en berekeningen'!$F$4/10000,0))*'Curves met UFR, zonder VA'!L227","v":0},{"$f":"('Curves met UFR, zonder VA'!M98+IF('Configuratie en berekeningen'!$D$4=\"Met VA\",'Configuratie en berekeningen'!$F$4/10000,0))*'Curves met UFR, zonder VA'!M227","v":0},{"$f":"('Curves met UFR, zonder VA'!N98+IF('Configuratie en berekeningen'!$D$4=\"Met VA\",'Configuratie en berekeningen'!$F$4/10000,0))*'Curves met UFR, zonder VA'!N227","v":0},{"$f":"('Curves met UFR, zonder VA'!O98+IF('Configuratie en berekeningen'!$D$4=\"Met VA\",'Configuratie en berekeningen'!$F$4/10000,0))*'Curves met UFR, zonder VA'!O227","v":0},{"$f":"('Curves met UFR, zonder VA'!P98+IF('Configuratie en berekeningen'!$D$4=\"Met VA\",'Configuratie en berekeningen'!$F$4/10000,0))*'Curves met UFR, zonder VA'!P227","v":0},{"$f":"('Curves met UFR, zonder VA'!Q98+IF('Configuratie en berekeningen'!$D$4=\"Met VA\",'Configuratie en berekeningen'!$F$4/10000,0))*'Curves met UFR, zonder VA'!Q227","v":0},{"$f":"('Curves met UFR, zonder VA'!R98+IF('Configuratie en berekeningen'!$D$4=\"Met VA\",'Configuratie en berekeningen'!$F$4/10000,0))*'Curves met UFR, zonder VA'!R227","v":0},{"$f":"('Curves met UFR, zonder VA'!S98+IF('Configuratie en berekeningen'!$D$4=\"Met VA\",'Configuratie en berekeningen'!$F$4/10000,0))*'Curves met UFR, zonder VA'!S227","v":0},{"$f":"('Curves met UFR, zonder VA'!T98+IF('Configuratie en berekeningen'!$D$4=\"Met VA\",'Configuratie en berekeningen'!$F$4/10000,0))*'Curves met UFR, zonder VA'!T227","v":0},{"$f":"('Curves met UFR, zonder VA'!U98+IF('Configuratie en berekeningen'!$D$4=\"Met VA\",'Configuratie en berekeningen'!$F$4/10000,0))*'Curves met UFR, zonder VA'!U227","v":0},{"$f":"('Curves met UFR, zonder VA'!V98+IF('Configuratie en berekeningen'!$D$4=\"Met VA\",'Configuratie en berekeningen'!$F$4/10000,0))*'Curves met UFR, zonder VA'!V227","v":0}]
[74,{"$f":"('Curves met UFR, zonder VA'!B99+IF('Configuratie en berekeningen'!$D$4=\"Met VA\",'Configuratie en berekeningen'!$F$4/10000,0))*'Curves met UFR, zonder VA'!B228","v":0},{"$f":"('Curves met UFR, zonder VA'!C99+IF('Configuratie en berekeningen'!$D$4=\"Met VA\",'Configuratie en berekeningen'!$F$4/10000,0))*'Curves met UFR, zonder VA'!C228","v":0},{"$f":"('Curves met UFR, zonder VA'!D99+IF('Configuratie en berekeningen'!$D$4=\"Met VA\",'Configuratie en berekeningen'!$F$4/10000,0))*'Curves met UFR, zonder VA'!D228","v":0},{"$f":"('Curves met UFR, zonder VA'!E99+IF('Configuratie en berekeningen'!$D$4=\"Met VA\",'Configuratie en berekeningen'!$F$4/10000,0))*'Curves met UFR, zonder VA'!E228","v":0},{"$f":"('Curves met UFR, zonder VA'!F99+IF('Configuratie en berekeningen'!$D$4=\"Met VA\",'Configuratie en berekeningen'!$F$4/10000,0))*'Curves met UFR, zonder VA'!F228","v":0},{"$f":"('Curves met UFR, zonder VA'!G99+IF('Configuratie en berekeningen'!$D$4=\"Met VA\",'Configuratie en berekeningen'!$F$4/10000,0))*'Curves met UFR, zonder VA'!G228","v":0},{"$f":"('Curves met UFR, zonder VA'!H99+IF('Configuratie en berekeningen'!$D$4=\"Met VA\",'Configuratie en berekeningen'!$F$4/10000,0))*'Curves met UFR, zonder VA'!H228","v":0},{"$f":"('Curves met UFR, zonder VA'!I99+IF('Configuratie en berekeningen'!$D$4=\"Met VA\",'Configuratie en berekeningen'!$F$4/10000,0))*'Curves met UFR, zonder VA'!I228","v":0},{"$f":"('Curves met UFR, zonder VA'!J99+IF('Configuratie en berekeningen'!$D$4=\"Met VA\",'Configuratie en berekeningen'!$F$4/10000,0))*'Curves met UFR, zonder VA'!J228","v":0},{"$f":"('Curves met UFR, zonder VA'!K99+IF('Configuratie en berekeningen'!$D$4=\"Met VA\",'Configuratie en berekeningen'!$F$4/10000,0))*'Curves met UFR, zonder VA'!K228","v":0},{"$f":"('Curves met UFR, zonder VA'!L99+IF('Configuratie en berekeningen'!$D$4=\"Met VA\",'Configuratie en berekeningen'!$F$4/10000,0))*'Curves met UFR, zonder VA'!L228","v":0},{"$f":"('Curves met UFR, zonder VA'!M99+IF('Configuratie en berekeningen'!$D$4=\"Met VA\",'Configuratie en berekeningen'!$F$4/10000,0))*'Curves met UFR, zonder VA'!M228","v":0},{"$f":"('Curves met UFR, zonder VA'!N99+IF('Configuratie en berekeningen'!$D$4=\"Met VA\",'Configuratie en berekeningen'!$F$4/10000,0))*'Curves met UFR, zonder VA'!N228","v":0},{"$f":"('Curves met UFR, zonder VA'!O99+IF('Configuratie en berekeningen'!$D$4=\"Met VA\",'Configuratie en berekeningen'!$F$4/10000,0))*'Curves met UFR, zonder VA'!O228","v":0},{"$f":"('Curves met UFR, zonder VA'!P99+IF('Configuratie en berekeningen'!$D$4=\"Met VA\",'Configuratie en berekeningen'!$F$4/10000,0))*'Curves met UFR, zonder VA'!P228","v":0},{"$f":"('Curves met UFR, zonder VA'!Q99+IF('Configuratie en berekeningen'!$D$4=\"Met VA\",'Configuratie en berekeningen'!$F$4/10000,0))*'Curves met UFR, zonder VA'!Q228","v":0},{"$f":"('Curves met UFR, zonder VA'!R99+IF('Configuratie en berekeningen'!$D$4=\"Met VA\",'Configuratie en berekeningen'!$F$4/10000,0))*'Curves met UFR, zonder VA'!R228","v":0},{"$f":"('Curves met UFR, zonder VA'!S99+IF('Configuratie en berekeningen'!$D$4=\"Met VA\",'Configuratie en berekeningen'!$F$4/10000,0))*'Curves met UFR, zonder VA'!S228","v":0},{"$f":"('Curves met UFR, zonder VA'!T99+IF('Configuratie en berekeningen'!$D$4=\"Met VA\",'Configuratie en berekeningen'!$F$4/10000,0))*'Curves met UFR, zonder VA'!T228","v":0},{"$f":"('Curves met UFR, zonder VA'!U99+IF('Configuratie en berekeningen'!$D$4=\"Met VA\",'Configuratie en berekeningen'!$F$4/10000,0))*'Curves met UFR, zonder VA'!U228","v":0},{"$f":"('Curves met UFR, zonder VA'!V99+IF('Configuratie en berekeningen'!$D$4=\"Met VA\",'Configuratie en berekeningen'!$F$4/10000,0))*'Curves met UFR, zonder VA'!V228","v":0}]
[75,{"$f":"('Curves met UFR, zonder VA'!B100+IF('Configuratie en berekeningen'!$D$4=\"Met VA\",'Configuratie en berekeningen'!$F$4/10000,0))*'Curves met UFR, zonder VA'!B229","v":0},{"$f":"('Curves met UFR, zonder VA'!C100+IF('Configuratie en berekeningen'!$D$4=\"Met VA\",'Configuratie en berekeningen'!$F$4/10000,0))*'Curves met UFR, zonder VA'!C229","v":0},{"$f":"('Curves met UFR, zonder VA'!D100+IF('Configuratie en berekeningen'!$D$4=\"Met VA\",'Configuratie en berekeningen'!$F$4/10000,0))*'Curves met UFR, zonder VA'!D229","v":0},{"$f":"('Curves met UFR, zonder VA'!E100+IF('Configuratie en berekeningen'!$D$4=\"Met VA\",'Configuratie en berekeningen'!$F$4/10000,0))*'Curves met UFR, zonder VA'!E229","v":0},{"$f":"('Curves met UFR, zonder VA'!F100+IF('Configuratie en berekeningen'!$D$4=\"Met VA\",'Configuratie en berekeningen'!$F$4/10000,0))*'Curves met UFR, zonder VA'!F229","v":0},{"$f":"('Curves met UFR, zonder VA'!G100+IF('Configuratie en berekeningen'!$D$4=\"Met VA\",'Configuratie en berekeningen'!$F$4/10000,0))*'Curves met UFR, zonder VA'!G229","v":0},{"$f":"('Curves met UFR, zonder VA'!H100+IF('Configuratie en berekeningen'!$D$4=\"Met VA\",'Configuratie en berekeningen'!$F$4/10000,0))*'Curves met UFR, zonder VA'!H229","v":0},{"$f":"('Curves met UFR, zonder VA'!I100+IF('Configuratie en berekeningen'!$D$4=\"Met VA\",'Configuratie en berekeningen'!$F$4/10000,0))*'Curves met UFR, zonder VA'!I229","v":0},{"$f":"('Curves met UFR, zonder VA'!J100+IF('Configuratie en berekeningen'!$D$4=\"Met VA\",'Configuratie en berekeningen'!$F$4/10000,0))*'Curves met UFR, zonder VA'!J229","v":0},{"$f":"('Curves met UFR, zonder VA'!K100+IF('Configuratie en berekeningen'!$D$4=\"Met VA\",'Configuratie en berekeningen'!$F$4/10000,0))*'Curves met UFR, zonder VA'!K229","v":0},{"$f":"('Curves met UFR, zonder VA'!L100+IF('Configuratie en berekeningen'!$D$4=\"Met VA\",'Configuratie en berekeningen'!$F$4/10000,0))*'Curves met UFR, zonder VA'!L229","v":0},{"$f":"('Curves met UFR, zonder VA'!M100+IF('Configuratie en berekeningen'!$D$4=\"Met VA\",'Configuratie en berekeningen'!$F$4/10000,0))*'Curves met UFR, zonder VA'!M229","v":0},{"$f":"('Curves met UFR, zonder VA'!N100+IF('Configuratie en berekeningen'!$D$4=\"Met VA\",'Configuratie en berekeningen'!$F$4/10000,0))*'Curves met UFR, zonder VA'!N229","v":0},{"$f":"('Curves met UFR, zonder VA'!O100+IF('Configuratie en berekeningen'!$D$4=\"Met VA\",'Configuratie en berekeningen'!$F$4/10000,0))*'Curves met UFR, zonder VA'!O229","v":0},{"$f":"('Curves met UFR, zonder VA'!P100+IF('Configuratie en berekeningen'!$D$4=\"Met VA\",'Configuratie en berekeningen'!$F$4/10000,0))*'Curves met UFR, zonder VA'!P229","v":0},{"$f":"('Curves met UFR, zonder VA'!Q100+IF('Configuratie en berekeningen'!$D$4=\"Met VA\",'Configuratie en berekeningen'!$F$4/10000,0))*'Curves met UFR, zonder VA'!Q229","v":0},{"$f":"('Curves met UFR, zonder VA'!R100+IF('Configuratie en berekeningen'!$D$4=\"Met VA\",'Configuratie en berekeningen'!$F$4/10000,0))*'Curves met UFR, zonder VA'!R229","v":0},{"$f":"('Curves met UFR, zonder VA'!S100+IF('Configuratie en berekeningen'!$D$4=\"Met VA\",'Configuratie en berekeningen'!$F$4/10000,0))*'Curves met UFR, zonder VA'!S229","v":0},{"$f":"('Curves met UFR, zonder VA'!T100+IF('Configuratie en berekeningen'!$D$4=\"Met VA\",'Configuratie en berekeningen'!$F$4/10000,0))*'Curves met UFR, zonder VA'!T229","v":0},{"$f":"('Curves met UFR, zonder VA'!U100+IF('Configuratie en berekeningen'!$D$4=\"Met VA\",'Configuratie en berekeningen'!$F$4/10000,0))*'Curves met UFR, zonder VA'!U229","v":0},{"$f":"('Curves met UFR, zonder VA'!V100+IF('Configuratie en berekeningen'!$D$4=\"Met VA\",'Configuratie en berekeningen'!$F$4/10000,0))*'Curves met UFR, zonder VA'!V229","v":0}]
[76,{"$f":"('Curves met UFR, zonder VA'!B101+IF('Configuratie en berekeningen'!$D$4=\"Met VA\",'Configuratie en berekeningen'!$F$4/10000,0))*'Curves met UFR, zonder VA'!B230","v":0},{"$f":"('Curves met UFR, zonder VA'!C101+IF('Configuratie en berekeningen'!$D$4=\"Met VA\",'Configuratie en berekeningen'!$F$4/10000,0))*'Curves met UFR, zonder VA'!C230","v":0},{"$f":"('Curves met UFR, zonder VA'!D101+IF('Configuratie en berekeningen'!$D$4=\"Met VA\",'Configuratie en berekeningen'!$F$4/10000,0))*'Curves met UFR, zonder VA'!D230","v":0},{"$f":"('Curves met UFR, zonder VA'!E101+IF('Configuratie en berekeningen'!$D$4=\"Met VA\",'Configuratie en berekeningen'!$F$4/10000,0))*'Curves met UFR, zonder VA'!E230","v":0},{"$f":"('Curves met UFR, zonder VA'!F101+IF('Configuratie en berekeningen'!$D$4=\"Met VA\",'Configuratie en berekeningen'!$F$4/10000,0))*'Curves met UFR, zonder VA'!F230","v":0},{"$f":"('Curves met UFR, zonder VA'!G101+IF('Configuratie en berekeningen'!$D$4=\"Met VA\",'Configuratie en berekeningen'!$F$4/10000,0))*'Curves met UFR, zonder VA'!G230","v":0},{"$f":"('Curves met UFR, zonder VA'!H101+IF('Configuratie en berekeningen'!$D$4=\"Met VA\",'Configuratie en berekeningen'!$F$4/10000,0))*'Curves met UFR, zonder VA'!H230","v":0},{"$f":"('Curves met UFR, zonder VA'!I101+IF('Configuratie en berekeningen'!$D$4=\"Met VA\",'Configuratie en berekeningen'!$F$4/10000,0))*'Curves met UFR, zonder VA'!I230","v":0},{"$f":"('Curves met UFR, zonder VA'!J101+IF('Configuratie en berekeningen'!$D$4=\"Met VA\",'Configuratie en berekeningen'!$F$4/10000,0))*'Curves met UFR, zonder VA'!J230","v":0},{"$f":"('Curves met UFR, zonder VA'!K101+IF('Configuratie en berekeningen'!$D$4=\"Met VA\",'Configuratie en berekeningen'!$F$4/10000,0))*'Curves met UFR, zonder VA'!K230","v":0},{"$f":"('Curves met UFR, zonder VA'!L101+IF('Configuratie en berekeningen'!$D$4=\"Met VA\",'Configuratie en berekeningen'!$F$4/10000,0))*'Curves met UFR, zonder VA'!L230","v":0},{"$f":"('Curves met UFR, zonder VA'!M101+IF('Configuratie en berekeningen'!$D$4=\"Met VA\",'Configuratie en berekeningen'!$F$4/10000,0))*'Curves met UFR, zonder VA'!M230","v":0},{"$f":"('Curves met UFR, zonder VA'!N101+IF('Configuratie en berekeningen'!$D$4=\"Met VA\",'Configuratie en berekeningen'!$F$4/10000,0))*'Curves met UFR, zonder VA'!N230","v":0},{"$f":"('Curves met UFR, zonder VA'!O101+IF('Configuratie en berekeningen'!$D$4=\"Met VA\",'Configuratie en berekeningen'!$F$4/10000,0))*'Curves met UFR, zonder VA'!O230","v":0},{"$f":"('Curves met UFR, zonder VA'!P101+IF('Configuratie en berekeningen'!$D$4=\"Met VA\",'Configuratie en berekeningen'!$F$4/10000,0))*'Curves met UFR, zonder VA'!P230","v":0},{"$f":"('Curves met UFR, zonder VA'!Q101+IF('Configuratie en berekeningen'!$D$4=\"Met VA\",'Configuratie en berekeningen'!$F$4/10000,0))*'Curves met UFR, zonder VA'!Q230","v":0},{"$f":"('Curves met UFR, zonder VA'!R101+IF('Configuratie en berekeningen'!$D$4=\"Met VA\",'Configuratie en berekeningen'!$F$4/10000,0))*'Curves met UFR, zonder VA'!R230","v":0},{"$f":"('Curves met UFR, zonder VA'!S101+IF('Configuratie en berekeningen'!$D$4=\"Met VA\",'Configuratie en berekeningen'!$F$4/10000,0))*'Curves met UFR, zonder VA'!S230","v":0},{"$f":"('Curves met UFR, zonder VA'!T101+IF('Configuratie en berekeningen'!$D$4=\"Met VA\",'Configuratie en berekeningen'!$F$4/10000,0))*'Curves met UFR, zonder VA'!T230","v":0},{"$f":"('Curves met UFR, zonder VA'!U101+IF('Configuratie en berekeningen'!$D$4=\"Met VA\",'Configuratie en berekeningen'!$F$4/10000,0))*'Curves met UFR, zonder VA'!U230","v":0},{"$f":"('Curves met UFR, zonder VA'!V101+IF('Configuratie en berekeningen'!$D$4=\"Met VA\",'Configuratie en berekeningen'!$F$4/10000,0))*'Curves met UFR, zonder VA'!V230","v":0}]
[77,{"$f":"('Curves met UFR, zonder VA'!B102+IF('Configuratie en berekeningen'!$D$4=\"Met VA\",'Configuratie en berekeningen'!$F$4/10000,0))*'Curves met UFR, zonder VA'!B231","v":0},{"$f":"('Curves met UFR, zonder VA'!C102+IF('Configuratie en berekeningen'!$D$4=\"Met VA\",'Configuratie en berekeningen'!$F$4/10000,0))*'Curves met UFR, zonder VA'!C231","v":0},{"$f":"('Curves met UFR, zonder VA'!D102+IF('Configuratie en berekeningen'!$D$4=\"Met VA\",'Configuratie en berekeningen'!$F$4/10000,0))*'Curves met UFR, zonder VA'!D231","v":0},{"$f":"('Curves met UFR, zonder VA'!E102+IF('Configuratie en berekeningen'!$D$4=\"Met VA\",'Configuratie en berekeningen'!$F$4/10000,0))*'Curves met UFR, zonder VA'!E231","v":0},{"$f":"('Curves met UFR, zonder VA'!F102+IF('Configuratie en berekeningen'!$D$4=\"Met VA\",'Configuratie en berekeningen'!$F$4/10000,0))*'Curves met UFR, zonder VA'!F231","v":0},{"$f":"('Curves met UFR, zonder VA'!G102+IF('Configuratie en berekeningen'!$D$4=\"Met VA\",'Configuratie en berekeningen'!$F$4/10000,0))*'Curves met UFR, zonder VA'!G231","v":0},{"$f":"('Curves met UFR, zonder VA'!H102+IF('Configuratie en berekeningen'!$D$4=\"Met VA\",'Configuratie en berekeningen'!$F$4/10000,0))*'Curves met UFR, zonder VA'!H231","v":0},{"$f":"('Curves met UFR, zonder VA'!I102+IF('Configuratie en berekeningen'!$D$4=\"Met VA\",'Configuratie en berekeningen'!$F$4/10000,0))*'Curves met UFR, zonder VA'!I231","v":0},{"$f":"('Curves met UFR, zonder VA'!J102+IF('Configuratie en berekeningen'!$D$4=\"Met VA\",'Configuratie en berekeningen'!$F$4/10000,0))*'Curves met UFR, zonder VA'!J231","v":0},{"$f":"('Curves met UFR, zonder VA'!K102+IF('Configuratie en berekeningen'!$D$4=\"Met VA\",'Configuratie en berekeningen'!$F$4/10000,0))*'Curves met UFR, zonder VA'!K231","v":0},{"$f":"('Curves met UFR, zonder VA'!L102+IF('Configuratie en berekeningen'!$D$4=\"Met VA\",'Configuratie en berekeningen'!$F$4/10000,0))*'Curves met UFR, zonder VA'!L231","v":0},{"$f":"('Curves met UFR, zonder VA'!M102+IF('Configuratie en berekeningen'!$D$4=\"Met VA\",'Configuratie en berekeningen'!$F$4/10000,0))*'Curves met UFR, zonder VA'!M231","v":0},{"$f":"('Curves met UFR, zonder VA'!N102+IF('Configuratie en berekeningen'!$D$4=\"Met VA\",'Configuratie en berekeningen'!$F$4/10000,0))*'Curves met UFR, zonder VA'!N231","v":0},{"$f":"('Curves met UFR, zonder VA'!O102+IF('Configuratie en berekeningen'!$D$4=\"Met VA\",'Configuratie en berekeningen'!$F$4/10000,0))*'Curves met UFR, zonder VA'!O231","v":0},{"$f":"('Curves met UFR, zonder VA'!P102+IF('Configuratie en berekeningen'!$D$4=\"Met VA\",'Configuratie en berekeningen'!$F$4/10000,0))*'Curves met UFR, zonder VA'!P231","v":0},{"$f":"('Curves met UFR, zonder VA'!Q102+IF('Configuratie en berekeningen'!$D$4=\"Met VA\",'Configuratie en berekeningen'!$F$4/10000,0))*'Curves met UFR, zonder VA'!Q231","v":0},{"$f":"('Curves met UFR, zonder VA'!R102+IF('Configuratie en berekeningen'!$D$4=\"Met VA\",'Configuratie en berekeningen'!$F$4/10000,0))*'Curves met UFR, zonder VA'!R231","v":0},{"$f":"('Curves met UFR, zonder VA'!S102+IF('Configuratie en berekeningen'!$D$4=\"Met VA\",'Configuratie en berekeningen'!$F$4/10000,0))*'Curves met UFR, zonder VA'!S231","v":0},{"$f":"('Curves met UFR, zonder VA'!T102+IF('Configuratie en berekeningen'!$D$4=\"Met VA\",'Configuratie en berekeningen'!$F$4/10000,0))*'Curves met UFR, zonder VA'!T231","v":0},{"$f":"('Curves met UFR, zonder VA'!U102+IF('Configuratie en berekeningen'!$D$4=\"Met VA\",'Configuratie en berekeningen'!$F$4/10000,0))*'Curves met UFR, zonder VA'!U231","v":0},{"$f":"('Curves met UFR, zonder VA'!V102+IF('Configuratie en berekeningen'!$D$4=\"Met VA\",'Configuratie en berekeningen'!$F$4/10000,0))*'Curves met UFR, zonder VA'!V231","v":0}]
[78,{"$f":"('Curves met UFR, zonder VA'!B103+IF('Configuratie en berekeningen'!$D$4=\"Met VA\",'Configuratie en berekeningen'!$F$4/10000,0))*'Curves met UFR, zonder VA'!B232","v":0},{"$f":"('Curves met UFR, zonder VA'!C103+IF('Configuratie en berekeningen'!$D$4=\"Met VA\",'Configuratie en berekeningen'!$F$4/10000,0))*'Curves met UFR, zonder VA'!C232","v":0},{"$f":"('Curves met UFR, zonder VA'!D103+IF('Configuratie en berekeningen'!$D$4=\"Met VA\",'Configuratie en berekeningen'!$F$4/10000,0))*'Curves met UFR, zonder VA'!D232","v":0},{"$f":"('Curves met UFR, zonder VA'!E103+IF('Configuratie en berekeningen'!$D$4=\"Met VA\",'Configuratie en berekeningen'!$F$4/10000,0))*'Curves met UFR, zonder VA'!E232","v":0},{"$f":"('Curves met UFR, zonder VA'!F103+IF('Configuratie en berekeningen'!$D$4=\"Met VA\",'Configuratie en berekeningen'!$F$4/10000,0))*'Curves met UFR, zonder VA'!F232","v":0},{"$f":"('Curves met UFR, zonder VA'!G103+IF('Configuratie en berekeningen'!$D$4=\"Met VA\",'Configuratie en berekeningen'!$F$4/10000,0))*'Curves met UFR, zonder VA'!G232","v":0},{"$f":"('Curves met UFR, zonder VA'!H103+IF('Configuratie en berekeningen'!$D$4=\"Met VA\",'Configuratie en berekeningen'!$F$4/10000,0))*'Curves met UFR, zonder VA'!H232","v":0},{"$f":"('Curves met UFR, zonder VA'!I103+IF('Configuratie en berekeningen'!$D$4=\"Met VA\",'Configuratie en berekeningen'!$F$4/10000,0))*'Curves met UFR, zonder VA'!I232","v":0},{"$f":"('Curves met UFR, zonder VA'!J103+IF('Configuratie en berekeningen'!$D$4=\"Met VA\",'Configuratie en berekeningen'!$F$4/10000,0))*'Curves met UFR, zonder VA'!J232","v":0},{"$f":"('Curves met UFR, zonder VA'!K103+IF('Configuratie en berekeningen'!$D$4=\"Met VA\",'Configuratie en berekeningen'!$F$4/10000,0))*'Curves met UFR, zonder VA'!K232","v":0},{"$f":"('Curves met UFR, zonder VA'!L103+IF('Configuratie en berekeningen'!$D$4=\"Met VA\",'Configuratie en berekeningen'!$F$4/10000,0))*'Curves met UFR, zonder VA'!L232","v":0},{"$f":"('Curves met UFR, zonder VA'!M103+IF('Configuratie en berekeningen'!$D$4=\"Met VA\",'Configuratie en berekeningen'!$F$4/10000,0))*'Curves met UFR, zonder VA'!M232","v":0},{"$f":"('Curves met UFR, zonder VA'!N103+IF('Configuratie en berekeningen'!$D$4=\"Met VA\",'Configuratie en berekeningen'!$F$4/10000,0))*'Curves met UFR, zonder VA'!N232","v":0},{"$f":"('Curves met UFR, zonder VA'!O103+IF('Configuratie en berekeningen'!$D$4=\"Met VA\",'Configuratie en berekeningen'!$F$4/10000,0))*'Curves met UFR, zonder VA'!O232","v":0},{"$f":"('Curves met UFR, zonder VA'!P103+IF('Configuratie en berekeningen'!$D$4=\"Met VA\",'Configuratie en berekeningen'!$F$4/10000,0))*'Curves met UFR, zonder VA'!P232","v":0},{"$f":"('Curves met UFR, zonder VA'!Q103+IF('Configuratie en berekeningen'!$D$4=\"Met VA\",'Configuratie en berekeningen'!$F$4/10000,0))*'Curves met UFR, zonder VA'!Q232","v":0},{"$f":"('Curves met UFR, zonder VA'!R103+IF('Configuratie en berekeningen'!$D$4=\"Met VA\",'Configuratie en berekeningen'!$F$4/10000,0))*'Curves met UFR, zonder VA'!R232","v":0},{"$f":"('Curves met UFR, zonder VA'!S103+IF('Configuratie en berekeningen'!$D$4=\"Met VA\",'Configuratie en berekeningen'!$F$4/10000,0))*'Curves met UFR, zonder VA'!S232","v":0},{"$f":"('Curves met UFR, zonder VA'!T103+IF('Configuratie en berekeningen'!$D$4=\"Met VA\",'Configuratie en berekeningen'!$F$4/10000,0))*'Curves met UFR, zonder VA'!T232","v":0},{"$f":"('Curves met UFR, zonder VA'!U103+IF('Configuratie en berekeningen'!$D$4=\"Met VA\",'Configuratie en berekeningen'!$F$4/10000,0))*'Curves met UFR, zonder VA'!U232","v":0},{"$f":"('Curves met UFR, zonder VA'!V103+IF('Configuratie en berekeningen'!$D$4=\"Met VA\",'Configuratie en berekeningen'!$F$4/10000,0))*'Curves met UFR, zonder VA'!V232","v":0}]
[79,{"$f":"('Curves met UFR, zonder VA'!B104+IF('Configuratie en berekeningen'!$D$4=\"Met VA\",'Configuratie en berekeningen'!$F$4/10000,0))*'Curves met UFR, zonder VA'!B233","v":0},{"$f":"('Curves met UFR, zonder VA'!C104+IF('Configuratie en berekeningen'!$D$4=\"Met VA\",'Configuratie en berekeningen'!$F$4/10000,0))*'Curves met UFR, zonder VA'!C233","v":0},{"$f":"('Curves met UFR, zonder VA'!D104+IF('Configuratie en berekeningen'!$D$4=\"Met VA\",'Configuratie en berekeningen'!$F$4/10000,0))*'Curves met UFR, zonder VA'!D233","v":0},{"$f":"('Curves met UFR, zonder VA'!E104+IF('Configuratie en berekeningen'!$D$4=\"Met VA\",'Configuratie en berekeningen'!$F$4/10000,0))*'Curves met UFR, zonder VA'!E233","v":0},{"$f":"('Curves met UFR, zonder VA'!F104+IF('Configuratie en berekeningen'!$D$4=\"Met VA\",'Configuratie en berekeningen'!$F$4/10000,0))*'Curves met UFR, zonder VA'!F233","v":0},{"$f":"('Curves met UFR, zonder VA'!G104+IF('Configuratie en berekeningen'!$D$4=\"Met VA\",'Configuratie en berekeningen'!$F$4/10000,0))*'Curves met UFR, zonder VA'!G233","v":0},{"$f":"('Curves met UFR, zonder VA'!H104+IF('Configuratie en berekeningen'!$D$4=\"Met VA\",'Configuratie en berekeningen'!$F$4/10000,0))*'Curves met UFR, zonder VA'!H233","v":0},{"$f":"('Curves met UFR, zonder VA'!I104+IF('Configuratie en berekeningen'!$D$4=\"Met VA\",'Configuratie en berekeningen'!$F$4/10000,0))*'Curves met UFR, zonder VA'!I233","v":0},{"$f":"('Curves met UFR, zonder VA'!J104+IF('Configuratie en berekeningen'!$D$4=\"Met VA\",'Configuratie en berekeningen'!$F$4/10000,0))*'Curves met UFR, zonder VA'!J233","v":0},{"$f":"('Curves met UFR, zonder VA'!K104+IF('Configuratie en berekeningen'!$D$4=\"Met VA\",'Configuratie en berekeningen'!$F$4/10000,0))*'Curves met UFR, zonder VA'!K233","v":0},{"$f":"('Curves met UFR, zonder VA'!L104+IF('Configuratie en berekeningen'!$D$4=\"Met VA\",'Configuratie en berekeningen'!$F$4/10000,0))*'Curves met UFR, zonder VA'!L233","v":0},{"$f":"('Curves met UFR, zonder VA'!M104+IF('Configuratie en berekeningen'!$D$4=\"Met VA\",'Configuratie en berekeningen'!$F$4/10000,0))*'Curves met UFR, zonder VA'!M233","v":0},{"$f":"('Curves met UFR, zonder VA'!N104+IF('Configuratie en berekeningen'!$D$4=\"Met VA\",'Configuratie en berekeningen'!$F$4/10000,0))*'Curves met UFR, zonder VA'!N233","v":0},{"$f":"('Curves met UFR, zonder VA'!O104+IF('Configuratie en berekeningen'!$D$4=\"Met VA\",'Configuratie en berekeningen'!$F$4/10000,0))*'Curves met UFR, zonder VA'!O233","v":0},{"$f":"('Curves met UFR, zonder VA'!P104+IF('Configuratie en berekeningen'!$D$4=\"Met VA\",'Configuratie en berekeningen'!$F$4/10000,0))*'Curves met UFR, zonder VA'!P233","v":0},{"$f":"('Curves met UFR, zonder VA'!Q104+IF('Configuratie en berekeningen'!$D$4=\"Met VA\",'Configuratie en berekeningen'!$F$4/10000,0))*'Curves met UFR, zonder VA'!Q233","v":0},{"$f":"('Curves met UFR, zonder VA'!R104+IF('Configuratie en berekeningen'!$D$4=\"Met VA\",'Configuratie en berekeningen'!$F$4/10000,0))*'Curves met UFR, zonder VA'!R233","v":0},{"$f":"('Curves met UFR, zonder VA'!S104+IF('Configuratie en berekeningen'!$D$4=\"Met VA\",'Configuratie en berekeningen'!$F$4/10000,0))*'Curves met UFR, zonder VA'!S233","v":0},{"$f":"('Curves met UFR, zonder VA'!T104+IF('Configuratie en berekeningen'!$D$4=\"Met VA\",'Configuratie en berekeningen'!$F$4/10000,0))*'Curves met UFR, zonder VA'!T233","v":0},{"$f":"('Curves met UFR, zonder VA'!U104+IF('Configuratie en berekeningen'!$D$4=\"Met VA\",'Configuratie en berekeningen'!$F$4/10000,0))*'Curves met UFR, zonder VA'!U233","v":0},{"$f":"('Curves met UFR, zonder VA'!V104+IF('Configuratie en berekeningen'!$D$4=\"Met VA\",'Configuratie en berekeningen'!$F$4/10000,0))*'Curves met UFR, zonder VA'!V233","v":0}]
[80,{"$f":"('Curves met UFR, zonder VA'!B105+IF('Configuratie en berekeningen'!$D$4=\"Met VA\",'Configuratie en berekeningen'!$F$4/10000,0))*'Curves met UFR, zonder VA'!B234","v":0},{"$f":"('Curves met UFR, zonder VA'!C105+IF('Configuratie en berekeningen'!$D$4=\"Met VA\",'Configuratie en berekeningen'!$F$4/10000,0))*'Curves met UFR, zonder VA'!C234","v":0},{"$f":"('Curves met UFR, zonder VA'!D105+IF('Configuratie en berekeningen'!$D$4=\"Met VA\",'Configuratie en berekeningen'!$F$4/10000,0))*'Curves met UFR, zonder VA'!D234","v":0},{"$f":"('Curves met UFR, zonder VA'!E105+IF('Configuratie en berekeningen'!$D$4=\"Met VA\",'Configuratie en berekeningen'!$F$4/10000,0))*'Curves met UFR, zonder VA'!E234","v":0},{"$f":"('Curves met UFR, zonder VA'!F105+IF('Configuratie en berekeningen'!$D$4=\"Met VA\",'Configuratie en berekeningen'!$F$4/10000,0))*'Curves met UFR, zonder VA'!F234","v":0},{"$f":"('Curves met UFR, zonder VA'!G105+IF('Configuratie en berekeningen'!$D$4=\"Met VA\",'Configuratie en berekeningen'!$F$4/10000,0))*'Curves met UFR, zonder VA'!G234","v":0},{"$f":"('Curves met UFR, zonder VA'!H105+IF('Configuratie en berekeningen'!$D$4=\"Met VA\",'Configuratie en berekeningen'!$F$4/10000,0))*'Curves met UFR, zonder VA'!H234","v":0},{"$f":"('Curves met UFR, zonder VA'!I105+IF('Configuratie en berekeningen'!$D$4=\"Met VA\",'Configuratie en berekeningen'!$F$4/10000,0))*'Curves met UFR, zonder VA'!I234","v":0},{"$f":"('Curves met UFR, zonder VA'!J105+IF('Configuratie en berekeningen'!$D$4=\"Met VA\",'Configuratie en berekeningen'!$F$4/10000,0))*'Curves met UFR, zonder VA'!J234","v":0},{"$f":"('Curves met UFR, zonder VA'!K105+IF('Configuratie en berekeningen'!$D$4=\"Met VA\",'Configuratie en berekeningen'!$F$4/10000,0))*'Curves met UFR, zonder VA'!K234","v":0},{"$f":"('Curves met UFR, zonder VA'!L105+IF('Configuratie en berekeningen'!$D$4=\"Met VA\",'Configuratie en berekeningen'!$F$4/10000,0))*'Curves met UFR, zonder VA'!L234","v":0},{"$f":"('Curves met UFR, zonder VA'!M105+IF('Configuratie en berekeningen'!$D$4=\"Met VA\",'Configuratie en berekeningen'!$F$4/10000,0))*'Curves met UFR, zonder VA'!M234","v":0},{"$f":"('Curves met UFR, zonder VA'!N105+IF('Configuratie en berekeningen'!$D$4=\"Met VA\",'Configuratie en berekeningen'!$F$4/10000,0))*'Curves met UFR, zonder VA'!N234","v":0},{"$f":"('Curves met UFR, zonder VA'!O105+IF('Configuratie en berekeningen'!$D$4=\"Met VA\",'Configuratie en berekeningen'!$F$4/10000,0))*'Curves met UFR, zonder VA'!O234","v":0},{"$f":"('Curves met UFR, zonder VA'!P105+IF('Configuratie en berekeningen'!$D$4=\"Met VA\",'Configuratie en berekeningen'!$F$4/10000,0))*'Curves met UFR, zonder VA'!P234","v":0},{"$f":"('Curves met UFR, zonder VA'!Q105+IF('Configuratie en berekeningen'!$D$4=\"Met VA\",'Configuratie en berekeningen'!$F$4/10000,0))*'Curves met UFR, zonder VA'!Q234","v":0},{"$f":"('Curves met UFR, zonder VA'!R105+IF('Configuratie en berekeningen'!$D$4=\"Met VA\",'Configuratie en berekeningen'!$F$4/10000,0))*'Curves met UFR, zonder VA'!R234","v":0},{"$f":"('Curves met UFR, zonder VA'!S105+IF('Configuratie en berekeningen'!$D$4=\"Met VA\",'Configuratie en berekeningen'!$F$4/10000,0))*'Curves met UFR, zonder VA'!S234","v":0},{"$f":"('Curves met UFR, zonder VA'!T105+IF('Configuratie en berekeningen'!$D$4=\"Met VA\",'Configuratie en berekeningen'!$F$4/10000,0))*'Curves met UFR, zonder VA'!T234","v":0},{"$f":"('Curves met UFR, zonder VA'!U105+IF('Configuratie en berekeningen'!$D$4=\"Met VA\",'Configuratie en berekeningen'!$F$4/10000,0))*'Curves met UFR, zonder VA'!U234","v":0},{"$f":"('Curves met UFR, zonder VA'!V105+IF('Configuratie en berekeningen'!$D$4=\"Met VA\",'Configuratie en berekeningen'!$F$4/10000,0))*'Curves met UFR, zonder VA'!V234","v":0}]
[81,{"$f":"('Curves met UFR, zonder VA'!B106+IF('Configuratie en berekeningen'!$D$4=\"Met VA\",'Configuratie en berekeningen'!$F$4/10000,0))*'Curves met UFR, zonder VA'!B235","v":0},{"$f":"('Curves met UFR, zonder VA'!C106+IF('Configuratie en berekeningen'!$D$4=\"Met VA\",'Configuratie en berekeningen'!$F$4/10000,0))*'Curves met UFR, zonder VA'!C235","v":0},{"$f":"('Curves met UFR, zonder VA'!D106+IF('Configuratie en berekeningen'!$D$4=\"Met VA\",'Configuratie en berekeningen'!$F$4/10000,0))*'Curves met UFR, zonder VA'!D235","v":0},{"$f":"('Curves met UFR, zonder VA'!E106+IF('Configuratie en berekeningen'!$D$4=\"Met VA\",'Configuratie en berekeningen'!$F$4/10000,0))*'Curves met UFR, zonder VA'!E235","v":0},{"$f":"('Curves met UFR, zonder VA'!F106+IF('Configuratie en berekeningen'!$D$4=\"Met VA\",'Configuratie en berekeningen'!$F$4/10000,0))*'Curves met UFR, zonder VA'!F235","v":0},{"$f":"('Curves met UFR, zonder VA'!G106+IF('Configuratie en berekeningen'!$D$4=\"Met VA\",'Configuratie en berekeningen'!$F$4/10000,0))*'Curves met UFR, zonder VA'!G235","v":0},{"$f":"('Curves met UFR, zonder VA'!H106+IF('Configuratie en berekeningen'!$D$4=\"Met VA\",'Configuratie en berekeningen'!$F$4/10000,0))*'Curves met UFR, zonder VA'!H235","v":0},{"$f":"('Curves met UFR, zonder VA'!I106+IF('Configuratie en berekeningen'!$D$4=\"Met VA\",'Configuratie en berekeningen'!$F$4/10000,0))*'Curves met UFR, zonder VA'!I235","v":0},{"$f":"('Curves met UFR, zonder VA'!J106+IF('Configuratie en berekeningen'!$D$4=\"Met VA\",'Configuratie en berekeningen'!$F$4/10000,0))*'Curves met UFR, zonder VA'!J235","v":0},{"$f":"('Curves met UFR, zonder VA'!K106+IF('Configuratie en berekeningen'!$D$4=\"Met VA\",'Configuratie en berekeningen'!$F$4/10000,0))*'Curves met UFR, zonder VA'!K235","v":0},{"$f":"('Curves met UFR, zonder VA'!L106+IF('Configuratie en berekeningen'!$D$4=\"Met VA\",'Configuratie en berekeningen'!$F$4/10000,0))*'Curves met UFR, zonder VA'!L235","v":0},{"$f":"('Curves met UFR, zonder VA'!M106+IF('Configuratie en berekeningen'!$D$4=\"Met VA\",'Configuratie en berekeningen'!$F$4/10000,0))*'Curves met UFR, zonder VA'!M235","v":0},{"$f":"('Curves met UFR, zonder VA'!N106+IF('Configuratie en berekeningen'!$D$4=\"Met VA\",'Configuratie en berekeningen'!$F$4/10000,0))*'Curves met UFR, zonder VA'!N235","v":0},{"$f":"('Curves met UFR, zonder VA'!O106+IF('Configuratie en berekeningen'!$D$4=\"Met VA\",'Configuratie en berekeningen'!$F$4/10000,0))*'Curves met UFR, zonder VA'!O235","v":0},{"$f":"('Curves met UFR, zonder VA'!P106+IF('Configuratie en berekeningen'!$D$4=\"Met VA\",'Configuratie en berekeningen'!$F$4/10000,0))*'Curves met UFR, zonder VA'!P235","v":0},{"$f":"('Curves met UFR, zonder VA'!Q106+IF('Configuratie en berekeningen'!$D$4=\"Met VA\",'Configuratie en berekeningen'!$F$4/10000,0))*'Curves met UFR, zonder VA'!Q235","v":0},{"$f":"('Curves met UFR, zonder VA'!R106+IF('Configuratie en berekeningen'!$D$4=\"Met VA\",'Configuratie en berekeningen'!$F$4/10000,0))*'Curves met UFR, zonder VA'!R235","v":0},{"$f":"('Curves met UFR, zonder VA'!S106+IF('Configuratie en berekeningen'!$D$4=\"Met VA\",'Configuratie en berekeningen'!$F$4/10000,0))*'Curves met UFR, zonder VA'!S235","v":0},{"$f":"('Curves met UFR, zonder VA'!T106+IF('Configuratie en berekeningen'!$D$4=\"Met VA\",'Configuratie en berekeningen'!$F$4/10000,0))*'Curves met UFR, zonder VA'!T235","v":0},{"$f":"('Curves met UFR, zonder VA'!U106+IF('Configuratie en berekeningen'!$D$4=\"Met VA\",'Configuratie en berekeningen'!$F$4/10000,0))*'Curves met UFR, zonder VA'!U235","v":0},{"$f":"('Curves met UFR, zonder VA'!V106+IF('Configuratie en berekeningen'!$D$4=\"Met VA\",'Configuratie en berekeningen'!$F$4/10000,0))*'Curves met UFR, zonder VA'!V235","v":0}]
[82,{"$f":"('Curves met UFR, zonder VA'!B107+IF('Configuratie en berekeningen'!$D$4=\"Met VA\",'Configuratie en berekeningen'!$F$4/10000,0))*'Curves met UFR, zonder VA'!B236","v":0},{"$f":"('Curves met UFR, zonder VA'!C107+IF('Configuratie en berekeningen'!$D$4=\"Met VA\",'Configuratie en berekeningen'!$F$4/10000,0))*'Curves met UFR, zonder VA'!C236","v":0},{"$f":"('Curves met UFR, zonder VA'!D107+IF('Configuratie en berekeningen'!$D$4=\"Met VA\",'Configuratie en berekeningen'!$F$4/10000,0))*'Curves met UFR, zonder VA'!D236","v":0},{"$f":"('Curves met UFR, zonder VA'!E107+IF('Configuratie en berekeningen'!$D$4=\"Met VA\",'Configuratie en berekeningen'!$F$4/10000,0))*'Curves met UFR, zonder VA'!E236","v":0},{"$f":"('Curves met UFR, zonder VA'!F107+IF('Configuratie en berekeningen'!$D$4=\"Met VA\",'Configuratie en berekeningen'!$F$4/10000,0))*'Curves met UFR, zonder VA'!F236","v":0},{"$f":"('Curves met UFR, zonder VA'!G107+IF('Configuratie en berekeningen'!$D$4=\"Met VA\",'Configuratie en berekeningen'!$F$4/10000,0))*'Curves met UFR, zonder VA'!G236","v":0},{"$f":"('Curves met UFR, zonder VA'!H107+IF('Configuratie en berekeningen'!$D$4=\"Met VA\",'Configuratie en berekeningen'!$F$4/10000,0))*'Curves met UFR, zonder VA'!H236","v":0},{"$f":"('Curves met UFR, zonder VA'!I107+IF('Configuratie en berekeningen'!$D$4=\"Met VA\",'Configuratie en berekeningen'!$F$4/10000,0))*'Curves met UFR, zonder VA'!I236","v":0},{"$f":"('Curves met UFR, zonder VA'!J107+IF('Configuratie en berekeningen'!$D$4=\"Met VA\",'Configuratie en berekeningen'!$F$4/10000,0))*'Curves met UFR, zonder VA'!J236","v":0},{"$f":"('Curves met UFR, zonder VA'!K107+IF('Configuratie en berekeningen'!$D$4=\"Met VA\",'Configuratie en berekeningen'!$F$4/10000,0))*'Curves met UFR, zonder VA'!K236","v":0},{"$f":"('Curves met UFR, zonder VA'!L107+IF('Configuratie en berekeningen'!$D$4=\"Met VA\",'Configuratie en berekeningen'!$F$4/10000,0))*'Curves met UFR, zonder VA'!L236","v":0},{"$f":"('Curves met UFR, zonder VA'!M107+IF('Configuratie en berekeningen'!$D$4=\"Met VA\",'Configuratie en berekeningen'!$F$4/10000,0))*'Curves met UFR, zonder VA'!M236","v":0},{"$f":"('Curves met UFR, zonder VA'!N107+IF('Configuratie en berekeningen'!$D$4=\"Met VA\",'Configuratie en berekeningen'!$F$4/10000,0))*'Curves met UFR, zonder VA'!N236","v":0},{"$f":"('Curves met UFR, zonder VA'!O107+IF('Configuratie en berekeningen'!$D$4=\"Met VA\",'Configuratie en berekeningen'!$F$4/10000,0))*'Curves met UFR, zonder VA'!O236","v":0},{"$f":"('Curves met UFR, zonder VA'!P107+IF('Configuratie en berekeningen'!$D$4=\"Met VA\",'Configuratie en berekeningen'!$F$4/10000,0))*'Curves met UFR, zonder VA'!P236","v":0},{"$f":"('Curves met UFR, zonder VA'!Q107+IF('Configuratie en berekeningen'!$D$4=\"Met VA\",'Configuratie en berekeningen'!$F$4/10000,0))*'Curves met UFR, zonder VA'!Q236","v":0},{"$f":"('Curves met UFR, zonder VA'!R107+IF('Configuratie en berekeningen'!$D$4=\"Met VA\",'Configuratie en berekeningen'!$F$4/10000,0))*'Curves met UFR, zonder VA'!R236","v":0},{"$f":"('Curves met UFR, zonder VA'!S107+IF('Configuratie en berekeningen'!$D$4=\"Met VA\",'Configuratie en berekeningen'!$F$4/10000,0))*'Curves met UFR, zonder VA'!S236","v":0},{"$f":"('Curves met UFR, zonder VA'!T107+IF('Configuratie en berekeningen'!$D$4=\"Met VA\",'Configuratie en berekeningen'!$F$4/10000,0))*'Curves met UFR, zonder VA'!T236","v":0},{"$f":"('Curves met UFR, zonder VA'!U107+IF('Configuratie en berekeningen'!$D$4=\"Met VA\",'Configuratie en berekeningen'!$F$4/10000,0))*'Curves met UFR, zonder VA'!U236","v":0},{"$f":"('Curves met UFR, zonder VA'!V107+IF('Configuratie en berekeningen'!$D$4=\"Met VA\",'Configuratie en berekeningen'!$F$4/10000,0))*'Curves met UFR, zonder VA'!V236","v":0}]
[83,{"$f":"('Curves met UFR, zonder VA'!B108+IF('Configuratie en berekeningen'!$D$4=\"Met VA\",'Configuratie en berekeningen'!$F$4/10000,0))*'Curves met UFR, zonder VA'!B237","v":0},{"$f":"('Curves met UFR, zonder VA'!C108+IF('Configuratie en berekeningen'!$D$4=\"Met VA\",'Configuratie en berekeningen'!$F$4/10000,0))*'Curves met UFR, zonder VA'!C237","v":0},{"$f":"('Curves met UFR, zonder VA'!D108+IF('Configuratie en berekeningen'!$D$4=\"Met VA\",'Configuratie en berekeningen'!$F$4/10000,0))*'Curves met UFR, zonder VA'!D237","v":0},{"$f":"('Curves met UFR, zonder VA'!E108+IF('Configuratie en berekeningen'!$D$4=\"Met VA\",'Configuratie en berekeningen'!$F$4/10000,0))*'Curves met UFR, zonder VA'!E237","v":0},{"$f":"('Curves met UFR, zonder VA'!F108+IF('Configuratie en berekeningen'!$D$4=\"Met VA\",'Configuratie en berekeningen'!$F$4/10000,0))*'Curves met UFR, zonder VA'!F237","v":0},{"$f":"('Curves met UFR, zonder VA'!G108+IF('Configuratie en berekeningen'!$D$4=\"Met VA\",'Configuratie en berekeningen'!$F$4/10000,0))*'Curves met UFR, zonder VA'!G237","v":0},{"$f":"('Curves met UFR, zonder VA'!H108+IF('Configuratie en berekeningen'!$D$4=\"Met VA\",'Configuratie en berekeningen'!$F$4/10000,0))*'Curves met UFR, zonder VA'!H237","v":0},{"$f":"('Curves met UFR, zonder VA'!I108+IF('Configuratie en berekeningen'!$D$4=\"Met VA\",'Configuratie en berekeningen'!$F$4/10000,0))*'Curves met UFR, zonder VA'!I237","v":0},{"$f":"('Curves met UFR, zonder VA'!J108+IF('Configuratie en berekeningen'!$D$4=\"Met VA\",'Configuratie en berekeningen'!$F$4/10000,0))*'Curves met UFR, zonder VA'!J237","v":0},{"$f":"('Curves met UFR, zonder VA'!K108+IF('Configuratie en berekeningen'!$D$4=\"Met VA\",'Configuratie en berekeningen'!$F$4/10000,0))*'Curves met UFR, zonder VA'!K237","v":0},{"$f":"('Curves met UFR, zonder VA'!L108+IF('Configuratie en berekeningen'!$D$4=\"Met VA\",'Configuratie en berekeningen'!$F$4/10000,0))*'Curves met UFR, zonder VA'!L237","v":0},{"$f":"('Curves met UFR, zonder VA'!M108+IF('Configuratie en berekeningen'!$D$4=\"Met VA\",'Configuratie en berekeningen'!$F$4/10000,0))*'Curves met UFR, zonder VA'!M237","v":0},{"$f":"('Curves met UFR, zonder VA'!N108+IF('Configuratie en berekeningen'!$D$4=\"Met VA\",'Configuratie en berekeningen'!$F$4/10000,0))*'Curves met UFR, zonder VA'!N237","v":0},{"$f":"('Curves met UFR, zonder VA'!O108+IF('Configuratie en berekeningen'!$D$4=\"Met VA\",'Configuratie en berekeningen'!$F$4/10000,0))*'Curves met UFR, zonder VA'!O237","v":0},{"$f":"('Curves met UFR, zonder VA'!P108+IF('Configuratie en berekeningen'!$D$4=\"Met VA\",'Configuratie en berekeningen'!$F$4/10000,0))*'Curves met UFR, zonder VA'!P237","v":0},{"$f":"('Curves met UFR, zonder VA'!Q108+IF('Configuratie en berekeningen'!$D$4=\"Met VA\",'Configuratie en berekeningen'!$F$4/10000,0))*'Curves met UFR, zonder VA'!Q237","v":0},{"$f":"('Curves met UFR, zonder VA'!R108+IF('Configuratie en berekeningen'!$D$4=\"Met VA\",'Configuratie en berekeningen'!$F$4/10000,0))*'Curves met UFR, zonder VA'!R237","v":0},{"$f":"('Curves met UFR, zonder VA'!S108+IF('Configuratie en berekeningen'!$D$4=\"Met VA\",'Configuratie en berekeningen'!$F$4/10000,0))*'Curves met UFR, zonder VA'!S237","v":0},{"$f":"('Curves met UFR, zonder VA'!T108+IF('Configuratie en berekeningen'!$D$4=\"Met VA\",'Configuratie en berekeningen'!$F$4/10000,0))*'Curves met UFR, zonder VA'!T237","v":0},{"$f":"('Curves met UFR, zonder VA'!U108+IF('Configuratie en berekeningen'!$D$4=\"Met VA\",'Configuratie en berekeningen'!$F$4/10000,0))*'Curves met UFR, zonder VA'!U237","v":0},{"$f":"('Curves met UFR, zonder VA'!V108+IF('Configuratie en berekeningen'!$D$4=\"Met VA\",'Configuratie en berekeningen'!$F$4/10000,0))*'Curves met UFR, zonder VA'!V237","v":0}]
[84,{"$f":"('Curves met UFR, zonder VA'!B109+IF('Configuratie en berekeningen'!$D$4=\"Met VA\",'Configuratie en berekeningen'!$F$4/10000,0))*'Curves met UFR, zonder VA'!B238","v":0},{"$f":"('Curves met UFR, zonder VA'!C109+IF('Configuratie en berekeningen'!$D$4=\"Met VA\",'Configuratie en berekeningen'!$F$4/10000,0))*'Curves met UFR, zonder VA'!C238","v":0},{"$f":"('Curves met UFR, zonder VA'!D109+IF('Configuratie en berekeningen'!$D$4=\"Met VA\",'Configuratie en berekeningen'!$F$4/10000,0))*'Curves met UFR, zonder VA'!D238","v":0},{"$f":"('Curves met UFR, zonder VA'!E109+IF('Configuratie en berekeningen'!$D$4=\"Met VA\",'Configuratie en berekeningen'!$F$4/10000,0))*'Curves met UFR, zonder VA'!E238","v":0},{"$f":"('Curves met UFR, zonder VA'!F109+IF('Configuratie en berekeningen'!$D$4=\"Met VA\",'Configuratie en berekeningen'!$F$4/10000,0))*'Curves met UFR, zonder VA'!F238","v":0},{"$f":"('Curves met UFR, zonder VA'!G109+IF('Configuratie en berekeningen'!$D$4=\"Met VA\",'Configuratie en berekeningen'!$F$4/10000,0))*'Curves met UFR, zonder VA'!G238","v":0},{"$f":"('Curves met UFR, zonder VA'!H109+IF('Configuratie en berekeningen'!$D$4=\"Met VA\",'Configuratie en berekeningen'!$F$4/10000,0))*'Curves met UFR, zonder VA'!H238","v":0},{"$f":"('Curves met UFR, zonder VA'!I109+IF('Configuratie en berekeningen'!$D$4=\"Met VA\",'Configuratie en berekeningen'!$F$4/10000,0))*'Curves met UFR, zonder VA'!I238","v":0},{"$f":"('Curves met UFR, zonder VA'!J109+IF('Configuratie en berekeningen'!$D$4=\"Met VA\",'Configuratie en berekeningen'!$F$4/10000,0))*'Curves met UFR, zonder VA'!J238","v":0},{"$f":"('Curves met UFR, zonder VA'!K109+IF('Configuratie en berekeningen'!$D$4=\"Met VA\",'Configuratie en berekeningen'!$F$4/10000,0))*'Curves met UFR, zonder VA'!K238","v":0},{"$f":"('Curves met UFR, zonder VA'!L109+IF('Configuratie en berekeningen'!$D$4=\"Met VA\",'Configuratie en berekeningen'!$F$4/10000,0))*'Curves met UFR, zonder VA'!L238","v":0},{"$f":"('Curves met UFR, zonder VA'!M109+IF('Configuratie en berekeningen'!$D$4=\"Met VA\",'Configuratie en berekeningen'!$F$4/10000,0))*'Curves met UFR, zonder VA'!M238","v":0},{"$f":"('Curves met UFR, zonder VA'!N109+IF('Configuratie en berekeningen'!$D$4=\"Met VA\",'Configuratie en berekeningen'!$F$4/10000,0))*'Curves met UFR, zonder VA'!N238","v":0},{"$f":"('Curves met UFR, zonder VA'!O109+IF('Configuratie en berekeningen'!$D$4=\"Met VA\",'Configuratie en berekeningen'!$F$4/10000,0))*'Curves met UFR, zonder VA'!O238","v":0},{"$f":"('Curves met UFR, zonder VA'!P109+IF('Configuratie en berekeningen'!$D$4=\"Met VA\",'Configuratie en berekeningen'!$F$4/10000,0))*'Curves met UFR, zonder VA'!P238","v":0},{"$f":"('Curves met UFR, zonder VA'!Q109+IF('Configuratie en berekeningen'!$D$4=\"Met VA\",'Configuratie en berekeningen'!$F$4/10000,0))*'Curves met UFR, zonder VA'!Q238","v":0},{"$f":"('Curves met UFR, zonder VA'!R109+IF('Configuratie en berekeningen'!$D$4=\"Met VA\",'Configuratie en berekeningen'!$F$4/10000,0))*'Curves met UFR, zonder VA'!R238","v":0},{"$f":"('Curves met UFR, zonder VA'!S109+IF('Configuratie en berekeningen'!$D$4=\"Met VA\",'Configuratie en berekeningen'!$F$4/10000,0))*'Curves met UFR, zonder VA'!S238","v":0},{"$f":"('Curves met UFR, zonder VA'!T109+IF('Configuratie en berekeningen'!$D$4=\"Met VA\",'Configuratie en berekeningen'!$F$4/10000,0))*'Curves met UFR, zonder VA'!T238","v":0},{"$f":"('Curves met UFR, zonder VA'!U109+IF('Configuratie en berekeningen'!$D$4=\"Met VA\",'Configuratie en berekeningen'!$F$4/10000,0))*'Curves met UFR, zonder VA'!U238","v":0},{"$f":"('Curves met UFR, zonder VA'!V109+IF('Configuratie en berekeningen'!$D$4=\"Met VA\",'Configuratie en berekeningen'!$F$4/10000,0))*'Curves met UFR, zonder VA'!V238","v":0}]
[85,{"$f":"('Curves met UFR, zonder VA'!B110+IF('Configuratie en berekeningen'!$D$4=\"Met VA\",'Configuratie en berekeningen'!$F$4/10000,0))*'Curves met UFR, zonder VA'!B239","v":0},{"$f":"('Curves met UFR, zonder VA'!C110+IF('Configuratie en berekeningen'!$D$4=\"Met VA\",'Configuratie en berekeningen'!$F$4/10000,0))*'Curves met UFR, zonder VA'!C239","v":0},{"$f":"('Curves met UFR, zonder VA'!D110+IF('Configuratie en berekeningen'!$D$4=\"Met VA\",'Configuratie en berekeningen'!$F$4/10000,0))*'Curves met UFR, zonder VA'!D239","v":0},{"$f":"('Curves met UFR, zonder VA'!E110+IF('Configuratie en berekeningen'!$D$4=\"Met VA\",'Configuratie en berekeningen'!$F$4/10000,0))*'Curves met UFR, zonder VA'!E239","v":0},{"$f":"('Curves met UFR, zonder VA'!F110+IF('Configuratie en berekeningen'!$D$4=\"Met VA\",'Configuratie en berekeningen'!$F$4/10000,0))*'Curves met UFR, zonder VA'!F239","v":0},{"$f":"('Curves met UFR, zonder VA'!G110+IF('Configuratie en berekeningen'!$D$4=\"Met VA\",'Configuratie en berekeningen'!$F$4/10000,0))*'Curves met UFR, zonder VA'!G239","v":0},{"$f":"('Curves met UFR, zonder VA'!H110+IF('Configuratie en berekeningen'!$D$4=\"Met VA\",'Configuratie en berekeningen'!$F$4/10000,0))*'Curves met UFR, zonder VA'!H239","v":0},{"$f":"('Curves met UFR, zonder VA'!I110+IF('Configuratie en berekeningen'!$D$4=\"Met VA\",'Configuratie en berekeningen'!$F$4/10000,0))*'Curves met UFR, zonder VA'!I239","v":0},{"$f":"('Curves met UFR, zonder VA'!J110+IF('Configuratie en berekeningen'!$D$4=\"Met VA\",'Configuratie en berekeningen'!$F$4/10000,0))*'Curves met UFR, zonder VA'!J239","v":0},{"$f":"('Curves met UFR, zonder VA'!K110+IF('Configuratie en berekeningen'!$D$4=\"Met VA\",'Configuratie en berekeningen'!$F$4/10000,0))*'Curves met UFR, zonder VA'!K239","v":0},{"$f":"('Curves met UFR, zonder VA'!L110+IF('Configuratie en berekeningen'!$D$4=\"Met VA\",'Configuratie en berekeningen'!$F$4/10000,0))*'Curves met UFR, zonder VA'!L239","v":0},{"$f":"('Curves met UFR, zonder VA'!M110+IF('Configuratie en berekeningen'!$D$4=\"Met VA\",'Configuratie en berekeningen'!$F$4/10000,0))*'Curves met UFR, zonder VA'!M239","v":0},{"$f":"('Curves met UFR, zonder VA'!N110+IF('Configuratie en berekeningen'!$D$4=\"Met VA\",'Configuratie en berekeningen'!$F$4/10000,0))*'Curves met UFR, zonder VA'!N239","v":0},{"$f":"('Curves met UFR, zonder VA'!O110+IF('Configuratie en berekeningen'!$D$4=\"Met VA\",'Configuratie en berekeningen'!$F$4/10000,0))*'Curves met UFR, zonder VA'!O239","v":0},{"$f":"('Curves met UFR, zonder VA'!P110+IF('Configuratie en berekeningen'!$D$4=\"Met VA\",'Configuratie en berekeningen'!$F$4/10000,0))*'Curves met UFR, zonder VA'!P239","v":0},{"$f":"('Curves met UFR, zonder VA'!Q110+IF('Configuratie en berekeningen'!$D$4=\"Met VA\",'Configuratie en berekeningen'!$F$4/10000,0))*'Curves met UFR, zonder VA'!Q239","v":0},{"$f":"('Curves met UFR, zonder VA'!R110+IF('Configuratie en berekeningen'!$D$4=\"Met VA\",'Configuratie en berekeningen'!$F$4/10000,0))*'Curves met UFR, zonder VA'!R239","v":0},{"$f":"('Curves met UFR, zonder VA'!S110+IF('Configuratie en berekeningen'!$D$4=\"Met VA\",'Configuratie en berekeningen'!$F$4/10000,0))*'Curves met UFR, zonder VA'!S239","v":0},{"$f":"('Curves met UFR, zonder VA'!T110+IF('Configuratie en berekeningen'!$D$4=\"Met VA\",'Configuratie en berekeningen'!$F$4/10000,0))*'Curves met UFR, zonder VA'!T239","v":0},{"$f":"('Curves met UFR, zonder VA'!U110+IF('Configuratie en berekeningen'!$D$4=\"Met VA\",'Configuratie en berekeningen'!$F$4/10000,0))*'Curves met UFR, zonder VA'!U239","v":0},{"$f":"('Curves met UFR, zonder VA'!V110+IF('Configuratie en berekeningen'!$D$4=\"Met VA\",'Configuratie en berekeningen'!$F$4/10000,0))*'Curves met UFR, zonder VA'!V239","v":0}]
[86,{"$f":"('Curves met UFR, zonder VA'!B111+IF('Configuratie en berekeningen'!$D$4=\"Met VA\",'Configuratie en berekeningen'!$F$4/10000,0))*'Curves met UFR, zonder VA'!B240","v":0},{"$f":"('Curves met UFR, zonder VA'!C111+IF('Configuratie en berekeningen'!$D$4=\"Met VA\",'Configuratie en berekeningen'!$F$4/10000,0))*'Curves met UFR, zonder VA'!C240","v":0},{"$f":"('Curves met UFR, zonder VA'!D111+IF('Configuratie en berekeningen'!$D$4=\"Met VA\",'Configuratie en berekeningen'!$F$4/10000,0))*'Curves met UFR, zonder VA'!D240","v":0},{"$f":"('Curves met UFR, zonder VA'!E111+IF('Configuratie en berekeningen'!$D$4=\"Met VA\",'Configuratie en berekeningen'!$F$4/10000,0))*'Curves met UFR, zonder VA'!E240","v":0},{"$f":"('Curves met UFR, zonder VA'!F111+IF('Configuratie en berekeningen'!$D$4=\"Met VA\",'Configuratie en berekeningen'!$F$4/10000,0))*'Curves met UFR, zonder VA'!F240","v":0},{"$f":"('Curves met UFR, zonder VA'!G111+IF('Configuratie en berekeningen'!$D$4=\"Met VA\",'Configuratie en berekeningen'!$F$4/10000,0))*'Curves met UFR, zonder VA'!G240","v":0},{"$f":"('Curves met UFR, zonder VA'!H111+IF('Configuratie en berekeningen'!$D$4=\"Met VA\",'Configuratie en berekeningen'!$F$4/10000,0))*'Curves met UFR, zonder VA'!H240","v":0},{"$f":"('Curves met UFR, zonder VA'!I111+IF('Configuratie en berekeningen'!$D$4=\"Met VA\",'Configuratie en berekeningen'!$F$4/10000,0))*'Curves met UFR, zonder VA'!I240","v":0},{"$f":"('Curves met UFR, zonder VA'!J111+IF('Configuratie en berekeningen'!$D$4=\"Met VA\",'Configuratie en berekeningen'!$F$4/10000,0))*'Curves met UFR, zonder VA'!J240","v":0},{"$f":"('Curves met UFR, zonder VA'!K111+IF('Configuratie en berekeningen'!$D$4=\"Met VA\",'Configuratie en berekeningen'!$F$4/10000,0))*'Curves met UFR, zonder VA'!K240","v":0},{"$f":"('Curves met UFR, zonder VA'!L111+IF('Configuratie en berekeningen'!$D$4=\"Met VA\",'Configuratie en berekeningen'!$F$4/10000,0))*'Curves met UFR, zonder VA'!L240","v":0},{"$f":"('Curves met UFR, zonder VA'!M111+IF('Configuratie en berekeningen'!$D$4=\"Met VA\",'Configuratie en berekeningen'!$F$4/10000,0))*'Curves met UFR, zonder VA'!M240","v":0},{"$f":"('Curves met UFR, zonder VA'!N111+IF('Configuratie en berekeningen'!$D$4=\"Met VA\",'Configuratie en berekeningen'!$F$4/10000,0))*'Curves met UFR, zonder VA'!N240","v":0},{"$f":"('Curves met UFR, zonder VA'!O111+IF('Configuratie en berekeningen'!$D$4=\"Met VA\",'Configuratie en berekeningen'!$F$4/10000,0))*'Curves met UFR, zonder VA'!O240","v":0},{"$f":"('Curves met UFR, zonder VA'!P111+IF('Configuratie en berekeningen'!$D$4=\"Met VA\",'Configuratie en berekeningen'!$F$4/10000,0))*'Curves met UFR, zonder VA'!P240","v":0},{"$f":"('Curves met UFR, zonder VA'!Q111+IF('Configuratie en berekeningen'!$D$4=\"Met VA\",'Configuratie en berekeningen'!$F$4/10000,0))*'Curves met UFR, zonder VA'!Q240","v":0},{"$f":"('Curves met UFR, zonder VA'!R111+IF('Configuratie en berekeningen'!$D$4=\"Met VA\",'Configuratie en berekeningen'!$F$4/10000,0))*'Curves met UFR, zonder VA'!R240","v":0},{"$f":"('Curves met UFR, zonder VA'!S111+IF('Configuratie en berekeningen'!$D$4=\"Met VA\",'Configuratie en berekeningen'!$F$4/10000,0))*'Curves met UFR, zonder VA'!S240","v":0},{"$f":"('Curves met UFR, zonder VA'!T111+IF('Configuratie en berekeningen'!$D$4=\"Met VA\",'Configuratie en berekeningen'!$F$4/10000,0))*'Curves met UFR, zonder VA'!T240","v":0},{"$f":"('Curves met UFR, zonder VA'!U111+IF('Configuratie en berekeningen'!$D$4=\"Met VA\",'Configuratie en berekeningen'!$F$4/10000,0))*'Curves met UFR, zonder VA'!U240","v":0},{"$f":"('Curves met UFR, zonder VA'!V111+IF('Configuratie en berekeningen'!$D$4=\"Met VA\",'Configuratie en berekeningen'!$F$4/10000,0))*'Curves met UFR, zonder VA'!V240","v":0}]
[87,{"$f":"('Curves met UFR, zonder VA'!B112+IF('Configuratie en berekeningen'!$D$4=\"Met VA\",'Configuratie en berekeningen'!$F$4/10000,0))*'Curves met UFR, zonder VA'!B241","v":0},{"$f":"('Curves met UFR, zonder VA'!C112+IF('Configuratie en berekeningen'!$D$4=\"Met VA\",'Configuratie en berekeningen'!$F$4/10000,0))*'Curves met UFR, zonder VA'!C241","v":0},{"$f":"('Curves met UFR, zonder VA'!D112+IF('Configuratie en berekeningen'!$D$4=\"Met VA\",'Configuratie en berekeningen'!$F$4/10000,0))*'Curves met UFR, zonder VA'!D241","v":0},{"$f":"('Curves met UFR, zonder VA'!E112+IF('Configuratie en berekeningen'!$D$4=\"Met VA\",'Configuratie en berekeningen'!$F$4/10000,0))*'Curves met UFR, zonder VA'!E241","v":0},{"$f":"('Curves met UFR, zonder VA'!F112+IF('Configuratie en berekeningen'!$D$4=\"Met VA\",'Configuratie en berekeningen'!$F$4/10000,0))*'Curves met UFR, zonder VA'!F241","v":0},{"$f":"('Curves met UFR, zonder VA'!G112+IF('Configuratie en berekeningen'!$D$4=\"Met VA\",'Configuratie en berekeningen'!$F$4/10000,0))*'Curves met UFR, zonder VA'!G241","v":0},{"$f":"('Curves met UFR, zonder VA'!H112+IF('Configuratie en berekeningen'!$D$4=\"Met VA\",'Configuratie en berekeningen'!$F$4/10000,0))*'Curves met UFR, zonder VA'!H241","v":0},{"$f":"('Curves met UFR, zonder VA'!I112+IF('Configuratie en berekeningen'!$D$4=\"Met VA\",'Configuratie en berekeningen'!$F$4/10000,0))*'Curves met UFR, zonder VA'!I241","v":0},{"$f":"('Curves met UFR, zonder VA'!J112+IF('Configuratie en berekeningen'!$D$4=\"Met VA\",'Configuratie en berekeningen'!$F$4/10000,0))*'Curves met UFR, zonder VA'!J241","v":0},{"$f":"('Curves met UFR, zonder VA'!K112+IF('Configuratie en berekeningen'!$D$4=\"Met VA\",'Configuratie en berekeningen'!$F$4/10000,0))*'Curves met UFR, zonder VA'!K241","v":0},{"$f":"('Curves met UFR, zonder VA'!L112+IF('Configuratie en berekeningen'!$D$4=\"Met VA\",'Configuratie en berekeningen'!$F$4/10000,0))*'Curves met UFR, zonder VA'!L241","v":0},{"$f":"('Curves met UFR, zonder VA'!M112+IF('Configuratie en berekeningen'!$D$4=\"Met VA\",'Configuratie en berekeningen'!$F$4/10000,0))*'Curves met UFR, zonder VA'!M241","v":0},{"$f":"('Curves met UFR, zonder VA'!N112+IF('Configuratie en berekeningen'!$D$4=\"Met VA\",'Configuratie en berekeningen'!$F$4/10000,0))*'Curves met UFR, zonder VA'!N241","v":0},{"$f":"('Curves met UFR, zonder VA'!O112+IF('Configuratie en berekeningen'!$D$4=\"Met VA\",'Configuratie en berekeningen'!$F$4/10000,0))*'Curves met UFR, zonder VA'!O241","v":0},{"$f":"('Curves met UFR, zonder VA'!P112+IF('Configuratie en berekeningen'!$D$4=\"Met VA\",'Configuratie en berekeningen'!$F$4/10000,0))*'Curves met UFR, zonder VA'!P241","v":0},{"$f":"('Curves met UFR, zonder VA'!Q112+IF('Configuratie en berekeningen'!$D$4=\"Met VA\",'Configuratie en berekeningen'!$F$4/10000,0))*'Curves met UFR, zonder VA'!Q241","v":0},{"$f":"('Curves met UFR, zonder VA'!R112+IF('Configuratie en berekeningen'!$D$4=\"Met VA\",'Configuratie en berekeningen'!$F$4/10000,0))*'Curves met UFR, zonder VA'!R241","v":0},{"$f":"('Curves met UFR, zonder VA'!S112+IF('Configuratie en berekeningen'!$D$4=\"Met VA\",'Configuratie en berekeningen'!$F$4/10000,0))*'Curves met UFR, zonder VA'!S241","v":0},{"$f":"('Curves met UFR, zonder VA'!T112+IF('Configuratie en berekeningen'!$D$4=\"Met VA\",'Configuratie en berekeningen'!$F$4/10000,0))*'Curves met UFR, zonder VA'!T241","v":0},{"$f":"('Curves met UFR, zonder VA'!U112+IF('Configuratie en berekeningen'!$D$4=\"Met VA\",'Configuratie en berekeningen'!$F$4/10000,0))*'Curves met UFR, zonder VA'!U241","v":0},{"$f":"('Curves met UFR, zonder VA'!V112+IF('Configuratie en berekeningen'!$D$4=\"Met VA\",'Configuratie en berekeningen'!$F$4/10000,0))*'Curves met UFR, zonder VA'!V241","v":0}]
[88,{"$f":"('Curves met UFR, zonder VA'!B113+IF('Configuratie en berekeningen'!$D$4=\"Met VA\",'Configuratie en berekeningen'!$F$4/10000,0))*'Curves met UFR, zonder VA'!B242","v":0},{"$f":"('Curves met UFR, zonder VA'!C113+IF('Configuratie en berekeningen'!$D$4=\"Met VA\",'Configuratie en berekeningen'!$F$4/10000,0))*'Curves met UFR, zonder VA'!C242","v":0},{"$f":"('Curves met UFR, zonder VA'!D113+IF('Configuratie en berekeningen'!$D$4=\"Met VA\",'Configuratie en berekeningen'!$F$4/10000,0))*'Curves met UFR, zonder VA'!D242","v":0},{"$f":"('Curves met UFR, zonder VA'!E113+IF('Configuratie en berekeningen'!$D$4=\"Met VA\",'Configuratie en berekeningen'!$F$4/10000,0))*'Curves met UFR, zonder VA'!E242","v":0},{"$f":"('Curves met UFR, zonder VA'!F113+IF('Configuratie en berekeningen'!$D$4=\"Met VA\",'Configuratie en berekeningen'!$F$4/10000,0))*'Curves met UFR, zonder VA'!F242","v":0},{"$f":"('Curves met UFR, zonder VA'!G113+IF('Configuratie en berekeningen'!$D$4=\"Met VA\",'Configuratie en berekeningen'!$F$4/10000,0))*'Curves met UFR, zonder VA'!G242","v":0},{"$f":"('Curves met UFR, zonder VA'!H113+IF('Configuratie en berekeningen'!$D$4=\"Met VA\",'Configuratie en berekeningen'!$F$4/10000,0))*'Curves met UFR, zonder VA'!H242","v":0},{"$f":"('Curves met UFR, zonder VA'!I113+IF('Configuratie en berekeningen'!$D$4=\"Met VA\",'Configuratie en berekeningen'!$F$4/10000,0))*'Curves met UFR, zonder VA'!I242","v":0},{"$f":"('Curves met UFR, zonder VA'!J113+IF('Configuratie en berekeningen'!$D$4=\"Met VA\",'Configuratie en berekeningen'!$F$4/10000,0))*'Curves met UFR, zonder VA'!J242","v":0},{"$f":"('Curves met UFR, zonder VA'!K113+IF('Configuratie en berekeningen'!$D$4=\"Met VA\",'Configuratie en berekeningen'!$F$4/10000,0))*'Curves met UFR, zonder VA'!K242","v":0},{"$f":"('Curves met UFR, zonder VA'!L113+IF('Configuratie en berekeningen'!$D$4=\"Met VA\",'Configuratie en berekeningen'!$F$4/10000,0))*'Curves met UFR, zonder VA'!L242","v":0},{"$f":"('Curves met UFR, zonder VA'!M113+IF('Configuratie en berekeningen'!$D$4=\"Met VA\",'Configuratie en berekeningen'!$F$4/10000,0))*'Curves met UFR, zonder VA'!M242","v":0},{"$f":"('Curves met UFR, zonder VA'!N113+IF('Configuratie en berekeningen'!$D$4=\"Met VA\",'Configuratie en berekeningen'!$F$4/10000,0))*'Curves met UFR, zonder VA'!N242","v":0},{"$f":"('Curves met UFR, zonder VA'!O113+IF('Configuratie en berekeningen'!$D$4=\"Met VA\",'Configuratie en berekeningen'!$F$4/10000,0))*'Curves met UFR, zonder VA'!O242","v":0},{"$f":"('Curves met UFR, zonder VA'!P113+IF('Configuratie en berekeningen'!$D$4=\"Met VA\",'Configuratie en berekeningen'!$F$4/10000,0))*'Curves met UFR, zonder VA'!P242","v":0},{"$f":"('Curves met UFR, zonder VA'!Q113+IF('Configuratie en berekeningen'!$D$4=\"Met VA\",'Configuratie en berekeningen'!$F$4/10000,0))*'Curves met UFR, zonder VA'!Q242","v":0},{"$f":"('Curves met UFR, zonder VA'!R113+IF('Configuratie en berekeningen'!$D$4=\"Met VA\",'Configuratie en berekeningen'!$F$4/10000,0))*'Curves met UFR, zonder VA'!R242","v":0},{"$f":"('Curves met UFR, zonder VA'!S113+IF('Configuratie en berekeningen'!$D$4=\"Met VA\",'Configuratie en berekeningen'!$F$4/10000,0))*'Curves met UFR, zonder VA'!S242","v":0},{"$f":"('Curves met UFR, zonder VA'!T113+IF('Configuratie en berekeningen'!$D$4=\"Met VA\",'Configuratie en berekeningen'!$F$4/10000,0))*'Curves met UFR, zonder VA'!T242","v":0},{"$f":"('Curves met UFR, zonder VA'!U113+IF('Configuratie en berekeningen'!$D$4=\"Met VA\",'Configuratie en berekeningen'!$F$4/10000,0))*'Curves met UFR, zonder VA'!U242","v":0},{"$f":"('Curves met UFR, zonder VA'!V113+IF('Configuratie en berekeningen'!$D$4=\"Met VA\",'Configuratie en berekeningen'!$F$4/10000,0))*'Curves met UFR, zonder VA'!V242","v":0}]
[89,{"$f":"('Curves met UFR, zonder VA'!B114+IF('Configuratie en berekeningen'!$D$4=\"Met VA\",'Configuratie en berekeningen'!$F$4/10000,0))*'Curves met UFR, zonder VA'!B243","v":0},{"$f":"('Curves met UFR, zonder VA'!C114+IF('Configuratie en berekeningen'!$D$4=\"Met VA\",'Configuratie en berekeningen'!$F$4/10000,0))*'Curves met UFR, zonder VA'!C243","v":0},{"$f":"('Curves met UFR, zonder VA'!D114+IF('Configuratie en berekeningen'!$D$4=\"Met VA\",'Configuratie en berekeningen'!$F$4/10000,0))*'Curves met UFR, zonder VA'!D243","v":0},{"$f":"('Curves met UFR, zonder VA'!E114+IF('Configuratie en berekeningen'!$D$4=\"Met VA\",'Configuratie en berekeningen'!$F$4/10000,0))*'Curves met UFR, zonder VA'!E243","v":0},{"$f":"('Curves met UFR, zonder VA'!F114+IF('Configuratie en berekeningen'!$D$4=\"Met VA\",'Configuratie en berekeningen'!$F$4/10000,0))*'Curves met UFR, zonder VA'!F243","v":0},{"$f":"('Curves met UFR, zonder VA'!G114+IF('Configuratie en berekeningen'!$D$4=\"Met VA\",'Configuratie en berekeningen'!$F$4/10000,0))*'Curves met UFR, zonder VA'!G243","v":0},{"$f":"('Curves met UFR, zonder VA'!H114+IF('Configuratie en berekeningen'!$D$4=\"Met VA\",'Configuratie en berekeningen'!$F$4/10000,0))*'Curves met UFR, zonder VA'!H243","v":0},{"$f":"('Curves met UFR, zonder VA'!I114+IF('Configuratie en berekeningen'!$D$4=\"Met VA\",'Configuratie en berekeningen'!$F$4/10000,0))*'Curves met UFR, zonder VA'!I243","v":0},{"$f":"('Curves met UFR, zonder VA'!J114+IF('Configuratie en berekeningen'!$D$4=\"Met VA\",'Configuratie en berekeningen'!$F$4/10000,0))*'Curves met UFR, zonder VA'!J243","v":0},{"$f":"('Curves met UFR, zonder VA'!K114+IF('Configuratie en berekeningen'!$D$4=\"Met VA\",'Configuratie en berekeningen'!$F$4/10000,0))*'Curves met UFR, zonder VA'!K243","v":0},{"$f":"('Curves met UFR, zonder VA'!L114+IF('Configuratie en berekeningen'!$D$4=\"Met VA\",'Configuratie en berekeningen'!$F$4/10000,0))*'Curves met UFR, zonder VA'!L243","v":0},{"$f":"('Curves met UFR, zonder VA'!M114+IF('Configuratie en berekeningen'!$D$4=\"Met VA\",'Configuratie en berekeningen'!$F$4/10000,0))*'Curves met UFR, zonder VA'!M243","v":0},{"$f":"('Curves met UFR, zonder VA'!N114+IF('Configuratie en berekeningen'!$D$4=\"Met VA\",'Configuratie en berekeningen'!$F$4/10000,0))*'Curves met UFR, zonder VA'!N243","v":0},{"$f":"('Curves met UFR, zonder VA'!O114+IF('Configuratie en berekeningen'!$D$4=\"Met VA\",'Configuratie en berekeningen'!$F$4/10000,0))*'Curves met UFR, zonder VA'!O243","v":0},{"$f":"('Curves met UFR, zonder VA'!P114+IF('Configuratie en berekeningen'!$D$4=\"Met VA\",'Configuratie en berekeningen'!$F$4/10000,0))*'Curves met UFR, zonder VA'!P243","v":0},{"$f":"('Curves met UFR, zonder VA'!Q114+IF('Configuratie en berekeningen'!$D$4=\"Met VA\",'Configuratie en berekeningen'!$F$4/10000,0))*'Curves met UFR, zonder VA'!Q243","v":0},{"$f":"('Curves met UFR, zonder VA'!R114+IF('Configuratie en berekeningen'!$D$4=\"Met VA\",'Configuratie en berekeningen'!$F$4/10000,0))*'Curves met UFR, zonder VA'!R243","v":0},{"$f":"('Curves met UFR, zonder VA'!S114+IF('Configuratie en berekeningen'!$D$4=\"Met VA\",'Configuratie en berekeningen'!$F$4/10000,0))*'Curves met UFR, zonder VA'!S243","v":0},{"$f":"('Curves met UFR, zonder VA'!T114+IF('Configuratie en berekeningen'!$D$4=\"Met VA\",'Configuratie en berekeningen'!$F$4/10000,0))*'Curves met UFR, zonder VA'!T243","v":0},{"$f":"('Curves met UFR, zonder VA'!U114+IF('Configuratie en berekeningen'!$D$4=\"Met VA\",'Configuratie en berekeningen'!$F$4/10000,0))*'Curves met UFR, zonder VA'!U243","v":0},{"$f":"('Curves met UFR, zonder VA'!V114+IF('Configuratie en berekeningen'!$D$4=\"Met VA\",'Configuratie en berekeningen'!$F$4/10000,0))*'Curves met UFR, zonder VA'!V243","v":0}]
[90,{"$f":"('Curves met UFR, zonder VA'!B115+IF('Configuratie en berekeningen'!$D$4=\"Met VA\",'Configuratie en berekeningen'!$F$4/10000,0))*'Curves met UFR, zonder VA'!B244","v":0},{"$f":"('Curves met UFR, zonder VA'!C115+IF('Configuratie en berekeningen'!$D$4=\"Met VA\",'Configuratie en berekeningen'!$F$4/10000,0))*'Curves met UFR, zonder VA'!C244","v":0},{"$f":"('Curves met UFR, zonder VA'!D115+IF('Configuratie en berekeningen'!$D$4=\"Met VA\",'Configuratie en berekeningen'!$F$4/10000,0))*'Curves met UFR, zonder VA'!D244","v":0},{"$f":"('Curves met UFR, zonder VA'!E115+IF('Configuratie en berekeningen'!$D$4=\"Met VA\",'Configuratie en berekeningen'!$F$4/10000,0))*'Curves met UFR, zonder VA'!E244","v":0},{"$f":"('Curves met UFR, zonder VA'!F115+IF('Configuratie en berekeningen'!$D$4=\"Met VA\",'Configuratie en berekeningen'!$F$4/10000,0))*'Curves met UFR, zonder VA'!F244","v":0},{"$f":"('Curves met UFR, zonder VA'!G115+IF('Configuratie en berekeningen'!$D$4=\"Met VA\",'Configuratie en berekeningen'!$F$4/10000,0))*'Curves met UFR, zonder VA'!G244","v":0},{"$f":"('Curves met UFR, zonder VA'!H115+IF('Configuratie en berekeningen'!$D$4=\"Met VA\",'Configuratie en berekeningen'!$F$4/10000,0))*'Curves met UFR, zonder VA'!H244","v":0},{"$f":"('Curves met UFR, zonder VA'!I115+IF('Configuratie en berekeningen'!$D$4=\"Met VA\",'Configuratie en berekeningen'!$F$4/10000,0))*'Curves met UFR, zonder VA'!I244","v":0},{"$f":"('Curves met UFR, zonder VA'!J115+IF('Configuratie en berekeningen'!$D$4=\"Met VA\",'Configuratie en berekeningen'!$F$4/10000,0))*'Curves met UFR, zonder VA'!J244","v":0},{"$f":"('Curves met UFR, zonder VA'!K115+IF('Configuratie en berekeningen'!$D$4=\"Met VA\",'Configuratie en berekeningen'!$F$4/10000,0))*'Curves met UFR, zonder VA'!K244","v":0},{"$f":"('Curves met UFR, zonder VA'!L115+IF('Configuratie en berekeningen'!$D$4=\"Met VA\",'Configuratie en berekeningen'!$F$4/10000,0))*'Curves met UFR, zonder VA'!L244","v":0},{"$f":"('Curves met UFR, zonder VA'!M115+IF('Configuratie en berekeningen'!$D$4=\"Met VA\",'Configuratie en berekeningen'!$F$4/10000,0))*'Curves met UFR, zonder VA'!M244","v":0},{"$f":"('Curves met UFR, zonder VA'!N115+IF('Configuratie en berekeningen'!$D$4=\"Met VA\",'Configuratie en berekeningen'!$F$4/10000,0))*'Curves met UFR, zonder VA'!N244","v":0},{"$f":"('Curves met UFR, zonder VA'!O115+IF('Configuratie en berekeningen'!$D$4=\"Met VA\",'Configuratie en berekeningen'!$F$4/10000,0))*'Curves met UFR, zonder VA'!O244","v":0},{"$f":"('Curves met UFR, zonder VA'!P115+IF('Configuratie en berekeningen'!$D$4=\"Met VA\",'Configuratie en berekeningen'!$F$4/10000,0))*'Curves met UFR, zonder VA'!P244","v":0},{"$f":"('Curves met UFR, zonder VA'!Q115+IF('Configuratie en berekeningen'!$D$4=\"Met VA\",'Configuratie en berekeningen'!$F$4/10000,0))*'Curves met UFR, zonder VA'!Q244","v":0},{"$f":"('Curves met UFR, zonder VA'!R115+IF('Configuratie en berekeningen'!$D$4=\"Met VA\",'Configuratie en berekeningen'!$F$4/10000,0))*'Curves met UFR, zonder VA'!R244","v":0},{"$f":"('Curves met UFR, zonder VA'!S115+IF('Configuratie en berekeningen'!$D$4=\"Met VA\",'Configuratie en berekeningen'!$F$4/10000,0))*'Curves met UFR, zonder VA'!S244","v":0},{"$f":"('Curves met UFR, zonder VA'!T115+IF('Configuratie en berekeningen'!$D$4=\"Met VA\",'Configuratie en berekeningen'!$F$4/10000,0))*'Curves met UFR, zonder VA'!T244","v":0},{"$f":"('Curves met UFR, zonder VA'!U115+IF('Configuratie en berekeningen'!$D$4=\"Met VA\",'Configuratie en berekeningen'!$F$4/10000,0))*'Curves met UFR, zonder VA'!U244","v":0},{"$f":"('Curves met UFR, zonder VA'!V115+IF('Configuratie en berekeningen'!$D$4=\"Met VA\",'Configuratie en berekeningen'!$F$4/10000,0))*'Curves met UFR, zonder VA'!V244","v":0}]
[91,{"$f":"('Curves met UFR, zonder VA'!B116+IF('Configuratie en berekeningen'!$D$4=\"Met VA\",'Configuratie en berekeningen'!$F$4/10000,0))*'Curves met UFR, zonder VA'!B245","v":0},{"$f":"('Curves met UFR, zonder VA'!C116+IF('Configuratie en berekeningen'!$D$4=\"Met VA\",'Configuratie en berekeningen'!$F$4/10000,0))*'Curves met UFR, zonder VA'!C245","v":0},{"$f":"('Curves met UFR, zonder VA'!D116+IF('Configuratie en berekeningen'!$D$4=\"Met VA\",'Configuratie en berekeningen'!$F$4/10000,0))*'Curves met UFR, zonder VA'!D245","v":0},{"$f":"('Curves met UFR, zonder VA'!E116+IF('Configuratie en berekeningen'!$D$4=\"Met VA\",'Configuratie en berekeningen'!$F$4/10000,0))*'Curves met UFR, zonder VA'!E245","v":0},{"$f":"('Curves met UFR, zonder VA'!F116+IF('Configuratie en berekeningen'!$D$4=\"Met VA\",'Configuratie en berekeningen'!$F$4/10000,0))*'Curves met UFR, zonder VA'!F245","v":0},{"$f":"('Curves met UFR, zonder VA'!G116+IF('Configuratie en berekeningen'!$D$4=\"Met VA\",'Configuratie en berekeningen'!$F$4/10000,0))*'Curves met UFR, zonder VA'!G245","v":0},{"$f":"('Curves met UFR, zonder VA'!H116+IF('Configuratie en berekeningen'!$D$4=\"Met VA\",'Configuratie en berekeningen'!$F$4/10000,0))*'Curves met UFR, zonder VA'!H245","v":0},{"$f":"('Curves met UFR, zonder VA'!I116+IF('Configuratie en berekeningen'!$D$4=\"Met VA\",'Configuratie en berekeningen'!$F$4/10000,0))*'Curves met UFR, zonder VA'!I245","v":0},{"$f":"('Curves met UFR, zonder VA'!J116+IF('Configuratie en berekeningen'!$D$4=\"Met VA\",'Configuratie en berekeningen'!$F$4/10000,0))*'Curves met UFR, zonder VA'!J245","v":0},{"$f":"('Curves met UFR, zonder VA'!K116+IF('Configuratie en berekeningen'!$D$4=\"Met VA\",'Configuratie en berekeningen'!$F$4/10000,0))*'Curves met UFR, zonder VA'!K245","v":0},{"$f":"('Curves met UFR, zonder VA'!L116+IF('Configuratie en berekeningen'!$D$4=\"Met VA\",'Configuratie en berekeningen'!$F$4/10000,0))*'Curves met UFR, zonder VA'!L245","v":0},{"$f":"('Curves met UFR, zonder VA'!M116+IF('Configuratie en berekeningen'!$D$4=\"Met VA\",'Configuratie en berekeningen'!$F$4/10000,0))*'Curves met UFR, zonder VA'!M245","v":0},{"$f":"('Curves met UFR, zonder VA'!N116+IF('Configuratie en berekeningen'!$D$4=\"Met VA\",'Configuratie en berekeningen'!$F$4/10000,0))*'Curves met UFR, zonder VA'!N245","v":0},{"$f":"('Curves met UFR, zonder VA'!O116+IF('Configuratie en berekeningen'!$D$4=\"Met VA\",'Configuratie en berekeningen'!$F$4/10000,0))*'Curves met UFR, zonder VA'!O245","v":0},{"$f":"('Curves met UFR, zonder VA'!P116+IF('Configuratie en berekeningen'!$D$4=\"Met VA\",'Configuratie en berekeningen'!$F$4/10000,0))*'Curves met UFR, zonder VA'!P245","v":0},{"$f":"('Curves met UFR, zonder VA'!Q116+IF('Configuratie en berekeningen'!$D$4=\"Met VA\",'Configuratie en berekeningen'!$F$4/10000,0))*'Curves met UFR, zonder VA'!Q245","v":0},{"$f":"('Curves met UFR, zonder VA'!R116+IF('Configuratie en berekeningen'!$D$4=\"Met VA\",'Configuratie en berekeningen'!$F$4/10000,0))*'Curves met UFR, zonder VA'!R245","v":0},{"$f":"('Curves met UFR, zonder VA'!S116+IF('Configuratie en berekeningen'!$D$4=\"Met VA\",'Configuratie en berekeningen'!$F$4/10000,0))*'Curves met UFR, zonder VA'!S245","v":0},{"$f":"('Curves met UFR, zonder VA'!T116+IF('Configuratie en berekeningen'!$D$4=\"Met VA\",'Configuratie en berekeningen'!$F$4/10000,0))*'Curves met UFR, zonder VA'!T245","v":0},{"$f":"('Curves met UFR, zonder VA'!U116+IF('Configuratie en berekeningen'!$D$4=\"Met VA\",'Configuratie en berekeningen'!$F$4/10000,0))*'Curves met UFR, zonder VA'!U245","v":0},{"$f":"('Curves met UFR, zonder VA'!V116+IF('Configuratie en berekeningen'!$D$4=\"Met VA\",'Configuratie en berekeningen'!$F$4/10000,0))*'Curves met UFR, zonder VA'!V245","v":0}]
[92,{"$f":"('Curves met UFR, zonder VA'!B117+IF('Configuratie en berekeningen'!$D$4=\"Met VA\",'Configuratie en berekeningen'!$F$4/10000,0))*'Curves met UFR, zonder VA'!B246","v":0},{"$f":"('Curves met UFR, zonder VA'!C117+IF('Configuratie en berekeningen'!$D$4=\"Met VA\",'Configuratie en berekeningen'!$F$4/10000,0))*'Curves met UFR, zonder VA'!C246","v":0},{"$f":"('Curves met UFR, zonder VA'!D117+IF('Configuratie en berekeningen'!$D$4=\"Met VA\",'Configuratie en berekeningen'!$F$4/10000,0))*'Curves met UFR, zonder VA'!D246","v":0},{"$f":"('Curves met UFR, zonder VA'!E117+IF('Configuratie en berekeningen'!$D$4=\"Met VA\",'Configuratie en berekeningen'!$F$4/10000,0))*'Curves met UFR, zonder VA'!E246","v":0},{"$f":"('Curves met UFR, zonder VA'!F117+IF('Configuratie en berekeningen'!$D$4=\"Met VA\",'Configuratie en berekeningen'!$F$4/10000,0))*'Curves met UFR, zonder VA'!F246","v":0},{"$f":"('Curves met UFR, zonder VA'!G117+IF('Configuratie en berekeningen'!$D$4=\"Met VA\",'Configuratie en berekeningen'!$F$4/10000,0))*'Curves met UFR, zonder VA'!G246","v":0},{"$f":"('Curves met UFR, zonder VA'!H117+IF('Configuratie en berekeningen'!$D$4=\"Met VA\",'Configuratie en berekeningen'!$F$4/10000,0))*'Curves met UFR, zonder VA'!H246","v":0},{"$f":"('Curves met UFR, zonder VA'!I117+IF('Configuratie en berekeningen'!$D$4=\"Met VA\",'Configuratie en berekeningen'!$F$4/10000,0))*'Curves met UFR, zonder VA'!I246","v":0},{"$f":"('Curves met UFR, zonder VA'!J117+IF('Configuratie en berekeningen'!$D$4=\"Met VA\",'Configuratie en berekeningen'!$F$4/10000,0))*'Curves met UFR, zonder VA'!J246","v":0},{"$f":"('Curves met UFR, zonder VA'!K117+IF('Configuratie en berekeningen'!$D$4=\"Met VA\",'Configuratie en berekeningen'!$F$4/10000,0))*'Curves met UFR, zonder VA'!K246","v":0},{"$f":"('Curves met UFR, zonder VA'!L117+IF('Configuratie en berekeningen'!$D$4=\"Met VA\",'Configuratie en berekeningen'!$F$4/10000,0))*'Curves met UFR, zonder VA'!L246","v":0},{"$f":"('Curves met UFR, zonder VA'!M117+IF('Configuratie en berekeningen'!$D$4=\"Met VA\",'Configuratie en berekeningen'!$F$4/10000,0))*'Curves met UFR, zonder VA'!M246","v":0},{"$f":"('Curves met UFR, zonder VA'!N117+IF('Configuratie en berekeningen'!$D$4=\"Met VA\",'Configuratie en berekeningen'!$F$4/10000,0))*'Curves met UFR, zonder VA'!N246","v":0},{"$f":"('Curves met UFR, zonder VA'!O117+IF('Configuratie en berekeningen'!$D$4=\"Met VA\",'Configuratie en berekeningen'!$F$4/10000,0))*'Curves met UFR, zonder VA'!O246","v":0},{"$f":"('Curves met UFR, zonder VA'!P117+IF('Configuratie en berekeningen'!$D$4=\"Met VA\",'Configuratie en berekeningen'!$F$4/10000,0))*'Curves met UFR, zonder VA'!P246","v":0},{"$f":"('Curves met UFR, zonder VA'!Q117+IF('Configuratie en berekeningen'!$D$4=\"Met VA\",'Configuratie en berekeningen'!$F$4/10000,0))*'Curves met UFR, zonder VA'!Q246","v":0},{"$f":"('Curves met UFR, zonder VA'!R117+IF('Configuratie en berekeningen'!$D$4=\"Met VA\",'Configuratie en berekeningen'!$F$4/10000,0))*'Curves met UFR, zonder VA'!R246","v":0},{"$f":"('Curves met UFR, zonder VA'!S117+IF('Configuratie en berekeningen'!$D$4=\"Met VA\",'Configuratie en berekeningen'!$F$4/10000,0))*'Curves met UFR, zonder VA'!S246","v":0},{"$f":"('Curves met UFR, zonder VA'!T117+IF('Configuratie en berekeningen'!$D$4=\"Met VA\",'Configuratie en berekeningen'!$F$4/10000,0))*'Curves met UFR, zonder VA'!T246","v":0},{"$f":"('Curves met UFR, zonder VA'!U117+IF('Configuratie en berekeningen'!$D$4=\"Met VA\",'Configuratie en berekeningen'!$F$4/10000,0))*'Curves met UFR, zonder VA'!U246","v":0},{"$f":"('Curves met UFR, zonder VA'!V117+IF('Configuratie en berekeningen'!$D$4=\"Met VA\",'Configuratie en berekeningen'!$F$4/10000,0))*'Curves met UFR, zonder VA'!V246","v":0}]
[93,{"$f":"('Curves met UFR, zonder VA'!B118+IF('Configuratie en berekeningen'!$D$4=\"Met VA\",'Configuratie en berekeningen'!$F$4/10000,0))*'Curves met UFR, zonder VA'!B247","v":0},{"$f":"('Curves met UFR, zonder VA'!C118+IF('Configuratie en berekeningen'!$D$4=\"Met VA\",'Configuratie en berekeningen'!$F$4/10000,0))*'Curves met UFR, zonder VA'!C247","v":0},{"$f":"('Curves met UFR, zonder VA'!D118+IF('Configuratie en berekeningen'!$D$4=\"Met VA\",'Configuratie en berekeningen'!$F$4/10000,0))*'Curves met UFR, zonder VA'!D247","v":0},{"$f":"('Curves met UFR, zonder VA'!E118+IF('Configuratie en berekeningen'!$D$4=\"Met VA\",'Configuratie en berekeningen'!$F$4/10000,0))*'Curves met UFR, zonder VA'!E247","v":0},{"$f":"('Curves met UFR, zonder VA'!F118+IF('Configuratie en berekeningen'!$D$4=\"Met VA\",'Configuratie en berekeningen'!$F$4/10000,0))*'Curves met UFR, zonder VA'!F247","v":0},{"$f":"('Curves met UFR, zonder VA'!G118+IF('Configuratie en berekeningen'!$D$4=\"Met VA\",'Configuratie en berekeningen'!$F$4/10000,0))*'Curves met UFR, zonder VA'!G247","v":0},{"$f":"('Curves met UFR, zonder VA'!H118+IF('Configuratie en berekeningen'!$D$4=\"Met VA\",'Configuratie en berekeningen'!$F$4/10000,0))*'Curves met UFR, zonder VA'!H247","v":0},{"$f":"('Curves met UFR, zonder VA'!I118+IF('Configuratie en berekeningen'!$D$4=\"Met VA\",'Configuratie en berekeningen'!$F$4/10000,0))*'Curves met UFR, zonder VA'!I247","v":0},{"$f":"('Curves met UFR, zonder VA'!J118+IF('Configuratie en berekeningen'!$D$4=\"Met VA\",'Configuratie en berekeningen'!$F$4/10000,0))*'Curves met UFR, zonder VA'!J247","v":0},{"$f":"('Curves met UFR, zonder VA'!K118+IF('Configuratie en berekeningen'!$D$4=\"Met VA\",'Configuratie en berekeningen'!$F$4/10000,0))*'Curves met UFR, zonder VA'!K247","v":0},{"$f":"('Curves met UFR, zonder VA'!L118+IF('Configuratie en berekeningen'!$D$4=\"Met VA\",'Configuratie en berekeningen'!$F$4/10000,0))*'Curves met UFR, zonder VA'!L247","v":0},{"$f":"('Curves met UFR, zonder VA'!M118+IF('Configuratie en berekeningen'!$D$4=\"Met VA\",'Configuratie en berekeningen'!$F$4/10000,0))*'Curves met UFR, zonder VA'!M247","v":0},{"$f":"('Curves met UFR, zonder VA'!N118+IF('Configuratie en berekeningen'!$D$4=\"Met VA\",'Configuratie en berekeningen'!$F$4/10000,0))*'Curves met UFR, zonder VA'!N247","v":0},{"$f":"('Curves met UFR, zonder VA'!O118+IF('Configuratie en berekeningen'!$D$4=\"Met VA\",'Configuratie en berekeningen'!$F$4/10000,0))*'Curves met UFR, zonder VA'!O247","v":0},{"$f":"('Curves met UFR, zonder VA'!P118+IF('Configuratie en berekeningen'!$D$4=\"Met VA\",'Configuratie en berekeningen'!$F$4/10000,0))*'Curves met UFR, zonder VA'!P247","v":0},{"$f":"('Curves met UFR, zonder VA'!Q118+IF('Configuratie en berekeningen'!$D$4=\"Met VA\",'Configuratie en berekeningen'!$F$4/10000,0))*'Curves met UFR, zonder VA'!Q247","v":0},{"$f":"('Curves met UFR, zonder VA'!R118+IF('Configuratie en berekeningen'!$D$4=\"Met VA\",'Configuratie en berekeningen'!$F$4/10000,0))*'Curves met UFR, zonder VA'!R247","v":0},{"$f":"('Curves met UFR, zonder VA'!S118+IF('Configuratie en berekeningen'!$D$4=\"Met VA\",'Configuratie en berekeningen'!$F$4/10000,0))*'Curves met UFR, zonder VA'!S247","v":0},{"$f":"('Curves met UFR, zonder VA'!T118+IF('Configuratie en berekeningen'!$D$4=\"Met VA\",'Configuratie en berekeningen'!$F$4/10000,0))*'Curves met UFR, zonder VA'!T247","v":0},{"$f":"('Curves met UFR, zonder VA'!U118+IF('Configuratie en berekeningen'!$D$4=\"Met VA\",'Configuratie en berekeningen'!$F$4/10000,0))*'Curves met UFR, zonder VA'!U247","v":0},{"$f":"('Curves met UFR, zonder VA'!V118+IF('Configuratie en berekeningen'!$D$4=\"Met VA\",'Configuratie en berekeningen'!$F$4/10000,0))*'Curves met UFR, zonder VA'!V247","v":0}]
[94,{"$f":"('Curves met UFR, zonder VA'!B119+IF('Configuratie en berekeningen'!$D$4=\"Met VA\",'Configuratie en berekeningen'!$F$4/10000,0))*'Curves met UFR, zonder VA'!B248","v":0},{"$f":"('Curves met UFR, zonder VA'!C119+IF('Configuratie en berekeningen'!$D$4=\"Met VA\",'Configuratie en berekeningen'!$F$4/10000,0))*'Curves met UFR, zonder VA'!C248","v":0},{"$f":"('Curves met UFR, zonder VA'!D119+IF('Configuratie en berekeningen'!$D$4=\"Met VA\",'Configuratie en berekeningen'!$F$4/10000,0))*'Curves met UFR, zonder VA'!D248","v":0},{"$f":"('Curves met UFR, zonder VA'!E119+IF('Configuratie en berekeningen'!$D$4=\"Met VA\",'Configuratie en berekeningen'!$F$4/10000,0))*'Curves met UFR, zonder VA'!E248","v":0},{"$f":"('Curves met UFR, zonder VA'!F119+IF('Configuratie en berekeningen'!$D$4=\"Met VA\",'Configuratie en berekeningen'!$F$4/10000,0))*'Curves met UFR, zonder VA'!F248","v":0},{"$f":"('Curves met UFR, zonder VA'!G119+IF('Configuratie en berekeningen'!$D$4=\"Met VA\",'Configuratie en berekeningen'!$F$4/10000,0))*'Curves met UFR, zonder VA'!G248","v":0},{"$f":"('Curves met UFR, zonder VA'!H119+IF('Configuratie en berekeningen'!$D$4=\"Met VA\",'Configuratie en berekeningen'!$F$4/10000,0))*'Curves met UFR, zonder VA'!H248","v":0},{"$f":"('Curves met UFR, zonder VA'!I119+IF('Configuratie en berekeningen'!$D$4=\"Met VA\",'Configuratie en berekeningen'!$F$4/10000,0))*'Curves met UFR, zonder VA'!I248","v":0},{"$f":"('Curves met UFR, zonder VA'!J119+IF('Configuratie en berekeningen'!$D$4=\"Met VA\",'Configuratie en berekeningen'!$F$4/10000,0))*'Curves met UFR, zonder VA'!J248","v":0},{"$f":"('Curves met UFR, zonder VA'!K119+IF('Configuratie en berekeningen'!$D$4=\"Met VA\",'Configuratie en berekeningen'!$F$4/10000,0))*'Curves met UFR, zonder VA'!K248","v":0},{"$f":"('Curves met UFR, zonder VA'!L119+IF('Configuratie en berekeningen'!$D$4=\"Met VA\",'Configuratie en berekeningen'!$F$4/10000,0))*'Curves met UFR, zonder VA'!L248","v":0},{"$f":"('Curves met UFR, zonder VA'!M119+IF('Configuratie en berekeningen'!$D$4=\"Met VA\",'Configuratie en berekeningen'!$F$4/10000,0))*'Curves met UFR, zonder VA'!M248","v":0},{"$f":"('Curves met UFR, zonder VA'!N119+IF('Configuratie en berekeningen'!$D$4=\"Met VA\",'Configuratie en berekeningen'!$F$4/10000,0))*'Curves met UFR, zonder VA'!N248","v":0},{"$f":"('Curves met UFR, zonder VA'!O119+IF('Configuratie en berekeningen'!$D$4=\"Met VA\",'Configuratie en berekeningen'!$F$4/10000,0))*'Curves met UFR, zonder VA'!O248","v":0},{"$f":"('Curves met UFR, zonder VA'!P119+IF('Configuratie en berekeningen'!$D$4=\"Met VA\",'Configuratie en berekeningen'!$F$4/10000,0))*'Curves met UFR, zonder VA'!P248","v":0},{"$f":"('Curves met UFR, zonder VA'!Q119+IF('Configuratie en berekeningen'!$D$4=\"Met VA\",'Configuratie en berekeningen'!$F$4/10000,0))*'Curves met UFR, zonder VA'!Q248","v":0},{"$f":"('Curves met UFR, zonder VA'!R119+IF('Configuratie en berekeningen'!$D$4=\"Met VA\",'Configuratie en berekeningen'!$F$4/10000,0))*'Curves met UFR, zonder VA'!R248","v":0},{"$f":"('Curves met UFR, zonder VA'!S119+IF('Configuratie en berekeningen'!$D$4=\"Met VA\",'Configuratie en berekeningen'!$F$4/10000,0))*'Curves met UFR, zonder VA'!S248","v":0},{"$f":"('Curves met UFR, zonder VA'!T119+IF('Configuratie en berekeningen'!$D$4=\"Met VA\",'Configuratie en berekeningen'!$F$4/10000,0))*'Curves met UFR, zonder VA'!T248","v":0},{"$f":"('Curves met UFR, zonder VA'!U119+IF('Configuratie en berekeningen'!$D$4=\"Met VA\",'Configuratie en berekeningen'!$F$4/10000,0))*'Curves met UFR, zonder VA'!U248","v":0},{"$f":"('Curves met UFR, zonder VA'!V119+IF('Configuratie en berekeningen'!$D$4=\"Met VA\",'Configuratie en berekeningen'!$F$4/10000,0))*'Curves met UFR, zonder VA'!V248","v":0}]
[95,{"$f":"('Curves met UFR, zonder VA'!B120+IF('Configuratie en berekeningen'!$D$4=\"Met VA\",'Configuratie en berekeningen'!$F$4/10000,0))*'Curves met UFR, zonder VA'!B249","v":0},{"$f":"('Curves met UFR, zonder VA'!C120+IF('Configuratie en berekeningen'!$D$4=\"Met VA\",'Configuratie en berekeningen'!$F$4/10000,0))*'Curves met UFR, zonder VA'!C249","v":0},{"$f":"('Curves met UFR, zonder VA'!D120+IF('Configuratie en berekeningen'!$D$4=\"Met VA\",'Configuratie en berekeningen'!$F$4/10000,0))*'Curves met UFR, zonder VA'!D249","v":0},{"$f":"('Curves met UFR, zonder VA'!E120+IF('Configuratie en berekeningen'!$D$4=\"Met VA\",'Configuratie en berekeningen'!$F$4/10000,0))*'Curves met UFR, zonder VA'!E249","v":0},{"$f":"('Curves met UFR, zonder VA'!F120+IF('Configuratie en berekeningen'!$D$4=\"Met VA\",'Configuratie en berekeningen'!$F$4/10000,0))*'Curves met UFR, zonder VA'!F249","v":0},{"$f":"('Curves met UFR, zonder VA'!G120+IF('Configuratie en berekeningen'!$D$4=\"Met VA\",'Configuratie en berekeningen'!$F$4/10000,0))*'Curves met UFR, zonder VA'!G249","v":0},{"$f":"('Curves met UFR, zonder VA'!H120+IF('Configuratie en berekeningen'!$D$4=\"Met VA\",'Configuratie en berekeningen'!$F$4/10000,0))*'Curves met UFR, zonder VA'!H249","v":0},{"$f":"('Curves met UFR, zonder VA'!I120+IF('Configuratie en berekeningen'!$D$4=\"Met VA\",'Configuratie en berekeningen'!$F$4/10000,0))*'Curves met UFR, zonder VA'!I249","v":0},{"$f":"('Curves met UFR, zonder VA'!J120+IF('Configuratie en berekeningen'!$D$4=\"Met VA\",'Configuratie en berekeningen'!$F$4/10000,0))*'Curves met UFR, zonder VA'!J249","v":0},{"$f":"('Curves met UFR, zonder VA'!K120+IF('Configuratie en berekeningen'!$D$4=\"Met VA\",'Configuratie en berekeningen'!$F$4/10000,0))*'Curves met UFR, zonder VA'!K249","v":0},{"$f":"('Curves met UFR, zonder VA'!L120+IF('Configuratie en berekeningen'!$D$4=\"Met VA\",'Configuratie en berekeningen'!$F$4/10000,0))*'Curves met UFR, zonder VA'!L249","v":0},{"$f":"('Curves met UFR, zonder VA'!M120+IF('Configuratie en berekeningen'!$D$4=\"Met VA\",'Configuratie en berekeningen'!$F$4/10000,0))*'Curves met UFR, zonder VA'!M249","v":0},{"$f":"('Curves met UFR, zonder VA'!N120+IF('Configuratie en berekeningen'!$D$4=\"Met VA\",'Configuratie en berekeningen'!$F$4/10000,0))*'Curves met UFR, zonder VA'!N249","v":0},{"$f":"('Curves met UFR, zonder VA'!O120+IF('Configuratie en berekeningen'!$D$4=\"Met VA\",'Configuratie en berekeningen'!$F$4/10000,0))*'Curves met UFR, zonder VA'!O249","v":0},{"$f":"('Curves met UFR, zonder VA'!P120+IF('Configuratie en berekeningen'!$D$4=\"Met VA\",'Configuratie en berekeningen'!$F$4/10000,0))*'Curves met UFR, zonder VA'!P249","v":0},{"$f":"('Curves met UFR, zonder VA'!Q120+IF('Configuratie en berekeningen'!$D$4=\"Met VA\",'Configuratie en berekeningen'!$F$4/10000,0))*'Curves met UFR, zonder VA'!Q249","v":0},{"$f":"('Curves met UFR, zonder VA'!R120+IF('Configuratie en berekeningen'!$D$4=\"Met VA\",'Configuratie en berekeningen'!$F$4/10000,0))*'Curves met UFR, zonder VA'!R249","v":0},{"$f":"('Curves met UFR, zonder VA'!S120+IF('Configuratie en berekeningen'!$D$4=\"Met VA\",'Configuratie en berekeningen'!$F$4/10000,0))*'Curves met UFR, zonder VA'!S249","v":0},{"$f":"('Curves met UFR, zonder VA'!T120+IF('Configuratie en berekeningen'!$D$4=\"Met VA\",'Configuratie en berekeningen'!$F$4/10000,0))*'Curves met UFR, zonder VA'!T249","v":0},{"$f":"('Curves met UFR, zonder VA'!U120+IF('Configuratie en berekeningen'!$D$4=\"Met VA\",'Configuratie en berekeningen'!$F$4/10000,0))*'Curves met UFR, zonder VA'!U249","v":0},{"$f":"('Curves met UFR, zonder VA'!V120+IF('Configuratie en berekeningen'!$D$4=\"Met VA\",'Configuratie en berekeningen'!$F$4/10000,0))*'Curves met UFR, zonder VA'!V249","v":0}]
[96,{"$f":"('Curves met UFR, zonder VA'!B121+IF('Configuratie en berekeningen'!$D$4=\"Met VA\",'Configuratie en berekeningen'!$F$4/10000,0))*'Curves met UFR, zonder VA'!B250","v":0},{"$f":"('Curves met UFR, zonder VA'!C121+IF('Configuratie en berekeningen'!$D$4=\"Met VA\",'Configuratie en berekeningen'!$F$4/10000,0))*'Curves met UFR, zonder VA'!C250","v":0},{"$f":"('Curves met UFR, zonder VA'!D121+IF('Configuratie en berekeningen'!$D$4=\"Met VA\",'Configuratie en berekeningen'!$F$4/10000,0))*'Curves met UFR, zonder VA'!D250","v":0},{"$f":"('Curves met UFR, zonder VA'!E121+IF('Configuratie en berekeningen'!$D$4=\"Met VA\",'Configuratie en berekeningen'!$F$4/10000,0))*'Curves met UFR, zonder VA'!E250","v":0},{"$f":"('Curves met UFR, zonder VA'!F121+IF('Configuratie en berekeningen'!$D$4=\"Met VA\",'Configuratie en berekeningen'!$F$4/10000,0))*'Curves met UFR, zonder VA'!F250","v":0},{"$f":"('Curves met UFR, zonder VA'!G121+IF('Configuratie en berekeningen'!$D$4=\"Met VA\",'Configuratie en berekeningen'!$F$4/10000,0))*'Curves met UFR, zonder VA'!G250","v":0},{"$f":"('Curves met UFR, zonder VA'!H121+IF('Configuratie en berekeningen'!$D$4=\"Met VA\",'Configuratie en berekeningen'!$F$4/10000,0))*'Curves met UFR, zonder VA'!H250","v":0},{"$f":"('Curves met UFR, zonder VA'!I121+IF('Configuratie en berekeningen'!$D$4=\"Met VA\",'Configuratie en berekeningen'!$F$4/10000,0))*'Curves met UFR, zonder VA'!I250","v":0},{"$f":"('Curves met UFR, zonder VA'!J121+IF('Configuratie en berekeningen'!$D$4=\"Met VA\",'Configuratie en berekeningen'!$F$4/10000,0))*'Curves met UFR, zonder VA'!J250","v":0},{"$f":"('Curves met UFR, zonder VA'!K121+IF('Configuratie en berekeningen'!$D$4=\"Met VA\",'Configuratie en berekeningen'!$F$4/10000,0))*'Curves met UFR, zonder VA'!K250","v":0},{"$f":"('Curves met UFR, zonder VA'!L121+IF('Configuratie en berekeningen'!$D$4=\"Met VA\",'Configuratie en berekeningen'!$F$4/10000,0))*'Curves met UFR, zonder VA'!L250","v":0},{"$f":"('Curves met UFR, zonder VA'!M121+IF('Configuratie en berekeningen'!$D$4=\"Met VA\",'Configuratie en berekeningen'!$F$4/10000,0))*'Curves met UFR, zonder VA'!M250","v":0},{"$f":"('Curves met UFR, zonder VA'!N121+IF('Configuratie en berekeningen'!$D$4=\"Met VA\",'Configuratie en berekeningen'!$F$4/10000,0))*'Curves met UFR, zonder VA'!N250","v":0},{"$f":"('Curves met UFR, zonder VA'!O121+IF('Configuratie en berekeningen'!$D$4=\"Met VA\",'Configuratie en berekeningen'!$F$4/10000,0))*'Curves met UFR, zonder VA'!O250","v":0},{"$f":"('Curves met UFR, zonder VA'!P121+IF('Configuratie en berekeningen'!$D$4=\"Met VA\",'Configuratie en berekeningen'!$F$4/10000,0))*'Curves met UFR, zonder VA'!P250","v":0},{"$f":"('Curves met UFR, zonder VA'!Q121+IF('Configuratie en berekeningen'!$D$4=\"Met VA\",'Configuratie en berekeningen'!$F$4/10000,0))*'Curves met UFR, zonder VA'!Q250","v":0},{"$f":"('Curves met UFR, zonder VA'!R121+IF('Configuratie en berekeningen'!$D$4=\"Met VA\",'Configuratie en berekeningen'!$F$4/10000,0))*'Curves met UFR, zonder VA'!R250","v":0},{"$f":"('Curves met UFR, zonder VA'!S121+IF('Configuratie en berekeningen'!$D$4=\"Met VA\",'Configuratie en berekeningen'!$F$4/10000,0))*'Curves met UFR, zonder VA'!S250","v":0},{"$f":"('Curves met UFR, zonder VA'!T121+IF('Configuratie en berekeningen'!$D$4=\"Met VA\",'Configuratie en berekeningen'!$F$4/10000,0))*'Curves met UFR, zonder VA'!T250","v":0},{"$f":"('Curves met UFR, zonder VA'!U121+IF('Configuratie en berekeningen'!$D$4=\"Met VA\",'Configuratie en berekeningen'!$F$4/10000,0))*'Curves met UFR, zonder VA'!U250","v":0},{"$f":"('Curves met UFR, zonder VA'!V121+IF('Configuratie en berekeningen'!$D$4=\"Met VA\",'Configuratie en berekeningen'!$F$4/10000,0))*'Curves met UFR, zonder VA'!V250","v":0}]
[97,{"$f":"('Curves met UFR, zonder VA'!B122+IF('Configuratie en berekeningen'!$D$4=\"Met VA\",'Configuratie en berekeningen'!$F$4/10000,0))*'Curves met UFR, zonder VA'!B251","v":0},{"$f":"('Curves met UFR, zonder VA'!C122+IF('Configuratie en berekeningen'!$D$4=\"Met VA\",'Configuratie en berekeningen'!$F$4/10000,0))*'Curves met UFR, zonder VA'!C251","v":0},{"$f":"('Curves met UFR, zonder VA'!D122+IF('Configuratie en berekeningen'!$D$4=\"Met VA\",'Configuratie en berekeningen'!$F$4/10000,0))*'Curves met UFR, zonder VA'!D251","v":0},{"$f":"('Curves met UFR, zonder VA'!E122+IF('Configuratie en berekeningen'!$D$4=\"Met VA\",'Configuratie en berekeningen'!$F$4/10000,0))*'Curves met UFR, zonder VA'!E251","v":0},{"$f":"('Curves met UFR, zonder VA'!F122+IF('Configuratie en berekeningen'!$D$4=\"Met VA\",'Configuratie en berekeningen'!$F$4/10000,0))*'Curves met UFR, zonder VA'!F251","v":0},{"$f":"('Curves met UFR, zonder VA'!G122+IF('Configuratie en berekeningen'!$D$4=\"Met VA\",'Configuratie en berekeningen'!$F$4/10000,0))*'Curves met UFR, zonder VA'!G251","v":0},{"$f":"('Curves met UFR, zonder VA'!H122+IF('Configuratie en berekeningen'!$D$4=\"Met VA\",'Configuratie en berekeningen'!$F$4/10000,0))*'Curves met UFR, zonder VA'!H251","v":0},{"$f":"('Curves met UFR, zonder VA'!I122+IF('Configuratie en berekeningen'!$D$4=\"Met VA\",'Configuratie en berekeningen'!$F$4/10000,0))*'Curves met UFR, zonder VA'!I251","v":0},{"$f":"('Curves met UFR, zonder VA'!J122+IF('Configuratie en berekeningen'!$D$4=\"Met VA\",'Configuratie en berekeningen'!$F$4/10000,0))*'Curves met UFR, zonder VA'!J251","v":0},{"$f":"('Curves met UFR, zonder VA'!K122+IF('Configuratie en berekeningen'!$D$4=\"Met VA\",'Configuratie en berekeningen'!$F$4/10000,0))*'Curves met UFR, zonder VA'!K251","v":0},{"$f":"('Curves met UFR, zonder VA'!L122+IF('Configuratie en berekeningen'!$D$4=\"Met VA\",'Configuratie en berekeningen'!$F$4/10000,0))*'Curves met UFR, zonder VA'!L251","v":0},{"$f":"('Curves met UFR, zonder VA'!M122+IF('Configuratie en berekeningen'!$D$4=\"Met VA\",'Configuratie en berekeningen'!$F$4/10000,0))*'Curves met UFR, zonder VA'!M251","v":0},{"$f":"('Curves met UFR, zonder VA'!N122+IF('Configuratie en berekeningen'!$D$4=\"Met VA\",'Configuratie en berekeningen'!$F$4/10000,0))*'Curves met UFR, zonder VA'!N251","v":0},{"$f":"('Curves met UFR, zonder VA'!O122+IF('Configuratie en berekeningen'!$D$4=\"Met VA\",'Configuratie en berekeningen'!$F$4/10000,0))*'Curves met UFR, zonder VA'!O251","v":0},{"$f":"('Curves met UFR, zonder VA'!P122+IF('Configuratie en berekeningen'!$D$4=\"Met VA\",'Configuratie en berekeningen'!$F$4/10000,0))*'Curves met UFR, zonder VA'!P251","v":0},{"$f":"('Curves met UFR, zonder VA'!Q122+IF('Configuratie en berekeningen'!$D$4=\"Met VA\",'Configuratie en berekeningen'!$F$4/10000,0))*'Curves met UFR, zonder VA'!Q251","v":0},{"$f":"('Curves met UFR, zonder VA'!R122+IF('Configuratie en berekeningen'!$D$4=\"Met VA\",'Configuratie en berekeningen'!$F$4/10000,0))*'Curves met UFR, zonder VA'!R251","v":0},{"$f":"('Curves met UFR, zonder VA'!S122+IF('Configuratie en berekeningen'!$D$4=\"Met VA\",'Configuratie en berekeningen'!$F$4/10000,0))*'Curves met UFR, zonder VA'!S251","v":0},{"$f":"('Curves met UFR, zonder VA'!T122+IF('Configuratie en berekeningen'!$D$4=\"Met VA\",'Configuratie en berekeningen'!$F$4/10000,0))*'Curves met UFR, zonder VA'!T251","v":0},{"$f":"('Curves met UFR, zonder VA'!U122+IF('Configuratie en berekeningen'!$D$4=\"Met VA\",'Configuratie en berekeningen'!$F$4/10000,0))*'Curves met UFR, zonder VA'!U251","v":0},{"$f":"('Curves met UFR, zonder VA'!V122+IF('Configuratie en berekeningen'!$D$4=\"Met VA\",'Configuratie en berekeningen'!$F$4/10000,0))*'Curves met UFR, zonder VA'!V251","v":0}]
[98,{"$f":"('Curves met UFR, zonder VA'!B123+IF('Configuratie en berekeningen'!$D$4=\"Met VA\",'Configuratie en berekeningen'!$F$4/10000,0))*'Curves met UFR, zonder VA'!B252","v":0},{"$f":"('Curves met UFR, zonder VA'!C123+IF('Configuratie en berekeningen'!$D$4=\"Met VA\",'Configuratie en berekeningen'!$F$4/10000,0))*'Curves met UFR, zonder VA'!C252","v":0},{"$f":"('Curves met UFR, zonder VA'!D123+IF('Configuratie en berekeningen'!$D$4=\"Met VA\",'Configuratie en berekeningen'!$F$4/10000,0))*'Curves met UFR, zonder VA'!D252","v":0},{"$f":"('Curves met UFR, zonder VA'!E123+IF('Configuratie en berekeningen'!$D$4=\"Met VA\",'Configuratie en berekeningen'!$F$4/10000,0))*'Curves met UFR, zonder VA'!E252","v":0},{"$f":"('Curves met UFR, zonder VA'!F123+IF('Configuratie en berekeningen'!$D$4=\"Met VA\",'Configuratie en berekeningen'!$F$4/10000,0))*'Curves met UFR, zonder VA'!F252","v":0},{"$f":"('Curves met UFR, zonder VA'!G123+IF('Configuratie en berekeningen'!$D$4=\"Met VA\",'Configuratie en berekeningen'!$F$4/10000,0))*'Curves met UFR, zonder VA'!G252","v":0},{"$f":"('Curves met UFR, zonder VA'!H123+IF('Configuratie en berekeningen'!$D$4=\"Met VA\",'Configuratie en berekeningen'!$F$4/10000,0))*'Curves met UFR, zonder VA'!H252","v":0},{"$f":"('Curves met UFR, zonder VA'!I123+IF('Configuratie en berekeningen'!$D$4=\"Met VA\",'Configuratie en berekeningen'!$F$4/10000,0))*'Curves met UFR, zonder VA'!I252","v":0},{"$f":"('Curves met UFR, zonder VA'!J123+IF('Configuratie en berekeningen'!$D$4=\"Met VA\",'Configuratie en berekeningen'!$F$4/10000,0))*'Curves met UFR, zonder VA'!J252","v":0},{"$f":"('Curves met UFR, zonder VA'!K123+IF('Configuratie en berekeningen'!$D$4=\"Met VA\",'Configuratie en berekeningen'!$F$4/10000,0))*'Curves met UFR, zonder VA'!K252","v":0},{"$f":"('Curves met UFR, zonder VA'!L123+IF('Configuratie en berekeningen'!$D$4=\"Met VA\",'Configuratie en berekeningen'!$F$4/10000,0))*'Curves met UFR, zonder VA'!L252","v":0},{"$f":"('Curves met UFR, zonder VA'!M123+IF('Configuratie en berekeningen'!$D$4=\"Met VA\",'Configuratie en berekeningen'!$F$4/10000,0))*'Curves met UFR, zonder VA'!M252","v":0},{"$f":"('Curves met UFR, zonder VA'!N123+IF('Configuratie en berekeningen'!$D$4=\"Met VA\",'Configuratie en berekeningen'!$F$4/10000,0))*'Curves met UFR, zonder VA'!N252","v":0},{"$f":"('Curves met UFR, zonder VA'!O123+IF('Configuratie en berekeningen'!$D$4=\"Met VA\",'Configuratie en berekeningen'!$F$4/10000,0))*'Curves met UFR, zonder VA'!O252","v":0},{"$f":"('Curves met UFR, zonder VA'!P123+IF('Configuratie en berekeningen'!$D$4=\"Met VA\",'Configuratie en berekeningen'!$F$4/10000,0))*'Curves met UFR, zonder VA'!P252","v":0},{"$f":"('Curves met UFR, zonder VA'!Q123+IF('Configuratie en berekeningen'!$D$4=\"Met VA\",'Configuratie en berekeningen'!$F$4/10000,0))*'Curves met UFR, zonder VA'!Q252","v":0},{"$f":"('Curves met UFR, zonder VA'!R123+IF('Configuratie en berekeningen'!$D$4=\"Met VA\",'Configuratie en berekeningen'!$F$4/10000,0))*'Curves met UFR, zonder VA'!R252","v":0},{"$f":"('Curves met UFR, zonder VA'!S123+IF('Configuratie en berekeningen'!$D$4=\"Met VA\",'Configuratie en berekeningen'!$F$4/10000,0))*'Curves met UFR, zonder VA'!S252","v":0},{"$f":"('Curves met UFR, zonder VA'!T123+IF('Configuratie en berekeningen'!$D$4=\"Met VA\",'Configuratie en berekeningen'!$F$4/10000,0))*'Curves met UFR, zonder VA'!T252","v":0},{"$f":"('Curves met UFR, zonder VA'!U123+IF('Configuratie en berekeningen'!$D$4=\"Met VA\",'Configuratie en berekeningen'!$F$4/10000,0))*'Curves met UFR, zonder VA'!U252","v":0},{"$f":"('Curves met UFR, zonder VA'!V123+IF('Configuratie en berekeningen'!$D$4=\"Met VA\",'Configuratie en berekeningen'!$F$4/10000,0))*'Curves met UFR, zonder VA'!V252","v":0}]
[99,{"$f":"('Curves met UFR, zonder VA'!B124+IF('Configuratie en berekeningen'!$D$4=\"Met VA\",'Configuratie en berekeningen'!$F$4/10000,0))*'Curves met UFR, zonder VA'!B253","v":0},{"$f":"('Curves met UFR, zonder VA'!C124+IF('Configuratie en berekeningen'!$D$4=\"Met VA\",'Configuratie en berekeningen'!$F$4/10000,0))*'Curves met UFR, zonder VA'!C253","v":0},{"$f":"('Curves met UFR, zonder VA'!D124+IF('Configuratie en berekeningen'!$D$4=\"Met VA\",'Configuratie en berekeningen'!$F$4/10000,0))*'Curves met UFR, zonder VA'!D253","v":0},{"$f":"('Curves met UFR, zonder VA'!E124+IF('Configuratie en berekeningen'!$D$4=\"Met VA\",'Configuratie en berekeningen'!$F$4/10000,0))*'Curves met UFR, zonder VA'!E253","v":0},{"$f":"('Curves met UFR, zonder VA'!F124+IF('Configuratie en berekeningen'!$D$4=\"Met VA\",'Configuratie en berekeningen'!$F$4/10000,0))*'Curves met UFR, zonder VA'!F253","v":0},{"$f":"('Curves met UFR, zonder VA'!G124+IF('Configuratie en berekeningen'!$D$4=\"Met VA\",'Configuratie en berekeningen'!$F$4/10000,0))*'Curves met UFR, zonder VA'!G253","v":0},{"$f":"('Curves met UFR, zonder VA'!H124+IF('Configuratie en berekeningen'!$D$4=\"Met VA\",'Configuratie en berekeningen'!$F$4/10000,0))*'Curves met UFR, zonder VA'!H253","v":0},{"$f":"('Curves met UFR, zonder VA'!I124+IF('Configuratie en berekeningen'!$D$4=\"Met VA\",'Configuratie en berekeningen'!$F$4/10000,0))*'Curves met UFR, zonder VA'!I253","v":0},{"$f":"('Curves met UFR, zonder VA'!J124+IF('Configuratie en berekeningen'!$D$4=\"Met VA\",'Configuratie en berekeningen'!$F$4/10000,0))*'Curves met UFR, zonder VA'!J253","v":0},{"$f":"('Curves met UFR, zonder VA'!K124+IF('Configuratie en berekeningen'!$D$4=\"Met VA\",'Configuratie en berekeningen'!$F$4/10000,0))*'Curves met UFR, zonder VA'!K253","v":0},{"$f":"('Curves met UFR, zonder VA'!L124+IF('Configuratie en berekeningen'!$D$4=\"Met VA\",'Configuratie en berekeningen'!$F$4/10000,0))*'Curves met UFR, zonder VA'!L253","v":0},{"$f":"('Curves met UFR, zonder VA'!M124+IF('Configuratie en berekeningen'!$D$4=\"Met VA\",'Configuratie en berekeningen'!$F$4/10000,0))*'Curves met UFR, zonder VA'!M253","v":0},{"$f":"('Curves met UFR, zonder VA'!N124+IF('Configuratie en berekeningen'!$D$4=\"Met VA\",'Configuratie en berekeningen'!$F$4/10000,0))*'Curves met UFR, zonder VA'!N253","v":0},{"$f":"('Curves met UFR, zonder VA'!O124+IF('Configuratie en berekeningen'!$D$4=\"Met VA\",'Configuratie en berekeningen'!$F$4/10000,0))*'Curves met UFR, zonder VA'!O253","v":0},{"$f":"('Curves met UFR, zonder VA'!P124+IF('Configuratie en berekeningen'!$D$4=\"Met VA\",'Configuratie en berekeningen'!$F$4/10000,0))*'Curves met UFR, zonder VA'!P253","v":0},{"$f":"('Curves met UFR, zonder VA'!Q124+IF('Configuratie en berekeningen'!$D$4=\"Met VA\",'Configuratie en berekeningen'!$F$4/10000,0))*'Curves met UFR, zonder VA'!Q253","v":0},{"$f":"('Curves met UFR, zonder VA'!R124+IF('Configuratie en berekeningen'!$D$4=\"Met VA\",'Configuratie en berekeningen'!$F$4/10000,0))*'Curves met UFR, zonder VA'!R253","v":0},{"$f":"('Curves met UFR, zonder VA'!S124+IF('Configuratie en berekeningen'!$D$4=\"Met VA\",'Configuratie en berekeningen'!$F$4/10000,0))*'Curves met UFR, zonder VA'!S253","v":0},{"$f":"('Curves met UFR, zonder VA'!T124+IF('Configuratie en berekeningen'!$D$4=\"Met VA\",'Configuratie en berekeningen'!$F$4/10000,0))*'Curves met UFR, zonder VA'!T253","v":0},{"$f":"('Curves met UFR, zonder VA'!U124+IF('Configuratie en berekeningen'!$D$4=\"Met VA\",'Configuratie en berekeningen'!$F$4/10000,0))*'Curves met UFR, zonder VA'!U253","v":0},{"$f":"('Curves met UFR, zonder VA'!V124+IF('Configuratie en berekeningen'!$D$4=\"Met VA\",'Configuratie en berekeningen'!$F$4/10000,0))*'Curves met UFR, zonder VA'!V253","v":0}]
[100,{"$f":"('Curves met UFR, zonder VA'!B125+IF('Configuratie en berekeningen'!$D$4=\"Met VA\",'Configuratie en berekeningen'!$F$4/10000,0))*'Curves met UFR, zonder VA'!B254","v":0},{"$f":"('Curves met UFR, zonder VA'!C125+IF('Configuratie en berekeningen'!$D$4=\"Met VA\",'Configuratie en berekeningen'!$F$4/10000,0))*'Curves met UFR, zonder VA'!C254","v":0},{"$f":"('Curves met UFR, zonder VA'!D125+IF('Configuratie en berekeningen'!$D$4=\"Met VA\",'Configuratie en berekeningen'!$F$4/10000,0))*'Curves met UFR, zonder VA'!D254","v":0},{"$f":"('Curves met UFR, zonder VA'!E125+IF('Configuratie en berekeningen'!$D$4=\"Met VA\",'Configuratie en berekeningen'!$F$4/10000,0))*'Curves met UFR, zonder VA'!E254","v":0},{"$f":"('Curves met UFR, zonder VA'!F125+IF('Configuratie en berekeningen'!$D$4=\"Met VA\",'Configuratie en berekeningen'!$F$4/10000,0))*'Curves met UFR, zonder VA'!F254","v":0},{"$f":"('Curves met UFR, zonder VA'!G125+IF('Configuratie en berekeningen'!$D$4=\"Met VA\",'Configuratie en berekeningen'!$F$4/10000,0))*'Curves met UFR, zonder VA'!G254","v":0},{"$f":"('Curves met UFR, zonder VA'!H125+IF('Configuratie en berekeningen'!$D$4=\"Met VA\",'Configuratie en berekeningen'!$F$4/10000,0))*'Curves met UFR, zonder VA'!H254","v":0},{"$f":"('Curves met UFR, zonder VA'!I125+IF('Configuratie en berekeningen'!$D$4=\"Met VA\",'Configuratie en berekeningen'!$F$4/10000,0))*'Curves met UFR, zonder VA'!I254","v":0},{"$f":"('Curves met UFR, zonder VA'!J125+IF('Configuratie en berekeningen'!$D$4=\"Met VA\",'Configuratie en berekeningen'!$F$4/10000,0))*'Curves met UFR, zonder VA'!J254","v":0},{"$f":"('Curves met UFR, zonder VA'!K125+IF('Configuratie en berekeningen'!$D$4=\"Met VA\",'Configuratie en berekeningen'!$F$4/10000,0))*'Curves met UFR, zonder VA'!K254","v":0},{"$f":"('Curves met UFR, zonder VA'!L125+IF('Configuratie en berekeningen'!$D$4=\"Met VA\",'Configuratie en berekeningen'!$F$4/10000,0))*'Curves met UFR, zonder VA'!L254","v":0},{"$f":"('Curves met UFR, zonder VA'!M125+IF('Configuratie en berekeningen'!$D$4=\"Met VA\",'Configuratie en berekeningen'!$F$4/10000,0))*'Curves met UFR, zonder VA'!M254","v":0},{"$f":"('Curves met UFR, zonder VA'!N125+IF('Configuratie en berekeningen'!$D$4=\"Met VA\",'Configuratie en berekeningen'!$F$4/10000,0))*'Curves met UFR, zonder VA'!N254","v":0},{"$f":"('Curves met UFR, zonder VA'!O125+IF('Configuratie en berekeningen'!$D$4=\"Met VA\",'Configuratie en berekeningen'!$F$4/10000,0))*'Curves met UFR, zonder VA'!O254","v":0},{"$f":"('Curves met UFR, zonder VA'!P125+IF('Configuratie en berekeningen'!$D$4=\"Met VA\",'Configuratie en berekeningen'!$F$4/10000,0))*'Curves met UFR, zonder VA'!P254","v":0},{"$f":"('Curves met UFR, zonder VA'!Q125+IF('Configuratie en berekeningen'!$D$4=\"Met VA\",'Configuratie en berekeningen'!$F$4/10000,0))*'Curves met UFR, zonder VA'!Q254","v":0},{"$f":"('Curves met UFR, zonder VA'!R125+IF('Configuratie en berekeningen'!$D$4=\"Met VA\",'Configuratie en berekeningen'!$F$4/10000,0))*'Curves met UFR, zonder VA'!R254","v":0},{"$f":"('Curves met UFR, zonder VA'!S125+IF('Configuratie en berekeningen'!$D$4=\"Met VA\",'Configuratie en berekeningen'!$F$4/10000,0))*'Curves met UFR, zonder VA'!S254","v":0},{"$f":"('Curves met UFR, zonder VA'!T125+IF('Configuratie en berekeningen'!$D$4=\"Met VA\",'Configuratie en berekeningen'!$F$4/10000,0))*'Curves met UFR, zonder VA'!T254","v":0},{"$f":"('Curves met UFR, zonder VA'!U125+IF('Configuratie en berekeningen'!$D$4=\"Met VA\",'Configuratie en berekeningen'!$F$4/10000,0))*'Curves met UFR, zonder VA'!U254","v":0},{"$f":"('Curves met UFR, zonder VA'!V125+IF('Configuratie en berekeningen'!$D$4=\"Met VA\",'Configuratie en berekeningen'!$F$4/10000,0))*'Curves met UFR, zonder VA'!V254","v":0}]
[101,{"$f":"('Curves met UFR, zonder VA'!B126+IF('Configuratie en berekeningen'!$D$4=\"Met VA\",'Configuratie en berekeningen'!$F$4/10000,0))*'Curves met UFR, zonder VA'!B255","v":0},{"$f":"('Curves met UFR, zonder VA'!C126+IF('Configuratie en berekeningen'!$D$4=\"Met VA\",'Configuratie en berekeningen'!$F$4/10000,0))*'Curves met UFR, zonder VA'!C255","v":0},{"$f":"('Curves met UFR, zonder VA'!D126+IF('Configuratie en berekeningen'!$D$4=\"Met VA\",'Configuratie en berekeningen'!$F$4/10000,0))*'Curves met UFR, zonder VA'!D255","v":0},{"$f":"('Curves met UFR, zonder VA'!E126+IF('Configuratie en berekeningen'!$D$4=\"Met VA\",'Configuratie en berekeningen'!$F$4/10000,0))*'Curves met UFR, zonder VA'!E255","v":0},{"$f":"('Curves met UFR, zonder VA'!F126+IF('Configuratie en berekeningen'!$D$4=\"Met VA\",'Configuratie en berekeningen'!$F$4/10000,0))*'Curves met UFR, zonder VA'!F255","v":0},{"$f":"('Curves met UFR, zonder VA'!G126+IF('Configuratie en berekeningen'!$D$4=\"Met VA\",'Configuratie en berekeningen'!$F$4/10000,0))*'Curves met UFR, zonder VA'!G255","v":0},{"$f":"('Curves met UFR, zonder VA'!H126+IF('Configuratie en berekeningen'!$D$4=\"Met VA\",'Configuratie en berekeningen'!$F$4/10000,0))*'Curves met UFR, zonder VA'!H255","v":0},{"$f":"('Curves met UFR, zonder VA'!I126+IF('Configuratie en berekeningen'!$D$4=\"Met VA\",'Configuratie en berekeningen'!$F$4/10000,0))*'Curves met UFR, zonder VA'!I255","v":0},{"$f":"('Curves met UFR, zonder VA'!J126+IF('Configuratie en berekeningen'!$D$4=\"Met VA\",'Configuratie en berekeningen'!$F$4/10000,0))*'Curves met UFR, zonder VA'!J255","v":0},{"$f":"('Curves met UFR, zonder VA'!K126+IF('Configuratie en berekeningen'!$D$4=\"Met VA\",'Configuratie en berekeningen'!$F$4/10000,0))*'Curves met UFR, zonder VA'!K255","v":0},{"$f":"('Curves met UFR, zonder VA'!L126+IF('Configuratie en berekeningen'!$D$4=\"Met VA\",'Configuratie en berekeningen'!$F$4/10000,0))*'Curves met UFR, zonder VA'!L255","v":0},{"$f":"('Curves met UFR, zonder VA'!M126+IF('Configuratie en berekeningen'!$D$4=\"Met VA\",'Configuratie en berekeningen'!$F$4/10000,0))*'Curves met UFR, zonder VA'!M255","v":0},{"$f":"('Curves met UFR, zonder VA'!N126+IF('Configuratie en berekeningen'!$D$4=\"Met VA\",'Configuratie en berekeningen'!$F$4/10000,0))*'Curves met UFR, zonder VA'!N255","v":0},{"$f":"('Curves met UFR, zonder VA'!O126+IF('Configuratie en berekeningen'!$D$4=\"Met VA\",'Configuratie en berekeningen'!$F$4/10000,0))*'Curves met UFR, zonder VA'!O255","v":0},{"$f":"('Curves met UFR, zonder VA'!P126+IF('Configuratie en berekeningen'!$D$4=\"Met VA\",'Configuratie en berekeningen'!$F$4/10000,0))*'Curves met UFR, zonder VA'!P255","v":0},{"$f":"('Curves met UFR, zonder VA'!Q126+IF('Configuratie en berekeningen'!$D$4=\"Met VA\",'Configuratie en berekeningen'!$F$4/10000,0))*'Curves met UFR, zonder VA'!Q255","v":0},{"$f":"('Curves met UFR, zonder VA'!R126+IF('Configuratie en berekeningen'!$D$4=\"Met VA\",'Configuratie en berekeningen'!$F$4/10000,0))*'Curves met UFR, zonder VA'!R255","v":0},{"$f":"('Curves met UFR, zonder VA'!S126+IF('Configuratie en berekeningen'!$D$4=\"Met VA\",'Configuratie en berekeningen'!$F$4/10000,0))*'Curves met UFR, zonder VA'!S255","v":0},{"$f":"('Curves met UFR, zonder VA'!T126+IF('Configuratie en berekeningen'!$D$4=\"Met VA\",'Configuratie en berekeningen'!$F$4/10000,0))*'Curves met UFR, zonder VA'!T255","v":0},{"$f":"('Curves met UFR, zonder VA'!U126+IF('Configuratie en berekeningen'!$D$4=\"Met VA\",'Configuratie en berekeningen'!$F$4/10000,0))*'Curves met UFR, zonder VA'!U255","v":0},{"$f":"('Curves met UFR, zonder VA'!V126+IF('Configuratie en berekeningen'!$D$4=\"Met VA\",'Configuratie en berekeningen'!$F$4/10000,0))*'Curves met UFR, zonder VA'!V255","v":0}]
[102,{"$f":"('Curves met UFR, zonder VA'!B127+IF('Configuratie en berekeningen'!$D$4=\"Met VA\",'Configuratie en berekeningen'!$F$4/10000,0))*'Curves met UFR, zonder VA'!B256","v":0},{"$f":"('Curves met UFR, zonder VA'!C127+IF('Configuratie en berekeningen'!$D$4=\"Met VA\",'Configuratie en berekeningen'!$F$4/10000,0))*'Curves met UFR, zonder VA'!C256","v":0},{"$f":"('Curves met UFR, zonder VA'!D127+IF('Configuratie en berekeningen'!$D$4=\"Met VA\",'Configuratie en berekeningen'!$F$4/10000,0))*'Curves met UFR, zonder VA'!D256","v":0},{"$f":"('Curves met UFR, zonder VA'!E127+IF('Configuratie en berekeningen'!$D$4=\"Met VA\",'Configuratie en berekeningen'!$F$4/10000,0))*'Curves met UFR, zonder VA'!E256","v":0},{"$f":"('Curves met UFR, zonder VA'!F127+IF('Configuratie en berekeningen'!$D$4=\"Met VA\",'Configuratie en berekeningen'!$F$4/10000,0))*'Curves met UFR, zonder VA'!F256","v":0},{"$f":"('Curves met UFR, zonder VA'!G127+IF('Configuratie en berekeningen'!$D$4=\"Met VA\",'Configuratie en berekeningen'!$F$4/10000,0))*'Curves met UFR, zonder VA'!G256","v":0},{"$f":"('Curves met UFR, zonder VA'!H127+IF('Configuratie en berekeningen'!$D$4=\"Met VA\",'Configuratie en berekeningen'!$F$4/10000,0))*'Curves met UFR, zonder VA'!H256","v":0},{"$f":"('Curves met UFR, zonder VA'!I127+IF('Configuratie en berekeningen'!$D$4=\"Met VA\",'Configuratie en berekeningen'!$F$4/10000,0))*'Curves met UFR, zonder VA'!I256","v":0},{"$f":"('Curves met UFR, zonder VA'!J127+IF('Configuratie en berekeningen'!$D$4=\"Met VA\",'Configuratie en berekeningen'!$F$4/10000,0))*'Curves met UFR, zonder VA'!J256","v":0},{"$f":"('Curves met UFR, zonder VA'!K127+IF('Configuratie en berekeningen'!$D$4=\"Met VA\",'Configuratie en berekeningen'!$F$4/10000,0))*'Curves met UFR, zonder VA'!K256","v":0},{"$f":"('Curves met UFR, zonder VA'!L127+IF('Configuratie en berekeningen'!$D$4=\"Met VA\",'Configuratie en berekeningen'!$F$4/10000,0))*'Curves met UFR, zonder VA'!L256","v":0},{"$f":"('Curves met UFR, zonder VA'!M127+IF('Configuratie en berekeningen'!$D$4=\"Met VA\",'Configuratie en berekeningen'!$F$4/10000,0))*'Curves met UFR, zonder VA'!M256","v":0},{"$f":"('Curves met UFR, zonder VA'!N127+IF('Configuratie en berekeningen'!$D$4=\"Met VA\",'Configuratie en berekeningen'!$F$4/10000,0))*'Curves met UFR, zonder VA'!N256","v":0},{"$f":"('Curves met UFR, zonder VA'!O127+IF('Configuratie en berekeningen'!$D$4=\"Met VA\",'Configuratie en berekeningen'!$F$4/10000,0))*'Curves met UFR, zonder VA'!O256","v":0},{"$f":"('Curves met UFR, zonder VA'!P127+IF('Configuratie en berekeningen'!$D$4=\"Met VA\",'Configuratie en berekeningen'!$F$4/10000,0))*'Curves met UFR, zonder VA'!P256","v":0},{"$f":"('Curves met UFR, zonder VA'!Q127+IF('Configuratie en berekeningen'!$D$4=\"Met VA\",'Configuratie en berekeningen'!$F$4/10000,0))*'Curves met UFR, zonder VA'!Q256","v":0},{"$f":"('Curves met UFR, zonder VA'!R127+IF('Configuratie en berekeningen'!$D$4=\"Met VA\",'Configuratie en berekeningen'!$F$4/10000,0))*'Curves met UFR, zonder VA'!R256","v":0},{"$f":"('Curves met UFR, zonder VA'!S127+IF('Configuratie en berekeningen'!$D$4=\"Met VA\",'Configuratie en berekeningen'!$F$4/10000,0))*'Curves met UFR, zonder VA'!S256","v":0},{"$f":"('Curves met UFR, zonder VA'!T127+IF('Configuratie en berekeningen'!$D$4=\"Met VA\",'Configuratie en berekeningen'!$F$4/10000,0))*'Curves met UFR, zonder VA'!T256","v":0},{"$f":"('Curves met UFR, zonder VA'!U127+IF('Configuratie en berekeningen'!$D$4=\"Met VA\",'Configuratie en berekeningen'!$F$4/10000,0))*'Curves met UFR, zonder VA'!U256","v":0},{"$f":"('Curves met UFR, zonder VA'!V127+IF('Configuratie en berekeningen'!$D$4=\"Met VA\",'Configuratie en berekeningen'!$F$4/10000,0))*'Curves met UFR, zonder VA'!V256","v":0}]
[103,{"$f":"('Curves met UFR, zonder VA'!B128+IF('Configuratie en berekeningen'!$D$4=\"Met VA\",'Configuratie en berekeningen'!$F$4/10000,0))*'Curves met UFR, zonder VA'!B257","v":0},{"$f":"('Curves met UFR, zonder VA'!C128+IF('Configuratie en berekeningen'!$D$4=\"Met VA\",'Configuratie en berekeningen'!$F$4/10000,0))*'Curves met UFR, zonder VA'!C257","v":0},{"$f":"('Curves met UFR, zonder VA'!D128+IF('Configuratie en berekeningen'!$D$4=\"Met VA\",'Configuratie en berekeningen'!$F$4/10000,0))*'Curves met UFR, zonder VA'!D257","v":0},{"$f":"('Curves met UFR, zonder VA'!E128+IF('Configuratie en berekeningen'!$D$4=\"Met VA\",'Configuratie en berekeningen'!$F$4/10000,0))*'Curves met UFR, zonder VA'!E257","v":0},{"$f":"('Curves met UFR, zonder VA'!F128+IF('Configuratie en berekeningen'!$D$4=\"Met VA\",'Configuratie en berekeningen'!$F$4/10000,0))*'Curves met UFR, zonder VA'!F257","v":0},{"$f":"('Curves met UFR, zonder VA'!G128+IF('Configuratie en berekeningen'!$D$4=\"Met VA\",'Configuratie en berekeningen'!$F$4/10000,0))*'Curves met UFR, zonder VA'!G257","v":0},{"$f":"('Curves met UFR, zonder VA'!H128+IF('Configuratie en berekeningen'!$D$4=\"Met VA\",'Configuratie en berekeningen'!$F$4/10000,0))*'Curves met UFR, zonder VA'!H257","v":0},{"$f":"('Curves met UFR, zonder VA'!I128+IF('Configuratie en berekeningen'!$D$4=\"Met VA\",'Configuratie en berekeningen'!$F$4/10000,0))*'Curves met UFR, zonder VA'!I257","v":0},{"$f":"('Curves met UFR, zonder VA'!J128+IF('Configuratie en berekeningen'!$D$4=\"Met VA\",'Configuratie en berekeningen'!$F$4/10000,0))*'Curves met UFR, zonder VA'!J257","v":0},{"$f":"('Curves met UFR, zonder VA'!K128+IF('Configuratie en berekeningen'!$D$4=\"Met VA\",'Configuratie en berekeningen'!$F$4/10000,0))*'Curves met UFR, zonder VA'!K257","v":0},{"$f":"('Curves met UFR, zonder VA'!L128+IF('Configuratie en berekeningen'!$D$4=\"Met VA\",'Configuratie en berekeningen'!$F$4/10000,0))*'Curves met UFR, zonder VA'!L257","v":0},{"$f":"('Curves met UFR, zonder VA'!M128+IF('Configuratie en berekeningen'!$D$4=\"Met VA\",'Configuratie en berekeningen'!$F$4/10000,0))*'Curves met UFR, zonder VA'!M257","v":0},{"$f":"('Curves met UFR, zonder VA'!N128+IF('Configuratie en berekeningen'!$D$4=\"Met VA\",'Configuratie en berekeningen'!$F$4/10000,0))*'Curves met UFR, zonder VA'!N257","v":0},{"$f":"('Curves met UFR, zonder VA'!O128+IF('Configuratie en berekeningen'!$D$4=\"Met VA\",'Configuratie en berekeningen'!$F$4/10000,0))*'Curves met UFR, zonder VA'!O257","v":0},{"$f":"('Curves met UFR, zonder VA'!P128+IF('Configuratie en berekeningen'!$D$4=\"Met VA\",'Configuratie en berekeningen'!$F$4/10000,0))*'Curves met UFR, zonder VA'!P257","v":0},{"$f":"('Curves met UFR, zonder VA'!Q128+IF('Configuratie en berekeningen'!$D$4=\"Met VA\",'Configuratie en berekeningen'!$F$4/10000,0))*'Curves met UFR, zonder VA'!Q257","v":0},{"$f":"('Curves met UFR, zonder VA'!R128+IF('Configuratie en berekeningen'!$D$4=\"Met VA\",'Configuratie en berekeningen'!$F$4/10000,0))*'Curves met UFR, zonder VA'!R257","v":0},{"$f":"('Curves met UFR, zonder VA'!S128+IF('Configuratie en berekeningen'!$D$4=\"Met VA\",'Configuratie en berekeningen'!$F$4/10000,0))*'Curves met UFR, zonder VA'!S257","v":0},{"$f":"('Curves met UFR, zonder VA'!T128+IF('Configuratie en berekeningen'!$D$4=\"Met VA\",'Configuratie en berekeningen'!$F$4/10000,0))*'Curves met UFR, zonder VA'!T257","v":0},{"$f":"('Curves met UFR, zonder VA'!U128+IF('Configuratie en berekeningen'!$D$4=\"Met VA\",'Configuratie en berekeningen'!$F$4/10000,0))*'Curves met UFR, zonder VA'!U257","v":0},{"$f":"('Curves met UFR, zonder VA'!V128+IF('Configuratie en berekeningen'!$D$4=\"Met VA\",'Configuratie en berekeningen'!$F$4/10000,0))*'Curves met UFR, zonder VA'!V257","v":0}]
[104,{"$f":"('Curves met UFR, zonder VA'!B129+IF('Configuratie en berekeningen'!$D$4=\"Met VA\",'Configuratie en berekeningen'!$F$4/10000,0))*'Curves met UFR, zonder VA'!B258","v":0},{"$f":"('Curves met UFR, zonder VA'!C129+IF('Configuratie en berekeningen'!$D$4=\"Met VA\",'Configuratie en berekeningen'!$F$4/10000,0))*'Curves met UFR, zonder VA'!C258","v":0},{"$f":"('Curves met UFR, zonder VA'!D129+IF('Configuratie en berekeningen'!$D$4=\"Met VA\",'Configuratie en berekeningen'!$F$4/10000,0))*'Curves met UFR, zonder VA'!D258","v":0},{"$f":"('Curves met UFR, zonder VA'!E129+IF('Configuratie en berekeningen'!$D$4=\"Met VA\",'Configuratie en berekeningen'!$F$4/10000,0))*'Curves met UFR, zonder VA'!E258","v":0},{"$f":"('Curves met UFR, zonder VA'!F129+IF('Configuratie en berekeningen'!$D$4=\"Met VA\",'Configuratie en berekeningen'!$F$4/10000,0))*'Curves met UFR, zonder VA'!F258","v":0},{"$f":"('Curves met UFR, zonder VA'!G129+IF('Configuratie en berekeningen'!$D$4=\"Met VA\",'Configuratie en berekeningen'!$F$4/10000,0))*'Curves met UFR, zonder VA'!G258","v":0},{"$f":"('Curves met UFR, zonder VA'!H129+IF('Configuratie en berekeningen'!$D$4=\"Met VA\",'Configuratie en berekeningen'!$F$4/10000,0))*'Curves met UFR, zonder VA'!H258","v":0},{"$f":"('Curves met UFR, zonder VA'!I129+IF('Configuratie en berekeningen'!$D$4=\"Met VA\",'Configuratie en berekeningen'!$F$4/10000,0))*'Curves met UFR, zonder VA'!I258","v":0},{"$f":"('Curves met UFR, zonder VA'!J129+IF('Configuratie en berekeningen'!$D$4=\"Met VA\",'Configuratie en berekeningen'!$F$4/10000,0))*'Curves met UFR, zonder VA'!J258","v":0},{"$f":"('Curves met UFR, zonder VA'!K129+IF('Configuratie en berekeningen'!$D$4=\"Met VA\",'Configuratie en berekeningen'!$F$4/10000,0))*'Curves met UFR, zonder VA'!K258","v":0},{"$f":"('Curves met UFR, zonder VA'!L129+IF('Configuratie en berekeningen'!$D$4=\"Met VA\",'Configuratie en berekeningen'!$F$4/10000,0))*'Curves met UFR, zonder VA'!L258","v":0},{"$f":"('Curves met UFR, zonder VA'!M129+IF('Configuratie en berekeningen'!$D$4=\"Met VA\",'Configuratie en berekeningen'!$F$4/10000,0))*'Curves met UFR, zonder VA'!M258","v":0},{"$f":"('Curves met UFR, zonder VA'!N129+IF('Configuratie en berekeningen'!$D$4=\"Met VA\",'Configuratie en berekeningen'!$F$4/10000,0))*'Curves met UFR, zonder VA'!N258","v":0},{"$f":"('Curves met UFR, zonder VA'!O129+IF('Configuratie en berekeningen'!$D$4=\"Met VA\",'Configuratie en berekeningen'!$F$4/10000,0))*'Curves met UFR, zonder VA'!O258","v":0},{"$f":"('Curves met UFR, zonder VA'!P129+IF('Configuratie en berekeningen'!$D$4=\"Met VA\",'Configuratie en berekeningen'!$F$4/10000,0))*'Curves met UFR, zonder VA'!P258","v":0},{"$f":"('Curves met UFR, zonder VA'!Q129+IF('Configuratie en berekeningen'!$D$4=\"Met VA\",'Configuratie en berekeningen'!$F$4/10000,0))*'Curves met UFR, zonder VA'!Q258","v":0},{"$f":"('Curves met UFR, zonder VA'!R129+IF('Configuratie en berekeningen'!$D$4=\"Met VA\",'Configuratie en berekeningen'!$F$4/10000,0))*'Curves met UFR, zonder VA'!R258","v":0},{"$f":"('Curves met UFR, zonder VA'!S129+IF('Configuratie en berekeningen'!$D$4=\"Met VA\",'Configuratie en berekeningen'!$F$4/10000,0))*'Curves met UFR, zonder VA'!S258","v":0},{"$f":"('Curves met UFR, zonder VA'!T129+IF('Configuratie en berekeningen'!$D$4=\"Met VA\",'Configuratie en berekeningen'!$F$4/10000,0))*'Curves met UFR, zonder VA'!T258","v":0},{"$f":"('Curves met UFR, zonder VA'!U129+IF('Configuratie en berekeningen'!$D$4=\"Met VA\",'Configuratie en berekeningen'!$F$4/10000,0))*'Curves met UFR, zonder VA'!U258","v":0},{"$f":"('Curves met UFR, zonder VA'!V129+IF('Configuratie en berekeningen'!$D$4=\"Met VA\",'Configuratie en berekeningen'!$F$4/10000,0))*'Curves met UFR, zonder VA'!V258","v":0}]
[105,{"$f":"('Curves met UFR, zonder VA'!B130+IF('Configuratie en berekeningen'!$D$4=\"Met VA\",'Configuratie en berekeningen'!$F$4/10000,0))*'Curves met UFR, zonder VA'!B259","v":0},{"$f":"('Curves met UFR, zonder VA'!C130+IF('Configuratie en berekeningen'!$D$4=\"Met VA\",'Configuratie en berekeningen'!$F$4/10000,0))*'Curves met UFR, zonder VA'!C259","v":0},{"$f":"('Curves met UFR, zonder VA'!D130+IF('Configuratie en berekeningen'!$D$4=\"Met VA\",'Configuratie en berekeningen'!$F$4/10000,0))*'Curves met UFR, zonder VA'!D259","v":0},{"$f":"('Curves met UFR, zonder VA'!E130+IF('Configuratie en berekeningen'!$D$4=\"Met VA\",'Configuratie en berekeningen'!$F$4/10000,0))*'Curves met UFR, zonder VA'!E259","v":0},{"$f":"('Curves met UFR, zonder VA'!F130+IF('Configuratie en berekeningen'!$D$4=\"Met VA\",'Configuratie en berekeningen'!$F$4/10000,0))*'Curves met UFR, zonder VA'!F259","v":0},{"$f":"('Curves met UFR, zonder VA'!G130+IF('Configuratie en berekeningen'!$D$4=\"Met VA\",'Configuratie en berekeningen'!$F$4/10000,0))*'Curves met UFR, zonder VA'!G259","v":0},{"$f":"('Curves met UFR, zonder VA'!H130+IF('Configuratie en berekeningen'!$D$4=\"Met VA\",'Configuratie en berekeningen'!$F$4/10000,0))*'Curves met UFR, zonder VA'!H259","v":0},{"$f":"('Curves met UFR, zonder VA'!I130+IF('Configuratie en berekeningen'!$D$4=\"Met VA\",'Configuratie en berekeningen'!$F$4/10000,0))*'Curves met UFR, zonder VA'!I259","v":0},{"$f":"('Curves met UFR, zonder VA'!J130+IF('Configuratie en berekeningen'!$D$4=\"Met VA\",'Configuratie en berekeningen'!$F$4/10000,0))*'Curves met UFR, zonder VA'!J259","v":0},{"$f":"('Curves met UFR, zonder VA'!K130+IF('Configuratie en berekeningen'!$D$4=\"Met VA\",'Configuratie en berekeningen'!$F$4/10000,0))*'Curves met UFR, zonder VA'!K259","v":0},{"$f":"('Curves met UFR, zonder VA'!L130+IF('Configuratie en berekeningen'!$D$4=\"Met VA\",'Configuratie en berekeningen'!$F$4/10000,0))*'Curves met UFR, zonder VA'!L259","v":0},{"$f":"('Curves met UFR, zonder VA'!M130+IF('Configuratie en berekeningen'!$D$4=\"Met VA\",'Configuratie en berekeningen'!$F$4/10000,0))*'Curves met UFR, zonder VA'!M259","v":0},{"$f":"('Curves met UFR, zonder VA'!N130+IF('Configuratie en berekeningen'!$D$4=\"Met VA\",'Configuratie en berekeningen'!$F$4/10000,0))*'Curves met UFR, zonder VA'!N259","v":0},{"$f":"('Curves met UFR, zonder VA'!O130+IF('Configuratie en berekeningen'!$D$4=\"Met VA\",'Configuratie en berekeningen'!$F$4/10000,0))*'Curves met UFR, zonder VA'!O259","v":0},{"$f":"('Curves met UFR, zonder VA'!P130+IF('Configuratie en berekeningen'!$D$4=\"Met VA\",'Configuratie en berekeningen'!$F$4/10000,0))*'Curves met UFR, zonder VA'!P259","v":0},{"$f":"('Curves met UFR, zonder VA'!Q130+IF('Configuratie en berekeningen'!$D$4=\"Met VA\",'Configuratie en berekeningen'!$F$4/10000,0))*'Curves met UFR, zonder VA'!Q259","v":0},{"$f":"('Curves met UFR, zonder VA'!R130+IF('Configuratie en berekeningen'!$D$4=\"Met VA\",'Configuratie en berekeningen'!$F$4/10000,0))*'Curves met UFR, zonder VA'!R259","v":0},{"$f":"('Curves met UFR, zonder VA'!S130+IF('Configuratie en berekeningen'!$D$4=\"Met VA\",'Configuratie en berekeningen'!$F$4/10000,0))*'Curves met UFR, zonder VA'!S259","v":0},{"$f":"('Curves met UFR, zonder VA'!T130+IF('Configuratie en berekeningen'!$D$4=\"Met VA\",'Configuratie en berekeningen'!$F$4/10000,0))*'Curves met UFR, zonder VA'!T259","v":0},{"$f":"('Curves met UFR, zonder VA'!U130+IF('Configuratie en berekeningen'!$D$4=\"Met VA\",'Configuratie en berekeningen'!$F$4/10000,0))*'Curves met UFR, zonder VA'!U259","v":0},{"$f":"('Curves met UFR, zonder VA'!V130+IF('Configuratie en berekeningen'!$D$4=\"Met VA\",'Configuratie en berekeningen'!$F$4/10000,0))*'Curves met UFR, zonder VA'!V259","v":0}]
[106,{"$f":"('Curves met UFR, zonder VA'!B131+IF('Configuratie en berekeningen'!$D$4=\"Met VA\",'Configuratie en berekeningen'!$F$4/10000,0))*'Curves met UFR, zonder VA'!B260","v":0},{"$f":"('Curves met UFR, zonder VA'!C131+IF('Configuratie en berekeningen'!$D$4=\"Met VA\",'Configuratie en berekeningen'!$F$4/10000,0))*'Curves met UFR, zonder VA'!C260","v":0},{"$f":"('Curves met UFR, zonder VA'!D131+IF('Configuratie en berekeningen'!$D$4=\"Met VA\",'Configuratie en berekeningen'!$F$4/10000,0))*'Curves met UFR, zonder VA'!D260","v":0},{"$f":"('Curves met UFR, zonder VA'!E131+IF('Configuratie en berekeningen'!$D$4=\"Met VA\",'Configuratie en berekeningen'!$F$4/10000,0))*'Curves met UFR, zonder VA'!E260","v":0},{"$f":"('Curves met UFR, zonder VA'!F131+IF('Configuratie en berekeningen'!$D$4=\"Met VA\",'Configuratie en berekeningen'!$F$4/10000,0))*'Curves met UFR, zonder VA'!F260","v":0},{"$f":"('Curves met UFR, zonder VA'!G131+IF('Configuratie en berekeningen'!$D$4=\"Met VA\",'Configuratie en berekeningen'!$F$4/10000,0))*'Curves met UFR, zonder VA'!G260","v":0},{"$f":"('Curves met UFR, zonder VA'!H131+IF('Configuratie en berekeningen'!$D$4=\"Met VA\",'Configuratie en berekeningen'!$F$4/10000,0))*'Curves met UFR, zonder VA'!H260","v":0},{"$f":"('Curves met UFR, zonder VA'!I131+IF('Configuratie en berekeningen'!$D$4=\"Met VA\",'Configuratie en berekeningen'!$F$4/10000,0))*'Curves met UFR, zonder VA'!I260","v":0},{"$f":"('Curves met UFR, zonder VA'!J131+IF('Configuratie en berekeningen'!$D$4=\"Met VA\",'Configuratie en berekeningen'!$F$4/10000,0))*'Curves met UFR, zonder VA'!J260","v":0},{"$f":"('Curves met UFR, zonder VA'!K131+IF('Configuratie en berekeningen'!$D$4=\"Met VA\",'Configuratie en berekeningen'!$F$4/10000,0))*'Curves met UFR, zonder VA'!K260","v":0},{"$f":"('Curves met UFR, zonder VA'!L131+IF('Configuratie en berekeningen'!$D$4=\"Met VA\",'Configuratie en berekeningen'!$F$4/10000,0))*'Curves met UFR, zonder VA'!L260","v":0},{"$f":"('Curves met UFR, zonder VA'!M131+IF('Configuratie en berekeningen'!$D$4=\"Met VA\",'Configuratie en berekeningen'!$F$4/10000,0))*'Curves met UFR, zonder VA'!M260","v":0},{"$f":"('Curves met UFR, zonder VA'!N131+IF('Configuratie en berekeningen'!$D$4=\"Met VA\",'Configuratie en berekeningen'!$F$4/10000,0))*'Curves met UFR, zonder VA'!N260","v":0},{"$f":"('Curves met UFR, zonder VA'!O131+IF('Configuratie en berekeningen'!$D$4=\"Met VA\",'Configuratie en berekeningen'!$F$4/10000,0))*'Curves met UFR, zonder VA'!O260","v":0},{"$f":"('Curves met UFR, zonder VA'!P131+IF('Configuratie en berekeningen'!$D$4=\"Met VA\",'Configuratie en berekeningen'!$F$4/10000,0))*'Curves met UFR, zonder VA'!P260","v":0},{"$f":"('Curves met UFR, zonder VA'!Q131+IF('Configuratie en berekeningen'!$D$4=\"Met VA\",'Configuratie en berekeningen'!$F$4/10000,0))*'Curves met UFR, zonder VA'!Q260","v":0},{"$f":"('Curves met UFR, zonder VA'!R131+IF('Configuratie en berekeningen'!$D$4=\"Met VA\",'Configuratie en berekeningen'!$F$4/10000,0))*'Curves met UFR, zonder VA'!R260","v":0},{"$f":"('Curves met UFR, zonder VA'!S131+IF('Configuratie en berekeningen'!$D$4=\"Met VA\",'Configuratie en berekeningen'!$F$4/10000,0))*'Curves met UFR, zonder VA'!S260","v":0},{"$f":"('Curves met UFR, zonder VA'!T131+IF('Configuratie en berekeningen'!$D$4=\"Met VA\",'Configuratie en berekeningen'!$F$4/10000,0))*'Curves met UFR, zonder VA'!T260","v":0},{"$f":"('Curves met UFR, zonder VA'!U131+IF('Configuratie en berekeningen'!$D$4=\"Met VA\",'Configuratie en berekeningen'!$F$4/10000,0))*'Curves met UFR, zonder VA'!U260","v":0},{"$f":"('Curves met UFR, zonder VA'!V131+IF('Configuratie en berekeningen'!$D$4=\"Met VA\",'Configuratie en berekeningen'!$F$4/10000,0))*'Curves met UFR, zonder VA'!V260","v":0}]
[107,{"$f":"('Curves met UFR, zonder VA'!B132+IF('Configuratie en berekeningen'!$D$4=\"Met VA\",'Configuratie en berekeningen'!$F$4/10000,0))*'Curves met UFR, zonder VA'!B261","v":0},{"$f":"('Curves met UFR, zonder VA'!C132+IF('Configuratie en berekeningen'!$D$4=\"Met VA\",'Configuratie en berekeningen'!$F$4/10000,0))*'Curves met UFR, zonder VA'!C261","v":0},{"$f":"('Curves met UFR, zonder VA'!D132+IF('Configuratie en berekeningen'!$D$4=\"Met VA\",'Configuratie en berekeningen'!$F$4/10000,0))*'Curves met UFR, zonder VA'!D261","v":0},{"$f":"('Curves met UFR, zonder VA'!E132+IF('Configuratie en berekeningen'!$D$4=\"Met VA\",'Configuratie en berekeningen'!$F$4/10000,0))*'Curves met UFR, zonder VA'!E261","v":0},{"$f":"('Curves met UFR, zonder VA'!F132+IF('Configuratie en berekeningen'!$D$4=\"Met VA\",'Configuratie en berekeningen'!$F$4/10000,0))*'Curves met UFR, zonder VA'!F261","v":0},{"$f":"('Curves met UFR, zonder VA'!G132+IF('Configuratie en berekeningen'!$D$4=\"Met VA\",'Configuratie en berekeningen'!$F$4/10000,0))*'Curves met UFR, zonder VA'!G261","v":0},{"$f":"('Curves met UFR, zonder VA'!H132+IF('Configuratie en berekeningen'!$D$4=\"Met VA\",'Configuratie en berekeningen'!$F$4/10000,0))*'Curves met UFR, zonder VA'!H261","v":0},{"$f":"('Curves met UFR, zonder VA'!I132+IF('Configuratie en berekeningen'!$D$4=\"Met VA\",'Configuratie en berekeningen'!$F$4/10000,0))*'Curves met UFR, zonder VA'!I261","v":0},{"$f":"('Curves met UFR, zonder VA'!J132+IF('Configuratie en berekeningen'!$D$4=\"Met VA\",'Configuratie en berekeningen'!$F$4/10000,0))*'Curves met UFR, zonder VA'!J261","v":0},{"$f":"('Curves met UFR, zonder VA'!K132+IF('Configuratie en berekeningen'!$D$4=\"Met VA\",'Configuratie en berekeningen'!$F$4/10000,0))*'Curves met UFR, zonder VA'!K261","v":0},{"$f":"('Curves met UFR, zonder VA'!L132+IF('Configuratie en berekeningen'!$D$4=\"Met VA\",'Configuratie en berekeningen'!$F$4/10000,0))*'Curves met UFR, zonder VA'!L261","v":0},{"$f":"('Curves met UFR, zonder VA'!M132+IF('Configuratie en berekeningen'!$D$4=\"Met VA\",'Configuratie en berekeningen'!$F$4/10000,0))*'Curves met UFR, zonder VA'!M261","v":0},{"$f":"('Curves met UFR, zonder VA'!N132+IF('Configuratie en berekeningen'!$D$4=\"Met VA\",'Configuratie en berekeningen'!$F$4/10000,0))*'Curves met UFR, zonder VA'!N261","v":0},{"$f":"('Curves met UFR, zonder VA'!O132+IF('Configuratie en berekeningen'!$D$4=\"Met VA\",'Configuratie en berekeningen'!$F$4/10000,0))*'Curves met UFR, zonder VA'!O261","v":0},{"$f":"('Curves met UFR, zonder VA'!P132+IF('Configuratie en berekeningen'!$D$4=\"Met VA\",'Configuratie en berekeningen'!$F$4/10000,0))*'Curves met UFR, zonder VA'!P261","v":0},{"$f":"('Curves met UFR, zonder VA'!Q132+IF('Configuratie en berekeningen'!$D$4=\"Met VA\",'Configuratie en berekeningen'!$F$4/10000,0))*'Curves met UFR, zonder VA'!Q261","v":0},{"$f":"('Curves met UFR, zonder VA'!R132+IF('Configuratie en berekeningen'!$D$4=\"Met VA\",'Configuratie en berekeningen'!$F$4/10000,0))*'Curves met UFR, zonder VA'!R261","v":0},{"$f":"('Curves met UFR, zonder VA'!S132+IF('Configuratie en berekeningen'!$D$4=\"Met VA\",'Configuratie en berekeningen'!$F$4/10000,0))*'Curves met UFR, zonder VA'!S261","v":0},{"$f":"('Curves met UFR, zonder VA'!T132+IF('Configuratie en berekeningen'!$D$4=\"Met VA\",'Configuratie en berekeningen'!$F$4/10000,0))*'Curves met UFR, zonder VA'!T261","v":0},{"$f":"('Curves met UFR, zonder VA'!U132+IF('Configuratie en berekeningen'!$D$4=\"Met VA\",'Configuratie en berekeningen'!$F$4/10000,0))*'Curves met UFR, zonder VA'!U261","v":0},{"$f":"('Curves met UFR, zonder VA'!V132+IF('Configuratie en berekeningen'!$D$4=\"Met VA\",'Configuratie en berekeningen'!$F$4/10000,0))*'Curves met UFR, zonder VA'!V261","v":0}]
[108,{"$f":"('Curves met UFR, zonder VA'!B133+IF('Configuratie en berekeningen'!$D$4=\"Met VA\",'Configuratie en berekeningen'!$F$4/10000,0))*'Curves met UFR, zonder VA'!B262","v":0},{"$f":"('Curves met UFR, zonder VA'!C133+IF('Configuratie en berekeningen'!$D$4=\"Met VA\",'Configuratie en berekeningen'!$F$4/10000,0))*'Curves met UFR, zonder VA'!C262","v":0},{"$f":"('Curves met UFR, zonder VA'!D133+IF('Configuratie en berekeningen'!$D$4=\"Met VA\",'Configuratie en berekeningen'!$F$4/10000,0))*'Curves met UFR, zonder VA'!D262","v":0},{"$f":"('Curves met UFR, zonder VA'!E133+IF('Configuratie en berekeningen'!$D$4=\"Met VA\",'Configuratie en berekeningen'!$F$4/10000,0))*'Curves met UFR, zonder VA'!E262","v":0},{"$f":"('Curves met UFR, zonder VA'!F133+IF('Configuratie en berekeningen'!$D$4=\"Met VA\",'Configuratie en berekeningen'!$F$4/10000,0))*'Curves met UFR, zonder VA'!F262","v":0},{"$f":"('Curves met UFR, zonder VA'!G133+IF('Configuratie en berekeningen'!$D$4=\"Met VA\",'Configuratie en berekeningen'!$F$4/10000,0))*'Curves met UFR, zonder VA'!G262","v":0},{"$f":"('Curves met UFR, zonder VA'!H133+IF('Configuratie en berekeningen'!$D$4=\"Met VA\",'Configuratie en berekeningen'!$F$4/10000,0))*'Curves met UFR, zonder VA'!H262","v":0},{"$f":"('Curves met UFR, zonder VA'!I133+IF('Configuratie en berekeningen'!$D$4=\"Met VA\",'Configuratie en berekeningen'!$F$4/10000,0))*'Curves met UFR, zonder VA'!I262","v":0},{"$f":"('Curves met UFR, zonder VA'!J133+IF('Configuratie en berekeningen'!$D$4=\"Met VA\",'Configuratie en berekeningen'!$F$4/10000,0))*'Curves met UFR, zonder VA'!J262","v":0},{"$f":"('Curves met UFR, zonder VA'!K133+IF('Configuratie en berekeningen'!$D$4=\"Met VA\",'Configuratie en berekeningen'!$F$4/10000,0))*'Curves met UFR, zonder VA'!K262","v":0},{"$f":"('Curves met UFR, zonder VA'!L133+IF('Configuratie en berekeningen'!$D$4=\"Met VA\",'Configuratie en berekeningen'!$F$4/10000,0))*'Curves met UFR, zonder VA'!L262","v":0},{"$f":"('Curves met UFR, zonder VA'!M133+IF('Configuratie en berekeningen'!$D$4=\"Met VA\",'Configuratie en berekeningen'!$F$4/10000,0))*'Curves met UFR, zonder VA'!M262","v":0},{"$f":"('Curves met UFR, zonder VA'!N133+IF('Configuratie en berekeningen'!$D$4=\"Met VA\",'Configuratie en berekeningen'!$F$4/10000,0))*'Curves met UFR, zonder VA'!N262","v":0},{"$f":"('Curves met UFR, zonder VA'!O133+IF('Configuratie en berekeningen'!$D$4=\"Met VA\",'Configuratie en berekeningen'!$F$4/10000,0))*'Curves met UFR, zonder VA'!O262","v":0},{"$f":"('Curves met UFR, zonder VA'!P133+IF('Configuratie en berekeningen'!$D$4=\"Met VA\",'Configuratie en berekeningen'!$F$4/10000,0))*'Curves met UFR, zonder VA'!P262","v":0},{"$f":"('Curves met UFR, zonder VA'!Q133+IF('Configuratie en berekeningen'!$D$4=\"Met VA\",'Configuratie en berekeningen'!$F$4/10000,0))*'Curves met UFR, zonder VA'!Q262","v":0},{"$f":"('Curves met UFR, zonder VA'!R133+IF('Configuratie en berekeningen'!$D$4=\"Met VA\",'Configuratie en berekeningen'!$F$4/10000,0))*'Curves met UFR, zonder VA'!R262","v":0},{"$f":"('Curves met UFR, zonder VA'!S133+IF('Configuratie en berekeningen'!$D$4=\"Met VA\",'Configuratie en berekeningen'!$F$4/10000,0))*'Curves met UFR, zonder VA'!S262","v":0},{"$f":"('Curves met UFR, zonder VA'!T133+IF('Configuratie en berekeningen'!$D$4=\"Met VA\",'Configuratie en berekeningen'!$F$4/10000,0))*'Curves met UFR, zonder VA'!T262","v":0},{"$f":"('Curves met UFR, zonder VA'!U133+IF('Configuratie en berekeningen'!$D$4=\"Met VA\",'Configuratie en berekeningen'!$F$4/10000,0))*'Curves met UFR, zonder VA'!U262","v":0},{"$f":"('Curves met UFR, zonder VA'!V133+IF('Configuratie en berekeningen'!$D$4=\"Met VA\",'Configuratie en berekeningen'!$F$4/10000,0))*'Curves met UFR, zonder VA'!V262","v":0}]
[109,{"$f":"('Curves met UFR, zonder VA'!B134+IF('Configuratie en berekeningen'!$D$4=\"Met VA\",'Configuratie en berekeningen'!$F$4/10000,0))*'Curves met UFR, zonder VA'!B263","v":0},{"$f":"('Curves met UFR, zonder VA'!C134+IF('Configuratie en berekeningen'!$D$4=\"Met VA\",'Configuratie en berekeningen'!$F$4/10000,0))*'Curves met UFR, zonder VA'!C263","v":0},{"$f":"('Curves met UFR, zonder VA'!D134+IF('Configuratie en berekeningen'!$D$4=\"Met VA\",'Configuratie en berekeningen'!$F$4/10000,0))*'Curves met UFR, zonder VA'!D263","v":0},{"$f":"('Curves met UFR, zonder VA'!E134+IF('Configuratie en berekeningen'!$D$4=\"Met VA\",'Configuratie en berekeningen'!$F$4/10000,0))*'Curves met UFR, zonder VA'!E263","v":0},{"$f":"('Curves met UFR, zonder VA'!F134+IF('Configuratie en berekeningen'!$D$4=\"Met VA\",'Configuratie en berekeningen'!$F$4/10000,0))*'Curves met UFR, zonder VA'!F263","v":0},{"$f":"('Curves met UFR, zonder VA'!G134+IF('Configuratie en berekeningen'!$D$4=\"Met VA\",'Configuratie en berekeningen'!$F$4/10000,0))*'Curves met UFR, zonder VA'!G263","v":0},{"$f":"('Curves met UFR, zonder VA'!H134+IF('Configuratie en berekeningen'!$D$4=\"Met VA\",'Configuratie en berekeningen'!$F$4/10000,0))*'Curves met UFR, zonder VA'!H263","v":0},{"$f":"('Curves met UFR, zonder VA'!I134+IF('Configuratie en berekeningen'!$D$4=\"Met VA\",'Configuratie en berekeningen'!$F$4/10000,0))*'Curves met UFR, zonder VA'!I263","v":0},{"$f":"('Curves met UFR, zonder VA'!J134+IF('Configuratie en berekeningen'!$D$4=\"Met VA\",'Configuratie en berekeningen'!$F$4/10000,0))*'Curves met UFR, zonder VA'!J263","v":0},{"$f":"('Curves met UFR, zonder VA'!K134+IF('Configuratie en berekeningen'!$D$4=\"Met VA\",'Configuratie en berekeningen'!$F$4/10000,0))*'Curves met UFR, zonder VA'!K263","v":0},{"$f":"('Curves met UFR, zonder VA'!L134+IF('Configuratie en berekeningen'!$D$4=\"Met VA\",'Configuratie en berekeningen'!$F$4/10000,0))*'Curves met UFR, zonder VA'!L263","v":0},{"$f":"('Curves met UFR, zonder VA'!M134+IF('Configuratie en berekeningen'!$D$4=\"Met VA\",'Configuratie en berekeningen'!$F$4/10000,0))*'Curves met UFR, zonder VA'!M263","v":0},{"$f":"('Curves met UFR, zonder VA'!N134+IF('Configuratie en berekeningen'!$D$4=\"Met VA\",'Configuratie en berekeningen'!$F$4/10000,0))*'Curves met UFR, zonder VA'!N263","v":0},{"$f":"('Curves met UFR, zonder VA'!O134+IF('Configuratie en berekeningen'!$D$4=\"Met VA\",'Configuratie en berekeningen'!$F$4/10000,0))*'Curves met UFR, zonder VA'!O263","v":0},{"$f":"('Curves met UFR, zonder VA'!P134+IF('Configuratie en berekeningen'!$D$4=\"Met VA\",'Configuratie en berekeningen'!$F$4/10000,0))*'Curves met UFR, zonder VA'!P263","v":0},{"$f":"('Curves met UFR, zonder VA'!Q134+IF('Configuratie en berekeningen'!$D$4=\"Met VA\",'Configuratie en berekeningen'!$F$4/10000,0))*'Curves met UFR, zonder VA'!Q263","v":0},{"$f":"('Curves met UFR, zonder VA'!R134+IF('Configuratie en berekeningen'!$D$4=\"Met VA\",'Configuratie en berekeningen'!$F$4/10000,0))*'Curves met UFR, zonder VA'!R263","v":0},{"$f":"('Curves met UFR, zonder VA'!S134+IF('Configuratie en berekeningen'!$D$4=\"Met VA\",'Configuratie en berekeningen'!$F$4/10000,0))*'Curves met UFR, zonder VA'!S263","v":0},{"$f":"('Curves met UFR, zonder VA'!T134+IF('Configuratie en berekeningen'!$D$4=\"Met VA\",'Configuratie en berekeningen'!$F$4/10000,0))*'Curves met UFR, zonder VA'!T263","v":0},{"$f":"('Curves met UFR, zonder VA'!U134+IF('Configuratie en berekeningen'!$D$4=\"Met VA\",'Configuratie en berekeningen'!$F$4/10000,0))*'Curves met UFR, zonder VA'!U263","v":0},{"$f":"('Curves met UFR, zonder VA'!V134+IF('Configuratie en berekeningen'!$D$4=\"Met VA\",'Configuratie en berekeningen'!$F$4/10000,0))*'Curves met UFR, zonder VA'!V263","v":0}]
[110,{"$f":"('Curves met UFR, zonder VA'!B135+IF('Configuratie en berekeningen'!$D$4=\"Met VA\",'Configuratie en berekeningen'!$F$4/10000,0))*'Curves met UFR, zonder VA'!B264","v":0},{"$f":"('Curves met UFR, zonder VA'!C135+IF('Configuratie en berekeningen'!$D$4=\"Met VA\",'Configuratie en berekeningen'!$F$4/10000,0))*'Curves met UFR, zonder VA'!C264","v":0},{"$f":"('Curves met UFR, zonder VA'!D135+IF('Configuratie en berekeningen'!$D$4=\"Met VA\",'Configuratie en berekeningen'!$F$4/10000,0))*'Curves met UFR, zonder VA'!D264","v":0},{"$f":"('Curves met UFR, zonder VA'!E135+IF('Configuratie en berekeningen'!$D$4=\"Met VA\",'Configuratie en berekeningen'!$F$4/10000,0))*'Curves met UFR, zonder VA'!E264","v":0},{"$f":"('Curves met UFR, zonder VA'!F135+IF('Configuratie en berekeningen'!$D$4=\"Met VA\",'Configuratie en berekeningen'!$F$4/10000,0))*'Curves met UFR, zonder VA'!F264","v":0},{"$f":"('Curves met UFR, zonder VA'!G135+IF('Configuratie en berekeningen'!$D$4=\"Met VA\",'Configuratie en berekeningen'!$F$4/10000,0))*'Curves met UFR, zonder VA'!G264","v":0},{"$f":"('Curves met UFR, zonder VA'!H135+IF('Configuratie en berekeningen'!$D$4=\"Met VA\",'Configuratie en berekeningen'!$F$4/10000,0))*'Curves met UFR, zonder VA'!H264","v":0},{"$f":"('Curves met UFR, zonder VA'!I135+IF('Configuratie en berekeningen'!$D$4=\"Met VA\",'Configuratie en berekeningen'!$F$4/10000,0))*'Curves met UFR, zonder VA'!I264","v":0},{"$f":"('Curves met UFR, zonder VA'!J135+IF('Configuratie en berekeningen'!$D$4=\"Met VA\",'Configuratie en berekeningen'!$F$4/10000,0))*'Curves met UFR, zonder VA'!J264","v":0},{"$f":"('Curves met UFR, zonder VA'!K135+IF('Configuratie en berekeningen'!$D$4=\"Met VA\",'Configuratie en berekeningen'!$F$4/10000,0))*'Curves met UFR, zonder VA'!K264","v":0},{"$f":"('Curves met UFR, zonder VA'!L135+IF('Configuratie en berekeningen'!$D$4=\"Met VA\",'Configuratie en berekeningen'!$F$4/10000,0))*'Curves met UFR, zonder VA'!L264","v":0},{"$f":"('Curves met UFR, zonder VA'!M135+IF('Configuratie en berekeningen'!$D$4=\"Met VA\",'Configuratie en berekeningen'!$F$4/10000,0))*'Curves met UFR, zonder VA'!M264","v":0},{"$f":"('Curves met UFR, zonder VA'!N135+IF('Configuratie en berekeningen'!$D$4=\"Met VA\",'Configuratie en berekeningen'!$F$4/10000,0))*'Curves met UFR, zonder VA'!N264","v":0},{"$f":"('Curves met UFR, zonder VA'!O135+IF('Configuratie en berekeningen'!$D$4=\"Met VA\",'Configuratie en berekeningen'!$F$4/10000,0))*'Curves met UFR, zonder VA'!O264","v":0},{"$f":"('Curves met UFR, zonder VA'!P135+IF('Configuratie en berekeningen'!$D$4=\"Met VA\",'Configuratie en berekeningen'!$F$4/10000,0))*'Curves met UFR, zonder VA'!P264","v":0},{"$f":"('Curves met UFR, zonder VA'!Q135+IF('Configuratie en berekeningen'!$D$4=\"Met VA\",'Configuratie en berekeningen'!$F$4/10000,0))*'Curves met UFR, zonder VA'!Q264","v":0},{"$f":"('Curves met UFR, zonder VA'!R135+IF('Configuratie en berekeningen'!$D$4=\"Met VA\",'Configuratie en berekeningen'!$F$4/10000,0))*'Curves met UFR, zonder VA'!R264","v":0},{"$f":"('Curves met UFR, zonder VA'!S135+IF('Configuratie en berekeningen'!$D$4=\"Met VA\",'Configuratie en berekeningen'!$F$4/10000,0))*'Curves met UFR, zonder VA'!S264","v":0},{"$f":"('Curves met UFR, zonder VA'!T135+IF('Configuratie en berekeningen'!$D$4=\"Met VA\",'Configuratie en berekeningen'!$F$4/10000,0))*'Curves met UFR, zonder VA'!T264","v":0},{"$f":"('Curves met UFR, zonder VA'!U135+IF('Configuratie en berekeningen'!$D$4=\"Met VA\",'Configuratie en berekeningen'!$F$4/10000,0))*'Curves met UFR, zonder VA'!U264","v":0},{"$f":"('Curves met UFR, zonder VA'!V135+IF('Configuratie en berekeningen'!$D$4=\"Met VA\",'Configuratie en berekeningen'!$F$4/10000,0))*'Curves met UFR, zonder VA'!V264","v":0}]
[111,{"$f":"('Curves met UFR, zonder VA'!B136+IF('Configuratie en berekeningen'!$D$4=\"Met VA\",'Configuratie en berekeningen'!$F$4/10000,0))*'Curves met UFR, zonder VA'!B265","v":0},{"$f":"('Curves met UFR, zonder VA'!C136+IF('Configuratie en berekeningen'!$D$4=\"Met VA\",'Configuratie en berekeningen'!$F$4/10000,0))*'Curves met UFR, zonder VA'!C265","v":0},{"$f":"('Curves met UFR, zonder VA'!D136+IF('Configuratie en berekeningen'!$D$4=\"Met VA\",'Configuratie en berekeningen'!$F$4/10000,0))*'Curves met UFR, zonder VA'!D265","v":0},{"$f":"('Curves met UFR, zonder VA'!E136+IF('Configuratie en berekeningen'!$D$4=\"Met VA\",'Configuratie en berekeningen'!$F$4/10000,0))*'Curves met UFR, zonder VA'!E265","v":0},{"$f":"('Curves met UFR, zonder VA'!F136+IF('Configuratie en berekeningen'!$D$4=\"Met VA\",'Configuratie en berekeningen'!$F$4/10000,0))*'Curves met UFR, zonder VA'!F265","v":0},{"$f":"('Curves met UFR, zonder VA'!G136+IF('Configuratie en berekeningen'!$D$4=\"Met VA\",'Configuratie en berekeningen'!$F$4/10000,0))*'Curves met UFR, zonder VA'!G265","v":0},{"$f":"('Curves met UFR, zonder VA'!H136+IF('Configuratie en berekeningen'!$D$4=\"Met VA\",'Configuratie en berekeningen'!$F$4/10000,0))*'Curves met UFR, zonder VA'!H265","v":0},{"$f":"('Curves met UFR, zonder VA'!I136+IF('Configuratie en berekeningen'!$D$4=\"Met VA\",'Configuratie en berekeningen'!$F$4/10000,0))*'Curves met UFR, zonder VA'!I265","v":0},{"$f":"('Curves met UFR, zonder VA'!J136+IF('Configuratie en berekeningen'!$D$4=\"Met VA\",'Configuratie en berekeningen'!$F$4/10000,0))*'Curves met UFR, zonder VA'!J265","v":0},{"$f":"('Curves met UFR, zonder VA'!K136+IF('Configuratie en berekeningen'!$D$4=\"Met VA\",'Configuratie en berekeningen'!$F$4/10000,0))*'Curves met UFR, zonder VA'!K265","v":0},{"$f":"('Curves met UFR, zonder VA'!L136+IF('Configuratie en berekeningen'!$D$4=\"Met VA\",'Configuratie en berekeningen'!$F$4/10000,0))*'Curves met UFR, zonder VA'!L265","v":0},{"$f":"('Curves met UFR, zonder VA'!M136+IF('Configuratie en berekeningen'!$D$4=\"Met VA\",'Configuratie en berekeningen'!$F$4/10000,0))*'Curves met UFR, zonder VA'!M265","v":0},{"$f":"('Curves met UFR, zonder VA'!N136+IF('Configuratie en berekeningen'!$D$4=\"Met VA\",'Configuratie en berekeningen'!$F$4/10000,0))*'Curves met UFR, zonder VA'!N265","v":0},{"$f":"('Curves met UFR, zonder VA'!O136+IF('Configuratie en berekeningen'!$D$4=\"Met VA\",'Configuratie en berekeningen'!$F$4/10000,0))*'Curves met UFR, zonder VA'!O265","v":0},{"$f":"('Curves met UFR, zonder VA'!P136+IF('Configuratie en berekeningen'!$D$4=\"Met VA\",'Configuratie en berekeningen'!$F$4/10000,0))*'Curves met UFR, zonder VA'!P265","v":0},{"$f":"('Curves met UFR, zonder VA'!Q136+IF('Configuratie en berekeningen'!$D$4=\"Met VA\",'Configuratie en berekeningen'!$F$4/10000,0))*'Curves met UFR, zonder VA'!Q265","v":0},{"$f":"('Curves met UFR, zonder VA'!R136+IF('Configuratie en berekeningen'!$D$4=\"Met VA\",'Configuratie en berekeningen'!$F$4/10000,0))*'Curves met UFR, zonder VA'!R265","v":0},{"$f":"('Curves met UFR, zonder VA'!S136+IF('Configuratie en berekeningen'!$D$4=\"Met VA\",'Configuratie en berekeningen'!$F$4/10000,0))*'Curves met UFR, zonder VA'!S265","v":0},{"$f":"('Curves met UFR, zonder VA'!T136+IF('Configuratie en berekeningen'!$D$4=\"Met VA\",'Configuratie en berekeningen'!$F$4/10000,0))*'Curves met UFR, zonder VA'!T265","v":0},{"$f":"('Curves met UFR, zonder VA'!U136+IF('Configuratie en berekeningen'!$D$4=\"Met VA\",'Configuratie en berekeningen'!$F$4/10000,0))*'Curves met UFR, zonder VA'!U265","v":0},{"$f":"('Curves met UFR, zonder VA'!V136+IF('Configuratie en berekeningen'!$D$4=\"Met VA\",'Configuratie en berekeningen'!$F$4/10000,0))*'Curves met UFR, zonder VA'!V265","v":0}]
[112,{"$f":"('Curves met UFR, zonder VA'!B137+IF('Configuratie en berekeningen'!$D$4=\"Met VA\",'Configuratie en berekeningen'!$F$4/10000,0))*'Curves met UFR, zonder VA'!B266","v":0},{"$f":"('Curves met UFR, zonder VA'!C137+IF('Configuratie en berekeningen'!$D$4=\"Met VA\",'Configuratie en berekeningen'!$F$4/10000,0))*'Curves met UFR, zonder VA'!C266","v":0},{"$f":"('Curves met UFR, zonder VA'!D137+IF('Configuratie en berekeningen'!$D$4=\"Met VA\",'Configuratie en berekeningen'!$F$4/10000,0))*'Curves met UFR, zonder VA'!D266","v":0},{"$f":"('Curves met UFR, zonder VA'!E137+IF('Configuratie en berekeningen'!$D$4=\"Met VA\",'Configuratie en berekeningen'!$F$4/10000,0))*'Curves met UFR, zonder VA'!E266","v":0},{"$f":"('Curves met UFR, zonder VA'!F137+IF('Configuratie en berekeningen'!$D$4=\"Met VA\",'Configuratie en berekeningen'!$F$4/10000,0))*'Curves met UFR, zonder VA'!F266","v":0},{"$f":"('Curves met UFR, zonder VA'!G137+IF('Configuratie en berekeningen'!$D$4=\"Met VA\",'Configuratie en berekeningen'!$F$4/10000,0))*'Curves met UFR, zonder VA'!G266","v":0},{"$f":"('Curves met UFR, zonder VA'!H137+IF('Configuratie en berekeningen'!$D$4=\"Met VA\",'Configuratie en berekeningen'!$F$4/10000,0))*'Curves met UFR, zonder VA'!H266","v":0},{"$f":"('Curves met UFR, zonder VA'!I137+IF('Configuratie en berekeningen'!$D$4=\"Met VA\",'Configuratie en berekeningen'!$F$4/10000,0))*'Curves met UFR, zonder VA'!I266","v":0},{"$f":"('Curves met UFR, zonder VA'!J137+IF('Configuratie en berekeningen'!$D$4=\"Met VA\",'Configuratie en berekeningen'!$F$4/10000,0))*'Curves met UFR, zonder VA'!J266","v":0},{"$f":"('Curves met UFR, zonder VA'!K137+IF('Configuratie en berekeningen'!$D$4=\"Met VA\",'Configuratie en berekeningen'!$F$4/10000,0))*'Curves met UFR, zonder VA'!K266","v":0},{"$f":"('Curves met UFR, zonder VA'!L137+IF('Configuratie en berekeningen'!$D$4=\"Met VA\",'Configuratie en berekeningen'!$F$4/10000,0))*'Curves met UFR, zonder VA'!L266","v":0},{"$f":"('Curves met UFR, zonder VA'!M137+IF('Configuratie en berekeningen'!$D$4=\"Met VA\",'Configuratie en berekeningen'!$F$4/10000,0))*'Curves met UFR, zonder VA'!M266","v":0},{"$f":"('Curves met UFR, zonder VA'!N137+IF('Configuratie en berekeningen'!$D$4=\"Met VA\",'Configuratie en berekeningen'!$F$4/10000,0))*'Curves met UFR, zonder VA'!N266","v":0},{"$f":"('Curves met UFR, zonder VA'!O137+IF('Configuratie en berekeningen'!$D$4=\"Met VA\",'Configuratie en berekeningen'!$F$4/10000,0))*'Curves met UFR, zonder VA'!O266","v":0},{"$f":"('Curves met UFR, zonder VA'!P137+IF('Configuratie en berekeningen'!$D$4=\"Met VA\",'Configuratie en berekeningen'!$F$4/10000,0))*'Curves met UFR, zonder VA'!P266","v":0},{"$f":"('Curves met UFR, zonder VA'!Q137+IF('Configuratie en berekeningen'!$D$4=\"Met VA\",'Configuratie en berekeningen'!$F$4/10000,0))*'Curves met UFR, zonder VA'!Q266","v":0},{"$f":"('Curves met UFR, zonder VA'!R137+IF('Configuratie en berekeningen'!$D$4=\"Met VA\",'Configuratie en berekeningen'!$F$4/10000,0))*'Curves met UFR, zonder VA'!R266","v":0},{"$f":"('Curves met UFR, zonder VA'!S137+IF('Configuratie en berekeningen'!$D$4=\"Met VA\",'Configuratie en berekeningen'!$F$4/10000,0))*'Curves met UFR, zonder VA'!S266","v":0},{"$f":"('Curves met UFR, zonder VA'!T137+IF('Configuratie en berekeningen'!$D$4=\"Met VA\",'Configuratie en berekeningen'!$F$4/10000,0))*'Curves met UFR, zonder VA'!T266","v":0},{"$f":"('Curves met UFR, zonder VA'!U137+IF('Configuratie en berekeningen'!$D$4=\"Met VA\",'Configuratie en berekeningen'!$F$4/10000,0))*'Curves met UFR, zonder VA'!U266","v":0},{"$f":"('Curves met UFR, zonder VA'!V137+IF('Configuratie en berekeningen'!$D$4=\"Met VA\",'Configuratie en berekeningen'!$F$4/10000,0))*'Curves met UFR, zonder VA'!V266","v":0}]
[113,{"$f":"('Curves met UFR, zonder VA'!B138+IF('Configuratie en berekeningen'!$D$4=\"Met VA\",'Configuratie en berekeningen'!$F$4/10000,0))*'Curves met UFR, zonder VA'!B267","v":0},{"$f":"('Curves met UFR, zonder VA'!C138+IF('Configuratie en berekeningen'!$D$4=\"Met VA\",'Configuratie en berekeningen'!$F$4/10000,0))*'Curves met UFR, zonder VA'!C267","v":0},{"$f":"('Curves met UFR, zonder VA'!D138+IF('Configuratie en berekeningen'!$D$4=\"Met VA\",'Configuratie en berekeningen'!$F$4/10000,0))*'Curves met UFR, zonder VA'!D267","v":0},{"$f":"('Curves met UFR, zonder VA'!E138+IF('Configuratie en berekeningen'!$D$4=\"Met VA\",'Configuratie en berekeningen'!$F$4/10000,0))*'Curves met UFR, zonder VA'!E267","v":0},{"$f":"('Curves met UFR, zonder VA'!F138+IF('Configuratie en berekeningen'!$D$4=\"Met VA\",'Configuratie en berekeningen'!$F$4/10000,0))*'Curves met UFR, zonder VA'!F267","v":0},{"$f":"('Curves met UFR, zonder VA'!G138+IF('Configuratie en berekeningen'!$D$4=\"Met VA\",'Configuratie en berekeningen'!$F$4/10000,0))*'Curves met UFR, zonder VA'!G267","v":0},{"$f":"('Curves met UFR, zonder VA'!H138+IF('Configuratie en berekeningen'!$D$4=\"Met VA\",'Configuratie en berekeningen'!$F$4/10000,0))*'Curves met UFR, zonder VA'!H267","v":0},{"$f":"('Curves met UFR, zonder VA'!I138+IF('Configuratie en berekeningen'!$D$4=\"Met VA\",'Configuratie en berekeningen'!$F$4/10000,0))*'Curves met UFR, zonder VA'!I267","v":0},{"$f":"('Curves met UFR, zonder VA'!J138+IF('Configuratie en berekeningen'!$D$4=\"Met VA\",'Configuratie en berekeningen'!$F$4/10000,0))*'Curves met UFR, zonder VA'!J267","v":0},{"$f":"('Curves met UFR, zonder VA'!K138+IF('Configuratie en berekeningen'!$D$4=\"Met VA\",'Configuratie en berekeningen'!$F$4/10000,0))*'Curves met UFR, zonder VA'!K267","v":0},{"$f":"('Curves met UFR, zonder VA'!L138+IF('Configuratie en berekeningen'!$D$4=\"Met VA\",'Configuratie en berekeningen'!$F$4/10000,0))*'Curves met UFR, zonder VA'!L267","v":0},{"$f":"('Curves met UFR, zonder VA'!M138+IF('Configuratie en berekeningen'!$D$4=\"Met VA\",'Configuratie en berekeningen'!$F$4/10000,0))*'Curves met UFR, zonder VA'!M267","v":0},{"$f":"('Curves met UFR, zonder VA'!N138+IF('Configuratie en berekeningen'!$D$4=\"Met VA\",'Configuratie en berekeningen'!$F$4/10000,0))*'Curves met UFR, zonder VA'!N267","v":0},{"$f":"('Curves met UFR, zonder VA'!O138+IF('Configuratie en berekeningen'!$D$4=\"Met VA\",'Configuratie en berekeningen'!$F$4/10000,0))*'Curves met UFR, zonder VA'!O267","v":0},{"$f":"('Curves met UFR, zonder VA'!P138+IF('Configuratie en berekeningen'!$D$4=\"Met VA\",'Configuratie en berekeningen'!$F$4/10000,0))*'Curves met UFR, zonder VA'!P267","v":0},{"$f":"('Curves met UFR, zonder VA'!Q138+IF('Configuratie en berekeningen'!$D$4=\"Met VA\",'Configuratie en berekeningen'!$F$4/10000,0))*'Curves met UFR, zonder VA'!Q267","v":0},{"$f":"('Curves met UFR, zonder VA'!R138+IF('Configuratie en berekeningen'!$D$4=\"Met VA\",'Configuratie en berekeningen'!$F$4/10000,0))*'Curves met UFR, zonder VA'!R267","v":0},{"$f":"('Curves met UFR, zonder VA'!S138+IF('Configuratie en berekeningen'!$D$4=\"Met VA\",'Configuratie en berekeningen'!$F$4/10000,0))*'Curves met UFR, zonder VA'!S267","v":0},{"$f":"('Curves met UFR, zonder VA'!T138+IF('Configuratie en berekeningen'!$D$4=\"Met VA\",'Configuratie en berekeningen'!$F$4/10000,0))*'Curves met UFR, zonder VA'!T267","v":0},{"$f":"('Curves met UFR, zonder VA'!U138+IF('Configuratie en berekeningen'!$D$4=\"Met VA\",'Configuratie en berekeningen'!$F$4/10000,0))*'Curves met UFR, zonder VA'!U267","v":0},{"$f":"('Curves met UFR, zonder VA'!V138+IF('Configuratie en berekeningen'!$D$4=\"Met VA\",'Configuratie en berekeningen'!$F$4/10000,0))*'Curves met UFR, zonder VA'!V267","v":0}]
[114,{"$f":"('Curves met UFR, zonder VA'!B139+IF('Configuratie en berekeningen'!$D$4=\"Met VA\",'Configuratie en berekeningen'!$F$4/10000,0))*'Curves met UFR, zonder VA'!B268","v":0},{"$f":"('Curves met UFR, zonder VA'!C139+IF('Configuratie en berekeningen'!$D$4=\"Met VA\",'Configuratie en berekeningen'!$F$4/10000,0))*'Curves met UFR, zonder VA'!C268","v":0},{"$f":"('Curves met UFR, zonder VA'!D139+IF('Configuratie en berekeningen'!$D$4=\"Met VA\",'Configuratie en berekeningen'!$F$4/10000,0))*'Curves met UFR, zonder VA'!D268","v":0},{"$f":"('Curves met UFR, zonder VA'!E139+IF('Configuratie en berekeningen'!$D$4=\"Met VA\",'Configuratie en berekeningen'!$F$4/10000,0))*'Curves met UFR, zonder VA'!E268","v":0},{"$f":"('Curves met UFR, zonder VA'!F139+IF('Configuratie en berekeningen'!$D$4=\"Met VA\",'Configuratie en berekeningen'!$F$4/10000,0))*'Curves met UFR, zonder VA'!F268","v":0},{"$f":"('Curves met UFR, zonder VA'!G139+IF('Configuratie en berekeningen'!$D$4=\"Met VA\",'Configuratie en berekeningen'!$F$4/10000,0))*'Curves met UFR, zonder VA'!G268","v":0},{"$f":"('Curves met UFR, zonder VA'!H139+IF('Configuratie en berekeningen'!$D$4=\"Met VA\",'Configuratie en berekeningen'!$F$4/10000,0))*'Curves met UFR, zonder VA'!H268","v":0},{"$f":"('Curves met UFR, zonder VA'!I139+IF('Configuratie en berekeningen'!$D$4=\"Met VA\",'Configuratie en berekeningen'!$F$4/10000,0))*'Curves met UFR, zonder VA'!I268","v":0},{"$f":"('Curves met UFR, zonder VA'!J139+IF('Configuratie en berekeningen'!$D$4=\"Met VA\",'Configuratie en berekeningen'!$F$4/10000,0))*'Curves met UFR, zonder VA'!J268","v":0},{"$f":"('Curves met UFR, zonder VA'!K139+IF('Configuratie en berekeningen'!$D$4=\"Met VA\",'Configuratie en berekeningen'!$F$4/10000,0))*'Curves met UFR, zonder VA'!K268","v":0},{"$f":"('Curves met UFR, zonder VA'!L139+IF('Configuratie en berekeningen'!$D$4=\"Met VA\",'Configuratie en berekeningen'!$F$4/10000,0))*'Curves met UFR, zonder VA'!L268","v":0},{"$f":"('Curves met UFR, zonder VA'!M139+IF('Configuratie en berekeningen'!$D$4=\"Met VA\",'Configuratie en berekeningen'!$F$4/10000,0))*'Curves met UFR, zonder VA'!M268","v":0},{"$f":"('Curves met UFR, zonder VA'!N139+IF('Configuratie en berekeningen'!$D$4=\"Met VA\",'Configuratie en berekeningen'!$F$4/10000,0))*'Curves met UFR, zonder VA'!N268","v":0},{"$f":"('Curves met UFR, zonder VA'!O139+IF('Configuratie en berekeningen'!$D$4=\"Met VA\",'Configuratie en berekeningen'!$F$4/10000,0))*'Curves met UFR, zonder VA'!O268","v":0},{"$f":"('Curves met UFR, zonder VA'!P139+IF('Configuratie en berekeningen'!$D$4=\"Met VA\",'Configuratie en berekeningen'!$F$4/10000,0))*'Curves met UFR, zonder VA'!P268","v":0},{"$f":"('Curves met UFR, zonder VA'!Q139+IF('Configuratie en berekeningen'!$D$4=\"Met VA\",'Configuratie en berekeningen'!$F$4/10000,0))*'Curves met UFR, zonder VA'!Q268","v":0},{"$f":"('Curves met UFR, zonder VA'!R139+IF('Configuratie en berekeningen'!$D$4=\"Met VA\",'Configuratie en berekeningen'!$F$4/10000,0))*'Curves met UFR, zonder VA'!R268","v":0},{"$f":"('Curves met UFR, zonder VA'!S139+IF('Configuratie en berekeningen'!$D$4=\"Met VA\",'Configuratie en berekeningen'!$F$4/10000,0))*'Curves met UFR, zonder VA'!S268","v":0},{"$f":"('Curves met UFR, zonder VA'!T139+IF('Configuratie en berekeningen'!$D$4=\"Met VA\",'Configuratie en berekeningen'!$F$4/10000,0))*'Curves met UFR, zonder VA'!T268","v":0},{"$f":"('Curves met UFR, zonder VA'!U139+IF('Configuratie en berekeningen'!$D$4=\"Met VA\",'Configuratie en berekeningen'!$F$4/10000,0))*'Curves met UFR, zonder VA'!U268","v":0},{"$f":"('Curves met UFR, zonder VA'!V139+IF('Configuratie en berekeningen'!$D$4=\"Met VA\",'Configuratie en berekeningen'!$F$4/10000,0))*'Curves met UFR, zonder VA'!V268","v":0}]
[115,{"$f":"('Curves met UFR, zonder VA'!B140+IF('Configuratie en berekeningen'!$D$4=\"Met VA\",'Configuratie en berekeningen'!$F$4/10000,0))*'Curves met UFR, zonder VA'!B269","v":0},{"$f":"('Curves met UFR, zonder VA'!C140+IF('Configuratie en berekeningen'!$D$4=\"Met VA\",'Configuratie en berekeningen'!$F$4/10000,0))*'Curves met UFR, zonder VA'!C269","v":0},{"$f":"('Curves met UFR, zonder VA'!D140+IF('Configuratie en berekeningen'!$D$4=\"Met VA\",'Configuratie en berekeningen'!$F$4/10000,0))*'Curves met UFR, zonder VA'!D269","v":0},{"$f":"('Curves met UFR, zonder VA'!E140+IF('Configuratie en berekeningen'!$D$4=\"Met VA\",'Configuratie en berekeningen'!$F$4/10000,0))*'Curves met UFR, zonder VA'!E269","v":0},{"$f":"('Curves met UFR, zonder VA'!F140+IF('Configuratie en berekeningen'!$D$4=\"Met VA\",'Configuratie en berekeningen'!$F$4/10000,0))*'Curves met UFR, zonder VA'!F269","v":0},{"$f":"('Curves met UFR, zonder VA'!G140+IF('Configuratie en berekeningen'!$D$4=\"Met VA\",'Configuratie en berekeningen'!$F$4/10000,0))*'Curves met UFR, zonder VA'!G269","v":0},{"$f":"('Curves met UFR, zonder VA'!H140+IF('Configuratie en berekeningen'!$D$4=\"Met VA\",'Configuratie en berekeningen'!$F$4/10000,0))*'Curves met UFR, zonder VA'!H269","v":0},{"$f":"('Curves met UFR, zonder VA'!I140+IF('Configuratie en berekeningen'!$D$4=\"Met VA\",'Configuratie en berekeningen'!$F$4/10000,0))*'Curves met UFR, zonder VA'!I269","v":0},{"$f":"('Curves met UFR, zonder VA'!J140+IF('Configuratie en berekeningen'!$D$4=\"Met VA\",'Configuratie en berekeningen'!$F$4/10000,0))*'Curves met UFR, zonder VA'!J269","v":0},{"$f":"('Curves met UFR, zonder VA'!K140+IF('Configuratie en berekeningen'!$D$4=\"Met VA\",'Configuratie en berekeningen'!$F$4/10000,0))*'Curves met UFR, zonder VA'!K269","v":0},{"$f":"('Curves met UFR, zonder VA'!L140+IF('Configuratie en berekeningen'!$D$4=\"Met VA\",'Configuratie en berekeningen'!$F$4/10000,0))*'Curves met UFR, zonder VA'!L269","v":0},{"$f":"('Curves met UFR, zonder VA'!M140+IF('Configuratie en berekeningen'!$D$4=\"Met VA\",'Configuratie en berekeningen'!$F$4/10000,0))*'Curves met UFR, zonder VA'!M269","v":0},{"$f":"('Curves met UFR, zonder VA'!N140+IF('Configuratie en berekeningen'!$D$4=\"Met VA\",'Configuratie en berekeningen'!$F$4/10000,0))*'Curves met UFR, zonder VA'!N269","v":0},{"$f":"('Curves met UFR, zonder VA'!O140+IF('Configuratie en berekeningen'!$D$4=\"Met VA\",'Configuratie en berekeningen'!$F$4/10000,0))*'Curves met UFR, zonder VA'!O269","v":0},{"$f":"('Curves met UFR, zonder VA'!P140+IF('Configuratie en berekeningen'!$D$4=\"Met VA\",'Configuratie en berekeningen'!$F$4/10000,0))*'Curves met UFR, zonder VA'!P269","v":0},{"$f":"('Curves met UFR, zonder VA'!Q140+IF('Configuratie en berekeningen'!$D$4=\"Met VA\",'Configuratie en berekeningen'!$F$4/10000,0))*'Curves met UFR, zonder VA'!Q269","v":0},{"$f":"('Curves met UFR, zonder VA'!R140+IF('Configuratie en berekeningen'!$D$4=\"Met VA\",'Configuratie en berekeningen'!$F$4/10000,0))*'Curves met UFR, zonder VA'!R269","v":0},{"$f":"('Curves met UFR, zonder VA'!S140+IF('Configuratie en berekeningen'!$D$4=\"Met VA\",'Configuratie en berekeningen'!$F$4/10000,0))*'Curves met UFR, zonder VA'!S269","v":0},{"$f":"('Curves met UFR, zonder VA'!T140+IF('Configuratie en berekeningen'!$D$4=\"Met VA\",'Configuratie en berekeningen'!$F$4/10000,0))*'Curves met UFR, zonder VA'!T269","v":0},{"$f":"('Curves met UFR, zonder VA'!U140+IF('Configuratie en berekeningen'!$D$4=\"Met VA\",'Configuratie en berekeningen'!$F$4/10000,0))*'Curves met UFR, zonder VA'!U269","v":0},{"$f":"('Curves met UFR, zonder VA'!V140+IF('Configuratie en berekeningen'!$D$4=\"Met VA\",'Configuratie en berekeningen'!$F$4/10000,0))*'Curves met UFR, zonder VA'!V269","v":0}]
[116,{"$f":"('Curves met UFR, zonder VA'!B141+IF('Configuratie en berekeningen'!$D$4=\"Met VA\",'Configuratie en berekeningen'!$F$4/10000,0))*'Curves met UFR, zonder VA'!B270","v":0},{"$f":"('Curves met UFR, zonder VA'!C141+IF('Configuratie en berekeningen'!$D$4=\"Met VA\",'Configuratie en berekeningen'!$F$4/10000,0))*'Curves met UFR, zonder VA'!C270","v":0},{"$f":"('Curves met UFR, zonder VA'!D141+IF('Configuratie en berekeningen'!$D$4=\"Met VA\",'Configuratie en berekeningen'!$F$4/10000,0))*'Curves met UFR, zonder VA'!D270","v":0},{"$f":"('Curves met UFR, zonder VA'!E141+IF('Configuratie en berekeningen'!$D$4=\"Met VA\",'Configuratie en berekeningen'!$F$4/10000,0))*'Curves met UFR, zonder VA'!E270","v":0},{"$f":"('Curves met UFR, zonder VA'!F141+IF('Configuratie en berekeningen'!$D$4=\"Met VA\",'Configuratie en berekeningen'!$F$4/10000,0))*'Curves met UFR, zonder VA'!F270","v":0},{"$f":"('Curves met UFR, zonder VA'!G141+IF('Configuratie en berekeningen'!$D$4=\"Met VA\",'Configuratie en berekeningen'!$F$4/10000,0))*'Curves met UFR, zonder VA'!G270","v":0},{"$f":"('Curves met UFR, zonder VA'!H141+IF('Configuratie en berekeningen'!$D$4=\"Met VA\",'Configuratie en berekeningen'!$F$4/10000,0))*'Curves met UFR, zonder VA'!H270","v":0},{"$f":"('Curves met UFR, zonder VA'!I141+IF('Configuratie en berekeningen'!$D$4=\"Met VA\",'Configuratie en berekeningen'!$F$4/10000,0))*'Curves met UFR, zonder VA'!I270","v":0},{"$f":"('Curves met UFR, zonder VA'!J141+IF('Configuratie en berekeningen'!$D$4=\"Met VA\",'Configuratie en berekeningen'!$F$4/10000,0))*'Curves met UFR, zonder VA'!J270","v":0},{"$f":"('Curves met UFR, zonder VA'!K141+IF('Configuratie en berekeningen'!$D$4=\"Met VA\",'Configuratie en berekeningen'!$F$4/10000,0))*'Curves met UFR, zonder VA'!K270","v":0},{"$f":"('Curves met UFR, zonder VA'!L141+IF('Configuratie en berekeningen'!$D$4=\"Met VA\",'Configuratie en berekeningen'!$F$4/10000,0))*'Curves met UFR, zonder VA'!L270","v":0},{"$f":"('Curves met UFR, zonder VA'!M141+IF('Configuratie en berekeningen'!$D$4=\"Met VA\",'Configuratie en berekeningen'!$F$4/10000,0))*'Curves met UFR, zonder VA'!M270","v":0},{"$f":"('Curves met UFR, zonder VA'!N141+IF('Configuratie en berekeningen'!$D$4=\"Met VA\",'Configuratie en berekeningen'!$F$4/10000,0))*'Curves met UFR, zonder VA'!N270","v":0},{"$f":"('Curves met UFR, zonder VA'!O141+IF('Configuratie en berekeningen'!$D$4=\"Met VA\",'Configuratie en berekeningen'!$F$4/10000,0))*'Curves met UFR, zonder VA'!O270","v":0},{"$f":"('Curves met UFR, zonder VA'!P141+IF('Configuratie en berekeningen'!$D$4=\"Met VA\",'Configuratie en berekeningen'!$F$4/10000,0))*'Curves met UFR, zonder VA'!P270","v":0},{"$f":"('Curves met UFR, zonder VA'!Q141+IF('Configuratie en berekeningen'!$D$4=\"Met VA\",'Configuratie en berekeningen'!$F$4/10000,0))*'Curves met UFR, zonder VA'!Q270","v":0},{"$f":"('Curves met UFR, zonder VA'!R141+IF('Configuratie en berekeningen'!$D$4=\"Met VA\",'Configuratie en berekeningen'!$F$4/10000,0))*'Curves met UFR, zonder VA'!R270","v":0},{"$f":"('Curves met UFR, zonder VA'!S141+IF('Configuratie en berekeningen'!$D$4=\"Met VA\",'Configuratie en berekeningen'!$F$4/10000,0))*'Curves met UFR, zonder VA'!S270","v":0},{"$f":"('Curves met UFR, zonder VA'!T141+IF('Configuratie en berekeningen'!$D$4=\"Met VA\",'Configuratie en berekeningen'!$F$4/10000,0))*'Curves met UFR, zonder VA'!T270","v":0},{"$f":"('Curves met UFR, zonder VA'!U141+IF('Configuratie en berekeningen'!$D$4=\"Met VA\",'Configuratie en berekeningen'!$F$4/10000,0))*'Curves met UFR, zonder VA'!U270","v":0},{"$f":"('Curves met UFR, zonder VA'!V141+IF('Configuratie en berekeningen'!$D$4=\"Met VA\",'Configuratie en berekeningen'!$F$4/10000,0))*'Curves met UFR, zonder VA'!V270","v":0}]
[117,{"$f":"('Curves met UFR, zonder VA'!B142+IF('Configuratie en berekeningen'!$D$4=\"Met VA\",'Configuratie en berekeningen'!$F$4/10000,0))*'Curves met UFR, zonder VA'!B271","v":0},{"$f":"('Curves met UFR, zonder VA'!C142+IF('Configuratie en berekeningen'!$D$4=\"Met VA\",'Configuratie en berekeningen'!$F$4/10000,0))*'Curves met UFR, zonder VA'!C271","v":0},{"$f":"('Curves met UFR, zonder VA'!D142+IF('Configuratie en berekeningen'!$D$4=\"Met VA\",'Configuratie en berekeningen'!$F$4/10000,0))*'Curves met UFR, zonder VA'!D271","v":0},{"$f":"('Curves met UFR, zonder VA'!E142+IF('Configuratie en berekeningen'!$D$4=\"Met VA\",'Configuratie en berekeningen'!$F$4/10000,0))*'Curves met UFR, zonder VA'!E271","v":0},{"$f":"('Curves met UFR, zonder VA'!F142+IF('Configuratie en berekeningen'!$D$4=\"Met VA\",'Configuratie en berekeningen'!$F$4/10000,0))*'Curves met UFR, zonder VA'!F271","v":0},{"$f":"('Curves met UFR, zonder VA'!G142+IF('Configuratie en berekeningen'!$D$4=\"Met VA\",'Configuratie en berekeningen'!$F$4/10000,0))*'Curves met UFR, zonder VA'!G271","v":0},{"$f":"('Curves met UFR, zonder VA'!H142+IF('Configuratie en berekeningen'!$D$4=\"Met VA\",'Configuratie en berekeningen'!$F$4/10000,0))*'Curves met UFR, zonder VA'!H271","v":0},{"$f":"('Curves met UFR, zonder VA'!I142+IF('Configuratie en berekeningen'!$D$4=\"Met VA\",'Configuratie en berekeningen'!$F$4/10000,0))*'Curves met UFR, zonder VA'!I271","v":0},{"$f":"('Curves met UFR, zonder VA'!J142+IF('Configuratie en berekeningen'!$D$4=\"Met VA\",'Configuratie en berekeningen'!$F$4/10000,0))*'Curves met UFR, zonder VA'!J271","v":0},{"$f":"('Curves met UFR, zonder VA'!K142+IF('Configuratie en berekeningen'!$D$4=\"Met VA\",'Configuratie en berekeningen'!$F$4/10000,0))*'Curves met UFR, zonder VA'!K271","v":0},{"$f":"('Curves met UFR, zonder VA'!L142+IF('Configuratie en berekeningen'!$D$4=\"Met VA\",'Configuratie en berekeningen'!$F$4/10000,0))*'Curves met UFR, zonder VA'!L271","v":0},{"$f":"('Curves met UFR, zonder VA'!M142+IF('Configuratie en berekeningen'!$D$4=\"Met VA\",'Configuratie en berekeningen'!$F$4/10000,0))*'Curves met UFR, zonder VA'!M271","v":0},{"$f":"('Curves met UFR, zonder VA'!N142+IF('Configuratie en berekeningen'!$D$4=\"Met VA\",'Configuratie en berekeningen'!$F$4/10000,0))*'Curves met UFR, zonder VA'!N271","v":0},{"$f":"('Curves met UFR, zonder VA'!O142+IF('Configuratie en berekeningen'!$D$4=\"Met VA\",'Configuratie en berekeningen'!$F$4/10000,0))*'Curves met UFR, zonder VA'!O271","v":0},{"$f":"('Curves met UFR, zonder VA'!P142+IF('Configuratie en berekeningen'!$D$4=\"Met VA\",'Configuratie en berekeningen'!$F$4/10000,0))*'Curves met UFR, zonder VA'!P271","v":0},{"$f":"('Curves met UFR, zonder VA'!Q142+IF('Configuratie en berekeningen'!$D$4=\"Met VA\",'Configuratie en berekeningen'!$F$4/10000,0))*'Curves met UFR, zonder VA'!Q271","v":0},{"$f":"('Curves met UFR, zonder VA'!R142+IF('Configuratie en berekeningen'!$D$4=\"Met VA\",'Configuratie en berekeningen'!$F$4/10000,0))*'Curves met UFR, zonder VA'!R271","v":0},{"$f":"('Curves met UFR, zonder VA'!S142+IF('Configuratie en berekeningen'!$D$4=\"Met VA\",'Configuratie en berekeningen'!$F$4/10000,0))*'Curves met UFR, zonder VA'!S271","v":0},{"$f":"('Curves met UFR, zonder VA'!T142+IF('Configuratie en berekeningen'!$D$4=\"Met VA\",'Configuratie en berekeningen'!$F$4/10000,0))*'Curves met UFR, zonder VA'!T271","v":0},{"$f":"('Curves met UFR, zonder VA'!U142+IF('Configuratie en berekeningen'!$D$4=\"Met VA\",'Configuratie en berekeningen'!$F$4/10000,0))*'Curves met UFR, zonder VA'!U271","v":0},{"$f":"('Curves met UFR, zonder VA'!V142+IF('Configuratie en berekeningen'!$D$4=\"Met VA\",'Configuratie en berekeningen'!$F$4/10000,0))*'Curves met UFR, zonder VA'!V271","v":0}]
[118,{"$f":"('Curves met UFR, zonder VA'!B143+IF('Configuratie en berekeningen'!$D$4=\"Met VA\",'Configuratie en berekeningen'!$F$4/10000,0))*'Curves met UFR, zonder VA'!B272","v":0},{"$f":"('Curves met UFR, zonder VA'!C143+IF('Configuratie en berekeningen'!$D$4=\"Met VA\",'Configuratie en berekeningen'!$F$4/10000,0))*'Curves met UFR, zonder VA'!C272","v":0},{"$f":"('Curves met UFR, zonder VA'!D143+IF('Configuratie en berekeningen'!$D$4=\"Met VA\",'Configuratie en berekeningen'!$F$4/10000,0))*'Curves met UFR, zonder VA'!D272","v":0},{"$f":"('Curves met UFR, zonder VA'!E143+IF('Configuratie en berekeningen'!$D$4=\"Met VA\",'Configuratie en berekeningen'!$F$4/10000,0))*'Curves met UFR, zonder VA'!E272","v":0},{"$f":"('Curves met UFR, zonder VA'!F143+IF('Configuratie en berekeningen'!$D$4=\"Met VA\",'Configuratie en berekeningen'!$F$4/10000,0))*'Curves met UFR, zonder VA'!F272","v":0},{"$f":"('Curves met UFR, zonder VA'!G143+IF('Configuratie en berekeningen'!$D$4=\"Met VA\",'Configuratie en berekeningen'!$F$4/10000,0))*'Curves met UFR, zonder VA'!G272","v":0},{"$f":"('Curves met UFR, zonder VA'!H143+IF('Configuratie en berekeningen'!$D$4=\"Met VA\",'Configuratie en berekeningen'!$F$4/10000,0))*'Curves met UFR, zonder VA'!H272","v":0},{"$f":"('Curves met UFR, zonder VA'!I143+IF('Configuratie en berekeningen'!$D$4=\"Met VA\",'Configuratie en berekeningen'!$F$4/10000,0))*'Curves met UFR, zonder VA'!I272","v":0},{"$f":"('Curves met UFR, zonder VA'!J143+IF('Configuratie en berekeningen'!$D$4=\"Met VA\",'Configuratie en berekeningen'!$F$4/10000,0))*'Curves met UFR, zonder VA'!J272","v":0},{"$f":"('Curves met UFR, zonder VA'!K143+IF('Configuratie en berekeningen'!$D$4=\"Met VA\",'Configuratie en berekeningen'!$F$4/10000,0))*'Curves met UFR, zonder VA'!K272","v":0},{"$f":"('Curves met UFR, zonder VA'!L143+IF('Configuratie en berekeningen'!$D$4=\"Met VA\",'Configuratie en berekeningen'!$F$4/10000,0))*'Curves met UFR, zonder VA'!L272","v":0},{"$f":"('Curves met UFR, zonder VA'!M143+IF('Configuratie en berekeningen'!$D$4=\"Met VA\",'Configuratie en berekeningen'!$F$4/10000,0))*'Curves met UFR, zonder VA'!M272","v":0},{"$f":"('Curves met UFR, zonder VA'!N143+IF('Configuratie en berekeningen'!$D$4=\"Met VA\",'Configuratie en berekeningen'!$F$4/10000,0))*'Curves met UFR, zonder VA'!N272","v":0},{"$f":"('Curves met UFR, zonder VA'!O143+IF('Configuratie en berekeningen'!$D$4=\"Met VA\",'Configuratie en berekeningen'!$F$4/10000,0))*'Curves met UFR, zonder VA'!O272","v":0},{"$f":"('Curves met UFR, zonder VA'!P143+IF('Configuratie en berekeningen'!$D$4=\"Met VA\",'Configuratie en berekeningen'!$F$4/10000,0))*'Curves met UFR, zonder VA'!P272","v":0},{"$f":"('Curves met UFR, zonder VA'!Q143+IF('Configuratie en berekeningen'!$D$4=\"Met VA\",'Configuratie en berekeningen'!$F$4/10000,0))*'Curves met UFR, zonder VA'!Q272","v":0},{"$f":"('Curves met UFR, zonder VA'!R143+IF('Configuratie en berekeningen'!$D$4=\"Met VA\",'Configuratie en berekeningen'!$F$4/10000,0))*'Curves met UFR, zonder VA'!R272","v":0},{"$f":"('Curves met UFR, zonder VA'!S143+IF('Configuratie en berekeningen'!$D$4=\"Met VA\",'Configuratie en berekeningen'!$F$4/10000,0))*'Curves met UFR, zonder VA'!S272","v":0},{"$f":"('Curves met UFR, zonder VA'!T143+IF('Configuratie en berekeningen'!$D$4=\"Met VA\",'Configuratie en berekeningen'!$F$4/10000,0))*'Curves met UFR, zonder VA'!T272","v":0},{"$f":"('Curves met UFR, zonder VA'!U143+IF('Configuratie en berekeningen'!$D$4=\"Met VA\",'Configuratie en berekeningen'!$F$4/10000,0))*'Curves met UFR, zonder VA'!U272","v":0},{"$f":"('Curves met UFR, zonder VA'!V143+IF('Configuratie en berekeningen'!$D$4=\"Met VA\",'Configuratie en berekeningen'!$F$4/10000,0))*'Curves met UFR, zonder VA'!V272","v":0}]
[119,{"$f":"('Curves met UFR, zonder VA'!B144+IF('Configuratie en berekeningen'!$D$4=\"Met VA\",'Configuratie en berekeningen'!$F$4/10000,0))*'Curves met UFR, zonder VA'!B273","v":0},{"$f":"('Curves met UFR, zonder VA'!C144+IF('Configuratie en berekeningen'!$D$4=\"Met VA\",'Configuratie en berekeningen'!$F$4/10000,0))*'Curves met UFR, zonder VA'!C273","v":0},{"$f":"('Curves met UFR, zonder VA'!D144+IF('Configuratie en berekeningen'!$D$4=\"Met VA\",'Configuratie en berekeningen'!$F$4/10000,0))*'Curves met UFR, zonder VA'!D273","v":0},{"$f":"('Curves met UFR, zonder VA'!E144+IF('Configuratie en berekeningen'!$D$4=\"Met VA\",'Configuratie en berekeningen'!$F$4/10000,0))*'Curves met UFR, zonder VA'!E273","v":0},{"$f":"('Curves met UFR, zonder VA'!F144+IF('Configuratie en berekeningen'!$D$4=\"Met VA\",'Configuratie en berekeningen'!$F$4/10000,0))*'Curves met UFR, zonder VA'!F273","v":0},{"$f":"('Curves met UFR, zonder VA'!G144+IF('Configuratie en berekeningen'!$D$4=\"Met VA\",'Configuratie en berekeningen'!$F$4/10000,0))*'Curves met UFR, zonder VA'!G273","v":0},{"$f":"('Curves met UFR, zonder VA'!H144+IF('Configuratie en berekeningen'!$D$4=\"Met VA\",'Configuratie en berekeningen'!$F$4/10000,0))*'Curves met UFR, zonder VA'!H273","v":0},{"$f":"('Curves met UFR, zonder VA'!I144+IF('Configuratie en berekeningen'!$D$4=\"Met VA\",'Configuratie en berekeningen'!$F$4/10000,0))*'Curves met UFR, zonder VA'!I273","v":0},{"$f":"('Curves met UFR, zonder VA'!J144+IF('Configuratie en berekeningen'!$D$4=\"Met VA\",'Configuratie en berekeningen'!$F$4/10000,0))*'Curves met UFR, zonder VA'!J273","v":0},{"$f":"('Curves met UFR, zonder VA'!K144+IF('Configuratie en berekeningen'!$D$4=\"Met VA\",'Configuratie en berekeningen'!$F$4/10000,0))*'Curves met UFR, zonder VA'!K273","v":0},{"$f":"('Curves met UFR, zonder VA'!L144+IF('Configuratie en berekeningen'!$D$4=\"Met VA\",'Configuratie en berekeningen'!$F$4/10000,0))*'Curves met UFR, zonder VA'!L273","v":0},{"$f":"('Curves met UFR, zonder VA'!M144+IF('Configuratie en berekeningen'!$D$4=\"Met VA\",'Configuratie en berekeningen'!$F$4/10000,0))*'Curves met UFR, zonder VA'!M273","v":0},{"$f":"('Curves met UFR, zonder VA'!N144+IF('Configuratie en berekeningen'!$D$4=\"Met VA\",'Configuratie en berekeningen'!$F$4/10000,0))*'Curves met UFR, zonder VA'!N273","v":0},{"$f":"('Curves met UFR, zonder VA'!O144+IF('Configuratie en berekeningen'!$D$4=\"Met VA\",'Configuratie en berekeningen'!$F$4/10000,0))*'Curves met UFR, zonder VA'!O273","v":0},{"$f":"('Curves met UFR, zonder VA'!P144+IF('Configuratie en berekeningen'!$D$4=\"Met VA\",'Configuratie en berekeningen'!$F$4/10000,0))*'Curves met UFR, zonder VA'!P273","v":0},{"$f":"('Curves met UFR, zonder VA'!Q144+IF('Configuratie en berekeningen'!$D$4=\"Met VA\",'Configuratie en berekeningen'!$F$4/10000,0))*'Curves met UFR, zonder VA'!Q273","v":0},{"$f":"('Curves met UFR, zonder VA'!R144+IF('Configuratie en berekeningen'!$D$4=\"Met VA\",'Configuratie en berekeningen'!$F$4/10000,0))*'Curves met UFR, zonder VA'!R273","v":0},{"$f":"('Curves met UFR, zonder VA'!S144+IF('Configuratie en berekeningen'!$D$4=\"Met VA\",'Configuratie en berekeningen'!$F$4/10000,0))*'Curves met UFR, zonder VA'!S273","v":0},{"$f":"('Curves met UFR, zonder VA'!T144+IF('Configuratie en berekeningen'!$D$4=\"Met VA\",'Configuratie en berekeningen'!$F$4/10000,0))*'Curves met UFR, zonder VA'!T273","v":0},{"$f":"('Curves met UFR, zonder VA'!U144+IF('Configuratie en berekeningen'!$D$4=\"Met VA\",'Configuratie en berekeningen'!$F$4/10000,0))*'Curves met UFR, zonder VA'!U273","v":0},{"$f":"('Curves met UFR, zonder VA'!V144+IF('Configuratie en berekeningen'!$D$4=\"Met VA\",'Configuratie en berekeningen'!$F$4/10000,0))*'Curves met UFR, zonder VA'!V273","v":0}]
[120,{"$f":"('Curves met UFR, zonder VA'!B145+IF('Configuratie en berekeningen'!$D$4=\"Met VA\",'Configuratie en berekeningen'!$F$4/10000,0))*'Curves met UFR, zonder VA'!B274","v":0},{"$f":"('Curves met UFR, zonder VA'!C145+IF('Configuratie en berekeningen'!$D$4=\"Met VA\",'Configuratie en berekeningen'!$F$4/10000,0))*'Curves met UFR, zonder VA'!C274","v":0},{"$f":"('Curves met UFR, zonder VA'!D145+IF('Configuratie en berekeningen'!$D$4=\"Met VA\",'Configuratie en berekeningen'!$F$4/10000,0))*'Curves met UFR, zonder VA'!D274","v":0},{"$f":"('Curves met UFR, zonder VA'!E145+IF('Configuratie en berekeningen'!$D$4=\"Met VA\",'Configuratie en berekeningen'!$F$4/10000,0))*'Curves met UFR, zonder VA'!E274","v":0},{"$f":"('Curves met UFR, zonder VA'!F145+IF('Configuratie en berekeningen'!$D$4=\"Met VA\",'Configuratie en berekeningen'!$F$4/10000,0))*'Curves met UFR, zonder VA'!F274","v":0},{"$f":"('Curves met UFR, zonder VA'!G145+IF('Configuratie en berekeningen'!$D$4=\"Met VA\",'Configuratie en berekeningen'!$F$4/10000,0))*'Curves met UFR, zonder VA'!G274","v":0},{"$f":"('Curves met UFR, zonder VA'!H145+IF('Configuratie en berekeningen'!$D$4=\"Met VA\",'Configuratie en berekeningen'!$F$4/10000,0))*'Curves met UFR, zonder VA'!H274","v":0},{"$f":"('Curves met UFR, zonder VA'!I145+IF('Configuratie en berekeningen'!$D$4=\"Met VA\",'Configuratie en berekeningen'!$F$4/10000,0))*'Curves met UFR, zonder VA'!I274","v":0},{"$f":"('Curves met UFR, zonder VA'!J145+IF('Configuratie en berekeningen'!$D$4=\"Met VA\",'Configuratie en berekeningen'!$F$4/10000,0))*'Curves met UFR, zonder VA'!J274","v":0},{"$f":"('Curves met UFR, zonder VA'!K145+IF('Configuratie en berekeningen'!$D$4=\"Met VA\",'Configuratie en berekeningen'!$F$4/10000,0))*'Curves met UFR, zonder VA'!K274","v":0},{"$f":"('Curves met UFR, zonder VA'!L145+IF('Configuratie en berekeningen'!$D$4=\"Met VA\",'Configuratie en berekeningen'!$F$4/10000,0))*'Curves met UFR, zonder VA'!L274","v":0},{"$f":"('Curves met UFR, zonder VA'!M145+IF('Configuratie en berekeningen'!$D$4=\"Met VA\",'Configuratie en berekeningen'!$F$4/10000,0))*'Curves met UFR, zonder VA'!M274","v":0},{"$f":"('Curves met UFR, zonder VA'!N145+IF('Configuratie en berekeningen'!$D$4=\"Met VA\",'Configuratie en berekeningen'!$F$4/10000,0))*'Curves met UFR, zonder VA'!N274","v":0},{"$f":"('Curves met UFR, zonder VA'!O145+IF('Configuratie en berekeningen'!$D$4=\"Met VA\",'Configuratie en berekeningen'!$F$4/10000,0))*'Curves met UFR, zonder VA'!O274","v":0},{"$f":"('Curves met UFR, zonder VA'!P145+IF('Configuratie en berekeningen'!$D$4=\"Met VA\",'Configuratie en berekeningen'!$F$4/10000,0))*'Curves met UFR, zonder VA'!P274","v":0},{"$f":"('Curves met UFR, zonder VA'!Q145+IF('Configuratie en berekeningen'!$D$4=\"Met VA\",'Configuratie en berekeningen'!$F$4/10000,0))*'Curves met UFR, zonder VA'!Q274","v":0},{"$f":"('Curves met UFR, zonder VA'!R145+IF('Configuratie en berekeningen'!$D$4=\"Met VA\",'Configuratie en berekeningen'!$F$4/10000,0))*'Curves met UFR, zonder VA'!R274","v":0},{"$f":"('Curves met UFR, zonder VA'!S145+IF('Configuratie en berekeningen'!$D$4=\"Met VA\",'Configuratie en berekeningen'!$F$4/10000,0))*'Curves met UFR, zonder VA'!S274","v":0},{"$f":"('Curves met UFR, zonder VA'!T145+IF('Configuratie en berekeningen'!$D$4=\"Met VA\",'Configuratie en berekeningen'!$F$4/10000,0))*'Curves met UFR, zonder VA'!T274","v":0},{"$f":"('Curves met UFR, zonder VA'!U145+IF('Configuratie en berekeningen'!$D$4=\"Met VA\",'Configuratie en berekeningen'!$F$4/10000,0))*'Curves met UFR, zonder VA'!U274","v":0},{"$f":"('Curves met UFR, zonder VA'!V145+IF('Configuratie en berekeningen'!$D$4=\"Met VA\",'Configuratie en berekeningen'!$F$4/10000,0))*'Curves met UFR, zonder VA'!V274","v":0}]
[]
[]
[null,"Benodigde input voor SmithWilsonBruteForce: de liquide jaren"]
[]
[null,1,2,3,4,5,6,7,8,9,10,11,12,13,14,15,16,17,18,19,20,21]
[1,{"$f":"IF(B$22>=$A277,1,0)","v":1},1,1,1,1,1,1,1,1,1,{"$f":"IF(L$22>=$A277,1,0)","v":1},1,1,1,1,1,1,1,1,1,1]
[2,1,1,1,1,1,1,1,1,1,1,1,1,1,1,1,1,1,1,1,1,1]
[3,1,1,1,1,1,1,1,1,1,1,1,1,1,1,1,1,1,1,1,1,1]
[4,1,1,1,1,1,1,1,1,1,1,1,1,1,1,1,1,1,1,1,1,1]
[5,1,1,1,1,1,1,1,1,1,1,1,1,1,1,1,1,1,1,1,1,1]
[6,1,1,1,1,1,1,1,1,1,1,1,1,1,1,1,1,1,1,1,1,1]
[7,1,1,1,1,1,1,1,1,1,1,1,1,1,1,1,1,1,1,1,1,1]
[8,1,1,1,1,1,1,1,1,1,1,1,1,1,1,1,1,1,1,1,1,1]
[9,1,1,1,1,1,1,1,1,1,1,1,1,1,1,1,1,1,1,1,1,1]
[10,1,1,1,1,1,1,1,1,1,1,1,1,1,1,1,1,1,1,1,1,1]
[11,{"$f":"IF(B$22>=$A287,1,0)","v":1},1,1,1,1,1,1,1,1,1,{"$f":"IF(L$22>=$A287,1,0)","v":1},1,1,1,1,1,1,1,1,1,1]
[12,1,1,1,1,1,1,1,1,1,1,1,1,1,1,1,1,1,1,1,1,1]
[13,1,1,1,1,1,1,1,1,1,1,1,1,1,1,1,1,1,1,1,1,1]
[14,1,1,1,1,1,1,1,1,1,1,1,1,1,1,1,1,1,1,1,1,1]
[15,1,1,1,1,1,1,1,1,1,1,1,1,1,1,1,1,1,1,1,1,1]
[16,1,1,1,1,1,1,1,1,1,1,1,1,1,1,1,1,1,1,1,1,1]
[17,1,1,1,1,1,1,1,1,1,1,1,1,1,1,1,1,1,1,1,1,1]
[18,1,1,1,1,1,1,1,1,1,1,1,1,1,1,1,1,1,1,1,1,1]
[19,1,1,1,1,1,1,1,1,1,1,1,1,1,1,1,1,1,1,1,1,1]
[20,1,1,1,1,1,1,1,1,1,1,1,1,1,1,1,1,1,1,1,1,1]
[21,{"$f":"IF(B$22>=$A297,1,0)","v":0},0,0,0,0,0,0,0,0,0,{"$f":"IF(L$22>=$A297,1,0)","v":0},0,0,0,0,0,0,0,0,0,0]
[22,0,0,0,0,0,0,0,0,0,0,0,0,0,0,0,0,0,0,0,0,0]
[23,0,0,0,0,0,0,0,0,0,0,0,0,0,0,0,0,0,0,0,0,0]
[24,0,0,0,0,0,0,0,0,0,0,0,0,0,0,0,0,0,0,0,0,0]
[25,0,0,0,0,0,0,0,0,0,0,0,0,0,0,0,0,0,0,0,0,0]
[26,0,0,0,0,0,0,0,0,0,0,0,0,0,0,0,0,0,0,0,0,0]
[27,0,0,0,0,0,0,0,0,0,0,0,0,0,0,0,0,0,0,0,0,0]
[28,0,0,0,0,0,0,0,0,0,0,0,0,0,0,0,0,0,0,0,0,0]
[29,0,0,0,0,0,0,0,0,0,0,0,0,0,0,0,0,0,0,0,0,0]
[30,0,0,0,0,0,0,0,0,0,0,0,0,0,0,0,0,0,0,0,0,0]
[31,{"$f":"IF(B$22>=$A307,1,0)","v":0},0,0,0,0,0,0,0,0,0,{"$f":"IF(L$22>=$A307,1,0)","v":0},0,0,0,0,0,0,0,0,0,0]
[32,0,0,0,0,0,0,0,0,0,0,0,0,0,0,0,0,0,0,0,0,0]
[33,0,0,0,0,0,0,0,0,0,0,0,0,0,0,0,0,0,0,0,0,0]
[34,0,0,0,0,0,0,0,0,0,0,0,0,0,0,0,0,0,0,0,0,0]
[35,0,0,0,0,0,0,0,0,0,0,0,0,0,0,0,0,0,0,0,0,0]
[36,0,0,0,0,0,0,0,0,0,0,0,0,0,0,0,0,0,0,0,0,0]
[37,0,0,0,0,0,0,0,0,0,0,0,0,0,0,0,0,0,0,0,0,0]
[38,0,0,0,0,0,0,0,0,0,0,0,0,0,0,0,0,0,0,0,0,0]
[39,0,0,0,0,0,0,0,0,0,0,0,0,0,0,0,0,0,0,0,0,0]
[40,0,0,0,0,0,0,0,0,0,0,0,0,0,0,0,0,0,0,0,0,0]
[41,{"$f":"IF(B$22>=$A317,1,0)","v":0},0,0,0,0,0,0,0,0,0,{"$f":"IF(L$22>=$A317,1,0)","v":0},0,0,0,0,0,0,0,0,0,0]
[42,0,0,0,0,0,0,0,0,0,0,0,0,0,0,0,0,0,0,0,0,0]
[43,0,0,0,0,0,0,0,0,0,0,0,0,0,0,0,0,0,0,0,0,0]
[44,0,0,0,0,0,0,0,0,0,0,0,0,0,0,0,0,0,0,0,0,0]
[45,0,0,0,0,0,0,0,0,0,0,0,0,0,0,0,0,0,0,0,0,0]
[46,0,0,0,0,0,0,0,0,0,0,0,0,0,0,0,0,0,0,0,0,0]
[47,0,0,0,0,0,0,0,0,0,0,0,0,0,0,0,0,0,0,0,0,0]
[48,0,0,0,0,0,0,0,0,0,0,0,0,0,0,0,0,0,0,0,0,0]
[49,0,0,0,0,0,0,0,0,0,0,0,0,0,0,0,0,0,0,0,0,0]
[50,0,0,0,0,0,0,0,0,0,0,0,0,0,0,0,0,0,0,0,0,0]